{"text_format":"1","workbook":"xlsx","n_sheets":2,"sheets":["Edit","Personnel"],"not_rendered":{"charts":0,"images":0,"macros":1,"external_links":0,"defined_names":2,"comments":0,"pivot_tables":0},"unopened":[],"bounds":{"document_bytes":16777216,"sheet_cells":100000,"rows_first":2000,"rows_last":500,"rows_between":2000,"halvings":0,"cell_chars":16384,"cell_head_chars":4096},"cells_cut":0,"cells_raw":0,"read":"whole","date_system":"1900"}

{"sheet":"Edit","index":0,"n_rows":10046,"n_cols":29,"rows_kept":2250,"cut":true,"hidden":false,"merged":[[0,28,5,30]],"bounds":{"rows_first":1000,"rows_last":250,"rows_between":1000,"halvings":1}}
["شماره پرسنلی","نام","نام خانوادگی","کد وام یا بدهی","شماره وام","تاریخ","مبلغ کل","قسط","مانده","بدهی گذشته","کد نوع عمل","نوع عمل","کنترل نوع عمل","کنترل تاریخ 1","کنترل تاریخ 2","کنترل تاریخ","کنترل مبلغ","کنترل شماره پرسنلی خالی ","کنترل شماره پرسنلی","کنترل نوع عمل 2","کنترل نوع عمل 3","ردیف وام","پیغام های خطا","پیغام های خطا","Column4","کنترل تعداد ستون ها","کنترل تعداد صحیح ها","اختلاف","بانک نرم افزاری ام ام آر\nMMR Software Bank"]
[null,{"$f":"IF(A2=0,\" \",IF(ISNA(MATCH(A2,Personnel!A:A,0)),\"وجود ندارد\",LOOKUP(A2,Personnel!A:A,Personnel!B:B)))","v":" "},{"$f":"IF(A2=0,\" \",IF(ISNA(MATCH(A2,Personnel!A:A,0)),\"وجود ندارد\",LOOKUP(A2,Personnel!A:A,Personnel!C:C)))","v":" "},null,null,null,null,null,null,null,null,{"$f":"IF(K2=0,\"\",IF(K2=1,\"ایجاد\",IF(K2=2,\"اصلاح\",\"حذف\")))","v":""},{"$f":"IF(AND(K2=3,H2+I2+J2+F2+G2<>0),\"برای عمل حذف اطلاعات اضافی وارد شده است\",\"\")","v":""},{"$f":"IF(AND(K2<>3,F2<900000),1,0)","v":1},{"$f":"IF(F2>991231,1,0)","v":0},{"$f":"IF(A2=0,\" \",IF(N2+O2<>0,\"تاریخ اشتباه است\",\"\"))","v":" "},{"$f":"IF(A2=0,\" \",IF(AND(G2<>0,H2>G2),\"مبلغ قسط از مبلغ کل بیشتر است\",\"\"))","v":" "},{"$f":"IF(AND(A2=0,H2+I2+J2+F2+G2+K2+E2+D2<>0),\"در این ردیف شماره پرسنلی وجود ندارد اما اطلاعات دیگر وارد شده است\",\"\")","v":""},{"$f":"IF(A2=0,\" \",IF(D2=0,\"کد وام وارد نشده است\",\"\"))","v":" "},{"$f":"IF(A2=0,\" \",IF(OR(K2<1,K2>3),\"نوع عمل اشتباه است\",\"\"))","v":" "},{"$f":"IF(AND(OR(K2=1,K2=2),H2=0),\"مبلغ قسط نمی تواند خالی باشد\",\"\")","v":""},null,{"$f":"IF(AND(A2=0,A3<>0),\"دراین ردیف اصلاحاتی وجود ندارد . لطفا ردیفی را خالی باقی نگذارید\",IF(AND(A2=0,R2=\"\"),\" \",IF(M2&\",\"&P2&\",\"&Q2&\",\"&R2&\",\"&S2&\",\"&T2&\",\"&U2=\",,,,,,\",\"صحیح\",M2&\",\"&P2&\",\"&Q2&\",\"&R2&\",\"&S2&\",\"&T2&\",\"&U2)))","v":" "},{"$f":"IF(AND(ROW(X2)>$Z$2,W2=\" \"),\" \",IF(W2=\" \",IF(AND(A2=0,$Z$2<>$Z$4),\"دراین ردیف اصلاحاتی وجود ندارد . لطفا ردیفی را خالی نگذارید\",W2),W2))","v":" "},{"$f":"CONCATENATE(A2,\",\",D2,\",\",E2,\",\",F2,\",\",G2,\",\",H2,\",\",I2,\",\",K2,\",\",,\",\",J2,\",\",\",\",V2,\",\")","v":",,,,,,,,,,,,"},1,{"$f":"COUNTIF(X:X,\"صحیح\")+1-Z6","v":1},{"$f":"Z2-AA2","v":0}]
[null,{"$f":"IF(A3=0,\" \",IF(ISNA(MATCH(A3,Personnel!A:A,0)),\"وجود ندارد\",LOOKUP(A3,Personnel!A:A,Personnel!B:B)))","v":" "},{"$f":"IF(A3=0,\" \",IF(ISNA(MATCH(A3,Personnel!A:A,0)),\"وجود ندارد\",LOOKUP(A3,Personnel!A:A,Personnel!C:C)))","v":" "},null,null,null,null,null,null,null,null,{"$f":"IF(K3=0,\"\",IF(K3=1,\"ایجاد\",IF(K3=2,\"اصلاح\",\"حذف\")))","v":""},{"$f":"IF(AND(K3=3,H3+I3+J3+F3+G3<>0),\"برای عمل حذف اطلاعات اضافی وارد شده است\",\"\")","v":""},{"$f":"IF(AND(K3<>3,F3<900000),1,0)","v":1},{"$f":"IF(F3>991231,1,0)","v":0}," "," ",{"$f":"IF(AND(A3=0,H3+I3+J3+F3+G3+K3+E3+D3<>0),\"در این ردیف شماره پرسنلی وجود ندارد اما اطلاعات دیگر وارد شده است\",\"\")","v":""},{"$f":"IF(A3=0,\" \",IF(D3=0,\"کد وام وارد نشده است\",\"\"))","v":" "}," ",{"$f":"IF(AND(OR(K3=1,K3=2),H3=0),\"مبلغ قسط نمی تواند خالی باشد\",\"\")","v":""},null,{"$f":"IF(AND(A3=0,A4<>0),\"دراین ردیف اصلاحاتی وجود ندارد . لطفا ردیفی را خالی باقی نگذارید\",IF(AND(A3=0,R3=\"\"),\" \",IF(M3&\",\"&P3&\",\"&Q3&\",\"&R3&\",\"&S3&\",\"&T3&\",\"&U3=\",,,,,,\",\"صحیح\",M3&\",\"&P3&\",\"&Q3&\",\"&R3&\",\"&S3&\",\"&T3&\",\"&U3)))","v":" "},{"$f":"IF(AND(ROW(X3)>$Z$2,W3=\" \"),\" \",IF(W3=\" \",IF(AND(A3=0,$Z$2<>$Z$4),\"دراین ردیف اصلاحاتی وجود ندارد . لطفا ردیفی را خالی نگذارید\",W3),W3))","v":" "},{"$f":"CONCATENATE(A3,\",\",D3,\",\",E3,\",\",F3,\",\",G3,\",\",H3,\",\",I3,\",\",K3,\",\",,\",\",J3,\",\",\",\",V3,\",\")","v":",,,,,,,,,,,,"},"تعداد شماره پرسنلی","شماره آخرین ردیف"]
[null,{"$f":"IF(A4=0,\" \",IF(ISNA(MATCH(A4,Personnel!A:A,0)),\"وجود ندارد\",LOOKUP(A4,Personnel!A:A,Personnel!B:B)))","v":" "},{"$f":"IF(A4=0,\" \",IF(ISNA(MATCH(A4,Personnel!A:A,0)),\"وجود ندارد\",LOOKUP(A4,Personnel!A:A,Personnel!C:C)))","v":" "},null,null,null,null,null,null,null,null,"","",1,0," "," ",""," "," ","",null," "," ",",,,,,,,,,,,,",{"$f":"COUNT(A:A)","v":0}]
[null,{"$f":"IF(A5=0,\" \",IF(ISNA(MATCH(A5,Personnel!A:A,0)),\"وجود ندارد\",LOOKUP(A5,Personnel!A:A,Personnel!B:B)))","v":" "},{"$f":"IF(A5=0,\" \",IF(ISNA(MATCH(A5,Personnel!A:A,0)),\"وجود ندارد\",LOOKUP(A5,Personnel!A:A,Personnel!C:C)))","v":" "},null,null,null,null,null,null,null,null,"","",1,0," "," ",""," "," ","",null," "," ",",,,,,,,,,,,,","کنترل تعداد صحیح 2"]
[null,{"$f":"IF(A6=0,\" \",IF(ISNA(MATCH(A6,Personnel!A:A,0)),\"وجود ندارد\",LOOKUP(A6,Personnel!A:A,Personnel!B:B)))","v":" "},{"$f":"IF(A6=0,\" \",IF(ISNA(MATCH(A6,Personnel!A:A,0)),\"وجود ندارد\",LOOKUP(A6,Personnel!A:A,Personnel!C:C)))","v":" "},null,null,null,null,null,null,null,null,"","",1,0," "," ",""," "," ","",null," "," ",",,,,,,,,,,,,",{"$f":"COUNTIF(X:X,\", , ,در این ردیف شماره پرسنلی وجود ندارد اما اطلاعات دیگر وارد شده است, , ,\")","v":0}]
[null,{"$f":"IF(A7=0,\" \",IF(ISNA(MATCH(A7,Personnel!A:A,0)),\"وجود ندارد\",LOOKUP(A7,Personnel!A:A,Personnel!B:B)))","v":" "},{"$f":"IF(A7=0,\" \",IF(ISNA(MATCH(A7,Personnel!A:A,0)),\"وجود ندارد\",LOOKUP(A7,Personnel!A:A,Personnel!C:C)))","v":" "},null,null,null,null,null,null,null,null,"","",1,0," "," ",""," "," ","",null," "," ",",,,,,,,,,,,,"]
[null,{"$f":"IF(A8=0,\" \",IF(ISNA(MATCH(A8,Personnel!A:A,0)),\"وجود ندارد\",LOOKUP(A8,Personnel!A:A,Personnel!B:B)))","v":" "},{"$f":"IF(A8=0,\" \",IF(ISNA(MATCH(A8,Personnel!A:A,0)),\"وجود ندارد\",LOOKUP(A8,Personnel!A:A,Personnel!C:C)))","v":" "},null,null,null,null,null,null,null,null,"","",1,0," "," ",""," "," ","",null," "," ",",,,,,,,,,,,,"]
[null,{"$f":"IF(A9=0,\" \",IF(ISNA(MATCH(A9,Personnel!A:A,0)),\"وجود ندارد\",LOOKUP(A9,Personnel!A:A,Personnel!B:B)))","v":" "},{"$f":"IF(A9=0,\" \",IF(ISNA(MATCH(A9,Personnel!A:A,0)),\"وجود ندارد\",LOOKUP(A9,Personnel!A:A,Personnel!C:C)))","v":" "},null,null,null,null,null,null,null,null,"","",1,0," "," ",""," "," ","",null," "," ",",,,,,,,,,,,,"]
[null,{"$f":"IF(A10=0,\" \",IF(ISNA(MATCH(A10,Personnel!A:A,0)),\"وجود ندارد\",LOOKUP(A10,Personnel!A:A,Personnel!B:B)))","v":" "},{"$f":"IF(A10=0,\" \",IF(ISNA(MATCH(A10,Personnel!A:A,0)),\"وجود ندارد\",LOOKUP(A10,Personnel!A:A,Personnel!C:C)))","v":" "},null,null,null,null,null,null,null,null,"","",1,0," "," ",""," "," ","",null," "," ",",,,,,,,,,,,,"]
[null,{"$f":"IF(A11=0,\" \",IF(ISNA(MATCH(A11,Personnel!A:A,0)),\"وجود ندارد\",LOOKUP(A11,Personnel!A:A,Personnel!B:B)))","v":" "},{"$f":"IF(A11=0,\" \",IF(ISNA(MATCH(A11,Personnel!A:A,0)),\"وجود ندارد\",LOOKUP(A11,Personnel!A:A,Personnel!C:C)))","v":" "},null,null,null,null,null,null,null,null,"","",1,0," "," ",""," "," ","",null," "," ",",,,,,,,,,,,,"]
[null,{"$f":"IF(A12=0,\" \",IF(ISNA(MATCH(A12,Personnel!A:A,0)),\"وجود ندارد\",LOOKUP(A12,Personnel!A:A,Personnel!B:B)))","v":" "},{"$f":"IF(A12=0,\" \",IF(ISNA(MATCH(A12,Personnel!A:A,0)),\"وجود ندارد\",LOOKUP(A12,Personnel!A:A,Personnel!C:C)))","v":" "},null,null,null,null,null,null,null,null,"","",1,0," "," ",""," "," ","",null," "," ",",,,,,,,,,,,,"]
[null,{"$f":"IF(A13=0,\" \",IF(ISNA(MATCH(A13,Personnel!A:A,0)),\"وجود ندارد\",LOOKUP(A13,Personnel!A:A,Personnel!B:B)))","v":" "},{"$f":"IF(A13=0,\" \",IF(ISNA(MATCH(A13,Personnel!A:A,0)),\"وجود ندارد\",LOOKUP(A13,Personnel!A:A,Personnel!C:C)))","v":" "},null,null,null,null,null,null,null,null,"","",1,0," "," ",""," "," ","",null," "," ",",,,,,,,,,,,,"]
[null,{"$f":"IF(A14=0,\" \",IF(ISNA(MATCH(A14,Personnel!A:A,0)),\"وجود ندارد\",LOOKUP(A14,Personnel!A:A,Personnel!B:B)))","v":" "},{"$f":"IF(A14=0,\" \",IF(ISNA(MATCH(A14,Personnel!A:A,0)),\"وجود ندارد\",LOOKUP(A14,Personnel!A:A,Personnel!C:C)))","v":" "},null,null,null,null,null,null,null,null,"","",1,0," "," ",""," "," ","",null," "," ",",,,,,,,,,,,,"]
[null,{"$f":"IF(A15=0,\" \",IF(ISNA(MATCH(A15,Personnel!A:A,0)),\"وجود ندارد\",LOOKUP(A15,Personnel!A:A,Personnel!B:B)))","v":" "},{"$f":"IF(A15=0,\" \",IF(ISNA(MATCH(A15,Personnel!A:A,0)),\"وجود ندارد\",LOOKUP(A15,Personnel!A:A,Personnel!C:C)))","v":" "},null,null,null,null,null,null,null,null,"","",1,0," "," ",""," "," ","",null," "," ",",,,,,,,,,,,,"]
[null,{"$f":"IF(A16=0,\" \",IF(ISNA(MATCH(A16,Personnel!A:A,0)),\"وجود ندارد\",LOOKUP(A16,Personnel!A:A,Personnel!B:B)))","v":" "},{"$f":"IF(A16=0,\" \",IF(ISNA(MATCH(A16,Personnel!A:A,0)),\"وجود ندارد\",LOOKUP(A16,Personnel!A:A,Personnel!C:C)))","v":" "},null,null,null,null,null,null,null,null,"","",1,0," "," ",""," "," ","",null," "," ",",,,,,,,,,,,,"]
[null,{"$f":"IF(A17=0,\" \",IF(ISNA(MATCH(A17,Personnel!A:A,0)),\"وجود ندارد\",LOOKUP(A17,Personnel!A:A,Personnel!B:B)))","v":" "},{"$f":"IF(A17=0,\" \",IF(ISNA(MATCH(A17,Personnel!A:A,0)),\"وجود ندارد\",LOOKUP(A17,Personnel!A:A,Personnel!C:C)))","v":" "},null,null,null,null,null,null,null,null,"","",1,0," "," ",""," "," ","",null," "," ",",,,,,,,,,,,,"]
[null,{"$f":"IF(A18=0,\" \",IF(ISNA(MATCH(A18,Personnel!A:A,0)),\"وجود ندارد\",LOOKUP(A18,Personnel!A:A,Personnel!B:B)))","v":" "},{"$f":"IF(A18=0,\" \",IF(ISNA(MATCH(A18,Personnel!A:A,0)),\"وجود ندارد\",LOOKUP(A18,Personnel!A:A,Personnel!C:C)))","v":" "},null,null,null,null,null,null,null,null,"","",1,0," "," ",""," "," ","",null," "," ",",,,,,,,,,,,,"]
[null,{"$f":"IF(A19=0,\" \",IF(ISNA(MATCH(A19,Personnel!A:A,0)),\"وجود ندارد\",LOOKUP(A19,Personnel!A:A,Personnel!B:B)))","v":" "},{"$f":"IF(A19=0,\" \",IF(ISNA(MATCH(A19,Personnel!A:A,0)),\"وجود ندارد\",LOOKUP(A19,Personnel!A:A,Personnel!C:C)))","v":" "},null,null,null,null,null,null,null,null,"","",1,0," "," ",""," "," ","",null," "," ",",,,,,,,,,,,,"]
[null,{"$f":"IF(A20=0,\" \",IF(ISNA(MATCH(A20,Personnel!A:A,0)),\"وجود ندارد\",LOOKUP(A20,Personnel!A:A,Personnel!B:B)))","v":" "},{"$f":"IF(A20=0,\" \",IF(ISNA(MATCH(A20,Personnel!A:A,0)),\"وجود ندارد\",LOOKUP(A20,Personnel!A:A,Personnel!C:C)))","v":" "},null,null,null,null,null,null,null,null,"","",1,0," "," ",""," "," ","",null," "," ",",,,,,,,,,,,,"]
[null,{"$f":"IF(A21=0,\" \",IF(ISNA(MATCH(A21,Personnel!A:A,0)),\"وجود ندارد\",LOOKUP(A21,Personnel!A:A,Personnel!B:B)))","v":" "},{"$f":"IF(A21=0,\" \",IF(ISNA(MATCH(A21,Personnel!A:A,0)),\"وجود ندارد\",LOOKUP(A21,Personnel!A:A,Personnel!C:C)))","v":" "},null,null,null,null,null,null,null,null,"","",1,0," "," ",""," "," ","",null," "," ",",,,,,,,,,,,,"]
[null,{"$f":"IF(A22=0,\" \",IF(ISNA(MATCH(A22,Personnel!A:A,0)),\"وجود ندارد\",LOOKUP(A22,Personnel!A:A,Personnel!B:B)))","v":" "},{"$f":"IF(A22=0,\" \",IF(ISNA(MATCH(A22,Personnel!A:A,0)),\"وجود ندارد\",LOOKUP(A22,Personnel!A:A,Personnel!C:C)))","v":" "},null,null,null,null,null,null,null,null,"","",1,0," "," ",""," "," ","",null," "," ",",,,,,,,,,,,,"]
[null,{"$f":"IF(A23=0,\" \",IF(ISNA(MATCH(A23,Personnel!A:A,0)),\"وجود ندارد\",LOOKUP(A23,Personnel!A:A,Personnel!B:B)))","v":" "},{"$f":"IF(A23=0,\" \",IF(ISNA(MATCH(A23,Personnel!A:A,0)),\"وجود ندارد\",LOOKUP(A23,Personnel!A:A,Personnel!C:C)))","v":" "},null,null,null,null,null,null,null,null,"","",1,0," "," ",""," "," ","",null," "," ",",,,,,,,,,,,,"]
[null,{"$f":"IF(A24=0,\" \",IF(ISNA(MATCH(A24,Personnel!A:A,0)),\"وجود ندارد\",LOOKUP(A24,Personnel!A:A,Personnel!B:B)))","v":" "},{"$f":"IF(A24=0,\" \",IF(ISNA(MATCH(A24,Personnel!A:A,0)),\"وجود ندارد\",LOOKUP(A24,Personnel!A:A,Personnel!C:C)))","v":" "},null,null,null,null,null,null,null,null,"","",1,0," "," ",""," "," ","",null," "," ",",,,,,,,,,,,,"]
[null,{"$f":"IF(A25=0,\" \",IF(ISNA(MATCH(A25,Personnel!A:A,0)),\"وجود ندارد\",LOOKUP(A25,Personnel!A:A,Personnel!B:B)))","v":" "},{"$f":"IF(A25=0,\" \",IF(ISNA(MATCH(A25,Personnel!A:A,0)),\"وجود ندارد\",LOOKUP(A25,Personnel!A:A,Personnel!C:C)))","v":" "},null,null,null,null,null,null,null,null,"","",1,0," "," ",""," "," ","",null," "," ",",,,,,,,,,,,,"]
[null,{"$f":"IF(A26=0,\" \",IF(ISNA(MATCH(A26,Personnel!A:A,0)),\"وجود ندارد\",LOOKUP(A26,Personnel!A:A,Personnel!B:B)))","v":" "},{"$f":"IF(A26=0,\" \",IF(ISNA(MATCH(A26,Personnel!A:A,0)),\"وجود ندارد\",LOOKUP(A26,Personnel!A:A,Personnel!C:C)))","v":" "},null,null,null,null,null,null,null,null,"","",1,0," "," ",""," "," ","",null," "," ",",,,,,,,,,,,,"]
[null,{"$f":"IF(A27=0,\" \",IF(ISNA(MATCH(A27,Personnel!A:A,0)),\"وجود ندارد\",LOOKUP(A27,Personnel!A:A,Personnel!B:B)))","v":" "},{"$f":"IF(A27=0,\" \",IF(ISNA(MATCH(A27,Personnel!A:A,0)),\"وجود ندارد\",LOOKUP(A27,Personnel!A:A,Personnel!C:C)))","v":" "},null,null,null,null,null,null,null,null,"","",1,0," "," ",""," "," ","",null," "," ",",,,,,,,,,,,,"]
[null,{"$f":"IF(A28=0,\" \",IF(ISNA(MATCH(A28,Personnel!A:A,0)),\"وجود ندارد\",LOOKUP(A28,Personnel!A:A,Personnel!B:B)))","v":" "},{"$f":"IF(A28=0,\" \",IF(ISNA(MATCH(A28,Personnel!A:A,0)),\"وجود ندارد\",LOOKUP(A28,Personnel!A:A,Personnel!C:C)))","v":" "},null,null,null,null,null,null,null,null,"","",1,0," "," ",""," "," ","",null," "," ",",,,,,,,,,,,,"]
[null,{"$f":"IF(A29=0,\" \",IF(ISNA(MATCH(A29,Personnel!A:A,0)),\"وجود ندارد\",LOOKUP(A29,Personnel!A:A,Personnel!B:B)))","v":" "},{"$f":"IF(A29=0,\" \",IF(ISNA(MATCH(A29,Personnel!A:A,0)),\"وجود ندارد\",LOOKUP(A29,Personnel!A:A,Personnel!C:C)))","v":" "},null,null,null,null,null,null,null,null,"","",1,0," "," ",""," "," ","",null," "," ",",,,,,,,,,,,,"]
[null,{"$f":"IF(A30=0,\" \",IF(ISNA(MATCH(A30,Personnel!A:A,0)),\"وجود ندارد\",LOOKUP(A30,Personnel!A:A,Personnel!B:B)))","v":" "},{"$f":"IF(A30=0,\" \",IF(ISNA(MATCH(A30,Personnel!A:A,0)),\"وجود ندارد\",LOOKUP(A30,Personnel!A:A,Personnel!C:C)))","v":" "},null,null,null,null,null,null,null,null,"","",1,0," "," ",""," "," ","",null," "," ",",,,,,,,,,,,,"]
[null,{"$f":"IF(A31=0,\" \",IF(ISNA(MATCH(A31,Personnel!A:A,0)),\"وجود ندارد\",LOOKUP(A31,Personnel!A:A,Personnel!B:B)))","v":" "},{"$f":"IF(A31=0,\" \",IF(ISNA(MATCH(A31,Personnel!A:A,0)),\"وجود ندارد\",LOOKUP(A31,Personnel!A:A,Personnel!C:C)))","v":" "},null,null,null,null,null,null,null,null,"","",1,0," "," ",""," "," ","",null," "," ",",,,,,,,,,,,,"]
[null,{"$f":"IF(A32=0,\" \",IF(ISNA(MATCH(A32,Personnel!A:A,0)),\"وجود ندارد\",LOOKUP(A32,Personnel!A:A,Personnel!B:B)))","v":" "},{"$f":"IF(A32=0,\" \",IF(ISNA(MATCH(A32,Personnel!A:A,0)),\"وجود ندارد\",LOOKUP(A32,Personnel!A:A,Personnel!C:C)))","v":" "},null,null,null,null,null,null,null,null,"","",1,0," "," ",""," "," ","",null," "," ",",,,,,,,,,,,,"]
[null,{"$f":"IF(A33=0,\" \",IF(ISNA(MATCH(A33,Personnel!A:A,0)),\"وجود ندارد\",LOOKUP(A33,Personnel!A:A,Personnel!B:B)))","v":" "},{"$f":"IF(A33=0,\" \",IF(ISNA(MATCH(A33,Personnel!A:A,0)),\"وجود ندارد\",LOOKUP(A33,Personnel!A:A,Personnel!C:C)))","v":" "},null,null,null,null,null,null,null,null,"","",1,0," "," ",""," "," ","",null," "," ",",,,,,,,,,,,,"]
[null,{"$f":"IF(A34=0,\" \",IF(ISNA(MATCH(A34,Personnel!A:A,0)),\"وجود ندارد\",LOOKUP(A34,Personnel!A:A,Personnel!B:B)))","v":" "},{"$f":"IF(A34=0,\" \",IF(ISNA(MATCH(A34,Personnel!A:A,0)),\"وجود ندارد\",LOOKUP(A34,Personnel!A:A,Personnel!C:C)))","v":" "},null,null,null,null,null,null,null,null,"","",1,0," "," ",""," "," ","",null," "," ",",,,,,,,,,,,,"]
[null,{"$f":"IF(A35=0,\" \",IF(ISNA(MATCH(A35,Personnel!A:A,0)),\"وجود ندارد\",LOOKUP(A35,Personnel!A:A,Personnel!B:B)))","v":" "},{"$f":"IF(A35=0,\" \",IF(ISNA(MATCH(A35,Personnel!A:A,0)),\"وجود ندارد\",LOOKUP(A35,Personnel!A:A,Personnel!C:C)))","v":" "},null,null,null,null,null,null,null,null,"","",1,0," "," ",""," "," ","",null," "," ",",,,,,,,,,,,,"]
[null,{"$f":"IF(A36=0,\" \",IF(ISNA(MATCH(A36,Personnel!A:A,0)),\"وجود ندارد\",LOOKUP(A36,Personnel!A:A,Personnel!B:B)))","v":" "},{"$f":"IF(A36=0,\" \",IF(ISNA(MATCH(A36,Personnel!A:A,0)),\"وجود ندارد\",LOOKUP(A36,Personnel!A:A,Personnel!C:C)))","v":" "},null,null,null,null,null,null,null,null,"","",1,0," "," ",""," "," ","",null," "," ",",,,,,,,,,,,,"]
[null,{"$f":"IF(A37=0,\" \",IF(ISNA(MATCH(A37,Personnel!A:A,0)),\"وجود ندارد\",LOOKUP(A37,Personnel!A:A,Personnel!B:B)))","v":" "},{"$f":"IF(A37=0,\" \",IF(ISNA(MATCH(A37,Personnel!A:A,0)),\"وجود ندارد\",LOOKUP(A37,Personnel!A:A,Personnel!C:C)))","v":" "},null,null,null,null,null,null,null,null,"","",1,0," "," ",""," "," ","",null," "," ",",,,,,,,,,,,,"]
[null,{"$f":"IF(A38=0,\" \",IF(ISNA(MATCH(A38,Personnel!A:A,0)),\"وجود ندارد\",LOOKUP(A38,Personnel!A:A,Personnel!B:B)))","v":" "},{"$f":"IF(A38=0,\" \",IF(ISNA(MATCH(A38,Personnel!A:A,0)),\"وجود ندارد\",LOOKUP(A38,Personnel!A:A,Personnel!C:C)))","v":" "},null,null,null,null,null,null,null,null,"","",1,0," "," ",""," "," ","",null," "," ",",,,,,,,,,,,,"]
[null,{"$f":"IF(A39=0,\" \",IF(ISNA(MATCH(A39,Personnel!A:A,0)),\"وجود ندارد\",LOOKUP(A39,Personnel!A:A,Personnel!B:B)))","v":" "},{"$f":"IF(A39=0,\" \",IF(ISNA(MATCH(A39,Personnel!A:A,0)),\"وجود ندارد\",LOOKUP(A39,Personnel!A:A,Personnel!C:C)))","v":" "},null,null,null,null,null,null,null,null,"","",1,0," "," ",""," "," ","",null," "," ",",,,,,,,,,,,,"]
[null,{"$f":"IF(A40=0,\" \",IF(ISNA(MATCH(A40,Personnel!A:A,0)),\"وجود ندارد\",LOOKUP(A40,Personnel!A:A,Personnel!B:B)))","v":" "},{"$f":"IF(A40=0,\" \",IF(ISNA(MATCH(A40,Personnel!A:A,0)),\"وجود ندارد\",LOOKUP(A40,Personnel!A:A,Personnel!C:C)))","v":" "},null,null,null,null,null,null,null,null,"","",1,0," "," ",""," "," ","",null," "," ",",,,,,,,,,,,,"]
[null,{"$f":"IF(A41=0,\" \",IF(ISNA(MATCH(A41,Personnel!A:A,0)),\"وجود ندارد\",LOOKUP(A41,Personnel!A:A,Personnel!B:B)))","v":" "},{"$f":"IF(A41=0,\" \",IF(ISNA(MATCH(A41,Personnel!A:A,0)),\"وجود ندارد\",LOOKUP(A41,Personnel!A:A,Personnel!C:C)))","v":" "},null,null,null,null,null,null,null,null,"","",1,0," "," ",""," "," ","",null," "," ",",,,,,,,,,,,,"]
[null,{"$f":"IF(A42=0,\" \",IF(ISNA(MATCH(A42,Personnel!A:A,0)),\"وجود ندارد\",LOOKUP(A42,Personnel!A:A,Personnel!B:B)))","v":" "},{"$f":"IF(A42=0,\" \",IF(ISNA(MATCH(A42,Personnel!A:A,0)),\"وجود ندارد\",LOOKUP(A42,Personnel!A:A,Personnel!C:C)))","v":" "},null,null,null,null,null,null,null,null,"","",1,0," "," ",""," "," ","",null," "," ",",,,,,,,,,,,,"]
[null,{"$f":"IF(A43=0,\" \",IF(ISNA(MATCH(A43,Personnel!A:A,0)),\"وجود ندارد\",LOOKUP(A43,Personnel!A:A,Personnel!B:B)))","v":" "},{"$f":"IF(A43=0,\" \",IF(ISNA(MATCH(A43,Personnel!A:A,0)),\"وجود ندارد\",LOOKUP(A43,Personnel!A:A,Personnel!C:C)))","v":" "},null,null,null,null,null,null,null,null,"","",1,0," "," ",""," "," ","",null," "," ",",,,,,,,,,,,,"]
[null,{"$f":"IF(A44=0,\" \",IF(ISNA(MATCH(A44,Personnel!A:A,0)),\"وجود ندارد\",LOOKUP(A44,Personnel!A:A,Personnel!B:B)))","v":" "},{"$f":"IF(A44=0,\" \",IF(ISNA(MATCH(A44,Personnel!A:A,0)),\"وجود ندارد\",LOOKUP(A44,Personnel!A:A,Personnel!C:C)))","v":" "},null,null,null,null,null,null,null,null,"","",1,0," "," ",""," "," ","",null," "," ",",,,,,,,,,,,,"]
[null,{"$f":"IF(A45=0,\" \",IF(ISNA(MATCH(A45,Personnel!A:A,0)),\"وجود ندارد\",LOOKUP(A45,Personnel!A:A,Personnel!B:B)))","v":" "},{"$f":"IF(A45=0,\" \",IF(ISNA(MATCH(A45,Personnel!A:A,0)),\"وجود ندارد\",LOOKUP(A45,Personnel!A:A,Personnel!C:C)))","v":" "},null,null,null,null,null,null,null,null,"","",1,0," "," ",""," "," ","",null," "," ",",,,,,,,,,,,,"]
[null,{"$f":"IF(A46=0,\" \",IF(ISNA(MATCH(A46,Personnel!A:A,0)),\"وجود ندارد\",LOOKUP(A46,Personnel!A:A,Personnel!B:B)))","v":" "},{"$f":"IF(A46=0,\" \",IF(ISNA(MATCH(A46,Personnel!A:A,0)),\"وجود ندارد\",LOOKUP(A46,Personnel!A:A,Personnel!C:C)))","v":" "},null,null,null,null,null,null,null,null,"","",1,0," "," ",""," "," ","",null," "," ",",,,,,,,,,,,,"]
[null,{"$f":"IF(A47=0,\" \",IF(ISNA(MATCH(A47,Personnel!A:A,0)),\"وجود ندارد\",LOOKUP(A47,Personnel!A:A,Personnel!B:B)))","v":" "},{"$f":"IF(A47=0,\" \",IF(ISNA(MATCH(A47,Personnel!A:A,0)),\"وجود ندارد\",LOOKUP(A47,Personnel!A:A,Personnel!C:C)))","v":" "},null,null,null,null,null,null,null,null,"","",1,0," "," ",""," "," ","",null," "," ",",,,,,,,,,,,,"]
[null,{"$f":"IF(A48=0,\" \",IF(ISNA(MATCH(A48,Personnel!A:A,0)),\"وجود ندارد\",LOOKUP(A48,Personnel!A:A,Personnel!B:B)))","v":" "},{"$f":"IF(A48=0,\" \",IF(ISNA(MATCH(A48,Personnel!A:A,0)),\"وجود ندارد\",LOOKUP(A48,Personnel!A:A,Personnel!C:C)))","v":" "},null,null,null,null,null,null,null,null,"","",1,0," "," ",""," "," ","",null," "," ",",,,,,,,,,,,,"]
[null,{"$f":"IF(A49=0,\" \",IF(ISNA(MATCH(A49,Personnel!A:A,0)),\"وجود ندارد\",LOOKUP(A49,Personnel!A:A,Personnel!B:B)))","v":" "},{"$f":"IF(A49=0,\" \",IF(ISNA(MATCH(A49,Personnel!A:A,0)),\"وجود ندارد\",LOOKUP(A49,Personnel!A:A,Personnel!C:C)))","v":" "},null,null,null,null,null,null,null,null,"","",1,0," "," ",""," "," ","",null," "," ",",,,,,,,,,,,,"]
[null,{"$f":"IF(A50=0,\" \",IF(ISNA(MATCH(A50,Personnel!A:A,0)),\"وجود ندارد\",LOOKUP(A50,Personnel!A:A,Personnel!B:B)))","v":" "},{"$f":"IF(A50=0,\" \",IF(ISNA(MATCH(A50,Personnel!A:A,0)),\"وجود ندارد\",LOOKUP(A50,Personnel!A:A,Personnel!C:C)))","v":" "},null,null,null,null,null,null,null,null,"","",1,0," "," ",""," "," ","",null," "," ",",,,,,,,,,,,,"]
[null,{"$f":"IF(A51=0,\" \",IF(ISNA(MATCH(A51,Personnel!A:A,0)),\"وجود ندارد\",LOOKUP(A51,Personnel!A:A,Personnel!B:B)))","v":" "},{"$f":"IF(A51=0,\" \",IF(ISNA(MATCH(A51,Personnel!A:A,0)),\"وجود ندارد\",LOOKUP(A51,Personnel!A:A,Personnel!C:C)))","v":" "},null,null,null,null,null,null,null,null,"","",1,0," "," ",""," "," ","",null," "," ",",,,,,,,,,,,,"]
[null,{"$f":"IF(A52=0,\" \",IF(ISNA(MATCH(A52,Personnel!A:A,0)),\"وجود ندارد\",LOOKUP(A52,Personnel!A:A,Personnel!B:B)))","v":" "},{"$f":"IF(A52=0,\" \",IF(ISNA(MATCH(A52,Personnel!A:A,0)),\"وجود ندارد\",LOOKUP(A52,Personnel!A:A,Personnel!C:C)))","v":" "},null,null,null,null,null,null,null,null,"","",1,0," "," ",""," "," ","",null," "," ",",,,,,,,,,,,,"]
[null,{"$f":"IF(A53=0,\" \",IF(ISNA(MATCH(A53,Personnel!A:A,0)),\"وجود ندارد\",LOOKUP(A53,Personnel!A:A,Personnel!B:B)))","v":" "},{"$f":"IF(A53=0,\" \",IF(ISNA(MATCH(A53,Personnel!A:A,0)),\"وجود ندارد\",LOOKUP(A53,Personnel!A:A,Personnel!C:C)))","v":" "},null,null,null,null,null,null,null,null,"","",1,0," "," ",""," "," ","",null," "," ",",,,,,,,,,,,,"]
[null,{"$f":"IF(A54=0,\" \",IF(ISNA(MATCH(A54,Personnel!A:A,0)),\"وجود ندارد\",LOOKUP(A54,Personnel!A:A,Personnel!B:B)))","v":" "},{"$f":"IF(A54=0,\" \",IF(ISNA(MATCH(A54,Personnel!A:A,0)),\"وجود ندارد\",LOOKUP(A54,Personnel!A:A,Personnel!C:C)))","v":" "},null,null,null,null,null,null,null,null,"","",1,0," "," ",""," "," ","",null," "," ",",,,,,,,,,,,,"]
[null,{"$f":"IF(A55=0,\" \",IF(ISNA(MATCH(A55,Personnel!A:A,0)),\"وجود ندارد\",LOOKUP(A55,Personnel!A:A,Personnel!B:B)))","v":" "},{"$f":"IF(A55=0,\" \",IF(ISNA(MATCH(A55,Personnel!A:A,0)),\"وجود ندارد\",LOOKUP(A55,Personnel!A:A,Personnel!C:C)))","v":" "},null,null,null,null,null,null,null,null,"","",1,0," "," ",""," "," ","",null," "," ",",,,,,,,,,,,,"]
[null,{"$f":"IF(A56=0,\" \",IF(ISNA(MATCH(A56,Personnel!A:A,0)),\"وجود ندارد\",LOOKUP(A56,Personnel!A:A,Personnel!B:B)))","v":" "},{"$f":"IF(A56=0,\" \",IF(ISNA(MATCH(A56,Personnel!A:A,0)),\"وجود ندارد\",LOOKUP(A56,Personnel!A:A,Personnel!C:C)))","v":" "},null,null,null,null,null,null,null,null,"","",1,0," "," ",""," "," ","",null," "," ",",,,,,,,,,,,,"]
[null,{"$f":"IF(A57=0,\" \",IF(ISNA(MATCH(A57,Personnel!A:A,0)),\"وجود ندارد\",LOOKUP(A57,Personnel!A:A,Personnel!B:B)))","v":" "},{"$f":"IF(A57=0,\" \",IF(ISNA(MATCH(A57,Personnel!A:A,0)),\"وجود ندارد\",LOOKUP(A57,Personnel!A:A,Personnel!C:C)))","v":" "},null,null,null,null,null,null,null,null,"","",1,0," "," ",""," "," ","",null," "," ",",,,,,,,,,,,,"]
[null,{"$f":"IF(A58=0,\" \",IF(ISNA(MATCH(A58,Personnel!A:A,0)),\"وجود ندارد\",LOOKUP(A58,Personnel!A:A,Personnel!B:B)))","v":" "},{"$f":"IF(A58=0,\" \",IF(ISNA(MATCH(A58,Personnel!A:A,0)),\"وجود ندارد\",LOOKUP(A58,Personnel!A:A,Personnel!C:C)))","v":" "},null,null,null,null,null,null,null,null,"","",1,0," "," ",""," "," ","",null," "," ",",,,,,,,,,,,,"]
[null,{"$f":"IF(A59=0,\" \",IF(ISNA(MATCH(A59,Personnel!A:A,0)),\"وجود ندارد\",LOOKUP(A59,Personnel!A:A,Personnel!B:B)))","v":" "},{"$f":"IF(A59=0,\" \",IF(ISNA(MATCH(A59,Personnel!A:A,0)),\"وجود ندارد\",LOOKUP(A59,Personnel!A:A,Personnel!C:C)))","v":" "},null,null,null,null,null,null,null,null,"","",1,0," "," ",""," "," ","",null," "," ",",,,,,,,,,,,,"]
[null,{"$f":"IF(A60=0,\" \",IF(ISNA(MATCH(A60,Personnel!A:A,0)),\"وجود ندارد\",LOOKUP(A60,Personnel!A:A,Personnel!B:B)))","v":" "},{"$f":"IF(A60=0,\" \",IF(ISNA(MATCH(A60,Personnel!A:A,0)),\"وجود ندارد\",LOOKUP(A60,Personnel!A:A,Personnel!C:C)))","v":" "},null,null,null,null,null,null,null,null,"","",1,0," "," ",""," "," ","",null," "," ",",,,,,,,,,,,,"]
[null,{"$f":"IF(A61=0,\" \",IF(ISNA(MATCH(A61,Personnel!A:A,0)),\"وجود ندارد\",LOOKUP(A61,Personnel!A:A,Personnel!B:B)))","v":" "},{"$f":"IF(A61=0,\" \",IF(ISNA(MATCH(A61,Personnel!A:A,0)),\"وجود ندارد\",LOOKUP(A61,Personnel!A:A,Personnel!C:C)))","v":" "},null,null,null,null,null,null,null,null,"","",1,0," "," ",""," "," ","",null," "," ",",,,,,,,,,,,,"]
[null,{"$f":"IF(A62=0,\" \",IF(ISNA(MATCH(A62,Personnel!A:A,0)),\"وجود ندارد\",LOOKUP(A62,Personnel!A:A,Personnel!B:B)))","v":" "},{"$f":"IF(A62=0,\" \",IF(ISNA(MATCH(A62,Personnel!A:A,0)),\"وجود ندارد\",LOOKUP(A62,Personnel!A:A,Personnel!C:C)))","v":" "},null,null,null,null,null,null,null,null,"","",1,0," "," ",""," "," ","",null," "," ",",,,,,,,,,,,,"]
[null,{"$f":"IF(A63=0,\" \",IF(ISNA(MATCH(A63,Personnel!A:A,0)),\"وجود ندارد\",LOOKUP(A63,Personnel!A:A,Personnel!B:B)))","v":" "},{"$f":"IF(A63=0,\" \",IF(ISNA(MATCH(A63,Personnel!A:A,0)),\"وجود ندارد\",LOOKUP(A63,Personnel!A:A,Personnel!C:C)))","v":" "},null,null,null,null,null,null,null,null,"","",1,0," "," ",""," "," ","",null," "," ",",,,,,,,,,,,,"]
[null,{"$f":"IF(A64=0,\" \",IF(ISNA(MATCH(A64,Personnel!A:A,0)),\"وجود ندارد\",LOOKUP(A64,Personnel!A:A,Personnel!B:B)))","v":" "},{"$f":"IF(A64=0,\" \",IF(ISNA(MATCH(A64,Personnel!A:A,0)),\"وجود ندارد\",LOOKUP(A64,Personnel!A:A,Personnel!C:C)))","v":" "},null,null,null,null,null,null,null,null,"","",1,0," "," ",""," "," ","",null," "," ",",,,,,,,,,,,,"]
[null,{"$f":"IF(A65=0,\" \",IF(ISNA(MATCH(A65,Personnel!A:A,0)),\"وجود ندارد\",LOOKUP(A65,Personnel!A:A,Personnel!B:B)))","v":" "},{"$f":"IF(A65=0,\" \",IF(ISNA(MATCH(A65,Personnel!A:A,0)),\"وجود ندارد\",LOOKUP(A65,Personnel!A:A,Personnel!C:C)))","v":" "},null,null,null,null,null,null,null,null,"","",1,0," "," ",""," "," ","",null," "," ",",,,,,,,,,,,,"]
[null,{"$f":"IF(A66=0,\" \",IF(ISNA(MATCH(A66,Personnel!A:A,0)),\"وجود ندارد\",LOOKUP(A66,Personnel!A:A,Personnel!B:B)))","v":" "},{"$f":"IF(A66=0,\" \",IF(ISNA(MATCH(A66,Personnel!A:A,0)),\"وجود ندارد\",LOOKUP(A66,Personnel!A:A,Personnel!C:C)))","v":" "},null,null,null,null,null,null,null,null,"","",1,0,{"$f":"IF(A66=0,\" \",IF(N66+O66<>0,\"تاریخ اشتباه است\",\"\"))","v":" "},{"$f":"IF(A66=0,\" \",IF(AND(G66<>0,H66>G66),\"مبلغ قسط از مبلغ کل بیشتر است\",\"\"))","v":" "},""," ",{"$f":"IF(A66=0,\" \",IF(OR(K66<1,K66>3),\"نوع عمل اشتباه است\",\"\"))","v":" "},"",null," "," ",",,,,,,,,,,,,"]
[null,{"$f":"IF(A67=0,\" \",IF(ISNA(MATCH(A67,Personnel!A:A,0)),\"وجود ندارد\",LOOKUP(A67,Personnel!A:A,Personnel!B:B)))","v":" "},{"$f":"IF(A67=0,\" \",IF(ISNA(MATCH(A67,Personnel!A:A,0)),\"وجود ندارد\",LOOKUP(A67,Personnel!A:A,Personnel!C:C)))","v":" "},null,null,null,null,null,null,null,null,{"$f":"IF(K67=0,\"\",IF(K67=1,\"ایجاد\",IF(K67=2,\"اصلاح\",\"حذف\")))","v":""},{"$f":"IF(AND(K67=3,H67+I67+J67+F67+G67<>0),\"برای عمل حذف اطلاعات اضافی وارد شده است\",\"\")","v":""},{"$f":"IF(AND(K67<>3,F67<900000),1,0)","v":1},{"$f":"IF(F67>991231,1,0)","v":0}," "," ",{"$f":"IF(AND(A67=0,H67+I67+J67+F67+G67+K67+E67+D67<>0),\"در این ردیف شماره پرسنلی وجود ندارد اما اطلاعات دیگر وارد شده است\",\"\")","v":""},{"$f":"IF(A67=0,\" \",IF(D67=0,\"کد وام وارد نشده است\",\"\"))","v":" "}," ",{"$f":"IF(AND(OR(K67=1,K67=2),H67=0),\"مبلغ قسط نمی تواند خالی باشد\",\"\")","v":""},null,{"$f":"IF(AND(A67=0,A68<>0),\"دراین ردیف اصلاحاتی وجود ندارد . لطفا ردیفی را خالی باقی نگذارید\",IF(AND(A67=0,R67=\"\"),\" \",IF(M67&\",\"&P67&\",\"&Q67&\",\"&R67&\",\"&S67&\",\"&T67&\",\"&U67=\",,,,,,\",\"صحیح\",M67&\",\"&P67&\",\"&Q67&\",\"&R67&\",\"&S67&\",\"&T67&\",\"&U67)))","v":" "},{"$f":"IF(AND(ROW(X67)>$Z$2,W67=\" \"),\" \",IF(W67=\" \",IF(AND(A67=0,$Z$2<>$Z$4),\"دراین ردیف اصلاحاتی وجود ندارد . لطفا ردیفی را خالی نگذارید\",W67),W67))","v":" "},{"$f":"CONCATENATE(A67,\",\",D67,\",\",E67,\",\",F67,\",\",G67,\",\",H67,\",\",I67,\",\",K67,\",\",,\",\",J67,\",\",\",\",V67,\",\")","v":",,,,,,,,,,,,"}]
[null,{"$f":"IF(A68=0,\" \",IF(ISNA(MATCH(A68,Personnel!A:A,0)),\"وجود ندارد\",LOOKUP(A68,Personnel!A:A,Personnel!B:B)))","v":" "},{"$f":"IF(A68=0,\" \",IF(ISNA(MATCH(A68,Personnel!A:A,0)),\"وجود ندارد\",LOOKUP(A68,Personnel!A:A,Personnel!C:C)))","v":" "},null,null,null,null,null,null,null,null,"","",1,0," "," ",""," "," ","",null," "," ",",,,,,,,,,,,,"]
[null,{"$f":"IF(A69=0,\" \",IF(ISNA(MATCH(A69,Personnel!A:A,0)),\"وجود ندارد\",LOOKUP(A69,Personnel!A:A,Personnel!B:B)))","v":" "},{"$f":"IF(A69=0,\" \",IF(ISNA(MATCH(A69,Personnel!A:A,0)),\"وجود ندارد\",LOOKUP(A69,Personnel!A:A,Personnel!C:C)))","v":" "},null,null,null,null,null,null,null,null,"","",1,0," "," ",""," "," ","",null," "," ",",,,,,,,,,,,,"]
[null,{"$f":"IF(A70=0,\" \",IF(ISNA(MATCH(A70,Personnel!A:A,0)),\"وجود ندارد\",LOOKUP(A70,Personnel!A:A,Personnel!B:B)))","v":" "},{"$f":"IF(A70=0,\" \",IF(ISNA(MATCH(A70,Personnel!A:A,0)),\"وجود ندارد\",LOOKUP(A70,Personnel!A:A,Personnel!C:C)))","v":" "},null,null,null,null,null,null,null,null,"","",1,0," "," ",""," "," ","",null," "," ",",,,,,,,,,,,,"]
[null,{"$f":"IF(A71=0,\" \",IF(ISNA(MATCH(A71,Personnel!A:A,0)),\"وجود ندارد\",LOOKUP(A71,Personnel!A:A,Personnel!B:B)))","v":" "},{"$f":"IF(A71=0,\" \",IF(ISNA(MATCH(A71,Personnel!A:A,0)),\"وجود ندارد\",LOOKUP(A71,Personnel!A:A,Personnel!C:C)))","v":" "},null,null,null,null,null,null,null,null,"","",1,0," "," ",""," "," ","",null," "," ",",,,,,,,,,,,,"]
[null,{"$f":"IF(A72=0,\" \",IF(ISNA(MATCH(A72,Personnel!A:A,0)),\"وجود ندارد\",LOOKUP(A72,Personnel!A:A,Personnel!B:B)))","v":" "},{"$f":"IF(A72=0,\" \",IF(ISNA(MATCH(A72,Personnel!A:A,0)),\"وجود ندارد\",LOOKUP(A72,Personnel!A:A,Personnel!C:C)))","v":" "},null,null,null,null,null,null,null,null,"","",1,0," "," ",""," "," ","",null," "," ",",,,,,,,,,,,,"]
[null,{"$f":"IF(A73=0,\" \",IF(ISNA(MATCH(A73,Personnel!A:A,0)),\"وجود ندارد\",LOOKUP(A73,Personnel!A:A,Personnel!B:B)))","v":" "},{"$f":"IF(A73=0,\" \",IF(ISNA(MATCH(A73,Personnel!A:A,0)),\"وجود ندارد\",LOOKUP(A73,Personnel!A:A,Personnel!C:C)))","v":" "},null,null,null,null,null,null,null,null,"","",1,0," "," ",""," "," ","",null," "," ",",,,,,,,,,,,,"]
[null,{"$f":"IF(A74=0,\" \",IF(ISNA(MATCH(A74,Personnel!A:A,0)),\"وجود ندارد\",LOOKUP(A74,Personnel!A:A,Personnel!B:B)))","v":" "},{"$f":"IF(A74=0,\" \",IF(ISNA(MATCH(A74,Personnel!A:A,0)),\"وجود ندارد\",LOOKUP(A74,Personnel!A:A,Personnel!C:C)))","v":" "},null,null,null,null,null,null,null,null,"","",1,0," "," ",""," "," ","",null," "," ",",,,,,,,,,,,,"]
[null,{"$f":"IF(A75=0,\" \",IF(ISNA(MATCH(A75,Personnel!A:A,0)),\"وجود ندارد\",LOOKUP(A75,Personnel!A:A,Personnel!B:B)))","v":" "},{"$f":"IF(A75=0,\" \",IF(ISNA(MATCH(A75,Personnel!A:A,0)),\"وجود ندارد\",LOOKUP(A75,Personnel!A:A,Personnel!C:C)))","v":" "},null,null,null,null,null,null,null,null,"","",1,0," "," ",""," "," ","",null," "," ",",,,,,,,,,,,,"]
[null,{"$f":"IF(A76=0,\" \",IF(ISNA(MATCH(A76,Personnel!A:A,0)),\"وجود ندارد\",LOOKUP(A76,Personnel!A:A,Personnel!B:B)))","v":" "},{"$f":"IF(A76=0,\" \",IF(ISNA(MATCH(A76,Personnel!A:A,0)),\"وجود ندارد\",LOOKUP(A76,Personnel!A:A,Personnel!C:C)))","v":" "},null,null,null,null,null,null,null,null,"","",1,0," "," ",""," "," ","",null," "," ",",,,,,,,,,,,,"]
[null,{"$f":"IF(A77=0,\" \",IF(ISNA(MATCH(A77,Personnel!A:A,0)),\"وجود ندارد\",LOOKUP(A77,Personnel!A:A,Personnel!B:B)))","v":" "},{"$f":"IF(A77=0,\" \",IF(ISNA(MATCH(A77,Personnel!A:A,0)),\"وجود ندارد\",LOOKUP(A77,Personnel!A:A,Personnel!C:C)))","v":" "},null,null,null,null,null,null,null,null,"","",1,0," "," ",""," "," ","",null," "," ",",,,,,,,,,,,,"]
[null,{"$f":"IF(A78=0,\" \",IF(ISNA(MATCH(A78,Personnel!A:A,0)),\"وجود ندارد\",LOOKUP(A78,Personnel!A:A,Personnel!B:B)))","v":" "},{"$f":"IF(A78=0,\" \",IF(ISNA(MATCH(A78,Personnel!A:A,0)),\"وجود ندارد\",LOOKUP(A78,Personnel!A:A,Personnel!C:C)))","v":" "},null,null,null,null,null,null,null,null,"","",1,0," "," ",""," "," ","",null," "," ",",,,,,,,,,,,,"]
[null,{"$f":"IF(A79=0,\" \",IF(ISNA(MATCH(A79,Personnel!A:A,0)),\"وجود ندارد\",LOOKUP(A79,Personnel!A:A,Personnel!B:B)))","v":" "},{"$f":"IF(A79=0,\" \",IF(ISNA(MATCH(A79,Personnel!A:A,0)),\"وجود ندارد\",LOOKUP(A79,Personnel!A:A,Personnel!C:C)))","v":" "},null,null,null,null,null,null,null,null,"","",1,0," "," ",""," "," ","",null," "," ",",,,,,,,,,,,,"]
[null,{"$f":"IF(A80=0,\" \",IF(ISNA(MATCH(A80,Personnel!A:A,0)),\"وجود ندارد\",LOOKUP(A80,Personnel!A:A,Personnel!B:B)))","v":" "},{"$f":"IF(A80=0,\" \",IF(ISNA(MATCH(A80,Personnel!A:A,0)),\"وجود ندارد\",LOOKUP(A80,Personnel!A:A,Personnel!C:C)))","v":" "},null,null,null,null,null,null,null,null,"","",1,0," "," ",""," "," ","",null," "," ",",,,,,,,,,,,,"]
[null,{"$f":"IF(A81=0,\" \",IF(ISNA(MATCH(A81,Personnel!A:A,0)),\"وجود ندارد\",LOOKUP(A81,Personnel!A:A,Personnel!B:B)))","v":" "},{"$f":"IF(A81=0,\" \",IF(ISNA(MATCH(A81,Personnel!A:A,0)),\"وجود ندارد\",LOOKUP(A81,Personnel!A:A,Personnel!C:C)))","v":" "},null,null,null,null,null,null,null,null,"","",1,0," "," ",""," "," ","",null," "," ",",,,,,,,,,,,,"]
[null,{"$f":"IF(A82=0,\" \",IF(ISNA(MATCH(A82,Personnel!A:A,0)),\"وجود ندارد\",LOOKUP(A82,Personnel!A:A,Personnel!B:B)))","v":" "},{"$f":"IF(A82=0,\" \",IF(ISNA(MATCH(A82,Personnel!A:A,0)),\"وجود ندارد\",LOOKUP(A82,Personnel!A:A,Personnel!C:C)))","v":" "},null,null,null,null,null,null,null,null,"","",1,0," "," ",""," "," ","",null," "," ",",,,,,,,,,,,,"]
[null,{"$f":"IF(A83=0,\" \",IF(ISNA(MATCH(A83,Personnel!A:A,0)),\"وجود ندارد\",LOOKUP(A83,Personnel!A:A,Personnel!B:B)))","v":" "},{"$f":"IF(A83=0,\" \",IF(ISNA(MATCH(A83,Personnel!A:A,0)),\"وجود ندارد\",LOOKUP(A83,Personnel!A:A,Personnel!C:C)))","v":" "},null,null,null,null,null,null,null,null,"","",1,0," "," ",""," "," ","",null," "," ",",,,,,,,,,,,,"]
[null,{"$f":"IF(A84=0,\" \",IF(ISNA(MATCH(A84,Personnel!A:A,0)),\"وجود ندارد\",LOOKUP(A84,Personnel!A:A,Personnel!B:B)))","v":" "},{"$f":"IF(A84=0,\" \",IF(ISNA(MATCH(A84,Personnel!A:A,0)),\"وجود ندارد\",LOOKUP(A84,Personnel!A:A,Personnel!C:C)))","v":" "},null,null,null,null,null,null,null,null,"","",1,0," "," ",""," "," ","",null," "," ",",,,,,,,,,,,,"]
[null,{"$f":"IF(A85=0,\" \",IF(ISNA(MATCH(A85,Personnel!A:A,0)),\"وجود ندارد\",LOOKUP(A85,Personnel!A:A,Personnel!B:B)))","v":" "},{"$f":"IF(A85=0,\" \",IF(ISNA(MATCH(A85,Personnel!A:A,0)),\"وجود ندارد\",LOOKUP(A85,Personnel!A:A,Personnel!C:C)))","v":" "},null,null,null,null,null,null,null,null,"","",1,0," "," ",""," "," ","",null," "," ",",,,,,,,,,,,,"]
[null,{"$f":"IF(A86=0,\" \",IF(ISNA(MATCH(A86,Personnel!A:A,0)),\"وجود ندارد\",LOOKUP(A86,Personnel!A:A,Personnel!B:B)))","v":" "},{"$f":"IF(A86=0,\" \",IF(ISNA(MATCH(A86,Personnel!A:A,0)),\"وجود ندارد\",LOOKUP(A86,Personnel!A:A,Personnel!C:C)))","v":" "},null,null,null,null,null,null,null,null,"","",1,0," "," ",""," "," ","",null," "," ",",,,,,,,,,,,,"]
[null,{"$f":"IF(A87=0,\" \",IF(ISNA(MATCH(A87,Personnel!A:A,0)),\"وجود ندارد\",LOOKUP(A87,Personnel!A:A,Personnel!B:B)))","v":" "},{"$f":"IF(A87=0,\" \",IF(ISNA(MATCH(A87,Personnel!A:A,0)),\"وجود ندارد\",LOOKUP(A87,Personnel!A:A,Personnel!C:C)))","v":" "},null,null,null,null,null,null,null,null,"","",1,0," "," ",""," "," ","",null," "," ",",,,,,,,,,,,,"]
[null,{"$f":"IF(A88=0,\" \",IF(ISNA(MATCH(A88,Personnel!A:A,0)),\"وجود ندارد\",LOOKUP(A88,Personnel!A:A,Personnel!B:B)))","v":" "},{"$f":"IF(A88=0,\" \",IF(ISNA(MATCH(A88,Personnel!A:A,0)),\"وجود ندارد\",LOOKUP(A88,Personnel!A:A,Personnel!C:C)))","v":" "},null,null,null,null,null,null,null,null,"","",1,0," "," ",""," "," ","",null," "," ",",,,,,,,,,,,,"]
[null,{"$f":"IF(A89=0,\" \",IF(ISNA(MATCH(A89,Personnel!A:A,0)),\"وجود ندارد\",LOOKUP(A89,Personnel!A:A,Personnel!B:B)))","v":" "},{"$f":"IF(A89=0,\" \",IF(ISNA(MATCH(A89,Personnel!A:A,0)),\"وجود ندارد\",LOOKUP(A89,Personnel!A:A,Personnel!C:C)))","v":" "},null,null,null,null,null,null,null,null,"","",1,0," "," ",""," "," ","",null," "," ",",,,,,,,,,,,,"]
[null,{"$f":"IF(A90=0,\" \",IF(ISNA(MATCH(A90,Personnel!A:A,0)),\"وجود ندارد\",LOOKUP(A90,Personnel!A:A,Personnel!B:B)))","v":" "},{"$f":"IF(A90=0,\" \",IF(ISNA(MATCH(A90,Personnel!A:A,0)),\"وجود ندارد\",LOOKUP(A90,Personnel!A:A,Personnel!C:C)))","v":" "},null,null,null,null,null,null,null,null,"","",1,0," "," ",""," "," ","",null," "," ",",,,,,,,,,,,,"]
[null,{"$f":"IF(A91=0,\" \",IF(ISNA(MATCH(A91,Personnel!A:A,0)),\"وجود ندارد\",LOOKUP(A91,Personnel!A:A,Personnel!B:B)))","v":" "},{"$f":"IF(A91=0,\" \",IF(ISNA(MATCH(A91,Personnel!A:A,0)),\"وجود ندارد\",LOOKUP(A91,Personnel!A:A,Personnel!C:C)))","v":" "},null,null,null,null,null,null,null,null,"","",1,0," "," ",""," "," ","",null," "," ",",,,,,,,,,,,,"]
[null,{"$f":"IF(A92=0,\" \",IF(ISNA(MATCH(A92,Personnel!A:A,0)),\"وجود ندارد\",LOOKUP(A92,Personnel!A:A,Personnel!B:B)))","v":" "},{"$f":"IF(A92=0,\" \",IF(ISNA(MATCH(A92,Personnel!A:A,0)),\"وجود ندارد\",LOOKUP(A92,Personnel!A:A,Personnel!C:C)))","v":" "},null,null,null,null,null,null,null,null,"","",1,0," "," ",""," "," ","",null," "," ",",,,,,,,,,,,,"]
[null,{"$f":"IF(A93=0,\" \",IF(ISNA(MATCH(A93,Personnel!A:A,0)),\"وجود ندارد\",LOOKUP(A93,Personnel!A:A,Personnel!B:B)))","v":" "},{"$f":"IF(A93=0,\" \",IF(ISNA(MATCH(A93,Personnel!A:A,0)),\"وجود ندارد\",LOOKUP(A93,Personnel!A:A,Personnel!C:C)))","v":" "},null,null,null,null,null,null,null,null,"","",1,0," "," ",""," "," ","",null," "," ",",,,,,,,,,,,,"]
[null,{"$f":"IF(A94=0,\" \",IF(ISNA(MATCH(A94,Personnel!A:A,0)),\"وجود ندارد\",LOOKUP(A94,Personnel!A:A,Personnel!B:B)))","v":" "},{"$f":"IF(A94=0,\" \",IF(ISNA(MATCH(A94,Personnel!A:A,0)),\"وجود ندارد\",LOOKUP(A94,Personnel!A:A,Personnel!C:C)))","v":" "},null,null,null,null,null,null,null,null,"","",1,0," "," ",""," "," ","",null," "," ",",,,,,,,,,,,,"]
[null,{"$f":"IF(A95=0,\" \",IF(ISNA(MATCH(A95,Personnel!A:A,0)),\"وجود ندارد\",LOOKUP(A95,Personnel!A:A,Personnel!B:B)))","v":" "},{"$f":"IF(A95=0,\" \",IF(ISNA(MATCH(A95,Personnel!A:A,0)),\"وجود ندارد\",LOOKUP(A95,Personnel!A:A,Personnel!C:C)))","v":" "},null,null,null,null,null,null,null,null,"","",1,0," "," ",""," "," ","",null," "," ",",,,,,,,,,,,,"]
[null,{"$f":"IF(A96=0,\" \",IF(ISNA(MATCH(A96,Personnel!A:A,0)),\"وجود ندارد\",LOOKUP(A96,Personnel!A:A,Personnel!B:B)))","v":" "},{"$f":"IF(A96=0,\" \",IF(ISNA(MATCH(A96,Personnel!A:A,0)),\"وجود ندارد\",LOOKUP(A96,Personnel!A:A,Personnel!C:C)))","v":" "},null,null,null,null,null,null,null,null,"","",1,0," "," ",""," "," ","",null," "," ",",,,,,,,,,,,,"]
[null,{"$f":"IF(A97=0,\" \",IF(ISNA(MATCH(A97,Personnel!A:A,0)),\"وجود ندارد\",LOOKUP(A97,Personnel!A:A,Personnel!B:B)))","v":" "},{"$f":"IF(A97=0,\" \",IF(ISNA(MATCH(A97,Personnel!A:A,0)),\"وجود ندارد\",LOOKUP(A97,Personnel!A:A,Personnel!C:C)))","v":" "},null,null,null,null,null,null,null,null,"","",1,0," "," ",""," "," ","",null," "," ",",,,,,,,,,,,,"]
[null,{"$f":"IF(A98=0,\" \",IF(ISNA(MATCH(A98,Personnel!A:A,0)),\"وجود ندارد\",LOOKUP(A98,Personnel!A:A,Personnel!B:B)))","v":" "},{"$f":"IF(A98=0,\" \",IF(ISNA(MATCH(A98,Personnel!A:A,0)),\"وجود ندارد\",LOOKUP(A98,Personnel!A:A,Personnel!C:C)))","v":" "},null,null,null,null,null,null,null,null,"","",1,0," "," ",""," "," ","",null," "," ",",,,,,,,,,,,,"]
[null,{"$f":"IF(A99=0,\" \",IF(ISNA(MATCH(A99,Personnel!A:A,0)),\"وجود ندارد\",LOOKUP(A99,Personnel!A:A,Personnel!B:B)))","v":" "},{"$f":"IF(A99=0,\" \",IF(ISNA(MATCH(A99,Personnel!A:A,0)),\"وجود ندارد\",LOOKUP(A99,Personnel!A:A,Personnel!C:C)))","v":" "},null,null,null,null,null,null,null,null,"","",1,0," "," ",""," "," ","",null," "," ",",,,,,,,,,,,,"]
[null,{"$f":"IF(A100=0,\" \",IF(ISNA(MATCH(A100,Personnel!A:A,0)),\"وجود ندارد\",LOOKUP(A100,Personnel!A:A,Personnel!B:B)))","v":" "},{"$f":"IF(A100=0,\" \",IF(ISNA(MATCH(A100,Personnel!A:A,0)),\"وجود ندارد\",LOOKUP(A100,Personnel!A:A,Personnel!C:C)))","v":" "},null,null,null,null,null,null,null,null,"","",1,0," "," ",""," "," ","",null," "," ",",,,,,,,,,,,,"]
[null,{"$f":"IF(A101=0,\" \",IF(ISNA(MATCH(A101,Personnel!A:A,0)),\"وجود ندارد\",LOOKUP(A101,Personnel!A:A,Personnel!B:B)))","v":" "},{"$f":"IF(A101=0,\" \",IF(ISNA(MATCH(A101,Personnel!A:A,0)),\"وجود ندارد\",LOOKUP(A101,Personnel!A:A,Personnel!C:C)))","v":" "},null,null,null,null,null,null,null,null,"","",1,0," "," ",""," "," ","",null," "," ",",,,,,,,,,,,,"]
[null,{"$f":"IF(A102=0,\" \",IF(ISNA(MATCH(A102,Personnel!A:A,0)),\"وجود ندارد\",LOOKUP(A102,Personnel!A:A,Personnel!B:B)))","v":" "},{"$f":"IF(A102=0,\" \",IF(ISNA(MATCH(A102,Personnel!A:A,0)),\"وجود ندارد\",LOOKUP(A102,Personnel!A:A,Personnel!C:C)))","v":" "},null,null,null,null,null,null,null,null,"","",1,0," "," ",""," "," ","",null," "," ",",,,,,,,,,,,,"]
[null,{"$f":"IF(A103=0,\" \",IF(ISNA(MATCH(A103,Personnel!A:A,0)),\"وجود ندارد\",LOOKUP(A103,Personnel!A:A,Personnel!B:B)))","v":" "},{"$f":"IF(A103=0,\" \",IF(ISNA(MATCH(A103,Personnel!A:A,0)),\"وجود ندارد\",LOOKUP(A103,Personnel!A:A,Personnel!C:C)))","v":" "},null,null,null,null,null,null,null,null,"","",1,0," "," ",""," "," ","",null," "," ",",,,,,,,,,,,,"]
[null,{"$f":"IF(A104=0,\" \",IF(ISNA(MATCH(A104,Personnel!A:A,0)),\"وجود ندارد\",LOOKUP(A104,Personnel!A:A,Personnel!B:B)))","v":" "},{"$f":"IF(A104=0,\" \",IF(ISNA(MATCH(A104,Personnel!A:A,0)),\"وجود ندارد\",LOOKUP(A104,Personnel!A:A,Personnel!C:C)))","v":" "},null,null,null,null,null,null,null,null,"","",1,0," "," ",""," "," ","",null," "," ",",,,,,,,,,,,,"]
[null,{"$f":"IF(A105=0,\" \",IF(ISNA(MATCH(A105,Personnel!A:A,0)),\"وجود ندارد\",LOOKUP(A105,Personnel!A:A,Personnel!B:B)))","v":" "},{"$f":"IF(A105=0,\" \",IF(ISNA(MATCH(A105,Personnel!A:A,0)),\"وجود ندارد\",LOOKUP(A105,Personnel!A:A,Personnel!C:C)))","v":" "},null,null,null,null,null,null,null,null,"","",1,0," "," ",""," "," ","",null," "," ",",,,,,,,,,,,,"]
[null,{"$f":"IF(A106=0,\" \",IF(ISNA(MATCH(A106,Personnel!A:A,0)),\"وجود ندارد\",LOOKUP(A106,Personnel!A:A,Personnel!B:B)))","v":" "},{"$f":"IF(A106=0,\" \",IF(ISNA(MATCH(A106,Personnel!A:A,0)),\"وجود ندارد\",LOOKUP(A106,Personnel!A:A,Personnel!C:C)))","v":" "},null,null,null,null,null,null,null,null,"","",1,0," "," ",""," "," ","",null," "," ",",,,,,,,,,,,,"]
[null,{"$f":"IF(A107=0,\" \",IF(ISNA(MATCH(A107,Personnel!A:A,0)),\"وجود ندارد\",LOOKUP(A107,Personnel!A:A,Personnel!B:B)))","v":" "},{"$f":"IF(A107=0,\" \",IF(ISNA(MATCH(A107,Personnel!A:A,0)),\"وجود ندارد\",LOOKUP(A107,Personnel!A:A,Personnel!C:C)))","v":" "},null,null,null,null,null,null,null,null,"","",1,0," "," ",""," "," ","",null," "," ",",,,,,,,,,,,,"]
[null,{"$f":"IF(A108=0,\" \",IF(ISNA(MATCH(A108,Personnel!A:A,0)),\"وجود ندارد\",LOOKUP(A108,Personnel!A:A,Personnel!B:B)))","v":" "},{"$f":"IF(A108=0,\" \",IF(ISNA(MATCH(A108,Personnel!A:A,0)),\"وجود ندارد\",LOOKUP(A108,Personnel!A:A,Personnel!C:C)))","v":" "},null,null,null,null,null,null,null,null,"","",1,0," "," ",""," "," ","",null," "," ",",,,,,,,,,,,,"]
[null,{"$f":"IF(A109=0,\" \",IF(ISNA(MATCH(A109,Personnel!A:A,0)),\"وجود ندارد\",LOOKUP(A109,Personnel!A:A,Personnel!B:B)))","v":" "},{"$f":"IF(A109=0,\" \",IF(ISNA(MATCH(A109,Personnel!A:A,0)),\"وجود ندارد\",LOOKUP(A109,Personnel!A:A,Personnel!C:C)))","v":" "},null,null,null,null,null,null,null,null,"","",1,0," "," ",""," "," ","",null," "," ",",,,,,,,,,,,,"]
[null,{"$f":"IF(A110=0,\" \",IF(ISNA(MATCH(A110,Personnel!A:A,0)),\"وجود ندارد\",LOOKUP(A110,Personnel!A:A,Personnel!B:B)))","v":" "},{"$f":"IF(A110=0,\" \",IF(ISNA(MATCH(A110,Personnel!A:A,0)),\"وجود ندارد\",LOOKUP(A110,Personnel!A:A,Personnel!C:C)))","v":" "},null,null,null,null,null,null,null,null,"","",1,0," "," ",""," "," ","",null," "," ",",,,,,,,,,,,,"]
[null,{"$f":"IF(A111=0,\" \",IF(ISNA(MATCH(A111,Personnel!A:A,0)),\"وجود ندارد\",LOOKUP(A111,Personnel!A:A,Personnel!B:B)))","v":" "},{"$f":"IF(A111=0,\" \",IF(ISNA(MATCH(A111,Personnel!A:A,0)),\"وجود ندارد\",LOOKUP(A111,Personnel!A:A,Personnel!C:C)))","v":" "},null,null,null,null,null,null,null,null,"","",1,0," "," ",""," "," ","",null," "," ",",,,,,,,,,,,,"]
[null,{"$f":"IF(A112=0,\" \",IF(ISNA(MATCH(A112,Personnel!A:A,0)),\"وجود ندارد\",LOOKUP(A112,Personnel!A:A,Personnel!B:B)))","v":" "},{"$f":"IF(A112=0,\" \",IF(ISNA(MATCH(A112,Personnel!A:A,0)),\"وجود ندارد\",LOOKUP(A112,Personnel!A:A,Personnel!C:C)))","v":" "},null,null,null,null,null,null,null,null,"","",1,0," "," ",""," "," ","",null," "," ",",,,,,,,,,,,,"]
[null,{"$f":"IF(A113=0,\" \",IF(ISNA(MATCH(A113,Personnel!A:A,0)),\"وجود ندارد\",LOOKUP(A113,Personnel!A:A,Personnel!B:B)))","v":" "},{"$f":"IF(A113=0,\" \",IF(ISNA(MATCH(A113,Personnel!A:A,0)),\"وجود ندارد\",LOOKUP(A113,Personnel!A:A,Personnel!C:C)))","v":" "},null,null,null,null,null,null,null,null,"","",1,0," "," ",""," "," ","",null," "," ",",,,,,,,,,,,,"]
[null,{"$f":"IF(A114=0,\" \",IF(ISNA(MATCH(A114,Personnel!A:A,0)),\"وجود ندارد\",LOOKUP(A114,Personnel!A:A,Personnel!B:B)))","v":" "},{"$f":"IF(A114=0,\" \",IF(ISNA(MATCH(A114,Personnel!A:A,0)),\"وجود ندارد\",LOOKUP(A114,Personnel!A:A,Personnel!C:C)))","v":" "},null,null,null,null,null,null,null,null,"","",1,0," "," ",""," "," ","",null," "," ",",,,,,,,,,,,,"]
[null,{"$f":"IF(A115=0,\" \",IF(ISNA(MATCH(A115,Personnel!A:A,0)),\"وجود ندارد\",LOOKUP(A115,Personnel!A:A,Personnel!B:B)))","v":" "},{"$f":"IF(A115=0,\" \",IF(ISNA(MATCH(A115,Personnel!A:A,0)),\"وجود ندارد\",LOOKUP(A115,Personnel!A:A,Personnel!C:C)))","v":" "},null,null,null,null,null,null,null,null,"","",1,0," "," ",""," "," ","",null," "," ",",,,,,,,,,,,,"]
[null,{"$f":"IF(A116=0,\" \",IF(ISNA(MATCH(A116,Personnel!A:A,0)),\"وجود ندارد\",LOOKUP(A116,Personnel!A:A,Personnel!B:B)))","v":" "},{"$f":"IF(A116=0,\" \",IF(ISNA(MATCH(A116,Personnel!A:A,0)),\"وجود ندارد\",LOOKUP(A116,Personnel!A:A,Personnel!C:C)))","v":" "},null,null,null,null,null,null,null,null,"","",1,0," "," ",""," "," ","",null," "," ",",,,,,,,,,,,,"]
[null,{"$f":"IF(A117=0,\" \",IF(ISNA(MATCH(A117,Personnel!A:A,0)),\"وجود ندارد\",LOOKUP(A117,Personnel!A:A,Personnel!B:B)))","v":" "},{"$f":"IF(A117=0,\" \",IF(ISNA(MATCH(A117,Personnel!A:A,0)),\"وجود ندارد\",LOOKUP(A117,Personnel!A:A,Personnel!C:C)))","v":" "},null,null,null,null,null,null,null,null,"","",1,0," "," ",""," "," ","",null," "," ",",,,,,,,,,,,,"]
[null,{"$f":"IF(A118=0,\" \",IF(ISNA(MATCH(A118,Personnel!A:A,0)),\"وجود ندارد\",LOOKUP(A118,Personnel!A:A,Personnel!B:B)))","v":" "},{"$f":"IF(A118=0,\" \",IF(ISNA(MATCH(A118,Personnel!A:A,0)),\"وجود ندارد\",LOOKUP(A118,Personnel!A:A,Personnel!C:C)))","v":" "},null,null,null,null,null,null,null,null,"","",1,0," "," ",""," "," ","",null," "," ",",,,,,,,,,,,,"]
[null,{"$f":"IF(A119=0,\" \",IF(ISNA(MATCH(A119,Personnel!A:A,0)),\"وجود ندارد\",LOOKUP(A119,Personnel!A:A,Personnel!B:B)))","v":" "},{"$f":"IF(A119=0,\" \",IF(ISNA(MATCH(A119,Personnel!A:A,0)),\"وجود ندارد\",LOOKUP(A119,Personnel!A:A,Personnel!C:C)))","v":" "},null,null,null,null,null,null,null,null,"","",1,0," "," ",""," "," ","",null," "," ",",,,,,,,,,,,,"]
[null,{"$f":"IF(A120=0,\" \",IF(ISNA(MATCH(A120,Personnel!A:A,0)),\"وجود ندارد\",LOOKUP(A120,Personnel!A:A,Personnel!B:B)))","v":" "},{"$f":"IF(A120=0,\" \",IF(ISNA(MATCH(A120,Personnel!A:A,0)),\"وجود ندارد\",LOOKUP(A120,Personnel!A:A,Personnel!C:C)))","v":" "},null,null,null,null,null,null,null,null,"","",1,0," "," ",""," "," ","",null," "," ",",,,,,,,,,,,,"]
[null,{"$f":"IF(A121=0,\" \",IF(ISNA(MATCH(A121,Personnel!A:A,0)),\"وجود ندارد\",LOOKUP(A121,Personnel!A:A,Personnel!B:B)))","v":" "},{"$f":"IF(A121=0,\" \",IF(ISNA(MATCH(A121,Personnel!A:A,0)),\"وجود ندارد\",LOOKUP(A121,Personnel!A:A,Personnel!C:C)))","v":" "},null,null,null,null,null,null,null,null,"","",1,0," "," ",""," "," ","",null," "," ",",,,,,,,,,,,,"]
[null,{"$f":"IF(A122=0,\" \",IF(ISNA(MATCH(A122,Personnel!A:A,0)),\"وجود ندارد\",LOOKUP(A122,Personnel!A:A,Personnel!B:B)))","v":" "},{"$f":"IF(A122=0,\" \",IF(ISNA(MATCH(A122,Personnel!A:A,0)),\"وجود ندارد\",LOOKUP(A122,Personnel!A:A,Personnel!C:C)))","v":" "},null,null,null,null,null,null,null,null,"","",1,0," "," ",""," "," ","",null," "," ",",,,,,,,,,,,,"]
[null,{"$f":"IF(A123=0,\" \",IF(ISNA(MATCH(A123,Personnel!A:A,0)),\"وجود ندارد\",LOOKUP(A123,Personnel!A:A,Personnel!B:B)))","v":" "},{"$f":"IF(A123=0,\" \",IF(ISNA(MATCH(A123,Personnel!A:A,0)),\"وجود ندارد\",LOOKUP(A123,Personnel!A:A,Personnel!C:C)))","v":" "},null,null,null,null,null,null,null,null,"","",1,0," "," ",""," "," ","",null," "," ",",,,,,,,,,,,,"]
[null,{"$f":"IF(A124=0,\" \",IF(ISNA(MATCH(A124,Personnel!A:A,0)),\"وجود ندارد\",LOOKUP(A124,Personnel!A:A,Personnel!B:B)))","v":" "},{"$f":"IF(A124=0,\" \",IF(ISNA(MATCH(A124,Personnel!A:A,0)),\"وجود ندارد\",LOOKUP(A124,Personnel!A:A,Personnel!C:C)))","v":" "},null,null,null,null,null,null,null,null,"","",1,0," "," ",""," "," ","",null," "," ",",,,,,,,,,,,,"]
[null,{"$f":"IF(A125=0,\" \",IF(ISNA(MATCH(A125,Personnel!A:A,0)),\"وجود ندارد\",LOOKUP(A125,Personnel!A:A,Personnel!B:B)))","v":" "},{"$f":"IF(A125=0,\" \",IF(ISNA(MATCH(A125,Personnel!A:A,0)),\"وجود ندارد\",LOOKUP(A125,Personnel!A:A,Personnel!C:C)))","v":" "},null,null,null,null,null,null,null,null,"","",1,0," "," ",""," "," ","",null," "," ",",,,,,,,,,,,,"]
[null,{"$f":"IF(A126=0,\" \",IF(ISNA(MATCH(A126,Personnel!A:A,0)),\"وجود ندارد\",LOOKUP(A126,Personnel!A:A,Personnel!B:B)))","v":" "},{"$f":"IF(A126=0,\" \",IF(ISNA(MATCH(A126,Personnel!A:A,0)),\"وجود ندارد\",LOOKUP(A126,Personnel!A:A,Personnel!C:C)))","v":" "},null,null,null,null,null,null,null,null,"","",1,0," "," ",""," "," ","",null," "," ",",,,,,,,,,,,,"]
[null,{"$f":"IF(A127=0,\" \",IF(ISNA(MATCH(A127,Personnel!A:A,0)),\"وجود ندارد\",LOOKUP(A127,Personnel!A:A,Personnel!B:B)))","v":" "},{"$f":"IF(A127=0,\" \",IF(ISNA(MATCH(A127,Personnel!A:A,0)),\"وجود ندارد\",LOOKUP(A127,Personnel!A:A,Personnel!C:C)))","v":" "},null,null,null,null,null,null,null,null,"","",1,0," "," ",""," "," ","",null," "," ",",,,,,,,,,,,,"]
[null,{"$f":"IF(A128=0,\" \",IF(ISNA(MATCH(A128,Personnel!A:A,0)),\"وجود ندارد\",LOOKUP(A128,Personnel!A:A,Personnel!B:B)))","v":" "},{"$f":"IF(A128=0,\" \",IF(ISNA(MATCH(A128,Personnel!A:A,0)),\"وجود ندارد\",LOOKUP(A128,Personnel!A:A,Personnel!C:C)))","v":" "},null,null,null,null,null,null,null,null,"","",1,0," "," ",""," "," ","",null," "," ",",,,,,,,,,,,,"]
[null,{"$f":"IF(A129=0,\" \",IF(ISNA(MATCH(A129,Personnel!A:A,0)),\"وجود ندارد\",LOOKUP(A129,Personnel!A:A,Personnel!B:B)))","v":" "},{"$f":"IF(A129=0,\" \",IF(ISNA(MATCH(A129,Personnel!A:A,0)),\"وجود ندارد\",LOOKUP(A129,Personnel!A:A,Personnel!C:C)))","v":" "},null,null,null,null,null,null,null,null,"","",1,0," "," ",""," "," ","",null," "," ",",,,,,,,,,,,,"]
[null,{"$f":"IF(A130=0,\" \",IF(ISNA(MATCH(A130,Personnel!A:A,0)),\"وجود ندارد\",LOOKUP(A130,Personnel!A:A,Personnel!B:B)))","v":" "},{"$f":"IF(A130=0,\" \",IF(ISNA(MATCH(A130,Personnel!A:A,0)),\"وجود ندارد\",LOOKUP(A130,Personnel!A:A,Personnel!C:C)))","v":" "},null,null,null,null,null,null,null,null,"","",1,0,{"$f":"IF(A130=0,\" \",IF(N130+O130<>0,\"تاریخ اشتباه است\",\"\"))","v":" "},{"$f":"IF(A130=0,\" \",IF(AND(G130<>0,H130>G130),\"مبلغ قسط از مبلغ کل بیشتر است\",\"\"))","v":" "},""," ",{"$f":"IF(A130=0,\" \",IF(OR(K130<1,K130>3),\"نوع عمل اشتباه است\",\"\"))","v":" "},"",null," "," ",",,,,,,,,,,,,"]
[null,{"$f":"IF(A131=0,\" \",IF(ISNA(MATCH(A131,Personnel!A:A,0)),\"وجود ندارد\",LOOKUP(A131,Personnel!A:A,Personnel!B:B)))","v":" "},{"$f":"IF(A131=0,\" \",IF(ISNA(MATCH(A131,Personnel!A:A,0)),\"وجود ندارد\",LOOKUP(A131,Personnel!A:A,Personnel!C:C)))","v":" "},null,null,null,null,null,null,null,null,{"$f":"IF(K131=0,\"\",IF(K131=1,\"ایجاد\",IF(K131=2,\"اصلاح\",\"حذف\")))","v":""},{"$f":"IF(AND(K131=3,H131+I131+J131+F131+G131<>0),\"برای عمل حذف اطلاعات اضافی وارد شده است\",\"\")","v":""},{"$f":"IF(AND(K131<>3,F131<900000),1,0)","v":1},{"$f":"IF(F131>991231,1,0)","v":0}," "," ",{"$f":"IF(AND(A131=0,H131+I131+J131+F131+G131+K131+E131+D131<>0),\"در این ردیف شماره پرسنلی وجود ندارد اما اطلاعات دیگر وارد شده است\",\"\")","v":""},{"$f":"IF(A131=0,\" \",IF(D131=0,\"کد وام وارد نشده است\",\"\"))","v":" "}," ",{"$f":"IF(AND(OR(K131=1,K131=2),H131=0),\"مبلغ قسط نمی تواند خالی باشد\",\"\")","v":""},null,{"$f":"IF(AND(A131=0,A132<>0),\"دراین ردیف اصلاحاتی وجود ندارد . لطفا ردیفی را خالی باقی نگذارید\",IF(AND(A131=0,R131=\"\"),\" \",IF(M131&\",\"&P131&\",\"&Q131&\",\"&R131&\",\"&S131&\",\"&T131&\",\"&U131=\",,,,,,\",\"صحیح\",M131&\",\"&P131&\",\"&Q131&\",\"&R131&\",\"&S131&\",\"&T131&\",\"&U131)))","v":" "},{"$f":"IF(AND(ROW(X131)>$Z$2,W131=\" \"),\" \",IF(W131=\" \",IF(AND(A131=0,$Z$2<>$Z$4),\"دراین ردیف اصلاحاتی وجود ندارد . لطفا ردیفی را خالی نگذارید\",W131),W131))","v":" "},{"$f":"CONCATENATE(A131,\",\",D131,\",\",E131,\",\",F131,\",\",G131,\",\",H131,\",\",I131,\",\",K131,\",\",,\",\",J131,\",\",\",\",V131,\",\")","v":",,,,,,,,,,,,"}]
[null,{"$f":"IF(A132=0,\" \",IF(ISNA(MATCH(A132,Personnel!A:A,0)),\"وجود ندارد\",LOOKUP(A132,Personnel!A:A,Personnel!B:B)))","v":" "},{"$f":"IF(A132=0,\" \",IF(ISNA(MATCH(A132,Personnel!A:A,0)),\"وجود ندارد\",LOOKUP(A132,Personnel!A:A,Personnel!C:C)))","v":" "},null,null,null,null,null,null,null,null,"","",1,0," "," ",""," "," ","",null," "," ",",,,,,,,,,,,,"]
[null,{"$f":"IF(A133=0,\" \",IF(ISNA(MATCH(A133,Personnel!A:A,0)),\"وجود ندارد\",LOOKUP(A133,Personnel!A:A,Personnel!B:B)))","v":" "},{"$f":"IF(A133=0,\" \",IF(ISNA(MATCH(A133,Personnel!A:A,0)),\"وجود ندارد\",LOOKUP(A133,Personnel!A:A,Personnel!C:C)))","v":" "},null,null,null,null,null,null,null,null,"","",1,0," "," ",""," "," ","",null," "," ",",,,,,,,,,,,,"]
[null,{"$f":"IF(A134=0,\" \",IF(ISNA(MATCH(A134,Personnel!A:A,0)),\"وجود ندارد\",LOOKUP(A134,Personnel!A:A,Personnel!B:B)))","v":" "},{"$f":"IF(A134=0,\" \",IF(ISNA(MATCH(A134,Personnel!A:A,0)),\"وجود ندارد\",LOOKUP(A134,Personnel!A:A,Personnel!C:C)))","v":" "},null,null,null,null,null,null,null,null,"","",1,0," "," ",""," "," ","",null," "," ",",,,,,,,,,,,,"]
[null,{"$f":"IF(A135=0,\" \",IF(ISNA(MATCH(A135,Personnel!A:A,0)),\"وجود ندارد\",LOOKUP(A135,Personnel!A:A,Personnel!B:B)))","v":" "},{"$f":"IF(A135=0,\" \",IF(ISNA(MATCH(A135,Personnel!A:A,0)),\"وجود ندارد\",LOOKUP(A135,Personnel!A:A,Personnel!C:C)))","v":" "},null,null,null,null,null,null,null,null,"","",1,0," "," ",""," "," ","",null," "," ",",,,,,,,,,,,,"]
[null,{"$f":"IF(A136=0,\" \",IF(ISNA(MATCH(A136,Personnel!A:A,0)),\"وجود ندارد\",LOOKUP(A136,Personnel!A:A,Personnel!B:B)))","v":" "},{"$f":"IF(A136=0,\" \",IF(ISNA(MATCH(A136,Personnel!A:A,0)),\"وجود ندارد\",LOOKUP(A136,Personnel!A:A,Personnel!C:C)))","v":" "},null,null,null,null,null,null,null,null,"","",1,0," "," ",""," "," ","",null," "," ",",,,,,,,,,,,,"]
[null,{"$f":"IF(A137=0,\" \",IF(ISNA(MATCH(A137,Personnel!A:A,0)),\"وجود ندارد\",LOOKUP(A137,Personnel!A:A,Personnel!B:B)))","v":" "},{"$f":"IF(A137=0,\" \",IF(ISNA(MATCH(A137,Personnel!A:A,0)),\"وجود ندارد\",LOOKUP(A137,Personnel!A:A,Personnel!C:C)))","v":" "},null,null,null,null,null,null,null,null,"","",1,0," "," ",""," "," ","",null," "," ",",,,,,,,,,,,,"]
[null,{"$f":"IF(A138=0,\" \",IF(ISNA(MATCH(A138,Personnel!A:A,0)),\"وجود ندارد\",LOOKUP(A138,Personnel!A:A,Personnel!B:B)))","v":" "},{"$f":"IF(A138=0,\" \",IF(ISNA(MATCH(A138,Personnel!A:A,0)),\"وجود ندارد\",LOOKUP(A138,Personnel!A:A,Personnel!C:C)))","v":" "},null,null,null,null,null,null,null,null,"","",1,0," "," ",""," "," ","",null," "," ",",,,,,,,,,,,,"]
[null,{"$f":"IF(A139=0,\" \",IF(ISNA(MATCH(A139,Personnel!A:A,0)),\"وجود ندارد\",LOOKUP(A139,Personnel!A:A,Personnel!B:B)))","v":" "},{"$f":"IF(A139=0,\" \",IF(ISNA(MATCH(A139,Personnel!A:A,0)),\"وجود ندارد\",LOOKUP(A139,Personnel!A:A,Personnel!C:C)))","v":" "},null,null,null,null,null,null,null,null,"","",1,0," "," ",""," "," ","",null," "," ",",,,,,,,,,,,,"]
[null,{"$f":"IF(A140=0,\" \",IF(ISNA(MATCH(A140,Personnel!A:A,0)),\"وجود ندارد\",LOOKUP(A140,Personnel!A:A,Personnel!B:B)))","v":" "},{"$f":"IF(A140=0,\" \",IF(ISNA(MATCH(A140,Personnel!A:A,0)),\"وجود ندارد\",LOOKUP(A140,Personnel!A:A,Personnel!C:C)))","v":" "},null,null,null,null,null,null,null,null,"","",1,0," "," ",""," "," ","",null," "," ",",,,,,,,,,,,,"]
[null,{"$f":"IF(A141=0,\" \",IF(ISNA(MATCH(A141,Personnel!A:A,0)),\"وجود ندارد\",LOOKUP(A141,Personnel!A:A,Personnel!B:B)))","v":" "},{"$f":"IF(A141=0,\" \",IF(ISNA(MATCH(A141,Personnel!A:A,0)),\"وجود ندارد\",LOOKUP(A141,Personnel!A:A,Personnel!C:C)))","v":" "},null,null,null,null,null,null,null,null,"","",1,0," "," ",""," "," ","",null," "," ",",,,,,,,,,,,,"]
[null,{"$f":"IF(A142=0,\" \",IF(ISNA(MATCH(A142,Personnel!A:A,0)),\"وجود ندارد\",LOOKUP(A142,Personnel!A:A,Personnel!B:B)))","v":" "},{"$f":"IF(A142=0,\" \",IF(ISNA(MATCH(A142,Personnel!A:A,0)),\"وجود ندارد\",LOOKUP(A142,Personnel!A:A,Personnel!C:C)))","v":" "},null,null,null,null,null,null,null,null,"","",1,0," "," ",""," "," ","",null," "," ",",,,,,,,,,,,,"]
[null,{"$f":"IF(A143=0,\" \",IF(ISNA(MATCH(A143,Personnel!A:A,0)),\"وجود ندارد\",LOOKUP(A143,Personnel!A:A,Personnel!B:B)))","v":" "},{"$f":"IF(A143=0,\" \",IF(ISNA(MATCH(A143,Personnel!A:A,0)),\"وجود ندارد\",LOOKUP(A143,Personnel!A:A,Personnel!C:C)))","v":" "},null,null,null,null,null,null,null,null,"","",1,0," "," ",""," "," ","",null," "," ",",,,,,,,,,,,,"]
[null,{"$f":"IF(A144=0,\" \",IF(ISNA(MATCH(A144,Personnel!A:A,0)),\"وجود ندارد\",LOOKUP(A144,Personnel!A:A,Personnel!B:B)))","v":" "},{"$f":"IF(A144=0,\" \",IF(ISNA(MATCH(A144,Personnel!A:A,0)),\"وجود ندارد\",LOOKUP(A144,Personnel!A:A,Personnel!C:C)))","v":" "},null,null,null,null,null,null,null,null,"","",1,0," "," ",""," "," ","",null," "," ",",,,,,,,,,,,,"]
[null,{"$f":"IF(A145=0,\" \",IF(ISNA(MATCH(A145,Personnel!A:A,0)),\"وجود ندارد\",LOOKUP(A145,Personnel!A:A,Personnel!B:B)))","v":" "},{"$f":"IF(A145=0,\" \",IF(ISNA(MATCH(A145,Personnel!A:A,0)),\"وجود ندارد\",LOOKUP(A145,Personnel!A:A,Personnel!C:C)))","v":" "},null,null,null,null,null,null,null,null,"","",1,0," "," ",""," "," ","",null," "," ",",,,,,,,,,,,,"]
[null,{"$f":"IF(A146=0,\" \",IF(ISNA(MATCH(A146,Personnel!A:A,0)),\"وجود ندارد\",LOOKUP(A146,Personnel!A:A,Personnel!B:B)))","v":" "},{"$f":"IF(A146=0,\" \",IF(ISNA(MATCH(A146,Personnel!A:A,0)),\"وجود ندارد\",LOOKUP(A146,Personnel!A:A,Personnel!C:C)))","v":" "},null,null,null,null,null,null,null,null,"","",1,0," "," ",""," "," ","",null," "," ",",,,,,,,,,,,,"]
[null,{"$f":"IF(A147=0,\" \",IF(ISNA(MATCH(A147,Personnel!A:A,0)),\"وجود ندارد\",LOOKUP(A147,Personnel!A:A,Personnel!B:B)))","v":" "},{"$f":"IF(A147=0,\" \",IF(ISNA(MATCH(A147,Personnel!A:A,0)),\"وجود ندارد\",LOOKUP(A147,Personnel!A:A,Personnel!C:C)))","v":" "},null,null,null,null,null,null,null,null,"","",1,0," "," ",""," "," ","",null," "," ",",,,,,,,,,,,,"]
[null,{"$f":"IF(A148=0,\" \",IF(ISNA(MATCH(A148,Personnel!A:A,0)),\"وجود ندارد\",LOOKUP(A148,Personnel!A:A,Personnel!B:B)))","v":" "},{"$f":"IF(A148=0,\" \",IF(ISNA(MATCH(A148,Personnel!A:A,0)),\"وجود ندارد\",LOOKUP(A148,Personnel!A:A,Personnel!C:C)))","v":" "},null,null,null,null,null,null,null,null,"","",1,0," "," ",""," "," ","",null," "," ",",,,,,,,,,,,,"]
[null,{"$f":"IF(A149=0,\" \",IF(ISNA(MATCH(A149,Personnel!A:A,0)),\"وجود ندارد\",LOOKUP(A149,Personnel!A:A,Personnel!B:B)))","v":" "},{"$f":"IF(A149=0,\" \",IF(ISNA(MATCH(A149,Personnel!A:A,0)),\"وجود ندارد\",LOOKUP(A149,Personnel!A:A,Personnel!C:C)))","v":" "},null,null,null,null,null,null,null,null,"","",1,0," "," ",""," "," ","",null," "," ",",,,,,,,,,,,,"]
[null,{"$f":"IF(A150=0,\" \",IF(ISNA(MATCH(A150,Personnel!A:A,0)),\"وجود ندارد\",LOOKUP(A150,Personnel!A:A,Personnel!B:B)))","v":" "},{"$f":"IF(A150=0,\" \",IF(ISNA(MATCH(A150,Personnel!A:A,0)),\"وجود ندارد\",LOOKUP(A150,Personnel!A:A,Personnel!C:C)))","v":" "},null,null,null,null,null,null,null,null,"","",1,0," "," ",""," "," ","",null," "," ",",,,,,,,,,,,,"]
[null,{"$f":"IF(A151=0,\" \",IF(ISNA(MATCH(A151,Personnel!A:A,0)),\"وجود ندارد\",LOOKUP(A151,Personnel!A:A,Personnel!B:B)))","v":" "},{"$f":"IF(A151=0,\" \",IF(ISNA(MATCH(A151,Personnel!A:A,0)),\"وجود ندارد\",LOOKUP(A151,Personnel!A:A,Personnel!C:C)))","v":" "},null,null,null,null,null,null,null,null,"","",1,0," "," ",""," "," ","",null," "," ",",,,,,,,,,,,,"]
[null,{"$f":"IF(A152=0,\" \",IF(ISNA(MATCH(A152,Personnel!A:A,0)),\"وجود ندارد\",LOOKUP(A152,Personnel!A:A,Personnel!B:B)))","v":" "},{"$f":"IF(A152=0,\" \",IF(ISNA(MATCH(A152,Personnel!A:A,0)),\"وجود ندارد\",LOOKUP(A152,Personnel!A:A,Personnel!C:C)))","v":" "},null,null,null,null,null,null,null,null,"","",1,0," "," ",""," "," ","",null," "," ",",,,,,,,,,,,,"]
[null,{"$f":"IF(A153=0,\" \",IF(ISNA(MATCH(A153,Personnel!A:A,0)),\"وجود ندارد\",LOOKUP(A153,Personnel!A:A,Personnel!B:B)))","v":" "},{"$f":"IF(A153=0,\" \",IF(ISNA(MATCH(A153,Personnel!A:A,0)),\"وجود ندارد\",LOOKUP(A153,Personnel!A:A,Personnel!C:C)))","v":" "},null,null,null,null,null,null,null,null,"","",1,0," "," ",""," "," ","",null," "," ",",,,,,,,,,,,,"]
[null,{"$f":"IF(A154=0,\" \",IF(ISNA(MATCH(A154,Personnel!A:A,0)),\"وجود ندارد\",LOOKUP(A154,Personnel!A:A,Personnel!B:B)))","v":" "},{"$f":"IF(A154=0,\" \",IF(ISNA(MATCH(A154,Personnel!A:A,0)),\"وجود ندارد\",LOOKUP(A154,Personnel!A:A,Personnel!C:C)))","v":" "},null,null,null,null,null,null,null,null,"","",1,0," "," ",""," "," ","",null," "," ",",,,,,,,,,,,,"]
[null,{"$f":"IF(A155=0,\" \",IF(ISNA(MATCH(A155,Personnel!A:A,0)),\"وجود ندارد\",LOOKUP(A155,Personnel!A:A,Personnel!B:B)))","v":" "},{"$f":"IF(A155=0,\" \",IF(ISNA(MATCH(A155,Personnel!A:A,0)),\"وجود ندارد\",LOOKUP(A155,Personnel!A:A,Personnel!C:C)))","v":" "},null,null,null,null,null,null,null,null,"","",1,0," "," ",""," "," ","",null," "," ",",,,,,,,,,,,,"]
[null,{"$f":"IF(A156=0,\" \",IF(ISNA(MATCH(A156,Personnel!A:A,0)),\"وجود ندارد\",LOOKUP(A156,Personnel!A:A,Personnel!B:B)))","v":" "},{"$f":"IF(A156=0,\" \",IF(ISNA(MATCH(A156,Personnel!A:A,0)),\"وجود ندارد\",LOOKUP(A156,Personnel!A:A,Personnel!C:C)))","v":" "},null,null,null,null,null,null,null,null,"","",1,0," "," ",""," "," ","",null," "," ",",,,,,,,,,,,,"]
[null,{"$f":"IF(A157=0,\" \",IF(ISNA(MATCH(A157,Personnel!A:A,0)),\"وجود ندارد\",LOOKUP(A157,Personnel!A:A,Personnel!B:B)))","v":" "},{"$f":"IF(A157=0,\" \",IF(ISNA(MATCH(A157,Personnel!A:A,0)),\"وجود ندارد\",LOOKUP(A157,Personnel!A:A,Personnel!C:C)))","v":" "},null,null,null,null,null,null,null,null,"","",1,0," "," ",""," "," ","",null," "," ",",,,,,,,,,,,,"]
[null,{"$f":"IF(A158=0,\" \",IF(ISNA(MATCH(A158,Personnel!A:A,0)),\"وجود ندارد\",LOOKUP(A158,Personnel!A:A,Personnel!B:B)))","v":" "},{"$f":"IF(A158=0,\" \",IF(ISNA(MATCH(A158,Personnel!A:A,0)),\"وجود ندارد\",LOOKUP(A158,Personnel!A:A,Personnel!C:C)))","v":" "},null,null,null,null,null,null,null,null,"","",1,0," "," ",""," "," ","",null," "," ",",,,,,,,,,,,,"]
[null,{"$f":"IF(A159=0,\" \",IF(ISNA(MATCH(A159,Personnel!A:A,0)),\"وجود ندارد\",LOOKUP(A159,Personnel!A:A,Personnel!B:B)))","v":" "},{"$f":"IF(A159=0,\" \",IF(ISNA(MATCH(A159,Personnel!A:A,0)),\"وجود ندارد\",LOOKUP(A159,Personnel!A:A,Personnel!C:C)))","v":" "},null,null,null,null,null,null,null,null,"","",1,0," "," ",""," "," ","",null," "," ",",,,,,,,,,,,,"]
[null,{"$f":"IF(A160=0,\" \",IF(ISNA(MATCH(A160,Personnel!A:A,0)),\"وجود ندارد\",LOOKUP(A160,Personnel!A:A,Personnel!B:B)))","v":" "},{"$f":"IF(A160=0,\" \",IF(ISNA(MATCH(A160,Personnel!A:A,0)),\"وجود ندارد\",LOOKUP(A160,Personnel!A:A,Personnel!C:C)))","v":" "},null,null,null,null,null,null,null,null,"","",1,0," "," ",""," "," ","",null," "," ",",,,,,,,,,,,,"]
[null,{"$f":"IF(A161=0,\" \",IF(ISNA(MATCH(A161,Personnel!A:A,0)),\"وجود ندارد\",LOOKUP(A161,Personnel!A:A,Personnel!B:B)))","v":" "},{"$f":"IF(A161=0,\" \",IF(ISNA(MATCH(A161,Personnel!A:A,0)),\"وجود ندارد\",LOOKUP(A161,Personnel!A:A,Personnel!C:C)))","v":" "},null,null,null,null,null,null,null,null,"","",1,0," "," ",""," "," ","",null," "," ",",,,,,,,,,,,,"]
[null,{"$f":"IF(A162=0,\" \",IF(ISNA(MATCH(A162,Personnel!A:A,0)),\"وجود ندارد\",LOOKUP(A162,Personnel!A:A,Personnel!B:B)))","v":" "},{"$f":"IF(A162=0,\" \",IF(ISNA(MATCH(A162,Personnel!A:A,0)),\"وجود ندارد\",LOOKUP(A162,Personnel!A:A,Personnel!C:C)))","v":" "},null,null,null,null,null,null,null,null,"","",1,0," "," ",""," "," ","",null," "," ",",,,,,,,,,,,,"]
[null,{"$f":"IF(A163=0,\" \",IF(ISNA(MATCH(A163,Personnel!A:A,0)),\"وجود ندارد\",LOOKUP(A163,Personnel!A:A,Personnel!B:B)))","v":" "},{"$f":"IF(A163=0,\" \",IF(ISNA(MATCH(A163,Personnel!A:A,0)),\"وجود ندارد\",LOOKUP(A163,Personnel!A:A,Personnel!C:C)))","v":" "},null,null,null,null,null,null,null,null,"","",1,0," "," ",""," "," ","",null," "," ",",,,,,,,,,,,,"]
[null,{"$f":"IF(A164=0,\" \",IF(ISNA(MATCH(A164,Personnel!A:A,0)),\"وجود ندارد\",LOOKUP(A164,Personnel!A:A,Personnel!B:B)))","v":" "},{"$f":"IF(A164=0,\" \",IF(ISNA(MATCH(A164,Personnel!A:A,0)),\"وجود ندارد\",LOOKUP(A164,Personnel!A:A,Personnel!C:C)))","v":" "},null,null,null,null,null,null,null,null,"","",1,0," "," ",""," "," ","",null," "," ",",,,,,,,,,,,,"]
[null,{"$f":"IF(A165=0,\" \",IF(ISNA(MATCH(A165,Personnel!A:A,0)),\"وجود ندارد\",LOOKUP(A165,Personnel!A:A,Personnel!B:B)))","v":" "},{"$f":"IF(A165=0,\" \",IF(ISNA(MATCH(A165,Personnel!A:A,0)),\"وجود ندارد\",LOOKUP(A165,Personnel!A:A,Personnel!C:C)))","v":" "},null,null,null,null,null,null,null,null,"","",1,0," "," ",""," "," ","",null," "," ",",,,,,,,,,,,,"]
[null,{"$f":"IF(A166=0,\" \",IF(ISNA(MATCH(A166,Personnel!A:A,0)),\"وجود ندارد\",LOOKUP(A166,Personnel!A:A,Personnel!B:B)))","v":" "},{"$f":"IF(A166=0,\" \",IF(ISNA(MATCH(A166,Personnel!A:A,0)),\"وجود ندارد\",LOOKUP(A166,Personnel!A:A,Personnel!C:C)))","v":" "},null,null,null,null,null,null,null,null,"","",1,0," "," ",""," "," ","",null," "," ",",,,,,,,,,,,,"]
[null,{"$f":"IF(A167=0,\" \",IF(ISNA(MATCH(A167,Personnel!A:A,0)),\"وجود ندارد\",LOOKUP(A167,Personnel!A:A,Personnel!B:B)))","v":" "},{"$f":"IF(A167=0,\" \",IF(ISNA(MATCH(A167,Personnel!A:A,0)),\"وجود ندارد\",LOOKUP(A167,Personnel!A:A,Personnel!C:C)))","v":" "},null,null,null,null,null,null,null,null,"","",1,0," "," ",""," "," ","",null," "," ",",,,,,,,,,,,,"]
[null,{"$f":"IF(A168=0,\" \",IF(ISNA(MATCH(A168,Personnel!A:A,0)),\"وجود ندارد\",LOOKUP(A168,Personnel!A:A,Personnel!B:B)))","v":" "},{"$f":"IF(A168=0,\" \",IF(ISNA(MATCH(A168,Personnel!A:A,0)),\"وجود ندارد\",LOOKUP(A168,Personnel!A:A,Personnel!C:C)))","v":" "},null,null,null,null,null,null,null,null,"","",1,0," "," ",""," "," ","",null," "," ",",,,,,,,,,,,,"]
[null,{"$f":"IF(A169=0,\" \",IF(ISNA(MATCH(A169,Personnel!A:A,0)),\"وجود ندارد\",LOOKUP(A169,Personnel!A:A,Personnel!B:B)))","v":" "},{"$f":"IF(A169=0,\" \",IF(ISNA(MATCH(A169,Personnel!A:A,0)),\"وجود ندارد\",LOOKUP(A169,Personnel!A:A,Personnel!C:C)))","v":" "},null,null,null,null,null,null,null,null,"","",1,0," "," ",""," "," ","",null," "," ",",,,,,,,,,,,,"]
[null,{"$f":"IF(A170=0,\" \",IF(ISNA(MATCH(A170,Personnel!A:A,0)),\"وجود ندارد\",LOOKUP(A170,Personnel!A:A,Personnel!B:B)))","v":" "},{"$f":"IF(A170=0,\" \",IF(ISNA(MATCH(A170,Personnel!A:A,0)),\"وجود ندارد\",LOOKUP(A170,Personnel!A:A,Personnel!C:C)))","v":" "},null,null,null,null,null,null,null,null,"","",1,0," "," ",""," "," ","",null," "," ",",,,,,,,,,,,,"]
[null,{"$f":"IF(A171=0,\" \",IF(ISNA(MATCH(A171,Personnel!A:A,0)),\"وجود ندارد\",LOOKUP(A171,Personnel!A:A,Personnel!B:B)))","v":" "},{"$f":"IF(A171=0,\" \",IF(ISNA(MATCH(A171,Personnel!A:A,0)),\"وجود ندارد\",LOOKUP(A171,Personnel!A:A,Personnel!C:C)))","v":" "},null,null,null,null,null,null,null,null,"","",1,0," "," ",""," "," ","",null," "," ",",,,,,,,,,,,,"]
[null,{"$f":"IF(A172=0,\" \",IF(ISNA(MATCH(A172,Personnel!A:A,0)),\"وجود ندارد\",LOOKUP(A172,Personnel!A:A,Personnel!B:B)))","v":" "},{"$f":"IF(A172=0,\" \",IF(ISNA(MATCH(A172,Personnel!A:A,0)),\"وجود ندارد\",LOOKUP(A172,Personnel!A:A,Personnel!C:C)))","v":" "},null,null,null,null,null,null,null,null,"","",1,0," "," ",""," "," ","",null," "," ",",,,,,,,,,,,,"]
[null,{"$f":"IF(A173=0,\" \",IF(ISNA(MATCH(A173,Personnel!A:A,0)),\"وجود ندارد\",LOOKUP(A173,Personnel!A:A,Personnel!B:B)))","v":" "},{"$f":"IF(A173=0,\" \",IF(ISNA(MATCH(A173,Personnel!A:A,0)),\"وجود ندارد\",LOOKUP(A173,Personnel!A:A,Personnel!C:C)))","v":" "},null,null,null,null,null,null,null,null,"","",1,0," "," ",""," "," ","",null," "," ",",,,,,,,,,,,,"]
[null,{"$f":"IF(A174=0,\" \",IF(ISNA(MATCH(A174,Personnel!A:A,0)),\"وجود ندارد\",LOOKUP(A174,Personnel!A:A,Personnel!B:B)))","v":" "},{"$f":"IF(A174=0,\" \",IF(ISNA(MATCH(A174,Personnel!A:A,0)),\"وجود ندارد\",LOOKUP(A174,Personnel!A:A,Personnel!C:C)))","v":" "},null,null,null,null,null,null,null,null,"","",1,0," "," ",""," "," ","",null," "," ",",,,,,,,,,,,,"]
[null,{"$f":"IF(A175=0,\" \",IF(ISNA(MATCH(A175,Personnel!A:A,0)),\"وجود ندارد\",LOOKUP(A175,Personnel!A:A,Personnel!B:B)))","v":" "},{"$f":"IF(A175=0,\" \",IF(ISNA(MATCH(A175,Personnel!A:A,0)),\"وجود ندارد\",LOOKUP(A175,Personnel!A:A,Personnel!C:C)))","v":" "},null,null,null,null,null,null,null,null,"","",1,0," "," ",""," "," ","",null," "," ",",,,,,,,,,,,,"]
[null,{"$f":"IF(A176=0,\" \",IF(ISNA(MATCH(A176,Personnel!A:A,0)),\"وجود ندارد\",LOOKUP(A176,Personnel!A:A,Personnel!B:B)))","v":" "},{"$f":"IF(A176=0,\" \",IF(ISNA(MATCH(A176,Personnel!A:A,0)),\"وجود ندارد\",LOOKUP(A176,Personnel!A:A,Personnel!C:C)))","v":" "},null,null,null,null,null,null,null,null,"","",1,0," "," ",""," "," ","",null," "," ",",,,,,,,,,,,,"]
[null,{"$f":"IF(A177=0,\" \",IF(ISNA(MATCH(A177,Personnel!A:A,0)),\"وجود ندارد\",LOOKUP(A177,Personnel!A:A,Personnel!B:B)))","v":" "},{"$f":"IF(A177=0,\" \",IF(ISNA(MATCH(A177,Personnel!A:A,0)),\"وجود ندارد\",LOOKUP(A177,Personnel!A:A,Personnel!C:C)))","v":" "},null,null,null,null,null,null,null,null,"","",1,0," "," ",""," "," ","",null," "," ",",,,,,,,,,,,,"]
[null,{"$f":"IF(A178=0,\" \",IF(ISNA(MATCH(A178,Personnel!A:A,0)),\"وجود ندارد\",LOOKUP(A178,Personnel!A:A,Personnel!B:B)))","v":" "},{"$f":"IF(A178=0,\" \",IF(ISNA(MATCH(A178,Personnel!A:A,0)),\"وجود ندارد\",LOOKUP(A178,Personnel!A:A,Personnel!C:C)))","v":" "},null,null,null,null,null,null,null,null,"","",1,0," "," ",""," "," ","",null," "," ",",,,,,,,,,,,,"]
[null,{"$f":"IF(A179=0,\" \",IF(ISNA(MATCH(A179,Personnel!A:A,0)),\"وجود ندارد\",LOOKUP(A179,Personnel!A:A,Personnel!B:B)))","v":" "},{"$f":"IF(A179=0,\" \",IF(ISNA(MATCH(A179,Personnel!A:A,0)),\"وجود ندارد\",LOOKUP(A179,Personnel!A:A,Personnel!C:C)))","v":" "},null,null,null,null,null,null,null,null,"","",1,0," "," ",""," "," ","",null," "," ",",,,,,,,,,,,,"]
[null,{"$f":"IF(A180=0,\" \",IF(ISNA(MATCH(A180,Personnel!A:A,0)),\"وجود ندارد\",LOOKUP(A180,Personnel!A:A,Personnel!B:B)))","v":" "},{"$f":"IF(A180=0,\" \",IF(ISNA(MATCH(A180,Personnel!A:A,0)),\"وجود ندارد\",LOOKUP(A180,Personnel!A:A,Personnel!C:C)))","v":" "},null,null,null,null,null,null,null,null,"","",1,0," "," ",""," "," ","",null," "," ",",,,,,,,,,,,,"]
[null,{"$f":"IF(A181=0,\" \",IF(ISNA(MATCH(A181,Personnel!A:A,0)),\"وجود ندارد\",LOOKUP(A181,Personnel!A:A,Personnel!B:B)))","v":" "},{"$f":"IF(A181=0,\" \",IF(ISNA(MATCH(A181,Personnel!A:A,0)),\"وجود ندارد\",LOOKUP(A181,Personnel!A:A,Personnel!C:C)))","v":" "},null,null,null,null,null,null,null,null,"","",1,0," "," ",""," "," ","",null," "," ",",,,,,,,,,,,,"]
[null,{"$f":"IF(A182=0,\" \",IF(ISNA(MATCH(A182,Personnel!A:A,0)),\"وجود ندارد\",LOOKUP(A182,Personnel!A:A,Personnel!B:B)))","v":" "},{"$f":"IF(A182=0,\" \",IF(ISNA(MATCH(A182,Personnel!A:A,0)),\"وجود ندارد\",LOOKUP(A182,Personnel!A:A,Personnel!C:C)))","v":" "},null,null,null,null,null,null,null,null,"","",1,0," "," ",""," "," ","",null," "," ",",,,,,,,,,,,,"]
[null,{"$f":"IF(A183=0,\" \",IF(ISNA(MATCH(A183,Personnel!A:A,0)),\"وجود ندارد\",LOOKUP(A183,Personnel!A:A,Personnel!B:B)))","v":" "},{"$f":"IF(A183=0,\" \",IF(ISNA(MATCH(A183,Personnel!A:A,0)),\"وجود ندارد\",LOOKUP(A183,Personnel!A:A,Personnel!C:C)))","v":" "},null,null,null,null,null,null,null,null,"","",1,0," "," ",""," "," ","",null," "," ",",,,,,,,,,,,,"]
[null,{"$f":"IF(A184=0,\" \",IF(ISNA(MATCH(A184,Personnel!A:A,0)),\"وجود ندارد\",LOOKUP(A184,Personnel!A:A,Personnel!B:B)))","v":" "},{"$f":"IF(A184=0,\" \",IF(ISNA(MATCH(A184,Personnel!A:A,0)),\"وجود ندارد\",LOOKUP(A184,Personnel!A:A,Personnel!C:C)))","v":" "},null,null,null,null,null,null,null,null,"","",1,0," "," ",""," "," ","",null," "," ",",,,,,,,,,,,,"]
[null,{"$f":"IF(A185=0,\" \",IF(ISNA(MATCH(A185,Personnel!A:A,0)),\"وجود ندارد\",LOOKUP(A185,Personnel!A:A,Personnel!B:B)))","v":" "},{"$f":"IF(A185=0,\" \",IF(ISNA(MATCH(A185,Personnel!A:A,0)),\"وجود ندارد\",LOOKUP(A185,Personnel!A:A,Personnel!C:C)))","v":" "},null,null,null,null,null,null,null,null,"","",1,0," "," ",""," "," ","",null," "," ",",,,,,,,,,,,,"]
[null,{"$f":"IF(A186=0,\" \",IF(ISNA(MATCH(A186,Personnel!A:A,0)),\"وجود ندارد\",LOOKUP(A186,Personnel!A:A,Personnel!B:B)))","v":" "},{"$f":"IF(A186=0,\" \",IF(ISNA(MATCH(A186,Personnel!A:A,0)),\"وجود ندارد\",LOOKUP(A186,Personnel!A:A,Personnel!C:C)))","v":" "},null,null,null,null,null,null,null,null,"","",1,0," "," ",""," "," ","",null," "," ",",,,,,,,,,,,,"]
[null,{"$f":"IF(A187=0,\" \",IF(ISNA(MATCH(A187,Personnel!A:A,0)),\"وجود ندارد\",LOOKUP(A187,Personnel!A:A,Personnel!B:B)))","v":" "},{"$f":"IF(A187=0,\" \",IF(ISNA(MATCH(A187,Personnel!A:A,0)),\"وجود ندارد\",LOOKUP(A187,Personnel!A:A,Personnel!C:C)))","v":" "},null,null,null,null,null,null,null,null,"","",1,0," "," ",""," "," ","",null," "," ",",,,,,,,,,,,,"]
[null,{"$f":"IF(A188=0,\" \",IF(ISNA(MATCH(A188,Personnel!A:A,0)),\"وجود ندارد\",LOOKUP(A188,Personnel!A:A,Personnel!B:B)))","v":" "},{"$f":"IF(A188=0,\" \",IF(ISNA(MATCH(A188,Personnel!A:A,0)),\"وجود ندارد\",LOOKUP(A188,Personnel!A:A,Personnel!C:C)))","v":" "},null,null,null,null,null,null,null,null,"","",1,0," "," ",""," "," ","",null," "," ",",,,,,,,,,,,,"]
[null,{"$f":"IF(A189=0,\" \",IF(ISNA(MATCH(A189,Personnel!A:A,0)),\"وجود ندارد\",LOOKUP(A189,Personnel!A:A,Personnel!B:B)))","v":" "},{"$f":"IF(A189=0,\" \",IF(ISNA(MATCH(A189,Personnel!A:A,0)),\"وجود ندارد\",LOOKUP(A189,Personnel!A:A,Personnel!C:C)))","v":" "},null,null,null,null,null,null,null,null,"","",1,0," "," ",""," "," ","",null," "," ",",,,,,,,,,,,,"]
[null,{"$f":"IF(A190=0,\" \",IF(ISNA(MATCH(A190,Personnel!A:A,0)),\"وجود ندارد\",LOOKUP(A190,Personnel!A:A,Personnel!B:B)))","v":" "},{"$f":"IF(A190=0,\" \",IF(ISNA(MATCH(A190,Personnel!A:A,0)),\"وجود ندارد\",LOOKUP(A190,Personnel!A:A,Personnel!C:C)))","v":" "},null,null,null,null,null,null,null,null,"","",1,0," "," ",""," "," ","",null," "," ",",,,,,,,,,,,,"]
[null,{"$f":"IF(A191=0,\" \",IF(ISNA(MATCH(A191,Personnel!A:A,0)),\"وجود ندارد\",LOOKUP(A191,Personnel!A:A,Personnel!B:B)))","v":" "},{"$f":"IF(A191=0,\" \",IF(ISNA(MATCH(A191,Personnel!A:A,0)),\"وجود ندارد\",LOOKUP(A191,Personnel!A:A,Personnel!C:C)))","v":" "},null,null,null,null,null,null,null,null,"","",1,0," "," ",""," "," ","",null," "," ",",,,,,,,,,,,,"]
[null,{"$f":"IF(A192=0,\" \",IF(ISNA(MATCH(A192,Personnel!A:A,0)),\"وجود ندارد\",LOOKUP(A192,Personnel!A:A,Personnel!B:B)))","v":" "},{"$f":"IF(A192=0,\" \",IF(ISNA(MATCH(A192,Personnel!A:A,0)),\"وجود ندارد\",LOOKUP(A192,Personnel!A:A,Personnel!C:C)))","v":" "},null,null,null,null,null,null,null,null,"","",1,0," "," ",""," "," ","",null," "," ",",,,,,,,,,,,,"]
[null,{"$f":"IF(A193=0,\" \",IF(ISNA(MATCH(A193,Personnel!A:A,0)),\"وجود ندارد\",LOOKUP(A193,Personnel!A:A,Personnel!B:B)))","v":" "},{"$f":"IF(A193=0,\" \",IF(ISNA(MATCH(A193,Personnel!A:A,0)),\"وجود ندارد\",LOOKUP(A193,Personnel!A:A,Personnel!C:C)))","v":" "},null,null,null,null,null,null,null,null,"","",1,0," "," ",""," "," ","",null," "," ",",,,,,,,,,,,,"]
[null,{"$f":"IF(A194=0,\" \",IF(ISNA(MATCH(A194,Personnel!A:A,0)),\"وجود ندارد\",LOOKUP(A194,Personnel!A:A,Personnel!B:B)))","v":" "},{"$f":"IF(A194=0,\" \",IF(ISNA(MATCH(A194,Personnel!A:A,0)),\"وجود ندارد\",LOOKUP(A194,Personnel!A:A,Personnel!C:C)))","v":" "},null,null,null,null,null,null,null,null,"","",1,0,{"$f":"IF(A194=0,\" \",IF(N194+O194<>0,\"تاریخ اشتباه است\",\"\"))","v":" "},{"$f":"IF(A194=0,\" \",IF(AND(G194<>0,H194>G194),\"مبلغ قسط از مبلغ کل بیشتر است\",\"\"))","v":" "},""," ",{"$f":"IF(A194=0,\" \",IF(OR(K194<1,K194>3),\"نوع عمل اشتباه است\",\"\"))","v":" "},"",null," "," ",",,,,,,,,,,,,"]
[null,{"$f":"IF(A195=0,\" \",IF(ISNA(MATCH(A195,Personnel!A:A,0)),\"وجود ندارد\",LOOKUP(A195,Personnel!A:A,Personnel!B:B)))","v":" "},{"$f":"IF(A195=0,\" \",IF(ISNA(MATCH(A195,Personnel!A:A,0)),\"وجود ندارد\",LOOKUP(A195,Personnel!A:A,Personnel!C:C)))","v":" "},null,null,null,null,null,null,null,null,{"$f":"IF(K195=0,\"\",IF(K195=1,\"ایجاد\",IF(K195=2,\"اصلاح\",\"حذف\")))","v":""},{"$f":"IF(AND(K195=3,H195+I195+J195+F195+G195<>0),\"برای عمل حذف اطلاعات اضافی وارد شده است\",\"\")","v":""},{"$f":"IF(AND(K195<>3,F195<900000),1,0)","v":1},{"$f":"IF(F195>991231,1,0)","v":0}," "," ",{"$f":"IF(AND(A195=0,H195+I195+J195+F195+G195+K195+E195+D195<>0),\"در این ردیف شماره پرسنلی وجود ندارد اما اطلاعات دیگر وارد شده است\",\"\")","v":""},{"$f":"IF(A195=0,\" \",IF(D195=0,\"کد وام وارد نشده است\",\"\"))","v":" "}," ",{"$f":"IF(AND(OR(K195=1,K195=2),H195=0),\"مبلغ قسط نمی تواند خالی باشد\",\"\")","v":""},null,{"$f":"IF(AND(A195=0,A196<>0),\"دراین ردیف اصلاحاتی وجود ندارد . لطفا ردیفی را خالی باقی نگذارید\",IF(AND(A195=0,R195=\"\"),\" \",IF(M195&\",\"&P195&\",\"&Q195&\",\"&R195&\",\"&S195&\",\"&T195&\",\"&U195=\",,,,,,\",\"صحیح\",M195&\",\"&P195&\",\"&Q195&\",\"&R195&\",\"&S195&\",\"&T195&\",\"&U195)))","v":" "},{"$f":"IF(AND(ROW(X195)>$Z$2,W195=\" \"),\" \",IF(W195=\" \",IF(AND(A195=0,$Z$2<>$Z$4),\"دراین ردیف اصلاحاتی وجود ندارد . لطفا ردیفی را خالی نگذارید\",W195),W195))","v":" "},{"$f":"CONCATENATE(A195,\",\",D195,\",\",E195,\",\",F195,\",\",G195,\",\",H195,\",\",I195,\",\",K195,\",\",,\",\",J195,\",\",\",\",V195,\",\")","v":",,,,,,,,,,,,"}]
[null,{"$f":"IF(A196=0,\" \",IF(ISNA(MATCH(A196,Personnel!A:A,0)),\"وجود ندارد\",LOOKUP(A196,Personnel!A:A,Personnel!B:B)))","v":" "},{"$f":"IF(A196=0,\" \",IF(ISNA(MATCH(A196,Personnel!A:A,0)),\"وجود ندارد\",LOOKUP(A196,Personnel!A:A,Personnel!C:C)))","v":" "},null,null,null,null,null,null,null,null,"","",1,0," "," ",""," "," ","",null," "," ",",,,,,,,,,,,,"]
[null,{"$f":"IF(A197=0,\" \",IF(ISNA(MATCH(A197,Personnel!A:A,0)),\"وجود ندارد\",LOOKUP(A197,Personnel!A:A,Personnel!B:B)))","v":" "},{"$f":"IF(A197=0,\" \",IF(ISNA(MATCH(A197,Personnel!A:A,0)),\"وجود ندارد\",LOOKUP(A197,Personnel!A:A,Personnel!C:C)))","v":" "},null,null,null,null,null,null,null,null,"","",1,0," "," ",""," "," ","",null," "," ",",,,,,,,,,,,,"]
[null,{"$f":"IF(A198=0,\" \",IF(ISNA(MATCH(A198,Personnel!A:A,0)),\"وجود ندارد\",LOOKUP(A198,Personnel!A:A,Personnel!B:B)))","v":" "},{"$f":"IF(A198=0,\" \",IF(ISNA(MATCH(A198,Personnel!A:A,0)),\"وجود ندارد\",LOOKUP(A198,Personnel!A:A,Personnel!C:C)))","v":" "},null,null,null,null,null,null,null,null,"","",1,0," "," ",""," "," ","",null," "," ",",,,,,,,,,,,,"]
[null,{"$f":"IF(A199=0,\" \",IF(ISNA(MATCH(A199,Personnel!A:A,0)),\"وجود ندارد\",LOOKUP(A199,Personnel!A:A,Personnel!B:B)))","v":" "},{"$f":"IF(A199=0,\" \",IF(ISNA(MATCH(A199,Personnel!A:A,0)),\"وجود ندارد\",LOOKUP(A199,Personnel!A:A,Personnel!C:C)))","v":" "},null,null,null,null,null,null,null,null,"","",1,0," "," ",""," "," ","",null," "," ",",,,,,,,,,,,,"]
[null,{"$f":"IF(A200=0,\" \",IF(ISNA(MATCH(A200,Personnel!A:A,0)),\"وجود ندارد\",LOOKUP(A200,Personnel!A:A,Personnel!B:B)))","v":" "},{"$f":"IF(A200=0,\" \",IF(ISNA(MATCH(A200,Personnel!A:A,0)),\"وجود ندارد\",LOOKUP(A200,Personnel!A:A,Personnel!C:C)))","v":" "},null,null,null,null,null,null,null,null,"","",1,0," "," ",""," "," ","",null," "," ",",,,,,,,,,,,,"]
[null,{"$f":"IF(A201=0,\" \",IF(ISNA(MATCH(A201,Personnel!A:A,0)),\"وجود ندارد\",LOOKUP(A201,Personnel!A:A,Personnel!B:B)))","v":" "},{"$f":"IF(A201=0,\" \",IF(ISNA(MATCH(A201,Personnel!A:A,0)),\"وجود ندارد\",LOOKUP(A201,Personnel!A:A,Personnel!C:C)))","v":" "},null,null,null,null,null,null,null,null,"","",1,0," "," ",""," "," ","",null," "," ",",,,,,,,,,,,,"]
[null,{"$f":"IF(A202=0,\" \",IF(ISNA(MATCH(A202,Personnel!A:A,0)),\"وجود ندارد\",LOOKUP(A202,Personnel!A:A,Personnel!B:B)))","v":" "},{"$f":"IF(A202=0,\" \",IF(ISNA(MATCH(A202,Personnel!A:A,0)),\"وجود ندارد\",LOOKUP(A202,Personnel!A:A,Personnel!C:C)))","v":" "},null,null,null,null,null,null,null,null,"","",1,0," "," ",""," "," ","",null," "," ",",,,,,,,,,,,,"]
[null,{"$f":"IF(A203=0,\" \",IF(ISNA(MATCH(A203,Personnel!A:A,0)),\"وجود ندارد\",LOOKUP(A203,Personnel!A:A,Personnel!B:B)))","v":" "},{"$f":"IF(A203=0,\" \",IF(ISNA(MATCH(A203,Personnel!A:A,0)),\"وجود ندارد\",LOOKUP(A203,Personnel!A:A,Personnel!C:C)))","v":" "},null,null,null,null,null,null,null,null,"","",1,0," "," ",""," "," ","",null," "," ",",,,,,,,,,,,,"]
[null,{"$f":"IF(A204=0,\" \",IF(ISNA(MATCH(A204,Personnel!A:A,0)),\"وجود ندارد\",LOOKUP(A204,Personnel!A:A,Personnel!B:B)))","v":" "},{"$f":"IF(A204=0,\" \",IF(ISNA(MATCH(A204,Personnel!A:A,0)),\"وجود ندارد\",LOOKUP(A204,Personnel!A:A,Personnel!C:C)))","v":" "},null,null,null,null,null,null,null,null,"","",1,0," "," ",""," "," ","",null," "," ",",,,,,,,,,,,,"]
[null,{"$f":"IF(A205=0,\" \",IF(ISNA(MATCH(A205,Personnel!A:A,0)),\"وجود ندارد\",LOOKUP(A205,Personnel!A:A,Personnel!B:B)))","v":" "},{"$f":"IF(A205=0,\" \",IF(ISNA(MATCH(A205,Personnel!A:A,0)),\"وجود ندارد\",LOOKUP(A205,Personnel!A:A,Personnel!C:C)))","v":" "},null,null,null,null,null,null,null,null,"","",1,0," "," ",""," "," ","",null," "," ",",,,,,,,,,,,,"]
[null,{"$f":"IF(A206=0,\" \",IF(ISNA(MATCH(A206,Personnel!A:A,0)),\"وجود ندارد\",LOOKUP(A206,Personnel!A:A,Personnel!B:B)))","v":" "},{"$f":"IF(A206=0,\" \",IF(ISNA(MATCH(A206,Personnel!A:A,0)),\"وجود ندارد\",LOOKUP(A206,Personnel!A:A,Personnel!C:C)))","v":" "},null,null,null,null,null,null,null,null,"","",1,0," "," ",""," "," ","",null," "," ",",,,,,,,,,,,,"]
[null,{"$f":"IF(A207=0,\" \",IF(ISNA(MATCH(A207,Personnel!A:A,0)),\"وجود ندارد\",LOOKUP(A207,Personnel!A:A,Personnel!B:B)))","v":" "},{"$f":"IF(A207=0,\" \",IF(ISNA(MATCH(A207,Personnel!A:A,0)),\"وجود ندارد\",LOOKUP(A207,Personnel!A:A,Personnel!C:C)))","v":" "},null,null,null,null,null,null,null,null,"","",1,0," "," ",""," "," ","",null," "," ",",,,,,,,,,,,,"]
[null,{"$f":"IF(A208=0,\" \",IF(ISNA(MATCH(A208,Personnel!A:A,0)),\"وجود ندارد\",LOOKUP(A208,Personnel!A:A,Personnel!B:B)))","v":" "},{"$f":"IF(A208=0,\" \",IF(ISNA(MATCH(A208,Personnel!A:A,0)),\"وجود ندارد\",LOOKUP(A208,Personnel!A:A,Personnel!C:C)))","v":" "},null,null,null,null,null,null,null,null,"","",1,0," "," ",""," "," ","",null," "," ",",,,,,,,,,,,,"]
[null,{"$f":"IF(A209=0,\" \",IF(ISNA(MATCH(A209,Personnel!A:A,0)),\"وجود ندارد\",LOOKUP(A209,Personnel!A:A,Personnel!B:B)))","v":" "},{"$f":"IF(A209=0,\" \",IF(ISNA(MATCH(A209,Personnel!A:A,0)),\"وجود ندارد\",LOOKUP(A209,Personnel!A:A,Personnel!C:C)))","v":" "},null,null,null,null,null,null,null,null,"","",1,0," "," ",""," "," ","",null," "," ",",,,,,,,,,,,,"]
[null,{"$f":"IF(A210=0,\" \",IF(ISNA(MATCH(A210,Personnel!A:A,0)),\"وجود ندارد\",LOOKUP(A210,Personnel!A:A,Personnel!B:B)))","v":" "},{"$f":"IF(A210=0,\" \",IF(ISNA(MATCH(A210,Personnel!A:A,0)),\"وجود ندارد\",LOOKUP(A210,Personnel!A:A,Personnel!C:C)))","v":" "},null,null,null,null,null,null,null,null,"","",1,0," "," ",""," "," ","",null," "," ",",,,,,,,,,,,,"]
[null,{"$f":"IF(A211=0,\" \",IF(ISNA(MATCH(A211,Personnel!A:A,0)),\"وجود ندارد\",LOOKUP(A211,Personnel!A:A,Personnel!B:B)))","v":" "},{"$f":"IF(A211=0,\" \",IF(ISNA(MATCH(A211,Personnel!A:A,0)),\"وجود ندارد\",LOOKUP(A211,Personnel!A:A,Personnel!C:C)))","v":" "},null,null,null,null,null,null,null,null,"","",1,0," "," ",""," "," ","",null," "," ",",,,,,,,,,,,,"]
[null,{"$f":"IF(A212=0,\" \",IF(ISNA(MATCH(A212,Personnel!A:A,0)),\"وجود ندارد\",LOOKUP(A212,Personnel!A:A,Personnel!B:B)))","v":" "},{"$f":"IF(A212=0,\" \",IF(ISNA(MATCH(A212,Personnel!A:A,0)),\"وجود ندارد\",LOOKUP(A212,Personnel!A:A,Personnel!C:C)))","v":" "},null,null,null,null,null,null,null,null,"","",1,0," "," ",""," "," ","",null," "," ",",,,,,,,,,,,,"]
[null,{"$f":"IF(A213=0,\" \",IF(ISNA(MATCH(A213,Personnel!A:A,0)),\"وجود ندارد\",LOOKUP(A213,Personnel!A:A,Personnel!B:B)))","v":" "},{"$f":"IF(A213=0,\" \",IF(ISNA(MATCH(A213,Personnel!A:A,0)),\"وجود ندارد\",LOOKUP(A213,Personnel!A:A,Personnel!C:C)))","v":" "},null,null,null,null,null,null,null,null,"","",1,0," "," ",""," "," ","",null," "," ",",,,,,,,,,,,,"]
[null,{"$f":"IF(A214=0,\" \",IF(ISNA(MATCH(A214,Personnel!A:A,0)),\"وجود ندارد\",LOOKUP(A214,Personnel!A:A,Personnel!B:B)))","v":" "},{"$f":"IF(A214=0,\" \",IF(ISNA(MATCH(A214,Personnel!A:A,0)),\"وجود ندارد\",LOOKUP(A214,Personnel!A:A,Personnel!C:C)))","v":" "},null,null,null,null,null,null,null,null,"","",1,0," "," ",""," "," ","",null," "," ",",,,,,,,,,,,,"]
[null,{"$f":"IF(A215=0,\" \",IF(ISNA(MATCH(A215,Personnel!A:A,0)),\"وجود ندارد\",LOOKUP(A215,Personnel!A:A,Personnel!B:B)))","v":" "},{"$f":"IF(A215=0,\" \",IF(ISNA(MATCH(A215,Personnel!A:A,0)),\"وجود ندارد\",LOOKUP(A215,Personnel!A:A,Personnel!C:C)))","v":" "},null,null,null,null,null,null,null,null,"","",1,0," "," ",""," "," ","",null," "," ",",,,,,,,,,,,,"]
[null,{"$f":"IF(A216=0,\" \",IF(ISNA(MATCH(A216,Personnel!A:A,0)),\"وجود ندارد\",LOOKUP(A216,Personnel!A:A,Personnel!B:B)))","v":" "},{"$f":"IF(A216=0,\" \",IF(ISNA(MATCH(A216,Personnel!A:A,0)),\"وجود ندارد\",LOOKUP(A216,Personnel!A:A,Personnel!C:C)))","v":" "},null,null,null,null,null,null,null,null,"","",1,0," "," ",""," "," ","",null," "," ",",,,,,,,,,,,,"]
[null,{"$f":"IF(A217=0,\" \",IF(ISNA(MATCH(A217,Personnel!A:A,0)),\"وجود ندارد\",LOOKUP(A217,Personnel!A:A,Personnel!B:B)))","v":" "},{"$f":"IF(A217=0,\" \",IF(ISNA(MATCH(A217,Personnel!A:A,0)),\"وجود ندارد\",LOOKUP(A217,Personnel!A:A,Personnel!C:C)))","v":" "},null,null,null,null,null,null,null,null,"","",1,0," "," ",""," "," ","",null," "," ",",,,,,,,,,,,,"]
[null,{"$f":"IF(A218=0,\" \",IF(ISNA(MATCH(A218,Personnel!A:A,0)),\"وجود ندارد\",LOOKUP(A218,Personnel!A:A,Personnel!B:B)))","v":" "},{"$f":"IF(A218=0,\" \",IF(ISNA(MATCH(A218,Personnel!A:A,0)),\"وجود ندارد\",LOOKUP(A218,Personnel!A:A,Personnel!C:C)))","v":" "},null,null,null,null,null,null,null,null,"","",1,0," "," ",""," "," ","",null," "," ",",,,,,,,,,,,,"]
[null,{"$f":"IF(A219=0,\" \",IF(ISNA(MATCH(A219,Personnel!A:A,0)),\"وجود ندارد\",LOOKUP(A219,Personnel!A:A,Personnel!B:B)))","v":" "},{"$f":"IF(A219=0,\" \",IF(ISNA(MATCH(A219,Personnel!A:A,0)),\"وجود ندارد\",LOOKUP(A219,Personnel!A:A,Personnel!C:C)))","v":" "},null,null,null,null,null,null,null,null,"","",1,0," "," ",""," "," ","",null," "," ",",,,,,,,,,,,,"]
[null,{"$f":"IF(A220=0,\" \",IF(ISNA(MATCH(A220,Personnel!A:A,0)),\"وجود ندارد\",LOOKUP(A220,Personnel!A:A,Personnel!B:B)))","v":" "},{"$f":"IF(A220=0,\" \",IF(ISNA(MATCH(A220,Personnel!A:A,0)),\"وجود ندارد\",LOOKUP(A220,Personnel!A:A,Personnel!C:C)))","v":" "},null,null,null,null,null,null,null,null,"","",1,0," "," ",""," "," ","",null," "," ",",,,,,,,,,,,,"]
[null,{"$f":"IF(A221=0,\" \",IF(ISNA(MATCH(A221,Personnel!A:A,0)),\"وجود ندارد\",LOOKUP(A221,Personnel!A:A,Personnel!B:B)))","v":" "},{"$f":"IF(A221=0,\" \",IF(ISNA(MATCH(A221,Personnel!A:A,0)),\"وجود ندارد\",LOOKUP(A221,Personnel!A:A,Personnel!C:C)))","v":" "},null,null,null,null,null,null,null,null,"","",1,0," "," ",""," "," ","",null," "," ",",,,,,,,,,,,,"]
[null,{"$f":"IF(A222=0,\" \",IF(ISNA(MATCH(A222,Personnel!A:A,0)),\"وجود ندارد\",LOOKUP(A222,Personnel!A:A,Personnel!B:B)))","v":" "},{"$f":"IF(A222=0,\" \",IF(ISNA(MATCH(A222,Personnel!A:A,0)),\"وجود ندارد\",LOOKUP(A222,Personnel!A:A,Personnel!C:C)))","v":" "},null,null,null,null,null,null,null,null,"","",1,0," "," ",""," "," ","",null," "," ",",,,,,,,,,,,,"]
[null,{"$f":"IF(A223=0,\" \",IF(ISNA(MATCH(A223,Personnel!A:A,0)),\"وجود ندارد\",LOOKUP(A223,Personnel!A:A,Personnel!B:B)))","v":" "},{"$f":"IF(A223=0,\" \",IF(ISNA(MATCH(A223,Personnel!A:A,0)),\"وجود ندارد\",LOOKUP(A223,Personnel!A:A,Personnel!C:C)))","v":" "},null,null,null,null,null,null,null,null,"","",1,0," "," ",""," "," ","",null," "," ",",,,,,,,,,,,,"]
[null,{"$f":"IF(A224=0,\" \",IF(ISNA(MATCH(A224,Personnel!A:A,0)),\"وجود ندارد\",LOOKUP(A224,Personnel!A:A,Personnel!B:B)))","v":" "},{"$f":"IF(A224=0,\" \",IF(ISNA(MATCH(A224,Personnel!A:A,0)),\"وجود ندارد\",LOOKUP(A224,Personnel!A:A,Personnel!C:C)))","v":" "},null,null,null,null,null,null,null,null,"","",1,0," "," ",""," "," ","",null," "," ",",,,,,,,,,,,,"]
[null,{"$f":"IF(A225=0,\" \",IF(ISNA(MATCH(A225,Personnel!A:A,0)),\"وجود ندارد\",LOOKUP(A225,Personnel!A:A,Personnel!B:B)))","v":" "},{"$f":"IF(A225=0,\" \",IF(ISNA(MATCH(A225,Personnel!A:A,0)),\"وجود ندارد\",LOOKUP(A225,Personnel!A:A,Personnel!C:C)))","v":" "},null,null,null,null,null,null,null,null,"","",1,0," "," ",""," "," ","",null," "," ",",,,,,,,,,,,,"]
[null,{"$f":"IF(A226=0,\" \",IF(ISNA(MATCH(A226,Personnel!A:A,0)),\"وجود ندارد\",LOOKUP(A226,Personnel!A:A,Personnel!B:B)))","v":" "},{"$f":"IF(A226=0,\" \",IF(ISNA(MATCH(A226,Personnel!A:A,0)),\"وجود ندارد\",LOOKUP(A226,Personnel!A:A,Personnel!C:C)))","v":" "},null,null,null,null,null,null,null,null,"","",1,0," "," ",""," "," ","",null," "," ",",,,,,,,,,,,,"]
[null,{"$f":"IF(A227=0,\" \",IF(ISNA(MATCH(A227,Personnel!A:A,0)),\"وجود ندارد\",LOOKUP(A227,Personnel!A:A,Personnel!B:B)))","v":" "},{"$f":"IF(A227=0,\" \",IF(ISNA(MATCH(A227,Personnel!A:A,0)),\"وجود ندارد\",LOOKUP(A227,Personnel!A:A,Personnel!C:C)))","v":" "},null,null,null,null,null,null,null,null,"","",1,0," "," ",""," "," ","",null," "," ",",,,,,,,,,,,,"]
[null,{"$f":"IF(A228=0,\" \",IF(ISNA(MATCH(A228,Personnel!A:A,0)),\"وجود ندارد\",LOOKUP(A228,Personnel!A:A,Personnel!B:B)))","v":" "},{"$f":"IF(A228=0,\" \",IF(ISNA(MATCH(A228,Personnel!A:A,0)),\"وجود ندارد\",LOOKUP(A228,Personnel!A:A,Personnel!C:C)))","v":" "},null,null,null,null,null,null,null,null,"","",1,0," "," ",""," "," ","",null," "," ",",,,,,,,,,,,,"]
[null,{"$f":"IF(A229=0,\" \",IF(ISNA(MATCH(A229,Personnel!A:A,0)),\"وجود ندارد\",LOOKUP(A229,Personnel!A:A,Personnel!B:B)))","v":" "},{"$f":"IF(A229=0,\" \",IF(ISNA(MATCH(A229,Personnel!A:A,0)),\"وجود ندارد\",LOOKUP(A229,Personnel!A:A,Personnel!C:C)))","v":" "},null,null,null,null,null,null,null,null,"","",1,0," "," ",""," "," ","",null," "," ",",,,,,,,,,,,,"]
[null,{"$f":"IF(A230=0,\" \",IF(ISNA(MATCH(A230,Personnel!A:A,0)),\"وجود ندارد\",LOOKUP(A230,Personnel!A:A,Personnel!B:B)))","v":" "},{"$f":"IF(A230=0,\" \",IF(ISNA(MATCH(A230,Personnel!A:A,0)),\"وجود ندارد\",LOOKUP(A230,Personnel!A:A,Personnel!C:C)))","v":" "},null,null,null,null,null,null,null,null,"","",1,0," "," ",""," "," ","",null," "," ",",,,,,,,,,,,,"]
[null,{"$f":"IF(A231=0,\" \",IF(ISNA(MATCH(A231,Personnel!A:A,0)),\"وجود ندارد\",LOOKUP(A231,Personnel!A:A,Personnel!B:B)))","v":" "},{"$f":"IF(A231=0,\" \",IF(ISNA(MATCH(A231,Personnel!A:A,0)),\"وجود ندارد\",LOOKUP(A231,Personnel!A:A,Personnel!C:C)))","v":" "},null,null,null,null,null,null,null,null,"","",1,0," "," ",""," "," ","",null," "," ",",,,,,,,,,,,,"]
[null,{"$f":"IF(A232=0,\" \",IF(ISNA(MATCH(A232,Personnel!A:A,0)),\"وجود ندارد\",LOOKUP(A232,Personnel!A:A,Personnel!B:B)))","v":" "},{"$f":"IF(A232=0,\" \",IF(ISNA(MATCH(A232,Personnel!A:A,0)),\"وجود ندارد\",LOOKUP(A232,Personnel!A:A,Personnel!C:C)))","v":" "},null,null,null,null,null,null,null,null,"","",1,0," "," ",""," "," ","",null," "," ",",,,,,,,,,,,,"]
[null,{"$f":"IF(A233=0,\" \",IF(ISNA(MATCH(A233,Personnel!A:A,0)),\"وجود ندارد\",LOOKUP(A233,Personnel!A:A,Personnel!B:B)))","v":" "},{"$f":"IF(A233=0,\" \",IF(ISNA(MATCH(A233,Personnel!A:A,0)),\"وجود ندارد\",LOOKUP(A233,Personnel!A:A,Personnel!C:C)))","v":" "},null,null,null,null,null,null,null,null,"","",1,0," "," ",""," "," ","",null," "," ",",,,,,,,,,,,,"]
[null,{"$f":"IF(A234=0,\" \",IF(ISNA(MATCH(A234,Personnel!A:A,0)),\"وجود ندارد\",LOOKUP(A234,Personnel!A:A,Personnel!B:B)))","v":" "},{"$f":"IF(A234=0,\" \",IF(ISNA(MATCH(A234,Personnel!A:A,0)),\"وجود ندارد\",LOOKUP(A234,Personnel!A:A,Personnel!C:C)))","v":" "},null,null,null,null,null,null,null,null,"","",1,0," "," ",""," "," ","",null," "," ",",,,,,,,,,,,,"]
[null,{"$f":"IF(A235=0,\" \",IF(ISNA(MATCH(A235,Personnel!A:A,0)),\"وجود ندارد\",LOOKUP(A235,Personnel!A:A,Personnel!B:B)))","v":" "},{"$f":"IF(A235=0,\" \",IF(ISNA(MATCH(A235,Personnel!A:A,0)),\"وجود ندارد\",LOOKUP(A235,Personnel!A:A,Personnel!C:C)))","v":" "},null,null,null,null,null,null,null,null,"","",1,0," "," ",""," "," ","",null," "," ",",,,,,,,,,,,,"]
[null,{"$f":"IF(A236=0,\" \",IF(ISNA(MATCH(A236,Personnel!A:A,0)),\"وجود ندارد\",LOOKUP(A236,Personnel!A:A,Personnel!B:B)))","v":" "},{"$f":"IF(A236=0,\" \",IF(ISNA(MATCH(A236,Personnel!A:A,0)),\"وجود ندارد\",LOOKUP(A236,Personnel!A:A,Personnel!C:C)))","v":" "},null,null,null,null,null,null,null,null,"","",1,0," "," ",""," "," ","",null," "," ",",,,,,,,,,,,,"]
[null,{"$f":"IF(A237=0,\" \",IF(ISNA(MATCH(A237,Personnel!A:A,0)),\"وجود ندارد\",LOOKUP(A237,Personnel!A:A,Personnel!B:B)))","v":" "},{"$f":"IF(A237=0,\" \",IF(ISNA(MATCH(A237,Personnel!A:A,0)),\"وجود ندارد\",LOOKUP(A237,Personnel!A:A,Personnel!C:C)))","v":" "},null,null,null,null,null,null,null,null,"","",1,0," "," ",""," "," ","",null," "," ",",,,,,,,,,,,,"]
[null,{"$f":"IF(A238=0,\" \",IF(ISNA(MATCH(A238,Personnel!A:A,0)),\"وجود ندارد\",LOOKUP(A238,Personnel!A:A,Personnel!B:B)))","v":" "},{"$f":"IF(A238=0,\" \",IF(ISNA(MATCH(A238,Personnel!A:A,0)),\"وجود ندارد\",LOOKUP(A238,Personnel!A:A,Personnel!C:C)))","v":" "},null,null,null,null,null,null,null,null,"","",1,0," "," ",""," "," ","",null," "," ",",,,,,,,,,,,,"]
[null,{"$f":"IF(A239=0,\" \",IF(ISNA(MATCH(A239,Personnel!A:A,0)),\"وجود ندارد\",LOOKUP(A239,Personnel!A:A,Personnel!B:B)))","v":" "},{"$f":"IF(A239=0,\" \",IF(ISNA(MATCH(A239,Personnel!A:A,0)),\"وجود ندارد\",LOOKUP(A239,Personnel!A:A,Personnel!C:C)))","v":" "},null,null,null,null,null,null,null,null,"","",1,0," "," ",""," "," ","",null," "," ",",,,,,,,,,,,,"]
[null,{"$f":"IF(A240=0,\" \",IF(ISNA(MATCH(A240,Personnel!A:A,0)),\"وجود ندارد\",LOOKUP(A240,Personnel!A:A,Personnel!B:B)))","v":" "},{"$f":"IF(A240=0,\" \",IF(ISNA(MATCH(A240,Personnel!A:A,0)),\"وجود ندارد\",LOOKUP(A240,Personnel!A:A,Personnel!C:C)))","v":" "},null,null,null,null,null,null,null,null,"","",1,0," "," ",""," "," ","",null," "," ",",,,,,,,,,,,,"]
[null,{"$f":"IF(A241=0,\" \",IF(ISNA(MATCH(A241,Personnel!A:A,0)),\"وجود ندارد\",LOOKUP(A241,Personnel!A:A,Personnel!B:B)))","v":" "},{"$f":"IF(A241=0,\" \",IF(ISNA(MATCH(A241,Personnel!A:A,0)),\"وجود ندارد\",LOOKUP(A241,Personnel!A:A,Personnel!C:C)))","v":" "},null,null,null,null,null,null,null,null,"","",1,0," "," ",""," "," ","",null," "," ",",,,,,,,,,,,,"]
[null,{"$f":"IF(A242=0,\" \",IF(ISNA(MATCH(A242,Personnel!A:A,0)),\"وجود ندارد\",LOOKUP(A242,Personnel!A:A,Personnel!B:B)))","v":" "},{"$f":"IF(A242=0,\" \",IF(ISNA(MATCH(A242,Personnel!A:A,0)),\"وجود ندارد\",LOOKUP(A242,Personnel!A:A,Personnel!C:C)))","v":" "},null,null,null,null,null,null,null,null,"","",1,0," "," ",""," "," ","",null," "," ",",,,,,,,,,,,,"]
[null,{"$f":"IF(A243=0,\" \",IF(ISNA(MATCH(A243,Personnel!A:A,0)),\"وجود ندارد\",LOOKUP(A243,Personnel!A:A,Personnel!B:B)))","v":" "},{"$f":"IF(A243=0,\" \",IF(ISNA(MATCH(A243,Personnel!A:A,0)),\"وجود ندارد\",LOOKUP(A243,Personnel!A:A,Personnel!C:C)))","v":" "},null,null,null,null,null,null,null,null,"","",1,0," "," ",""," "," ","",null," "," ",",,,,,,,,,,,,"]
[null,{"$f":"IF(A244=0,\" \",IF(ISNA(MATCH(A244,Personnel!A:A,0)),\"وجود ندارد\",LOOKUP(A244,Personnel!A:A,Personnel!B:B)))","v":" "},{"$f":"IF(A244=0,\" \",IF(ISNA(MATCH(A244,Personnel!A:A,0)),\"وجود ندارد\",LOOKUP(A244,Personnel!A:A,Personnel!C:C)))","v":" "},null,null,null,null,null,null,null,null,"","",1,0," "," ",""," "," ","",null," "," ",",,,,,,,,,,,,"]
[null,{"$f":"IF(A245=0,\" \",IF(ISNA(MATCH(A245,Personnel!A:A,0)),\"وجود ندارد\",LOOKUP(A245,Personnel!A:A,Personnel!B:B)))","v":" "},{"$f":"IF(A245=0,\" \",IF(ISNA(MATCH(A245,Personnel!A:A,0)),\"وجود ندارد\",LOOKUP(A245,Personnel!A:A,Personnel!C:C)))","v":" "},null,null,null,null,null,null,null,null,"","",1,0," "," ",""," "," ","",null," "," ",",,,,,,,,,,,,"]
[null,{"$f":"IF(A246=0,\" \",IF(ISNA(MATCH(A246,Personnel!A:A,0)),\"وجود ندارد\",LOOKUP(A246,Personnel!A:A,Personnel!B:B)))","v":" "},{"$f":"IF(A246=0,\" \",IF(ISNA(MATCH(A246,Personnel!A:A,0)),\"وجود ندارد\",LOOKUP(A246,Personnel!A:A,Personnel!C:C)))","v":" "},null,null,null,null,null,null,null,null,"","",1,0," "," ",""," "," ","",null," "," ",",,,,,,,,,,,,"]
[null,{"$f":"IF(A247=0,\" \",IF(ISNA(MATCH(A247,Personnel!A:A,0)),\"وجود ندارد\",LOOKUP(A247,Personnel!A:A,Personnel!B:B)))","v":" "},{"$f":"IF(A247=0,\" \",IF(ISNA(MATCH(A247,Personnel!A:A,0)),\"وجود ندارد\",LOOKUP(A247,Personnel!A:A,Personnel!C:C)))","v":" "},null,null,null,null,null,null,null,null,"","",1,0," "," ",""," "," ","",null," "," ",",,,,,,,,,,,,"]
[null,{"$f":"IF(A248=0,\" \",IF(ISNA(MATCH(A248,Personnel!A:A,0)),\"وجود ندارد\",LOOKUP(A248,Personnel!A:A,Personnel!B:B)))","v":" "},{"$f":"IF(A248=0,\" \",IF(ISNA(MATCH(A248,Personnel!A:A,0)),\"وجود ندارد\",LOOKUP(A248,Personnel!A:A,Personnel!C:C)))","v":" "},null,null,null,null,null,null,null,null,"","",1,0," "," ",""," "," ","",null," "," ",",,,,,,,,,,,,"]
[null,{"$f":"IF(A249=0,\" \",IF(ISNA(MATCH(A249,Personnel!A:A,0)),\"وجود ندارد\",LOOKUP(A249,Personnel!A:A,Personnel!B:B)))","v":" "},{"$f":"IF(A249=0,\" \",IF(ISNA(MATCH(A249,Personnel!A:A,0)),\"وجود ندارد\",LOOKUP(A249,Personnel!A:A,Personnel!C:C)))","v":" "},null,null,null,null,null,null,null,null,"","",1,0," "," ",""," "," ","",null," "," ",",,,,,,,,,,,,"]
[null,{"$f":"IF(A250=0,\" \",IF(ISNA(MATCH(A250,Personnel!A:A,0)),\"وجود ندارد\",LOOKUP(A250,Personnel!A:A,Personnel!B:B)))","v":" "},{"$f":"IF(A250=0,\" \",IF(ISNA(MATCH(A250,Personnel!A:A,0)),\"وجود ندارد\",LOOKUP(A250,Personnel!A:A,Personnel!C:C)))","v":" "},null,null,null,null,null,null,null,null,"","",1,0," "," ",""," "," ","",null," "," ",",,,,,,,,,,,,"]
[null,{"$f":"IF(A251=0,\" \",IF(ISNA(MATCH(A251,Personnel!A:A,0)),\"وجود ندارد\",LOOKUP(A251,Personnel!A:A,Personnel!B:B)))","v":" "},{"$f":"IF(A251=0,\" \",IF(ISNA(MATCH(A251,Personnel!A:A,0)),\"وجود ندارد\",LOOKUP(A251,Personnel!A:A,Personnel!C:C)))","v":" "},null,null,null,null,null,null,null,null,"","",1,0," "," ",""," "," ","",null," "," ",",,,,,,,,,,,,"]
[null,{"$f":"IF(A252=0,\" \",IF(ISNA(MATCH(A252,Personnel!A:A,0)),\"وجود ندارد\",LOOKUP(A252,Personnel!A:A,Personnel!B:B)))","v":" "},{"$f":"IF(A252=0,\" \",IF(ISNA(MATCH(A252,Personnel!A:A,0)),\"وجود ندارد\",LOOKUP(A252,Personnel!A:A,Personnel!C:C)))","v":" "},null,null,null,null,null,null,null,null,"","",1,0," "," ",""," "," ","",null," "," ",",,,,,,,,,,,,"]
[null,{"$f":"IF(A253=0,\" \",IF(ISNA(MATCH(A253,Personnel!A:A,0)),\"وجود ندارد\",LOOKUP(A253,Personnel!A:A,Personnel!B:B)))","v":" "},{"$f":"IF(A253=0,\" \",IF(ISNA(MATCH(A253,Personnel!A:A,0)),\"وجود ندارد\",LOOKUP(A253,Personnel!A:A,Personnel!C:C)))","v":" "},null,null,null,null,null,null,null,null,"","",1,0," "," ",""," "," ","",null," "," ",",,,,,,,,,,,,"]
[null,{"$f":"IF(A254=0,\" \",IF(ISNA(MATCH(A254,Personnel!A:A,0)),\"وجود ندارد\",LOOKUP(A254,Personnel!A:A,Personnel!B:B)))","v":" "},{"$f":"IF(A254=0,\" \",IF(ISNA(MATCH(A254,Personnel!A:A,0)),\"وجود ندارد\",LOOKUP(A254,Personnel!A:A,Personnel!C:C)))","v":" "},null,null,null,null,null,null,null,null,"","",1,0," "," ",""," "," ","",null," "," ",",,,,,,,,,,,,"]
[null,{"$f":"IF(A255=0,\" \",IF(ISNA(MATCH(A255,Personnel!A:A,0)),\"وجود ندارد\",LOOKUP(A255,Personnel!A:A,Personnel!B:B)))","v":" "},{"$f":"IF(A255=0,\" \",IF(ISNA(MATCH(A255,Personnel!A:A,0)),\"وجود ندارد\",LOOKUP(A255,Personnel!A:A,Personnel!C:C)))","v":" "},null,null,null,null,null,null,null,null,"","",1,0," "," ",""," "," ","",null," "," ",",,,,,,,,,,,,"]
[null,{"$f":"IF(A256=0,\" \",IF(ISNA(MATCH(A256,Personnel!A:A,0)),\"وجود ندارد\",LOOKUP(A256,Personnel!A:A,Personnel!B:B)))","v":" "},{"$f":"IF(A256=0,\" \",IF(ISNA(MATCH(A256,Personnel!A:A,0)),\"وجود ندارد\",LOOKUP(A256,Personnel!A:A,Personnel!C:C)))","v":" "},null,null,null,null,null,null,null,null,"","",1,0," "," ",""," "," ","",null," "," ",",,,,,,,,,,,,"]
[null,{"$f":"IF(A257=0,\" \",IF(ISNA(MATCH(A257,Personnel!A:A,0)),\"وجود ندارد\",LOOKUP(A257,Personnel!A:A,Personnel!B:B)))","v":" "},{"$f":"IF(A257=0,\" \",IF(ISNA(MATCH(A257,Personnel!A:A,0)),\"وجود ندارد\",LOOKUP(A257,Personnel!A:A,Personnel!C:C)))","v":" "},null,null,null,null,null,null,null,null,"","",1,0," "," ",""," "," ","",null," "," ",",,,,,,,,,,,,"]
[null,{"$f":"IF(A258=0,\" \",IF(ISNA(MATCH(A258,Personnel!A:A,0)),\"وجود ندارد\",LOOKUP(A258,Personnel!A:A,Personnel!B:B)))","v":" "},{"$f":"IF(A258=0,\" \",IF(ISNA(MATCH(A258,Personnel!A:A,0)),\"وجود ندارد\",LOOKUP(A258,Personnel!A:A,Personnel!C:C)))","v":" "},null,null,null,null,null,null,null,null,"","",1,0,{"$f":"IF(A258=0,\" \",IF(N258+O258<>0,\"تاریخ اشتباه است\",\"\"))","v":" "},{"$f":"IF(A258=0,\" \",IF(AND(G258<>0,H258>G258),\"مبلغ قسط از مبلغ کل بیشتر است\",\"\"))","v":" "},""," ",{"$f":"IF(A258=0,\" \",IF(OR(K258<1,K258>3),\"نوع عمل اشتباه است\",\"\"))","v":" "},"",null," "," ",",,,,,,,,,,,,"]
[null,{"$f":"IF(A259=0,\" \",IF(ISNA(MATCH(A259,Personnel!A:A,0)),\"وجود ندارد\",LOOKUP(A259,Personnel!A:A,Personnel!B:B)))","v":" "},{"$f":"IF(A259=0,\" \",IF(ISNA(MATCH(A259,Personnel!A:A,0)),\"وجود ندارد\",LOOKUP(A259,Personnel!A:A,Personnel!C:C)))","v":" "},null,null,null,null,null,null,null,null,{"$f":"IF(K259=0,\"\",IF(K259=1,\"ایجاد\",IF(K259=2,\"اصلاح\",\"حذف\")))","v":""},{"$f":"IF(AND(K259=3,H259+I259+J259+F259+G259<>0),\"برای عمل حذف اطلاعات اضافی وارد شده است\",\"\")","v":""},{"$f":"IF(AND(K259<>3,F259<900000),1,0)","v":1},{"$f":"IF(F259>991231,1,0)","v":0}," "," ",{"$f":"IF(AND(A259=0,H259+I259+J259+F259+G259+K259+E259+D259<>0),\"در این ردیف شماره پرسنلی وجود ندارد اما اطلاعات دیگر وارد شده است\",\"\")","v":""},{"$f":"IF(A259=0,\" \",IF(D259=0,\"کد وام وارد نشده است\",\"\"))","v":" "}," ",{"$f":"IF(AND(OR(K259=1,K259=2),H259=0),\"مبلغ قسط نمی تواند خالی باشد\",\"\")","v":""},null,{"$f":"IF(AND(A259=0,A260<>0),\"دراین ردیف اصلاحاتی وجود ندارد . لطفا ردیفی را خالی باقی نگذارید\",IF(AND(A259=0,R259=\"\"),\" \",IF(M259&\",\"&P259&\",\"&Q259&\",\"&R259&\",\"&S259&\",\"&T259&\",\"&U259=\",,,,,,\",\"صحیح\",M259&\",\"&P259&\",\"&Q259&\",\"&R259&\",\"&S259&\",\"&T259&\",\"&U259)))","v":" "},{"$f":"IF(AND(ROW(X259)>$Z$2,W259=\" \"),\" \",IF(W259=\" \",IF(AND(A259=0,$Z$2<>$Z$4),\"دراین ردیف اصلاحاتی وجود ندارد . لطفا ردیفی را خالی نگذارید\",W259),W259))","v":" "},{"$f":"CONCATENATE(A259,\",\",D259,\",\",E259,\",\",F259,\",\",G259,\",\",H259,\",\",I259,\",\",K259,\",\",,\",\",J259,\",\",\",\",V259,\",\")","v":",,,,,,,,,,,,"}]
[null,{"$f":"IF(A260=0,\" \",IF(ISNA(MATCH(A260,Personnel!A:A,0)),\"وجود ندارد\",LOOKUP(A260,Personnel!A:A,Personnel!B:B)))","v":" "},{"$f":"IF(A260=0,\" \",IF(ISNA(MATCH(A260,Personnel!A:A,0)),\"وجود ندارد\",LOOKUP(A260,Personnel!A:A,Personnel!C:C)))","v":" "},null,null,null,null,null,null,null,null,"","",1,0," "," ",""," "," ","",null," "," ",",,,,,,,,,,,,"]
[null,{"$f":"IF(A261=0,\" \",IF(ISNA(MATCH(A261,Personnel!A:A,0)),\"وجود ندارد\",LOOKUP(A261,Personnel!A:A,Personnel!B:B)))","v":" "},{"$f":"IF(A261=0,\" \",IF(ISNA(MATCH(A261,Personnel!A:A,0)),\"وجود ندارد\",LOOKUP(A261,Personnel!A:A,Personnel!C:C)))","v":" "},null,null,null,null,null,null,null,null,"","",1,0," "," ",""," "," ","",null," "," ",",,,,,,,,,,,,"]
[null,{"$f":"IF(A262=0,\" \",IF(ISNA(MATCH(A262,Personnel!A:A,0)),\"وجود ندارد\",LOOKUP(A262,Personnel!A:A,Personnel!B:B)))","v":" "},{"$f":"IF(A262=0,\" \",IF(ISNA(MATCH(A262,Personnel!A:A,0)),\"وجود ندارد\",LOOKUP(A262,Personnel!A:A,Personnel!C:C)))","v":" "},null,null,null,null,null,null,null,null,"","",1,0," "," ",""," "," ","",null," "," ",",,,,,,,,,,,,"]
[null,{"$f":"IF(A263=0,\" \",IF(ISNA(MATCH(A263,Personnel!A:A,0)),\"وجود ندارد\",LOOKUP(A263,Personnel!A:A,Personnel!B:B)))","v":" "},{"$f":"IF(A263=0,\" \",IF(ISNA(MATCH(A263,Personnel!A:A,0)),\"وجود ندارد\",LOOKUP(A263,Personnel!A:A,Personnel!C:C)))","v":" "},null,null,null,null,null,null,null,null,"","",1,0," "," ",""," "," ","",null," "," ",",,,,,,,,,,,,"]
[null,{"$f":"IF(A264=0,\" \",IF(ISNA(MATCH(A264,Personnel!A:A,0)),\"وجود ندارد\",LOOKUP(A264,Personnel!A:A,Personnel!B:B)))","v":" "},{"$f":"IF(A264=0,\" \",IF(ISNA(MATCH(A264,Personnel!A:A,0)),\"وجود ندارد\",LOOKUP(A264,Personnel!A:A,Personnel!C:C)))","v":" "},null,null,null,null,null,null,null,null,"","",1,0," "," ",""," "," ","",null," "," ",",,,,,,,,,,,,"]
[null,{"$f":"IF(A265=0,\" \",IF(ISNA(MATCH(A265,Personnel!A:A,0)),\"وجود ندارد\",LOOKUP(A265,Personnel!A:A,Personnel!B:B)))","v":" "},{"$f":"IF(A265=0,\" \",IF(ISNA(MATCH(A265,Personnel!A:A,0)),\"وجود ندارد\",LOOKUP(A265,Personnel!A:A,Personnel!C:C)))","v":" "},null,null,null,null,null,null,null,null,"","",1,0," "," ",""," "," ","",null," "," ",",,,,,,,,,,,,"]
[null,{"$f":"IF(A266=0,\" \",IF(ISNA(MATCH(A266,Personnel!A:A,0)),\"وجود ندارد\",LOOKUP(A266,Personnel!A:A,Personnel!B:B)))","v":" "},{"$f":"IF(A266=0,\" \",IF(ISNA(MATCH(A266,Personnel!A:A,0)),\"وجود ندارد\",LOOKUP(A266,Personnel!A:A,Personnel!C:C)))","v":" "},null,null,null,null,null,null,null,null,"","",1,0," "," ",""," "," ","",null," "," ",",,,,,,,,,,,,"]
[null,{"$f":"IF(A267=0,\" \",IF(ISNA(MATCH(A267,Personnel!A:A,0)),\"وجود ندارد\",LOOKUP(A267,Personnel!A:A,Personnel!B:B)))","v":" "},{"$f":"IF(A267=0,\" \",IF(ISNA(MATCH(A267,Personnel!A:A,0)),\"وجود ندارد\",LOOKUP(A267,Personnel!A:A,Personnel!C:C)))","v":" "},null,null,null,null,null,null,null,null,"","",1,0," "," ",""," "," ","",null," "," ",",,,,,,,,,,,,"]
[null,{"$f":"IF(A268=0,\" \",IF(ISNA(MATCH(A268,Personnel!A:A,0)),\"وجود ندارد\",LOOKUP(A268,Personnel!A:A,Personnel!B:B)))","v":" "},{"$f":"IF(A268=0,\" \",IF(ISNA(MATCH(A268,Personnel!A:A,0)),\"وجود ندارد\",LOOKUP(A268,Personnel!A:A,Personnel!C:C)))","v":" "},null,null,null,null,null,null,null,null,"","",1,0," "," ",""," "," ","",null," "," ",",,,,,,,,,,,,"]
[null,{"$f":"IF(A269=0,\" \",IF(ISNA(MATCH(A269,Personnel!A:A,0)),\"وجود ندارد\",LOOKUP(A269,Personnel!A:A,Personnel!B:B)))","v":" "},{"$f":"IF(A269=0,\" \",IF(ISNA(MATCH(A269,Personnel!A:A,0)),\"وجود ندارد\",LOOKUP(A269,Personnel!A:A,Personnel!C:C)))","v":" "},null,null,null,null,null,null,null,null,"","",1,0," "," ",""," "," ","",null," "," ",",,,,,,,,,,,,"]
[null,{"$f":"IF(A270=0,\" \",IF(ISNA(MATCH(A270,Personnel!A:A,0)),\"وجود ندارد\",LOOKUP(A270,Personnel!A:A,Personnel!B:B)))","v":" "},{"$f":"IF(A270=0,\" \",IF(ISNA(MATCH(A270,Personnel!A:A,0)),\"وجود ندارد\",LOOKUP(A270,Personnel!A:A,Personnel!C:C)))","v":" "},null,null,null,null,null,null,null,null,"","",1,0," "," ",""," "," ","",null," "," ",",,,,,,,,,,,,"]
[null,{"$f":"IF(A271=0,\" \",IF(ISNA(MATCH(A271,Personnel!A:A,0)),\"وجود ندارد\",LOOKUP(A271,Personnel!A:A,Personnel!B:B)))","v":" "},{"$f":"IF(A271=0,\" \",IF(ISNA(MATCH(A271,Personnel!A:A,0)),\"وجود ندارد\",LOOKUP(A271,Personnel!A:A,Personnel!C:C)))","v":" "},null,null,null,null,null,null,null,null,"","",1,0," "," ",""," "," ","",null," "," ",",,,,,,,,,,,,"]
[null,{"$f":"IF(A272=0,\" \",IF(ISNA(MATCH(A272,Personnel!A:A,0)),\"وجود ندارد\",LOOKUP(A272,Personnel!A:A,Personnel!B:B)))","v":" "},{"$f":"IF(A272=0,\" \",IF(ISNA(MATCH(A272,Personnel!A:A,0)),\"وجود ندارد\",LOOKUP(A272,Personnel!A:A,Personnel!C:C)))","v":" "},null,null,null,null,null,null,null,null,"","",1,0," "," ",""," "," ","",null," "," ",",,,,,,,,,,,,"]
[null,{"$f":"IF(A273=0,\" \",IF(ISNA(MATCH(A273,Personnel!A:A,0)),\"وجود ندارد\",LOOKUP(A273,Personnel!A:A,Personnel!B:B)))","v":" "},{"$f":"IF(A273=0,\" \",IF(ISNA(MATCH(A273,Personnel!A:A,0)),\"وجود ندارد\",LOOKUP(A273,Personnel!A:A,Personnel!C:C)))","v":" "},null,null,null,null,null,null,null,null,"","",1,0," "," ",""," "," ","",null," "," ",",,,,,,,,,,,,"]
[null,{"$f":"IF(A274=0,\" \",IF(ISNA(MATCH(A274,Personnel!A:A,0)),\"وجود ندارد\",LOOKUP(A274,Personnel!A:A,Personnel!B:B)))","v":" "},{"$f":"IF(A274=0,\" \",IF(ISNA(MATCH(A274,Personnel!A:A,0)),\"وجود ندارد\",LOOKUP(A274,Personnel!A:A,Personnel!C:C)))","v":" "},null,null,null,null,null,null,null,null,"","",1,0," "," ",""," "," ","",null," "," ",",,,,,,,,,,,,"]
[null,{"$f":"IF(A275=0,\" \",IF(ISNA(MATCH(A275,Personnel!A:A,0)),\"وجود ندارد\",LOOKUP(A275,Personnel!A:A,Personnel!B:B)))","v":" "},{"$f":"IF(A275=0,\" \",IF(ISNA(MATCH(A275,Personnel!A:A,0)),\"وجود ندارد\",LOOKUP(A275,Personnel!A:A,Personnel!C:C)))","v":" "},null,null,null,null,null,null,null,null,"","",1,0," "," ",""," "," ","",null," "," ",",,,,,,,,,,,,"]
[null,{"$f":"IF(A276=0,\" \",IF(ISNA(MATCH(A276,Personnel!A:A,0)),\"وجود ندارد\",LOOKUP(A276,Personnel!A:A,Personnel!B:B)))","v":" "},{"$f":"IF(A276=0,\" \",IF(ISNA(MATCH(A276,Personnel!A:A,0)),\"وجود ندارد\",LOOKUP(A276,Personnel!A:A,Personnel!C:C)))","v":" "},null,null,null,null,null,null,null,null,"","",1,0," "," ",""," "," ","",null," "," ",",,,,,,,,,,,,"]
[null,{"$f":"IF(A277=0,\" \",IF(ISNA(MATCH(A277,Personnel!A:A,0)),\"وجود ندارد\",LOOKUP(A277,Personnel!A:A,Personnel!B:B)))","v":" "},{"$f":"IF(A277=0,\" \",IF(ISNA(MATCH(A277,Personnel!A:A,0)),\"وجود ندارد\",LOOKUP(A277,Personnel!A:A,Personnel!C:C)))","v":" "},null,null,null,null,null,null,null,null,"","",1,0," "," ",""," "," ","",null," "," ",",,,,,,,,,,,,"]
[null,{"$f":"IF(A278=0,\" \",IF(ISNA(MATCH(A278,Personnel!A:A,0)),\"وجود ندارد\",LOOKUP(A278,Personnel!A:A,Personnel!B:B)))","v":" "},{"$f":"IF(A278=0,\" \",IF(ISNA(MATCH(A278,Personnel!A:A,0)),\"وجود ندارد\",LOOKUP(A278,Personnel!A:A,Personnel!C:C)))","v":" "},null,null,null,null,null,null,null,null,"","",1,0," "," ",""," "," ","",null," "," ",",,,,,,,,,,,,"]
[null,{"$f":"IF(A279=0,\" \",IF(ISNA(MATCH(A279,Personnel!A:A,0)),\"وجود ندارد\",LOOKUP(A279,Personnel!A:A,Personnel!B:B)))","v":" "},{"$f":"IF(A279=0,\" \",IF(ISNA(MATCH(A279,Personnel!A:A,0)),\"وجود ندارد\",LOOKUP(A279,Personnel!A:A,Personnel!C:C)))","v":" "},null,null,null,null,null,null,null,null,"","",1,0," "," ",""," "," ","",null," "," ",",,,,,,,,,,,,"]
[null,{"$f":"IF(A280=0,\" \",IF(ISNA(MATCH(A280,Personnel!A:A,0)),\"وجود ندارد\",LOOKUP(A280,Personnel!A:A,Personnel!B:B)))","v":" "},{"$f":"IF(A280=0,\" \",IF(ISNA(MATCH(A280,Personnel!A:A,0)),\"وجود ندارد\",LOOKUP(A280,Personnel!A:A,Personnel!C:C)))","v":" "},null,null,null,null,null,null,null,null,"","",1,0," "," ",""," "," ","",null," "," ",",,,,,,,,,,,,"]
[null,{"$f":"IF(A281=0,\" \",IF(ISNA(MATCH(A281,Personnel!A:A,0)),\"وجود ندارد\",LOOKUP(A281,Personnel!A:A,Personnel!B:B)))","v":" "},{"$f":"IF(A281=0,\" \",IF(ISNA(MATCH(A281,Personnel!A:A,0)),\"وجود ندارد\",LOOKUP(A281,Personnel!A:A,Personnel!C:C)))","v":" "},null,null,null,null,null,null,null,null,"","",1,0," "," ",""," "," ","",null," "," ",",,,,,,,,,,,,"]
[null,{"$f":"IF(A282=0,\" \",IF(ISNA(MATCH(A282,Personnel!A:A,0)),\"وجود ندارد\",LOOKUP(A282,Personnel!A:A,Personnel!B:B)))","v":" "},{"$f":"IF(A282=0,\" \",IF(ISNA(MATCH(A282,Personnel!A:A,0)),\"وجود ندارد\",LOOKUP(A282,Personnel!A:A,Personnel!C:C)))","v":" "},null,null,null,null,null,null,null,null,"","",1,0," "," ",""," "," ","",null," "," ",",,,,,,,,,,,,"]
[null,{"$f":"IF(A283=0,\" \",IF(ISNA(MATCH(A283,Personnel!A:A,0)),\"وجود ندارد\",LOOKUP(A283,Personnel!A:A,Personnel!B:B)))","v":" "},{"$f":"IF(A283=0,\" \",IF(ISNA(MATCH(A283,Personnel!A:A,0)),\"وجود ندارد\",LOOKUP(A283,Personnel!A:A,Personnel!C:C)))","v":" "},null,null,null,null,null,null,null,null,"","",1,0," "," ",""," "," ","",null," "," ",",,,,,,,,,,,,"]
[null,{"$f":"IF(A284=0,\" \",IF(ISNA(MATCH(A284,Personnel!A:A,0)),\"وجود ندارد\",LOOKUP(A284,Personnel!A:A,Personnel!B:B)))","v":" "},{"$f":"IF(A284=0,\" \",IF(ISNA(MATCH(A284,Personnel!A:A,0)),\"وجود ندارد\",LOOKUP(A284,Personnel!A:A,Personnel!C:C)))","v":" "},null,null,null,null,null,null,null,null,"","",1,0," "," ",""," "," ","",null," "," ",",,,,,,,,,,,,"]
[null,{"$f":"IF(A285=0,\" \",IF(ISNA(MATCH(A285,Personnel!A:A,0)),\"وجود ندارد\",LOOKUP(A285,Personnel!A:A,Personnel!B:B)))","v":" "},{"$f":"IF(A285=0,\" \",IF(ISNA(MATCH(A285,Personnel!A:A,0)),\"وجود ندارد\",LOOKUP(A285,Personnel!A:A,Personnel!C:C)))","v":" "},null,null,null,null,null,null,null,null,"","",1,0," "," ",""," "," ","",null," "," ",",,,,,,,,,,,,"]
[null,{"$f":"IF(A286=0,\" \",IF(ISNA(MATCH(A286,Personnel!A:A,0)),\"وجود ندارد\",LOOKUP(A286,Personnel!A:A,Personnel!B:B)))","v":" "},{"$f":"IF(A286=0,\" \",IF(ISNA(MATCH(A286,Personnel!A:A,0)),\"وجود ندارد\",LOOKUP(A286,Personnel!A:A,Personnel!C:C)))","v":" "},null,null,null,null,null,null,null,null,"","",1,0," "," ",""," "," ","",null," "," ",",,,,,,,,,,,,"]
[null,{"$f":"IF(A287=0,\" \",IF(ISNA(MATCH(A287,Personnel!A:A,0)),\"وجود ندارد\",LOOKUP(A287,Personnel!A:A,Personnel!B:B)))","v":" "},{"$f":"IF(A287=0,\" \",IF(ISNA(MATCH(A287,Personnel!A:A,0)),\"وجود ندارد\",LOOKUP(A287,Personnel!A:A,Personnel!C:C)))","v":" "},null,null,null,null,null,null,null,null,"","",1,0," "," ",""," "," ","",null," "," ",",,,,,,,,,,,,"]
[null,{"$f":"IF(A288=0,\" \",IF(ISNA(MATCH(A288,Personnel!A:A,0)),\"وجود ندارد\",LOOKUP(A288,Personnel!A:A,Personnel!B:B)))","v":" "},{"$f":"IF(A288=0,\" \",IF(ISNA(MATCH(A288,Personnel!A:A,0)),\"وجود ندارد\",LOOKUP(A288,Personnel!A:A,Personnel!C:C)))","v":" "},null,null,null,null,null,null,null,null,"","",1,0," "," ",""," "," ","",null," "," ",",,,,,,,,,,,,"]
[null,{"$f":"IF(A289=0,\" \",IF(ISNA(MATCH(A289,Personnel!A:A,0)),\"وجود ندارد\",LOOKUP(A289,Personnel!A:A,Personnel!B:B)))","v":" "},{"$f":"IF(A289=0,\" \",IF(ISNA(MATCH(A289,Personnel!A:A,0)),\"وجود ندارد\",LOOKUP(A289,Personnel!A:A,Personnel!C:C)))","v":" "},null,null,null,null,null,null,null,null,"","",1,0," "," ",""," "," ","",null," "," ",",,,,,,,,,,,,"]
[null,{"$f":"IF(A290=0,\" \",IF(ISNA(MATCH(A290,Personnel!A:A,0)),\"وجود ندارد\",LOOKUP(A290,Personnel!A:A,Personnel!B:B)))","v":" "},{"$f":"IF(A290=0,\" \",IF(ISNA(MATCH(A290,Personnel!A:A,0)),\"وجود ندارد\",LOOKUP(A290,Personnel!A:A,Personnel!C:C)))","v":" "},null,null,null,null,null,null,null,null,"","",1,0," "," ",""," "," ","",null," "," ",",,,,,,,,,,,,"]
[null,{"$f":"IF(A291=0,\" \",IF(ISNA(MATCH(A291,Personnel!A:A,0)),\"وجود ندارد\",LOOKUP(A291,Personnel!A:A,Personnel!B:B)))","v":" "},{"$f":"IF(A291=0,\" \",IF(ISNA(MATCH(A291,Personnel!A:A,0)),\"وجود ندارد\",LOOKUP(A291,Personnel!A:A,Personnel!C:C)))","v":" "},null,null,null,null,null,null,null,null,"","",1,0," "," ",""," "," ","",null," "," ",",,,,,,,,,,,,"]
[null,{"$f":"IF(A292=0,\" \",IF(ISNA(MATCH(A292,Personnel!A:A,0)),\"وجود ندارد\",LOOKUP(A292,Personnel!A:A,Personnel!B:B)))","v":" "},{"$f":"IF(A292=0,\" \",IF(ISNA(MATCH(A292,Personnel!A:A,0)),\"وجود ندارد\",LOOKUP(A292,Personnel!A:A,Personnel!C:C)))","v":" "},null,null,null,null,null,null,null,null,"","",1,0," "," ",""," "," ","",null," "," ",",,,,,,,,,,,,"]
[null,{"$f":"IF(A293=0,\" \",IF(ISNA(MATCH(A293,Personnel!A:A,0)),\"وجود ندارد\",LOOKUP(A293,Personnel!A:A,Personnel!B:B)))","v":" "},{"$f":"IF(A293=0,\" \",IF(ISNA(MATCH(A293,Personnel!A:A,0)),\"وجود ندارد\",LOOKUP(A293,Personnel!A:A,Personnel!C:C)))","v":" "},null,null,null,null,null,null,null,null,"","",1,0," "," ",""," "," ","",null," "," ",",,,,,,,,,,,,"]
[null,{"$f":"IF(A294=0,\" \",IF(ISNA(MATCH(A294,Personnel!A:A,0)),\"وجود ندارد\",LOOKUP(A294,Personnel!A:A,Personnel!B:B)))","v":" "},{"$f":"IF(A294=0,\" \",IF(ISNA(MATCH(A294,Personnel!A:A,0)),\"وجود ندارد\",LOOKUP(A294,Personnel!A:A,Personnel!C:C)))","v":" "},null,null,null,null,null,null,null,null,"","",1,0," "," ",""," "," ","",null," "," ",",,,,,,,,,,,,"]
[null,{"$f":"IF(A295=0,\" \",IF(ISNA(MATCH(A295,Personnel!A:A,0)),\"وجود ندارد\",LOOKUP(A295,Personnel!A:A,Personnel!B:B)))","v":" "},{"$f":"IF(A295=0,\" \",IF(ISNA(MATCH(A295,Personnel!A:A,0)),\"وجود ندارد\",LOOKUP(A295,Personnel!A:A,Personnel!C:C)))","v":" "},null,null,null,null,null,null,null,null,"","",1,0," "," ",""," "," ","",null," "," ",",,,,,,,,,,,,"]
[null,{"$f":"IF(A296=0,\" \",IF(ISNA(MATCH(A296,Personnel!A:A,0)),\"وجود ندارد\",LOOKUP(A296,Personnel!A:A,Personnel!B:B)))","v":" "},{"$f":"IF(A296=0,\" \",IF(ISNA(MATCH(A296,Personnel!A:A,0)),\"وجود ندارد\",LOOKUP(A296,Personnel!A:A,Personnel!C:C)))","v":" "},null,null,null,null,null,null,null,null,"","",1,0," "," ",""," "," ","",null," "," ",",,,,,,,,,,,,"]
[null,{"$f":"IF(A297=0,\" \",IF(ISNA(MATCH(A297,Personnel!A:A,0)),\"وجود ندارد\",LOOKUP(A297,Personnel!A:A,Personnel!B:B)))","v":" "},{"$f":"IF(A297=0,\" \",IF(ISNA(MATCH(A297,Personnel!A:A,0)),\"وجود ندارد\",LOOKUP(A297,Personnel!A:A,Personnel!C:C)))","v":" "},null,null,null,null,null,null,null,null,"","",1,0," "," ",""," "," ","",null," "," ",",,,,,,,,,,,,"]
[null,{"$f":"IF(A298=0,\" \",IF(ISNA(MATCH(A298,Personnel!A:A,0)),\"وجود ندارد\",LOOKUP(A298,Personnel!A:A,Personnel!B:B)))","v":" "},{"$f":"IF(A298=0,\" \",IF(ISNA(MATCH(A298,Personnel!A:A,0)),\"وجود ندارد\",LOOKUP(A298,Personnel!A:A,Personnel!C:C)))","v":" "},null,null,null,null,null,null,null,null,"","",1,0," "," ",""," "," ","",null," "," ",",,,,,,,,,,,,"]
[null,{"$f":"IF(A299=0,\" \",IF(ISNA(MATCH(A299,Personnel!A:A,0)),\"وجود ندارد\",LOOKUP(A299,Personnel!A:A,Personnel!B:B)))","v":" "},{"$f":"IF(A299=0,\" \",IF(ISNA(MATCH(A299,Personnel!A:A,0)),\"وجود ندارد\",LOOKUP(A299,Personnel!A:A,Personnel!C:C)))","v":" "},null,null,null,null,null,null,null,null,"","",1,0," "," ",""," "," ","",null," "," ",",,,,,,,,,,,,"]
[null,{"$f":"IF(A300=0,\" \",IF(ISNA(MATCH(A300,Personnel!A:A,0)),\"وجود ندارد\",LOOKUP(A300,Personnel!A:A,Personnel!B:B)))","v":" "},{"$f":"IF(A300=0,\" \",IF(ISNA(MATCH(A300,Personnel!A:A,0)),\"وجود ندارد\",LOOKUP(A300,Personnel!A:A,Personnel!C:C)))","v":" "},null,null,null,null,null,null,null,null,"","",1,0," "," ",""," "," ","",null," "," ",",,,,,,,,,,,,"]
[null,{"$f":"IF(A301=0,\" \",IF(ISNA(MATCH(A301,Personnel!A:A,0)),\"وجود ندارد\",LOOKUP(A301,Personnel!A:A,Personnel!B:B)))","v":" "},{"$f":"IF(A301=0,\" \",IF(ISNA(MATCH(A301,Personnel!A:A,0)),\"وجود ندارد\",LOOKUP(A301,Personnel!A:A,Personnel!C:C)))","v":" "},null,null,null,null,null,null,null,null,"","",1,0," "," ",""," "," ","",null," "," ",",,,,,,,,,,,,"]
[null,{"$f":"IF(A302=0,\" \",IF(ISNA(MATCH(A302,Personnel!A:A,0)),\"وجود ندارد\",LOOKUP(A302,Personnel!A:A,Personnel!B:B)))","v":" "},{"$f":"IF(A302=0,\" \",IF(ISNA(MATCH(A302,Personnel!A:A,0)),\"وجود ندارد\",LOOKUP(A302,Personnel!A:A,Personnel!C:C)))","v":" "},null,null,null,null,null,null,null,null,"","",1,0," "," ",""," "," ","",null," "," ",",,,,,,,,,,,,"]
[null,{"$f":"IF(A303=0,\" \",IF(ISNA(MATCH(A303,Personnel!A:A,0)),\"وجود ندارد\",LOOKUP(A303,Personnel!A:A,Personnel!B:B)))","v":" "},{"$f":"IF(A303=0,\" \",IF(ISNA(MATCH(A303,Personnel!A:A,0)),\"وجود ندارد\",LOOKUP(A303,Personnel!A:A,Personnel!C:C)))","v":" "},null,null,null,null,null,null,null,null,"","",1,0," "," ",""," "," ","",null," "," ",",,,,,,,,,,,,"]
[null,{"$f":"IF(A304=0,\" \",IF(ISNA(MATCH(A304,Personnel!A:A,0)),\"وجود ندارد\",LOOKUP(A304,Personnel!A:A,Personnel!B:B)))","v":" "},{"$f":"IF(A304=0,\" \",IF(ISNA(MATCH(A304,Personnel!A:A,0)),\"وجود ندارد\",LOOKUP(A304,Personnel!A:A,Personnel!C:C)))","v":" "},null,null,null,null,null,null,null,null,"","",1,0," "," ",""," "," ","",null," "," ",",,,,,,,,,,,,"]
[null,{"$f":"IF(A305=0,\" \",IF(ISNA(MATCH(A305,Personnel!A:A,0)),\"وجود ندارد\",LOOKUP(A305,Personnel!A:A,Personnel!B:B)))","v":" "},{"$f":"IF(A305=0,\" \",IF(ISNA(MATCH(A305,Personnel!A:A,0)),\"وجود ندارد\",LOOKUP(A305,Personnel!A:A,Personnel!C:C)))","v":" "},null,null,null,null,null,null,null,null,"","",1,0," "," ",""," "," ","",null," "," ",",,,,,,,,,,,,"]
[null,{"$f":"IF(A306=0,\" \",IF(ISNA(MATCH(A306,Personnel!A:A,0)),\"وجود ندارد\",LOOKUP(A306,Personnel!A:A,Personnel!B:B)))","v":" "},{"$f":"IF(A306=0,\" \",IF(ISNA(MATCH(A306,Personnel!A:A,0)),\"وجود ندارد\",LOOKUP(A306,Personnel!A:A,Personnel!C:C)))","v":" "},null,null,null,null,null,null,null,null,"","",1,0," "," ",""," "," ","",null," "," ",",,,,,,,,,,,,"]
[null,{"$f":"IF(A307=0,\" \",IF(ISNA(MATCH(A307,Personnel!A:A,0)),\"وجود ندارد\",LOOKUP(A307,Personnel!A:A,Personnel!B:B)))","v":" "},{"$f":"IF(A307=0,\" \",IF(ISNA(MATCH(A307,Personnel!A:A,0)),\"وجود ندارد\",LOOKUP(A307,Personnel!A:A,Personnel!C:C)))","v":" "},null,null,null,null,null,null,null,null,"","",1,0," "," ",""," "," ","",null," "," ",",,,,,,,,,,,,"]
[null,{"$f":"IF(A308=0,\" \",IF(ISNA(MATCH(A308,Personnel!A:A,0)),\"وجود ندارد\",LOOKUP(A308,Personnel!A:A,Personnel!B:B)))","v":" "},{"$f":"IF(A308=0,\" \",IF(ISNA(MATCH(A308,Personnel!A:A,0)),\"وجود ندارد\",LOOKUP(A308,Personnel!A:A,Personnel!C:C)))","v":" "},null,null,null,null,null,null,null,null,"","",1,0," "," ",""," "," ","",null," "," ",",,,,,,,,,,,,"]
[null,{"$f":"IF(A309=0,\" \",IF(ISNA(MATCH(A309,Personnel!A:A,0)),\"وجود ندارد\",LOOKUP(A309,Personnel!A:A,Personnel!B:B)))","v":" "},{"$f":"IF(A309=0,\" \",IF(ISNA(MATCH(A309,Personnel!A:A,0)),\"وجود ندارد\",LOOKUP(A309,Personnel!A:A,Personnel!C:C)))","v":" "},null,null,null,null,null,null,null,null,"","",1,0," "," ",""," "," ","",null," "," ",",,,,,,,,,,,,"]
[null,{"$f":"IF(A310=0,\" \",IF(ISNA(MATCH(A310,Personnel!A:A,0)),\"وجود ندارد\",LOOKUP(A310,Personnel!A:A,Personnel!B:B)))","v":" "},{"$f":"IF(A310=0,\" \",IF(ISNA(MATCH(A310,Personnel!A:A,0)),\"وجود ندارد\",LOOKUP(A310,Personnel!A:A,Personnel!C:C)))","v":" "},null,null,null,null,null,null,null,null,"","",1,0," "," ",""," "," ","",null," "," ",",,,,,,,,,,,,"]
[null,{"$f":"IF(A311=0,\" \",IF(ISNA(MATCH(A311,Personnel!A:A,0)),\"وجود ندارد\",LOOKUP(A311,Personnel!A:A,Personnel!B:B)))","v":" "},{"$f":"IF(A311=0,\" \",IF(ISNA(MATCH(A311,Personnel!A:A,0)),\"وجود ندارد\",LOOKUP(A311,Personnel!A:A,Personnel!C:C)))","v":" "},null,null,null,null,null,null,null,null,"","",1,0," "," ",""," "," ","",null," "," ",",,,,,,,,,,,,"]
[null,{"$f":"IF(A312=0,\" \",IF(ISNA(MATCH(A312,Personnel!A:A,0)),\"وجود ندارد\",LOOKUP(A312,Personnel!A:A,Personnel!B:B)))","v":" "},{"$f":"IF(A312=0,\" \",IF(ISNA(MATCH(A312,Personnel!A:A,0)),\"وجود ندارد\",LOOKUP(A312,Personnel!A:A,Personnel!C:C)))","v":" "},null,null,null,null,null,null,null,null,"","",1,0," "," ",""," "," ","",null," "," ",",,,,,,,,,,,,"]
[null,{"$f":"IF(A313=0,\" \",IF(ISNA(MATCH(A313,Personnel!A:A,0)),\"وجود ندارد\",LOOKUP(A313,Personnel!A:A,Personnel!B:B)))","v":" "},{"$f":"IF(A313=0,\" \",IF(ISNA(MATCH(A313,Personnel!A:A,0)),\"وجود ندارد\",LOOKUP(A313,Personnel!A:A,Personnel!C:C)))","v":" "},null,null,null,null,null,null,null,null,"","",1,0," "," ",""," "," ","",null," "," ",",,,,,,,,,,,,"]
[null,{"$f":"IF(A314=0,\" \",IF(ISNA(MATCH(A314,Personnel!A:A,0)),\"وجود ندارد\",LOOKUP(A314,Personnel!A:A,Personnel!B:B)))","v":" "},{"$f":"IF(A314=0,\" \",IF(ISNA(MATCH(A314,Personnel!A:A,0)),\"وجود ندارد\",LOOKUP(A314,Personnel!A:A,Personnel!C:C)))","v":" "},null,null,null,null,null,null,null,null,"","",1,0," "," ",""," "," ","",null," "," ",",,,,,,,,,,,,"]
[null,{"$f":"IF(A315=0,\" \",IF(ISNA(MATCH(A315,Personnel!A:A,0)),\"وجود ندارد\",LOOKUP(A315,Personnel!A:A,Personnel!B:B)))","v":" "},{"$f":"IF(A315=0,\" \",IF(ISNA(MATCH(A315,Personnel!A:A,0)),\"وجود ندارد\",LOOKUP(A315,Personnel!A:A,Personnel!C:C)))","v":" "},null,null,null,null,null,null,null,null,"","",1,0," "," ",""," "," ","",null," "," ",",,,,,,,,,,,,"]
[null,{"$f":"IF(A316=0,\" \",IF(ISNA(MATCH(A316,Personnel!A:A,0)),\"وجود ندارد\",LOOKUP(A316,Personnel!A:A,Personnel!B:B)))","v":" "},{"$f":"IF(A316=0,\" \",IF(ISNA(MATCH(A316,Personnel!A:A,0)),\"وجود ندارد\",LOOKUP(A316,Personnel!A:A,Personnel!C:C)))","v":" "},null,null,null,null,null,null,null,null,"","",1,0," "," ",""," "," ","",null," "," ",",,,,,,,,,,,,"]
[null,{"$f":"IF(A317=0,\" \",IF(ISNA(MATCH(A317,Personnel!A:A,0)),\"وجود ندارد\",LOOKUP(A317,Personnel!A:A,Personnel!B:B)))","v":" "},{"$f":"IF(A317=0,\" \",IF(ISNA(MATCH(A317,Personnel!A:A,0)),\"وجود ندارد\",LOOKUP(A317,Personnel!A:A,Personnel!C:C)))","v":" "},null,null,null,null,null,null,null,null,"","",1,0," "," ",""," "," ","",null," "," ",",,,,,,,,,,,,"]
[null,{"$f":"IF(A318=0,\" \",IF(ISNA(MATCH(A318,Personnel!A:A,0)),\"وجود ندارد\",LOOKUP(A318,Personnel!A:A,Personnel!B:B)))","v":" "},{"$f":"IF(A318=0,\" \",IF(ISNA(MATCH(A318,Personnel!A:A,0)),\"وجود ندارد\",LOOKUP(A318,Personnel!A:A,Personnel!C:C)))","v":" "},null,null,null,null,null,null,null,null,"","",1,0," "," ",""," "," ","",null," "," ",",,,,,,,,,,,,"]
[null,{"$f":"IF(A319=0,\" \",IF(ISNA(MATCH(A319,Personnel!A:A,0)),\"وجود ندارد\",LOOKUP(A319,Personnel!A:A,Personnel!B:B)))","v":" "},{"$f":"IF(A319=0,\" \",IF(ISNA(MATCH(A319,Personnel!A:A,0)),\"وجود ندارد\",LOOKUP(A319,Personnel!A:A,Personnel!C:C)))","v":" "},null,null,null,null,null,null,null,null,"","",1,0," "," ",""," "," ","",null," "," ",",,,,,,,,,,,,"]
[null,{"$f":"IF(A320=0,\" \",IF(ISNA(MATCH(A320,Personnel!A:A,0)),\"وجود ندارد\",LOOKUP(A320,Personnel!A:A,Personnel!B:B)))","v":" "},{"$f":"IF(A320=0,\" \",IF(ISNA(MATCH(A320,Personnel!A:A,0)),\"وجود ندارد\",LOOKUP(A320,Personnel!A:A,Personnel!C:C)))","v":" "},null,null,null,null,null,null,null,null,"","",1,0," "," ",""," "," ","",null," "," ",",,,,,,,,,,,,"]
[null,{"$f":"IF(A321=0,\" \",IF(ISNA(MATCH(A321,Personnel!A:A,0)),\"وجود ندارد\",LOOKUP(A321,Personnel!A:A,Personnel!B:B)))","v":" "},{"$f":"IF(A321=0,\" \",IF(ISNA(MATCH(A321,Personnel!A:A,0)),\"وجود ندارد\",LOOKUP(A321,Personnel!A:A,Personnel!C:C)))","v":" "},null,null,null,null,null,null,null,null,"","",1,0," "," ",""," "," ","",null," "," ",",,,,,,,,,,,,"]
[null,{"$f":"IF(A322=0,\" \",IF(ISNA(MATCH(A322,Personnel!A:A,0)),\"وجود ندارد\",LOOKUP(A322,Personnel!A:A,Personnel!B:B)))","v":" "},{"$f":"IF(A322=0,\" \",IF(ISNA(MATCH(A322,Personnel!A:A,0)),\"وجود ندارد\",LOOKUP(A322,Personnel!A:A,Personnel!C:C)))","v":" "},null,null,null,null,null,null,null,null,"","",1,0,{"$f":"IF(A322=0,\" \",IF(N322+O322<>0,\"تاریخ اشتباه است\",\"\"))","v":" "},{"$f":"IF(A322=0,\" \",IF(AND(G322<>0,H322>G322),\"مبلغ قسط از مبلغ کل بیشتر است\",\"\"))","v":" "},""," ",{"$f":"IF(A322=0,\" \",IF(OR(K322<1,K322>3),\"نوع عمل اشتباه است\",\"\"))","v":" "},"",null," "," ",",,,,,,,,,,,,"]
[null,{"$f":"IF(A323=0,\" \",IF(ISNA(MATCH(A323,Personnel!A:A,0)),\"وجود ندارد\",LOOKUP(A323,Personnel!A:A,Personnel!B:B)))","v":" "},{"$f":"IF(A323=0,\" \",IF(ISNA(MATCH(A323,Personnel!A:A,0)),\"وجود ندارد\",LOOKUP(A323,Personnel!A:A,Personnel!C:C)))","v":" "},null,null,null,null,null,null,null,null,{"$f":"IF(K323=0,\"\",IF(K323=1,\"ایجاد\",IF(K323=2,\"اصلاح\",\"حذف\")))","v":""},{"$f":"IF(AND(K323=3,H323+I323+J323+F323+G323<>0),\"برای عمل حذف اطلاعات اضافی وارد شده است\",\"\")","v":""},{"$f":"IF(AND(K323<>3,F323<900000),1,0)","v":1},{"$f":"IF(F323>991231,1,0)","v":0}," "," ",{"$f":"IF(AND(A323=0,H323+I323+J323+F323+G323+K323+E323+D323<>0),\"در این ردیف شماره پرسنلی وجود ندارد اما اطلاعات دیگر وارد شده است\",\"\")","v":""},{"$f":"IF(A323=0,\" \",IF(D323=0,\"کد وام وارد نشده است\",\"\"))","v":" "}," ",{"$f":"IF(AND(OR(K323=1,K323=2),H323=0),\"مبلغ قسط نمی تواند خالی باشد\",\"\")","v":""},null,{"$f":"IF(AND(A323=0,A324<>0),\"دراین ردیف اصلاحاتی وجود ندارد . لطفا ردیفی را خالی باقی نگذارید\",IF(AND(A323=0,R323=\"\"),\" \",IF(M323&\",\"&P323&\",\"&Q323&\",\"&R323&\",\"&S323&\",\"&T323&\",\"&U323=\",,,,,,\",\"صحیح\",M323&\",\"&P323&\",\"&Q323&\",\"&R323&\",\"&S323&\",\"&T323&\",\"&U323)))","v":" "},{"$f":"IF(AND(ROW(X323)>$Z$2,W323=\" \"),\" \",IF(W323=\" \",IF(AND(A323=0,$Z$2<>$Z$4),\"دراین ردیف اصلاحاتی وجود ندارد . لطفا ردیفی را خالی نگذارید\",W323),W323))","v":" "},{"$f":"CONCATENATE(A323,\",\",D323,\",\",E323,\",\",F323,\",\",G323,\",\",H323,\",\",I323,\",\",K323,\",\",,\",\",J323,\",\",\",\",V323,\",\")","v":",,,,,,,,,,,,"}]
[null,{"$f":"IF(A324=0,\" \",IF(ISNA(MATCH(A324,Personnel!A:A,0)),\"وجود ندارد\",LOOKUP(A324,Personnel!A:A,Personnel!B:B)))","v":" "},{"$f":"IF(A324=0,\" \",IF(ISNA(MATCH(A324,Personnel!A:A,0)),\"وجود ندارد\",LOOKUP(A324,Personnel!A:A,Personnel!C:C)))","v":" "},null,null,null,null,null,null,null,null,"","",1,0," "," ",""," "," ","",null," "," ",",,,,,,,,,,,,"]
[null,{"$f":"IF(A325=0,\" \",IF(ISNA(MATCH(A325,Personnel!A:A,0)),\"وجود ندارد\",LOOKUP(A325,Personnel!A:A,Personnel!B:B)))","v":" "},{"$f":"IF(A325=0,\" \",IF(ISNA(MATCH(A325,Personnel!A:A,0)),\"وجود ندارد\",LOOKUP(A325,Personnel!A:A,Personnel!C:C)))","v":" "},null,null,null,null,null,null,null,null,"","",1,0," "," ",""," "," ","",null," "," ",",,,,,,,,,,,,"]
[null,{"$f":"IF(A326=0,\" \",IF(ISNA(MATCH(A326,Personnel!A:A,0)),\"وجود ندارد\",LOOKUP(A326,Personnel!A:A,Personnel!B:B)))","v":" "},{"$f":"IF(A326=0,\" \",IF(ISNA(MATCH(A326,Personnel!A:A,0)),\"وجود ندارد\",LOOKUP(A326,Personnel!A:A,Personnel!C:C)))","v":" "},null,null,null,null,null,null,null,null,"","",1,0," "," ",""," "," ","",null," "," ",",,,,,,,,,,,,"]
[null,{"$f":"IF(A327=0,\" \",IF(ISNA(MATCH(A327,Personnel!A:A,0)),\"وجود ندارد\",LOOKUP(A327,Personnel!A:A,Personnel!B:B)))","v":" "},{"$f":"IF(A327=0,\" \",IF(ISNA(MATCH(A327,Personnel!A:A,0)),\"وجود ندارد\",LOOKUP(A327,Personnel!A:A,Personnel!C:C)))","v":" "},null,null,null,null,null,null,null,null,"","",1,0," "," ",""," "," ","",null," "," ",",,,,,,,,,,,,"]
[null,{"$f":"IF(A328=0,\" \",IF(ISNA(MATCH(A328,Personnel!A:A,0)),\"وجود ندارد\",LOOKUP(A328,Personnel!A:A,Personnel!B:B)))","v":" "},{"$f":"IF(A328=0,\" \",IF(ISNA(MATCH(A328,Personnel!A:A,0)),\"وجود ندارد\",LOOKUP(A328,Personnel!A:A,Personnel!C:C)))","v":" "},null,null,null,null,null,null,null,null,"","",1,0," "," ",""," "," ","",null," "," ",",,,,,,,,,,,,"]
[null,{"$f":"IF(A329=0,\" \",IF(ISNA(MATCH(A329,Personnel!A:A,0)),\"وجود ندارد\",LOOKUP(A329,Personnel!A:A,Personnel!B:B)))","v":" "},{"$f":"IF(A329=0,\" \",IF(ISNA(MATCH(A329,Personnel!A:A,0)),\"وجود ندارد\",LOOKUP(A329,Personnel!A:A,Personnel!C:C)))","v":" "},null,null,null,null,null,null,null,null,"","",1,0," "," ",""," "," ","",null," "," ",",,,,,,,,,,,,"]
[null,{"$f":"IF(A330=0,\" \",IF(ISNA(MATCH(A330,Personnel!A:A,0)),\"وجود ندارد\",LOOKUP(A330,Personnel!A:A,Personnel!B:B)))","v":" "},{"$f":"IF(A330=0,\" \",IF(ISNA(MATCH(A330,Personnel!A:A,0)),\"وجود ندارد\",LOOKUP(A330,Personnel!A:A,Personnel!C:C)))","v":" "},null,null,null,null,null,null,null,null,"","",1,0," "," ",""," "," ","",null," "," ",",,,,,,,,,,,,"]
[null,{"$f":"IF(A331=0,\" \",IF(ISNA(MATCH(A331,Personnel!A:A,0)),\"وجود ندارد\",LOOKUP(A331,Personnel!A:A,Personnel!B:B)))","v":" "},{"$f":"IF(A331=0,\" \",IF(ISNA(MATCH(A331,Personnel!A:A,0)),\"وجود ندارد\",LOOKUP(A331,Personnel!A:A,Personnel!C:C)))","v":" "},null,null,null,null,null,null,null,null,"","",1,0," "," ",""," "," ","",null," "," ",",,,,,,,,,,,,"]
[null,{"$f":"IF(A332=0,\" \",IF(ISNA(MATCH(A332,Personnel!A:A,0)),\"وجود ندارد\",LOOKUP(A332,Personnel!A:A,Personnel!B:B)))","v":" "},{"$f":"IF(A332=0,\" \",IF(ISNA(MATCH(A332,Personnel!A:A,0)),\"وجود ندارد\",LOOKUP(A332,Personnel!A:A,Personnel!C:C)))","v":" "},null,null,null,null,null,null,null,null,"","",1,0," "," ",""," "," ","",null," "," ",",,,,,,,,,,,,"]
[null,{"$f":"IF(A333=0,\" \",IF(ISNA(MATCH(A333,Personnel!A:A,0)),\"وجود ندارد\",LOOKUP(A333,Personnel!A:A,Personnel!B:B)))","v":" "},{"$f":"IF(A333=0,\" \",IF(ISNA(MATCH(A333,Personnel!A:A,0)),\"وجود ندارد\",LOOKUP(A333,Personnel!A:A,Personnel!C:C)))","v":" "},null,null,null,null,null,null,null,null,"","",1,0," "," ",""," "," ","",null," "," ",",,,,,,,,,,,,"]
[null,{"$f":"IF(A334=0,\" \",IF(ISNA(MATCH(A334,Personnel!A:A,0)),\"وجود ندارد\",LOOKUP(A334,Personnel!A:A,Personnel!B:B)))","v":" "},{"$f":"IF(A334=0,\" \",IF(ISNA(MATCH(A334,Personnel!A:A,0)),\"وجود ندارد\",LOOKUP(A334,Personnel!A:A,Personnel!C:C)))","v":" "},null,null,null,null,null,null,null,null,"","",1,0," "," ",""," "," ","",null," "," ",",,,,,,,,,,,,"]
[null,{"$f":"IF(A335=0,\" \",IF(ISNA(MATCH(A335,Personnel!A:A,0)),\"وجود ندارد\",LOOKUP(A335,Personnel!A:A,Personnel!B:B)))","v":" "},{"$f":"IF(A335=0,\" \",IF(ISNA(MATCH(A335,Personnel!A:A,0)),\"وجود ندارد\",LOOKUP(A335,Personnel!A:A,Personnel!C:C)))","v":" "},null,null,null,null,null,null,null,null,"","",1,0," "," ",""," "," ","",null," "," ",",,,,,,,,,,,,"]
[null,{"$f":"IF(A336=0,\" \",IF(ISNA(MATCH(A336,Personnel!A:A,0)),\"وجود ندارد\",LOOKUP(A336,Personnel!A:A,Personnel!B:B)))","v":" "},{"$f":"IF(A336=0,\" \",IF(ISNA(MATCH(A336,Personnel!A:A,0)),\"وجود ندارد\",LOOKUP(A336,Personnel!A:A,Personnel!C:C)))","v":" "},null,null,null,null,null,null,null,null,"","",1,0," "," ",""," "," ","",null," "," ",",,,,,,,,,,,,"]
[null,{"$f":"IF(A337=0,\" \",IF(ISNA(MATCH(A337,Personnel!A:A,0)),\"وجود ندارد\",LOOKUP(A337,Personnel!A:A,Personnel!B:B)))","v":" "},{"$f":"IF(A337=0,\" \",IF(ISNA(MATCH(A337,Personnel!A:A,0)),\"وجود ندارد\",LOOKUP(A337,Personnel!A:A,Personnel!C:C)))","v":" "},null,null,null,null,null,null,null,null,"","",1,0," "," ",""," "," ","",null," "," ",",,,,,,,,,,,,"]
[null,{"$f":"IF(A338=0,\" \",IF(ISNA(MATCH(A338,Personnel!A:A,0)),\"وجود ندارد\",LOOKUP(A338,Personnel!A:A,Personnel!B:B)))","v":" "},{"$f":"IF(A338=0,\" \",IF(ISNA(MATCH(A338,Personnel!A:A,0)),\"وجود ندارد\",LOOKUP(A338,Personnel!A:A,Personnel!C:C)))","v":" "},null,null,null,null,null,null,null,null,"","",1,0," "," ",""," "," ","",null," "," ",",,,,,,,,,,,,"]
[null,{"$f":"IF(A339=0,\" \",IF(ISNA(MATCH(A339,Personnel!A:A,0)),\"وجود ندارد\",LOOKUP(A339,Personnel!A:A,Personnel!B:B)))","v":" "},{"$f":"IF(A339=0,\" \",IF(ISNA(MATCH(A339,Personnel!A:A,0)),\"وجود ندارد\",LOOKUP(A339,Personnel!A:A,Personnel!C:C)))","v":" "},null,null,null,null,null,null,null,null,"","",1,0," "," ",""," "," ","",null," "," ",",,,,,,,,,,,,"]
[null,{"$f":"IF(A340=0,\" \",IF(ISNA(MATCH(A340,Personnel!A:A,0)),\"وجود ندارد\",LOOKUP(A340,Personnel!A:A,Personnel!B:B)))","v":" "},{"$f":"IF(A340=0,\" \",IF(ISNA(MATCH(A340,Personnel!A:A,0)),\"وجود ندارد\",LOOKUP(A340,Personnel!A:A,Personnel!C:C)))","v":" "},null,null,null,null,null,null,null,null,"","",1,0," "," ",""," "," ","",null," "," ",",,,,,,,,,,,,"]
[null,{"$f":"IF(A341=0,\" \",IF(ISNA(MATCH(A341,Personnel!A:A,0)),\"وجود ندارد\",LOOKUP(A341,Personnel!A:A,Personnel!B:B)))","v":" "},{"$f":"IF(A341=0,\" \",IF(ISNA(MATCH(A341,Personnel!A:A,0)),\"وجود ندارد\",LOOKUP(A341,Personnel!A:A,Personnel!C:C)))","v":" "},null,null,null,null,null,null,null,null,"","",1,0," "," ",""," "," ","",null," "," ",",,,,,,,,,,,,"]
[null,{"$f":"IF(A342=0,\" \",IF(ISNA(MATCH(A342,Personnel!A:A,0)),\"وجود ندارد\",LOOKUP(A342,Personnel!A:A,Personnel!B:B)))","v":" "},{"$f":"IF(A342=0,\" \",IF(ISNA(MATCH(A342,Personnel!A:A,0)),\"وجود ندارد\",LOOKUP(A342,Personnel!A:A,Personnel!C:C)))","v":" "},null,null,null,null,null,null,null,null,"","",1,0," "," ",""," "," ","",null," "," ",",,,,,,,,,,,,"]
[null,{"$f":"IF(A343=0,\" \",IF(ISNA(MATCH(A343,Personnel!A:A,0)),\"وجود ندارد\",LOOKUP(A343,Personnel!A:A,Personnel!B:B)))","v":" "},{"$f":"IF(A343=0,\" \",IF(ISNA(MATCH(A343,Personnel!A:A,0)),\"وجود ندارد\",LOOKUP(A343,Personnel!A:A,Personnel!C:C)))","v":" "},null,null,null,null,null,null,null,null,"","",1,0," "," ",""," "," ","",null," "," ",",,,,,,,,,,,,"]
[null,{"$f":"IF(A344=0,\" \",IF(ISNA(MATCH(A344,Personnel!A:A,0)),\"وجود ندارد\",LOOKUP(A344,Personnel!A:A,Personnel!B:B)))","v":" "},{"$f":"IF(A344=0,\" \",IF(ISNA(MATCH(A344,Personnel!A:A,0)),\"وجود ندارد\",LOOKUP(A344,Personnel!A:A,Personnel!C:C)))","v":" "},null,null,null,null,null,null,null,null,"","",1,0," "," ",""," "," ","",null," "," ",",,,,,,,,,,,,"]
[null,{"$f":"IF(A345=0,\" \",IF(ISNA(MATCH(A345,Personnel!A:A,0)),\"وجود ندارد\",LOOKUP(A345,Personnel!A:A,Personnel!B:B)))","v":" "},{"$f":"IF(A345=0,\" \",IF(ISNA(MATCH(A345,Personnel!A:A,0)),\"وجود ندارد\",LOOKUP(A345,Personnel!A:A,Personnel!C:C)))","v":" "},null,null,null,null,null,null,null,null,"","",1,0," "," ",""," "," ","",null," "," ",",,,,,,,,,,,,"]
[null,{"$f":"IF(A346=0,\" \",IF(ISNA(MATCH(A346,Personnel!A:A,0)),\"وجود ندارد\",LOOKUP(A346,Personnel!A:A,Personnel!B:B)))","v":" "},{"$f":"IF(A346=0,\" \",IF(ISNA(MATCH(A346,Personnel!A:A,0)),\"وجود ندارد\",LOOKUP(A346,Personnel!A:A,Personnel!C:C)))","v":" "},null,null,null,null,null,null,null,null,"","",1,0," "," ",""," "," ","",null," "," ",",,,,,,,,,,,,"]
[null,{"$f":"IF(A347=0,\" \",IF(ISNA(MATCH(A347,Personnel!A:A,0)),\"وجود ندارد\",LOOKUP(A347,Personnel!A:A,Personnel!B:B)))","v":" "},{"$f":"IF(A347=0,\" \",IF(ISNA(MATCH(A347,Personnel!A:A,0)),\"وجود ندارد\",LOOKUP(A347,Personnel!A:A,Personnel!C:C)))","v":" "},null,null,null,null,null,null,null,null,"","",1,0," "," ",""," "," ","",null," "," ",",,,,,,,,,,,,"]
[null,{"$f":"IF(A348=0,\" \",IF(ISNA(MATCH(A348,Personnel!A:A,0)),\"وجود ندارد\",LOOKUP(A348,Personnel!A:A,Personnel!B:B)))","v":" "},{"$f":"IF(A348=0,\" \",IF(ISNA(MATCH(A348,Personnel!A:A,0)),\"وجود ندارد\",LOOKUP(A348,Personnel!A:A,Personnel!C:C)))","v":" "},null,null,null,null,null,null,null,null,"","",1,0," "," ",""," "," ","",null," "," ",",,,,,,,,,,,,"]
[null,{"$f":"IF(A349=0,\" \",IF(ISNA(MATCH(A349,Personnel!A:A,0)),\"وجود ندارد\",LOOKUP(A349,Personnel!A:A,Personnel!B:B)))","v":" "},{"$f":"IF(A349=0,\" \",IF(ISNA(MATCH(A349,Personnel!A:A,0)),\"وجود ندارد\",LOOKUP(A349,Personnel!A:A,Personnel!C:C)))","v":" "},null,null,null,null,null,null,null,null,"","",1,0," "," ",""," "," ","",null," "," ",",,,,,,,,,,,,"]
[null,{"$f":"IF(A350=0,\" \",IF(ISNA(MATCH(A350,Personnel!A:A,0)),\"وجود ندارد\",LOOKUP(A350,Personnel!A:A,Personnel!B:B)))","v":" "},{"$f":"IF(A350=0,\" \",IF(ISNA(MATCH(A350,Personnel!A:A,0)),\"وجود ندارد\",LOOKUP(A350,Personnel!A:A,Personnel!C:C)))","v":" "},null,null,null,null,null,null,null,null,"","",1,0," "," ",""," "," ","",null," "," ",",,,,,,,,,,,,"]
[null,{"$f":"IF(A351=0,\" \",IF(ISNA(MATCH(A351,Personnel!A:A,0)),\"وجود ندارد\",LOOKUP(A351,Personnel!A:A,Personnel!B:B)))","v":" "},{"$f":"IF(A351=0,\" \",IF(ISNA(MATCH(A351,Personnel!A:A,0)),\"وجود ندارد\",LOOKUP(A351,Personnel!A:A,Personnel!C:C)))","v":" "},null,null,null,null,null,null,null,null,"","",1,0," "," ",""," "," ","",null," "," ",",,,,,,,,,,,,"]
[null,{"$f":"IF(A352=0,\" \",IF(ISNA(MATCH(A352,Personnel!A:A,0)),\"وجود ندارد\",LOOKUP(A352,Personnel!A:A,Personnel!B:B)))","v":" "},{"$f":"IF(A352=0,\" \",IF(ISNA(MATCH(A352,Personnel!A:A,0)),\"وجود ندارد\",LOOKUP(A352,Personnel!A:A,Personnel!C:C)))","v":" "},null,null,null,null,null,null,null,null,"","",1,0," "," ",""," "," ","",null," "," ",",,,,,,,,,,,,"]
[null,{"$f":"IF(A353=0,\" \",IF(ISNA(MATCH(A353,Personnel!A:A,0)),\"وجود ندارد\",LOOKUP(A353,Personnel!A:A,Personnel!B:B)))","v":" "},{"$f":"IF(A353=0,\" \",IF(ISNA(MATCH(A353,Personnel!A:A,0)),\"وجود ندارد\",LOOKUP(A353,Personnel!A:A,Personnel!C:C)))","v":" "},null,null,null,null,null,null,null,null,"","",1,0," "," ",""," "," ","",null," "," ",",,,,,,,,,,,,"]
[null,{"$f":"IF(A354=0,\" \",IF(ISNA(MATCH(A354,Personnel!A:A,0)),\"وجود ندارد\",LOOKUP(A354,Personnel!A:A,Personnel!B:B)))","v":" "},{"$f":"IF(A354=0,\" \",IF(ISNA(MATCH(A354,Personnel!A:A,0)),\"وجود ندارد\",LOOKUP(A354,Personnel!A:A,Personnel!C:C)))","v":" "},null,null,null,null,null,null,null,null,"","",1,0," "," ",""," "," ","",null," "," ",",,,,,,,,,,,,"]
[null,{"$f":"IF(A355=0,\" \",IF(ISNA(MATCH(A355,Personnel!A:A,0)),\"وجود ندارد\",LOOKUP(A355,Personnel!A:A,Personnel!B:B)))","v":" "},{"$f":"IF(A355=0,\" \",IF(ISNA(MATCH(A355,Personnel!A:A,0)),\"وجود ندارد\",LOOKUP(A355,Personnel!A:A,Personnel!C:C)))","v":" "},null,null,null,null,null,null,null,null,"","",1,0," "," ",""," "," ","",null," "," ",",,,,,,,,,,,,"]
[null,{"$f":"IF(A356=0,\" \",IF(ISNA(MATCH(A356,Personnel!A:A,0)),\"وجود ندارد\",LOOKUP(A356,Personnel!A:A,Personnel!B:B)))","v":" "},{"$f":"IF(A356=0,\" \",IF(ISNA(MATCH(A356,Personnel!A:A,0)),\"وجود ندارد\",LOOKUP(A356,Personnel!A:A,Personnel!C:C)))","v":" "},null,null,null,null,null,null,null,null,"","",1,0," "," ",""," "," ","",null," "," ",",,,,,,,,,,,,"]
[null,{"$f":"IF(A357=0,\" \",IF(ISNA(MATCH(A357,Personnel!A:A,0)),\"وجود ندارد\",LOOKUP(A357,Personnel!A:A,Personnel!B:B)))","v":" "},{"$f":"IF(A357=0,\" \",IF(ISNA(MATCH(A357,Personnel!A:A,0)),\"وجود ندارد\",LOOKUP(A357,Personnel!A:A,Personnel!C:C)))","v":" "},null,null,null,null,null,null,null,null,"","",1,0," "," ",""," "," ","",null," "," ",",,,,,,,,,,,,"]
[null,{"$f":"IF(A358=0,\" \",IF(ISNA(MATCH(A358,Personnel!A:A,0)),\"وجود ندارد\",LOOKUP(A358,Personnel!A:A,Personnel!B:B)))","v":" "},{"$f":"IF(A358=0,\" \",IF(ISNA(MATCH(A358,Personnel!A:A,0)),\"وجود ندارد\",LOOKUP(A358,Personnel!A:A,Personnel!C:C)))","v":" "},null,null,null,null,null,null,null,null,"","",1,0," "," ",""," "," ","",null," "," ",",,,,,,,,,,,,"]
[null,{"$f":"IF(A359=0,\" \",IF(ISNA(MATCH(A359,Personnel!A:A,0)),\"وجود ندارد\",LOOKUP(A359,Personnel!A:A,Personnel!B:B)))","v":" "},{"$f":"IF(A359=0,\" \",IF(ISNA(MATCH(A359,Personnel!A:A,0)),\"وجود ندارد\",LOOKUP(A359,Personnel!A:A,Personnel!C:C)))","v":" "},null,null,null,null,null,null,null,null,"","",1,0," "," ",""," "," ","",null," "," ",",,,,,,,,,,,,"]
[null,{"$f":"IF(A360=0,\" \",IF(ISNA(MATCH(A360,Personnel!A:A,0)),\"وجود ندارد\",LOOKUP(A360,Personnel!A:A,Personnel!B:B)))","v":" "},{"$f":"IF(A360=0,\" \",IF(ISNA(MATCH(A360,Personnel!A:A,0)),\"وجود ندارد\",LOOKUP(A360,Personnel!A:A,Personnel!C:C)))","v":" "},null,null,null,null,null,null,null,null,"","",1,0," "," ",""," "," ","",null," "," ",",,,,,,,,,,,,"]
[null,{"$f":"IF(A361=0,\" \",IF(ISNA(MATCH(A361,Personnel!A:A,0)),\"وجود ندارد\",LOOKUP(A361,Personnel!A:A,Personnel!B:B)))","v":" "},{"$f":"IF(A361=0,\" \",IF(ISNA(MATCH(A361,Personnel!A:A,0)),\"وجود ندارد\",LOOKUP(A361,Personnel!A:A,Personnel!C:C)))","v":" "},null,null,null,null,null,null,null,null,"","",1,0," "," ",""," "," ","",null," "," ",",,,,,,,,,,,,"]
[null,{"$f":"IF(A362=0,\" \",IF(ISNA(MATCH(A362,Personnel!A:A,0)),\"وجود ندارد\",LOOKUP(A362,Personnel!A:A,Personnel!B:B)))","v":" "},{"$f":"IF(A362=0,\" \",IF(ISNA(MATCH(A362,Personnel!A:A,0)),\"وجود ندارد\",LOOKUP(A362,Personnel!A:A,Personnel!C:C)))","v":" "},null,null,null,null,null,null,null,null,"","",1,0," "," ",""," "," ","",null," "," ",",,,,,,,,,,,,"]
[null,{"$f":"IF(A363=0,\" \",IF(ISNA(MATCH(A363,Personnel!A:A,0)),\"وجود ندارد\",LOOKUP(A363,Personnel!A:A,Personnel!B:B)))","v":" "},{"$f":"IF(A363=0,\" \",IF(ISNA(MATCH(A363,Personnel!A:A,0)),\"وجود ندارد\",LOOKUP(A363,Personnel!A:A,Personnel!C:C)))","v":" "},null,null,null,null,null,null,null,null,"","",1,0," "," ",""," "," ","",null," "," ",",,,,,,,,,,,,"]
[null,{"$f":"IF(A364=0,\" \",IF(ISNA(MATCH(A364,Personnel!A:A,0)),\"وجود ندارد\",LOOKUP(A364,Personnel!A:A,Personnel!B:B)))","v":" "},{"$f":"IF(A364=0,\" \",IF(ISNA(MATCH(A364,Personnel!A:A,0)),\"وجود ندارد\",LOOKUP(A364,Personnel!A:A,Personnel!C:C)))","v":" "},null,null,null,null,null,null,null,null,"","",1,0," "," ",""," "," ","",null," "," ",",,,,,,,,,,,,"]
[null,{"$f":"IF(A365=0,\" \",IF(ISNA(MATCH(A365,Personnel!A:A,0)),\"وجود ندارد\",LOOKUP(A365,Personnel!A:A,Personnel!B:B)))","v":" "},{"$f":"IF(A365=0,\" \",IF(ISNA(MATCH(A365,Personnel!A:A,0)),\"وجود ندارد\",LOOKUP(A365,Personnel!A:A,Personnel!C:C)))","v":" "},null,null,null,null,null,null,null,null,"","",1,0," "," ",""," "," ","",null," "," ",",,,,,,,,,,,,"]
[null,{"$f":"IF(A366=0,\" \",IF(ISNA(MATCH(A366,Personnel!A:A,0)),\"وجود ندارد\",LOOKUP(A366,Personnel!A:A,Personnel!B:B)))","v":" "},{"$f":"IF(A366=0,\" \",IF(ISNA(MATCH(A366,Personnel!A:A,0)),\"وجود ندارد\",LOOKUP(A366,Personnel!A:A,Personnel!C:C)))","v":" "},null,null,null,null,null,null,null,null,"","",1,0," "," ",""," "," ","",null," "," ",",,,,,,,,,,,,"]
[null,{"$f":"IF(A367=0,\" \",IF(ISNA(MATCH(A367,Personnel!A:A,0)),\"وجود ندارد\",LOOKUP(A367,Personnel!A:A,Personnel!B:B)))","v":" "},{"$f":"IF(A367=0,\" \",IF(ISNA(MATCH(A367,Personnel!A:A,0)),\"وجود ندارد\",LOOKUP(A367,Personnel!A:A,Personnel!C:C)))","v":" "},null,null,null,null,null,null,null,null,"","",1,0," "," ",""," "," ","",null," "," ",",,,,,,,,,,,,"]
[null,{"$f":"IF(A368=0,\" \",IF(ISNA(MATCH(A368,Personnel!A:A,0)),\"وجود ندارد\",LOOKUP(A368,Personnel!A:A,Personnel!B:B)))","v":" "},{"$f":"IF(A368=0,\" \",IF(ISNA(MATCH(A368,Personnel!A:A,0)),\"وجود ندارد\",LOOKUP(A368,Personnel!A:A,Personnel!C:C)))","v":" "},null,null,null,null,null,null,null,null,"","",1,0," "," ",""," "," ","",null," "," ",",,,,,,,,,,,,"]
[null,{"$f":"IF(A369=0,\" \",IF(ISNA(MATCH(A369,Personnel!A:A,0)),\"وجود ندارد\",LOOKUP(A369,Personnel!A:A,Personnel!B:B)))","v":" "},{"$f":"IF(A369=0,\" \",IF(ISNA(MATCH(A369,Personnel!A:A,0)),\"وجود ندارد\",LOOKUP(A369,Personnel!A:A,Personnel!C:C)))","v":" "},null,null,null,null,null,null,null,null,"","",1,0," "," ",""," "," ","",null," "," ",",,,,,,,,,,,,"]
[null,{"$f":"IF(A370=0,\" \",IF(ISNA(MATCH(A370,Personnel!A:A,0)),\"وجود ندارد\",LOOKUP(A370,Personnel!A:A,Personnel!B:B)))","v":" "},{"$f":"IF(A370=0,\" \",IF(ISNA(MATCH(A370,Personnel!A:A,0)),\"وجود ندارد\",LOOKUP(A370,Personnel!A:A,Personnel!C:C)))","v":" "},null,null,null,null,null,null,null,null,"","",1,0," "," ",""," "," ","",null," "," ",",,,,,,,,,,,,"]
[null,{"$f":"IF(A371=0,\" \",IF(ISNA(MATCH(A371,Personnel!A:A,0)),\"وجود ندارد\",LOOKUP(A371,Personnel!A:A,Personnel!B:B)))","v":" "},{"$f":"IF(A371=0,\" \",IF(ISNA(MATCH(A371,Personnel!A:A,0)),\"وجود ندارد\",LOOKUP(A371,Personnel!A:A,Personnel!C:C)))","v":" "},null,null,null,null,null,null,null,null,"","",1,0," "," ",""," "," ","",null," "," ",",,,,,,,,,,,,"]
[null,{"$f":"IF(A372=0,\" \",IF(ISNA(MATCH(A372,Personnel!A:A,0)),\"وجود ندارد\",LOOKUP(A372,Personnel!A:A,Personnel!B:B)))","v":" "},{"$f":"IF(A372=0,\" \",IF(ISNA(MATCH(A372,Personnel!A:A,0)),\"وجود ندارد\",LOOKUP(A372,Personnel!A:A,Personnel!C:C)))","v":" "},null,null,null,null,null,null,null,null,"","",1,0," "," ",""," "," ","",null," "," ",",,,,,,,,,,,,"]
[null,{"$f":"IF(A373=0,\" \",IF(ISNA(MATCH(A373,Personnel!A:A,0)),\"وجود ندارد\",LOOKUP(A373,Personnel!A:A,Personnel!B:B)))","v":" "},{"$f":"IF(A373=0,\" \",IF(ISNA(MATCH(A373,Personnel!A:A,0)),\"وجود ندارد\",LOOKUP(A373,Personnel!A:A,Personnel!C:C)))","v":" "},null,null,null,null,null,null,null,null,"","",1,0," "," ",""," "," ","",null," "," ",",,,,,,,,,,,,"]
[null,{"$f":"IF(A374=0,\" \",IF(ISNA(MATCH(A374,Personnel!A:A,0)),\"وجود ندارد\",LOOKUP(A374,Personnel!A:A,Personnel!B:B)))","v":" "},{"$f":"IF(A374=0,\" \",IF(ISNA(MATCH(A374,Personnel!A:A,0)),\"وجود ندارد\",LOOKUP(A374,Personnel!A:A,Personnel!C:C)))","v":" "},null,null,null,null,null,null,null,null,"","",1,0," "," ",""," "," ","",null," "," ",",,,,,,,,,,,,"]
[null,{"$f":"IF(A375=0,\" \",IF(ISNA(MATCH(A375,Personnel!A:A,0)),\"وجود ندارد\",LOOKUP(A375,Personnel!A:A,Personnel!B:B)))","v":" "},{"$f":"IF(A375=0,\" \",IF(ISNA(MATCH(A375,Personnel!A:A,0)),\"وجود ندارد\",LOOKUP(A375,Personnel!A:A,Personnel!C:C)))","v":" "},null,null,null,null,null,null,null,null,"","",1,0," "," ",""," "," ","",null," "," ",",,,,,,,,,,,,"]
[null,{"$f":"IF(A376=0,\" \",IF(ISNA(MATCH(A376,Personnel!A:A,0)),\"وجود ندارد\",LOOKUP(A376,Personnel!A:A,Personnel!B:B)))","v":" "},{"$f":"IF(A376=0,\" \",IF(ISNA(MATCH(A376,Personnel!A:A,0)),\"وجود ندارد\",LOOKUP(A376,Personnel!A:A,Personnel!C:C)))","v":" "},null,null,null,null,null,null,null,null,"","",1,0," "," ",""," "," ","",null," "," ",",,,,,,,,,,,,"]
[null,{"$f":"IF(A377=0,\" \",IF(ISNA(MATCH(A377,Personnel!A:A,0)),\"وجود ندارد\",LOOKUP(A377,Personnel!A:A,Personnel!B:B)))","v":" "},{"$f":"IF(A377=0,\" \",IF(ISNA(MATCH(A377,Personnel!A:A,0)),\"وجود ندارد\",LOOKUP(A377,Personnel!A:A,Personnel!C:C)))","v":" "},null,null,null,null,null,null,null,null,"","",1,0," "," ",""," "," ","",null," "," ",",,,,,,,,,,,,"]
[null,{"$f":"IF(A378=0,\" \",IF(ISNA(MATCH(A378,Personnel!A:A,0)),\"وجود ندارد\",LOOKUP(A378,Personnel!A:A,Personnel!B:B)))","v":" "},{"$f":"IF(A378=0,\" \",IF(ISNA(MATCH(A378,Personnel!A:A,0)),\"وجود ندارد\",LOOKUP(A378,Personnel!A:A,Personnel!C:C)))","v":" "},null,null,null,null,null,null,null,null,"","",1,0," "," ",""," "," ","",null," "," ",",,,,,,,,,,,,"]
[null,{"$f":"IF(A379=0,\" \",IF(ISNA(MATCH(A379,Personnel!A:A,0)),\"وجود ندارد\",LOOKUP(A379,Personnel!A:A,Personnel!B:B)))","v":" "},{"$f":"IF(A379=0,\" \",IF(ISNA(MATCH(A379,Personnel!A:A,0)),\"وجود ندارد\",LOOKUP(A379,Personnel!A:A,Personnel!C:C)))","v":" "},null,null,null,null,null,null,null,null,"","",1,0," "," ",""," "," ","",null," "," ",",,,,,,,,,,,,"]
[null,{"$f":"IF(A380=0,\" \",IF(ISNA(MATCH(A380,Personnel!A:A,0)),\"وجود ندارد\",LOOKUP(A380,Personnel!A:A,Personnel!B:B)))","v":" "},{"$f":"IF(A380=0,\" \",IF(ISNA(MATCH(A380,Personnel!A:A,0)),\"وجود ندارد\",LOOKUP(A380,Personnel!A:A,Personnel!C:C)))","v":" "},null,null,null,null,null,null,null,null,"","",1,0," "," ",""," "," ","",null," "," ",",,,,,,,,,,,,"]
[null,{"$f":"IF(A381=0,\" \",IF(ISNA(MATCH(A381,Personnel!A:A,0)),\"وجود ندارد\",LOOKUP(A381,Personnel!A:A,Personnel!B:B)))","v":" "},{"$f":"IF(A381=0,\" \",IF(ISNA(MATCH(A381,Personnel!A:A,0)),\"وجود ندارد\",LOOKUP(A381,Personnel!A:A,Personnel!C:C)))","v":" "},null,null,null,null,null,null,null,null,"","",1,0," "," ",""," "," ","",null," "," ",",,,,,,,,,,,,"]
[null,{"$f":"IF(A382=0,\" \",IF(ISNA(MATCH(A382,Personnel!A:A,0)),\"وجود ندارد\",LOOKUP(A382,Personnel!A:A,Personnel!B:B)))","v":" "},{"$f":"IF(A382=0,\" \",IF(ISNA(MATCH(A382,Personnel!A:A,0)),\"وجود ندارد\",LOOKUP(A382,Personnel!A:A,Personnel!C:C)))","v":" "},null,null,null,null,null,null,null,null,"","",1,0," "," ",""," "," ","",null," "," ",",,,,,,,,,,,,"]
[null,{"$f":"IF(A383=0,\" \",IF(ISNA(MATCH(A383,Personnel!A:A,0)),\"وجود ندارد\",LOOKUP(A383,Personnel!A:A,Personnel!B:B)))","v":" "},{"$f":"IF(A383=0,\" \",IF(ISNA(MATCH(A383,Personnel!A:A,0)),\"وجود ندارد\",LOOKUP(A383,Personnel!A:A,Personnel!C:C)))","v":" "},null,null,null,null,null,null,null,null,"","",1,0," "," ",""," "," ","",null," "," ",",,,,,,,,,,,,"]
[null,{"$f":"IF(A384=0,\" \",IF(ISNA(MATCH(A384,Personnel!A:A,0)),\"وجود ندارد\",LOOKUP(A384,Personnel!A:A,Personnel!B:B)))","v":" "},{"$f":"IF(A384=0,\" \",IF(ISNA(MATCH(A384,Personnel!A:A,0)),\"وجود ندارد\",LOOKUP(A384,Personnel!A:A,Personnel!C:C)))","v":" "},null,null,null,null,null,null,null,null,"","",1,0," "," ",""," "," ","",null," "," ",",,,,,,,,,,,,"]
[null,{"$f":"IF(A385=0,\" \",IF(ISNA(MATCH(A385,Personnel!A:A,0)),\"وجود ندارد\",LOOKUP(A385,Personnel!A:A,Personnel!B:B)))","v":" "},{"$f":"IF(A385=0,\" \",IF(ISNA(MATCH(A385,Personnel!A:A,0)),\"وجود ندارد\",LOOKUP(A385,Personnel!A:A,Personnel!C:C)))","v":" "},null,null,null,null,null,null,null,null,"","",1,0," "," ",""," "," ","",null," "," ",",,,,,,,,,,,,"]
[null,{"$f":"IF(A386=0,\" \",IF(ISNA(MATCH(A386,Personnel!A:A,0)),\"وجود ندارد\",LOOKUP(A386,Personnel!A:A,Personnel!B:B)))","v":" "},{"$f":"IF(A386=0,\" \",IF(ISNA(MATCH(A386,Personnel!A:A,0)),\"وجود ندارد\",LOOKUP(A386,Personnel!A:A,Personnel!C:C)))","v":" "},null,null,null,null,null,null,null,null,"","",1,0,{"$f":"IF(A386=0,\" \",IF(N386+O386<>0,\"تاریخ اشتباه است\",\"\"))","v":" "},{"$f":"IF(A386=0,\" \",IF(AND(G386<>0,H386>G386),\"مبلغ قسط از مبلغ کل بیشتر است\",\"\"))","v":" "},""," ",{"$f":"IF(A386=0,\" \",IF(OR(K386<1,K386>3),\"نوع عمل اشتباه است\",\"\"))","v":" "},"",null," "," ",",,,,,,,,,,,,"]
[null,{"$f":"IF(A387=0,\" \",IF(ISNA(MATCH(A387,Personnel!A:A,0)),\"وجود ندارد\",LOOKUP(A387,Personnel!A:A,Personnel!B:B)))","v":" "},{"$f":"IF(A387=0,\" \",IF(ISNA(MATCH(A387,Personnel!A:A,0)),\"وجود ندارد\",LOOKUP(A387,Personnel!A:A,Personnel!C:C)))","v":" "},null,null,null,null,null,null,null,null,{"$f":"IF(K387=0,\"\",IF(K387=1,\"ایجاد\",IF(K387=2,\"اصلاح\",\"حذف\")))","v":""},{"$f":"IF(AND(K387=3,H387+I387+J387+F387+G387<>0),\"برای عمل حذف اطلاعات اضافی وارد شده است\",\"\")","v":""},{"$f":"IF(AND(K387<>3,F387<900000),1,0)","v":1},{"$f":"IF(F387>991231,1,0)","v":0}," "," ",{"$f":"IF(AND(A387=0,H387+I387+J387+F387+G387+K387+E387+D387<>0),\"در این ردیف شماره پرسنلی وجود ندارد اما اطلاعات دیگر وارد شده است\",\"\")","v":""},{"$f":"IF(A387=0,\" \",IF(D387=0,\"کد وام وارد نشده است\",\"\"))","v":" "}," ",{"$f":"IF(AND(OR(K387=1,K387=2),H387=0),\"مبلغ قسط نمی تواند خالی باشد\",\"\")","v":""},null,{"$f":"IF(AND(A387=0,A388<>0),\"دراین ردیف اصلاحاتی وجود ندارد . لطفا ردیفی را خالی باقی نگذارید\",IF(AND(A387=0,R387=\"\"),\" \",IF(M387&\",\"&P387&\",\"&Q387&\",\"&R387&\",\"&S387&\",\"&T387&\",\"&U387=\",,,,,,\",\"صحیح\",M387&\",\"&P387&\",\"&Q387&\",\"&R387&\",\"&S387&\",\"&T387&\",\"&U387)))","v":" "},{"$f":"IF(AND(ROW(X387)>$Z$2,W387=\" \"),\" \",IF(W387=\" \",IF(AND(A387=0,$Z$2<>$Z$4),\"دراین ردیف اصلاحاتی وجود ندارد . لطفا ردیفی را خالی نگذارید\",W387),W387))","v":" "},{"$f":"CONCATENATE(A387,\",\",D387,\",\",E387,\",\",F387,\",\",G387,\",\",H387,\",\",I387,\",\",K387,\",\",,\",\",J387,\",\",\",\",V387,\",\")","v":",,,,,,,,,,,,"}]
[null,{"$f":"IF(A388=0,\" \",IF(ISNA(MATCH(A388,Personnel!A:A,0)),\"وجود ندارد\",LOOKUP(A388,Personnel!A:A,Personnel!B:B)))","v":" "},{"$f":"IF(A388=0,\" \",IF(ISNA(MATCH(A388,Personnel!A:A,0)),\"وجود ندارد\",LOOKUP(A388,Personnel!A:A,Personnel!C:C)))","v":" "},null,null,null,null,null,null,null,null,"","",1,0," "," ",""," "," ","",null," "," ",",,,,,,,,,,,,"]
[null,{"$f":"IF(A389=0,\" \",IF(ISNA(MATCH(A389,Personnel!A:A,0)),\"وجود ندارد\",LOOKUP(A389,Personnel!A:A,Personnel!B:B)))","v":" "},{"$f":"IF(A389=0,\" \",IF(ISNA(MATCH(A389,Personnel!A:A,0)),\"وجود ندارد\",LOOKUP(A389,Personnel!A:A,Personnel!C:C)))","v":" "},null,null,null,null,null,null,null,null,"","",1,0," "," ",""," "," ","",null," "," ",",,,,,,,,,,,,"]
[null,{"$f":"IF(A390=0,\" \",IF(ISNA(MATCH(A390,Personnel!A:A,0)),\"وجود ندارد\",LOOKUP(A390,Personnel!A:A,Personnel!B:B)))","v":" "},{"$f":"IF(A390=0,\" \",IF(ISNA(MATCH(A390,Personnel!A:A,0)),\"وجود ندارد\",LOOKUP(A390,Personnel!A:A,Personnel!C:C)))","v":" "},null,null,null,null,null,null,null,null,"","",1,0," "," ",""," "," ","",null," "," ",",,,,,,,,,,,,"]
[null,{"$f":"IF(A391=0,\" \",IF(ISNA(MATCH(A391,Personnel!A:A,0)),\"وجود ندارد\",LOOKUP(A391,Personnel!A:A,Personnel!B:B)))","v":" "},{"$f":"IF(A391=0,\" \",IF(ISNA(MATCH(A391,Personnel!A:A,0)),\"وجود ندارد\",LOOKUP(A391,Personnel!A:A,Personnel!C:C)))","v":" "},null,null,null,null,null,null,null,null,"","",1,0," "," ",""," "," ","",null," "," ",",,,,,,,,,,,,"]
[null,{"$f":"IF(A392=0,\" \",IF(ISNA(MATCH(A392,Personnel!A:A,0)),\"وجود ندارد\",LOOKUP(A392,Personnel!A:A,Personnel!B:B)))","v":" "},{"$f":"IF(A392=0,\" \",IF(ISNA(MATCH(A392,Personnel!A:A,0)),\"وجود ندارد\",LOOKUP(A392,Personnel!A:A,Personnel!C:C)))","v":" "},null,null,null,null,null,null,null,null,"","",1,0," "," ",""," "," ","",null," "," ",",,,,,,,,,,,,"]
[null,{"$f":"IF(A393=0,\" \",IF(ISNA(MATCH(A393,Personnel!A:A,0)),\"وجود ندارد\",LOOKUP(A393,Personnel!A:A,Personnel!B:B)))","v":" "},{"$f":"IF(A393=0,\" \",IF(ISNA(MATCH(A393,Personnel!A:A,0)),\"وجود ندارد\",LOOKUP(A393,Personnel!A:A,Personnel!C:C)))","v":" "},null,null,null,null,null,null,null,null,"","",1,0," "," ",""," "," ","",null," "," ",",,,,,,,,,,,,"]
[null,{"$f":"IF(A394=0,\" \",IF(ISNA(MATCH(A394,Personnel!A:A,0)),\"وجود ندارد\",LOOKUP(A394,Personnel!A:A,Personnel!B:B)))","v":" "},{"$f":"IF(A394=0,\" \",IF(ISNA(MATCH(A394,Personnel!A:A,0)),\"وجود ندارد\",LOOKUP(A394,Personnel!A:A,Personnel!C:C)))","v":" "},null,null,null,null,null,null,null,null,"","",1,0," "," ",""," "," ","",null," "," ",",,,,,,,,,,,,"]
[null,{"$f":"IF(A395=0,\" \",IF(ISNA(MATCH(A395,Personnel!A:A,0)),\"وجود ندارد\",LOOKUP(A395,Personnel!A:A,Personnel!B:B)))","v":" "},{"$f":"IF(A395=0,\" \",IF(ISNA(MATCH(A395,Personnel!A:A,0)),\"وجود ندارد\",LOOKUP(A395,Personnel!A:A,Personnel!C:C)))","v":" "},null,null,null,null,null,null,null,null,"","",1,0," "," ",""," "," ","",null," "," ",",,,,,,,,,,,,"]
[null,{"$f":"IF(A396=0,\" \",IF(ISNA(MATCH(A396,Personnel!A:A,0)),\"وجود ندارد\",LOOKUP(A396,Personnel!A:A,Personnel!B:B)))","v":" "},{"$f":"IF(A396=0,\" \",IF(ISNA(MATCH(A396,Personnel!A:A,0)),\"وجود ندارد\",LOOKUP(A396,Personnel!A:A,Personnel!C:C)))","v":" "},null,null,null,null,null,null,null,null,"","",1,0," "," ",""," "," ","",null," "," ",",,,,,,,,,,,,"]
[null,{"$f":"IF(A397=0,\" \",IF(ISNA(MATCH(A397,Personnel!A:A,0)),\"وجود ندارد\",LOOKUP(A397,Personnel!A:A,Personnel!B:B)))","v":" "},{"$f":"IF(A397=0,\" \",IF(ISNA(MATCH(A397,Personnel!A:A,0)),\"وجود ندارد\",LOOKUP(A397,Personnel!A:A,Personnel!C:C)))","v":" "},null,null,null,null,null,null,null,null,"","",1,0," "," ",""," "," ","",null," "," ",",,,,,,,,,,,,"]
[null,{"$f":"IF(A398=0,\" \",IF(ISNA(MATCH(A398,Personnel!A:A,0)),\"وجود ندارد\",LOOKUP(A398,Personnel!A:A,Personnel!B:B)))","v":" "},{"$f":"IF(A398=0,\" \",IF(ISNA(MATCH(A398,Personnel!A:A,0)),\"وجود ندارد\",LOOKUP(A398,Personnel!A:A,Personnel!C:C)))","v":" "},null,null,null,null,null,null,null,null,"","",1,0," "," ",""," "," ","",null," "," ",",,,,,,,,,,,,"]
[null,{"$f":"IF(A399=0,\" \",IF(ISNA(MATCH(A399,Personnel!A:A,0)),\"وجود ندارد\",LOOKUP(A399,Personnel!A:A,Personnel!B:B)))","v":" "},{"$f":"IF(A399=0,\" \",IF(ISNA(MATCH(A399,Personnel!A:A,0)),\"وجود ندارد\",LOOKUP(A399,Personnel!A:A,Personnel!C:C)))","v":" "},null,null,null,null,null,null,null,null,"","",1,0," "," ",""," "," ","",null," "," ",",,,,,,,,,,,,"]
[null,{"$f":"IF(A400=0,\" \",IF(ISNA(MATCH(A400,Personnel!A:A,0)),\"وجود ندارد\",LOOKUP(A400,Personnel!A:A,Personnel!B:B)))","v":" "},{"$f":"IF(A400=0,\" \",IF(ISNA(MATCH(A400,Personnel!A:A,0)),\"وجود ندارد\",LOOKUP(A400,Personnel!A:A,Personnel!C:C)))","v":" "},null,null,null,null,null,null,null,null,"","",1,0," "," ",""," "," ","",null," "," ",",,,,,,,,,,,,"]
[null,{"$f":"IF(A401=0,\" \",IF(ISNA(MATCH(A401,Personnel!A:A,0)),\"وجود ندارد\",LOOKUP(A401,Personnel!A:A,Personnel!B:B)))","v":" "},{"$f":"IF(A401=0,\" \",IF(ISNA(MATCH(A401,Personnel!A:A,0)),\"وجود ندارد\",LOOKUP(A401,Personnel!A:A,Personnel!C:C)))","v":" "},null,null,null,null,null,null,null,null,"","",1,0," "," ",""," "," ","",null," "," ",",,,,,,,,,,,,"]
[null,{"$f":"IF(A402=0,\" \",IF(ISNA(MATCH(A402,Personnel!A:A,0)),\"وجود ندارد\",LOOKUP(A402,Personnel!A:A,Personnel!B:B)))","v":" "},{"$f":"IF(A402=0,\" \",IF(ISNA(MATCH(A402,Personnel!A:A,0)),\"وجود ندارد\",LOOKUP(A402,Personnel!A:A,Personnel!C:C)))","v":" "},null,null,null,null,null,null,null,null,"","",1,0," "," ",""," "," ","",null," "," ",",,,,,,,,,,,,"]
[null,{"$f":"IF(A403=0,\" \",IF(ISNA(MATCH(A403,Personnel!A:A,0)),\"وجود ندارد\",LOOKUP(A403,Personnel!A:A,Personnel!B:B)))","v":" "},{"$f":"IF(A403=0,\" \",IF(ISNA(MATCH(A403,Personnel!A:A,0)),\"وجود ندارد\",LOOKUP(A403,Personnel!A:A,Personnel!C:C)))","v":" "},null,null,null,null,null,null,null,null,"","",1,0," "," ",""," "," ","",null," "," ",",,,,,,,,,,,,"]
[null,{"$f":"IF(A404=0,\" \",IF(ISNA(MATCH(A404,Personnel!A:A,0)),\"وجود ندارد\",LOOKUP(A404,Personnel!A:A,Personnel!B:B)))","v":" "},{"$f":"IF(A404=0,\" \",IF(ISNA(MATCH(A404,Personnel!A:A,0)),\"وجود ندارد\",LOOKUP(A404,Personnel!A:A,Personnel!C:C)))","v":" "},null,null,null,null,null,null,null,null,"","",1,0," "," ",""," "," ","",null," "," ",",,,,,,,,,,,,"]
[null,{"$f":"IF(A405=0,\" \",IF(ISNA(MATCH(A405,Personnel!A:A,0)),\"وجود ندارد\",LOOKUP(A405,Personnel!A:A,Personnel!B:B)))","v":" "},{"$f":"IF(A405=0,\" \",IF(ISNA(MATCH(A405,Personnel!A:A,0)),\"وجود ندارد\",LOOKUP(A405,Personnel!A:A,Personnel!C:C)))","v":" "},null,null,null,null,null,null,null,null,"","",1,0," "," ",""," "," ","",null," "," ",",,,,,,,,,,,,"]
[null,{"$f":"IF(A406=0,\" \",IF(ISNA(MATCH(A406,Personnel!A:A,0)),\"وجود ندارد\",LOOKUP(A406,Personnel!A:A,Personnel!B:B)))","v":" "},{"$f":"IF(A406=0,\" \",IF(ISNA(MATCH(A406,Personnel!A:A,0)),\"وجود ندارد\",LOOKUP(A406,Personnel!A:A,Personnel!C:C)))","v":" "},null,null,null,null,null,null,null,null,"","",1,0," "," ",""," "," ","",null," "," ",",,,,,,,,,,,,"]
[null,{"$f":"IF(A407=0,\" \",IF(ISNA(MATCH(A407,Personnel!A:A,0)),\"وجود ندارد\",LOOKUP(A407,Personnel!A:A,Personnel!B:B)))","v":" "},{"$f":"IF(A407=0,\" \",IF(ISNA(MATCH(A407,Personnel!A:A,0)),\"وجود ندارد\",LOOKUP(A407,Personnel!A:A,Personnel!C:C)))","v":" "},null,null,null,null,null,null,null,null,"","",1,0," "," ",""," "," ","",null," "," ",",,,,,,,,,,,,"]
[null,{"$f":"IF(A408=0,\" \",IF(ISNA(MATCH(A408,Personnel!A:A,0)),\"وجود ندارد\",LOOKUP(A408,Personnel!A:A,Personnel!B:B)))","v":" "},{"$f":"IF(A408=0,\" \",IF(ISNA(MATCH(A408,Personnel!A:A,0)),\"وجود ندارد\",LOOKUP(A408,Personnel!A:A,Personnel!C:C)))","v":" "},null,null,null,null,null,null,null,null,"","",1,0," "," ",""," "," ","",null," "," ",",,,,,,,,,,,,"]
[null,{"$f":"IF(A409=0,\" \",IF(ISNA(MATCH(A409,Personnel!A:A,0)),\"وجود ندارد\",LOOKUP(A409,Personnel!A:A,Personnel!B:B)))","v":" "},{"$f":"IF(A409=0,\" \",IF(ISNA(MATCH(A409,Personnel!A:A,0)),\"وجود ندارد\",LOOKUP(A409,Personnel!A:A,Personnel!C:C)))","v":" "},null,null,null,null,null,null,null,null,"","",1,0," "," ",""," "," ","",null," "," ",",,,,,,,,,,,,"]
[null,{"$f":"IF(A410=0,\" \",IF(ISNA(MATCH(A410,Personnel!A:A,0)),\"وجود ندارد\",LOOKUP(A410,Personnel!A:A,Personnel!B:B)))","v":" "},{"$f":"IF(A410=0,\" \",IF(ISNA(MATCH(A410,Personnel!A:A,0)),\"وجود ندارد\",LOOKUP(A410,Personnel!A:A,Personnel!C:C)))","v":" "},null,null,null,null,null,null,null,null,"","",1,0," "," ",""," "," ","",null," "," ",",,,,,,,,,,,,"]
[null,{"$f":"IF(A411=0,\" \",IF(ISNA(MATCH(A411,Personnel!A:A,0)),\"وجود ندارد\",LOOKUP(A411,Personnel!A:A,Personnel!B:B)))","v":" "},{"$f":"IF(A411=0,\" \",IF(ISNA(MATCH(A411,Personnel!A:A,0)),\"وجود ندارد\",LOOKUP(A411,Personnel!A:A,Personnel!C:C)))","v":" "},null,null,null,null,null,null,null,null,"","",1,0," "," ",""," "," ","",null," "," ",",,,,,,,,,,,,"]
[null,{"$f":"IF(A412=0,\" \",IF(ISNA(MATCH(A412,Personnel!A:A,0)),\"وجود ندارد\",LOOKUP(A412,Personnel!A:A,Personnel!B:B)))","v":" "},{"$f":"IF(A412=0,\" \",IF(ISNA(MATCH(A412,Personnel!A:A,0)),\"وجود ندارد\",LOOKUP(A412,Personnel!A:A,Personnel!C:C)))","v":" "},null,null,null,null,null,null,null,null,"","",1,0," "," ",""," "," ","",null," "," ",",,,,,,,,,,,,"]
[null,{"$f":"IF(A413=0,\" \",IF(ISNA(MATCH(A413,Personnel!A:A,0)),\"وجود ندارد\",LOOKUP(A413,Personnel!A:A,Personnel!B:B)))","v":" "},{"$f":"IF(A413=0,\" \",IF(ISNA(MATCH(A413,Personnel!A:A,0)),\"وجود ندارد\",LOOKUP(A413,Personnel!A:A,Personnel!C:C)))","v":" "},null,null,null,null,null,null,null,null,"","",1,0," "," ",""," "," ","",null," "," ",",,,,,,,,,,,,"]
[null,{"$f":"IF(A414=0,\" \",IF(ISNA(MATCH(A414,Personnel!A:A,0)),\"وجود ندارد\",LOOKUP(A414,Personnel!A:A,Personnel!B:B)))","v":" "},{"$f":"IF(A414=0,\" \",IF(ISNA(MATCH(A414,Personnel!A:A,0)),\"وجود ندارد\",LOOKUP(A414,Personnel!A:A,Personnel!C:C)))","v":" "},null,null,null,null,null,null,null,null,"","",1,0," "," ",""," "," ","",null," "," ",",,,,,,,,,,,,"]
[null,{"$f":"IF(A415=0,\" \",IF(ISNA(MATCH(A415,Personnel!A:A,0)),\"وجود ندارد\",LOOKUP(A415,Personnel!A:A,Personnel!B:B)))","v":" "},{"$f":"IF(A415=0,\" \",IF(ISNA(MATCH(A415,Personnel!A:A,0)),\"وجود ندارد\",LOOKUP(A415,Personnel!A:A,Personnel!C:C)))","v":" "},null,null,null,null,null,null,null,null,"","",1,0," "," ",""," "," ","",null," "," ",",,,,,,,,,,,,"]
[null,{"$f":"IF(A416=0,\" \",IF(ISNA(MATCH(A416,Personnel!A:A,0)),\"وجود ندارد\",LOOKUP(A416,Personnel!A:A,Personnel!B:B)))","v":" "},{"$f":"IF(A416=0,\" \",IF(ISNA(MATCH(A416,Personnel!A:A,0)),\"وجود ندارد\",LOOKUP(A416,Personnel!A:A,Personnel!C:C)))","v":" "},null,null,null,null,null,null,null,null,"","",1,0," "," ",""," "," ","",null," "," ",",,,,,,,,,,,,"]
[null,{"$f":"IF(A417=0,\" \",IF(ISNA(MATCH(A417,Personnel!A:A,0)),\"وجود ندارد\",LOOKUP(A417,Personnel!A:A,Personnel!B:B)))","v":" "},{"$f":"IF(A417=0,\" \",IF(ISNA(MATCH(A417,Personnel!A:A,0)),\"وجود ندارد\",LOOKUP(A417,Personnel!A:A,Personnel!C:C)))","v":" "},null,null,null,null,null,null,null,null,"","",1,0," "," ",""," "," ","",null," "," ",",,,,,,,,,,,,"]
[null,{"$f":"IF(A418=0,\" \",IF(ISNA(MATCH(A418,Personnel!A:A,0)),\"وجود ندارد\",LOOKUP(A418,Personnel!A:A,Personnel!B:B)))","v":" "},{"$f":"IF(A418=0,\" \",IF(ISNA(MATCH(A418,Personnel!A:A,0)),\"وجود ندارد\",LOOKUP(A418,Personnel!A:A,Personnel!C:C)))","v":" "},null,null,null,null,null,null,null,null,"","",1,0," "," ",""," "," ","",null," "," ",",,,,,,,,,,,,"]
[null,{"$f":"IF(A419=0,\" \",IF(ISNA(MATCH(A419,Personnel!A:A,0)),\"وجود ندارد\",LOOKUP(A419,Personnel!A:A,Personnel!B:B)))","v":" "},{"$f":"IF(A419=0,\" \",IF(ISNA(MATCH(A419,Personnel!A:A,0)),\"وجود ندارد\",LOOKUP(A419,Personnel!A:A,Personnel!C:C)))","v":" "},null,null,null,null,null,null,null,null,"","",1,0," "," ",""," "," ","",null," "," ",",,,,,,,,,,,,"]
[null,{"$f":"IF(A420=0,\" \",IF(ISNA(MATCH(A420,Personnel!A:A,0)),\"وجود ندارد\",LOOKUP(A420,Personnel!A:A,Personnel!B:B)))","v":" "},{"$f":"IF(A420=0,\" \",IF(ISNA(MATCH(A420,Personnel!A:A,0)),\"وجود ندارد\",LOOKUP(A420,Personnel!A:A,Personnel!C:C)))","v":" "},null,null,null,null,null,null,null,null,"","",1,0," "," ",""," "," ","",null," "," ",",,,,,,,,,,,,"]
[null,{"$f":"IF(A421=0,\" \",IF(ISNA(MATCH(A421,Personnel!A:A,0)),\"وجود ندارد\",LOOKUP(A421,Personnel!A:A,Personnel!B:B)))","v":" "},{"$f":"IF(A421=0,\" \",IF(ISNA(MATCH(A421,Personnel!A:A,0)),\"وجود ندارد\",LOOKUP(A421,Personnel!A:A,Personnel!C:C)))","v":" "},null,null,null,null,null,null,null,null,"","",1,0," "," ",""," "," ","",null," "," ",",,,,,,,,,,,,"]
[null,{"$f":"IF(A422=0,\" \",IF(ISNA(MATCH(A422,Personnel!A:A,0)),\"وجود ندارد\",LOOKUP(A422,Personnel!A:A,Personnel!B:B)))","v":" "},{"$f":"IF(A422=0,\" \",IF(ISNA(MATCH(A422,Personnel!A:A,0)),\"وجود ندارد\",LOOKUP(A422,Personnel!A:A,Personnel!C:C)))","v":" "},null,null,null,null,null,null,null,null,"","",1,0," "," ",""," "," ","",null," "," ",",,,,,,,,,,,,"]
[null,{"$f":"IF(A423=0,\" \",IF(ISNA(MATCH(A423,Personnel!A:A,0)),\"وجود ندارد\",LOOKUP(A423,Personnel!A:A,Personnel!B:B)))","v":" "},{"$f":"IF(A423=0,\" \",IF(ISNA(MATCH(A423,Personnel!A:A,0)),\"وجود ندارد\",LOOKUP(A423,Personnel!A:A,Personnel!C:C)))","v":" "},null,null,null,null,null,null,null,null,"","",1,0," "," ",""," "," ","",null," "," ",",,,,,,,,,,,,"]
[null,{"$f":"IF(A424=0,\" \",IF(ISNA(MATCH(A424,Personnel!A:A,0)),\"وجود ندارد\",LOOKUP(A424,Personnel!A:A,Personnel!B:B)))","v":" "},{"$f":"IF(A424=0,\" \",IF(ISNA(MATCH(A424,Personnel!A:A,0)),\"وجود ندارد\",LOOKUP(A424,Personnel!A:A,Personnel!C:C)))","v":" "},null,null,null,null,null,null,null,null,"","",1,0," "," ",""," "," ","",null," "," ",",,,,,,,,,,,,"]
[null,{"$f":"IF(A425=0,\" \",IF(ISNA(MATCH(A425,Personnel!A:A,0)),\"وجود ندارد\",LOOKUP(A425,Personnel!A:A,Personnel!B:B)))","v":" "},{"$f":"IF(A425=0,\" \",IF(ISNA(MATCH(A425,Personnel!A:A,0)),\"وجود ندارد\",LOOKUP(A425,Personnel!A:A,Personnel!C:C)))","v":" "},null,null,null,null,null,null,null,null,"","",1,0," "," ",""," "," ","",null," "," ",",,,,,,,,,,,,"]
[null,{"$f":"IF(A426=0,\" \",IF(ISNA(MATCH(A426,Personnel!A:A,0)),\"وجود ندارد\",LOOKUP(A426,Personnel!A:A,Personnel!B:B)))","v":" "},{"$f":"IF(A426=0,\" \",IF(ISNA(MATCH(A426,Personnel!A:A,0)),\"وجود ندارد\",LOOKUP(A426,Personnel!A:A,Personnel!C:C)))","v":" "},null,null,null,null,null,null,null,null,"","",1,0," "," ",""," "," ","",null," "," ",",,,,,,,,,,,,"]
[null,{"$f":"IF(A427=0,\" \",IF(ISNA(MATCH(A427,Personnel!A:A,0)),\"وجود ندارد\",LOOKUP(A427,Personnel!A:A,Personnel!B:B)))","v":" "},{"$f":"IF(A427=0,\" \",IF(ISNA(MATCH(A427,Personnel!A:A,0)),\"وجود ندارد\",LOOKUP(A427,Personnel!A:A,Personnel!C:C)))","v":" "},null,null,null,null,null,null,null,null,"","",1,0," "," ",""," "," ","",null," "," ",",,,,,,,,,,,,"]
[null,{"$f":"IF(A428=0,\" \",IF(ISNA(MATCH(A428,Personnel!A:A,0)),\"وجود ندارد\",LOOKUP(A428,Personnel!A:A,Personnel!B:B)))","v":" "},{"$f":"IF(A428=0,\" \",IF(ISNA(MATCH(A428,Personnel!A:A,0)),\"وجود ندارد\",LOOKUP(A428,Personnel!A:A,Personnel!C:C)))","v":" "},null,null,null,null,null,null,null,null,"","",1,0," "," ",""," "," ","",null," "," ",",,,,,,,,,,,,"]
[null,{"$f":"IF(A429=0,\" \",IF(ISNA(MATCH(A429,Personnel!A:A,0)),\"وجود ندارد\",LOOKUP(A429,Personnel!A:A,Personnel!B:B)))","v":" "},{"$f":"IF(A429=0,\" \",IF(ISNA(MATCH(A429,Personnel!A:A,0)),\"وجود ندارد\",LOOKUP(A429,Personnel!A:A,Personnel!C:C)))","v":" "},null,null,null,null,null,null,null,null,"","",1,0," "," ",""," "," ","",null," "," ",",,,,,,,,,,,,"]
[null,{"$f":"IF(A430=0,\" \",IF(ISNA(MATCH(A430,Personnel!A:A,0)),\"وجود ندارد\",LOOKUP(A430,Personnel!A:A,Personnel!B:B)))","v":" "},{"$f":"IF(A430=0,\" \",IF(ISNA(MATCH(A430,Personnel!A:A,0)),\"وجود ندارد\",LOOKUP(A430,Personnel!A:A,Personnel!C:C)))","v":" "},null,null,null,null,null,null,null,null,"","",1,0," "," ",""," "," ","",null," "," ",",,,,,,,,,,,,"]
[null,{"$f":"IF(A431=0,\" \",IF(ISNA(MATCH(A431,Personnel!A:A,0)),\"وجود ندارد\",LOOKUP(A431,Personnel!A:A,Personnel!B:B)))","v":" "},{"$f":"IF(A431=0,\" \",IF(ISNA(MATCH(A431,Personnel!A:A,0)),\"وجود ندارد\",LOOKUP(A431,Personnel!A:A,Personnel!C:C)))","v":" "},null,null,null,null,null,null,null,null,"","",1,0," "," ",""," "," ","",null," "," ",",,,,,,,,,,,,"]
[null,{"$f":"IF(A432=0,\" \",IF(ISNA(MATCH(A432,Personnel!A:A,0)),\"وجود ندارد\",LOOKUP(A432,Personnel!A:A,Personnel!B:B)))","v":" "},{"$f":"IF(A432=0,\" \",IF(ISNA(MATCH(A432,Personnel!A:A,0)),\"وجود ندارد\",LOOKUP(A432,Personnel!A:A,Personnel!C:C)))","v":" "},null,null,null,null,null,null,null,null,"","",1,0," "," ",""," "," ","",null," "," ",",,,,,,,,,,,,"]
[null,{"$f":"IF(A433=0,\" \",IF(ISNA(MATCH(A433,Personnel!A:A,0)),\"وجود ندارد\",LOOKUP(A433,Personnel!A:A,Personnel!B:B)))","v":" "},{"$f":"IF(A433=0,\" \",IF(ISNA(MATCH(A433,Personnel!A:A,0)),\"وجود ندارد\",LOOKUP(A433,Personnel!A:A,Personnel!C:C)))","v":" "},null,null,null,null,null,null,null,null,"","",1,0," "," ",""," "," ","",null," "," ",",,,,,,,,,,,,"]
[null,{"$f":"IF(A434=0,\" \",IF(ISNA(MATCH(A434,Personnel!A:A,0)),\"وجود ندارد\",LOOKUP(A434,Personnel!A:A,Personnel!B:B)))","v":" "},{"$f":"IF(A434=0,\" \",IF(ISNA(MATCH(A434,Personnel!A:A,0)),\"وجود ندارد\",LOOKUP(A434,Personnel!A:A,Personnel!C:C)))","v":" "},null,null,null,null,null,null,null,null,"","",1,0," "," ",""," "," ","",null," "," ",",,,,,,,,,,,,"]
[null,{"$f":"IF(A435=0,\" \",IF(ISNA(MATCH(A435,Personnel!A:A,0)),\"وجود ندارد\",LOOKUP(A435,Personnel!A:A,Personnel!B:B)))","v":" "},{"$f":"IF(A435=0,\" \",IF(ISNA(MATCH(A435,Personnel!A:A,0)),\"وجود ندارد\",LOOKUP(A435,Personnel!A:A,Personnel!C:C)))","v":" "},null,null,null,null,null,null,null,null,"","",1,0," "," ",""," "," ","",null," "," ",",,,,,,,,,,,,"]
[null,{"$f":"IF(A436=0,\" \",IF(ISNA(MATCH(A436,Personnel!A:A,0)),\"وجود ندارد\",LOOKUP(A436,Personnel!A:A,Personnel!B:B)))","v":" "},{"$f":"IF(A436=0,\" \",IF(ISNA(MATCH(A436,Personnel!A:A,0)),\"وجود ندارد\",LOOKUP(A436,Personnel!A:A,Personnel!C:C)))","v":" "},null,null,null,null,null,null,null,null,"","",1,0," "," ",""," "," ","",null," "," ",",,,,,,,,,,,,"]
[null,{"$f":"IF(A437=0,\" \",IF(ISNA(MATCH(A437,Personnel!A:A,0)),\"وجود ندارد\",LOOKUP(A437,Personnel!A:A,Personnel!B:B)))","v":" "},{"$f":"IF(A437=0,\" \",IF(ISNA(MATCH(A437,Personnel!A:A,0)),\"وجود ندارد\",LOOKUP(A437,Personnel!A:A,Personnel!C:C)))","v":" "},null,null,null,null,null,null,null,null,"","",1,0," "," ",""," "," ","",null," "," ",",,,,,,,,,,,,"]
[null,{"$f":"IF(A438=0,\" \",IF(ISNA(MATCH(A438,Personnel!A:A,0)),\"وجود ندارد\",LOOKUP(A438,Personnel!A:A,Personnel!B:B)))","v":" "},{"$f":"IF(A438=0,\" \",IF(ISNA(MATCH(A438,Personnel!A:A,0)),\"وجود ندارد\",LOOKUP(A438,Personnel!A:A,Personnel!C:C)))","v":" "},null,null,null,null,null,null,null,null,"","",1,0," "," ",""," "," ","",null," "," ",",,,,,,,,,,,,"]
[null,{"$f":"IF(A439=0,\" \",IF(ISNA(MATCH(A439,Personnel!A:A,0)),\"وجود ندارد\",LOOKUP(A439,Personnel!A:A,Personnel!B:B)))","v":" "},{"$f":"IF(A439=0,\" \",IF(ISNA(MATCH(A439,Personnel!A:A,0)),\"وجود ندارد\",LOOKUP(A439,Personnel!A:A,Personnel!C:C)))","v":" "},null,null,null,null,null,null,null,null,"","",1,0," "," ",""," "," ","",null," "," ",",,,,,,,,,,,,"]
[null,{"$f":"IF(A440=0,\" \",IF(ISNA(MATCH(A440,Personnel!A:A,0)),\"وجود ندارد\",LOOKUP(A440,Personnel!A:A,Personnel!B:B)))","v":" "},{"$f":"IF(A440=0,\" \",IF(ISNA(MATCH(A440,Personnel!A:A,0)),\"وجود ندارد\",LOOKUP(A440,Personnel!A:A,Personnel!C:C)))","v":" "},null,null,null,null,null,null,null,null,"","",1,0," "," ",""," "," ","",null," "," ",",,,,,,,,,,,,"]
[null,{"$f":"IF(A441=0,\" \",IF(ISNA(MATCH(A441,Personnel!A:A,0)),\"وجود ندارد\",LOOKUP(A441,Personnel!A:A,Personnel!B:B)))","v":" "},{"$f":"IF(A441=0,\" \",IF(ISNA(MATCH(A441,Personnel!A:A,0)),\"وجود ندارد\",LOOKUP(A441,Personnel!A:A,Personnel!C:C)))","v":" "},null,null,null,null,null,null,null,null,"","",1,0," "," ",""," "," ","",null," "," ",",,,,,,,,,,,,"]
[null,{"$f":"IF(A442=0,\" \",IF(ISNA(MATCH(A442,Personnel!A:A,0)),\"وجود ندارد\",LOOKUP(A442,Personnel!A:A,Personnel!B:B)))","v":" "},{"$f":"IF(A442=0,\" \",IF(ISNA(MATCH(A442,Personnel!A:A,0)),\"وجود ندارد\",LOOKUP(A442,Personnel!A:A,Personnel!C:C)))","v":" "},null,null,null,null,null,null,null,null,"","",1,0," "," ",""," "," ","",null," "," ",",,,,,,,,,,,,"]
[null,{"$f":"IF(A443=0,\" \",IF(ISNA(MATCH(A443,Personnel!A:A,0)),\"وجود ندارد\",LOOKUP(A443,Personnel!A:A,Personnel!B:B)))","v":" "},{"$f":"IF(A443=0,\" \",IF(ISNA(MATCH(A443,Personnel!A:A,0)),\"وجود ندارد\",LOOKUP(A443,Personnel!A:A,Personnel!C:C)))","v":" "},null,null,null,null,null,null,null,null,"","",1,0," "," ",""," "," ","",null," "," ",",,,,,,,,,,,,"]
[null,{"$f":"IF(A444=0,\" \",IF(ISNA(MATCH(A444,Personnel!A:A,0)),\"وجود ندارد\",LOOKUP(A444,Personnel!A:A,Personnel!B:B)))","v":" "},{"$f":"IF(A444=0,\" \",IF(ISNA(MATCH(A444,Personnel!A:A,0)),\"وجود ندارد\",LOOKUP(A444,Personnel!A:A,Personnel!C:C)))","v":" "},null,null,null,null,null,null,null,null,"","",1,0," "," ",""," "," ","",null," "," ",",,,,,,,,,,,,"]
[null,{"$f":"IF(A445=0,\" \",IF(ISNA(MATCH(A445,Personnel!A:A,0)),\"وجود ندارد\",LOOKUP(A445,Personnel!A:A,Personnel!B:B)))","v":" "},{"$f":"IF(A445=0,\" \",IF(ISNA(MATCH(A445,Personnel!A:A,0)),\"وجود ندارد\",LOOKUP(A445,Personnel!A:A,Personnel!C:C)))","v":" "},null,null,null,null,null,null,null,null,"","",1,0," "," ",""," "," ","",null," "," ",",,,,,,,,,,,,"]
[null,{"$f":"IF(A446=0,\" \",IF(ISNA(MATCH(A446,Personnel!A:A,0)),\"وجود ندارد\",LOOKUP(A446,Personnel!A:A,Personnel!B:B)))","v":" "},{"$f":"IF(A446=0,\" \",IF(ISNA(MATCH(A446,Personnel!A:A,0)),\"وجود ندارد\",LOOKUP(A446,Personnel!A:A,Personnel!C:C)))","v":" "},null,null,null,null,null,null,null,null,"","",1,0," "," ",""," "," ","",null," "," ",",,,,,,,,,,,,"]
[null,{"$f":"IF(A447=0,\" \",IF(ISNA(MATCH(A447,Personnel!A:A,0)),\"وجود ندارد\",LOOKUP(A447,Personnel!A:A,Personnel!B:B)))","v":" "},{"$f":"IF(A447=0,\" \",IF(ISNA(MATCH(A447,Personnel!A:A,0)),\"وجود ندارد\",LOOKUP(A447,Personnel!A:A,Personnel!C:C)))","v":" "},null,null,null,null,null,null,null,null,"","",1,0," "," ",""," "," ","",null," "," ",",,,,,,,,,,,,"]
[null,{"$f":"IF(A448=0,\" \",IF(ISNA(MATCH(A448,Personnel!A:A,0)),\"وجود ندارد\",LOOKUP(A448,Personnel!A:A,Personnel!B:B)))","v":" "},{"$f":"IF(A448=0,\" \",IF(ISNA(MATCH(A448,Personnel!A:A,0)),\"وجود ندارد\",LOOKUP(A448,Personnel!A:A,Personnel!C:C)))","v":" "},null,null,null,null,null,null,null,null,"","",1,0," "," ",""," "," ","",null," "," ",",,,,,,,,,,,,"]
[null,{"$f":"IF(A449=0,\" \",IF(ISNA(MATCH(A449,Personnel!A:A,0)),\"وجود ندارد\",LOOKUP(A449,Personnel!A:A,Personnel!B:B)))","v":" "},{"$f":"IF(A449=0,\" \",IF(ISNA(MATCH(A449,Personnel!A:A,0)),\"وجود ندارد\",LOOKUP(A449,Personnel!A:A,Personnel!C:C)))","v":" "},null,null,null,null,null,null,null,null,"","",1,0," "," ",""," "," ","",null," "," ",",,,,,,,,,,,,"]
[null,{"$f":"IF(A450=0,\" \",IF(ISNA(MATCH(A450,Personnel!A:A,0)),\"وجود ندارد\",LOOKUP(A450,Personnel!A:A,Personnel!B:B)))","v":" "},{"$f":"IF(A450=0,\" \",IF(ISNA(MATCH(A450,Personnel!A:A,0)),\"وجود ندارد\",LOOKUP(A450,Personnel!A:A,Personnel!C:C)))","v":" "},null,null,null,null,null,null,null,null,"","",1,0,{"$f":"IF(A450=0,\" \",IF(N450+O450<>0,\"تاریخ اشتباه است\",\"\"))","v":" "},{"$f":"IF(A450=0,\" \",IF(AND(G450<>0,H450>G450),\"مبلغ قسط از مبلغ کل بیشتر است\",\"\"))","v":" "},""," ",{"$f":"IF(A450=0,\" \",IF(OR(K450<1,K450>3),\"نوع عمل اشتباه است\",\"\"))","v":" "},"",null," "," ",",,,,,,,,,,,,"]
[null,{"$f":"IF(A451=0,\" \",IF(ISNA(MATCH(A451,Personnel!A:A,0)),\"وجود ندارد\",LOOKUP(A451,Personnel!A:A,Personnel!B:B)))","v":" "},{"$f":"IF(A451=0,\" \",IF(ISNA(MATCH(A451,Personnel!A:A,0)),\"وجود ندارد\",LOOKUP(A451,Personnel!A:A,Personnel!C:C)))","v":" "},null,null,null,null,null,null,null,null,{"$f":"IF(K451=0,\"\",IF(K451=1,\"ایجاد\",IF(K451=2,\"اصلاح\",\"حذف\")))","v":""},{"$f":"IF(AND(K451=3,H451+I451+J451+F451+G451<>0),\"برای عمل حذف اطلاعات اضافی وارد شده است\",\"\")","v":""},{"$f":"IF(AND(K451<>3,F451<900000),1,0)","v":1},{"$f":"IF(F451>991231,1,0)","v":0}," "," ",{"$f":"IF(AND(A451=0,H451+I451+J451+F451+G451+K451+E451+D451<>0),\"در این ردیف شماره پرسنلی وجود ندارد اما اطلاعات دیگر وارد شده است\",\"\")","v":""},{"$f":"IF(A451=0,\" \",IF(D451=0,\"کد وام وارد نشده است\",\"\"))","v":" "}," ",{"$f":"IF(AND(OR(K451=1,K451=2),H451=0),\"مبلغ قسط نمی تواند خالی باشد\",\"\")","v":""},null,{"$f":"IF(AND(A451=0,A452<>0),\"دراین ردیف اصلاحاتی وجود ندارد . لطفا ردیفی را خالی باقی نگذارید\",IF(AND(A451=0,R451=\"\"),\" \",IF(M451&\",\"&P451&\",\"&Q451&\",\"&R451&\",\"&S451&\",\"&T451&\",\"&U451=\",,,,,,\",\"صحیح\",M451&\",\"&P451&\",\"&Q451&\",\"&R451&\",\"&S451&\",\"&T451&\",\"&U451)))","v":" "},{"$f":"IF(AND(ROW(X451)>$Z$2,W451=\" \"),\" \",IF(W451=\" \",IF(AND(A451=0,$Z$2<>$Z$4),\"دراین ردیف اصلاحاتی وجود ندارد . لطفا ردیفی را خالی نگذارید\",W451),W451))","v":" "},{"$f":"CONCATENATE(A451,\",\",D451,\",\",E451,\",\",F451,\",\",G451,\",\",H451,\",\",I451,\",\",K451,\",\",,\",\",J451,\",\",\",\",V451,\",\")","v":",,,,,,,,,,,,"}]
[null,{"$f":"IF(A452=0,\" \",IF(ISNA(MATCH(A452,Personnel!A:A,0)),\"وجود ندارد\",LOOKUP(A452,Personnel!A:A,Personnel!B:B)))","v":" "},{"$f":"IF(A452=0,\" \",IF(ISNA(MATCH(A452,Personnel!A:A,0)),\"وجود ندارد\",LOOKUP(A452,Personnel!A:A,Personnel!C:C)))","v":" "},null,null,null,null,null,null,null,null,"","",1,0," "," ",""," "," ","",null," "," ",",,,,,,,,,,,,"]
[null,{"$f":"IF(A453=0,\" \",IF(ISNA(MATCH(A453,Personnel!A:A,0)),\"وجود ندارد\",LOOKUP(A453,Personnel!A:A,Personnel!B:B)))","v":" "},{"$f":"IF(A453=0,\" \",IF(ISNA(MATCH(A453,Personnel!A:A,0)),\"وجود ندارد\",LOOKUP(A453,Personnel!A:A,Personnel!C:C)))","v":" "},null,null,null,null,null,null,null,null,"","",1,0," "," ",""," "," ","",null," "," ",",,,,,,,,,,,,"]
[null,{"$f":"IF(A454=0,\" \",IF(ISNA(MATCH(A454,Personnel!A:A,0)),\"وجود ندارد\",LOOKUP(A454,Personnel!A:A,Personnel!B:B)))","v":" "},{"$f":"IF(A454=0,\" \",IF(ISNA(MATCH(A454,Personnel!A:A,0)),\"وجود ندارد\",LOOKUP(A454,Personnel!A:A,Personnel!C:C)))","v":" "},null,null,null,null,null,null,null,null,"","",1,0," "," ",""," "," ","",null," "," ",",,,,,,,,,,,,"]
[null,{"$f":"IF(A455=0,\" \",IF(ISNA(MATCH(A455,Personnel!A:A,0)),\"وجود ندارد\",LOOKUP(A455,Personnel!A:A,Personnel!B:B)))","v":" "},{"$f":"IF(A455=0,\" \",IF(ISNA(MATCH(A455,Personnel!A:A,0)),\"وجود ندارد\",LOOKUP(A455,Personnel!A:A,Personnel!C:C)))","v":" "},null,null,null,null,null,null,null,null,"","",1,0," "," ",""," "," ","",null," "," ",",,,,,,,,,,,,"]
[null,{"$f":"IF(A456=0,\" \",IF(ISNA(MATCH(A456,Personnel!A:A,0)),\"وجود ندارد\",LOOKUP(A456,Personnel!A:A,Personnel!B:B)))","v":" "},{"$f":"IF(A456=0,\" \",IF(ISNA(MATCH(A456,Personnel!A:A,0)),\"وجود ندارد\",LOOKUP(A456,Personnel!A:A,Personnel!C:C)))","v":" "},null,null,null,null,null,null,null,null,"","",1,0," "," ",""," "," ","",null," "," ",",,,,,,,,,,,,"]
[null,{"$f":"IF(A457=0,\" \",IF(ISNA(MATCH(A457,Personnel!A:A,0)),\"وجود ندارد\",LOOKUP(A457,Personnel!A:A,Personnel!B:B)))","v":" "},{"$f":"IF(A457=0,\" \",IF(ISNA(MATCH(A457,Personnel!A:A,0)),\"وجود ندارد\",LOOKUP(A457,Personnel!A:A,Personnel!C:C)))","v":" "},null,null,null,null,null,null,null,null,"","",1,0," "," ",""," "," ","",null," "," ",",,,,,,,,,,,,"]
[null,{"$f":"IF(A458=0,\" \",IF(ISNA(MATCH(A458,Personnel!A:A,0)),\"وجود ندارد\",LOOKUP(A458,Personnel!A:A,Personnel!B:B)))","v":" "},{"$f":"IF(A458=0,\" \",IF(ISNA(MATCH(A458,Personnel!A:A,0)),\"وجود ندارد\",LOOKUP(A458,Personnel!A:A,Personnel!C:C)))","v":" "},null,null,null,null,null,null,null,null,"","",1,0," "," ",""," "," ","",null," "," ",",,,,,,,,,,,,"]
[null,{"$f":"IF(A459=0,\" \",IF(ISNA(MATCH(A459,Personnel!A:A,0)),\"وجود ندارد\",LOOKUP(A459,Personnel!A:A,Personnel!B:B)))","v":" "},{"$f":"IF(A459=0,\" \",IF(ISNA(MATCH(A459,Personnel!A:A,0)),\"وجود ندارد\",LOOKUP(A459,Personnel!A:A,Personnel!C:C)))","v":" "},null,null,null,null,null,null,null,null,"","",1,0," "," ",""," "," ","",null," "," ",",,,,,,,,,,,,"]
[null,{"$f":"IF(A460=0,\" \",IF(ISNA(MATCH(A460,Personnel!A:A,0)),\"وجود ندارد\",LOOKUP(A460,Personnel!A:A,Personnel!B:B)))","v":" "},{"$f":"IF(A460=0,\" \",IF(ISNA(MATCH(A460,Personnel!A:A,0)),\"وجود ندارد\",LOOKUP(A460,Personnel!A:A,Personnel!C:C)))","v":" "},null,null,null,null,null,null,null,null,"","",1,0," "," ",""," "," ","",null," "," ",",,,,,,,,,,,,"]
[null,{"$f":"IF(A461=0,\" \",IF(ISNA(MATCH(A461,Personnel!A:A,0)),\"وجود ندارد\",LOOKUP(A461,Personnel!A:A,Personnel!B:B)))","v":" "},{"$f":"IF(A461=0,\" \",IF(ISNA(MATCH(A461,Personnel!A:A,0)),\"وجود ندارد\",LOOKUP(A461,Personnel!A:A,Personnel!C:C)))","v":" "},null,null,null,null,null,null,null,null,"","",1,0," "," ",""," "," ","",null," "," ",",,,,,,,,,,,,"]
[null,{"$f":"IF(A462=0,\" \",IF(ISNA(MATCH(A462,Personnel!A:A,0)),\"وجود ندارد\",LOOKUP(A462,Personnel!A:A,Personnel!B:B)))","v":" "},{"$f":"IF(A462=0,\" \",IF(ISNA(MATCH(A462,Personnel!A:A,0)),\"وجود ندارد\",LOOKUP(A462,Personnel!A:A,Personnel!C:C)))","v":" "},null,null,null,null,null,null,null,null,"","",1,0," "," ",""," "," ","",null," "," ",",,,,,,,,,,,,"]
[null,{"$f":"IF(A463=0,\" \",IF(ISNA(MATCH(A463,Personnel!A:A,0)),\"وجود ندارد\",LOOKUP(A463,Personnel!A:A,Personnel!B:B)))","v":" "},{"$f":"IF(A463=0,\" \",IF(ISNA(MATCH(A463,Personnel!A:A,0)),\"وجود ندارد\",LOOKUP(A463,Personnel!A:A,Personnel!C:C)))","v":" "},null,null,null,null,null,null,null,null,"","",1,0," "," ",""," "," ","",null," "," ",",,,,,,,,,,,,"]
[null,{"$f":"IF(A464=0,\" \",IF(ISNA(MATCH(A464,Personnel!A:A,0)),\"وجود ندارد\",LOOKUP(A464,Personnel!A:A,Personnel!B:B)))","v":" "},{"$f":"IF(A464=0,\" \",IF(ISNA(MATCH(A464,Personnel!A:A,0)),\"وجود ندارد\",LOOKUP(A464,Personnel!A:A,Personnel!C:C)))","v":" "},null,null,null,null,null,null,null,null,"","",1,0," "," ",""," "," ","",null," "," ",",,,,,,,,,,,,"]
[null,{"$f":"IF(A465=0,\" \",IF(ISNA(MATCH(A465,Personnel!A:A,0)),\"وجود ندارد\",LOOKUP(A465,Personnel!A:A,Personnel!B:B)))","v":" "},{"$f":"IF(A465=0,\" \",IF(ISNA(MATCH(A465,Personnel!A:A,0)),\"وجود ندارد\",LOOKUP(A465,Personnel!A:A,Personnel!C:C)))","v":" "},null,null,null,null,null,null,null,null,"","",1,0," "," ",""," "," ","",null," "," ",",,,,,,,,,,,,"]
[null,{"$f":"IF(A466=0,\" \",IF(ISNA(MATCH(A466,Personnel!A:A,0)),\"وجود ندارد\",LOOKUP(A466,Personnel!A:A,Personnel!B:B)))","v":" "},{"$f":"IF(A466=0,\" \",IF(ISNA(MATCH(A466,Personnel!A:A,0)),\"وجود ندارد\",LOOKUP(A466,Personnel!A:A,Personnel!C:C)))","v":" "},null,null,null,null,null,null,null,null,"","",1,0," "," ",""," "," ","",null," "," ",",,,,,,,,,,,,"]
[null,{"$f":"IF(A467=0,\" \",IF(ISNA(MATCH(A467,Personnel!A:A,0)),\"وجود ندارد\",LOOKUP(A467,Personnel!A:A,Personnel!B:B)))","v":" "},{"$f":"IF(A467=0,\" \",IF(ISNA(MATCH(A467,Personnel!A:A,0)),\"وجود ندارد\",LOOKUP(A467,Personnel!A:A,Personnel!C:C)))","v":" "},null,null,null,null,null,null,null,null,"","",1,0," "," ",""," "," ","",null," "," ",",,,,,,,,,,,,"]
[null,{"$f":"IF(A468=0,\" \",IF(ISNA(MATCH(A468,Personnel!A:A,0)),\"وجود ندارد\",LOOKUP(A468,Personnel!A:A,Personnel!B:B)))","v":" "},{"$f":"IF(A468=0,\" \",IF(ISNA(MATCH(A468,Personnel!A:A,0)),\"وجود ندارد\",LOOKUP(A468,Personnel!A:A,Personnel!C:C)))","v":" "},null,null,null,null,null,null,null,null,"","",1,0," "," ",""," "," ","",null," "," ",",,,,,,,,,,,,"]
[null,{"$f":"IF(A469=0,\" \",IF(ISNA(MATCH(A469,Personnel!A:A,0)),\"وجود ندارد\",LOOKUP(A469,Personnel!A:A,Personnel!B:B)))","v":" "},{"$f":"IF(A469=0,\" \",IF(ISNA(MATCH(A469,Personnel!A:A,0)),\"وجود ندارد\",LOOKUP(A469,Personnel!A:A,Personnel!C:C)))","v":" "},null,null,null,null,null,null,null,null,"","",1,0," "," ",""," "," ","",null," "," ",",,,,,,,,,,,,"]
[null,{"$f":"IF(A470=0,\" \",IF(ISNA(MATCH(A470,Personnel!A:A,0)),\"وجود ندارد\",LOOKUP(A470,Personnel!A:A,Personnel!B:B)))","v":" "},{"$f":"IF(A470=0,\" \",IF(ISNA(MATCH(A470,Personnel!A:A,0)),\"وجود ندارد\",LOOKUP(A470,Personnel!A:A,Personnel!C:C)))","v":" "},null,null,null,null,null,null,null,null,"","",1,0," "," ",""," "," ","",null," "," ",",,,,,,,,,,,,"]
[null,{"$f":"IF(A471=0,\" \",IF(ISNA(MATCH(A471,Personnel!A:A,0)),\"وجود ندارد\",LOOKUP(A471,Personnel!A:A,Personnel!B:B)))","v":" "},{"$f":"IF(A471=0,\" \",IF(ISNA(MATCH(A471,Personnel!A:A,0)),\"وجود ندارد\",LOOKUP(A471,Personnel!A:A,Personnel!C:C)))","v":" "},null,null,null,null,null,null,null,null,"","",1,0," "," ",""," "," ","",null," "," ",",,,,,,,,,,,,"]
[null,{"$f":"IF(A472=0,\" \",IF(ISNA(MATCH(A472,Personnel!A:A,0)),\"وجود ندارد\",LOOKUP(A472,Personnel!A:A,Personnel!B:B)))","v":" "},{"$f":"IF(A472=0,\" \",IF(ISNA(MATCH(A472,Personnel!A:A,0)),\"وجود ندارد\",LOOKUP(A472,Personnel!A:A,Personnel!C:C)))","v":" "},null,null,null,null,null,null,null,null,"","",1,0," "," ",""," "," ","",null," "," ",",,,,,,,,,,,,"]
[null,{"$f":"IF(A473=0,\" \",IF(ISNA(MATCH(A473,Personnel!A:A,0)),\"وجود ندارد\",LOOKUP(A473,Personnel!A:A,Personnel!B:B)))","v":" "},{"$f":"IF(A473=0,\" \",IF(ISNA(MATCH(A473,Personnel!A:A,0)),\"وجود ندارد\",LOOKUP(A473,Personnel!A:A,Personnel!C:C)))","v":" "},null,null,null,null,null,null,null,null,"","",1,0," "," ",""," "," ","",null," "," ",",,,,,,,,,,,,"]
[null,{"$f":"IF(A474=0,\" \",IF(ISNA(MATCH(A474,Personnel!A:A,0)),\"وجود ندارد\",LOOKUP(A474,Personnel!A:A,Personnel!B:B)))","v":" "},{"$f":"IF(A474=0,\" \",IF(ISNA(MATCH(A474,Personnel!A:A,0)),\"وجود ندارد\",LOOKUP(A474,Personnel!A:A,Personnel!C:C)))","v":" "},null,null,null,null,null,null,null,null,"","",1,0," "," ",""," "," ","",null," "," ",",,,,,,,,,,,,"]
[null,{"$f":"IF(A475=0,\" \",IF(ISNA(MATCH(A475,Personnel!A:A,0)),\"وجود ندارد\",LOOKUP(A475,Personnel!A:A,Personnel!B:B)))","v":" "},{"$f":"IF(A475=0,\" \",IF(ISNA(MATCH(A475,Personnel!A:A,0)),\"وجود ندارد\",LOOKUP(A475,Personnel!A:A,Personnel!C:C)))","v":" "},null,null,null,null,null,null,null,null,"","",1,0," "," ",""," "," ","",null," "," ",",,,,,,,,,,,,"]
[null,{"$f":"IF(A476=0,\" \",IF(ISNA(MATCH(A476,Personnel!A:A,0)),\"وجود ندارد\",LOOKUP(A476,Personnel!A:A,Personnel!B:B)))","v":" "},{"$f":"IF(A476=0,\" \",IF(ISNA(MATCH(A476,Personnel!A:A,0)),\"وجود ندارد\",LOOKUP(A476,Personnel!A:A,Personnel!C:C)))","v":" "},null,null,null,null,null,null,null,null,"","",1,0," "," ",""," "," ","",null," "," ",",,,,,,,,,,,,"]
[null,{"$f":"IF(A477=0,\" \",IF(ISNA(MATCH(A477,Personnel!A:A,0)),\"وجود ندارد\",LOOKUP(A477,Personnel!A:A,Personnel!B:B)))","v":" "},{"$f":"IF(A477=0,\" \",IF(ISNA(MATCH(A477,Personnel!A:A,0)),\"وجود ندارد\",LOOKUP(A477,Personnel!A:A,Personnel!C:C)))","v":" "},null,null,null,null,null,null,null,null,"","",1,0," "," ",""," "," ","",null," "," ",",,,,,,,,,,,,"]
[null,{"$f":"IF(A478=0,\" \",IF(ISNA(MATCH(A478,Personnel!A:A,0)),\"وجود ندارد\",LOOKUP(A478,Personnel!A:A,Personnel!B:B)))","v":" "},{"$f":"IF(A478=0,\" \",IF(ISNA(MATCH(A478,Personnel!A:A,0)),\"وجود ندارد\",LOOKUP(A478,Personnel!A:A,Personnel!C:C)))","v":" "},null,null,null,null,null,null,null,null,"","",1,0," "," ",""," "," ","",null," "," ",",,,,,,,,,,,,"]
[null,{"$f":"IF(A479=0,\" \",IF(ISNA(MATCH(A479,Personnel!A:A,0)),\"وجود ندارد\",LOOKUP(A479,Personnel!A:A,Personnel!B:B)))","v":" "},{"$f":"IF(A479=0,\" \",IF(ISNA(MATCH(A479,Personnel!A:A,0)),\"وجود ندارد\",LOOKUP(A479,Personnel!A:A,Personnel!C:C)))","v":" "},null,null,null,null,null,null,null,null,"","",1,0," "," ",""," "," ","",null," "," ",",,,,,,,,,,,,"]
[null,{"$f":"IF(A480=0,\" \",IF(ISNA(MATCH(A480,Personnel!A:A,0)),\"وجود ندارد\",LOOKUP(A480,Personnel!A:A,Personnel!B:B)))","v":" "},{"$f":"IF(A480=0,\" \",IF(ISNA(MATCH(A480,Personnel!A:A,0)),\"وجود ندارد\",LOOKUP(A480,Personnel!A:A,Personnel!C:C)))","v":" "},null,null,null,null,null,null,null,null,"","",1,0," "," ",""," "," ","",null," "," ",",,,,,,,,,,,,"]
[null,{"$f":"IF(A481=0,\" \",IF(ISNA(MATCH(A481,Personnel!A:A,0)),\"وجود ندارد\",LOOKUP(A481,Personnel!A:A,Personnel!B:B)))","v":" "},{"$f":"IF(A481=0,\" \",IF(ISNA(MATCH(A481,Personnel!A:A,0)),\"وجود ندارد\",LOOKUP(A481,Personnel!A:A,Personnel!C:C)))","v":" "},null,null,null,null,null,null,null,null,"","",1,0," "," ",""," "," ","",null," "," ",",,,,,,,,,,,,"]
[null,{"$f":"IF(A482=0,\" \",IF(ISNA(MATCH(A482,Personnel!A:A,0)),\"وجود ندارد\",LOOKUP(A482,Personnel!A:A,Personnel!B:B)))","v":" "},{"$f":"IF(A482=0,\" \",IF(ISNA(MATCH(A482,Personnel!A:A,0)),\"وجود ندارد\",LOOKUP(A482,Personnel!A:A,Personnel!C:C)))","v":" "},null,null,null,null,null,null,null,null,"","",1,0," "," ",""," "," ","",null," "," ",",,,,,,,,,,,,"]
[null,{"$f":"IF(A483=0,\" \",IF(ISNA(MATCH(A483,Personnel!A:A,0)),\"وجود ندارد\",LOOKUP(A483,Personnel!A:A,Personnel!B:B)))","v":" "},{"$f":"IF(A483=0,\" \",IF(ISNA(MATCH(A483,Personnel!A:A,0)),\"وجود ندارد\",LOOKUP(A483,Personnel!A:A,Personnel!C:C)))","v":" "},null,null,null,null,null,null,null,null,"","",1,0," "," ",""," "," ","",null," "," ",",,,,,,,,,,,,"]
[null,{"$f":"IF(A484=0,\" \",IF(ISNA(MATCH(A484,Personnel!A:A,0)),\"وجود ندارد\",LOOKUP(A484,Personnel!A:A,Personnel!B:B)))","v":" "},{"$f":"IF(A484=0,\" \",IF(ISNA(MATCH(A484,Personnel!A:A,0)),\"وجود ندارد\",LOOKUP(A484,Personnel!A:A,Personnel!C:C)))","v":" "},null,null,null,null,null,null,null,null,"","",1,0," "," ",""," "," ","",null," "," ",",,,,,,,,,,,,"]
[null,{"$f":"IF(A485=0,\" \",IF(ISNA(MATCH(A485,Personnel!A:A,0)),\"وجود ندارد\",LOOKUP(A485,Personnel!A:A,Personnel!B:B)))","v":" "},{"$f":"IF(A485=0,\" \",IF(ISNA(MATCH(A485,Personnel!A:A,0)),\"وجود ندارد\",LOOKUP(A485,Personnel!A:A,Personnel!C:C)))","v":" "},null,null,null,null,null,null,null,null,"","",1,0," "," ",""," "," ","",null," "," ",",,,,,,,,,,,,"]
[null,{"$f":"IF(A486=0,\" \",IF(ISNA(MATCH(A486,Personnel!A:A,0)),\"وجود ندارد\",LOOKUP(A486,Personnel!A:A,Personnel!B:B)))","v":" "},{"$f":"IF(A486=0,\" \",IF(ISNA(MATCH(A486,Personnel!A:A,0)),\"وجود ندارد\",LOOKUP(A486,Personnel!A:A,Personnel!C:C)))","v":" "},null,null,null,null,null,null,null,null,"","",1,0," "," ",""," "," ","",null," "," ",",,,,,,,,,,,,"]
[null,{"$f":"IF(A487=0,\" \",IF(ISNA(MATCH(A487,Personnel!A:A,0)),\"وجود ندارد\",LOOKUP(A487,Personnel!A:A,Personnel!B:B)))","v":" "},{"$f":"IF(A487=0,\" \",IF(ISNA(MATCH(A487,Personnel!A:A,0)),\"وجود ندارد\",LOOKUP(A487,Personnel!A:A,Personnel!C:C)))","v":" "},null,null,null,null,null,null,null,null,"","",1,0," "," ",""," "," ","",null," "," ",",,,,,,,,,,,,"]
[null,{"$f":"IF(A488=0,\" \",IF(ISNA(MATCH(A488,Personnel!A:A,0)),\"وجود ندارد\",LOOKUP(A488,Personnel!A:A,Personnel!B:B)))","v":" "},{"$f":"IF(A488=0,\" \",IF(ISNA(MATCH(A488,Personnel!A:A,0)),\"وجود ندارد\",LOOKUP(A488,Personnel!A:A,Personnel!C:C)))","v":" "},null,null,null,null,null,null,null,null,"","",1,0," "," ",""," "," ","",null," "," ",",,,,,,,,,,,,"]
[null,{"$f":"IF(A489=0,\" \",IF(ISNA(MATCH(A489,Personnel!A:A,0)),\"وجود ندارد\",LOOKUP(A489,Personnel!A:A,Personnel!B:B)))","v":" "},{"$f":"IF(A489=0,\" \",IF(ISNA(MATCH(A489,Personnel!A:A,0)),\"وجود ندارد\",LOOKUP(A489,Personnel!A:A,Personnel!C:C)))","v":" "},null,null,null,null,null,null,null,null,"","",1,0," "," ",""," "," ","",null," "," ",",,,,,,,,,,,,"]
[null,{"$f":"IF(A490=0,\" \",IF(ISNA(MATCH(A490,Personnel!A:A,0)),\"وجود ندارد\",LOOKUP(A490,Personnel!A:A,Personnel!B:B)))","v":" "},{"$f":"IF(A490=0,\" \",IF(ISNA(MATCH(A490,Personnel!A:A,0)),\"وجود ندارد\",LOOKUP(A490,Personnel!A:A,Personnel!C:C)))","v":" "},null,null,null,null,null,null,null,null,"","",1,0," "," ",""," "," ","",null," "," ",",,,,,,,,,,,,"]
[null,{"$f":"IF(A491=0,\" \",IF(ISNA(MATCH(A491,Personnel!A:A,0)),\"وجود ندارد\",LOOKUP(A491,Personnel!A:A,Personnel!B:B)))","v":" "},{"$f":"IF(A491=0,\" \",IF(ISNA(MATCH(A491,Personnel!A:A,0)),\"وجود ندارد\",LOOKUP(A491,Personnel!A:A,Personnel!C:C)))","v":" "},null,null,null,null,null,null,null,null,"","",1,0," "," ",""," "," ","",null," "," ",",,,,,,,,,,,,"]
[null,{"$f":"IF(A492=0,\" \",IF(ISNA(MATCH(A492,Personnel!A:A,0)),\"وجود ندارد\",LOOKUP(A492,Personnel!A:A,Personnel!B:B)))","v":" "},{"$f":"IF(A492=0,\" \",IF(ISNA(MATCH(A492,Personnel!A:A,0)),\"وجود ندارد\",LOOKUP(A492,Personnel!A:A,Personnel!C:C)))","v":" "},null,null,null,null,null,null,null,null,"","",1,0," "," ",""," "," ","",null," "," ",",,,,,,,,,,,,"]
[null,{"$f":"IF(A493=0,\" \",IF(ISNA(MATCH(A493,Personnel!A:A,0)),\"وجود ندارد\",LOOKUP(A493,Personnel!A:A,Personnel!B:B)))","v":" "},{"$f":"IF(A493=0,\" \",IF(ISNA(MATCH(A493,Personnel!A:A,0)),\"وجود ندارد\",LOOKUP(A493,Personnel!A:A,Personnel!C:C)))","v":" "},null,null,null,null,null,null,null,null,"","",1,0," "," ",""," "," ","",null," "," ",",,,,,,,,,,,,"]
[null,{"$f":"IF(A494=0,\" \",IF(ISNA(MATCH(A494,Personnel!A:A,0)),\"وجود ندارد\",LOOKUP(A494,Personnel!A:A,Personnel!B:B)))","v":" "},{"$f":"IF(A494=0,\" \",IF(ISNA(MATCH(A494,Personnel!A:A,0)),\"وجود ندارد\",LOOKUP(A494,Personnel!A:A,Personnel!C:C)))","v":" "},null,null,null,null,null,null,null,null,"","",1,0," "," ",""," "," ","",null," "," ",",,,,,,,,,,,,"]
[null,{"$f":"IF(A495=0,\" \",IF(ISNA(MATCH(A495,Personnel!A:A,0)),\"وجود ندارد\",LOOKUP(A495,Personnel!A:A,Personnel!B:B)))","v":" "},{"$f":"IF(A495=0,\" \",IF(ISNA(MATCH(A495,Personnel!A:A,0)),\"وجود ندارد\",LOOKUP(A495,Personnel!A:A,Personnel!C:C)))","v":" "},null,null,null,null,null,null,null,null,"","",1,0," "," ",""," "," ","",null," "," ",",,,,,,,,,,,,"]
[null,{"$f":"IF(A496=0,\" \",IF(ISNA(MATCH(A496,Personnel!A:A,0)),\"وجود ندارد\",LOOKUP(A496,Personnel!A:A,Personnel!B:B)))","v":" "},{"$f":"IF(A496=0,\" \",IF(ISNA(MATCH(A496,Personnel!A:A,0)),\"وجود ندارد\",LOOKUP(A496,Personnel!A:A,Personnel!C:C)))","v":" "},null,null,null,null,null,null,null,null,"","",1,0," "," ",""," "," ","",null," "," ",",,,,,,,,,,,,"]
[null,{"$f":"IF(A497=0,\" \",IF(ISNA(MATCH(A497,Personnel!A:A,0)),\"وجود ندارد\",LOOKUP(A497,Personnel!A:A,Personnel!B:B)))","v":" "},{"$f":"IF(A497=0,\" \",IF(ISNA(MATCH(A497,Personnel!A:A,0)),\"وجود ندارد\",LOOKUP(A497,Personnel!A:A,Personnel!C:C)))","v":" "},null,null,null,null,null,null,null,null,"","",1,0," "," ",""," "," ","",null," "," ",",,,,,,,,,,,,"]
[null,{"$f":"IF(A498=0,\" \",IF(ISNA(MATCH(A498,Personnel!A:A,0)),\"وجود ندارد\",LOOKUP(A498,Personnel!A:A,Personnel!B:B)))","v":" "},{"$f":"IF(A498=0,\" \",IF(ISNA(MATCH(A498,Personnel!A:A,0)),\"وجود ندارد\",LOOKUP(A498,Personnel!A:A,Personnel!C:C)))","v":" "},null,null,null,null,null,null,null,null,"","",1,0," "," ",""," "," ","",null," "," ",",,,,,,,,,,,,"]
[null,{"$f":"IF(A499=0,\" \",IF(ISNA(MATCH(A499,Personnel!A:A,0)),\"وجود ندارد\",LOOKUP(A499,Personnel!A:A,Personnel!B:B)))","v":" "},{"$f":"IF(A499=0,\" \",IF(ISNA(MATCH(A499,Personnel!A:A,0)),\"وجود ندارد\",LOOKUP(A499,Personnel!A:A,Personnel!C:C)))","v":" "},null,null,null,null,null,null,null,null,"","",1,0," "," ",""," "," ","",null," "," ",",,,,,,,,,,,,"]
[null,{"$f":"IF(A500=0,\" \",IF(ISNA(MATCH(A500,Personnel!A:A,0)),\"وجود ندارد\",LOOKUP(A500,Personnel!A:A,Personnel!B:B)))","v":" "},{"$f":"IF(A500=0,\" \",IF(ISNA(MATCH(A500,Personnel!A:A,0)),\"وجود ندارد\",LOOKUP(A500,Personnel!A:A,Personnel!C:C)))","v":" "},null,null,null,null,null,null,null,null,"","",1,0," "," ",""," "," ","",null," "," ",",,,,,,,,,,,,"]
[null,{"$f":"IF(A501=0,\" \",IF(ISNA(MATCH(A501,Personnel!A:A,0)),\"وجود ندارد\",LOOKUP(A501,Personnel!A:A,Personnel!B:B)))","v":" "},{"$f":"IF(A501=0,\" \",IF(ISNA(MATCH(A501,Personnel!A:A,0)),\"وجود ندارد\",LOOKUP(A501,Personnel!A:A,Personnel!C:C)))","v":" "},null,null,null,null,null,null,null,null,"","",1,0," "," ",""," "," ","",null," "," ",",,,,,,,,,,,,"]
[null,{"$f":"IF(A502=0,\" \",IF(ISNA(MATCH(A502,Personnel!A:A,0)),\"وجود ندارد\",LOOKUP(A502,Personnel!A:A,Personnel!B:B)))","v":" "},{"$f":"IF(A502=0,\" \",IF(ISNA(MATCH(A502,Personnel!A:A,0)),\"وجود ندارد\",LOOKUP(A502,Personnel!A:A,Personnel!C:C)))","v":" "},null,null,null,null,null,null,null,null,"","",1,0," "," ",""," "," ","",null," "," ",",,,,,,,,,,,,"]
[null,{"$f":"IF(A503=0,\" \",IF(ISNA(MATCH(A503,Personnel!A:A,0)),\"وجود ندارد\",LOOKUP(A503,Personnel!A:A,Personnel!B:B)))","v":" "},{"$f":"IF(A503=0,\" \",IF(ISNA(MATCH(A503,Personnel!A:A,0)),\"وجود ندارد\",LOOKUP(A503,Personnel!A:A,Personnel!C:C)))","v":" "},null,null,null,null,null,null,null,null,"","",1,0," "," ",""," "," ","",null," "," ",",,,,,,,,,,,,"]
[null,{"$f":"IF(A504=0,\" \",IF(ISNA(MATCH(A504,Personnel!A:A,0)),\"وجود ندارد\",LOOKUP(A504,Personnel!A:A,Personnel!B:B)))","v":" "},{"$f":"IF(A504=0,\" \",IF(ISNA(MATCH(A504,Personnel!A:A,0)),\"وجود ندارد\",LOOKUP(A504,Personnel!A:A,Personnel!C:C)))","v":" "},null,null,null,null,null,null,null,null,"","",1,0," "," ",""," "," ","",null," "," ",",,,,,,,,,,,,"]
[null,{"$f":"IF(A505=0,\" \",IF(ISNA(MATCH(A505,Personnel!A:A,0)),\"وجود ندارد\",LOOKUP(A505,Personnel!A:A,Personnel!B:B)))","v":" "},{"$f":"IF(A505=0,\" \",IF(ISNA(MATCH(A505,Personnel!A:A,0)),\"وجود ندارد\",LOOKUP(A505,Personnel!A:A,Personnel!C:C)))","v":" "},null,null,null,null,null,null,null,null,"","",1,0," "," ",""," "," ","",null," "," ",",,,,,,,,,,,,"]
[null,{"$f":"IF(A506=0,\" \",IF(ISNA(MATCH(A506,Personnel!A:A,0)),\"وجود ندارد\",LOOKUP(A506,Personnel!A:A,Personnel!B:B)))","v":" "},{"$f":"IF(A506=0,\" \",IF(ISNA(MATCH(A506,Personnel!A:A,0)),\"وجود ندارد\",LOOKUP(A506,Personnel!A:A,Personnel!C:C)))","v":" "},null,null,null,null,null,null,null,null,"","",1,0," "," ",""," "," ","",null," "," ",",,,,,,,,,,,,"]
[null,{"$f":"IF(A507=0,\" \",IF(ISNA(MATCH(A507,Personnel!A:A,0)),\"وجود ندارد\",LOOKUP(A507,Personnel!A:A,Personnel!B:B)))","v":" "},{"$f":"IF(A507=0,\" \",IF(ISNA(MATCH(A507,Personnel!A:A,0)),\"وجود ندارد\",LOOKUP(A507,Personnel!A:A,Personnel!C:C)))","v":" "},null,null,null,null,null,null,null,null,"","",1,0," "," ",""," "," ","",null," "," ",",,,,,,,,,,,,"]
[null,{"$f":"IF(A508=0,\" \",IF(ISNA(MATCH(A508,Personnel!A:A,0)),\"وجود ندارد\",LOOKUP(A508,Personnel!A:A,Personnel!B:B)))","v":" "},{"$f":"IF(A508=0,\" \",IF(ISNA(MATCH(A508,Personnel!A:A,0)),\"وجود ندارد\",LOOKUP(A508,Personnel!A:A,Personnel!C:C)))","v":" "},null,null,null,null,null,null,null,null,"","",1,0," "," ",""," "," ","",null," "," ",",,,,,,,,,,,,"]
[null,{"$f":"IF(A509=0,\" \",IF(ISNA(MATCH(A509,Personnel!A:A,0)),\"وجود ندارد\",LOOKUP(A509,Personnel!A:A,Personnel!B:B)))","v":" "},{"$f":"IF(A509=0,\" \",IF(ISNA(MATCH(A509,Personnel!A:A,0)),\"وجود ندارد\",LOOKUP(A509,Personnel!A:A,Personnel!C:C)))","v":" "},null,null,null,null,null,null,null,null,"","",1,0," "," ",""," "," ","",null," "," ",",,,,,,,,,,,,"]
[null,{"$f":"IF(A510=0,\" \",IF(ISNA(MATCH(A510,Personnel!A:A,0)),\"وجود ندارد\",LOOKUP(A510,Personnel!A:A,Personnel!B:B)))","v":" "},{"$f":"IF(A510=0,\" \",IF(ISNA(MATCH(A510,Personnel!A:A,0)),\"وجود ندارد\",LOOKUP(A510,Personnel!A:A,Personnel!C:C)))","v":" "},null,null,null,null,null,null,null,null,"","",1,0," "," ",""," "," ","",null," "," ",",,,,,,,,,,,,"]
[null,{"$f":"IF(A511=0,\" \",IF(ISNA(MATCH(A511,Personnel!A:A,0)),\"وجود ندارد\",LOOKUP(A511,Personnel!A:A,Personnel!B:B)))","v":" "},{"$f":"IF(A511=0,\" \",IF(ISNA(MATCH(A511,Personnel!A:A,0)),\"وجود ندارد\",LOOKUP(A511,Personnel!A:A,Personnel!C:C)))","v":" "},null,null,null,null,null,null,null,null,"","",1,0," "," ",""," "," ","",null," "," ",",,,,,,,,,,,,"]
[null,{"$f":"IF(A512=0,\" \",IF(ISNA(MATCH(A512,Personnel!A:A,0)),\"وجود ندارد\",LOOKUP(A512,Personnel!A:A,Personnel!B:B)))","v":" "},{"$f":"IF(A512=0,\" \",IF(ISNA(MATCH(A512,Personnel!A:A,0)),\"وجود ندارد\",LOOKUP(A512,Personnel!A:A,Personnel!C:C)))","v":" "},null,null,null,null,null,null,null,null,"","",1,0," "," ",""," "," ","",null," "," ",",,,,,,,,,,,,"]
[null,{"$f":"IF(A513=0,\" \",IF(ISNA(MATCH(A513,Personnel!A:A,0)),\"وجود ندارد\",LOOKUP(A513,Personnel!A:A,Personnel!B:B)))","v":" "},{"$f":"IF(A513=0,\" \",IF(ISNA(MATCH(A513,Personnel!A:A,0)),\"وجود ندارد\",LOOKUP(A513,Personnel!A:A,Personnel!C:C)))","v":" "},null,null,null,null,null,null,null,null,"","",1,0," "," ",""," "," ","",null," "," ",",,,,,,,,,,,,"]
[null,{"$f":"IF(A514=0,\" \",IF(ISNA(MATCH(A514,Personnel!A:A,0)),\"وجود ندارد\",LOOKUP(A514,Personnel!A:A,Personnel!B:B)))","v":" "},{"$f":"IF(A514=0,\" \",IF(ISNA(MATCH(A514,Personnel!A:A,0)),\"وجود ندارد\",LOOKUP(A514,Personnel!A:A,Personnel!C:C)))","v":" "},null,null,null,null,null,null,null,null,"","",1,0,{"$f":"IF(A514=0,\" \",IF(N514+O514<>0,\"تاریخ اشتباه است\",\"\"))","v":" "},{"$f":"IF(A514=0,\" \",IF(AND(G514<>0,H514>G514),\"مبلغ قسط از مبلغ کل بیشتر است\",\"\"))","v":" "},""," ",{"$f":"IF(A514=0,\" \",IF(OR(K514<1,K514>3),\"نوع عمل اشتباه است\",\"\"))","v":" "},"",null," "," ",",,,,,,,,,,,,"]
[null,{"$f":"IF(A515=0,\" \",IF(ISNA(MATCH(A515,Personnel!A:A,0)),\"وجود ندارد\",LOOKUP(A515,Personnel!A:A,Personnel!B:B)))","v":" "},{"$f":"IF(A515=0,\" \",IF(ISNA(MATCH(A515,Personnel!A:A,0)),\"وجود ندارد\",LOOKUP(A515,Personnel!A:A,Personnel!C:C)))","v":" "},null,null,null,null,null,null,null,null,{"$f":"IF(K515=0,\"\",IF(K515=1,\"ایجاد\",IF(K515=2,\"اصلاح\",\"حذف\")))","v":""},{"$f":"IF(AND(K515=3,H515+I515+J515+F515+G515<>0),\"برای عمل حذف اطلاعات اضافی وارد شده است\",\"\")","v":""},{"$f":"IF(AND(K515<>3,F515<900000),1,0)","v":1},{"$f":"IF(F515>991231,1,0)","v":0}," "," ",{"$f":"IF(AND(A515=0,H515+I515+J515+F515+G515+K515+E515+D515<>0),\"در این ردیف شماره پرسنلی وجود ندارد اما اطلاعات دیگر وارد شده است\",\"\")","v":""},{"$f":"IF(A515=0,\" \",IF(D515=0,\"کد وام وارد نشده است\",\"\"))","v":" "}," ",{"$f":"IF(AND(OR(K515=1,K515=2),H515=0),\"مبلغ قسط نمی تواند خالی باشد\",\"\")","v":""},null,{"$f":"IF(AND(A515=0,A516<>0),\"دراین ردیف اصلاحاتی وجود ندارد . لطفا ردیفی را خالی باقی نگذارید\",IF(AND(A515=0,R515=\"\"),\" \",IF(M515&\",\"&P515&\",\"&Q515&\",\"&R515&\",\"&S515&\",\"&T515&\",\"&U515=\",,,,,,\",\"صحیح\",M515&\",\"&P515&\",\"&Q515&\",\"&R515&\",\"&S515&\",\"&T515&\",\"&U515)))","v":" "},{"$f":"IF(AND(ROW(X515)>$Z$2,W515=\" \"),\" \",IF(W515=\" \",IF(AND(A515=0,$Z$2<>$Z$4),\"دراین ردیف اصلاحاتی وجود ندارد . لطفا ردیفی را خالی نگذارید\",W515),W515))","v":" "},{"$f":"CONCATENATE(A515,\",\",D515,\",\",E515,\",\",F515,\",\",G515,\",\",H515,\",\",I515,\",\",K515,\",\",,\",\",J515,\",\",\",\",V515,\",\")","v":",,,,,,,,,,,,"}]
[null,{"$f":"IF(A516=0,\" \",IF(ISNA(MATCH(A516,Personnel!A:A,0)),\"وجود ندارد\",LOOKUP(A516,Personnel!A:A,Personnel!B:B)))","v":" "},{"$f":"IF(A516=0,\" \",IF(ISNA(MATCH(A516,Personnel!A:A,0)),\"وجود ندارد\",LOOKUP(A516,Personnel!A:A,Personnel!C:C)))","v":" "},null,null,null,null,null,null,null,null,"","",1,0," "," ",""," "," ","",null," "," ",",,,,,,,,,,,,"]
[null,{"$f":"IF(A517=0,\" \",IF(ISNA(MATCH(A517,Personnel!A:A,0)),\"وجود ندارد\",LOOKUP(A517,Personnel!A:A,Personnel!B:B)))","v":" "},{"$f":"IF(A517=0,\" \",IF(ISNA(MATCH(A517,Personnel!A:A,0)),\"وجود ندارد\",LOOKUP(A517,Personnel!A:A,Personnel!C:C)))","v":" "},null,null,null,null,null,null,null,null,"","",1,0," "," ",""," "," ","",null," "," ",",,,,,,,,,,,,"]
[null,{"$f":"IF(A518=0,\" \",IF(ISNA(MATCH(A518,Personnel!A:A,0)),\"وجود ندارد\",LOOKUP(A518,Personnel!A:A,Personnel!B:B)))","v":" "},{"$f":"IF(A518=0,\" \",IF(ISNA(MATCH(A518,Personnel!A:A,0)),\"وجود ندارد\",LOOKUP(A518,Personnel!A:A,Personnel!C:C)))","v":" "},null,null,null,null,null,null,null,null,"","",1,0," "," ",""," "," ","",null," "," ",",,,,,,,,,,,,"]
[null,{"$f":"IF(A519=0,\" \",IF(ISNA(MATCH(A519,Personnel!A:A,0)),\"وجود ندارد\",LOOKUP(A519,Personnel!A:A,Personnel!B:B)))","v":" "},{"$f":"IF(A519=0,\" \",IF(ISNA(MATCH(A519,Personnel!A:A,0)),\"وجود ندارد\",LOOKUP(A519,Personnel!A:A,Personnel!C:C)))","v":" "},null,null,null,null,null,null,null,null,"","",1,0," "," ",""," "," ","",null," "," ",",,,,,,,,,,,,"]
[null,{"$f":"IF(A520=0,\" \",IF(ISNA(MATCH(A520,Personnel!A:A,0)),\"وجود ندارد\",LOOKUP(A520,Personnel!A:A,Personnel!B:B)))","v":" "},{"$f":"IF(A520=0,\" \",IF(ISNA(MATCH(A520,Personnel!A:A,0)),\"وجود ندارد\",LOOKUP(A520,Personnel!A:A,Personnel!C:C)))","v":" "},null,null,null,null,null,null,null,null,"","",1,0," "," ",""," "," ","",null," "," ",",,,,,,,,,,,,"]
[null,{"$f":"IF(A521=0,\" \",IF(ISNA(MATCH(A521,Personnel!A:A,0)),\"وجود ندارد\",LOOKUP(A521,Personnel!A:A,Personnel!B:B)))","v":" "},{"$f":"IF(A521=0,\" \",IF(ISNA(MATCH(A521,Personnel!A:A,0)),\"وجود ندارد\",LOOKUP(A521,Personnel!A:A,Personnel!C:C)))","v":" "},null,null,null,null,null,null,null,null,"","",1,0," "," ",""," "," ","",null," "," ",",,,,,,,,,,,,"]
[null,{"$f":"IF(A522=0,\" \",IF(ISNA(MATCH(A522,Personnel!A:A,0)),\"وجود ندارد\",LOOKUP(A522,Personnel!A:A,Personnel!B:B)))","v":" "},{"$f":"IF(A522=0,\" \",IF(ISNA(MATCH(A522,Personnel!A:A,0)),\"وجود ندارد\",LOOKUP(A522,Personnel!A:A,Personnel!C:C)))","v":" "},null,null,null,null,null,null,null,null,"","",1,0," "," ",""," "," ","",null," "," ",",,,,,,,,,,,,"]
[null,{"$f":"IF(A523=0,\" \",IF(ISNA(MATCH(A523,Personnel!A:A,0)),\"وجود ندارد\",LOOKUP(A523,Personnel!A:A,Personnel!B:B)))","v":" "},{"$f":"IF(A523=0,\" \",IF(ISNA(MATCH(A523,Personnel!A:A,0)),\"وجود ندارد\",LOOKUP(A523,Personnel!A:A,Personnel!C:C)))","v":" "},null,null,null,null,null,null,null,null,"","",1,0," "," ",""," "," ","",null," "," ",",,,,,,,,,,,,"]
[null,{"$f":"IF(A524=0,\" \",IF(ISNA(MATCH(A524,Personnel!A:A,0)),\"وجود ندارد\",LOOKUP(A524,Personnel!A:A,Personnel!B:B)))","v":" "},{"$f":"IF(A524=0,\" \",IF(ISNA(MATCH(A524,Personnel!A:A,0)),\"وجود ندارد\",LOOKUP(A524,Personnel!A:A,Personnel!C:C)))","v":" "},null,null,null,null,null,null,null,null,"","",1,0," "," ",""," "," ","",null," "," ",",,,,,,,,,,,,"]
[null,{"$f":"IF(A525=0,\" \",IF(ISNA(MATCH(A525,Personnel!A:A,0)),\"وجود ندارد\",LOOKUP(A525,Personnel!A:A,Personnel!B:B)))","v":" "},{"$f":"IF(A525=0,\" \",IF(ISNA(MATCH(A525,Personnel!A:A,0)),\"وجود ندارد\",LOOKUP(A525,Personnel!A:A,Personnel!C:C)))","v":" "},null,null,null,null,null,null,null,null,"","",1,0," "," ",""," "," ","",null," "," ",",,,,,,,,,,,,"]
[null,{"$f":"IF(A526=0,\" \",IF(ISNA(MATCH(A526,Personnel!A:A,0)),\"وجود ندارد\",LOOKUP(A526,Personnel!A:A,Personnel!B:B)))","v":" "},{"$f":"IF(A526=0,\" \",IF(ISNA(MATCH(A526,Personnel!A:A,0)),\"وجود ندارد\",LOOKUP(A526,Personnel!A:A,Personnel!C:C)))","v":" "},null,null,null,null,null,null,null,null,"","",1,0," "," ",""," "," ","",null," "," ",",,,,,,,,,,,,"]
[null,{"$f":"IF(A527=0,\" \",IF(ISNA(MATCH(A527,Personnel!A:A,0)),\"وجود ندارد\",LOOKUP(A527,Personnel!A:A,Personnel!B:B)))","v":" "},{"$f":"IF(A527=0,\" \",IF(ISNA(MATCH(A527,Personnel!A:A,0)),\"وجود ندارد\",LOOKUP(A527,Personnel!A:A,Personnel!C:C)))","v":" "},null,null,null,null,null,null,null,null,"","",1,0," "," ",""," "," ","",null," "," ",",,,,,,,,,,,,"]
[null,{"$f":"IF(A528=0,\" \",IF(ISNA(MATCH(A528,Personnel!A:A,0)),\"وجود ندارد\",LOOKUP(A528,Personnel!A:A,Personnel!B:B)))","v":" "},{"$f":"IF(A528=0,\" \",IF(ISNA(MATCH(A528,Personnel!A:A,0)),\"وجود ندارد\",LOOKUP(A528,Personnel!A:A,Personnel!C:C)))","v":" "},null,null,null,null,null,null,null,null,"","",1,0," "," ",""," "," ","",null," "," ",",,,,,,,,,,,,"]
[null,{"$f":"IF(A529=0,\" \",IF(ISNA(MATCH(A529,Personnel!A:A,0)),\"وجود ندارد\",LOOKUP(A529,Personnel!A:A,Personnel!B:B)))","v":" "},{"$f":"IF(A529=0,\" \",IF(ISNA(MATCH(A529,Personnel!A:A,0)),\"وجود ندارد\",LOOKUP(A529,Personnel!A:A,Personnel!C:C)))","v":" "},null,null,null,null,null,null,null,null,"","",1,0," "," ",""," "," ","",null," "," ",",,,,,,,,,,,,"]
[null,{"$f":"IF(A530=0,\" \",IF(ISNA(MATCH(A530,Personnel!A:A,0)),\"وجود ندارد\",LOOKUP(A530,Personnel!A:A,Personnel!B:B)))","v":" "},{"$f":"IF(A530=0,\" \",IF(ISNA(MATCH(A530,Personnel!A:A,0)),\"وجود ندارد\",LOOKUP(A530,Personnel!A:A,Personnel!C:C)))","v":" "},null,null,null,null,null,null,null,null,"","",1,0," "," ",""," "," ","",null," "," ",",,,,,,,,,,,,"]
[null,{"$f":"IF(A531=0,\" \",IF(ISNA(MATCH(A531,Personnel!A:A,0)),\"وجود ندارد\",LOOKUP(A531,Personnel!A:A,Personnel!B:B)))","v":" "},{"$f":"IF(A531=0,\" \",IF(ISNA(MATCH(A531,Personnel!A:A,0)),\"وجود ندارد\",LOOKUP(A531,Personnel!A:A,Personnel!C:C)))","v":" "},null,null,null,null,null,null,null,null,"","",1,0," "," ",""," "," ","",null," "," ",",,,,,,,,,,,,"]
[null,{"$f":"IF(A532=0,\" \",IF(ISNA(MATCH(A532,Personnel!A:A,0)),\"وجود ندارد\",LOOKUP(A532,Personnel!A:A,Personnel!B:B)))","v":" "},{"$f":"IF(A532=0,\" \",IF(ISNA(MATCH(A532,Personnel!A:A,0)),\"وجود ندارد\",LOOKUP(A532,Personnel!A:A,Personnel!C:C)))","v":" "},null,null,null,null,null,null,null,null,"","",1,0," "," ",""," "," ","",null," "," ",",,,,,,,,,,,,"]
[null,{"$f":"IF(A533=0,\" \",IF(ISNA(MATCH(A533,Personnel!A:A,0)),\"وجود ندارد\",LOOKUP(A533,Personnel!A:A,Personnel!B:B)))","v":" "},{"$f":"IF(A533=0,\" \",IF(ISNA(MATCH(A533,Personnel!A:A,0)),\"وجود ندارد\",LOOKUP(A533,Personnel!A:A,Personnel!C:C)))","v":" "},null,null,null,null,null,null,null,null,"","",1,0," "," ",""," "," ","",null," "," ",",,,,,,,,,,,,"]
[null,{"$f":"IF(A534=0,\" \",IF(ISNA(MATCH(A534,Personnel!A:A,0)),\"وجود ندارد\",LOOKUP(A534,Personnel!A:A,Personnel!B:B)))","v":" "},{"$f":"IF(A534=0,\" \",IF(ISNA(MATCH(A534,Personnel!A:A,0)),\"وجود ندارد\",LOOKUP(A534,Personnel!A:A,Personnel!C:C)))","v":" "},null,null,null,null,null,null,null,null,"","",1,0," "," ",""," "," ","",null," "," ",",,,,,,,,,,,,"]
[null,{"$f":"IF(A535=0,\" \",IF(ISNA(MATCH(A535,Personnel!A:A,0)),\"وجود ندارد\",LOOKUP(A535,Personnel!A:A,Personnel!B:B)))","v":" "},{"$f":"IF(A535=0,\" \",IF(ISNA(MATCH(A535,Personnel!A:A,0)),\"وجود ندارد\",LOOKUP(A535,Personnel!A:A,Personnel!C:C)))","v":" "},null,null,null,null,null,null,null,null,"","",1,0," "," ",""," "," ","",null," "," ",",,,,,,,,,,,,"]
[null,{"$f":"IF(A536=0,\" \",IF(ISNA(MATCH(A536,Personnel!A:A,0)),\"وجود ندارد\",LOOKUP(A536,Personnel!A:A,Personnel!B:B)))","v":" "},{"$f":"IF(A536=0,\" \",IF(ISNA(MATCH(A536,Personnel!A:A,0)),\"وجود ندارد\",LOOKUP(A536,Personnel!A:A,Personnel!C:C)))","v":" "},null,null,null,null,null,null,null,null,"","",1,0," "," ",""," "," ","",null," "," ",",,,,,,,,,,,,"]
[null,{"$f":"IF(A537=0,\" \",IF(ISNA(MATCH(A537,Personnel!A:A,0)),\"وجود ندارد\",LOOKUP(A537,Personnel!A:A,Personnel!B:B)))","v":" "},{"$f":"IF(A537=0,\" \",IF(ISNA(MATCH(A537,Personnel!A:A,0)),\"وجود ندارد\",LOOKUP(A537,Personnel!A:A,Personnel!C:C)))","v":" "},null,null,null,null,null,null,null,null,"","",1,0," "," ",""," "," ","",null," "," ",",,,,,,,,,,,,"]
[null,{"$f":"IF(A538=0,\" \",IF(ISNA(MATCH(A538,Personnel!A:A,0)),\"وجود ندارد\",LOOKUP(A538,Personnel!A:A,Personnel!B:B)))","v":" "},{"$f":"IF(A538=0,\" \",IF(ISNA(MATCH(A538,Personnel!A:A,0)),\"وجود ندارد\",LOOKUP(A538,Personnel!A:A,Personnel!C:C)))","v":" "},null,null,null,null,null,null,null,null,"","",1,0," "," ",""," "," ","",null," "," ",",,,,,,,,,,,,"]
[null,{"$f":"IF(A539=0,\" \",IF(ISNA(MATCH(A539,Personnel!A:A,0)),\"وجود ندارد\",LOOKUP(A539,Personnel!A:A,Personnel!B:B)))","v":" "},{"$f":"IF(A539=0,\" \",IF(ISNA(MATCH(A539,Personnel!A:A,0)),\"وجود ندارد\",LOOKUP(A539,Personnel!A:A,Personnel!C:C)))","v":" "},null,null,null,null,null,null,null,null,"","",1,0," "," ",""," "," ","",null," "," ",",,,,,,,,,,,,"]
[null,{"$f":"IF(A540=0,\" \",IF(ISNA(MATCH(A540,Personnel!A:A,0)),\"وجود ندارد\",LOOKUP(A540,Personnel!A:A,Personnel!B:B)))","v":" "},{"$f":"IF(A540=0,\" \",IF(ISNA(MATCH(A540,Personnel!A:A,0)),\"وجود ندارد\",LOOKUP(A540,Personnel!A:A,Personnel!C:C)))","v":" "},null,null,null,null,null,null,null,null,"","",1,0," "," ",""," "," ","",null," "," ",",,,,,,,,,,,,"]
[null,{"$f":"IF(A541=0,\" \",IF(ISNA(MATCH(A541,Personnel!A:A,0)),\"وجود ندارد\",LOOKUP(A541,Personnel!A:A,Personnel!B:B)))","v":" "},{"$f":"IF(A541=0,\" \",IF(ISNA(MATCH(A541,Personnel!A:A,0)),\"وجود ندارد\",LOOKUP(A541,Personnel!A:A,Personnel!C:C)))","v":" "},null,null,null,null,null,null,null,null,"","",1,0," "," ",""," "," ","",null," "," ",",,,,,,,,,,,,"]
[null,{"$f":"IF(A542=0,\" \",IF(ISNA(MATCH(A542,Personnel!A:A,0)),\"وجود ندارد\",LOOKUP(A542,Personnel!A:A,Personnel!B:B)))","v":" "},{"$f":"IF(A542=0,\" \",IF(ISNA(MATCH(A542,Personnel!A:A,0)),\"وجود ندارد\",LOOKUP(A542,Personnel!A:A,Personnel!C:C)))","v":" "},null,null,null,null,null,null,null,null,"","",1,0," "," ",""," "," ","",null," "," ",",,,,,,,,,,,,"]
[null,{"$f":"IF(A543=0,\" \",IF(ISNA(MATCH(A543,Personnel!A:A,0)),\"وجود ندارد\",LOOKUP(A543,Personnel!A:A,Personnel!B:B)))","v":" "},{"$f":"IF(A543=0,\" \",IF(ISNA(MATCH(A543,Personnel!A:A,0)),\"وجود ندارد\",LOOKUP(A543,Personnel!A:A,Personnel!C:C)))","v":" "},null,null,null,null,null,null,null,null,"","",1,0," "," ",""," "," ","",null," "," ",",,,,,,,,,,,,"]
[null,{"$f":"IF(A544=0,\" \",IF(ISNA(MATCH(A544,Personnel!A:A,0)),\"وجود ندارد\",LOOKUP(A544,Personnel!A:A,Personnel!B:B)))","v":" "},{"$f":"IF(A544=0,\" \",IF(ISNA(MATCH(A544,Personnel!A:A,0)),\"وجود ندارد\",LOOKUP(A544,Personnel!A:A,Personnel!C:C)))","v":" "},null,null,null,null,null,null,null,null,"","",1,0," "," ",""," "," ","",null," "," ",",,,,,,,,,,,,"]
[null,{"$f":"IF(A545=0,\" \",IF(ISNA(MATCH(A545,Personnel!A:A,0)),\"وجود ندارد\",LOOKUP(A545,Personnel!A:A,Personnel!B:B)))","v":" "},{"$f":"IF(A545=0,\" \",IF(ISNA(MATCH(A545,Personnel!A:A,0)),\"وجود ندارد\",LOOKUP(A545,Personnel!A:A,Personnel!C:C)))","v":" "},null,null,null,null,null,null,null,null,"","",1,0," "," ",""," "," ","",null," "," ",",,,,,,,,,,,,"]
[null,{"$f":"IF(A546=0,\" \",IF(ISNA(MATCH(A546,Personnel!A:A,0)),\"وجود ندارد\",LOOKUP(A546,Personnel!A:A,Personnel!B:B)))","v":" "},{"$f":"IF(A546=0,\" \",IF(ISNA(MATCH(A546,Personnel!A:A,0)),\"وجود ندارد\",LOOKUP(A546,Personnel!A:A,Personnel!C:C)))","v":" "},null,null,null,null,null,null,null,null,"","",1,0," "," ",""," "," ","",null," "," ",",,,,,,,,,,,,"]
[null,{"$f":"IF(A547=0,\" \",IF(ISNA(MATCH(A547,Personnel!A:A,0)),\"وجود ندارد\",LOOKUP(A547,Personnel!A:A,Personnel!B:B)))","v":" "},{"$f":"IF(A547=0,\" \",IF(ISNA(MATCH(A547,Personnel!A:A,0)),\"وجود ندارد\",LOOKUP(A547,Personnel!A:A,Personnel!C:C)))","v":" "},null,null,null,null,null,null,null,null,"","",1,0," "," ",""," "," ","",null," "," ",",,,,,,,,,,,,"]
[null,{"$f":"IF(A548=0,\" \",IF(ISNA(MATCH(A548,Personnel!A:A,0)),\"وجود ندارد\",LOOKUP(A548,Personnel!A:A,Personnel!B:B)))","v":" "},{"$f":"IF(A548=0,\" \",IF(ISNA(MATCH(A548,Personnel!A:A,0)),\"وجود ندارد\",LOOKUP(A548,Personnel!A:A,Personnel!C:C)))","v":" "},null,null,null,null,null,null,null,null,"","",1,0," "," ",""," "," ","",null," "," ",",,,,,,,,,,,,"]
[null,{"$f":"IF(A549=0,\" \",IF(ISNA(MATCH(A549,Personnel!A:A,0)),\"وجود ندارد\",LOOKUP(A549,Personnel!A:A,Personnel!B:B)))","v":" "},{"$f":"IF(A549=0,\" \",IF(ISNA(MATCH(A549,Personnel!A:A,0)),\"وجود ندارد\",LOOKUP(A549,Personnel!A:A,Personnel!C:C)))","v":" "},null,null,null,null,null,null,null,null,"","",1,0," "," ",""," "," ","",null," "," ",",,,,,,,,,,,,"]
[null,{"$f":"IF(A550=0,\" \",IF(ISNA(MATCH(A550,Personnel!A:A,0)),\"وجود ندارد\",LOOKUP(A550,Personnel!A:A,Personnel!B:B)))","v":" "},{"$f":"IF(A550=0,\" \",IF(ISNA(MATCH(A550,Personnel!A:A,0)),\"وجود ندارد\",LOOKUP(A550,Personnel!A:A,Personnel!C:C)))","v":" "},null,null,null,null,null,null,null,null,"","",1,0," "," ",""," "," ","",null," "," ",",,,,,,,,,,,,"]
[null,{"$f":"IF(A551=0,\" \",IF(ISNA(MATCH(A551,Personnel!A:A,0)),\"وجود ندارد\",LOOKUP(A551,Personnel!A:A,Personnel!B:B)))","v":" "},{"$f":"IF(A551=0,\" \",IF(ISNA(MATCH(A551,Personnel!A:A,0)),\"وجود ندارد\",LOOKUP(A551,Personnel!A:A,Personnel!C:C)))","v":" "},null,null,null,null,null,null,null,null,"","",1,0," "," ",""," "," ","",null," "," ",",,,,,,,,,,,,"]
[null,{"$f":"IF(A552=0,\" \",IF(ISNA(MATCH(A552,Personnel!A:A,0)),\"وجود ندارد\",LOOKUP(A552,Personnel!A:A,Personnel!B:B)))","v":" "},{"$f":"IF(A552=0,\" \",IF(ISNA(MATCH(A552,Personnel!A:A,0)),\"وجود ندارد\",LOOKUP(A552,Personnel!A:A,Personnel!C:C)))","v":" "},null,null,null,null,null,null,null,null,"","",1,0," "," ",""," "," ","",null," "," ",",,,,,,,,,,,,"]
[null,{"$f":"IF(A553=0,\" \",IF(ISNA(MATCH(A553,Personnel!A:A,0)),\"وجود ندارد\",LOOKUP(A553,Personnel!A:A,Personnel!B:B)))","v":" "},{"$f":"IF(A553=0,\" \",IF(ISNA(MATCH(A553,Personnel!A:A,0)),\"وجود ندارد\",LOOKUP(A553,Personnel!A:A,Personnel!C:C)))","v":" "},null,null,null,null,null,null,null,null,"","",1,0," "," ",""," "," ","",null," "," ",",,,,,,,,,,,,"]
[null,{"$f":"IF(A554=0,\" \",IF(ISNA(MATCH(A554,Personnel!A:A,0)),\"وجود ندارد\",LOOKUP(A554,Personnel!A:A,Personnel!B:B)))","v":" "},{"$f":"IF(A554=0,\" \",IF(ISNA(MATCH(A554,Personnel!A:A,0)),\"وجود ندارد\",LOOKUP(A554,Personnel!A:A,Personnel!C:C)))","v":" "},null,null,null,null,null,null,null,null,"","",1,0," "," ",""," "," ","",null," "," ",",,,,,,,,,,,,"]
[null,{"$f":"IF(A555=0,\" \",IF(ISNA(MATCH(A555,Personnel!A:A,0)),\"وجود ندارد\",LOOKUP(A555,Personnel!A:A,Personnel!B:B)))","v":" "},{"$f":"IF(A555=0,\" \",IF(ISNA(MATCH(A555,Personnel!A:A,0)),\"وجود ندارد\",LOOKUP(A555,Personnel!A:A,Personnel!C:C)))","v":" "},null,null,null,null,null,null,null,null,"","",1,0," "," ",""," "," ","",null," "," ",",,,,,,,,,,,,"]
[null,{"$f":"IF(A556=0,\" \",IF(ISNA(MATCH(A556,Personnel!A:A,0)),\"وجود ندارد\",LOOKUP(A556,Personnel!A:A,Personnel!B:B)))","v":" "},{"$f":"IF(A556=0,\" \",IF(ISNA(MATCH(A556,Personnel!A:A,0)),\"وجود ندارد\",LOOKUP(A556,Personnel!A:A,Personnel!C:C)))","v":" "},null,null,null,null,null,null,null,null,"","",1,0," "," ",""," "," ","",null," "," ",",,,,,,,,,,,,"]
[null,{"$f":"IF(A557=0,\" \",IF(ISNA(MATCH(A557,Personnel!A:A,0)),\"وجود ندارد\",LOOKUP(A557,Personnel!A:A,Personnel!B:B)))","v":" "},{"$f":"IF(A557=0,\" \",IF(ISNA(MATCH(A557,Personnel!A:A,0)),\"وجود ندارد\",LOOKUP(A557,Personnel!A:A,Personnel!C:C)))","v":" "},null,null,null,null,null,null,null,null,"","",1,0," "," ",""," "," ","",null," "," ",",,,,,,,,,,,,"]
[null,{"$f":"IF(A558=0,\" \",IF(ISNA(MATCH(A558,Personnel!A:A,0)),\"وجود ندارد\",LOOKUP(A558,Personnel!A:A,Personnel!B:B)))","v":" "},{"$f":"IF(A558=0,\" \",IF(ISNA(MATCH(A558,Personnel!A:A,0)),\"وجود ندارد\",LOOKUP(A558,Personnel!A:A,Personnel!C:C)))","v":" "},null,null,null,null,null,null,null,null,"","",1,0," "," ",""," "," ","",null," "," ",",,,,,,,,,,,,"]
[null,{"$f":"IF(A559=0,\" \",IF(ISNA(MATCH(A559,Personnel!A:A,0)),\"وجود ندارد\",LOOKUP(A559,Personnel!A:A,Personnel!B:B)))","v":" "},{"$f":"IF(A559=0,\" \",IF(ISNA(MATCH(A559,Personnel!A:A,0)),\"وجود ندارد\",LOOKUP(A559,Personnel!A:A,Personnel!C:C)))","v":" "},null,null,null,null,null,null,null,null,"","",1,0," "," ",""," "," ","",null," "," ",",,,,,,,,,,,,"]
[null,{"$f":"IF(A560=0,\" \",IF(ISNA(MATCH(A560,Personnel!A:A,0)),\"وجود ندارد\",LOOKUP(A560,Personnel!A:A,Personnel!B:B)))","v":" "},{"$f":"IF(A560=0,\" \",IF(ISNA(MATCH(A560,Personnel!A:A,0)),\"وجود ندارد\",LOOKUP(A560,Personnel!A:A,Personnel!C:C)))","v":" "},null,null,null,null,null,null,null,null,"","",1,0," "," ",""," "," ","",null," "," ",",,,,,,,,,,,,"]
[null,{"$f":"IF(A561=0,\" \",IF(ISNA(MATCH(A561,Personnel!A:A,0)),\"وجود ندارد\",LOOKUP(A561,Personnel!A:A,Personnel!B:B)))","v":" "},{"$f":"IF(A561=0,\" \",IF(ISNA(MATCH(A561,Personnel!A:A,0)),\"وجود ندارد\",LOOKUP(A561,Personnel!A:A,Personnel!C:C)))","v":" "},null,null,null,null,null,null,null,null,"","",1,0," "," ",""," "," ","",null," "," ",",,,,,,,,,,,,"]
[null,{"$f":"IF(A562=0,\" \",IF(ISNA(MATCH(A562,Personnel!A:A,0)),\"وجود ندارد\",LOOKUP(A562,Personnel!A:A,Personnel!B:B)))","v":" "},{"$f":"IF(A562=0,\" \",IF(ISNA(MATCH(A562,Personnel!A:A,0)),\"وجود ندارد\",LOOKUP(A562,Personnel!A:A,Personnel!C:C)))","v":" "},null,null,null,null,null,null,null,null,"","",1,0," "," ",""," "," ","",null," "," ",",,,,,,,,,,,,"]
[null,{"$f":"IF(A563=0,\" \",IF(ISNA(MATCH(A563,Personnel!A:A,0)),\"وجود ندارد\",LOOKUP(A563,Personnel!A:A,Personnel!B:B)))","v":" "},{"$f":"IF(A563=0,\" \",IF(ISNA(MATCH(A563,Personnel!A:A,0)),\"وجود ندارد\",LOOKUP(A563,Personnel!A:A,Personnel!C:C)))","v":" "},null,null,null,null,null,null,null,null,"","",1,0," "," ",""," "," ","",null," "," ",",,,,,,,,,,,,"]
[null,{"$f":"IF(A564=0,\" \",IF(ISNA(MATCH(A564,Personnel!A:A,0)),\"وجود ندارد\",LOOKUP(A564,Personnel!A:A,Personnel!B:B)))","v":" "},{"$f":"IF(A564=0,\" \",IF(ISNA(MATCH(A564,Personnel!A:A,0)),\"وجود ندارد\",LOOKUP(A564,Personnel!A:A,Personnel!C:C)))","v":" "},null,null,null,null,null,null,null,null,"","",1,0," "," ",""," "," ","",null," "," ",",,,,,,,,,,,,"]
[null,{"$f":"IF(A565=0,\" \",IF(ISNA(MATCH(A565,Personnel!A:A,0)),\"وجود ندارد\",LOOKUP(A565,Personnel!A:A,Personnel!B:B)))","v":" "},{"$f":"IF(A565=0,\" \",IF(ISNA(MATCH(A565,Personnel!A:A,0)),\"وجود ندارد\",LOOKUP(A565,Personnel!A:A,Personnel!C:C)))","v":" "},null,null,null,null,null,null,null,null,"","",1,0," "," ",""," "," ","",null," "," ",",,,,,,,,,,,,"]
[null,{"$f":"IF(A566=0,\" \",IF(ISNA(MATCH(A566,Personnel!A:A,0)),\"وجود ندارد\",LOOKUP(A566,Personnel!A:A,Personnel!B:B)))","v":" "},{"$f":"IF(A566=0,\" \",IF(ISNA(MATCH(A566,Personnel!A:A,0)),\"وجود ندارد\",LOOKUP(A566,Personnel!A:A,Personnel!C:C)))","v":" "},null,null,null,null,null,null,null,null,"","",1,0," "," ",""," "," ","",null," "," ",",,,,,,,,,,,,"]
[null,{"$f":"IF(A567=0,\" \",IF(ISNA(MATCH(A567,Personnel!A:A,0)),\"وجود ندارد\",LOOKUP(A567,Personnel!A:A,Personnel!B:B)))","v":" "},{"$f":"IF(A567=0,\" \",IF(ISNA(MATCH(A567,Personnel!A:A,0)),\"وجود ندارد\",LOOKUP(A567,Personnel!A:A,Personnel!C:C)))","v":" "},null,null,null,null,null,null,null,null,"","",1,0," "," ",""," "," ","",null," "," ",",,,,,,,,,,,,"]
[null,{"$f":"IF(A568=0,\" \",IF(ISNA(MATCH(A568,Personnel!A:A,0)),\"وجود ندارد\",LOOKUP(A568,Personnel!A:A,Personnel!B:B)))","v":" "},{"$f":"IF(A568=0,\" \",IF(ISNA(MATCH(A568,Personnel!A:A,0)),\"وجود ندارد\",LOOKUP(A568,Personnel!A:A,Personnel!C:C)))","v":" "},null,null,null,null,null,null,null,null,"","",1,0," "," ",""," "," ","",null," "," ",",,,,,,,,,,,,"]
[null,{"$f":"IF(A569=0,\" \",IF(ISNA(MATCH(A569,Personnel!A:A,0)),\"وجود ندارد\",LOOKUP(A569,Personnel!A:A,Personnel!B:B)))","v":" "},{"$f":"IF(A569=0,\" \",IF(ISNA(MATCH(A569,Personnel!A:A,0)),\"وجود ندارد\",LOOKUP(A569,Personnel!A:A,Personnel!C:C)))","v":" "},null,null,null,null,null,null,null,null,"","",1,0," "," ",""," "," ","",null," "," ",",,,,,,,,,,,,"]
[null,{"$f":"IF(A570=0,\" \",IF(ISNA(MATCH(A570,Personnel!A:A,0)),\"وجود ندارد\",LOOKUP(A570,Personnel!A:A,Personnel!B:B)))","v":" "},{"$f":"IF(A570=0,\" \",IF(ISNA(MATCH(A570,Personnel!A:A,0)),\"وجود ندارد\",LOOKUP(A570,Personnel!A:A,Personnel!C:C)))","v":" "},null,null,null,null,null,null,null,null,"","",1,0," "," ",""," "," ","",null," "," ",",,,,,,,,,,,,"]
[null,{"$f":"IF(A571=0,\" \",IF(ISNA(MATCH(A571,Personnel!A:A,0)),\"وجود ندارد\",LOOKUP(A571,Personnel!A:A,Personnel!B:B)))","v":" "},{"$f":"IF(A571=0,\" \",IF(ISNA(MATCH(A571,Personnel!A:A,0)),\"وجود ندارد\",LOOKUP(A571,Personnel!A:A,Personnel!C:C)))","v":" "},null,null,null,null,null,null,null,null,"","",1,0," "," ",""," "," ","",null," "," ",",,,,,,,,,,,,"]
[null,{"$f":"IF(A572=0,\" \",IF(ISNA(MATCH(A572,Personnel!A:A,0)),\"وجود ندارد\",LOOKUP(A572,Personnel!A:A,Personnel!B:B)))","v":" "},{"$f":"IF(A572=0,\" \",IF(ISNA(MATCH(A572,Personnel!A:A,0)),\"وجود ندارد\",LOOKUP(A572,Personnel!A:A,Personnel!C:C)))","v":" "},null,null,null,null,null,null,null,null,"","",1,0," "," ",""," "," ","",null," "," ",",,,,,,,,,,,,"]
[null,{"$f":"IF(A573=0,\" \",IF(ISNA(MATCH(A573,Personnel!A:A,0)),\"وجود ندارد\",LOOKUP(A573,Personnel!A:A,Personnel!B:B)))","v":" "},{"$f":"IF(A573=0,\" \",IF(ISNA(MATCH(A573,Personnel!A:A,0)),\"وجود ندارد\",LOOKUP(A573,Personnel!A:A,Personnel!C:C)))","v":" "},null,null,null,null,null,null,null,null,"","",1,0," "," ",""," "," ","",null," "," ",",,,,,,,,,,,,"]
[null,{"$f":"IF(A574=0,\" \",IF(ISNA(MATCH(A574,Personnel!A:A,0)),\"وجود ندارد\",LOOKUP(A574,Personnel!A:A,Personnel!B:B)))","v":" "},{"$f":"IF(A574=0,\" \",IF(ISNA(MATCH(A574,Personnel!A:A,0)),\"وجود ندارد\",LOOKUP(A574,Personnel!A:A,Personnel!C:C)))","v":" "},null,null,null,null,null,null,null,null,"","",1,0," "," ",""," "," ","",null," "," ",",,,,,,,,,,,,"]
[null,{"$f":"IF(A575=0,\" \",IF(ISNA(MATCH(A575,Personnel!A:A,0)),\"وجود ندارد\",LOOKUP(A575,Personnel!A:A,Personnel!B:B)))","v":" "},{"$f":"IF(A575=0,\" \",IF(ISNA(MATCH(A575,Personnel!A:A,0)),\"وجود ندارد\",LOOKUP(A575,Personnel!A:A,Personnel!C:C)))","v":" "},null,null,null,null,null,null,null,null,"","",1,0," "," ",""," "," ","",null," "," ",",,,,,,,,,,,,"]
[null,{"$f":"IF(A576=0,\" \",IF(ISNA(MATCH(A576,Personnel!A:A,0)),\"وجود ندارد\",LOOKUP(A576,Personnel!A:A,Personnel!B:B)))","v":" "},{"$f":"IF(A576=0,\" \",IF(ISNA(MATCH(A576,Personnel!A:A,0)),\"وجود ندارد\",LOOKUP(A576,Personnel!A:A,Personnel!C:C)))","v":" "},null,null,null,null,null,null,null,null,"","",1,0," "," ",""," "," ","",null," "," ",",,,,,,,,,,,,"]
[null,{"$f":"IF(A577=0,\" \",IF(ISNA(MATCH(A577,Personnel!A:A,0)),\"وجود ندارد\",LOOKUP(A577,Personnel!A:A,Personnel!B:B)))","v":" "},{"$f":"IF(A577=0,\" \",IF(ISNA(MATCH(A577,Personnel!A:A,0)),\"وجود ندارد\",LOOKUP(A577,Personnel!A:A,Personnel!C:C)))","v":" "},null,null,null,null,null,null,null,null,"","",1,0," "," ",""," "," ","",null," "," ",",,,,,,,,,,,,"]
[null,{"$f":"IF(A578=0,\" \",IF(ISNA(MATCH(A578,Personnel!A:A,0)),\"وجود ندارد\",LOOKUP(A578,Personnel!A:A,Personnel!B:B)))","v":" "},{"$f":"IF(A578=0,\" \",IF(ISNA(MATCH(A578,Personnel!A:A,0)),\"وجود ندارد\",LOOKUP(A578,Personnel!A:A,Personnel!C:C)))","v":" "},null,null,null,null,null,null,null,null,"","",1,0,{"$f":"IF(A578=0,\" \",IF(N578+O578<>0,\"تاریخ اشتباه است\",\"\"))","v":" "},{"$f":"IF(A578=0,\" \",IF(AND(G578<>0,H578>G578),\"مبلغ قسط از مبلغ کل بیشتر است\",\"\"))","v":" "},""," ",{"$f":"IF(A578=0,\" \",IF(OR(K578<1,K578>3),\"نوع عمل اشتباه است\",\"\"))","v":" "},"",null," "," ",",,,,,,,,,,,,"]
[null,{"$f":"IF(A579=0,\" \",IF(ISNA(MATCH(A579,Personnel!A:A,0)),\"وجود ندارد\",LOOKUP(A579,Personnel!A:A,Personnel!B:B)))","v":" "},{"$f":"IF(A579=0,\" \",IF(ISNA(MATCH(A579,Personnel!A:A,0)),\"وجود ندارد\",LOOKUP(A579,Personnel!A:A,Personnel!C:C)))","v":" "},null,null,null,null,null,null,null,null,{"$f":"IF(K579=0,\"\",IF(K579=1,\"ایجاد\",IF(K579=2,\"اصلاح\",\"حذف\")))","v":""},{"$f":"IF(AND(K579=3,H579+I579+J579+F579+G579<>0),\"برای عمل حذف اطلاعات اضافی وارد شده است\",\"\")","v":""},{"$f":"IF(AND(K579<>3,F579<900000),1,0)","v":1},{"$f":"IF(F579>991231,1,0)","v":0}," "," ",{"$f":"IF(AND(A579=0,H579+I579+J579+F579+G579+K579+E579+D579<>0),\"در این ردیف شماره پرسنلی وجود ندارد اما اطلاعات دیگر وارد شده است\",\"\")","v":""},{"$f":"IF(A579=0,\" \",IF(D579=0,\"کد وام وارد نشده است\",\"\"))","v":" "}," ",{"$f":"IF(AND(OR(K579=1,K579=2),H579=0),\"مبلغ قسط نمی تواند خالی باشد\",\"\")","v":""},null,{"$f":"IF(AND(A579=0,A580<>0),\"دراین ردیف اصلاحاتی وجود ندارد . لطفا ردیفی را خالی باقی نگذارید\",IF(AND(A579=0,R579=\"\"),\" \",IF(M579&\",\"&P579&\",\"&Q579&\",\"&R579&\",\"&S579&\",\"&T579&\",\"&U579=\",,,,,,\",\"صحیح\",M579&\",\"&P579&\",\"&Q579&\",\"&R579&\",\"&S579&\",\"&T579&\",\"&U579)))","v":" "},{"$f":"IF(AND(ROW(X579)>$Z$2,W579=\" \"),\" \",IF(W579=\" \",IF(AND(A579=0,$Z$2<>$Z$4),\"دراین ردیف اصلاحاتی وجود ندارد . لطفا ردیفی را خالی نگذارید\",W579),W579))","v":" "},{"$f":"CONCATENATE(A579,\",\",D579,\",\",E579,\",\",F579,\",\",G579,\",\",H579,\",\",I579,\",\",K579,\",\",,\",\",J579,\",\",\",\",V579,\",\")","v":",,,,,,,,,,,,"}]
[null,{"$f":"IF(A580=0,\" \",IF(ISNA(MATCH(A580,Personnel!A:A,0)),\"وجود ندارد\",LOOKUP(A580,Personnel!A:A,Personnel!B:B)))","v":" "},{"$f":"IF(A580=0,\" \",IF(ISNA(MATCH(A580,Personnel!A:A,0)),\"وجود ندارد\",LOOKUP(A580,Personnel!A:A,Personnel!C:C)))","v":" "},null,null,null,null,null,null,null,null,"","",1,0," "," ",""," "," ","",null," "," ",",,,,,,,,,,,,"]
[null,{"$f":"IF(A581=0,\" \",IF(ISNA(MATCH(A581,Personnel!A:A,0)),\"وجود ندارد\",LOOKUP(A581,Personnel!A:A,Personnel!B:B)))","v":" "},{"$f":"IF(A581=0,\" \",IF(ISNA(MATCH(A581,Personnel!A:A,0)),\"وجود ندارد\",LOOKUP(A581,Personnel!A:A,Personnel!C:C)))","v":" "},null,null,null,null,null,null,null,null,"","",1,0," "," ",""," "," ","",null," "," ",",,,,,,,,,,,,"]
[null,{"$f":"IF(A582=0,\" \",IF(ISNA(MATCH(A582,Personnel!A:A,0)),\"وجود ندارد\",LOOKUP(A582,Personnel!A:A,Personnel!B:B)))","v":" "},{"$f":"IF(A582=0,\" \",IF(ISNA(MATCH(A582,Personnel!A:A,0)),\"وجود ندارد\",LOOKUP(A582,Personnel!A:A,Personnel!C:C)))","v":" "},null,null,null,null,null,null,null,null,"","",1,0," "," ",""," "," ","",null," "," ",",,,,,,,,,,,,"]
[null,{"$f":"IF(A583=0,\" \",IF(ISNA(MATCH(A583,Personnel!A:A,0)),\"وجود ندارد\",LOOKUP(A583,Personnel!A:A,Personnel!B:B)))","v":" "},{"$f":"IF(A583=0,\" \",IF(ISNA(MATCH(A583,Personnel!A:A,0)),\"وجود ندارد\",LOOKUP(A583,Personnel!A:A,Personnel!C:C)))","v":" "},null,null,null,null,null,null,null,null,"","",1,0," "," ",""," "," ","",null," "," ",",,,,,,,,,,,,"]
[null,{"$f":"IF(A584=0,\" \",IF(ISNA(MATCH(A584,Personnel!A:A,0)),\"وجود ندارد\",LOOKUP(A584,Personnel!A:A,Personnel!B:B)))","v":" "},{"$f":"IF(A584=0,\" \",IF(ISNA(MATCH(A584,Personnel!A:A,0)),\"وجود ندارد\",LOOKUP(A584,Personnel!A:A,Personnel!C:C)))","v":" "},null,null,null,null,null,null,null,null,"","",1,0," "," ",""," "," ","",null," "," ",",,,,,,,,,,,,"]
[null,{"$f":"IF(A585=0,\" \",IF(ISNA(MATCH(A585,Personnel!A:A,0)),\"وجود ندارد\",LOOKUP(A585,Personnel!A:A,Personnel!B:B)))","v":" "},{"$f":"IF(A585=0,\" \",IF(ISNA(MATCH(A585,Personnel!A:A,0)),\"وجود ندارد\",LOOKUP(A585,Personnel!A:A,Personnel!C:C)))","v":" "},null,null,null,null,null,null,null,null,"","",1,0," "," ",""," "," ","",null," "," ",",,,,,,,,,,,,"]
[null,{"$f":"IF(A586=0,\" \",IF(ISNA(MATCH(A586,Personnel!A:A,0)),\"وجود ندارد\",LOOKUP(A586,Personnel!A:A,Personnel!B:B)))","v":" "},{"$f":"IF(A586=0,\" \",IF(ISNA(MATCH(A586,Personnel!A:A,0)),\"وجود ندارد\",LOOKUP(A586,Personnel!A:A,Personnel!C:C)))","v":" "},null,null,null,null,null,null,null,null,"","",1,0," "," ",""," "," ","",null," "," ",",,,,,,,,,,,,"]
[null,{"$f":"IF(A587=0,\" \",IF(ISNA(MATCH(A587,Personnel!A:A,0)),\"وجود ندارد\",LOOKUP(A587,Personnel!A:A,Personnel!B:B)))","v":" "},{"$f":"IF(A587=0,\" \",IF(ISNA(MATCH(A587,Personnel!A:A,0)),\"وجود ندارد\",LOOKUP(A587,Personnel!A:A,Personnel!C:C)))","v":" "},null,null,null,null,null,null,null,null,"","",1,0," "," ",""," "," ","",null," "," ",",,,,,,,,,,,,"]
[null,{"$f":"IF(A588=0,\" \",IF(ISNA(MATCH(A588,Personnel!A:A,0)),\"وجود ندارد\",LOOKUP(A588,Personnel!A:A,Personnel!B:B)))","v":" "},{"$f":"IF(A588=0,\" \",IF(ISNA(MATCH(A588,Personnel!A:A,0)),\"وجود ندارد\",LOOKUP(A588,Personnel!A:A,Personnel!C:C)))","v":" "},null,null,null,null,null,null,null,null,"","",1,0," "," ",""," "," ","",null," "," ",",,,,,,,,,,,,"]
[null,{"$f":"IF(A589=0,\" \",IF(ISNA(MATCH(A589,Personnel!A:A,0)),\"وجود ندارد\",LOOKUP(A589,Personnel!A:A,Personnel!B:B)))","v":" "},{"$f":"IF(A589=0,\" \",IF(ISNA(MATCH(A589,Personnel!A:A,0)),\"وجود ندارد\",LOOKUP(A589,Personnel!A:A,Personnel!C:C)))","v":" "},null,null,null,null,null,null,null,null,"","",1,0," "," ",""," "," ","",null," "," ",",,,,,,,,,,,,"]
[null,{"$f":"IF(A590=0,\" \",IF(ISNA(MATCH(A590,Personnel!A:A,0)),\"وجود ندارد\",LOOKUP(A590,Personnel!A:A,Personnel!B:B)))","v":" "},{"$f":"IF(A590=0,\" \",IF(ISNA(MATCH(A590,Personnel!A:A,0)),\"وجود ندارد\",LOOKUP(A590,Personnel!A:A,Personnel!C:C)))","v":" "},null,null,null,null,null,null,null,null,"","",1,0," "," ",""," "," ","",null," "," ",",,,,,,,,,,,,"]
[null,{"$f":"IF(A591=0,\" \",IF(ISNA(MATCH(A591,Personnel!A:A,0)),\"وجود ندارد\",LOOKUP(A591,Personnel!A:A,Personnel!B:B)))","v":" "},{"$f":"IF(A591=0,\" \",IF(ISNA(MATCH(A591,Personnel!A:A,0)),\"وجود ندارد\",LOOKUP(A591,Personnel!A:A,Personnel!C:C)))","v":" "},null,null,null,null,null,null,null,null,"","",1,0," "," ",""," "," ","",null," "," ",",,,,,,,,,,,,"]
[null,{"$f":"IF(A592=0,\" \",IF(ISNA(MATCH(A592,Personnel!A:A,0)),\"وجود ندارد\",LOOKUP(A592,Personnel!A:A,Personnel!B:B)))","v":" "},{"$f":"IF(A592=0,\" \",IF(ISNA(MATCH(A592,Personnel!A:A,0)),\"وجود ندارد\",LOOKUP(A592,Personnel!A:A,Personnel!C:C)))","v":" "},null,null,null,null,null,null,null,null,"","",1,0," "," ",""," "," ","",null," "," ",",,,,,,,,,,,,"]
[null,{"$f":"IF(A593=0,\" \",IF(ISNA(MATCH(A593,Personnel!A:A,0)),\"وجود ندارد\",LOOKUP(A593,Personnel!A:A,Personnel!B:B)))","v":" "},{"$f":"IF(A593=0,\" \",IF(ISNA(MATCH(A593,Personnel!A:A,0)),\"وجود ندارد\",LOOKUP(A593,Personnel!A:A,Personnel!C:C)))","v":" "},null,null,null,null,null,null,null,null,"","",1,0," "," ",""," "," ","",null," "," ",",,,,,,,,,,,,"]
[null,{"$f":"IF(A594=0,\" \",IF(ISNA(MATCH(A594,Personnel!A:A,0)),\"وجود ندارد\",LOOKUP(A594,Personnel!A:A,Personnel!B:B)))","v":" "},{"$f":"IF(A594=0,\" \",IF(ISNA(MATCH(A594,Personnel!A:A,0)),\"وجود ندارد\",LOOKUP(A594,Personnel!A:A,Personnel!C:C)))","v":" "},null,null,null,null,null,null,null,null,"","",1,0," "," ",""," "," ","",null," "," ",",,,,,,,,,,,,"]
[null,{"$f":"IF(A595=0,\" \",IF(ISNA(MATCH(A595,Personnel!A:A,0)),\"وجود ندارد\",LOOKUP(A595,Personnel!A:A,Personnel!B:B)))","v":" "},{"$f":"IF(A595=0,\" \",IF(ISNA(MATCH(A595,Personnel!A:A,0)),\"وجود ندارد\",LOOKUP(A595,Personnel!A:A,Personnel!C:C)))","v":" "},null,null,null,null,null,null,null,null,"","",1,0," "," ",""," "," ","",null," "," ",",,,,,,,,,,,,"]
[null,{"$f":"IF(A596=0,\" \",IF(ISNA(MATCH(A596,Personnel!A:A,0)),\"وجود ندارد\",LOOKUP(A596,Personnel!A:A,Personnel!B:B)))","v":" "},{"$f":"IF(A596=0,\" \",IF(ISNA(MATCH(A596,Personnel!A:A,0)),\"وجود ندارد\",LOOKUP(A596,Personnel!A:A,Personnel!C:C)))","v":" "},null,null,null,null,null,null,null,null,"","",1,0," "," ",""," "," ","",null," "," ",",,,,,,,,,,,,"]
[null,{"$f":"IF(A597=0,\" \",IF(ISNA(MATCH(A597,Personnel!A:A,0)),\"وجود ندارد\",LOOKUP(A597,Personnel!A:A,Personnel!B:B)))","v":" "},{"$f":"IF(A597=0,\" \",IF(ISNA(MATCH(A597,Personnel!A:A,0)),\"وجود ندارد\",LOOKUP(A597,Personnel!A:A,Personnel!C:C)))","v":" "},null,null,null,null,null,null,null,null,"","",1,0," "," ",""," "," ","",null," "," ",",,,,,,,,,,,,"]
[null,{"$f":"IF(A598=0,\" \",IF(ISNA(MATCH(A598,Personnel!A:A,0)),\"وجود ندارد\",LOOKUP(A598,Personnel!A:A,Personnel!B:B)))","v":" "},{"$f":"IF(A598=0,\" \",IF(ISNA(MATCH(A598,Personnel!A:A,0)),\"وجود ندارد\",LOOKUP(A598,Personnel!A:A,Personnel!C:C)))","v":" "},null,null,null,null,null,null,null,null,"","",1,0," "," ",""," "," ","",null," "," ",",,,,,,,,,,,,"]
[null,{"$f":"IF(A599=0,\" \",IF(ISNA(MATCH(A599,Personnel!A:A,0)),\"وجود ندارد\",LOOKUP(A599,Personnel!A:A,Personnel!B:B)))","v":" "},{"$f":"IF(A599=0,\" \",IF(ISNA(MATCH(A599,Personnel!A:A,0)),\"وجود ندارد\",LOOKUP(A599,Personnel!A:A,Personnel!C:C)))","v":" "},null,null,null,null,null,null,null,null,"","",1,0," "," ",""," "," ","",null," "," ",",,,,,,,,,,,,"]
[null,{"$f":"IF(A600=0,\" \",IF(ISNA(MATCH(A600,Personnel!A:A,0)),\"وجود ندارد\",LOOKUP(A600,Personnel!A:A,Personnel!B:B)))","v":" "},{"$f":"IF(A600=0,\" \",IF(ISNA(MATCH(A600,Personnel!A:A,0)),\"وجود ندارد\",LOOKUP(A600,Personnel!A:A,Personnel!C:C)))","v":" "},null,null,null,null,null,null,null,null,"","",1,0," "," ",""," "," ","",null," "," ",",,,,,,,,,,,,"]
[null,{"$f":"IF(A601=0,\" \",IF(ISNA(MATCH(A601,Personnel!A:A,0)),\"وجود ندارد\",LOOKUP(A601,Personnel!A:A,Personnel!B:B)))","v":" "},{"$f":"IF(A601=0,\" \",IF(ISNA(MATCH(A601,Personnel!A:A,0)),\"وجود ندارد\",LOOKUP(A601,Personnel!A:A,Personnel!C:C)))","v":" "},null,null,null,null,null,null,null,null,"","",1,0," "," ",""," "," ","",null," "," ",",,,,,,,,,,,,"]
[null,{"$f":"IF(A602=0,\" \",IF(ISNA(MATCH(A602,Personnel!A:A,0)),\"وجود ندارد\",LOOKUP(A602,Personnel!A:A,Personnel!B:B)))","v":" "},{"$f":"IF(A602=0,\" \",IF(ISNA(MATCH(A602,Personnel!A:A,0)),\"وجود ندارد\",LOOKUP(A602,Personnel!A:A,Personnel!C:C)))","v":" "},null,null,null,null,null,null,null,null,"","",1,0," "," ",""," "," ","",null," "," ",",,,,,,,,,,,,"]
[null,{"$f":"IF(A603=0,\" \",IF(ISNA(MATCH(A603,Personnel!A:A,0)),\"وجود ندارد\",LOOKUP(A603,Personnel!A:A,Personnel!B:B)))","v":" "},{"$f":"IF(A603=0,\" \",IF(ISNA(MATCH(A603,Personnel!A:A,0)),\"وجود ندارد\",LOOKUP(A603,Personnel!A:A,Personnel!C:C)))","v":" "},null,null,null,null,null,null,null,null,"","",1,0," "," ",""," "," ","",null," "," ",",,,,,,,,,,,,"]
[null,{"$f":"IF(A604=0,\" \",IF(ISNA(MATCH(A604,Personnel!A:A,0)),\"وجود ندارد\",LOOKUP(A604,Personnel!A:A,Personnel!B:B)))","v":" "},{"$f":"IF(A604=0,\" \",IF(ISNA(MATCH(A604,Personnel!A:A,0)),\"وجود ندارد\",LOOKUP(A604,Personnel!A:A,Personnel!C:C)))","v":" "},null,null,null,null,null,null,null,null,"","",1,0," "," ",""," "," ","",null," "," ",",,,,,,,,,,,,"]
[null,{"$f":"IF(A605=0,\" \",IF(ISNA(MATCH(A605,Personnel!A:A,0)),\"وجود ندارد\",LOOKUP(A605,Personnel!A:A,Personnel!B:B)))","v":" "},{"$f":"IF(A605=0,\" \",IF(ISNA(MATCH(A605,Personnel!A:A,0)),\"وجود ندارد\",LOOKUP(A605,Personnel!A:A,Personnel!C:C)))","v":" "},null,null,null,null,null,null,null,null,"","",1,0," "," ",""," "," ","",null," "," ",",,,,,,,,,,,,"]
[null,{"$f":"IF(A606=0,\" \",IF(ISNA(MATCH(A606,Personnel!A:A,0)),\"وجود ندارد\",LOOKUP(A606,Personnel!A:A,Personnel!B:B)))","v":" "},{"$f":"IF(A606=0,\" \",IF(ISNA(MATCH(A606,Personnel!A:A,0)),\"وجود ندارد\",LOOKUP(A606,Personnel!A:A,Personnel!C:C)))","v":" "},null,null,null,null,null,null,null,null,"","",1,0," "," ",""," "," ","",null," "," ",",,,,,,,,,,,,"]
[null,{"$f":"IF(A607=0,\" \",IF(ISNA(MATCH(A607,Personnel!A:A,0)),\"وجود ندارد\",LOOKUP(A607,Personnel!A:A,Personnel!B:B)))","v":" "},{"$f":"IF(A607=0,\" \",IF(ISNA(MATCH(A607,Personnel!A:A,0)),\"وجود ندارد\",LOOKUP(A607,Personnel!A:A,Personnel!C:C)))","v":" "},null,null,null,null,null,null,null,null,"","",1,0," "," ",""," "," ","",null," "," ",",,,,,,,,,,,,"]
[null,{"$f":"IF(A608=0,\" \",IF(ISNA(MATCH(A608,Personnel!A:A,0)),\"وجود ندارد\",LOOKUP(A608,Personnel!A:A,Personnel!B:B)))","v":" "},{"$f":"IF(A608=0,\" \",IF(ISNA(MATCH(A608,Personnel!A:A,0)),\"وجود ندارد\",LOOKUP(A608,Personnel!A:A,Personnel!C:C)))","v":" "},null,null,null,null,null,null,null,null,"","",1,0," "," ",""," "," ","",null," "," ",",,,,,,,,,,,,"]
[null,{"$f":"IF(A609=0,\" \",IF(ISNA(MATCH(A609,Personnel!A:A,0)),\"وجود ندارد\",LOOKUP(A609,Personnel!A:A,Personnel!B:B)))","v":" "},{"$f":"IF(A609=0,\" \",IF(ISNA(MATCH(A609,Personnel!A:A,0)),\"وجود ندارد\",LOOKUP(A609,Personnel!A:A,Personnel!C:C)))","v":" "},null,null,null,null,null,null,null,null,"","",1,0," "," ",""," "," ","",null," "," ",",,,,,,,,,,,,"]
[null,{"$f":"IF(A610=0,\" \",IF(ISNA(MATCH(A610,Personnel!A:A,0)),\"وجود ندارد\",LOOKUP(A610,Personnel!A:A,Personnel!B:B)))","v":" "},{"$f":"IF(A610=0,\" \",IF(ISNA(MATCH(A610,Personnel!A:A,0)),\"وجود ندارد\",LOOKUP(A610,Personnel!A:A,Personnel!C:C)))","v":" "},null,null,null,null,null,null,null,null,"","",1,0," "," ",""," "," ","",null," "," ",",,,,,,,,,,,,"]
[null,{"$f":"IF(A611=0,\" \",IF(ISNA(MATCH(A611,Personnel!A:A,0)),\"وجود ندارد\",LOOKUP(A611,Personnel!A:A,Personnel!B:B)))","v":" "},{"$f":"IF(A611=0,\" \",IF(ISNA(MATCH(A611,Personnel!A:A,0)),\"وجود ندارد\",LOOKUP(A611,Personnel!A:A,Personnel!C:C)))","v":" "},null,null,null,null,null,null,null,null,"","",1,0," "," ",""," "," ","",null," "," ",",,,,,,,,,,,,"]
[null,{"$f":"IF(A612=0,\" \",IF(ISNA(MATCH(A612,Personnel!A:A,0)),\"وجود ندارد\",LOOKUP(A612,Personnel!A:A,Personnel!B:B)))","v":" "},{"$f":"IF(A612=0,\" \",IF(ISNA(MATCH(A612,Personnel!A:A,0)),\"وجود ندارد\",LOOKUP(A612,Personnel!A:A,Personnel!C:C)))","v":" "},null,null,null,null,null,null,null,null,"","",1,0," "," ",""," "," ","",null," "," ",",,,,,,,,,,,,"]
[null,{"$f":"IF(A613=0,\" \",IF(ISNA(MATCH(A613,Personnel!A:A,0)),\"وجود ندارد\",LOOKUP(A613,Personnel!A:A,Personnel!B:B)))","v":" "},{"$f":"IF(A613=0,\" \",IF(ISNA(MATCH(A613,Personnel!A:A,0)),\"وجود ندارد\",LOOKUP(A613,Personnel!A:A,Personnel!C:C)))","v":" "},null,null,null,null,null,null,null,null,"","",1,0," "," ",""," "," ","",null," "," ",",,,,,,,,,,,,"]
[null,{"$f":"IF(A614=0,\" \",IF(ISNA(MATCH(A614,Personnel!A:A,0)),\"وجود ندارد\",LOOKUP(A614,Personnel!A:A,Personnel!B:B)))","v":" "},{"$f":"IF(A614=0,\" \",IF(ISNA(MATCH(A614,Personnel!A:A,0)),\"وجود ندارد\",LOOKUP(A614,Personnel!A:A,Personnel!C:C)))","v":" "},null,null,null,null,null,null,null,null,"","",1,0," "," ",""," "," ","",null," "," ",",,,,,,,,,,,,"]
[null,{"$f":"IF(A615=0,\" \",IF(ISNA(MATCH(A615,Personnel!A:A,0)),\"وجود ندارد\",LOOKUP(A615,Personnel!A:A,Personnel!B:B)))","v":" "},{"$f":"IF(A615=0,\" \",IF(ISNA(MATCH(A615,Personnel!A:A,0)),\"وجود ندارد\",LOOKUP(A615,Personnel!A:A,Personnel!C:C)))","v":" "},null,null,null,null,null,null,null,null,"","",1,0," "," ",""," "," ","",null," "," ",",,,,,,,,,,,,"]
[null,{"$f":"IF(A616=0,\" \",IF(ISNA(MATCH(A616,Personnel!A:A,0)),\"وجود ندارد\",LOOKUP(A616,Personnel!A:A,Personnel!B:B)))","v":" "},{"$f":"IF(A616=0,\" \",IF(ISNA(MATCH(A616,Personnel!A:A,0)),\"وجود ندارد\",LOOKUP(A616,Personnel!A:A,Personnel!C:C)))","v":" "},null,null,null,null,null,null,null,null,"","",1,0," "," ",""," "," ","",null," "," ",",,,,,,,,,,,,"]
[null,{"$f":"IF(A617=0,\" \",IF(ISNA(MATCH(A617,Personnel!A:A,0)),\"وجود ندارد\",LOOKUP(A617,Personnel!A:A,Personnel!B:B)))","v":" "},{"$f":"IF(A617=0,\" \",IF(ISNA(MATCH(A617,Personnel!A:A,0)),\"وجود ندارد\",LOOKUP(A617,Personnel!A:A,Personnel!C:C)))","v":" "},null,null,null,null,null,null,null,null,"","",1,0," "," ",""," "," ","",null," "," ",",,,,,,,,,,,,"]
[null,{"$f":"IF(A618=0,\" \",IF(ISNA(MATCH(A618,Personnel!A:A,0)),\"وجود ندارد\",LOOKUP(A618,Personnel!A:A,Personnel!B:B)))","v":" "},{"$f":"IF(A618=0,\" \",IF(ISNA(MATCH(A618,Personnel!A:A,0)),\"وجود ندارد\",LOOKUP(A618,Personnel!A:A,Personnel!C:C)))","v":" "},null,null,null,null,null,null,null,null,"","",1,0," "," ",""," "," ","",null," "," ",",,,,,,,,,,,,"]
[null,{"$f":"IF(A619=0,\" \",IF(ISNA(MATCH(A619,Personnel!A:A,0)),\"وجود ندارد\",LOOKUP(A619,Personnel!A:A,Personnel!B:B)))","v":" "},{"$f":"IF(A619=0,\" \",IF(ISNA(MATCH(A619,Personnel!A:A,0)),\"وجود ندارد\",LOOKUP(A619,Personnel!A:A,Personnel!C:C)))","v":" "},null,null,null,null,null,null,null,null,"","",1,0," "," ",""," "," ","",null," "," ",",,,,,,,,,,,,"]
[null,{"$f":"IF(A620=0,\" \",IF(ISNA(MATCH(A620,Personnel!A:A,0)),\"وجود ندارد\",LOOKUP(A620,Personnel!A:A,Personnel!B:B)))","v":" "},{"$f":"IF(A620=0,\" \",IF(ISNA(MATCH(A620,Personnel!A:A,0)),\"وجود ندارد\",LOOKUP(A620,Personnel!A:A,Personnel!C:C)))","v":" "},null,null,null,null,null,null,null,null,"","",1,0," "," ",""," "," ","",null," "," ",",,,,,,,,,,,,"]
[null,{"$f":"IF(A621=0,\" \",IF(ISNA(MATCH(A621,Personnel!A:A,0)),\"وجود ندارد\",LOOKUP(A621,Personnel!A:A,Personnel!B:B)))","v":" "},{"$f":"IF(A621=0,\" \",IF(ISNA(MATCH(A621,Personnel!A:A,0)),\"وجود ندارد\",LOOKUP(A621,Personnel!A:A,Personnel!C:C)))","v":" "},null,null,null,null,null,null,null,null,"","",1,0," "," ",""," "," ","",null," "," ",",,,,,,,,,,,,"]
[null,{"$f":"IF(A622=0,\" \",IF(ISNA(MATCH(A622,Personnel!A:A,0)),\"وجود ندارد\",LOOKUP(A622,Personnel!A:A,Personnel!B:B)))","v":" "},{"$f":"IF(A622=0,\" \",IF(ISNA(MATCH(A622,Personnel!A:A,0)),\"وجود ندارد\",LOOKUP(A622,Personnel!A:A,Personnel!C:C)))","v":" "},null,null,null,null,null,null,null,null,"","",1,0," "," ",""," "," ","",null," "," ",",,,,,,,,,,,,"]
[null,{"$f":"IF(A623=0,\" \",IF(ISNA(MATCH(A623,Personnel!A:A,0)),\"وجود ندارد\",LOOKUP(A623,Personnel!A:A,Personnel!B:B)))","v":" "},{"$f":"IF(A623=0,\" \",IF(ISNA(MATCH(A623,Personnel!A:A,0)),\"وجود ندارد\",LOOKUP(A623,Personnel!A:A,Personnel!C:C)))","v":" "},null,null,null,null,null,null,null,null,"","",1,0," "," ",""," "," ","",null," "," ",",,,,,,,,,,,,"]
[null,{"$f":"IF(A624=0,\" \",IF(ISNA(MATCH(A624,Personnel!A:A,0)),\"وجود ندارد\",LOOKUP(A624,Personnel!A:A,Personnel!B:B)))","v":" "},{"$f":"IF(A624=0,\" \",IF(ISNA(MATCH(A624,Personnel!A:A,0)),\"وجود ندارد\",LOOKUP(A624,Personnel!A:A,Personnel!C:C)))","v":" "},null,null,null,null,null,null,null,null,"","",1,0," "," ",""," "," ","",null," "," ",",,,,,,,,,,,,"]
[null,{"$f":"IF(A625=0,\" \",IF(ISNA(MATCH(A625,Personnel!A:A,0)),\"وجود ندارد\",LOOKUP(A625,Personnel!A:A,Personnel!B:B)))","v":" "},{"$f":"IF(A625=0,\" \",IF(ISNA(MATCH(A625,Personnel!A:A,0)),\"وجود ندارد\",LOOKUP(A625,Personnel!A:A,Personnel!C:C)))","v":" "},null,null,null,null,null,null,null,null,"","",1,0," "," ",""," "," ","",null," "," ",",,,,,,,,,,,,"]
[null,{"$f":"IF(A626=0,\" \",IF(ISNA(MATCH(A626,Personnel!A:A,0)),\"وجود ندارد\",LOOKUP(A626,Personnel!A:A,Personnel!B:B)))","v":" "},{"$f":"IF(A626=0,\" \",IF(ISNA(MATCH(A626,Personnel!A:A,0)),\"وجود ندارد\",LOOKUP(A626,Personnel!A:A,Personnel!C:C)))","v":" "},null,null,null,null,null,null,null,null,"","",1,0," "," ",""," "," ","",null," "," ",",,,,,,,,,,,,"]
[null,{"$f":"IF(A627=0,\" \",IF(ISNA(MATCH(A627,Personnel!A:A,0)),\"وجود ندارد\",LOOKUP(A627,Personnel!A:A,Personnel!B:B)))","v":" "},{"$f":"IF(A627=0,\" \",IF(ISNA(MATCH(A627,Personnel!A:A,0)),\"وجود ندارد\",LOOKUP(A627,Personnel!A:A,Personnel!C:C)))","v":" "},null,null,null,null,null,null,null,null,"","",1,0," "," ",""," "," ","",null," "," ",",,,,,,,,,,,,"]
[null,{"$f":"IF(A628=0,\" \",IF(ISNA(MATCH(A628,Personnel!A:A,0)),\"وجود ندارد\",LOOKUP(A628,Personnel!A:A,Personnel!B:B)))","v":" "},{"$f":"IF(A628=0,\" \",IF(ISNA(MATCH(A628,Personnel!A:A,0)),\"وجود ندارد\",LOOKUP(A628,Personnel!A:A,Personnel!C:C)))","v":" "},null,null,null,null,null,null,null,null,"","",1,0," "," ",""," "," ","",null," "," ",",,,,,,,,,,,,"]
[null,{"$f":"IF(A629=0,\" \",IF(ISNA(MATCH(A629,Personnel!A:A,0)),\"وجود ندارد\",LOOKUP(A629,Personnel!A:A,Personnel!B:B)))","v":" "},{"$f":"IF(A629=0,\" \",IF(ISNA(MATCH(A629,Personnel!A:A,0)),\"وجود ندارد\",LOOKUP(A629,Personnel!A:A,Personnel!C:C)))","v":" "},null,null,null,null,null,null,null,null,"","",1,0," "," ",""," "," ","",null," "," ",",,,,,,,,,,,,"]
[null,{"$f":"IF(A630=0,\" \",IF(ISNA(MATCH(A630,Personnel!A:A,0)),\"وجود ندارد\",LOOKUP(A630,Personnel!A:A,Personnel!B:B)))","v":" "},{"$f":"IF(A630=0,\" \",IF(ISNA(MATCH(A630,Personnel!A:A,0)),\"وجود ندارد\",LOOKUP(A630,Personnel!A:A,Personnel!C:C)))","v":" "},null,null,null,null,null,null,null,null,"","",1,0," "," ",""," "," ","",null," "," ",",,,,,,,,,,,,"]
[null,{"$f":"IF(A631=0,\" \",IF(ISNA(MATCH(A631,Personnel!A:A,0)),\"وجود ندارد\",LOOKUP(A631,Personnel!A:A,Personnel!B:B)))","v":" "},{"$f":"IF(A631=0,\" \",IF(ISNA(MATCH(A631,Personnel!A:A,0)),\"وجود ندارد\",LOOKUP(A631,Personnel!A:A,Personnel!C:C)))","v":" "},null,null,null,null,null,null,null,null,"","",1,0," "," ",""," "," ","",null," "," ",",,,,,,,,,,,,"]
[null,{"$f":"IF(A632=0,\" \",IF(ISNA(MATCH(A632,Personnel!A:A,0)),\"وجود ندارد\",LOOKUP(A632,Personnel!A:A,Personnel!B:B)))","v":" "},{"$f":"IF(A632=0,\" \",IF(ISNA(MATCH(A632,Personnel!A:A,0)),\"وجود ندارد\",LOOKUP(A632,Personnel!A:A,Personnel!C:C)))","v":" "},null,null,null,null,null,null,null,null,"","",1,0," "," ",""," "," ","",null," "," ",",,,,,,,,,,,,"]
[null,{"$f":"IF(A633=0,\" \",IF(ISNA(MATCH(A633,Personnel!A:A,0)),\"وجود ندارد\",LOOKUP(A633,Personnel!A:A,Personnel!B:B)))","v":" "},{"$f":"IF(A633=0,\" \",IF(ISNA(MATCH(A633,Personnel!A:A,0)),\"وجود ندارد\",LOOKUP(A633,Personnel!A:A,Personnel!C:C)))","v":" "},null,null,null,null,null,null,null,null,"","",1,0," "," ",""," "," ","",null," "," ",",,,,,,,,,,,,"]
[null,{"$f":"IF(A634=0,\" \",IF(ISNA(MATCH(A634,Personnel!A:A,0)),\"وجود ندارد\",LOOKUP(A634,Personnel!A:A,Personnel!B:B)))","v":" "},{"$f":"IF(A634=0,\" \",IF(ISNA(MATCH(A634,Personnel!A:A,0)),\"وجود ندارد\",LOOKUP(A634,Personnel!A:A,Personnel!C:C)))","v":" "},null,null,null,null,null,null,null,null,"","",1,0," "," ",""," "," ","",null," "," ",",,,,,,,,,,,,"]
[null,{"$f":"IF(A635=0,\" \",IF(ISNA(MATCH(A635,Personnel!A:A,0)),\"وجود ندارد\",LOOKUP(A635,Personnel!A:A,Personnel!B:B)))","v":" "},{"$f":"IF(A635=0,\" \",IF(ISNA(MATCH(A635,Personnel!A:A,0)),\"وجود ندارد\",LOOKUP(A635,Personnel!A:A,Personnel!C:C)))","v":" "},null,null,null,null,null,null,null,null,"","",1,0," "," ",""," "," ","",null," "," ",",,,,,,,,,,,,"]
[null,{"$f":"IF(A636=0,\" \",IF(ISNA(MATCH(A636,Personnel!A:A,0)),\"وجود ندارد\",LOOKUP(A636,Personnel!A:A,Personnel!B:B)))","v":" "},{"$f":"IF(A636=0,\" \",IF(ISNA(MATCH(A636,Personnel!A:A,0)),\"وجود ندارد\",LOOKUP(A636,Personnel!A:A,Personnel!C:C)))","v":" "},null,null,null,null,null,null,null,null,"","",1,0," "," ",""," "," ","",null," "," ",",,,,,,,,,,,,"]
[null,{"$f":"IF(A637=0,\" \",IF(ISNA(MATCH(A637,Personnel!A:A,0)),\"وجود ندارد\",LOOKUP(A637,Personnel!A:A,Personnel!B:B)))","v":" "},{"$f":"IF(A637=0,\" \",IF(ISNA(MATCH(A637,Personnel!A:A,0)),\"وجود ندارد\",LOOKUP(A637,Personnel!A:A,Personnel!C:C)))","v":" "},null,null,null,null,null,null,null,null,"","",1,0," "," ",""," "," ","",null," "," ",",,,,,,,,,,,,"]
[null,{"$f":"IF(A638=0,\" \",IF(ISNA(MATCH(A638,Personnel!A:A,0)),\"وجود ندارد\",LOOKUP(A638,Personnel!A:A,Personnel!B:B)))","v":" "},{"$f":"IF(A638=0,\" \",IF(ISNA(MATCH(A638,Personnel!A:A,0)),\"وجود ندارد\",LOOKUP(A638,Personnel!A:A,Personnel!C:C)))","v":" "},null,null,null,null,null,null,null,null,"","",1,0," "," ",""," "," ","",null," "," ",",,,,,,,,,,,,"]
[null,{"$f":"IF(A639=0,\" \",IF(ISNA(MATCH(A639,Personnel!A:A,0)),\"وجود ندارد\",LOOKUP(A639,Personnel!A:A,Personnel!B:B)))","v":" "},{"$f":"IF(A639=0,\" \",IF(ISNA(MATCH(A639,Personnel!A:A,0)),\"وجود ندارد\",LOOKUP(A639,Personnel!A:A,Personnel!C:C)))","v":" "},null,null,null,null,null,null,null,null,"","",1,0," "," ",""," "," ","",null," "," ",",,,,,,,,,,,,"]
[null,{"$f":"IF(A640=0,\" \",IF(ISNA(MATCH(A640,Personnel!A:A,0)),\"وجود ندارد\",LOOKUP(A640,Personnel!A:A,Personnel!B:B)))","v":" "},{"$f":"IF(A640=0,\" \",IF(ISNA(MATCH(A640,Personnel!A:A,0)),\"وجود ندارد\",LOOKUP(A640,Personnel!A:A,Personnel!C:C)))","v":" "},null,null,null,null,null,null,null,null,"","",1,0," "," ",""," "," ","",null," "," ",",,,,,,,,,,,,"]
[null,{"$f":"IF(A641=0,\" \",IF(ISNA(MATCH(A641,Personnel!A:A,0)),\"وجود ندارد\",LOOKUP(A641,Personnel!A:A,Personnel!B:B)))","v":" "},{"$f":"IF(A641=0,\" \",IF(ISNA(MATCH(A641,Personnel!A:A,0)),\"وجود ندارد\",LOOKUP(A641,Personnel!A:A,Personnel!C:C)))","v":" "},null,null,null,null,null,null,null,null,"","",1,0," "," ",""," "," ","",null," "," ",",,,,,,,,,,,,"]
[null,{"$f":"IF(A642=0,\" \",IF(ISNA(MATCH(A642,Personnel!A:A,0)),\"وجود ندارد\",LOOKUP(A642,Personnel!A:A,Personnel!B:B)))","v":" "},{"$f":"IF(A642=0,\" \",IF(ISNA(MATCH(A642,Personnel!A:A,0)),\"وجود ندارد\",LOOKUP(A642,Personnel!A:A,Personnel!C:C)))","v":" "},null,null,null,null,null,null,null,null,"","",1,0,{"$f":"IF(A642=0,\" \",IF(N642+O642<>0,\"تاریخ اشتباه است\",\"\"))","v":" "},{"$f":"IF(A642=0,\" \",IF(AND(G642<>0,H642>G642),\"مبلغ قسط از مبلغ کل بیشتر است\",\"\"))","v":" "},""," ",{"$f":"IF(A642=0,\" \",IF(OR(K642<1,K642>3),\"نوع عمل اشتباه است\",\"\"))","v":" "},"",null," "," ",",,,,,,,,,,,,"]
[null,{"$f":"IF(A643=0,\" \",IF(ISNA(MATCH(A643,Personnel!A:A,0)),\"وجود ندارد\",LOOKUP(A643,Personnel!A:A,Personnel!B:B)))","v":" "},{"$f":"IF(A643=0,\" \",IF(ISNA(MATCH(A643,Personnel!A:A,0)),\"وجود ندارد\",LOOKUP(A643,Personnel!A:A,Personnel!C:C)))","v":" "},null,null,null,null,null,null,null,null,{"$f":"IF(K643=0,\"\",IF(K643=1,\"ایجاد\",IF(K643=2,\"اصلاح\",\"حذف\")))","v":""},{"$f":"IF(AND(K643=3,H643+I643+J643+F643+G643<>0),\"برای عمل حذف اطلاعات اضافی وارد شده است\",\"\")","v":""},{"$f":"IF(AND(K643<>3,F643<900000),1,0)","v":1},{"$f":"IF(F643>991231,1,0)","v":0}," "," ",{"$f":"IF(AND(A643=0,H643+I643+J643+F643+G643+K643+E643+D643<>0),\"در این ردیف شماره پرسنلی وجود ندارد اما اطلاعات دیگر وارد شده است\",\"\")","v":""},{"$f":"IF(A643=0,\" \",IF(D643=0,\"کد وام وارد نشده است\",\"\"))","v":" "}," ",{"$f":"IF(AND(OR(K643=1,K643=2),H643=0),\"مبلغ قسط نمی تواند خالی باشد\",\"\")","v":""},null,{"$f":"IF(AND(A643=0,A644<>0),\"دراین ردیف اصلاحاتی وجود ندارد . لطفا ردیفی را خالی باقی نگذارید\",IF(AND(A643=0,R643=\"\"),\" \",IF(M643&\",\"&P643&\",\"&Q643&\",\"&R643&\",\"&S643&\",\"&T643&\",\"&U643=\",,,,,,\",\"صحیح\",M643&\",\"&P643&\",\"&Q643&\",\"&R643&\",\"&S643&\",\"&T643&\",\"&U643)))","v":" "},{"$f":"IF(AND(ROW(X643)>$Z$2,W643=\" \"),\" \",IF(W643=\" \",IF(AND(A643=0,$Z$2<>$Z$4),\"دراین ردیف اصلاحاتی وجود ندارد . لطفا ردیفی را خالی نگذارید\",W643),W643))","v":" "},{"$f":"CONCATENATE(A643,\",\",D643,\",\",E643,\",\",F643,\",\",G643,\",\",H643,\",\",I643,\",\",K643,\",\",,\",\",J643,\",\",\",\",V643,\",\")","v":",,,,,,,,,,,,"}]
[null,{"$f":"IF(A644=0,\" \",IF(ISNA(MATCH(A644,Personnel!A:A,0)),\"وجود ندارد\",LOOKUP(A644,Personnel!A:A,Personnel!B:B)))","v":" "},{"$f":"IF(A644=0,\" \",IF(ISNA(MATCH(A644,Personnel!A:A,0)),\"وجود ندارد\",LOOKUP(A644,Personnel!A:A,Personnel!C:C)))","v":" "},null,null,null,null,null,null,null,null,"","",1,0," "," ",""," "," ","",null," "," ",",,,,,,,,,,,,"]
[null,{"$f":"IF(A645=0,\" \",IF(ISNA(MATCH(A645,Personnel!A:A,0)),\"وجود ندارد\",LOOKUP(A645,Personnel!A:A,Personnel!B:B)))","v":" "},{"$f":"IF(A645=0,\" \",IF(ISNA(MATCH(A645,Personnel!A:A,0)),\"وجود ندارد\",LOOKUP(A645,Personnel!A:A,Personnel!C:C)))","v":" "},null,null,null,null,null,null,null,null,"","",1,0," "," ",""," "," ","",null," "," ",",,,,,,,,,,,,"]
[null,{"$f":"IF(A646=0,\" \",IF(ISNA(MATCH(A646,Personnel!A:A,0)),\"وجود ندارد\",LOOKUP(A646,Personnel!A:A,Personnel!B:B)))","v":" "},{"$f":"IF(A646=0,\" \",IF(ISNA(MATCH(A646,Personnel!A:A,0)),\"وجود ندارد\",LOOKUP(A646,Personnel!A:A,Personnel!C:C)))","v":" "},null,null,null,null,null,null,null,null,"","",1,0," "," ",""," "," ","",null," "," ",",,,,,,,,,,,,"]
[null,{"$f":"IF(A647=0,\" \",IF(ISNA(MATCH(A647,Personnel!A:A,0)),\"وجود ندارد\",LOOKUP(A647,Personnel!A:A,Personnel!B:B)))","v":" "},{"$f":"IF(A647=0,\" \",IF(ISNA(MATCH(A647,Personnel!A:A,0)),\"وجود ندارد\",LOOKUP(A647,Personnel!A:A,Personnel!C:C)))","v":" "},null,null,null,null,null,null,null,null,"","",1,0," "," ",""," "," ","",null," "," ",",,,,,,,,,,,,"]
[null,{"$f":"IF(A648=0,\" \",IF(ISNA(MATCH(A648,Personnel!A:A,0)),\"وجود ندارد\",LOOKUP(A648,Personnel!A:A,Personnel!B:B)))","v":" "},{"$f":"IF(A648=0,\" \",IF(ISNA(MATCH(A648,Personnel!A:A,0)),\"وجود ندارد\",LOOKUP(A648,Personnel!A:A,Personnel!C:C)))","v":" "},null,null,null,null,null,null,null,null,"","",1,0," "," ",""," "," ","",null," "," ",",,,,,,,,,,,,"]
[null,{"$f":"IF(A649=0,\" \",IF(ISNA(MATCH(A649,Personnel!A:A,0)),\"وجود ندارد\",LOOKUP(A649,Personnel!A:A,Personnel!B:B)))","v":" "},{"$f":"IF(A649=0,\" \",IF(ISNA(MATCH(A649,Personnel!A:A,0)),\"وجود ندارد\",LOOKUP(A649,Personnel!A:A,Personnel!C:C)))","v":" "},null,null,null,null,null,null,null,null,"","",1,0," "," ",""," "," ","",null," "," ",",,,,,,,,,,,,"]
[null,{"$f":"IF(A650=0,\" \",IF(ISNA(MATCH(A650,Personnel!A:A,0)),\"وجود ندارد\",LOOKUP(A650,Personnel!A:A,Personnel!B:B)))","v":" "},{"$f":"IF(A650=0,\" \",IF(ISNA(MATCH(A650,Personnel!A:A,0)),\"وجود ندارد\",LOOKUP(A650,Personnel!A:A,Personnel!C:C)))","v":" "},null,null,null,null,null,null,null,null,"","",1,0," "," ",""," "," ","",null," "," ",",,,,,,,,,,,,"]
[null,{"$f":"IF(A651=0,\" \",IF(ISNA(MATCH(A651,Personnel!A:A,0)),\"وجود ندارد\",LOOKUP(A651,Personnel!A:A,Personnel!B:B)))","v":" "},{"$f":"IF(A651=0,\" \",IF(ISNA(MATCH(A651,Personnel!A:A,0)),\"وجود ندارد\",LOOKUP(A651,Personnel!A:A,Personnel!C:C)))","v":" "},null,null,null,null,null,null,null,null,"","",1,0," "," ",""," "," ","",null," "," ",",,,,,,,,,,,,"]
[null,{"$f":"IF(A652=0,\" \",IF(ISNA(MATCH(A652,Personnel!A:A,0)),\"وجود ندارد\",LOOKUP(A652,Personnel!A:A,Personnel!B:B)))","v":" "},{"$f":"IF(A652=0,\" \",IF(ISNA(MATCH(A652,Personnel!A:A,0)),\"وجود ندارد\",LOOKUP(A652,Personnel!A:A,Personnel!C:C)))","v":" "},null,null,null,null,null,null,null,null,"","",1,0," "," ",""," "," ","",null," "," ",",,,,,,,,,,,,"]
[null,{"$f":"IF(A653=0,\" \",IF(ISNA(MATCH(A653,Personnel!A:A,0)),\"وجود ندارد\",LOOKUP(A653,Personnel!A:A,Personnel!B:B)))","v":" "},{"$f":"IF(A653=0,\" \",IF(ISNA(MATCH(A653,Personnel!A:A,0)),\"وجود ندارد\",LOOKUP(A653,Personnel!A:A,Personnel!C:C)))","v":" "},null,null,null,null,null,null,null,null,"","",1,0," "," ",""," "," ","",null," "," ",",,,,,,,,,,,,"]
[null,{"$f":"IF(A654=0,\" \",IF(ISNA(MATCH(A654,Personnel!A:A,0)),\"وجود ندارد\",LOOKUP(A654,Personnel!A:A,Personnel!B:B)))","v":" "},{"$f":"IF(A654=0,\" \",IF(ISNA(MATCH(A654,Personnel!A:A,0)),\"وجود ندارد\",LOOKUP(A654,Personnel!A:A,Personnel!C:C)))","v":" "},null,null,null,null,null,null,null,null,"","",1,0," "," ",""," "," ","",null," "," ",",,,,,,,,,,,,"]
[null,{"$f":"IF(A655=0,\" \",IF(ISNA(MATCH(A655,Personnel!A:A,0)),\"وجود ندارد\",LOOKUP(A655,Personnel!A:A,Personnel!B:B)))","v":" "},{"$f":"IF(A655=0,\" \",IF(ISNA(MATCH(A655,Personnel!A:A,0)),\"وجود ندارد\",LOOKUP(A655,Personnel!A:A,Personnel!C:C)))","v":" "},null,null,null,null,null,null,null,null,"","",1,0," "," ",""," "," ","",null," "," ",",,,,,,,,,,,,"]
[null,{"$f":"IF(A656=0,\" \",IF(ISNA(MATCH(A656,Personnel!A:A,0)),\"وجود ندارد\",LOOKUP(A656,Personnel!A:A,Personnel!B:B)))","v":" "},{"$f":"IF(A656=0,\" \",IF(ISNA(MATCH(A656,Personnel!A:A,0)),\"وجود ندارد\",LOOKUP(A656,Personnel!A:A,Personnel!C:C)))","v":" "},null,null,null,null,null,null,null,null,"","",1,0," "," ",""," "," ","",null," "," ",",,,,,,,,,,,,"]
[null,{"$f":"IF(A657=0,\" \",IF(ISNA(MATCH(A657,Personnel!A:A,0)),\"وجود ندارد\",LOOKUP(A657,Personnel!A:A,Personnel!B:B)))","v":" "},{"$f":"IF(A657=0,\" \",IF(ISNA(MATCH(A657,Personnel!A:A,0)),\"وجود ندارد\",LOOKUP(A657,Personnel!A:A,Personnel!C:C)))","v":" "},null,null,null,null,null,null,null,null,"","",1,0," "," ",""," "," ","",null," "," ",",,,,,,,,,,,,"]
[null,{"$f":"IF(A658=0,\" \",IF(ISNA(MATCH(A658,Personnel!A:A,0)),\"وجود ندارد\",LOOKUP(A658,Personnel!A:A,Personnel!B:B)))","v":" "},{"$f":"IF(A658=0,\" \",IF(ISNA(MATCH(A658,Personnel!A:A,0)),\"وجود ندارد\",LOOKUP(A658,Personnel!A:A,Personnel!C:C)))","v":" "},null,null,null,null,null,null,null,null,"","",1,0," "," ",""," "," ","",null," "," ",",,,,,,,,,,,,"]
[null,{"$f":"IF(A659=0,\" \",IF(ISNA(MATCH(A659,Personnel!A:A,0)),\"وجود ندارد\",LOOKUP(A659,Personnel!A:A,Personnel!B:B)))","v":" "},{"$f":"IF(A659=0,\" \",IF(ISNA(MATCH(A659,Personnel!A:A,0)),\"وجود ندارد\",LOOKUP(A659,Personnel!A:A,Personnel!C:C)))","v":" "},null,null,null,null,null,null,null,null,"","",1,0," "," ",""," "," ","",null," "," ",",,,,,,,,,,,,"]
[null,{"$f":"IF(A660=0,\" \",IF(ISNA(MATCH(A660,Personnel!A:A,0)),\"وجود ندارد\",LOOKUP(A660,Personnel!A:A,Personnel!B:B)))","v":" "},{"$f":"IF(A660=0,\" \",IF(ISNA(MATCH(A660,Personnel!A:A,0)),\"وجود ندارد\",LOOKUP(A660,Personnel!A:A,Personnel!C:C)))","v":" "},null,null,null,null,null,null,null,null,"","",1,0," "," ",""," "," ","",null," "," ",",,,,,,,,,,,,"]
[null,{"$f":"IF(A661=0,\" \",IF(ISNA(MATCH(A661,Personnel!A:A,0)),\"وجود ندارد\",LOOKUP(A661,Personnel!A:A,Personnel!B:B)))","v":" "},{"$f":"IF(A661=0,\" \",IF(ISNA(MATCH(A661,Personnel!A:A,0)),\"وجود ندارد\",LOOKUP(A661,Personnel!A:A,Personnel!C:C)))","v":" "},null,null,null,null,null,null,null,null,"","",1,0," "," ",""," "," ","",null," "," ",",,,,,,,,,,,,"]
[null,{"$f":"IF(A662=0,\" \",IF(ISNA(MATCH(A662,Personnel!A:A,0)),\"وجود ندارد\",LOOKUP(A662,Personnel!A:A,Personnel!B:B)))","v":" "},{"$f":"IF(A662=0,\" \",IF(ISNA(MATCH(A662,Personnel!A:A,0)),\"وجود ندارد\",LOOKUP(A662,Personnel!A:A,Personnel!C:C)))","v":" "},null,null,null,null,null,null,null,null,"","",1,0," "," ",""," "," ","",null," "," ",",,,,,,,,,,,,"]
[null,{"$f":"IF(A663=0,\" \",IF(ISNA(MATCH(A663,Personnel!A:A,0)),\"وجود ندارد\",LOOKUP(A663,Personnel!A:A,Personnel!B:B)))","v":" "},{"$f":"IF(A663=0,\" \",IF(ISNA(MATCH(A663,Personnel!A:A,0)),\"وجود ندارد\",LOOKUP(A663,Personnel!A:A,Personnel!C:C)))","v":" "},null,null,null,null,null,null,null,null,"","",1,0," "," ",""," "," ","",null," "," ",",,,,,,,,,,,,"]
[null,{"$f":"IF(A664=0,\" \",IF(ISNA(MATCH(A664,Personnel!A:A,0)),\"وجود ندارد\",LOOKUP(A664,Personnel!A:A,Personnel!B:B)))","v":" "},{"$f":"IF(A664=0,\" \",IF(ISNA(MATCH(A664,Personnel!A:A,0)),\"وجود ندارد\",LOOKUP(A664,Personnel!A:A,Personnel!C:C)))","v":" "},null,null,null,null,null,null,null,null,"","",1,0," "," ",""," "," ","",null," "," ",",,,,,,,,,,,,"]
[null,{"$f":"IF(A665=0,\" \",IF(ISNA(MATCH(A665,Personnel!A:A,0)),\"وجود ندارد\",LOOKUP(A665,Personnel!A:A,Personnel!B:B)))","v":" "},{"$f":"IF(A665=0,\" \",IF(ISNA(MATCH(A665,Personnel!A:A,0)),\"وجود ندارد\",LOOKUP(A665,Personnel!A:A,Personnel!C:C)))","v":" "},null,null,null,null,null,null,null,null,"","",1,0," "," ",""," "," ","",null," "," ",",,,,,,,,,,,,"]
[null,{"$f":"IF(A666=0,\" \",IF(ISNA(MATCH(A666,Personnel!A:A,0)),\"وجود ندارد\",LOOKUP(A666,Personnel!A:A,Personnel!B:B)))","v":" "},{"$f":"IF(A666=0,\" \",IF(ISNA(MATCH(A666,Personnel!A:A,0)),\"وجود ندارد\",LOOKUP(A666,Personnel!A:A,Personnel!C:C)))","v":" "},null,null,null,null,null,null,null,null,"","",1,0," "," ",""," "," ","",null," "," ",",,,,,,,,,,,,"]
[null,{"$f":"IF(A667=0,\" \",IF(ISNA(MATCH(A667,Personnel!A:A,0)),\"وجود ندارد\",LOOKUP(A667,Personnel!A:A,Personnel!B:B)))","v":" "},{"$f":"IF(A667=0,\" \",IF(ISNA(MATCH(A667,Personnel!A:A,0)),\"وجود ندارد\",LOOKUP(A667,Personnel!A:A,Personnel!C:C)))","v":" "},null,null,null,null,null,null,null,null,"","",1,0," "," ",""," "," ","",null," "," ",",,,,,,,,,,,,"]
[null,{"$f":"IF(A668=0,\" \",IF(ISNA(MATCH(A668,Personnel!A:A,0)),\"وجود ندارد\",LOOKUP(A668,Personnel!A:A,Personnel!B:B)))","v":" "},{"$f":"IF(A668=0,\" \",IF(ISNA(MATCH(A668,Personnel!A:A,0)),\"وجود ندارد\",LOOKUP(A668,Personnel!A:A,Personnel!C:C)))","v":" "},null,null,null,null,null,null,null,null,"","",1,0," "," ",""," "," ","",null," "," ",",,,,,,,,,,,,"]
[null,{"$f":"IF(A669=0,\" \",IF(ISNA(MATCH(A669,Personnel!A:A,0)),\"وجود ندارد\",LOOKUP(A669,Personnel!A:A,Personnel!B:B)))","v":" "},{"$f":"IF(A669=0,\" \",IF(ISNA(MATCH(A669,Personnel!A:A,0)),\"وجود ندارد\",LOOKUP(A669,Personnel!A:A,Personnel!C:C)))","v":" "},null,null,null,null,null,null,null,null,"","",1,0," "," ",""," "," ","",null," "," ",",,,,,,,,,,,,"]
[null,{"$f":"IF(A670=0,\" \",IF(ISNA(MATCH(A670,Personnel!A:A,0)),\"وجود ندارد\",LOOKUP(A670,Personnel!A:A,Personnel!B:B)))","v":" "},{"$f":"IF(A670=0,\" \",IF(ISNA(MATCH(A670,Personnel!A:A,0)),\"وجود ندارد\",LOOKUP(A670,Personnel!A:A,Personnel!C:C)))","v":" "},null,null,null,null,null,null,null,null,"","",1,0," "," ",""," "," ","",null," "," ",",,,,,,,,,,,,"]
[null,{"$f":"IF(A671=0,\" \",IF(ISNA(MATCH(A671,Personnel!A:A,0)),\"وجود ندارد\",LOOKUP(A671,Personnel!A:A,Personnel!B:B)))","v":" "},{"$f":"IF(A671=0,\" \",IF(ISNA(MATCH(A671,Personnel!A:A,0)),\"وجود ندارد\",LOOKUP(A671,Personnel!A:A,Personnel!C:C)))","v":" "},null,null,null,null,null,null,null,null,"","",1,0," "," ",""," "," ","",null," "," ",",,,,,,,,,,,,"]
[null,{"$f":"IF(A672=0,\" \",IF(ISNA(MATCH(A672,Personnel!A:A,0)),\"وجود ندارد\",LOOKUP(A672,Personnel!A:A,Personnel!B:B)))","v":" "},{"$f":"IF(A672=0,\" \",IF(ISNA(MATCH(A672,Personnel!A:A,0)),\"وجود ندارد\",LOOKUP(A672,Personnel!A:A,Personnel!C:C)))","v":" "},null,null,null,null,null,null,null,null,"","",1,0," "," ",""," "," ","",null," "," ",",,,,,,,,,,,,"]
[null,{"$f":"IF(A673=0,\" \",IF(ISNA(MATCH(A673,Personnel!A:A,0)),\"وجود ندارد\",LOOKUP(A673,Personnel!A:A,Personnel!B:B)))","v":" "},{"$f":"IF(A673=0,\" \",IF(ISNA(MATCH(A673,Personnel!A:A,0)),\"وجود ندارد\",LOOKUP(A673,Personnel!A:A,Personnel!C:C)))","v":" "},null,null,null,null,null,null,null,null,"","",1,0," "," ",""," "," ","",null," "," ",",,,,,,,,,,,,"]
[null,{"$f":"IF(A674=0,\" \",IF(ISNA(MATCH(A674,Personnel!A:A,0)),\"وجود ندارد\",LOOKUP(A674,Personnel!A:A,Personnel!B:B)))","v":" "},{"$f":"IF(A674=0,\" \",IF(ISNA(MATCH(A674,Personnel!A:A,0)),\"وجود ندارد\",LOOKUP(A674,Personnel!A:A,Personnel!C:C)))","v":" "},null,null,null,null,null,null,null,null,"","",1,0," "," ",""," "," ","",null," "," ",",,,,,,,,,,,,"]
[null,{"$f":"IF(A675=0,\" \",IF(ISNA(MATCH(A675,Personnel!A:A,0)),\"وجود ندارد\",LOOKUP(A675,Personnel!A:A,Personnel!B:B)))","v":" "},{"$f":"IF(A675=0,\" \",IF(ISNA(MATCH(A675,Personnel!A:A,0)),\"وجود ندارد\",LOOKUP(A675,Personnel!A:A,Personnel!C:C)))","v":" "},null,null,null,null,null,null,null,null,"","",1,0," "," ",""," "," ","",null," "," ",",,,,,,,,,,,,"]
[null,{"$f":"IF(A676=0,\" \",IF(ISNA(MATCH(A676,Personnel!A:A,0)),\"وجود ندارد\",LOOKUP(A676,Personnel!A:A,Personnel!B:B)))","v":" "},{"$f":"IF(A676=0,\" \",IF(ISNA(MATCH(A676,Personnel!A:A,0)),\"وجود ندارد\",LOOKUP(A676,Personnel!A:A,Personnel!C:C)))","v":" "},null,null,null,null,null,null,null,null,"","",1,0," "," ",""," "," ","",null," "," ",",,,,,,,,,,,,"]
[null,{"$f":"IF(A677=0,\" \",IF(ISNA(MATCH(A677,Personnel!A:A,0)),\"وجود ندارد\",LOOKUP(A677,Personnel!A:A,Personnel!B:B)))","v":" "},{"$f":"IF(A677=0,\" \",IF(ISNA(MATCH(A677,Personnel!A:A,0)),\"وجود ندارد\",LOOKUP(A677,Personnel!A:A,Personnel!C:C)))","v":" "},null,null,null,null,null,null,null,null,"","",1,0," "," ",""," "," ","",null," "," ",",,,,,,,,,,,,"]
[null,{"$f":"IF(A678=0,\" \",IF(ISNA(MATCH(A678,Personnel!A:A,0)),\"وجود ندارد\",LOOKUP(A678,Personnel!A:A,Personnel!B:B)))","v":" "},{"$f":"IF(A678=0,\" \",IF(ISNA(MATCH(A678,Personnel!A:A,0)),\"وجود ندارد\",LOOKUP(A678,Personnel!A:A,Personnel!C:C)))","v":" "},null,null,null,null,null,null,null,null,"","",1,0," "," ",""," "," ","",null," "," ",",,,,,,,,,,,,"]
[null,{"$f":"IF(A679=0,\" \",IF(ISNA(MATCH(A679,Personnel!A:A,0)),\"وجود ندارد\",LOOKUP(A679,Personnel!A:A,Personnel!B:B)))","v":" "},{"$f":"IF(A679=0,\" \",IF(ISNA(MATCH(A679,Personnel!A:A,0)),\"وجود ندارد\",LOOKUP(A679,Personnel!A:A,Personnel!C:C)))","v":" "},null,null,null,null,null,null,null,null,"","",1,0," "," ",""," "," ","",null," "," ",",,,,,,,,,,,,"]
[null,{"$f":"IF(A680=0,\" \",IF(ISNA(MATCH(A680,Personnel!A:A,0)),\"وجود ندارد\",LOOKUP(A680,Personnel!A:A,Personnel!B:B)))","v":" "},{"$f":"IF(A680=0,\" \",IF(ISNA(MATCH(A680,Personnel!A:A,0)),\"وجود ندارد\",LOOKUP(A680,Personnel!A:A,Personnel!C:C)))","v":" "},null,null,null,null,null,null,null,null,"","",1,0," "," ",""," "," ","",null," "," ",",,,,,,,,,,,,"]
[null,{"$f":"IF(A681=0,\" \",IF(ISNA(MATCH(A681,Personnel!A:A,0)),\"وجود ندارد\",LOOKUP(A681,Personnel!A:A,Personnel!B:B)))","v":" "},{"$f":"IF(A681=0,\" \",IF(ISNA(MATCH(A681,Personnel!A:A,0)),\"وجود ندارد\",LOOKUP(A681,Personnel!A:A,Personnel!C:C)))","v":" "},null,null,null,null,null,null,null,null,"","",1,0," "," ",""," "," ","",null," "," ",",,,,,,,,,,,,"]
[null,{"$f":"IF(A682=0,\" \",IF(ISNA(MATCH(A682,Personnel!A:A,0)),\"وجود ندارد\",LOOKUP(A682,Personnel!A:A,Personnel!B:B)))","v":" "},{"$f":"IF(A682=0,\" \",IF(ISNA(MATCH(A682,Personnel!A:A,0)),\"وجود ندارد\",LOOKUP(A682,Personnel!A:A,Personnel!C:C)))","v":" "},null,null,null,null,null,null,null,null,"","",1,0," "," ",""," "," ","",null," "," ",",,,,,,,,,,,,"]
[null,{"$f":"IF(A683=0,\" \",IF(ISNA(MATCH(A683,Personnel!A:A,0)),\"وجود ندارد\",LOOKUP(A683,Personnel!A:A,Personnel!B:B)))","v":" "},{"$f":"IF(A683=0,\" \",IF(ISNA(MATCH(A683,Personnel!A:A,0)),\"وجود ندارد\",LOOKUP(A683,Personnel!A:A,Personnel!C:C)))","v":" "},null,null,null,null,null,null,null,null,"","",1,0," "," ",""," "," ","",null," "," ",",,,,,,,,,,,,"]
[null,{"$f":"IF(A684=0,\" \",IF(ISNA(MATCH(A684,Personnel!A:A,0)),\"وجود ندارد\",LOOKUP(A684,Personnel!A:A,Personnel!B:B)))","v":" "},{"$f":"IF(A684=0,\" \",IF(ISNA(MATCH(A684,Personnel!A:A,0)),\"وجود ندارد\",LOOKUP(A684,Personnel!A:A,Personnel!C:C)))","v":" "},null,null,null,null,null,null,null,null,"","",1,0," "," ",""," "," ","",null," "," ",",,,,,,,,,,,,"]
[null,{"$f":"IF(A685=0,\" \",IF(ISNA(MATCH(A685,Personnel!A:A,0)),\"وجود ندارد\",LOOKUP(A685,Personnel!A:A,Personnel!B:B)))","v":" "},{"$f":"IF(A685=0,\" \",IF(ISNA(MATCH(A685,Personnel!A:A,0)),\"وجود ندارد\",LOOKUP(A685,Personnel!A:A,Personnel!C:C)))","v":" "},null,null,null,null,null,null,null,null,"","",1,0," "," ",""," "," ","",null," "," ",",,,,,,,,,,,,"]
[null,{"$f":"IF(A686=0,\" \",IF(ISNA(MATCH(A686,Personnel!A:A,0)),\"وجود ندارد\",LOOKUP(A686,Personnel!A:A,Personnel!B:B)))","v":" "},{"$f":"IF(A686=0,\" \",IF(ISNA(MATCH(A686,Personnel!A:A,0)),\"وجود ندارد\",LOOKUP(A686,Personnel!A:A,Personnel!C:C)))","v":" "},null,null,null,null,null,null,null,null,"","",1,0," "," ",""," "," ","",null," "," ",",,,,,,,,,,,,"]
[null,{"$f":"IF(A687=0,\" \",IF(ISNA(MATCH(A687,Personnel!A:A,0)),\"وجود ندارد\",LOOKUP(A687,Personnel!A:A,Personnel!B:B)))","v":" "},{"$f":"IF(A687=0,\" \",IF(ISNA(MATCH(A687,Personnel!A:A,0)),\"وجود ندارد\",LOOKUP(A687,Personnel!A:A,Personnel!C:C)))","v":" "},null,null,null,null,null,null,null,null,"","",1,0," "," ",""," "," ","",null," "," ",",,,,,,,,,,,,"]
[null,{"$f":"IF(A688=0,\" \",IF(ISNA(MATCH(A688,Personnel!A:A,0)),\"وجود ندارد\",LOOKUP(A688,Personnel!A:A,Personnel!B:B)))","v":" "},{"$f":"IF(A688=0,\" \",IF(ISNA(MATCH(A688,Personnel!A:A,0)),\"وجود ندارد\",LOOKUP(A688,Personnel!A:A,Personnel!C:C)))","v":" "},null,null,null,null,null,null,null,null,"","",1,0," "," ",""," "," ","",null," "," ",",,,,,,,,,,,,"]
[null,{"$f":"IF(A689=0,\" \",IF(ISNA(MATCH(A689,Personnel!A:A,0)),\"وجود ندارد\",LOOKUP(A689,Personnel!A:A,Personnel!B:B)))","v":" "},{"$f":"IF(A689=0,\" \",IF(ISNA(MATCH(A689,Personnel!A:A,0)),\"وجود ندارد\",LOOKUP(A689,Personnel!A:A,Personnel!C:C)))","v":" "},null,null,null,null,null,null,null,null,"","",1,0," "," ",""," "," ","",null," "," ",",,,,,,,,,,,,"]
[null,{"$f":"IF(A690=0,\" \",IF(ISNA(MATCH(A690,Personnel!A:A,0)),\"وجود ندارد\",LOOKUP(A690,Personnel!A:A,Personnel!B:B)))","v":" "},{"$f":"IF(A690=0,\" \",IF(ISNA(MATCH(A690,Personnel!A:A,0)),\"وجود ندارد\",LOOKUP(A690,Personnel!A:A,Personnel!C:C)))","v":" "},null,null,null,null,null,null,null,null,"","",1,0," "," ",""," "," ","",null," "," ",",,,,,,,,,,,,"]
[null,{"$f":"IF(A691=0,\" \",IF(ISNA(MATCH(A691,Personnel!A:A,0)),\"وجود ندارد\",LOOKUP(A691,Personnel!A:A,Personnel!B:B)))","v":" "},{"$f":"IF(A691=0,\" \",IF(ISNA(MATCH(A691,Personnel!A:A,0)),\"وجود ندارد\",LOOKUP(A691,Personnel!A:A,Personnel!C:C)))","v":" "},null,null,null,null,null,null,null,null,"","",1,0," "," ",""," "," ","",null," "," ",",,,,,,,,,,,,"]
[null,{"$f":"IF(A692=0,\" \",IF(ISNA(MATCH(A692,Personnel!A:A,0)),\"وجود ندارد\",LOOKUP(A692,Personnel!A:A,Personnel!B:B)))","v":" "},{"$f":"IF(A692=0,\" \",IF(ISNA(MATCH(A692,Personnel!A:A,0)),\"وجود ندارد\",LOOKUP(A692,Personnel!A:A,Personnel!C:C)))","v":" "},null,null,null,null,null,null,null,null,"","",1,0," "," ",""," "," ","",null," "," ",",,,,,,,,,,,,"]
[null,{"$f":"IF(A693=0,\" \",IF(ISNA(MATCH(A693,Personnel!A:A,0)),\"وجود ندارد\",LOOKUP(A693,Personnel!A:A,Personnel!B:B)))","v":" "},{"$f":"IF(A693=0,\" \",IF(ISNA(MATCH(A693,Personnel!A:A,0)),\"وجود ندارد\",LOOKUP(A693,Personnel!A:A,Personnel!C:C)))","v":" "},null,null,null,null,null,null,null,null,"","",1,0," "," ",""," "," ","",null," "," ",",,,,,,,,,,,,"]
[null,{"$f":"IF(A694=0,\" \",IF(ISNA(MATCH(A694,Personnel!A:A,0)),\"وجود ندارد\",LOOKUP(A694,Personnel!A:A,Personnel!B:B)))","v":" "},{"$f":"IF(A694=0,\" \",IF(ISNA(MATCH(A694,Personnel!A:A,0)),\"وجود ندارد\",LOOKUP(A694,Personnel!A:A,Personnel!C:C)))","v":" "},null,null,null,null,null,null,null,null,"","",1,0," "," ",""," "," ","",null," "," ",",,,,,,,,,,,,"]
[null,{"$f":"IF(A695=0,\" \",IF(ISNA(MATCH(A695,Personnel!A:A,0)),\"وجود ندارد\",LOOKUP(A695,Personnel!A:A,Personnel!B:B)))","v":" "},{"$f":"IF(A695=0,\" \",IF(ISNA(MATCH(A695,Personnel!A:A,0)),\"وجود ندارد\",LOOKUP(A695,Personnel!A:A,Personnel!C:C)))","v":" "},null,null,null,null,null,null,null,null,"","",1,0," "," ",""," "," ","",null," "," ",",,,,,,,,,,,,"]
[null,{"$f":"IF(A696=0,\" \",IF(ISNA(MATCH(A696,Personnel!A:A,0)),\"وجود ندارد\",LOOKUP(A696,Personnel!A:A,Personnel!B:B)))","v":" "},{"$f":"IF(A696=0,\" \",IF(ISNA(MATCH(A696,Personnel!A:A,0)),\"وجود ندارد\",LOOKUP(A696,Personnel!A:A,Personnel!C:C)))","v":" "},null,null,null,null,null,null,null,null,"","",1,0," "," ",""," "," ","",null," "," ",",,,,,,,,,,,,"]
[null,{"$f":"IF(A697=0,\" \",IF(ISNA(MATCH(A697,Personnel!A:A,0)),\"وجود ندارد\",LOOKUP(A697,Personnel!A:A,Personnel!B:B)))","v":" "},{"$f":"IF(A697=0,\" \",IF(ISNA(MATCH(A697,Personnel!A:A,0)),\"وجود ندارد\",LOOKUP(A697,Personnel!A:A,Personnel!C:C)))","v":" "},null,null,null,null,null,null,null,null,"","",1,0," "," ",""," "," ","",null," "," ",",,,,,,,,,,,,"]
[null,{"$f":"IF(A698=0,\" \",IF(ISNA(MATCH(A698,Personnel!A:A,0)),\"وجود ندارد\",LOOKUP(A698,Personnel!A:A,Personnel!B:B)))","v":" "},{"$f":"IF(A698=0,\" \",IF(ISNA(MATCH(A698,Personnel!A:A,0)),\"وجود ندارد\",LOOKUP(A698,Personnel!A:A,Personnel!C:C)))","v":" "},null,null,null,null,null,null,null,null,"","",1,0," "," ",""," "," ","",null," "," ",",,,,,,,,,,,,"]
[null,{"$f":"IF(A699=0,\" \",IF(ISNA(MATCH(A699,Personnel!A:A,0)),\"وجود ندارد\",LOOKUP(A699,Personnel!A:A,Personnel!B:B)))","v":" "},{"$f":"IF(A699=0,\" \",IF(ISNA(MATCH(A699,Personnel!A:A,0)),\"وجود ندارد\",LOOKUP(A699,Personnel!A:A,Personnel!C:C)))","v":" "},null,null,null,null,null,null,null,null,"","",1,0," "," ",""," "," ","",null," "," ",",,,,,,,,,,,,"]
[null,{"$f":"IF(A700=0,\" \",IF(ISNA(MATCH(A700,Personnel!A:A,0)),\"وجود ندارد\",LOOKUP(A700,Personnel!A:A,Personnel!B:B)))","v":" "},{"$f":"IF(A700=0,\" \",IF(ISNA(MATCH(A700,Personnel!A:A,0)),\"وجود ندارد\",LOOKUP(A700,Personnel!A:A,Personnel!C:C)))","v":" "},null,null,null,null,null,null,null,null,"","",1,0," "," ",""," "," ","",null," "," ",",,,,,,,,,,,,"]
[null,{"$f":"IF(A701=0,\" \",IF(ISNA(MATCH(A701,Personnel!A:A,0)),\"وجود ندارد\",LOOKUP(A701,Personnel!A:A,Personnel!B:B)))","v":" "},{"$f":"IF(A701=0,\" \",IF(ISNA(MATCH(A701,Personnel!A:A,0)),\"وجود ندارد\",LOOKUP(A701,Personnel!A:A,Personnel!C:C)))","v":" "},null,null,null,null,null,null,null,null,"","",1,0," "," ",""," "," ","",null," "," ",",,,,,,,,,,,,"]
[null,{"$f":"IF(A702=0,\" \",IF(ISNA(MATCH(A702,Personnel!A:A,0)),\"وجود ندارد\",LOOKUP(A702,Personnel!A:A,Personnel!B:B)))","v":" "},{"$f":"IF(A702=0,\" \",IF(ISNA(MATCH(A702,Personnel!A:A,0)),\"وجود ندارد\",LOOKUP(A702,Personnel!A:A,Personnel!C:C)))","v":" "},null,null,null,null,null,null,null,null,"","",1,0," "," ",""," "," ","",null," "," ",",,,,,,,,,,,,"]
[null,{"$f":"IF(A703=0,\" \",IF(ISNA(MATCH(A703,Personnel!A:A,0)),\"وجود ندارد\",LOOKUP(A703,Personnel!A:A,Personnel!B:B)))","v":" "},{"$f":"IF(A703=0,\" \",IF(ISNA(MATCH(A703,Personnel!A:A,0)),\"وجود ندارد\",LOOKUP(A703,Personnel!A:A,Personnel!C:C)))","v":" "},null,null,null,null,null,null,null,null,"","",1,0," "," ",""," "," ","",null," "," ",",,,,,,,,,,,,"]
[null,{"$f":"IF(A704=0,\" \",IF(ISNA(MATCH(A704,Personnel!A:A,0)),\"وجود ندارد\",LOOKUP(A704,Personnel!A:A,Personnel!B:B)))","v":" "},{"$f":"IF(A704=0,\" \",IF(ISNA(MATCH(A704,Personnel!A:A,0)),\"وجود ندارد\",LOOKUP(A704,Personnel!A:A,Personnel!C:C)))","v":" "},null,null,null,null,null,null,null,null,"","",1,0," "," ",""," "," ","",null," "," ",",,,,,,,,,,,,"]
[null,{"$f":"IF(A705=0,\" \",IF(ISNA(MATCH(A705,Personnel!A:A,0)),\"وجود ندارد\",LOOKUP(A705,Personnel!A:A,Personnel!B:B)))","v":" "},{"$f":"IF(A705=0,\" \",IF(ISNA(MATCH(A705,Personnel!A:A,0)),\"وجود ندارد\",LOOKUP(A705,Personnel!A:A,Personnel!C:C)))","v":" "},null,null,null,null,null,null,null,null,"","",1,0," "," ",""," "," ","",null," "," ",",,,,,,,,,,,,"]
[null,{"$f":"IF(A706=0,\" \",IF(ISNA(MATCH(A706,Personnel!A:A,0)),\"وجود ندارد\",LOOKUP(A706,Personnel!A:A,Personnel!B:B)))","v":" "},{"$f":"IF(A706=0,\" \",IF(ISNA(MATCH(A706,Personnel!A:A,0)),\"وجود ندارد\",LOOKUP(A706,Personnel!A:A,Personnel!C:C)))","v":" "},null,null,null,null,null,null,null,null,"","",1,0,{"$f":"IF(A706=0,\" \",IF(N706+O706<>0,\"تاریخ اشتباه است\",\"\"))","v":" "},{"$f":"IF(A706=0,\" \",IF(AND(G706<>0,H706>G706),\"مبلغ قسط از مبلغ کل بیشتر است\",\"\"))","v":" "},""," ",{"$f":"IF(A706=0,\" \",IF(OR(K706<1,K706>3),\"نوع عمل اشتباه است\",\"\"))","v":" "},"",null," "," ",",,,,,,,,,,,,"]
[null,{"$f":"IF(A707=0,\" \",IF(ISNA(MATCH(A707,Personnel!A:A,0)),\"وجود ندارد\",LOOKUP(A707,Personnel!A:A,Personnel!B:B)))","v":" "},{"$f":"IF(A707=0,\" \",IF(ISNA(MATCH(A707,Personnel!A:A,0)),\"وجود ندارد\",LOOKUP(A707,Personnel!A:A,Personnel!C:C)))","v":" "},null,null,null,null,null,null,null,null,{"$f":"IF(K707=0,\"\",IF(K707=1,\"ایجاد\",IF(K707=2,\"اصلاح\",\"حذف\")))","v":""},{"$f":"IF(AND(K707=3,H707+I707+J707+F707+G707<>0),\"برای عمل حذف اطلاعات اضافی وارد شده است\",\"\")","v":""},{"$f":"IF(AND(K707<>3,F707<900000),1,0)","v":1},{"$f":"IF(F707>991231,1,0)","v":0}," "," ",{"$f":"IF(AND(A707=0,H707+I707+J707+F707+G707+K707+E707+D707<>0),\"در این ردیف شماره پرسنلی وجود ندارد اما اطلاعات دیگر وارد شده است\",\"\")","v":""},{"$f":"IF(A707=0,\" \",IF(D707=0,\"کد وام وارد نشده است\",\"\"))","v":" "}," ",{"$f":"IF(AND(OR(K707=1,K707=2),H707=0),\"مبلغ قسط نمی تواند خالی باشد\",\"\")","v":""},null,{"$f":"IF(AND(A707=0,A708<>0),\"دراین ردیف اصلاحاتی وجود ندارد . لطفا ردیفی را خالی باقی نگذارید\",IF(AND(A707=0,R707=\"\"),\" \",IF(M707&\",\"&P707&\",\"&Q707&\",\"&R707&\",\"&S707&\",\"&T707&\",\"&U707=\",,,,,,\",\"صحیح\",M707&\",\"&P707&\",\"&Q707&\",\"&R707&\",\"&S707&\",\"&T707&\",\"&U707)))","v":" "},{"$f":"IF(AND(ROW(X707)>$Z$2,W707=\" \"),\" \",IF(W707=\" \",IF(AND(A707=0,$Z$2<>$Z$4),\"دراین ردیف اصلاحاتی وجود ندارد . لطفا ردیفی را خالی نگذارید\",W707),W707))","v":" "},{"$f":"CONCATENATE(A707,\",\",D707,\",\",E707,\",\",F707,\",\",G707,\",\",H707,\",\",I707,\",\",K707,\",\",,\",\",J707,\",\",\",\",V707,\",\")","v":",,,,,,,,,,,,"}]
[null,{"$f":"IF(A708=0,\" \",IF(ISNA(MATCH(A708,Personnel!A:A,0)),\"وجود ندارد\",LOOKUP(A708,Personnel!A:A,Personnel!B:B)))","v":" "},{"$f":"IF(A708=0,\" \",IF(ISNA(MATCH(A708,Personnel!A:A,0)),\"وجود ندارد\",LOOKUP(A708,Personnel!A:A,Personnel!C:C)))","v":" "},null,null,null,null,null,null,null,null,"","",1,0," "," ",""," "," ","",null," "," ",",,,,,,,,,,,,"]
[null,{"$f":"IF(A709=0,\" \",IF(ISNA(MATCH(A709,Personnel!A:A,0)),\"وجود ندارد\",LOOKUP(A709,Personnel!A:A,Personnel!B:B)))","v":" "},{"$f":"IF(A709=0,\" \",IF(ISNA(MATCH(A709,Personnel!A:A,0)),\"وجود ندارد\",LOOKUP(A709,Personnel!A:A,Personnel!C:C)))","v":" "},null,null,null,null,null,null,null,null,"","",1,0," "," ",""," "," ","",null," "," ",",,,,,,,,,,,,"]
[null,{"$f":"IF(A710=0,\" \",IF(ISNA(MATCH(A710,Personnel!A:A,0)),\"وجود ندارد\",LOOKUP(A710,Personnel!A:A,Personnel!B:B)))","v":" "},{"$f":"IF(A710=0,\" \",IF(ISNA(MATCH(A710,Personnel!A:A,0)),\"وجود ندارد\",LOOKUP(A710,Personnel!A:A,Personnel!C:C)))","v":" "},null,null,null,null,null,null,null,null,"","",1,0," "," ",""," "," ","",null," "," ",",,,,,,,,,,,,"]
[null,{"$f":"IF(A711=0,\" \",IF(ISNA(MATCH(A711,Personnel!A:A,0)),\"وجود ندارد\",LOOKUP(A711,Personnel!A:A,Personnel!B:B)))","v":" "},{"$f":"IF(A711=0,\" \",IF(ISNA(MATCH(A711,Personnel!A:A,0)),\"وجود ندارد\",LOOKUP(A711,Personnel!A:A,Personnel!C:C)))","v":" "},null,null,null,null,null,null,null,null,"","",1,0," "," ",""," "," ","",null," "," ",",,,,,,,,,,,,"]
[null,{"$f":"IF(A712=0,\" \",IF(ISNA(MATCH(A712,Personnel!A:A,0)),\"وجود ندارد\",LOOKUP(A712,Personnel!A:A,Personnel!B:B)))","v":" "},{"$f":"IF(A712=0,\" \",IF(ISNA(MATCH(A712,Personnel!A:A,0)),\"وجود ندارد\",LOOKUP(A712,Personnel!A:A,Personnel!C:C)))","v":" "},null,null,null,null,null,null,null,null,"","",1,0," "," ",""," "," ","",null," "," ",",,,,,,,,,,,,"]
[null,{"$f":"IF(A713=0,\" \",IF(ISNA(MATCH(A713,Personnel!A:A,0)),\"وجود ندارد\",LOOKUP(A713,Personnel!A:A,Personnel!B:B)))","v":" "},{"$f":"IF(A713=0,\" \",IF(ISNA(MATCH(A713,Personnel!A:A,0)),\"وجود ندارد\",LOOKUP(A713,Personnel!A:A,Personnel!C:C)))","v":" "},null,null,null,null,null,null,null,null,"","",1,0," "," ",""," "," ","",null," "," ",",,,,,,,,,,,,"]
[null,{"$f":"IF(A714=0,\" \",IF(ISNA(MATCH(A714,Personnel!A:A,0)),\"وجود ندارد\",LOOKUP(A714,Personnel!A:A,Personnel!B:B)))","v":" "},{"$f":"IF(A714=0,\" \",IF(ISNA(MATCH(A714,Personnel!A:A,0)),\"وجود ندارد\",LOOKUP(A714,Personnel!A:A,Personnel!C:C)))","v":" "},null,null,null,null,null,null,null,null,"","",1,0," "," ",""," "," ","",null," "," ",",,,,,,,,,,,,"]
[null,{"$f":"IF(A715=0,\" \",IF(ISNA(MATCH(A715,Personnel!A:A,0)),\"وجود ندارد\",LOOKUP(A715,Personnel!A:A,Personnel!B:B)))","v":" "},{"$f":"IF(A715=0,\" \",IF(ISNA(MATCH(A715,Personnel!A:A,0)),\"وجود ندارد\",LOOKUP(A715,Personnel!A:A,Personnel!C:C)))","v":" "},null,null,null,null,null,null,null,null,"","",1,0," "," ",""," "," ","",null," "," ",",,,,,,,,,,,,"]
[null,{"$f":"IF(A716=0,\" \",IF(ISNA(MATCH(A716,Personnel!A:A,0)),\"وجود ندارد\",LOOKUP(A716,Personnel!A:A,Personnel!B:B)))","v":" "},{"$f":"IF(A716=0,\" \",IF(ISNA(MATCH(A716,Personnel!A:A,0)),\"وجود ندارد\",LOOKUP(A716,Personnel!A:A,Personnel!C:C)))","v":" "},null,null,null,null,null,null,null,null,"","",1,0," "," ",""," "," ","",null," "," ",",,,,,,,,,,,,"]
[null,{"$f":"IF(A717=0,\" \",IF(ISNA(MATCH(A717,Personnel!A:A,0)),\"وجود ندارد\",LOOKUP(A717,Personnel!A:A,Personnel!B:B)))","v":" "},{"$f":"IF(A717=0,\" \",IF(ISNA(MATCH(A717,Personnel!A:A,0)),\"وجود ندارد\",LOOKUP(A717,Personnel!A:A,Personnel!C:C)))","v":" "},null,null,null,null,null,null,null,null,"","",1,0," "," ",""," "," ","",null," "," ",",,,,,,,,,,,,"]
[null,{"$f":"IF(A718=0,\" \",IF(ISNA(MATCH(A718,Personnel!A:A,0)),\"وجود ندارد\",LOOKUP(A718,Personnel!A:A,Personnel!B:B)))","v":" "},{"$f":"IF(A718=0,\" \",IF(ISNA(MATCH(A718,Personnel!A:A,0)),\"وجود ندارد\",LOOKUP(A718,Personnel!A:A,Personnel!C:C)))","v":" "},null,null,null,null,null,null,null,null,"","",1,0," "," ",""," "," ","",null," "," ",",,,,,,,,,,,,"]
[null,{"$f":"IF(A719=0,\" \",IF(ISNA(MATCH(A719,Personnel!A:A,0)),\"وجود ندارد\",LOOKUP(A719,Personnel!A:A,Personnel!B:B)))","v":" "},{"$f":"IF(A719=0,\" \",IF(ISNA(MATCH(A719,Personnel!A:A,0)),\"وجود ندارد\",LOOKUP(A719,Personnel!A:A,Personnel!C:C)))","v":" "},null,null,null,null,null,null,null,null,"","",1,0," "," ",""," "," ","",null," "," ",",,,,,,,,,,,,"]
[null,{"$f":"IF(A720=0,\" \",IF(ISNA(MATCH(A720,Personnel!A:A,0)),\"وجود ندارد\",LOOKUP(A720,Personnel!A:A,Personnel!B:B)))","v":" "},{"$f":"IF(A720=0,\" \",IF(ISNA(MATCH(A720,Personnel!A:A,0)),\"وجود ندارد\",LOOKUP(A720,Personnel!A:A,Personnel!C:C)))","v":" "},null,null,null,null,null,null,null,null,"","",1,0," "," ",""," "," ","",null," "," ",",,,,,,,,,,,,"]
[null,{"$f":"IF(A721=0,\" \",IF(ISNA(MATCH(A721,Personnel!A:A,0)),\"وجود ندارد\",LOOKUP(A721,Personnel!A:A,Personnel!B:B)))","v":" "},{"$f":"IF(A721=0,\" \",IF(ISNA(MATCH(A721,Personnel!A:A,0)),\"وجود ندارد\",LOOKUP(A721,Personnel!A:A,Personnel!C:C)))","v":" "},null,null,null,null,null,null,null,null,"","",1,0," "," ",""," "," ","",null," "," ",",,,,,,,,,,,,"]
[null,{"$f":"IF(A722=0,\" \",IF(ISNA(MATCH(A722,Personnel!A:A,0)),\"وجود ندارد\",LOOKUP(A722,Personnel!A:A,Personnel!B:B)))","v":" "},{"$f":"IF(A722=0,\" \",IF(ISNA(MATCH(A722,Personnel!A:A,0)),\"وجود ندارد\",LOOKUP(A722,Personnel!A:A,Personnel!C:C)))","v":" "},null,null,null,null,null,null,null,null,"","",1,0," "," ",""," "," ","",null," "," ",",,,,,,,,,,,,"]
[null,{"$f":"IF(A723=0,\" \",IF(ISNA(MATCH(A723,Personnel!A:A,0)),\"وجود ندارد\",LOOKUP(A723,Personnel!A:A,Personnel!B:B)))","v":" "},{"$f":"IF(A723=0,\" \",IF(ISNA(MATCH(A723,Personnel!A:A,0)),\"وجود ندارد\",LOOKUP(A723,Personnel!A:A,Personnel!C:C)))","v":" "},null,null,null,null,null,null,null,null,"","",1,0," "," ",""," "," ","",null," "," ",",,,,,,,,,,,,"]
[null,{"$f":"IF(A724=0,\" \",IF(ISNA(MATCH(A724,Personnel!A:A,0)),\"وجود ندارد\",LOOKUP(A724,Personnel!A:A,Personnel!B:B)))","v":" "},{"$f":"IF(A724=0,\" \",IF(ISNA(MATCH(A724,Personnel!A:A,0)),\"وجود ندارد\",LOOKUP(A724,Personnel!A:A,Personnel!C:C)))","v":" "},null,null,null,null,null,null,null,null,"","",1,0," "," ",""," "," ","",null," "," ",",,,,,,,,,,,,"]
[null,{"$f":"IF(A725=0,\" \",IF(ISNA(MATCH(A725,Personnel!A:A,0)),\"وجود ندارد\",LOOKUP(A725,Personnel!A:A,Personnel!B:B)))","v":" "},{"$f":"IF(A725=0,\" \",IF(ISNA(MATCH(A725,Personnel!A:A,0)),\"وجود ندارد\",LOOKUP(A725,Personnel!A:A,Personnel!C:C)))","v":" "},null,null,null,null,null,null,null,null,"","",1,0," "," ",""," "," ","",null," "," ",",,,,,,,,,,,,"]
[null,{"$f":"IF(A726=0,\" \",IF(ISNA(MATCH(A726,Personnel!A:A,0)),\"وجود ندارد\",LOOKUP(A726,Personnel!A:A,Personnel!B:B)))","v":" "},{"$f":"IF(A726=0,\" \",IF(ISNA(MATCH(A726,Personnel!A:A,0)),\"وجود ندارد\",LOOKUP(A726,Personnel!A:A,Personnel!C:C)))","v":" "},null,null,null,null,null,null,null,null,"","",1,0," "," ",""," "," ","",null," "," ",",,,,,,,,,,,,"]
[null,{"$f":"IF(A727=0,\" \",IF(ISNA(MATCH(A727,Personnel!A:A,0)),\"وجود ندارد\",LOOKUP(A727,Personnel!A:A,Personnel!B:B)))","v":" "},{"$f":"IF(A727=0,\" \",IF(ISNA(MATCH(A727,Personnel!A:A,0)),\"وجود ندارد\",LOOKUP(A727,Personnel!A:A,Personnel!C:C)))","v":" "},null,null,null,null,null,null,null,null,"","",1,0," "," ",""," "," ","",null," "," ",",,,,,,,,,,,,"]
[null,{"$f":"IF(A728=0,\" \",IF(ISNA(MATCH(A728,Personnel!A:A,0)),\"وجود ندارد\",LOOKUP(A728,Personnel!A:A,Personnel!B:B)))","v":" "},{"$f":"IF(A728=0,\" \",IF(ISNA(MATCH(A728,Personnel!A:A,0)),\"وجود ندارد\",LOOKUP(A728,Personnel!A:A,Personnel!C:C)))","v":" "},null,null,null,null,null,null,null,null,"","",1,0," "," ",""," "," ","",null," "," ",",,,,,,,,,,,,"]
[null,{"$f":"IF(A729=0,\" \",IF(ISNA(MATCH(A729,Personnel!A:A,0)),\"وجود ندارد\",LOOKUP(A729,Personnel!A:A,Personnel!B:B)))","v":" "},{"$f":"IF(A729=0,\" \",IF(ISNA(MATCH(A729,Personnel!A:A,0)),\"وجود ندارد\",LOOKUP(A729,Personnel!A:A,Personnel!C:C)))","v":" "},null,null,null,null,null,null,null,null,"","",1,0," "," ",""," "," ","",null," "," ",",,,,,,,,,,,,"]
[null,{"$f":"IF(A730=0,\" \",IF(ISNA(MATCH(A730,Personnel!A:A,0)),\"وجود ندارد\",LOOKUP(A730,Personnel!A:A,Personnel!B:B)))","v":" "},{"$f":"IF(A730=0,\" \",IF(ISNA(MATCH(A730,Personnel!A:A,0)),\"وجود ندارد\",LOOKUP(A730,Personnel!A:A,Personnel!C:C)))","v":" "},null,null,null,null,null,null,null,null,"","",1,0," "," ",""," "," ","",null," "," ",",,,,,,,,,,,,"]
[null,{"$f":"IF(A731=0,\" \",IF(ISNA(MATCH(A731,Personnel!A:A,0)),\"وجود ندارد\",LOOKUP(A731,Personnel!A:A,Personnel!B:B)))","v":" "},{"$f":"IF(A731=0,\" \",IF(ISNA(MATCH(A731,Personnel!A:A,0)),\"وجود ندارد\",LOOKUP(A731,Personnel!A:A,Personnel!C:C)))","v":" "},null,null,null,null,null,null,null,null,"","",1,0," "," ",""," "," ","",null," "," ",",,,,,,,,,,,,"]
[null,{"$f":"IF(A732=0,\" \",IF(ISNA(MATCH(A732,Personnel!A:A,0)),\"وجود ندارد\",LOOKUP(A732,Personnel!A:A,Personnel!B:B)))","v":" "},{"$f":"IF(A732=0,\" \",IF(ISNA(MATCH(A732,Personnel!A:A,0)),\"وجود ندارد\",LOOKUP(A732,Personnel!A:A,Personnel!C:C)))","v":" "},null,null,null,null,null,null,null,null,"","",1,0," "," ",""," "," ","",null," "," ",",,,,,,,,,,,,"]
[null,{"$f":"IF(A733=0,\" \",IF(ISNA(MATCH(A733,Personnel!A:A,0)),\"وجود ندارد\",LOOKUP(A733,Personnel!A:A,Personnel!B:B)))","v":" "},{"$f":"IF(A733=0,\" \",IF(ISNA(MATCH(A733,Personnel!A:A,0)),\"وجود ندارد\",LOOKUP(A733,Personnel!A:A,Personnel!C:C)))","v":" "},null,null,null,null,null,null,null,null,"","",1,0," "," ",""," "," ","",null," "," ",",,,,,,,,,,,,"]
[null,{"$f":"IF(A734=0,\" \",IF(ISNA(MATCH(A734,Personnel!A:A,0)),\"وجود ندارد\",LOOKUP(A734,Personnel!A:A,Personnel!B:B)))","v":" "},{"$f":"IF(A734=0,\" \",IF(ISNA(MATCH(A734,Personnel!A:A,0)),\"وجود ندارد\",LOOKUP(A734,Personnel!A:A,Personnel!C:C)))","v":" "},null,null,null,null,null,null,null,null,"","",1,0," "," ",""," "," ","",null," "," ",",,,,,,,,,,,,"]
[null,{"$f":"IF(A735=0,\" \",IF(ISNA(MATCH(A735,Personnel!A:A,0)),\"وجود ندارد\",LOOKUP(A735,Personnel!A:A,Personnel!B:B)))","v":" "},{"$f":"IF(A735=0,\" \",IF(ISNA(MATCH(A735,Personnel!A:A,0)),\"وجود ندارد\",LOOKUP(A735,Personnel!A:A,Personnel!C:C)))","v":" "},null,null,null,null,null,null,null,null,"","",1,0," "," ",""," "," ","",null," "," ",",,,,,,,,,,,,"]
[null,{"$f":"IF(A736=0,\" \",IF(ISNA(MATCH(A736,Personnel!A:A,0)),\"وجود ندارد\",LOOKUP(A736,Personnel!A:A,Personnel!B:B)))","v":" "},{"$f":"IF(A736=0,\" \",IF(ISNA(MATCH(A736,Personnel!A:A,0)),\"وجود ندارد\",LOOKUP(A736,Personnel!A:A,Personnel!C:C)))","v":" "},null,null,null,null,null,null,null,null,"","",1,0," "," ",""," "," ","",null," "," ",",,,,,,,,,,,,"]
[null,{"$f":"IF(A737=0,\" \",IF(ISNA(MATCH(A737,Personnel!A:A,0)),\"وجود ندارد\",LOOKUP(A737,Personnel!A:A,Personnel!B:B)))","v":" "},{"$f":"IF(A737=0,\" \",IF(ISNA(MATCH(A737,Personnel!A:A,0)),\"وجود ندارد\",LOOKUP(A737,Personnel!A:A,Personnel!C:C)))","v":" "},null,null,null,null,null,null,null,null,"","",1,0," "," ",""," "," ","",null," "," ",",,,,,,,,,,,,"]
[null,{"$f":"IF(A738=0,\" \",IF(ISNA(MATCH(A738,Personnel!A:A,0)),\"وجود ندارد\",LOOKUP(A738,Personnel!A:A,Personnel!B:B)))","v":" "},{"$f":"IF(A738=0,\" \",IF(ISNA(MATCH(A738,Personnel!A:A,0)),\"وجود ندارد\",LOOKUP(A738,Personnel!A:A,Personnel!C:C)))","v":" "},null,null,null,null,null,null,null,null,"","",1,0," "," ",""," "," ","",null," "," ",",,,,,,,,,,,,"]
[null,{"$f":"IF(A739=0,\" \",IF(ISNA(MATCH(A739,Personnel!A:A,0)),\"وجود ندارد\",LOOKUP(A739,Personnel!A:A,Personnel!B:B)))","v":" "},{"$f":"IF(A739=0,\" \",IF(ISNA(MATCH(A739,Personnel!A:A,0)),\"وجود ندارد\",LOOKUP(A739,Personnel!A:A,Personnel!C:C)))","v":" "},null,null,null,null,null,null,null,null,"","",1,0," "," ",""," "," ","",null," "," ",",,,,,,,,,,,,"]
[null,{"$f":"IF(A740=0,\" \",IF(ISNA(MATCH(A740,Personnel!A:A,0)),\"وجود ندارد\",LOOKUP(A740,Personnel!A:A,Personnel!B:B)))","v":" "},{"$f":"IF(A740=0,\" \",IF(ISNA(MATCH(A740,Personnel!A:A,0)),\"وجود ندارد\",LOOKUP(A740,Personnel!A:A,Personnel!C:C)))","v":" "},null,null,null,null,null,null,null,null,"","",1,0," "," ",""," "," ","",null," "," ",",,,,,,,,,,,,"]
[null,{"$f":"IF(A741=0,\" \",IF(ISNA(MATCH(A741,Personnel!A:A,0)),\"وجود ندارد\",LOOKUP(A741,Personnel!A:A,Personnel!B:B)))","v":" "},{"$f":"IF(A741=0,\" \",IF(ISNA(MATCH(A741,Personnel!A:A,0)),\"وجود ندارد\",LOOKUP(A741,Personnel!A:A,Personnel!C:C)))","v":" "},null,null,null,null,null,null,null,null,"","",1,0," "," ",""," "," ","",null," "," ",",,,,,,,,,,,,"]
[null,{"$f":"IF(A742=0,\" \",IF(ISNA(MATCH(A742,Personnel!A:A,0)),\"وجود ندارد\",LOOKUP(A742,Personnel!A:A,Personnel!B:B)))","v":" "},{"$f":"IF(A742=0,\" \",IF(ISNA(MATCH(A742,Personnel!A:A,0)),\"وجود ندارد\",LOOKUP(A742,Personnel!A:A,Personnel!C:C)))","v":" "},null,null,null,null,null,null,null,null,"","",1,0," "," ",""," "," ","",null," "," ",",,,,,,,,,,,,"]
[null,{"$f":"IF(A743=0,\" \",IF(ISNA(MATCH(A743,Personnel!A:A,0)),\"وجود ندارد\",LOOKUP(A743,Personnel!A:A,Personnel!B:B)))","v":" "},{"$f":"IF(A743=0,\" \",IF(ISNA(MATCH(A743,Personnel!A:A,0)),\"وجود ندارد\",LOOKUP(A743,Personnel!A:A,Personnel!C:C)))","v":" "},null,null,null,null,null,null,null,null,"","",1,0," "," ",""," "," ","",null," "," ",",,,,,,,,,,,,"]
[null,{"$f":"IF(A744=0,\" \",IF(ISNA(MATCH(A744,Personnel!A:A,0)),\"وجود ندارد\",LOOKUP(A744,Personnel!A:A,Personnel!B:B)))","v":" "},{"$f":"IF(A744=0,\" \",IF(ISNA(MATCH(A744,Personnel!A:A,0)),\"وجود ندارد\",LOOKUP(A744,Personnel!A:A,Personnel!C:C)))","v":" "},null,null,null,null,null,null,null,null,"","",1,0," "," ",""," "," ","",null," "," ",",,,,,,,,,,,,"]
[null,{"$f":"IF(A745=0,\" \",IF(ISNA(MATCH(A745,Personnel!A:A,0)),\"وجود ندارد\",LOOKUP(A745,Personnel!A:A,Personnel!B:B)))","v":" "},{"$f":"IF(A745=0,\" \",IF(ISNA(MATCH(A745,Personnel!A:A,0)),\"وجود ندارد\",LOOKUP(A745,Personnel!A:A,Personnel!C:C)))","v":" "},null,null,null,null,null,null,null,null,"","",1,0," "," ",""," "," ","",null," "," ",",,,,,,,,,,,,"]
[null,{"$f":"IF(A746=0,\" \",IF(ISNA(MATCH(A746,Personnel!A:A,0)),\"وجود ندارد\",LOOKUP(A746,Personnel!A:A,Personnel!B:B)))","v":" "},{"$f":"IF(A746=0,\" \",IF(ISNA(MATCH(A746,Personnel!A:A,0)),\"وجود ندارد\",LOOKUP(A746,Personnel!A:A,Personnel!C:C)))","v":" "},null,null,null,null,null,null,null,null,"","",1,0," "," ",""," "," ","",null," "," ",",,,,,,,,,,,,"]
[null,{"$f":"IF(A747=0,\" \",IF(ISNA(MATCH(A747,Personnel!A:A,0)),\"وجود ندارد\",LOOKUP(A747,Personnel!A:A,Personnel!B:B)))","v":" "},{"$f":"IF(A747=0,\" \",IF(ISNA(MATCH(A747,Personnel!A:A,0)),\"وجود ندارد\",LOOKUP(A747,Personnel!A:A,Personnel!C:C)))","v":" "},null,null,null,null,null,null,null,null,"","",1,0," "," ",""," "," ","",null," "," ",",,,,,,,,,,,,"]
[null,{"$f":"IF(A748=0,\" \",IF(ISNA(MATCH(A748,Personnel!A:A,0)),\"وجود ندارد\",LOOKUP(A748,Personnel!A:A,Personnel!B:B)))","v":" "},{"$f":"IF(A748=0,\" \",IF(ISNA(MATCH(A748,Personnel!A:A,0)),\"وجود ندارد\",LOOKUP(A748,Personnel!A:A,Personnel!C:C)))","v":" "},null,null,null,null,null,null,null,null,"","",1,0," "," ",""," "," ","",null," "," ",",,,,,,,,,,,,"]
[null,{"$f":"IF(A749=0,\" \",IF(ISNA(MATCH(A749,Personnel!A:A,0)),\"وجود ندارد\",LOOKUP(A749,Personnel!A:A,Personnel!B:B)))","v":" "},{"$f":"IF(A749=0,\" \",IF(ISNA(MATCH(A749,Personnel!A:A,0)),\"وجود ندارد\",LOOKUP(A749,Personnel!A:A,Personnel!C:C)))","v":" "},null,null,null,null,null,null,null,null,"","",1,0," "," ",""," "," ","",null," "," ",",,,,,,,,,,,,"]
[null,{"$f":"IF(A750=0,\" \",IF(ISNA(MATCH(A750,Personnel!A:A,0)),\"وجود ندارد\",LOOKUP(A750,Personnel!A:A,Personnel!B:B)))","v":" "},{"$f":"IF(A750=0,\" \",IF(ISNA(MATCH(A750,Personnel!A:A,0)),\"وجود ندارد\",LOOKUP(A750,Personnel!A:A,Personnel!C:C)))","v":" "},null,null,null,null,null,null,null,null,"","",1,0," "," ",""," "," ","",null," "," ",",,,,,,,,,,,,"]
[null,{"$f":"IF(A751=0,\" \",IF(ISNA(MATCH(A751,Personnel!A:A,0)),\"وجود ندارد\",LOOKUP(A751,Personnel!A:A,Personnel!B:B)))","v":" "},{"$f":"IF(A751=0,\" \",IF(ISNA(MATCH(A751,Personnel!A:A,0)),\"وجود ندارد\",LOOKUP(A751,Personnel!A:A,Personnel!C:C)))","v":" "},null,null,null,null,null,null,null,null,"","",1,0," "," ",""," "," ","",null," "," ",",,,,,,,,,,,,"]
[null,{"$f":"IF(A752=0,\" \",IF(ISNA(MATCH(A752,Personnel!A:A,0)),\"وجود ندارد\",LOOKUP(A752,Personnel!A:A,Personnel!B:B)))","v":" "},{"$f":"IF(A752=0,\" \",IF(ISNA(MATCH(A752,Personnel!A:A,0)),\"وجود ندارد\",LOOKUP(A752,Personnel!A:A,Personnel!C:C)))","v":" "},null,null,null,null,null,null,null,null,"","",1,0," "," ",""," "," ","",null," "," ",",,,,,,,,,,,,"]
[null,{"$f":"IF(A753=0,\" \",IF(ISNA(MATCH(A753,Personnel!A:A,0)),\"وجود ندارد\",LOOKUP(A753,Personnel!A:A,Personnel!B:B)))","v":" "},{"$f":"IF(A753=0,\" \",IF(ISNA(MATCH(A753,Personnel!A:A,0)),\"وجود ندارد\",LOOKUP(A753,Personnel!A:A,Personnel!C:C)))","v":" "},null,null,null,null,null,null,null,null,"","",1,0," "," ",""," "," ","",null," "," ",",,,,,,,,,,,,"]
[null,{"$f":"IF(A754=0,\" \",IF(ISNA(MATCH(A754,Personnel!A:A,0)),\"وجود ندارد\",LOOKUP(A754,Personnel!A:A,Personnel!B:B)))","v":" "},{"$f":"IF(A754=0,\" \",IF(ISNA(MATCH(A754,Personnel!A:A,0)),\"وجود ندارد\",LOOKUP(A754,Personnel!A:A,Personnel!C:C)))","v":" "},null,null,null,null,null,null,null,null,"","",1,0," "," ",""," "," ","",null," "," ",",,,,,,,,,,,,"]
[null,{"$f":"IF(A755=0,\" \",IF(ISNA(MATCH(A755,Personnel!A:A,0)),\"وجود ندارد\",LOOKUP(A755,Personnel!A:A,Personnel!B:B)))","v":" "},{"$f":"IF(A755=0,\" \",IF(ISNA(MATCH(A755,Personnel!A:A,0)),\"وجود ندارد\",LOOKUP(A755,Personnel!A:A,Personnel!C:C)))","v":" "},null,null,null,null,null,null,null,null,"","",1,0," "," ",""," "," ","",null," "," ",",,,,,,,,,,,,"]
[null,{"$f":"IF(A756=0,\" \",IF(ISNA(MATCH(A756,Personnel!A:A,0)),\"وجود ندارد\",LOOKUP(A756,Personnel!A:A,Personnel!B:B)))","v":" "},{"$f":"IF(A756=0,\" \",IF(ISNA(MATCH(A756,Personnel!A:A,0)),\"وجود ندارد\",LOOKUP(A756,Personnel!A:A,Personnel!C:C)))","v":" "},null,null,null,null,null,null,null,null,"","",1,0," "," ",""," "," ","",null," "," ",",,,,,,,,,,,,"]
[null,{"$f":"IF(A757=0,\" \",IF(ISNA(MATCH(A757,Personnel!A:A,0)),\"وجود ندارد\",LOOKUP(A757,Personnel!A:A,Personnel!B:B)))","v":" "},{"$f":"IF(A757=0,\" \",IF(ISNA(MATCH(A757,Personnel!A:A,0)),\"وجود ندارد\",LOOKUP(A757,Personnel!A:A,Personnel!C:C)))","v":" "},null,null,null,null,null,null,null,null,"","",1,0," "," ",""," "," ","",null," "," ",",,,,,,,,,,,,"]
[null,{"$f":"IF(A758=0,\" \",IF(ISNA(MATCH(A758,Personnel!A:A,0)),\"وجود ندارد\",LOOKUP(A758,Personnel!A:A,Personnel!B:B)))","v":" "},{"$f":"IF(A758=0,\" \",IF(ISNA(MATCH(A758,Personnel!A:A,0)),\"وجود ندارد\",LOOKUP(A758,Personnel!A:A,Personnel!C:C)))","v":" "},null,null,null,null,null,null,null,null,"","",1,0," "," ",""," "," ","",null," "," ",",,,,,,,,,,,,"]
[null,{"$f":"IF(A759=0,\" \",IF(ISNA(MATCH(A759,Personnel!A:A,0)),\"وجود ندارد\",LOOKUP(A759,Personnel!A:A,Personnel!B:B)))","v":" "},{"$f":"IF(A759=0,\" \",IF(ISNA(MATCH(A759,Personnel!A:A,0)),\"وجود ندارد\",LOOKUP(A759,Personnel!A:A,Personnel!C:C)))","v":" "},null,null,null,null,null,null,null,null,"","",1,0," "," ",""," "," ","",null," "," ",",,,,,,,,,,,,"]
[null,{"$f":"IF(A760=0,\" \",IF(ISNA(MATCH(A760,Personnel!A:A,0)),\"وجود ندارد\",LOOKUP(A760,Personnel!A:A,Personnel!B:B)))","v":" "},{"$f":"IF(A760=0,\" \",IF(ISNA(MATCH(A760,Personnel!A:A,0)),\"وجود ندارد\",LOOKUP(A760,Personnel!A:A,Personnel!C:C)))","v":" "},null,null,null,null,null,null,null,null,"","",1,0," "," ",""," "," ","",null," "," ",",,,,,,,,,,,,"]
[null,{"$f":"IF(A761=0,\" \",IF(ISNA(MATCH(A761,Personnel!A:A,0)),\"وجود ندارد\",LOOKUP(A761,Personnel!A:A,Personnel!B:B)))","v":" "},{"$f":"IF(A761=0,\" \",IF(ISNA(MATCH(A761,Personnel!A:A,0)),\"وجود ندارد\",LOOKUP(A761,Personnel!A:A,Personnel!C:C)))","v":" "},null,null,null,null,null,null,null,null,"","",1,0," "," ",""," "," ","",null," "," ",",,,,,,,,,,,,"]
[null,{"$f":"IF(A762=0,\" \",IF(ISNA(MATCH(A762,Personnel!A:A,0)),\"وجود ندارد\",LOOKUP(A762,Personnel!A:A,Personnel!B:B)))","v":" "},{"$f":"IF(A762=0,\" \",IF(ISNA(MATCH(A762,Personnel!A:A,0)),\"وجود ندارد\",LOOKUP(A762,Personnel!A:A,Personnel!C:C)))","v":" "},null,null,null,null,null,null,null,null,"","",1,0," "," ",""," "," ","",null," "," ",",,,,,,,,,,,,"]
[null,{"$f":"IF(A763=0,\" \",IF(ISNA(MATCH(A763,Personnel!A:A,0)),\"وجود ندارد\",LOOKUP(A763,Personnel!A:A,Personnel!B:B)))","v":" "},{"$f":"IF(A763=0,\" \",IF(ISNA(MATCH(A763,Personnel!A:A,0)),\"وجود ندارد\",LOOKUP(A763,Personnel!A:A,Personnel!C:C)))","v":" "},null,null,null,null,null,null,null,null,"","",1,0," "," ",""," "," ","",null," "," ",",,,,,,,,,,,,"]
[null,{"$f":"IF(A764=0,\" \",IF(ISNA(MATCH(A764,Personnel!A:A,0)),\"وجود ندارد\",LOOKUP(A764,Personnel!A:A,Personnel!B:B)))","v":" "},{"$f":"IF(A764=0,\" \",IF(ISNA(MATCH(A764,Personnel!A:A,0)),\"وجود ندارد\",LOOKUP(A764,Personnel!A:A,Personnel!C:C)))","v":" "},null,null,null,null,null,null,null,null,"","",1,0," "," ",""," "," ","",null," "," ",",,,,,,,,,,,,"]
[null,{"$f":"IF(A765=0,\" \",IF(ISNA(MATCH(A765,Personnel!A:A,0)),\"وجود ندارد\",LOOKUP(A765,Personnel!A:A,Personnel!B:B)))","v":" "},{"$f":"IF(A765=0,\" \",IF(ISNA(MATCH(A765,Personnel!A:A,0)),\"وجود ندارد\",LOOKUP(A765,Personnel!A:A,Personnel!C:C)))","v":" "},null,null,null,null,null,null,null,null,"","",1,0," "," ",""," "," ","",null," "," ",",,,,,,,,,,,,"]
[null,{"$f":"IF(A766=0,\" \",IF(ISNA(MATCH(A766,Personnel!A:A,0)),\"وجود ندارد\",LOOKUP(A766,Personnel!A:A,Personnel!B:B)))","v":" "},{"$f":"IF(A766=0,\" \",IF(ISNA(MATCH(A766,Personnel!A:A,0)),\"وجود ندارد\",LOOKUP(A766,Personnel!A:A,Personnel!C:C)))","v":" "},null,null,null,null,null,null,null,null,"","",1,0," "," ",""," "," ","",null," "," ",",,,,,,,,,,,,"]
[null,{"$f":"IF(A767=0,\" \",IF(ISNA(MATCH(A767,Personnel!A:A,0)),\"وجود ندارد\",LOOKUP(A767,Personnel!A:A,Personnel!B:B)))","v":" "},{"$f":"IF(A767=0,\" \",IF(ISNA(MATCH(A767,Personnel!A:A,0)),\"وجود ندارد\",LOOKUP(A767,Personnel!A:A,Personnel!C:C)))","v":" "},null,null,null,null,null,null,null,null,"","",1,0," "," ",""," "," ","",null," "," ",",,,,,,,,,,,,"]
[null,{"$f":"IF(A768=0,\" \",IF(ISNA(MATCH(A768,Personnel!A:A,0)),\"وجود ندارد\",LOOKUP(A768,Personnel!A:A,Personnel!B:B)))","v":" "},{"$f":"IF(A768=0,\" \",IF(ISNA(MATCH(A768,Personnel!A:A,0)),\"وجود ندارد\",LOOKUP(A768,Personnel!A:A,Personnel!C:C)))","v":" "},null,null,null,null,null,null,null,null,"","",1,0," "," ",""," "," ","",null," "," ",",,,,,,,,,,,,"]
[null,{"$f":"IF(A769=0,\" \",IF(ISNA(MATCH(A769,Personnel!A:A,0)),\"وجود ندارد\",LOOKUP(A769,Personnel!A:A,Personnel!B:B)))","v":" "},{"$f":"IF(A769=0,\" \",IF(ISNA(MATCH(A769,Personnel!A:A,0)),\"وجود ندارد\",LOOKUP(A769,Personnel!A:A,Personnel!C:C)))","v":" "},null,null,null,null,null,null,null,null,"","",1,0," "," ",""," "," ","",null," "," ",",,,,,,,,,,,,"]
[null,{"$f":"IF(A770=0,\" \",IF(ISNA(MATCH(A770,Personnel!A:A,0)),\"وجود ندارد\",LOOKUP(A770,Personnel!A:A,Personnel!B:B)))","v":" "},{"$f":"IF(A770=0,\" \",IF(ISNA(MATCH(A770,Personnel!A:A,0)),\"وجود ندارد\",LOOKUP(A770,Personnel!A:A,Personnel!C:C)))","v":" "},null,null,null,null,null,null,null,null,"","",1,0,{"$f":"IF(A770=0,\" \",IF(N770+O770<>0,\"تاریخ اشتباه است\",\"\"))","v":" "},{"$f":"IF(A770=0,\" \",IF(AND(G770<>0,H770>G770),\"مبلغ قسط از مبلغ کل بیشتر است\",\"\"))","v":" "},""," ",{"$f":"IF(A770=0,\" \",IF(OR(K770<1,K770>3),\"نوع عمل اشتباه است\",\"\"))","v":" "},"",null," "," ",",,,,,,,,,,,,"]
[null,{"$f":"IF(A771=0,\" \",IF(ISNA(MATCH(A771,Personnel!A:A,0)),\"وجود ندارد\",LOOKUP(A771,Personnel!A:A,Personnel!B:B)))","v":" "},{"$f":"IF(A771=0,\" \",IF(ISNA(MATCH(A771,Personnel!A:A,0)),\"وجود ندارد\",LOOKUP(A771,Personnel!A:A,Personnel!C:C)))","v":" "},null,null,null,null,null,null,null,null,{"$f":"IF(K771=0,\"\",IF(K771=1,\"ایجاد\",IF(K771=2,\"اصلاح\",\"حذف\")))","v":""},{"$f":"IF(AND(K771=3,H771+I771+J771+F771+G771<>0),\"برای عمل حذف اطلاعات اضافی وارد شده است\",\"\")","v":""},{"$f":"IF(AND(K771<>3,F771<900000),1,0)","v":1},{"$f":"IF(F771>991231,1,0)","v":0}," "," ",{"$f":"IF(AND(A771=0,H771+I771+J771+F771+G771+K771+E771+D771<>0),\"در این ردیف شماره پرسنلی وجود ندارد اما اطلاعات دیگر وارد شده است\",\"\")","v":""},{"$f":"IF(A771=0,\" \",IF(D771=0,\"کد وام وارد نشده است\",\"\"))","v":" "}," ",{"$f":"IF(AND(OR(K771=1,K771=2),H771=0),\"مبلغ قسط نمی تواند خالی باشد\",\"\")","v":""},null,{"$f":"IF(AND(A771=0,A772<>0),\"دراین ردیف اصلاحاتی وجود ندارد . لطفا ردیفی را خالی باقی نگذارید\",IF(AND(A771=0,R771=\"\"),\" \",IF(M771&\",\"&P771&\",\"&Q771&\",\"&R771&\",\"&S771&\",\"&T771&\",\"&U771=\",,,,,,\",\"صحیح\",M771&\",\"&P771&\",\"&Q771&\",\"&R771&\",\"&S771&\",\"&T771&\",\"&U771)))","v":" "},{"$f":"IF(AND(ROW(X771)>$Z$2,W771=\" \"),\" \",IF(W771=\" \",IF(AND(A771=0,$Z$2<>$Z$4),\"دراین ردیف اصلاحاتی وجود ندارد . لطفا ردیفی را خالی نگذارید\",W771),W771))","v":" "},{"$f":"CONCATENATE(A771,\",\",D771,\",\",E771,\",\",F771,\",\",G771,\",\",H771,\",\",I771,\",\",K771,\",\",,\",\",J771,\",\",\",\",V771,\",\")","v":",,,,,,,,,,,,"}]
[null,{"$f":"IF(A772=0,\" \",IF(ISNA(MATCH(A772,Personnel!A:A,0)),\"وجود ندارد\",LOOKUP(A772,Personnel!A:A,Personnel!B:B)))","v":" "},{"$f":"IF(A772=0,\" \",IF(ISNA(MATCH(A772,Personnel!A:A,0)),\"وجود ندارد\",LOOKUP(A772,Personnel!A:A,Personnel!C:C)))","v":" "},null,null,null,null,null,null,null,null,"","",1,0," "," ",""," "," ","",null," "," ",",,,,,,,,,,,,"]
[null,{"$f":"IF(A773=0,\" \",IF(ISNA(MATCH(A773,Personnel!A:A,0)),\"وجود ندارد\",LOOKUP(A773,Personnel!A:A,Personnel!B:B)))","v":" "},{"$f":"IF(A773=0,\" \",IF(ISNA(MATCH(A773,Personnel!A:A,0)),\"وجود ندارد\",LOOKUP(A773,Personnel!A:A,Personnel!C:C)))","v":" "},null,null,null,null,null,null,null,null,"","",1,0," "," ",""," "," ","",null," "," ",",,,,,,,,,,,,"]
[null,{"$f":"IF(A774=0,\" \",IF(ISNA(MATCH(A774,Personnel!A:A,0)),\"وجود ندارد\",LOOKUP(A774,Personnel!A:A,Personnel!B:B)))","v":" "},{"$f":"IF(A774=0,\" \",IF(ISNA(MATCH(A774,Personnel!A:A,0)),\"وجود ندارد\",LOOKUP(A774,Personnel!A:A,Personnel!C:C)))","v":" "},null,null,null,null,null,null,null,null,"","",1,0," "," ",""," "," ","",null," "," ",",,,,,,,,,,,,"]
[null,{"$f":"IF(A775=0,\" \",IF(ISNA(MATCH(A775,Personnel!A:A,0)),\"وجود ندارد\",LOOKUP(A775,Personnel!A:A,Personnel!B:B)))","v":" "},{"$f":"IF(A775=0,\" \",IF(ISNA(MATCH(A775,Personnel!A:A,0)),\"وجود ندارد\",LOOKUP(A775,Personnel!A:A,Personnel!C:C)))","v":" "},null,null,null,null,null,null,null,null,"","",1,0," "," ",""," "," ","",null," "," ",",,,,,,,,,,,,"]
[null,{"$f":"IF(A776=0,\" \",IF(ISNA(MATCH(A776,Personnel!A:A,0)),\"وجود ندارد\",LOOKUP(A776,Personnel!A:A,Personnel!B:B)))","v":" "},{"$f":"IF(A776=0,\" \",IF(ISNA(MATCH(A776,Personnel!A:A,0)),\"وجود ندارد\",LOOKUP(A776,Personnel!A:A,Personnel!C:C)))","v":" "},null,null,null,null,null,null,null,null,"","",1,0," "," ",""," "," ","",null," "," ",",,,,,,,,,,,,"]
[null,{"$f":"IF(A777=0,\" \",IF(ISNA(MATCH(A777,Personnel!A:A,0)),\"وجود ندارد\",LOOKUP(A777,Personnel!A:A,Personnel!B:B)))","v":" "},{"$f":"IF(A777=0,\" \",IF(ISNA(MATCH(A777,Personnel!A:A,0)),\"وجود ندارد\",LOOKUP(A777,Personnel!A:A,Personnel!C:C)))","v":" "},null,null,null,null,null,null,null,null,"","",1,0," "," ",""," "," ","",null," "," ",",,,,,,,,,,,,"]
[null,{"$f":"IF(A778=0,\" \",IF(ISNA(MATCH(A778,Personnel!A:A,0)),\"وجود ندارد\",LOOKUP(A778,Personnel!A:A,Personnel!B:B)))","v":" "},{"$f":"IF(A778=0,\" \",IF(ISNA(MATCH(A778,Personnel!A:A,0)),\"وجود ندارد\",LOOKUP(A778,Personnel!A:A,Personnel!C:C)))","v":" "},null,null,null,null,null,null,null,null,"","",1,0," "," ",""," "," ","",null," "," ",",,,,,,,,,,,,"]
[null,{"$f":"IF(A779=0,\" \",IF(ISNA(MATCH(A779,Personnel!A:A,0)),\"وجود ندارد\",LOOKUP(A779,Personnel!A:A,Personnel!B:B)))","v":" "},{"$f":"IF(A779=0,\" \",IF(ISNA(MATCH(A779,Personnel!A:A,0)),\"وجود ندارد\",LOOKUP(A779,Personnel!A:A,Personnel!C:C)))","v":" "},null,null,null,null,null,null,null,null,"","",1,0," "," ",""," "," ","",null," "," ",",,,,,,,,,,,,"]
[null,{"$f":"IF(A780=0,\" \",IF(ISNA(MATCH(A780,Personnel!A:A,0)),\"وجود ندارد\",LOOKUP(A780,Personnel!A:A,Personnel!B:B)))","v":" "},{"$f":"IF(A780=0,\" \",IF(ISNA(MATCH(A780,Personnel!A:A,0)),\"وجود ندارد\",LOOKUP(A780,Personnel!A:A,Personnel!C:C)))","v":" "},null,null,null,null,null,null,null,null,"","",1,0," "," ",""," "," ","",null," "," ",",,,,,,,,,,,,"]
[null,{"$f":"IF(A781=0,\" \",IF(ISNA(MATCH(A781,Personnel!A:A,0)),\"وجود ندارد\",LOOKUP(A781,Personnel!A:A,Personnel!B:B)))","v":" "},{"$f":"IF(A781=0,\" \",IF(ISNA(MATCH(A781,Personnel!A:A,0)),\"وجود ندارد\",LOOKUP(A781,Personnel!A:A,Personnel!C:C)))","v":" "},null,null,null,null,null,null,null,null,"","",1,0," "," ",""," "," ","",null," "," ",",,,,,,,,,,,,"]
[null,{"$f":"IF(A782=0,\" \",IF(ISNA(MATCH(A782,Personnel!A:A,0)),\"وجود ندارد\",LOOKUP(A782,Personnel!A:A,Personnel!B:B)))","v":" "},{"$f":"IF(A782=0,\" \",IF(ISNA(MATCH(A782,Personnel!A:A,0)),\"وجود ندارد\",LOOKUP(A782,Personnel!A:A,Personnel!C:C)))","v":" "},null,null,null,null,null,null,null,null,"","",1,0," "," ",""," "," ","",null," "," ",",,,,,,,,,,,,"]
[null,{"$f":"IF(A783=0,\" \",IF(ISNA(MATCH(A783,Personnel!A:A,0)),\"وجود ندارد\",LOOKUP(A783,Personnel!A:A,Personnel!B:B)))","v":" "},{"$f":"IF(A783=0,\" \",IF(ISNA(MATCH(A783,Personnel!A:A,0)),\"وجود ندارد\",LOOKUP(A783,Personnel!A:A,Personnel!C:C)))","v":" "},null,null,null,null,null,null,null,null,"","",1,0," "," ",""," "," ","",null," "," ",",,,,,,,,,,,,"]
[null,{"$f":"IF(A784=0,\" \",IF(ISNA(MATCH(A784,Personnel!A:A,0)),\"وجود ندارد\",LOOKUP(A784,Personnel!A:A,Personnel!B:B)))","v":" "},{"$f":"IF(A784=0,\" \",IF(ISNA(MATCH(A784,Personnel!A:A,0)),\"وجود ندارد\",LOOKUP(A784,Personnel!A:A,Personnel!C:C)))","v":" "},null,null,null,null,null,null,null,null,"","",1,0," "," ",""," "," ","",null," "," ",",,,,,,,,,,,,"]
[null,{"$f":"IF(A785=0,\" \",IF(ISNA(MATCH(A785,Personnel!A:A,0)),\"وجود ندارد\",LOOKUP(A785,Personnel!A:A,Personnel!B:B)))","v":" "},{"$f":"IF(A785=0,\" \",IF(ISNA(MATCH(A785,Personnel!A:A,0)),\"وجود ندارد\",LOOKUP(A785,Personnel!A:A,Personnel!C:C)))","v":" "},null,null,null,null,null,null,null,null,"","",1,0," "," ",""," "," ","",null," "," ",",,,,,,,,,,,,"]
[null,{"$f":"IF(A786=0,\" \",IF(ISNA(MATCH(A786,Personnel!A:A,0)),\"وجود ندارد\",LOOKUP(A786,Personnel!A:A,Personnel!B:B)))","v":" "},{"$f":"IF(A786=0,\" \",IF(ISNA(MATCH(A786,Personnel!A:A,0)),\"وجود ندارد\",LOOKUP(A786,Personnel!A:A,Personnel!C:C)))","v":" "},null,null,null,null,null,null,null,null,"","",1,0," "," ",""," "," ","",null," "," ",",,,,,,,,,,,,"]
[null,{"$f":"IF(A787=0,\" \",IF(ISNA(MATCH(A787,Personnel!A:A,0)),\"وجود ندارد\",LOOKUP(A787,Personnel!A:A,Personnel!B:B)))","v":" "},{"$f":"IF(A787=0,\" \",IF(ISNA(MATCH(A787,Personnel!A:A,0)),\"وجود ندارد\",LOOKUP(A787,Personnel!A:A,Personnel!C:C)))","v":" "},null,null,null,null,null,null,null,null,"","",1,0," "," ",""," "," ","",null," "," ",",,,,,,,,,,,,"]
[null,{"$f":"IF(A788=0,\" \",IF(ISNA(MATCH(A788,Personnel!A:A,0)),\"وجود ندارد\",LOOKUP(A788,Personnel!A:A,Personnel!B:B)))","v":" "},{"$f":"IF(A788=0,\" \",IF(ISNA(MATCH(A788,Personnel!A:A,0)),\"وجود ندارد\",LOOKUP(A788,Personnel!A:A,Personnel!C:C)))","v":" "},null,null,null,null,null,null,null,null,"","",1,0," "," ",""," "," ","",null," "," ",",,,,,,,,,,,,"]
[null,{"$f":"IF(A789=0,\" \",IF(ISNA(MATCH(A789,Personnel!A:A,0)),\"وجود ندارد\",LOOKUP(A789,Personnel!A:A,Personnel!B:B)))","v":" "},{"$f":"IF(A789=0,\" \",IF(ISNA(MATCH(A789,Personnel!A:A,0)),\"وجود ندارد\",LOOKUP(A789,Personnel!A:A,Personnel!C:C)))","v":" "},null,null,null,null,null,null,null,null,"","",1,0," "," ",""," "," ","",null," "," ",",,,,,,,,,,,,"]
[null,{"$f":"IF(A790=0,\" \",IF(ISNA(MATCH(A790,Personnel!A:A,0)),\"وجود ندارد\",LOOKUP(A790,Personnel!A:A,Personnel!B:B)))","v":" "},{"$f":"IF(A790=0,\" \",IF(ISNA(MATCH(A790,Personnel!A:A,0)),\"وجود ندارد\",LOOKUP(A790,Personnel!A:A,Personnel!C:C)))","v":" "},null,null,null,null,null,null,null,null,"","",1,0," "," ",""," "," ","",null," "," ",",,,,,,,,,,,,"]
[null,{"$f":"IF(A791=0,\" \",IF(ISNA(MATCH(A791,Personnel!A:A,0)),\"وجود ندارد\",LOOKUP(A791,Personnel!A:A,Personnel!B:B)))","v":" "},{"$f":"IF(A791=0,\" \",IF(ISNA(MATCH(A791,Personnel!A:A,0)),\"وجود ندارد\",LOOKUP(A791,Personnel!A:A,Personnel!C:C)))","v":" "},null,null,null,null,null,null,null,null,"","",1,0," "," ",""," "," ","",null," "," ",",,,,,,,,,,,,"]
[null,{"$f":"IF(A792=0,\" \",IF(ISNA(MATCH(A792,Personnel!A:A,0)),\"وجود ندارد\",LOOKUP(A792,Personnel!A:A,Personnel!B:B)))","v":" "},{"$f":"IF(A792=0,\" \",IF(ISNA(MATCH(A792,Personnel!A:A,0)),\"وجود ندارد\",LOOKUP(A792,Personnel!A:A,Personnel!C:C)))","v":" "},null,null,null,null,null,null,null,null,"","",1,0," "," ",""," "," ","",null," "," ",",,,,,,,,,,,,"]
[null,{"$f":"IF(A793=0,\" \",IF(ISNA(MATCH(A793,Personnel!A:A,0)),\"وجود ندارد\",LOOKUP(A793,Personnel!A:A,Personnel!B:B)))","v":" "},{"$f":"IF(A793=0,\" \",IF(ISNA(MATCH(A793,Personnel!A:A,0)),\"وجود ندارد\",LOOKUP(A793,Personnel!A:A,Personnel!C:C)))","v":" "},null,null,null,null,null,null,null,null,"","",1,0," "," ",""," "," ","",null," "," ",",,,,,,,,,,,,"]
[null,{"$f":"IF(A794=0,\" \",IF(ISNA(MATCH(A794,Personnel!A:A,0)),\"وجود ندارد\",LOOKUP(A794,Personnel!A:A,Personnel!B:B)))","v":" "},{"$f":"IF(A794=0,\" \",IF(ISNA(MATCH(A794,Personnel!A:A,0)),\"وجود ندارد\",LOOKUP(A794,Personnel!A:A,Personnel!C:C)))","v":" "},null,null,null,null,null,null,null,null,"","",1,0," "," ",""," "," ","",null," "," ",",,,,,,,,,,,,"]
[null,{"$f":"IF(A795=0,\" \",IF(ISNA(MATCH(A795,Personnel!A:A,0)),\"وجود ندارد\",LOOKUP(A795,Personnel!A:A,Personnel!B:B)))","v":" "},{"$f":"IF(A795=0,\" \",IF(ISNA(MATCH(A795,Personnel!A:A,0)),\"وجود ندارد\",LOOKUP(A795,Personnel!A:A,Personnel!C:C)))","v":" "},null,null,null,null,null,null,null,null,"","",1,0," "," ",""," "," ","",null," "," ",",,,,,,,,,,,,"]
[null,{"$f":"IF(A796=0,\" \",IF(ISNA(MATCH(A796,Personnel!A:A,0)),\"وجود ندارد\",LOOKUP(A796,Personnel!A:A,Personnel!B:B)))","v":" "},{"$f":"IF(A796=0,\" \",IF(ISNA(MATCH(A796,Personnel!A:A,0)),\"وجود ندارد\",LOOKUP(A796,Personnel!A:A,Personnel!C:C)))","v":" "},null,null,null,null,null,null,null,null,"","",1,0," "," ",""," "," ","",null," "," ",",,,,,,,,,,,,"]
[null,{"$f":"IF(A797=0,\" \",IF(ISNA(MATCH(A797,Personnel!A:A,0)),\"وجود ندارد\",LOOKUP(A797,Personnel!A:A,Personnel!B:B)))","v":" "},{"$f":"IF(A797=0,\" \",IF(ISNA(MATCH(A797,Personnel!A:A,0)),\"وجود ندارد\",LOOKUP(A797,Personnel!A:A,Personnel!C:C)))","v":" "},null,null,null,null,null,null,null,null,"","",1,0," "," ",""," "," ","",null," "," ",",,,,,,,,,,,,"]
[null,{"$f":"IF(A798=0,\" \",IF(ISNA(MATCH(A798,Personnel!A:A,0)),\"وجود ندارد\",LOOKUP(A798,Personnel!A:A,Personnel!B:B)))","v":" "},{"$f":"IF(A798=0,\" \",IF(ISNA(MATCH(A798,Personnel!A:A,0)),\"وجود ندارد\",LOOKUP(A798,Personnel!A:A,Personnel!C:C)))","v":" "},null,null,null,null,null,null,null,null,"","",1,0," "," ",""," "," ","",null," "," ",",,,,,,,,,,,,"]
[null,{"$f":"IF(A799=0,\" \",IF(ISNA(MATCH(A799,Personnel!A:A,0)),\"وجود ندارد\",LOOKUP(A799,Personnel!A:A,Personnel!B:B)))","v":" "},{"$f":"IF(A799=0,\" \",IF(ISNA(MATCH(A799,Personnel!A:A,0)),\"وجود ندارد\",LOOKUP(A799,Personnel!A:A,Personnel!C:C)))","v":" "},null,null,null,null,null,null,null,null,"","",1,0," "," ",""," "," ","",null," "," ",",,,,,,,,,,,,"]
[null,{"$f":"IF(A800=0,\" \",IF(ISNA(MATCH(A800,Personnel!A:A,0)),\"وجود ندارد\",LOOKUP(A800,Personnel!A:A,Personnel!B:B)))","v":" "},{"$f":"IF(A800=0,\" \",IF(ISNA(MATCH(A800,Personnel!A:A,0)),\"وجود ندارد\",LOOKUP(A800,Personnel!A:A,Personnel!C:C)))","v":" "},null,null,null,null,null,null,null,null,"","",1,0," "," ",""," "," ","",null," "," ",",,,,,,,,,,,,"]
[null,{"$f":"IF(A801=0,\" \",IF(ISNA(MATCH(A801,Personnel!A:A,0)),\"وجود ندارد\",LOOKUP(A801,Personnel!A:A,Personnel!B:B)))","v":" "},{"$f":"IF(A801=0,\" \",IF(ISNA(MATCH(A801,Personnel!A:A,0)),\"وجود ندارد\",LOOKUP(A801,Personnel!A:A,Personnel!C:C)))","v":" "},null,null,null,null,null,null,null,null,"","",1,0," "," ",""," "," ","",null," "," ",",,,,,,,,,,,,"]
[null,{"$f":"IF(A802=0,\" \",IF(ISNA(MATCH(A802,Personnel!A:A,0)),\"وجود ندارد\",LOOKUP(A802,Personnel!A:A,Personnel!B:B)))","v":" "},{"$f":"IF(A802=0,\" \",IF(ISNA(MATCH(A802,Personnel!A:A,0)),\"وجود ندارد\",LOOKUP(A802,Personnel!A:A,Personnel!C:C)))","v":" "},null,null,null,null,null,null,null,null,"","",1,0," "," ",""," "," ","",null," "," ",",,,,,,,,,,,,"]
[null,{"$f":"IF(A803=0,\" \",IF(ISNA(MATCH(A803,Personnel!A:A,0)),\"وجود ندارد\",LOOKUP(A803,Personnel!A:A,Personnel!B:B)))","v":" "},{"$f":"IF(A803=0,\" \",IF(ISNA(MATCH(A803,Personnel!A:A,0)),\"وجود ندارد\",LOOKUP(A803,Personnel!A:A,Personnel!C:C)))","v":" "},null,null,null,null,null,null,null,null,"","",1,0," "," ",""," "," ","",null," "," ",",,,,,,,,,,,,"]
[null,{"$f":"IF(A804=0,\" \",IF(ISNA(MATCH(A804,Personnel!A:A,0)),\"وجود ندارد\",LOOKUP(A804,Personnel!A:A,Personnel!B:B)))","v":" "},{"$f":"IF(A804=0,\" \",IF(ISNA(MATCH(A804,Personnel!A:A,0)),\"وجود ندارد\",LOOKUP(A804,Personnel!A:A,Personnel!C:C)))","v":" "},null,null,null,null,null,null,null,null,"","",1,0," "," ",""," "," ","",null," "," ",",,,,,,,,,,,,"]
[null,{"$f":"IF(A805=0,\" \",IF(ISNA(MATCH(A805,Personnel!A:A,0)),\"وجود ندارد\",LOOKUP(A805,Personnel!A:A,Personnel!B:B)))","v":" "},{"$f":"IF(A805=0,\" \",IF(ISNA(MATCH(A805,Personnel!A:A,0)),\"وجود ندارد\",LOOKUP(A805,Personnel!A:A,Personnel!C:C)))","v":" "},null,null,null,null,null,null,null,null,"","",1,0," "," ",""," "," ","",null," "," ",",,,,,,,,,,,,"]
[null,{"$f":"IF(A806=0,\" \",IF(ISNA(MATCH(A806,Personnel!A:A,0)),\"وجود ندارد\",LOOKUP(A806,Personnel!A:A,Personnel!B:B)))","v":" "},{"$f":"IF(A806=0,\" \",IF(ISNA(MATCH(A806,Personnel!A:A,0)),\"وجود ندارد\",LOOKUP(A806,Personnel!A:A,Personnel!C:C)))","v":" "},null,null,null,null,null,null,null,null,"","",1,0," "," ",""," "," ","",null," "," ",",,,,,,,,,,,,"]
[null,{"$f":"IF(A807=0,\" \",IF(ISNA(MATCH(A807,Personnel!A:A,0)),\"وجود ندارد\",LOOKUP(A807,Personnel!A:A,Personnel!B:B)))","v":" "},{"$f":"IF(A807=0,\" \",IF(ISNA(MATCH(A807,Personnel!A:A,0)),\"وجود ندارد\",LOOKUP(A807,Personnel!A:A,Personnel!C:C)))","v":" "},null,null,null,null,null,null,null,null,"","",1,0," "," ",""," "," ","",null," "," ",",,,,,,,,,,,,"]
[null,{"$f":"IF(A808=0,\" \",IF(ISNA(MATCH(A808,Personnel!A:A,0)),\"وجود ندارد\",LOOKUP(A808,Personnel!A:A,Personnel!B:B)))","v":" "},{"$f":"IF(A808=0,\" \",IF(ISNA(MATCH(A808,Personnel!A:A,0)),\"وجود ندارد\",LOOKUP(A808,Personnel!A:A,Personnel!C:C)))","v":" "},null,null,null,null,null,null,null,null,"","",1,0," "," ",""," "," ","",null," "," ",",,,,,,,,,,,,"]
[null,{"$f":"IF(A809=0,\" \",IF(ISNA(MATCH(A809,Personnel!A:A,0)),\"وجود ندارد\",LOOKUP(A809,Personnel!A:A,Personnel!B:B)))","v":" "},{"$f":"IF(A809=0,\" \",IF(ISNA(MATCH(A809,Personnel!A:A,0)),\"وجود ندارد\",LOOKUP(A809,Personnel!A:A,Personnel!C:C)))","v":" "},null,null,null,null,null,null,null,null,"","",1,0," "," ",""," "," ","",null," "," ",",,,,,,,,,,,,"]
[null,{"$f":"IF(A810=0,\" \",IF(ISNA(MATCH(A810,Personnel!A:A,0)),\"وجود ندارد\",LOOKUP(A810,Personnel!A:A,Personnel!B:B)))","v":" "},{"$f":"IF(A810=0,\" \",IF(ISNA(MATCH(A810,Personnel!A:A,0)),\"وجود ندارد\",LOOKUP(A810,Personnel!A:A,Personnel!C:C)))","v":" "},null,null,null,null,null,null,null,null,"","",1,0," "," ",""," "," ","",null," "," ",",,,,,,,,,,,,"]
[null,{"$f":"IF(A811=0,\" \",IF(ISNA(MATCH(A811,Personnel!A:A,0)),\"وجود ندارد\",LOOKUP(A811,Personnel!A:A,Personnel!B:B)))","v":" "},{"$f":"IF(A811=0,\" \",IF(ISNA(MATCH(A811,Personnel!A:A,0)),\"وجود ندارد\",LOOKUP(A811,Personnel!A:A,Personnel!C:C)))","v":" "},null,null,null,null,null,null,null,null,"","",1,0," "," ",""," "," ","",null," "," ",",,,,,,,,,,,,"]
[null,{"$f":"IF(A812=0,\" \",IF(ISNA(MATCH(A812,Personnel!A:A,0)),\"وجود ندارد\",LOOKUP(A812,Personnel!A:A,Personnel!B:B)))","v":" "},{"$f":"IF(A812=0,\" \",IF(ISNA(MATCH(A812,Personnel!A:A,0)),\"وجود ندارد\",LOOKUP(A812,Personnel!A:A,Personnel!C:C)))","v":" "},null,null,null,null,null,null,null,null,"","",1,0," "," ",""," "," ","",null," "," ",",,,,,,,,,,,,"]
[null,{"$f":"IF(A813=0,\" \",IF(ISNA(MATCH(A813,Personnel!A:A,0)),\"وجود ندارد\",LOOKUP(A813,Personnel!A:A,Personnel!B:B)))","v":" "},{"$f":"IF(A813=0,\" \",IF(ISNA(MATCH(A813,Personnel!A:A,0)),\"وجود ندارد\",LOOKUP(A813,Personnel!A:A,Personnel!C:C)))","v":" "},null,null,null,null,null,null,null,null,"","",1,0," "," ",""," "," ","",null," "," ",",,,,,,,,,,,,"]
[null,{"$f":"IF(A814=0,\" \",IF(ISNA(MATCH(A814,Personnel!A:A,0)),\"وجود ندارد\",LOOKUP(A814,Personnel!A:A,Personnel!B:B)))","v":" "},{"$f":"IF(A814=0,\" \",IF(ISNA(MATCH(A814,Personnel!A:A,0)),\"وجود ندارد\",LOOKUP(A814,Personnel!A:A,Personnel!C:C)))","v":" "},null,null,null,null,null,null,null,null,"","",1,0," "," ",""," "," ","",null," "," ",",,,,,,,,,,,,"]
[null,{"$f":"IF(A815=0,\" \",IF(ISNA(MATCH(A815,Personnel!A:A,0)),\"وجود ندارد\",LOOKUP(A815,Personnel!A:A,Personnel!B:B)))","v":" "},{"$f":"IF(A815=0,\" \",IF(ISNA(MATCH(A815,Personnel!A:A,0)),\"وجود ندارد\",LOOKUP(A815,Personnel!A:A,Personnel!C:C)))","v":" "},null,null,null,null,null,null,null,null,"","",1,0," "," ",""," "," ","",null," "," ",",,,,,,,,,,,,"]
[null,{"$f":"IF(A816=0,\" \",IF(ISNA(MATCH(A816,Personnel!A:A,0)),\"وجود ندارد\",LOOKUP(A816,Personnel!A:A,Personnel!B:B)))","v":" "},{"$f":"IF(A816=0,\" \",IF(ISNA(MATCH(A816,Personnel!A:A,0)),\"وجود ندارد\",LOOKUP(A816,Personnel!A:A,Personnel!C:C)))","v":" "},null,null,null,null,null,null,null,null,"","",1,0," "," ",""," "," ","",null," "," ",",,,,,,,,,,,,"]
[null,{"$f":"IF(A817=0,\" \",IF(ISNA(MATCH(A817,Personnel!A:A,0)),\"وجود ندارد\",LOOKUP(A817,Personnel!A:A,Personnel!B:B)))","v":" "},{"$f":"IF(A817=0,\" \",IF(ISNA(MATCH(A817,Personnel!A:A,0)),\"وجود ندارد\",LOOKUP(A817,Personnel!A:A,Personnel!C:C)))","v":" "},null,null,null,null,null,null,null,null,"","",1,0," "," ",""," "," ","",null," "," ",",,,,,,,,,,,,"]
[null,{"$f":"IF(A818=0,\" \",IF(ISNA(MATCH(A818,Personnel!A:A,0)),\"وجود ندارد\",LOOKUP(A818,Personnel!A:A,Personnel!B:B)))","v":" "},{"$f":"IF(A818=0,\" \",IF(ISNA(MATCH(A818,Personnel!A:A,0)),\"وجود ندارد\",LOOKUP(A818,Personnel!A:A,Personnel!C:C)))","v":" "},null,null,null,null,null,null,null,null,"","",1,0," "," ",""," "," ","",null," "," ",",,,,,,,,,,,,"]
[null,{"$f":"IF(A819=0,\" \",IF(ISNA(MATCH(A819,Personnel!A:A,0)),\"وجود ندارد\",LOOKUP(A819,Personnel!A:A,Personnel!B:B)))","v":" "},{"$f":"IF(A819=0,\" \",IF(ISNA(MATCH(A819,Personnel!A:A,0)),\"وجود ندارد\",LOOKUP(A819,Personnel!A:A,Personnel!C:C)))","v":" "},null,null,null,null,null,null,null,null,"","",1,0," "," ",""," "," ","",null," "," ",",,,,,,,,,,,,"]
[null,{"$f":"IF(A820=0,\" \",IF(ISNA(MATCH(A820,Personnel!A:A,0)),\"وجود ندارد\",LOOKUP(A820,Personnel!A:A,Personnel!B:B)))","v":" "},{"$f":"IF(A820=0,\" \",IF(ISNA(MATCH(A820,Personnel!A:A,0)),\"وجود ندارد\",LOOKUP(A820,Personnel!A:A,Personnel!C:C)))","v":" "},null,null,null,null,null,null,null,null,"","",1,0," "," ",""," "," ","",null," "," ",",,,,,,,,,,,,"]
[null,{"$f":"IF(A821=0,\" \",IF(ISNA(MATCH(A821,Personnel!A:A,0)),\"وجود ندارد\",LOOKUP(A821,Personnel!A:A,Personnel!B:B)))","v":" "},{"$f":"IF(A821=0,\" \",IF(ISNA(MATCH(A821,Personnel!A:A,0)),\"وجود ندارد\",LOOKUP(A821,Personnel!A:A,Personnel!C:C)))","v":" "},null,null,null,null,null,null,null,null,"","",1,0," "," ",""," "," ","",null," "," ",",,,,,,,,,,,,"]
[null,{"$f":"IF(A822=0,\" \",IF(ISNA(MATCH(A822,Personnel!A:A,0)),\"وجود ندارد\",LOOKUP(A822,Personnel!A:A,Personnel!B:B)))","v":" "},{"$f":"IF(A822=0,\" \",IF(ISNA(MATCH(A822,Personnel!A:A,0)),\"وجود ندارد\",LOOKUP(A822,Personnel!A:A,Personnel!C:C)))","v":" "},null,null,null,null,null,null,null,null,"","",1,0," "," ",""," "," ","",null," "," ",",,,,,,,,,,,,"]
[null,{"$f":"IF(A823=0,\" \",IF(ISNA(MATCH(A823,Personnel!A:A,0)),\"وجود ندارد\",LOOKUP(A823,Personnel!A:A,Personnel!B:B)))","v":" "},{"$f":"IF(A823=0,\" \",IF(ISNA(MATCH(A823,Personnel!A:A,0)),\"وجود ندارد\",LOOKUP(A823,Personnel!A:A,Personnel!C:C)))","v":" "},null,null,null,null,null,null,null,null,"","",1,0," "," ",""," "," ","",null," "," ",",,,,,,,,,,,,"]
[null,{"$f":"IF(A824=0,\" \",IF(ISNA(MATCH(A824,Personnel!A:A,0)),\"وجود ندارد\",LOOKUP(A824,Personnel!A:A,Personnel!B:B)))","v":" "},{"$f":"IF(A824=0,\" \",IF(ISNA(MATCH(A824,Personnel!A:A,0)),\"وجود ندارد\",LOOKUP(A824,Personnel!A:A,Personnel!C:C)))","v":" "},null,null,null,null,null,null,null,null,"","",1,0," "," ",""," "," ","",null," "," ",",,,,,,,,,,,,"]
[null,{"$f":"IF(A825=0,\" \",IF(ISNA(MATCH(A825,Personnel!A:A,0)),\"وجود ندارد\",LOOKUP(A825,Personnel!A:A,Personnel!B:B)))","v":" "},{"$f":"IF(A825=0,\" \",IF(ISNA(MATCH(A825,Personnel!A:A,0)),\"وجود ندارد\",LOOKUP(A825,Personnel!A:A,Personnel!C:C)))","v":" "},null,null,null,null,null,null,null,null,"","",1,0," "," ",""," "," ","",null," "," ",",,,,,,,,,,,,"]
[null,{"$f":"IF(A826=0,\" \",IF(ISNA(MATCH(A826,Personnel!A:A,0)),\"وجود ندارد\",LOOKUP(A826,Personnel!A:A,Personnel!B:B)))","v":" "},{"$f":"IF(A826=0,\" \",IF(ISNA(MATCH(A826,Personnel!A:A,0)),\"وجود ندارد\",LOOKUP(A826,Personnel!A:A,Personnel!C:C)))","v":" "},null,null,null,null,null,null,null,null,"","",1,0," "," ",""," "," ","",null," "," ",",,,,,,,,,,,,"]
[null,{"$f":"IF(A827=0,\" \",IF(ISNA(MATCH(A827,Personnel!A:A,0)),\"وجود ندارد\",LOOKUP(A827,Personnel!A:A,Personnel!B:B)))","v":" "},{"$f":"IF(A827=0,\" \",IF(ISNA(MATCH(A827,Personnel!A:A,0)),\"وجود ندارد\",LOOKUP(A827,Personnel!A:A,Personnel!C:C)))","v":" "},null,null,null,null,null,null,null,null,"","",1,0," "," ",""," "," ","",null," "," ",",,,,,,,,,,,,"]
[null,{"$f":"IF(A828=0,\" \",IF(ISNA(MATCH(A828,Personnel!A:A,0)),\"وجود ندارد\",LOOKUP(A828,Personnel!A:A,Personnel!B:B)))","v":" "},{"$f":"IF(A828=0,\" \",IF(ISNA(MATCH(A828,Personnel!A:A,0)),\"وجود ندارد\",LOOKUP(A828,Personnel!A:A,Personnel!C:C)))","v":" "},null,null,null,null,null,null,null,null,"","",1,0," "," ",""," "," ","",null," "," ",",,,,,,,,,,,,"]
[null,{"$f":"IF(A829=0,\" \",IF(ISNA(MATCH(A829,Personnel!A:A,0)),\"وجود ندارد\",LOOKUP(A829,Personnel!A:A,Personnel!B:B)))","v":" "},{"$f":"IF(A829=0,\" \",IF(ISNA(MATCH(A829,Personnel!A:A,0)),\"وجود ندارد\",LOOKUP(A829,Personnel!A:A,Personnel!C:C)))","v":" "},null,null,null,null,null,null,null,null,"","",1,0," "," ",""," "," ","",null," "," ",",,,,,,,,,,,,"]
[null,{"$f":"IF(A830=0,\" \",IF(ISNA(MATCH(A830,Personnel!A:A,0)),\"وجود ندارد\",LOOKUP(A830,Personnel!A:A,Personnel!B:B)))","v":" "},{"$f":"IF(A830=0,\" \",IF(ISNA(MATCH(A830,Personnel!A:A,0)),\"وجود ندارد\",LOOKUP(A830,Personnel!A:A,Personnel!C:C)))","v":" "},null,null,null,null,null,null,null,null,"","",1,0," "," ",""," "," ","",null," "," ",",,,,,,,,,,,,"]
[null,{"$f":"IF(A831=0,\" \",IF(ISNA(MATCH(A831,Personnel!A:A,0)),\"وجود ندارد\",LOOKUP(A831,Personnel!A:A,Personnel!B:B)))","v":" "},{"$f":"IF(A831=0,\" \",IF(ISNA(MATCH(A831,Personnel!A:A,0)),\"وجود ندارد\",LOOKUP(A831,Personnel!A:A,Personnel!C:C)))","v":" "},null,null,null,null,null,null,null,null,"","",1,0," "," ",""," "," ","",null," "," ",",,,,,,,,,,,,"]
[null,{"$f":"IF(A832=0,\" \",IF(ISNA(MATCH(A832,Personnel!A:A,0)),\"وجود ندارد\",LOOKUP(A832,Personnel!A:A,Personnel!B:B)))","v":" "},{"$f":"IF(A832=0,\" \",IF(ISNA(MATCH(A832,Personnel!A:A,0)),\"وجود ندارد\",LOOKUP(A832,Personnel!A:A,Personnel!C:C)))","v":" "},null,null,null,null,null,null,null,null,"","",1,0," "," ",""," "," ","",null," "," ",",,,,,,,,,,,,"]
[null,{"$f":"IF(A833=0,\" \",IF(ISNA(MATCH(A833,Personnel!A:A,0)),\"وجود ندارد\",LOOKUP(A833,Personnel!A:A,Personnel!B:B)))","v":" "},{"$f":"IF(A833=0,\" \",IF(ISNA(MATCH(A833,Personnel!A:A,0)),\"وجود ندارد\",LOOKUP(A833,Personnel!A:A,Personnel!C:C)))","v":" "},null,null,null,null,null,null,null,null,"","",1,0," "," ",""," "," ","",null," "," ",",,,,,,,,,,,,"]
[null,{"$f":"IF(A834=0,\" \",IF(ISNA(MATCH(A834,Personnel!A:A,0)),\"وجود ندارد\",LOOKUP(A834,Personnel!A:A,Personnel!B:B)))","v":" "},{"$f":"IF(A834=0,\" \",IF(ISNA(MATCH(A834,Personnel!A:A,0)),\"وجود ندارد\",LOOKUP(A834,Personnel!A:A,Personnel!C:C)))","v":" "},null,null,null,null,null,null,null,null,"","",1,0,{"$f":"IF(A834=0,\" \",IF(N834+O834<>0,\"تاریخ اشتباه است\",\"\"))","v":" "},{"$f":"IF(A834=0,\" \",IF(AND(G834<>0,H834>G834),\"مبلغ قسط از مبلغ کل بیشتر است\",\"\"))","v":" "},""," ",{"$f":"IF(A834=0,\" \",IF(OR(K834<1,K834>3),\"نوع عمل اشتباه است\",\"\"))","v":" "},"",null," "," ",",,,,,,,,,,,,"]
[null,{"$f":"IF(A835=0,\" \",IF(ISNA(MATCH(A835,Personnel!A:A,0)),\"وجود ندارد\",LOOKUP(A835,Personnel!A:A,Personnel!B:B)))","v":" "},{"$f":"IF(A835=0,\" \",IF(ISNA(MATCH(A835,Personnel!A:A,0)),\"وجود ندارد\",LOOKUP(A835,Personnel!A:A,Personnel!C:C)))","v":" "},null,null,null,null,null,null,null,null,{"$f":"IF(K835=0,\"\",IF(K835=1,\"ایجاد\",IF(K835=2,\"اصلاح\",\"حذف\")))","v":""},{"$f":"IF(AND(K835=3,H835+I835+J835+F835+G835<>0),\"برای عمل حذف اطلاعات اضافی وارد شده است\",\"\")","v":""},{"$f":"IF(AND(K835<>3,F835<900000),1,0)","v":1},{"$f":"IF(F835>991231,1,0)","v":0}," "," ",{"$f":"IF(AND(A835=0,H835+I835+J835+F835+G835+K835+E835+D835<>0),\"در این ردیف شماره پرسنلی وجود ندارد اما اطلاعات دیگر وارد شده است\",\"\")","v":""},{"$f":"IF(A835=0,\" \",IF(D835=0,\"کد وام وارد نشده است\",\"\"))","v":" "}," ",{"$f":"IF(AND(OR(K835=1,K835=2),H835=0),\"مبلغ قسط نمی تواند خالی باشد\",\"\")","v":""},null,{"$f":"IF(AND(A835=0,A836<>0),\"دراین ردیف اصلاحاتی وجود ندارد . لطفا ردیفی را خالی باقی نگذارید\",IF(AND(A835=0,R835=\"\"),\" \",IF(M835&\",\"&P835&\",\"&Q835&\",\"&R835&\",\"&S835&\",\"&T835&\",\"&U835=\",,,,,,\",\"صحیح\",M835&\",\"&P835&\",\"&Q835&\",\"&R835&\",\"&S835&\",\"&T835&\",\"&U835)))","v":" "},{"$f":"IF(AND(ROW(X835)>$Z$2,W835=\" \"),\" \",IF(W835=\" \",IF(AND(A835=0,$Z$2<>$Z$4),\"دراین ردیف اصلاحاتی وجود ندارد . لطفا ردیفی را خالی نگذارید\",W835),W835))","v":" "},{"$f":"CONCATENATE(A835,\",\",D835,\",\",E835,\",\",F835,\",\",G835,\",\",H835,\",\",I835,\",\",K835,\",\",,\",\",J835,\",\",\",\",V835,\",\")","v":",,,,,,,,,,,,"}]
[null,{"$f":"IF(A836=0,\" \",IF(ISNA(MATCH(A836,Personnel!A:A,0)),\"وجود ندارد\",LOOKUP(A836,Personnel!A:A,Personnel!B:B)))","v":" "},{"$f":"IF(A836=0,\" \",IF(ISNA(MATCH(A836,Personnel!A:A,0)),\"وجود ندارد\",LOOKUP(A836,Personnel!A:A,Personnel!C:C)))","v":" "},null,null,null,null,null,null,null,null,"","",1,0," "," ",""," "," ","",null," "," ",",,,,,,,,,,,,"]
[null,{"$f":"IF(A837=0,\" \",IF(ISNA(MATCH(A837,Personnel!A:A,0)),\"وجود ندارد\",LOOKUP(A837,Personnel!A:A,Personnel!B:B)))","v":" "},{"$f":"IF(A837=0,\" \",IF(ISNA(MATCH(A837,Personnel!A:A,0)),\"وجود ندارد\",LOOKUP(A837,Personnel!A:A,Personnel!C:C)))","v":" "},null,null,null,null,null,null,null,null,"","",1,0," "," ",""," "," ","",null," "," ",",,,,,,,,,,,,"]
[null,{"$f":"IF(A838=0,\" \",IF(ISNA(MATCH(A838,Personnel!A:A,0)),\"وجود ندارد\",LOOKUP(A838,Personnel!A:A,Personnel!B:B)))","v":" "},{"$f":"IF(A838=0,\" \",IF(ISNA(MATCH(A838,Personnel!A:A,0)),\"وجود ندارد\",LOOKUP(A838,Personnel!A:A,Personnel!C:C)))","v":" "},null,null,null,null,null,null,null,null,"","",1,0," "," ",""," "," ","",null," "," ",",,,,,,,,,,,,"]
[null,{"$f":"IF(A839=0,\" \",IF(ISNA(MATCH(A839,Personnel!A:A,0)),\"وجود ندارد\",LOOKUP(A839,Personnel!A:A,Personnel!B:B)))","v":" "},{"$f":"IF(A839=0,\" \",IF(ISNA(MATCH(A839,Personnel!A:A,0)),\"وجود ندارد\",LOOKUP(A839,Personnel!A:A,Personnel!C:C)))","v":" "},null,null,null,null,null,null,null,null,"","",1,0," "," ",""," "," ","",null," "," ",",,,,,,,,,,,,"]
[null,{"$f":"IF(A840=0,\" \",IF(ISNA(MATCH(A840,Personnel!A:A,0)),\"وجود ندارد\",LOOKUP(A840,Personnel!A:A,Personnel!B:B)))","v":" "},{"$f":"IF(A840=0,\" \",IF(ISNA(MATCH(A840,Personnel!A:A,0)),\"وجود ندارد\",LOOKUP(A840,Personnel!A:A,Personnel!C:C)))","v":" "},null,null,null,null,null,null,null,null,"","",1,0," "," ",""," "," ","",null," "," ",",,,,,,,,,,,,"]
[null,{"$f":"IF(A841=0,\" \",IF(ISNA(MATCH(A841,Personnel!A:A,0)),\"وجود ندارد\",LOOKUP(A841,Personnel!A:A,Personnel!B:B)))","v":" "},{"$f":"IF(A841=0,\" \",IF(ISNA(MATCH(A841,Personnel!A:A,0)),\"وجود ندارد\",LOOKUP(A841,Personnel!A:A,Personnel!C:C)))","v":" "},null,null,null,null,null,null,null,null,"","",1,0," "," ",""," "," ","",null," "," ",",,,,,,,,,,,,"]
[null,{"$f":"IF(A842=0,\" \",IF(ISNA(MATCH(A842,Personnel!A:A,0)),\"وجود ندارد\",LOOKUP(A842,Personnel!A:A,Personnel!B:B)))","v":" "},{"$f":"IF(A842=0,\" \",IF(ISNA(MATCH(A842,Personnel!A:A,0)),\"وجود ندارد\",LOOKUP(A842,Personnel!A:A,Personnel!C:C)))","v":" "},null,null,null,null,null,null,null,null,"","",1,0," "," ",""," "," ","",null," "," ",",,,,,,,,,,,,"]
[null,{"$f":"IF(A843=0,\" \",IF(ISNA(MATCH(A843,Personnel!A:A,0)),\"وجود ندارد\",LOOKUP(A843,Personnel!A:A,Personnel!B:B)))","v":" "},{"$f":"IF(A843=0,\" \",IF(ISNA(MATCH(A843,Personnel!A:A,0)),\"وجود ندارد\",LOOKUP(A843,Personnel!A:A,Personnel!C:C)))","v":" "},null,null,null,null,null,null,null,null,"","",1,0," "," ",""," "," ","",null," "," ",",,,,,,,,,,,,"]
[null,{"$f":"IF(A844=0,\" \",IF(ISNA(MATCH(A844,Personnel!A:A,0)),\"وجود ندارد\",LOOKUP(A844,Personnel!A:A,Personnel!B:B)))","v":" "},{"$f":"IF(A844=0,\" \",IF(ISNA(MATCH(A844,Personnel!A:A,0)),\"وجود ندارد\",LOOKUP(A844,Personnel!A:A,Personnel!C:C)))","v":" "},null,null,null,null,null,null,null,null,"","",1,0," "," ",""," "," ","",null," "," ",",,,,,,,,,,,,"]
[null,{"$f":"IF(A845=0,\" \",IF(ISNA(MATCH(A845,Personnel!A:A,0)),\"وجود ندارد\",LOOKUP(A845,Personnel!A:A,Personnel!B:B)))","v":" "},{"$f":"IF(A845=0,\" \",IF(ISNA(MATCH(A845,Personnel!A:A,0)),\"وجود ندارد\",LOOKUP(A845,Personnel!A:A,Personnel!C:C)))","v":" "},null,null,null,null,null,null,null,null,"","",1,0," "," ",""," "," ","",null," "," ",",,,,,,,,,,,,"]
[null,{"$f":"IF(A846=0,\" \",IF(ISNA(MATCH(A846,Personnel!A:A,0)),\"وجود ندارد\",LOOKUP(A846,Personnel!A:A,Personnel!B:B)))","v":" "},{"$f":"IF(A846=0,\" \",IF(ISNA(MATCH(A846,Personnel!A:A,0)),\"وجود ندارد\",LOOKUP(A846,Personnel!A:A,Personnel!C:C)))","v":" "},null,null,null,null,null,null,null,null,"","",1,0," "," ",""," "," ","",null," "," ",",,,,,,,,,,,,"]
[null,{"$f":"IF(A847=0,\" \",IF(ISNA(MATCH(A847,Personnel!A:A,0)),\"وجود ندارد\",LOOKUP(A847,Personnel!A:A,Personnel!B:B)))","v":" "},{"$f":"IF(A847=0,\" \",IF(ISNA(MATCH(A847,Personnel!A:A,0)),\"وجود ندارد\",LOOKUP(A847,Personnel!A:A,Personnel!C:C)))","v":" "},null,null,null,null,null,null,null,null,"","",1,0," "," ",""," "," ","",null," "," ",",,,,,,,,,,,,"]
[null,{"$f":"IF(A848=0,\" \",IF(ISNA(MATCH(A848,Personnel!A:A,0)),\"وجود ندارد\",LOOKUP(A848,Personnel!A:A,Personnel!B:B)))","v":" "},{"$f":"IF(A848=0,\" \",IF(ISNA(MATCH(A848,Personnel!A:A,0)),\"وجود ندارد\",LOOKUP(A848,Personnel!A:A,Personnel!C:C)))","v":" "},null,null,null,null,null,null,null,null,"","",1,0," "," ",""," "," ","",null," "," ",",,,,,,,,,,,,"]
[null,{"$f":"IF(A849=0,\" \",IF(ISNA(MATCH(A849,Personnel!A:A,0)),\"وجود ندارد\",LOOKUP(A849,Personnel!A:A,Personnel!B:B)))","v":" "},{"$f":"IF(A849=0,\" \",IF(ISNA(MATCH(A849,Personnel!A:A,0)),\"وجود ندارد\",LOOKUP(A849,Personnel!A:A,Personnel!C:C)))","v":" "},null,null,null,null,null,null,null,null,"","",1,0," "," ",""," "," ","",null," "," ",",,,,,,,,,,,,"]
[null,{"$f":"IF(A850=0,\" \",IF(ISNA(MATCH(A850,Personnel!A:A,0)),\"وجود ندارد\",LOOKUP(A850,Personnel!A:A,Personnel!B:B)))","v":" "},{"$f":"IF(A850=0,\" \",IF(ISNA(MATCH(A850,Personnel!A:A,0)),\"وجود ندارد\",LOOKUP(A850,Personnel!A:A,Personnel!C:C)))","v":" "},null,null,null,null,null,null,null,null,"","",1,0," "," ",""," "," ","",null," "," ",",,,,,,,,,,,,"]
[null,{"$f":"IF(A851=0,\" \",IF(ISNA(MATCH(A851,Personnel!A:A,0)),\"وجود ندارد\",LOOKUP(A851,Personnel!A:A,Personnel!B:B)))","v":" "},{"$f":"IF(A851=0,\" \",IF(ISNA(MATCH(A851,Personnel!A:A,0)),\"وجود ندارد\",LOOKUP(A851,Personnel!A:A,Personnel!C:C)))","v":" "},null,null,null,null,null,null,null,null,"","",1,0," "," ",""," "," ","",null," "," ",",,,,,,,,,,,,"]
[null,{"$f":"IF(A852=0,\" \",IF(ISNA(MATCH(A852,Personnel!A:A,0)),\"وجود ندارد\",LOOKUP(A852,Personnel!A:A,Personnel!B:B)))","v":" "},{"$f":"IF(A852=0,\" \",IF(ISNA(MATCH(A852,Personnel!A:A,0)),\"وجود ندارد\",LOOKUP(A852,Personnel!A:A,Personnel!C:C)))","v":" "},null,null,null,null,null,null,null,null,"","",1,0," "," ",""," "," ","",null," "," ",",,,,,,,,,,,,"]
[null,{"$f":"IF(A853=0,\" \",IF(ISNA(MATCH(A853,Personnel!A:A,0)),\"وجود ندارد\",LOOKUP(A853,Personnel!A:A,Personnel!B:B)))","v":" "},{"$f":"IF(A853=0,\" \",IF(ISNA(MATCH(A853,Personnel!A:A,0)),\"وجود ندارد\",LOOKUP(A853,Personnel!A:A,Personnel!C:C)))","v":" "},null,null,null,null,null,null,null,null,"","",1,0," "," ",""," "," ","",null," "," ",",,,,,,,,,,,,"]
[null,{"$f":"IF(A854=0,\" \",IF(ISNA(MATCH(A854,Personnel!A:A,0)),\"وجود ندارد\",LOOKUP(A854,Personnel!A:A,Personnel!B:B)))","v":" "},{"$f":"IF(A854=0,\" \",IF(ISNA(MATCH(A854,Personnel!A:A,0)),\"وجود ندارد\",LOOKUP(A854,Personnel!A:A,Personnel!C:C)))","v":" "},null,null,null,null,null,null,null,null,"","",1,0," "," ",""," "," ","",null," "," ",",,,,,,,,,,,,"]
[null,{"$f":"IF(A855=0,\" \",IF(ISNA(MATCH(A855,Personnel!A:A,0)),\"وجود ندارد\",LOOKUP(A855,Personnel!A:A,Personnel!B:B)))","v":" "},{"$f":"IF(A855=0,\" \",IF(ISNA(MATCH(A855,Personnel!A:A,0)),\"وجود ندارد\",LOOKUP(A855,Personnel!A:A,Personnel!C:C)))","v":" "},null,null,null,null,null,null,null,null,"","",1,0," "," ",""," "," ","",null," "," ",",,,,,,,,,,,,"]
[null,{"$f":"IF(A856=0,\" \",IF(ISNA(MATCH(A856,Personnel!A:A,0)),\"وجود ندارد\",LOOKUP(A856,Personnel!A:A,Personnel!B:B)))","v":" "},{"$f":"IF(A856=0,\" \",IF(ISNA(MATCH(A856,Personnel!A:A,0)),\"وجود ندارد\",LOOKUP(A856,Personnel!A:A,Personnel!C:C)))","v":" "},null,null,null,null,null,null,null,null,"","",1,0," "," ",""," "," ","",null," "," ",",,,,,,,,,,,,"]
[null,{"$f":"IF(A857=0,\" \",IF(ISNA(MATCH(A857,Personnel!A:A,0)),\"وجود ندارد\",LOOKUP(A857,Personnel!A:A,Personnel!B:B)))","v":" "},{"$f":"IF(A857=0,\" \",IF(ISNA(MATCH(A857,Personnel!A:A,0)),\"وجود ندارد\",LOOKUP(A857,Personnel!A:A,Personnel!C:C)))","v":" "},null,null,null,null,null,null,null,null,"","",1,0," "," ",""," "," ","",null," "," ",",,,,,,,,,,,,"]
[null,{"$f":"IF(A858=0,\" \",IF(ISNA(MATCH(A858,Personnel!A:A,0)),\"وجود ندارد\",LOOKUP(A858,Personnel!A:A,Personnel!B:B)))","v":" "},{"$f":"IF(A858=0,\" \",IF(ISNA(MATCH(A858,Personnel!A:A,0)),\"وجود ندارد\",LOOKUP(A858,Personnel!A:A,Personnel!C:C)))","v":" "},null,null,null,null,null,null,null,null,"","",1,0," "," ",""," "," ","",null," "," ",",,,,,,,,,,,,"]
[null,{"$f":"IF(A859=0,\" \",IF(ISNA(MATCH(A859,Personnel!A:A,0)),\"وجود ندارد\",LOOKUP(A859,Personnel!A:A,Personnel!B:B)))","v":" "},{"$f":"IF(A859=0,\" \",IF(ISNA(MATCH(A859,Personnel!A:A,0)),\"وجود ندارد\",LOOKUP(A859,Personnel!A:A,Personnel!C:C)))","v":" "},null,null,null,null,null,null,null,null,"","",1,0," "," ",""," "," ","",null," "," ",",,,,,,,,,,,,"]
[null,{"$f":"IF(A860=0,\" \",IF(ISNA(MATCH(A860,Personnel!A:A,0)),\"وجود ندارد\",LOOKUP(A860,Personnel!A:A,Personnel!B:B)))","v":" "},{"$f":"IF(A860=0,\" \",IF(ISNA(MATCH(A860,Personnel!A:A,0)),\"وجود ندارد\",LOOKUP(A860,Personnel!A:A,Personnel!C:C)))","v":" "},null,null,null,null,null,null,null,null,"","",1,0," "," ",""," "," ","",null," "," ",",,,,,,,,,,,,"]
[null,{"$f":"IF(A861=0,\" \",IF(ISNA(MATCH(A861,Personnel!A:A,0)),\"وجود ندارد\",LOOKUP(A861,Personnel!A:A,Personnel!B:B)))","v":" "},{"$f":"IF(A861=0,\" \",IF(ISNA(MATCH(A861,Personnel!A:A,0)),\"وجود ندارد\",LOOKUP(A861,Personnel!A:A,Personnel!C:C)))","v":" "},null,null,null,null,null,null,null,null,"","",1,0," "," ",""," "," ","",null," "," ",",,,,,,,,,,,,"]
[null,{"$f":"IF(A862=0,\" \",IF(ISNA(MATCH(A862,Personnel!A:A,0)),\"وجود ندارد\",LOOKUP(A862,Personnel!A:A,Personnel!B:B)))","v":" "},{"$f":"IF(A862=0,\" \",IF(ISNA(MATCH(A862,Personnel!A:A,0)),\"وجود ندارد\",LOOKUP(A862,Personnel!A:A,Personnel!C:C)))","v":" "},null,null,null,null,null,null,null,null,"","",1,0," "," ",""," "," ","",null," "," ",",,,,,,,,,,,,"]
[null,{"$f":"IF(A863=0,\" \",IF(ISNA(MATCH(A863,Personnel!A:A,0)),\"وجود ندارد\",LOOKUP(A863,Personnel!A:A,Personnel!B:B)))","v":" "},{"$f":"IF(A863=0,\" \",IF(ISNA(MATCH(A863,Personnel!A:A,0)),\"وجود ندارد\",LOOKUP(A863,Personnel!A:A,Personnel!C:C)))","v":" "},null,null,null,null,null,null,null,null,"","",1,0," "," ",""," "," ","",null," "," ",",,,,,,,,,,,,"]
[null,{"$f":"IF(A864=0,\" \",IF(ISNA(MATCH(A864,Personnel!A:A,0)),\"وجود ندارد\",LOOKUP(A864,Personnel!A:A,Personnel!B:B)))","v":" "},{"$f":"IF(A864=0,\" \",IF(ISNA(MATCH(A864,Personnel!A:A,0)),\"وجود ندارد\",LOOKUP(A864,Personnel!A:A,Personnel!C:C)))","v":" "},null,null,null,null,null,null,null,null,"","",1,0," "," ",""," "," ","",null," "," ",",,,,,,,,,,,,"]
[null,{"$f":"IF(A865=0,\" \",IF(ISNA(MATCH(A865,Personnel!A:A,0)),\"وجود ندارد\",LOOKUP(A865,Personnel!A:A,Personnel!B:B)))","v":" "},{"$f":"IF(A865=0,\" \",IF(ISNA(MATCH(A865,Personnel!A:A,0)),\"وجود ندارد\",LOOKUP(A865,Personnel!A:A,Personnel!C:C)))","v":" "},null,null,null,null,null,null,null,null,"","",1,0," "," ",""," "," ","",null," "," ",",,,,,,,,,,,,"]
[null,{"$f":"IF(A866=0,\" \",IF(ISNA(MATCH(A866,Personnel!A:A,0)),\"وجود ندارد\",LOOKUP(A866,Personnel!A:A,Personnel!B:B)))","v":" "},{"$f":"IF(A866=0,\" \",IF(ISNA(MATCH(A866,Personnel!A:A,0)),\"وجود ندارد\",LOOKUP(A866,Personnel!A:A,Personnel!C:C)))","v":" "},null,null,null,null,null,null,null,null,"","",1,0," "," ",""," "," ","",null," "," ",",,,,,,,,,,,,"]
[null,{"$f":"IF(A867=0,\" \",IF(ISNA(MATCH(A867,Personnel!A:A,0)),\"وجود ندارد\",LOOKUP(A867,Personnel!A:A,Personnel!B:B)))","v":" "},{"$f":"IF(A867=0,\" \",IF(ISNA(MATCH(A867,Personnel!A:A,0)),\"وجود ندارد\",LOOKUP(A867,Personnel!A:A,Personnel!C:C)))","v":" "},null,null,null,null,null,null,null,null,"","",1,0," "," ",""," "," ","",null," "," ",",,,,,,,,,,,,"]
[null,{"$f":"IF(A868=0,\" \",IF(ISNA(MATCH(A868,Personnel!A:A,0)),\"وجود ندارد\",LOOKUP(A868,Personnel!A:A,Personnel!B:B)))","v":" "},{"$f":"IF(A868=0,\" \",IF(ISNA(MATCH(A868,Personnel!A:A,0)),\"وجود ندارد\",LOOKUP(A868,Personnel!A:A,Personnel!C:C)))","v":" "},null,null,null,null,null,null,null,null,"","",1,0," "," ",""," "," ","",null," "," ",",,,,,,,,,,,,"]
[null,{"$f":"IF(A869=0,\" \",IF(ISNA(MATCH(A869,Personnel!A:A,0)),\"وجود ندارد\",LOOKUP(A869,Personnel!A:A,Personnel!B:B)))","v":" "},{"$f":"IF(A869=0,\" \",IF(ISNA(MATCH(A869,Personnel!A:A,0)),\"وجود ندارد\",LOOKUP(A869,Personnel!A:A,Personnel!C:C)))","v":" "},null,null,null,null,null,null,null,null,"","",1,0," "," ",""," "," ","",null," "," ",",,,,,,,,,,,,"]
[null,{"$f":"IF(A870=0,\" \",IF(ISNA(MATCH(A870,Personnel!A:A,0)),\"وجود ندارد\",LOOKUP(A870,Personnel!A:A,Personnel!B:B)))","v":" "},{"$f":"IF(A870=0,\" \",IF(ISNA(MATCH(A870,Personnel!A:A,0)),\"وجود ندارد\",LOOKUP(A870,Personnel!A:A,Personnel!C:C)))","v":" "},null,null,null,null,null,null,null,null,"","",1,0," "," ",""," "," ","",null," "," ",",,,,,,,,,,,,"]
[null,{"$f":"IF(A871=0,\" \",IF(ISNA(MATCH(A871,Personnel!A:A,0)),\"وجود ندارد\",LOOKUP(A871,Personnel!A:A,Personnel!B:B)))","v":" "},{"$f":"IF(A871=0,\" \",IF(ISNA(MATCH(A871,Personnel!A:A,0)),\"وجود ندارد\",LOOKUP(A871,Personnel!A:A,Personnel!C:C)))","v":" "},null,null,null,null,null,null,null,null,"","",1,0," "," ",""," "," ","",null," "," ",",,,,,,,,,,,,"]
[null,{"$f":"IF(A872=0,\" \",IF(ISNA(MATCH(A872,Personnel!A:A,0)),\"وجود ندارد\",LOOKUP(A872,Personnel!A:A,Personnel!B:B)))","v":" "},{"$f":"IF(A872=0,\" \",IF(ISNA(MATCH(A872,Personnel!A:A,0)),\"وجود ندارد\",LOOKUP(A872,Personnel!A:A,Personnel!C:C)))","v":" "},null,null,null,null,null,null,null,null,"","",1,0," "," ",""," "," ","",null," "," ",",,,,,,,,,,,,"]
[null,{"$f":"IF(A873=0,\" \",IF(ISNA(MATCH(A873,Personnel!A:A,0)),\"وجود ندارد\",LOOKUP(A873,Personnel!A:A,Personnel!B:B)))","v":" "},{"$f":"IF(A873=0,\" \",IF(ISNA(MATCH(A873,Personnel!A:A,0)),\"وجود ندارد\",LOOKUP(A873,Personnel!A:A,Personnel!C:C)))","v":" "},null,null,null,null,null,null,null,null,"","",1,0," "," ",""," "," ","",null," "," ",",,,,,,,,,,,,"]
[null,{"$f":"IF(A874=0,\" \",IF(ISNA(MATCH(A874,Personnel!A:A,0)),\"وجود ندارد\",LOOKUP(A874,Personnel!A:A,Personnel!B:B)))","v":" "},{"$f":"IF(A874=0,\" \",IF(ISNA(MATCH(A874,Personnel!A:A,0)),\"وجود ندارد\",LOOKUP(A874,Personnel!A:A,Personnel!C:C)))","v":" "},null,null,null,null,null,null,null,null,"","",1,0," "," ",""," "," ","",null," "," ",",,,,,,,,,,,,"]
[null,{"$f":"IF(A875=0,\" \",IF(ISNA(MATCH(A875,Personnel!A:A,0)),\"وجود ندارد\",LOOKUP(A875,Personnel!A:A,Personnel!B:B)))","v":" "},{"$f":"IF(A875=0,\" \",IF(ISNA(MATCH(A875,Personnel!A:A,0)),\"وجود ندارد\",LOOKUP(A875,Personnel!A:A,Personnel!C:C)))","v":" "},null,null,null,null,null,null,null,null,"","",1,0," "," ",""," "," ","",null," "," ",",,,,,,,,,,,,"]
[null,{"$f":"IF(A876=0,\" \",IF(ISNA(MATCH(A876,Personnel!A:A,0)),\"وجود ندارد\",LOOKUP(A876,Personnel!A:A,Personnel!B:B)))","v":" "},{"$f":"IF(A876=0,\" \",IF(ISNA(MATCH(A876,Personnel!A:A,0)),\"وجود ندارد\",LOOKUP(A876,Personnel!A:A,Personnel!C:C)))","v":" "},null,null,null,null,null,null,null,null,"","",1,0," "," ",""," "," ","",null," "," ",",,,,,,,,,,,,"]
[null,{"$f":"IF(A877=0,\" \",IF(ISNA(MATCH(A877,Personnel!A:A,0)),\"وجود ندارد\",LOOKUP(A877,Personnel!A:A,Personnel!B:B)))","v":" "},{"$f":"IF(A877=0,\" \",IF(ISNA(MATCH(A877,Personnel!A:A,0)),\"وجود ندارد\",LOOKUP(A877,Personnel!A:A,Personnel!C:C)))","v":" "},null,null,null,null,null,null,null,null,"","",1,0," "," ",""," "," ","",null," "," ",",,,,,,,,,,,,"]
[null,{"$f":"IF(A878=0,\" \",IF(ISNA(MATCH(A878,Personnel!A:A,0)),\"وجود ندارد\",LOOKUP(A878,Personnel!A:A,Personnel!B:B)))","v":" "},{"$f":"IF(A878=0,\" \",IF(ISNA(MATCH(A878,Personnel!A:A,0)),\"وجود ندارد\",LOOKUP(A878,Personnel!A:A,Personnel!C:C)))","v":" "},null,null,null,null,null,null,null,null,"","",1,0," "," ",""," "," ","",null," "," ",",,,,,,,,,,,,"]
[null,{"$f":"IF(A879=0,\" \",IF(ISNA(MATCH(A879,Personnel!A:A,0)),\"وجود ندارد\",LOOKUP(A879,Personnel!A:A,Personnel!B:B)))","v":" "},{"$f":"IF(A879=0,\" \",IF(ISNA(MATCH(A879,Personnel!A:A,0)),\"وجود ندارد\",LOOKUP(A879,Personnel!A:A,Personnel!C:C)))","v":" "},null,null,null,null,null,null,null,null,"","",1,0," "," ",""," "," ","",null," "," ",",,,,,,,,,,,,"]
[null,{"$f":"IF(A880=0,\" \",IF(ISNA(MATCH(A880,Personnel!A:A,0)),\"وجود ندارد\",LOOKUP(A880,Personnel!A:A,Personnel!B:B)))","v":" "},{"$f":"IF(A880=0,\" \",IF(ISNA(MATCH(A880,Personnel!A:A,0)),\"وجود ندارد\",LOOKUP(A880,Personnel!A:A,Personnel!C:C)))","v":" "},null,null,null,null,null,null,null,null,"","",1,0," "," ",""," "," ","",null," "," ",",,,,,,,,,,,,"]
[null,{"$f":"IF(A881=0,\" \",IF(ISNA(MATCH(A881,Personnel!A:A,0)),\"وجود ندارد\",LOOKUP(A881,Personnel!A:A,Personnel!B:B)))","v":" "},{"$f":"IF(A881=0,\" \",IF(ISNA(MATCH(A881,Personnel!A:A,0)),\"وجود ندارد\",LOOKUP(A881,Personnel!A:A,Personnel!C:C)))","v":" "},null,null,null,null,null,null,null,null,"","",1,0," "," ",""," "," ","",null," "," ",",,,,,,,,,,,,"]
[null,{"$f":"IF(A882=0,\" \",IF(ISNA(MATCH(A882,Personnel!A:A,0)),\"وجود ندارد\",LOOKUP(A882,Personnel!A:A,Personnel!B:B)))","v":" "},{"$f":"IF(A882=0,\" \",IF(ISNA(MATCH(A882,Personnel!A:A,0)),\"وجود ندارد\",LOOKUP(A882,Personnel!A:A,Personnel!C:C)))","v":" "},null,null,null,null,null,null,null,null,"","",1,0," "," ",""," "," ","",null," "," ",",,,,,,,,,,,,"]
[null,{"$f":"IF(A883=0,\" \",IF(ISNA(MATCH(A883,Personnel!A:A,0)),\"وجود ندارد\",LOOKUP(A883,Personnel!A:A,Personnel!B:B)))","v":" "},{"$f":"IF(A883=0,\" \",IF(ISNA(MATCH(A883,Personnel!A:A,0)),\"وجود ندارد\",LOOKUP(A883,Personnel!A:A,Personnel!C:C)))","v":" "},null,null,null,null,null,null,null,null,"","",1,0," "," ",""," "," ","",null," "," ",",,,,,,,,,,,,"]
[null,{"$f":"IF(A884=0,\" \",IF(ISNA(MATCH(A884,Personnel!A:A,0)),\"وجود ندارد\",LOOKUP(A884,Personnel!A:A,Personnel!B:B)))","v":" "},{"$f":"IF(A884=0,\" \",IF(ISNA(MATCH(A884,Personnel!A:A,0)),\"وجود ندارد\",LOOKUP(A884,Personnel!A:A,Personnel!C:C)))","v":" "},null,null,null,null,null,null,null,null,"","",1,0," "," ",""," "," ","",null," "," ",",,,,,,,,,,,,"]
[null,{"$f":"IF(A885=0,\" \",IF(ISNA(MATCH(A885,Personnel!A:A,0)),\"وجود ندارد\",LOOKUP(A885,Personnel!A:A,Personnel!B:B)))","v":" "},{"$f":"IF(A885=0,\" \",IF(ISNA(MATCH(A885,Personnel!A:A,0)),\"وجود ندارد\",LOOKUP(A885,Personnel!A:A,Personnel!C:C)))","v":" "},null,null,null,null,null,null,null,null,"","",1,0," "," ",""," "," ","",null," "," ",",,,,,,,,,,,,"]
[null,{"$f":"IF(A886=0,\" \",IF(ISNA(MATCH(A886,Personnel!A:A,0)),\"وجود ندارد\",LOOKUP(A886,Personnel!A:A,Personnel!B:B)))","v":" "},{"$f":"IF(A886=0,\" \",IF(ISNA(MATCH(A886,Personnel!A:A,0)),\"وجود ندارد\",LOOKUP(A886,Personnel!A:A,Personnel!C:C)))","v":" "},null,null,null,null,null,null,null,null,"","",1,0," "," ",""," "," ","",null," "," ",",,,,,,,,,,,,"]
[null,{"$f":"IF(A887=0,\" \",IF(ISNA(MATCH(A887,Personnel!A:A,0)),\"وجود ندارد\",LOOKUP(A887,Personnel!A:A,Personnel!B:B)))","v":" "},{"$f":"IF(A887=0,\" \",IF(ISNA(MATCH(A887,Personnel!A:A,0)),\"وجود ندارد\",LOOKUP(A887,Personnel!A:A,Personnel!C:C)))","v":" "},null,null,null,null,null,null,null,null,"","",1,0," "," ",""," "," ","",null," "," ",",,,,,,,,,,,,"]
[null,{"$f":"IF(A888=0,\" \",IF(ISNA(MATCH(A888,Personnel!A:A,0)),\"وجود ندارد\",LOOKUP(A888,Personnel!A:A,Personnel!B:B)))","v":" "},{"$f":"IF(A888=0,\" \",IF(ISNA(MATCH(A888,Personnel!A:A,0)),\"وجود ندارد\",LOOKUP(A888,Personnel!A:A,Personnel!C:C)))","v":" "},null,null,null,null,null,null,null,null,"","",1,0," "," ",""," "," ","",null," "," ",",,,,,,,,,,,,"]
[null,{"$f":"IF(A889=0,\" \",IF(ISNA(MATCH(A889,Personnel!A:A,0)),\"وجود ندارد\",LOOKUP(A889,Personnel!A:A,Personnel!B:B)))","v":" "},{"$f":"IF(A889=0,\" \",IF(ISNA(MATCH(A889,Personnel!A:A,0)),\"وجود ندارد\",LOOKUP(A889,Personnel!A:A,Personnel!C:C)))","v":" "},null,null,null,null,null,null,null,null,"","",1,0," "," ",""," "," ","",null," "," ",",,,,,,,,,,,,"]
[null,{"$f":"IF(A890=0,\" \",IF(ISNA(MATCH(A890,Personnel!A:A,0)),\"وجود ندارد\",LOOKUP(A890,Personnel!A:A,Personnel!B:B)))","v":" "},{"$f":"IF(A890=0,\" \",IF(ISNA(MATCH(A890,Personnel!A:A,0)),\"وجود ندارد\",LOOKUP(A890,Personnel!A:A,Personnel!C:C)))","v":" "},null,null,null,null,null,null,null,null,"","",1,0," "," ",""," "," ","",null," "," ",",,,,,,,,,,,,"]
[null,{"$f":"IF(A891=0,\" \",IF(ISNA(MATCH(A891,Personnel!A:A,0)),\"وجود ندارد\",LOOKUP(A891,Personnel!A:A,Personnel!B:B)))","v":" "},{"$f":"IF(A891=0,\" \",IF(ISNA(MATCH(A891,Personnel!A:A,0)),\"وجود ندارد\",LOOKUP(A891,Personnel!A:A,Personnel!C:C)))","v":" "},null,null,null,null,null,null,null,null,"","",1,0," "," ",""," "," ","",null," "," ",",,,,,,,,,,,,"]
[null,{"$f":"IF(A892=0,\" \",IF(ISNA(MATCH(A892,Personnel!A:A,0)),\"وجود ندارد\",LOOKUP(A892,Personnel!A:A,Personnel!B:B)))","v":" "},{"$f":"IF(A892=0,\" \",IF(ISNA(MATCH(A892,Personnel!A:A,0)),\"وجود ندارد\",LOOKUP(A892,Personnel!A:A,Personnel!C:C)))","v":" "},null,null,null,null,null,null,null,null,"","",1,0," "," ",""," "," ","",null," "," ",",,,,,,,,,,,,"]
[null,{"$f":"IF(A893=0,\" \",IF(ISNA(MATCH(A893,Personnel!A:A,0)),\"وجود ندارد\",LOOKUP(A893,Personnel!A:A,Personnel!B:B)))","v":" "},{"$f":"IF(A893=0,\" \",IF(ISNA(MATCH(A893,Personnel!A:A,0)),\"وجود ندارد\",LOOKUP(A893,Personnel!A:A,Personnel!C:C)))","v":" "},null,null,null,null,null,null,null,null,"","",1,0," "," ",""," "," ","",null," "," ",",,,,,,,,,,,,"]
[null,{"$f":"IF(A894=0,\" \",IF(ISNA(MATCH(A894,Personnel!A:A,0)),\"وجود ندارد\",LOOKUP(A894,Personnel!A:A,Personnel!B:B)))","v":" "},{"$f":"IF(A894=0,\" \",IF(ISNA(MATCH(A894,Personnel!A:A,0)),\"وجود ندارد\",LOOKUP(A894,Personnel!A:A,Personnel!C:C)))","v":" "},null,null,null,null,null,null,null,null,"","",1,0," "," ",""," "," ","",null," "," ",",,,,,,,,,,,,"]
[null,{"$f":"IF(A895=0,\" \",IF(ISNA(MATCH(A895,Personnel!A:A,0)),\"وجود ندارد\",LOOKUP(A895,Personnel!A:A,Personnel!B:B)))","v":" "},{"$f":"IF(A895=0,\" \",IF(ISNA(MATCH(A895,Personnel!A:A,0)),\"وجود ندارد\",LOOKUP(A895,Personnel!A:A,Personnel!C:C)))","v":" "},null,null,null,null,null,null,null,null,"","",1,0," "," ",""," "," ","",null," "," ",",,,,,,,,,,,,"]
[null,{"$f":"IF(A896=0,\" \",IF(ISNA(MATCH(A896,Personnel!A:A,0)),\"وجود ندارد\",LOOKUP(A896,Personnel!A:A,Personnel!B:B)))","v":" "},{"$f":"IF(A896=0,\" \",IF(ISNA(MATCH(A896,Personnel!A:A,0)),\"وجود ندارد\",LOOKUP(A896,Personnel!A:A,Personnel!C:C)))","v":" "},null,null,null,null,null,null,null,null,"","",1,0," "," ",""," "," ","",null," "," ",",,,,,,,,,,,,"]
[null,{"$f":"IF(A897=0,\" \",IF(ISNA(MATCH(A897,Personnel!A:A,0)),\"وجود ندارد\",LOOKUP(A897,Personnel!A:A,Personnel!B:B)))","v":" "},{"$f":"IF(A897=0,\" \",IF(ISNA(MATCH(A897,Personnel!A:A,0)),\"وجود ندارد\",LOOKUP(A897,Personnel!A:A,Personnel!C:C)))","v":" "},null,null,null,null,null,null,null,null,"","",1,0," "," ",""," "," ","",null," "," ",",,,,,,,,,,,,"]
[null,{"$f":"IF(A898=0,\" \",IF(ISNA(MATCH(A898,Personnel!A:A,0)),\"وجود ندارد\",LOOKUP(A898,Personnel!A:A,Personnel!B:B)))","v":" "},{"$f":"IF(A898=0,\" \",IF(ISNA(MATCH(A898,Personnel!A:A,0)),\"وجود ندارد\",LOOKUP(A898,Personnel!A:A,Personnel!C:C)))","v":" "},null,null,null,null,null,null,null,null,"","",1,0,{"$f":"IF(A898=0,\" \",IF(N898+O898<>0,\"تاریخ اشتباه است\",\"\"))","v":" "},{"$f":"IF(A898=0,\" \",IF(AND(G898<>0,H898>G898),\"مبلغ قسط از مبلغ کل بیشتر است\",\"\"))","v":" "},""," ",{"$f":"IF(A898=0,\" \",IF(OR(K898<1,K898>3),\"نوع عمل اشتباه است\",\"\"))","v":" "},"",null," "," ",",,,,,,,,,,,,"]
[null,{"$f":"IF(A899=0,\" \",IF(ISNA(MATCH(A899,Personnel!A:A,0)),\"وجود ندارد\",LOOKUP(A899,Personnel!A:A,Personnel!B:B)))","v":" "},{"$f":"IF(A899=0,\" \",IF(ISNA(MATCH(A899,Personnel!A:A,0)),\"وجود ندارد\",LOOKUP(A899,Personnel!A:A,Personnel!C:C)))","v":" "},null,null,null,null,null,null,null,null,{"$f":"IF(K899=0,\"\",IF(K899=1,\"ایجاد\",IF(K899=2,\"اصلاح\",\"حذف\")))","v":""},{"$f":"IF(AND(K899=3,H899+I899+J899+F899+G899<>0),\"برای عمل حذف اطلاعات اضافی وارد شده است\",\"\")","v":""},{"$f":"IF(AND(K899<>3,F899<900000),1,0)","v":1},{"$f":"IF(F899>991231,1,0)","v":0}," "," ",{"$f":"IF(AND(A899=0,H899+I899+J899+F899+G899+K899+E899+D899<>0),\"در این ردیف شماره پرسنلی وجود ندارد اما اطلاعات دیگر وارد شده است\",\"\")","v":""},{"$f":"IF(A899=0,\" \",IF(D899=0,\"کد وام وارد نشده است\",\"\"))","v":" "}," ",{"$f":"IF(AND(OR(K899=1,K899=2),H899=0),\"مبلغ قسط نمی تواند خالی باشد\",\"\")","v":""},null,{"$f":"IF(AND(A899=0,A900<>0),\"دراین ردیف اصلاحاتی وجود ندارد . لطفا ردیفی را خالی باقی نگذارید\",IF(AND(A899=0,R899=\"\"),\" \",IF(M899&\",\"&P899&\",\"&Q899&\",\"&R899&\",\"&S899&\",\"&T899&\",\"&U899=\",,,,,,\",\"صحیح\",M899&\",\"&P899&\",\"&Q899&\",\"&R899&\",\"&S899&\",\"&T899&\",\"&U899)))","v":" "},{"$f":"IF(AND(ROW(X899)>$Z$2,W899=\" \"),\" \",IF(W899=\" \",IF(AND(A899=0,$Z$2<>$Z$4),\"دراین ردیف اصلاحاتی وجود ندارد . لطفا ردیفی را خالی نگذارید\",W899),W899))","v":" "},{"$f":"CONCATENATE(A899,\",\",D899,\",\",E899,\",\",F899,\",\",G899,\",\",H899,\",\",I899,\",\",K899,\",\",,\",\",J899,\",\",\",\",V899,\",\")","v":",,,,,,,,,,,,"}]
[null,{"$f":"IF(A900=0,\" \",IF(ISNA(MATCH(A900,Personnel!A:A,0)),\"وجود ندارد\",LOOKUP(A900,Personnel!A:A,Personnel!B:B)))","v":" "},{"$f":"IF(A900=0,\" \",IF(ISNA(MATCH(A900,Personnel!A:A,0)),\"وجود ندارد\",LOOKUP(A900,Personnel!A:A,Personnel!C:C)))","v":" "},null,null,null,null,null,null,null,null,"","",1,0," "," ",""," "," ","",null," "," ",",,,,,,,,,,,,"]
[null,{"$f":"IF(A901=0,\" \",IF(ISNA(MATCH(A901,Personnel!A:A,0)),\"وجود ندارد\",LOOKUP(A901,Personnel!A:A,Personnel!B:B)))","v":" "},{"$f":"IF(A901=0,\" \",IF(ISNA(MATCH(A901,Personnel!A:A,0)),\"وجود ندارد\",LOOKUP(A901,Personnel!A:A,Personnel!C:C)))","v":" "},null,null,null,null,null,null,null,null,"","",1,0," "," ",""," "," ","",null," "," ",",,,,,,,,,,,,"]
[null,{"$f":"IF(A902=0,\" \",IF(ISNA(MATCH(A902,Personnel!A:A,0)),\"وجود ندارد\",LOOKUP(A902,Personnel!A:A,Personnel!B:B)))","v":" "},{"$f":"IF(A902=0,\" \",IF(ISNA(MATCH(A902,Personnel!A:A,0)),\"وجود ندارد\",LOOKUP(A902,Personnel!A:A,Personnel!C:C)))","v":" "},null,null,null,null,null,null,null,null,"","",1,0," "," ",""," "," ","",null," "," ",",,,,,,,,,,,,"]
[null,{"$f":"IF(A903=0,\" \",IF(ISNA(MATCH(A903,Personnel!A:A,0)),\"وجود ندارد\",LOOKUP(A903,Personnel!A:A,Personnel!B:B)))","v":" "},{"$f":"IF(A903=0,\" \",IF(ISNA(MATCH(A903,Personnel!A:A,0)),\"وجود ندارد\",LOOKUP(A903,Personnel!A:A,Personnel!C:C)))","v":" "},null,null,null,null,null,null,null,null,"","",1,0," "," ",""," "," ","",null," "," ",",,,,,,,,,,,,"]
[null,{"$f":"IF(A904=0,\" \",IF(ISNA(MATCH(A904,Personnel!A:A,0)),\"وجود ندارد\",LOOKUP(A904,Personnel!A:A,Personnel!B:B)))","v":" "},{"$f":"IF(A904=0,\" \",IF(ISNA(MATCH(A904,Personnel!A:A,0)),\"وجود ندارد\",LOOKUP(A904,Personnel!A:A,Personnel!C:C)))","v":" "},null,null,null,null,null,null,null,null,"","",1,0," "," ",""," "," ","",null," "," ",",,,,,,,,,,,,"]
[null,{"$f":"IF(A905=0,\" \",IF(ISNA(MATCH(A905,Personnel!A:A,0)),\"وجود ندارد\",LOOKUP(A905,Personnel!A:A,Personnel!B:B)))","v":" "},{"$f":"IF(A905=0,\" \",IF(ISNA(MATCH(A905,Personnel!A:A,0)),\"وجود ندارد\",LOOKUP(A905,Personnel!A:A,Personnel!C:C)))","v":" "},null,null,null,null,null,null,null,null,"","",1,0," "," ",""," "," ","",null," "," ",",,,,,,,,,,,,"]
[null,{"$f":"IF(A906=0,\" \",IF(ISNA(MATCH(A906,Personnel!A:A,0)),\"وجود ندارد\",LOOKUP(A906,Personnel!A:A,Personnel!B:B)))","v":" "},{"$f":"IF(A906=0,\" \",IF(ISNA(MATCH(A906,Personnel!A:A,0)),\"وجود ندارد\",LOOKUP(A906,Personnel!A:A,Personnel!C:C)))","v":" "},null,null,null,null,null,null,null,null,"","",1,0," "," ",""," "," ","",null," "," ",",,,,,,,,,,,,"]
[null,{"$f":"IF(A907=0,\" \",IF(ISNA(MATCH(A907,Personnel!A:A,0)),\"وجود ندارد\",LOOKUP(A907,Personnel!A:A,Personnel!B:B)))","v":" "},{"$f":"IF(A907=0,\" \",IF(ISNA(MATCH(A907,Personnel!A:A,0)),\"وجود ندارد\",LOOKUP(A907,Personnel!A:A,Personnel!C:C)))","v":" "},null,null,null,null,null,null,null,null,"","",1,0," "," ",""," "," ","",null," "," ",",,,,,,,,,,,,"]
[null,{"$f":"IF(A908=0,\" \",IF(ISNA(MATCH(A908,Personnel!A:A,0)),\"وجود ندارد\",LOOKUP(A908,Personnel!A:A,Personnel!B:B)))","v":" "},{"$f":"IF(A908=0,\" \",IF(ISNA(MATCH(A908,Personnel!A:A,0)),\"وجود ندارد\",LOOKUP(A908,Personnel!A:A,Personnel!C:C)))","v":" "},null,null,null,null,null,null,null,null,"","",1,0," "," ",""," "," ","",null," "," ",",,,,,,,,,,,,"]
[null,{"$f":"IF(A909=0,\" \",IF(ISNA(MATCH(A909,Personnel!A:A,0)),\"وجود ندارد\",LOOKUP(A909,Personnel!A:A,Personnel!B:B)))","v":" "},{"$f":"IF(A909=0,\" \",IF(ISNA(MATCH(A909,Personnel!A:A,0)),\"وجود ندارد\",LOOKUP(A909,Personnel!A:A,Personnel!C:C)))","v":" "},null,null,null,null,null,null,null,null,"","",1,0," "," ",""," "," ","",null," "," ",",,,,,,,,,,,,"]
[null,{"$f":"IF(A910=0,\" \",IF(ISNA(MATCH(A910,Personnel!A:A,0)),\"وجود ندارد\",LOOKUP(A910,Personnel!A:A,Personnel!B:B)))","v":" "},{"$f":"IF(A910=0,\" \",IF(ISNA(MATCH(A910,Personnel!A:A,0)),\"وجود ندارد\",LOOKUP(A910,Personnel!A:A,Personnel!C:C)))","v":" "},null,null,null,null,null,null,null,null,"","",1,0," "," ",""," "," ","",null," "," ",",,,,,,,,,,,,"]
[null,{"$f":"IF(A911=0,\" \",IF(ISNA(MATCH(A911,Personnel!A:A,0)),\"وجود ندارد\",LOOKUP(A911,Personnel!A:A,Personnel!B:B)))","v":" "},{"$f":"IF(A911=0,\" \",IF(ISNA(MATCH(A911,Personnel!A:A,0)),\"وجود ندارد\",LOOKUP(A911,Personnel!A:A,Personnel!C:C)))","v":" "},null,null,null,null,null,null,null,null,"","",1,0," "," ",""," "," ","",null," "," ",",,,,,,,,,,,,"]
[null,{"$f":"IF(A912=0,\" \",IF(ISNA(MATCH(A912,Personnel!A:A,0)),\"وجود ندارد\",LOOKUP(A912,Personnel!A:A,Personnel!B:B)))","v":" "},{"$f":"IF(A912=0,\" \",IF(ISNA(MATCH(A912,Personnel!A:A,0)),\"وجود ندارد\",LOOKUP(A912,Personnel!A:A,Personnel!C:C)))","v":" "},null,null,null,null,null,null,null,null,"","",1,0," "," ",""," "," ","",null," "," ",",,,,,,,,,,,,"]
[null,{"$f":"IF(A913=0,\" \",IF(ISNA(MATCH(A913,Personnel!A:A,0)),\"وجود ندارد\",LOOKUP(A913,Personnel!A:A,Personnel!B:B)))","v":" "},{"$f":"IF(A913=0,\" \",IF(ISNA(MATCH(A913,Personnel!A:A,0)),\"وجود ندارد\",LOOKUP(A913,Personnel!A:A,Personnel!C:C)))","v":" "},null,null,null,null,null,null,null,null,"","",1,0," "," ",""," "," ","",null," "," ",",,,,,,,,,,,,"]
[null,{"$f":"IF(A914=0,\" \",IF(ISNA(MATCH(A914,Personnel!A:A,0)),\"وجود ندارد\",LOOKUP(A914,Personnel!A:A,Personnel!B:B)))","v":" "},{"$f":"IF(A914=0,\" \",IF(ISNA(MATCH(A914,Personnel!A:A,0)),\"وجود ندارد\",LOOKUP(A914,Personnel!A:A,Personnel!C:C)))","v":" "},null,null,null,null,null,null,null,null,"","",1,0," "," ",""," "," ","",null," "," ",",,,,,,,,,,,,"]
[null,{"$f":"IF(A915=0,\" \",IF(ISNA(MATCH(A915,Personnel!A:A,0)),\"وجود ندارد\",LOOKUP(A915,Personnel!A:A,Personnel!B:B)))","v":" "},{"$f":"IF(A915=0,\" \",IF(ISNA(MATCH(A915,Personnel!A:A,0)),\"وجود ندارد\",LOOKUP(A915,Personnel!A:A,Personnel!C:C)))","v":" "},null,null,null,null,null,null,null,null,"","",1,0," "," ",""," "," ","",null," "," ",",,,,,,,,,,,,"]
[null,{"$f":"IF(A916=0,\" \",IF(ISNA(MATCH(A916,Personnel!A:A,0)),\"وجود ندارد\",LOOKUP(A916,Personnel!A:A,Personnel!B:B)))","v":" "},{"$f":"IF(A916=0,\" \",IF(ISNA(MATCH(A916,Personnel!A:A,0)),\"وجود ندارد\",LOOKUP(A916,Personnel!A:A,Personnel!C:C)))","v":" "},null,null,null,null,null,null,null,null,"","",1,0," "," ",""," "," ","",null," "," ",",,,,,,,,,,,,"]
[null,{"$f":"IF(A917=0,\" \",IF(ISNA(MATCH(A917,Personnel!A:A,0)),\"وجود ندارد\",LOOKUP(A917,Personnel!A:A,Personnel!B:B)))","v":" "},{"$f":"IF(A917=0,\" \",IF(ISNA(MATCH(A917,Personnel!A:A,0)),\"وجود ندارد\",LOOKUP(A917,Personnel!A:A,Personnel!C:C)))","v":" "},null,null,null,null,null,null,null,null,"","",1,0," "," ",""," "," ","",null," "," ",",,,,,,,,,,,,"]
[null,{"$f":"IF(A918=0,\" \",IF(ISNA(MATCH(A918,Personnel!A:A,0)),\"وجود ندارد\",LOOKUP(A918,Personnel!A:A,Personnel!B:B)))","v":" "},{"$f":"IF(A918=0,\" \",IF(ISNA(MATCH(A918,Personnel!A:A,0)),\"وجود ندارد\",LOOKUP(A918,Personnel!A:A,Personnel!C:C)))","v":" "},null,null,null,null,null,null,null,null,"","",1,0," "," ",""," "," ","",null," "," ",",,,,,,,,,,,,"]
[null,{"$f":"IF(A919=0,\" \",IF(ISNA(MATCH(A919,Personnel!A:A,0)),\"وجود ندارد\",LOOKUP(A919,Personnel!A:A,Personnel!B:B)))","v":" "},{"$f":"IF(A919=0,\" \",IF(ISNA(MATCH(A919,Personnel!A:A,0)),\"وجود ندارد\",LOOKUP(A919,Personnel!A:A,Personnel!C:C)))","v":" "},null,null,null,null,null,null,null,null,"","",1,0," "," ",""," "," ","",null," "," ",",,,,,,,,,,,,"]
[null,{"$f":"IF(A920=0,\" \",IF(ISNA(MATCH(A920,Personnel!A:A,0)),\"وجود ندارد\",LOOKUP(A920,Personnel!A:A,Personnel!B:B)))","v":" "},{"$f":"IF(A920=0,\" \",IF(ISNA(MATCH(A920,Personnel!A:A,0)),\"وجود ندارد\",LOOKUP(A920,Personnel!A:A,Personnel!C:C)))","v":" "},null,null,null,null,null,null,null,null,"","",1,0," "," ",""," "," ","",null," "," ",",,,,,,,,,,,,"]
[null,{"$f":"IF(A921=0,\" \",IF(ISNA(MATCH(A921,Personnel!A:A,0)),\"وجود ندارد\",LOOKUP(A921,Personnel!A:A,Personnel!B:B)))","v":" "},{"$f":"IF(A921=0,\" \",IF(ISNA(MATCH(A921,Personnel!A:A,0)),\"وجود ندارد\",LOOKUP(A921,Personnel!A:A,Personnel!C:C)))","v":" "},null,null,null,null,null,null,null,null,"","",1,0," "," ",""," "," ","",null," "," ",",,,,,,,,,,,,"]
[null,{"$f":"IF(A922=0,\" \",IF(ISNA(MATCH(A922,Personnel!A:A,0)),\"وجود ندارد\",LOOKUP(A922,Personnel!A:A,Personnel!B:B)))","v":" "},{"$f":"IF(A922=0,\" \",IF(ISNA(MATCH(A922,Personnel!A:A,0)),\"وجود ندارد\",LOOKUP(A922,Personnel!A:A,Personnel!C:C)))","v":" "},null,null,null,null,null,null,null,null,"","",1,0," "," ",""," "," ","",null," "," ",",,,,,,,,,,,,"]
[null,{"$f":"IF(A923=0,\" \",IF(ISNA(MATCH(A923,Personnel!A:A,0)),\"وجود ندارد\",LOOKUP(A923,Personnel!A:A,Personnel!B:B)))","v":" "},{"$f":"IF(A923=0,\" \",IF(ISNA(MATCH(A923,Personnel!A:A,0)),\"وجود ندارد\",LOOKUP(A923,Personnel!A:A,Personnel!C:C)))","v":" "},null,null,null,null,null,null,null,null,"","",1,0," "," ",""," "," ","",null," "," ",",,,,,,,,,,,,"]
[null,{"$f":"IF(A924=0,\" \",IF(ISNA(MATCH(A924,Personnel!A:A,0)),\"وجود ندارد\",LOOKUP(A924,Personnel!A:A,Personnel!B:B)))","v":" "},{"$f":"IF(A924=0,\" \",IF(ISNA(MATCH(A924,Personnel!A:A,0)),\"وجود ندارد\",LOOKUP(A924,Personnel!A:A,Personnel!C:C)))","v":" "},null,null,null,null,null,null,null,null,"","",1,0," "," ",""," "," ","",null," "," ",",,,,,,,,,,,,"]
[null,{"$f":"IF(A925=0,\" \",IF(ISNA(MATCH(A925,Personnel!A:A,0)),\"وجود ندارد\",LOOKUP(A925,Personnel!A:A,Personnel!B:B)))","v":" "},{"$f":"IF(A925=0,\" \",IF(ISNA(MATCH(A925,Personnel!A:A,0)),\"وجود ندارد\",LOOKUP(A925,Personnel!A:A,Personnel!C:C)))","v":" "},null,null,null,null,null,null,null,null,"","",1,0," "," ",""," "," ","",null," "," ",",,,,,,,,,,,,"]
[null,{"$f":"IF(A926=0,\" \",IF(ISNA(MATCH(A926,Personnel!A:A,0)),\"وجود ندارد\",LOOKUP(A926,Personnel!A:A,Personnel!B:B)))","v":" "},{"$f":"IF(A926=0,\" \",IF(ISNA(MATCH(A926,Personnel!A:A,0)),\"وجود ندارد\",LOOKUP(A926,Personnel!A:A,Personnel!C:C)))","v":" "},null,null,null,null,null,null,null,null,"","",1,0," "," ",""," "," ","",null," "," ",",,,,,,,,,,,,"]
[null,{"$f":"IF(A927=0,\" \",IF(ISNA(MATCH(A927,Personnel!A:A,0)),\"وجود ندارد\",LOOKUP(A927,Personnel!A:A,Personnel!B:B)))","v":" "},{"$f":"IF(A927=0,\" \",IF(ISNA(MATCH(A927,Personnel!A:A,0)),\"وجود ندارد\",LOOKUP(A927,Personnel!A:A,Personnel!C:C)))","v":" "},null,null,null,null,null,null,null,null,"","",1,0," "," ",""," "," ","",null," "," ",",,,,,,,,,,,,"]
[null,{"$f":"IF(A928=0,\" \",IF(ISNA(MATCH(A928,Personnel!A:A,0)),\"وجود ندارد\",LOOKUP(A928,Personnel!A:A,Personnel!B:B)))","v":" "},{"$f":"IF(A928=0,\" \",IF(ISNA(MATCH(A928,Personnel!A:A,0)),\"وجود ندارد\",LOOKUP(A928,Personnel!A:A,Personnel!C:C)))","v":" "},null,null,null,null,null,null,null,null,"","",1,0," "," ",""," "," ","",null," "," ",",,,,,,,,,,,,"]
[null,{"$f":"IF(A929=0,\" \",IF(ISNA(MATCH(A929,Personnel!A:A,0)),\"وجود ندارد\",LOOKUP(A929,Personnel!A:A,Personnel!B:B)))","v":" "},{"$f":"IF(A929=0,\" \",IF(ISNA(MATCH(A929,Personnel!A:A,0)),\"وجود ندارد\",LOOKUP(A929,Personnel!A:A,Personnel!C:C)))","v":" "},null,null,null,null,null,null,null,null,"","",1,0," "," ",""," "," ","",null," "," ",",,,,,,,,,,,,"]
[null,{"$f":"IF(A930=0,\" \",IF(ISNA(MATCH(A930,Personnel!A:A,0)),\"وجود ندارد\",LOOKUP(A930,Personnel!A:A,Personnel!B:B)))","v":" "},{"$f":"IF(A930=0,\" \",IF(ISNA(MATCH(A930,Personnel!A:A,0)),\"وجود ندارد\",LOOKUP(A930,Personnel!A:A,Personnel!C:C)))","v":" "},null,null,null,null,null,null,null,null,"","",1,0," "," ",""," "," ","",null," "," ",",,,,,,,,,,,,"]
[null,{"$f":"IF(A931=0,\" \",IF(ISNA(MATCH(A931,Personnel!A:A,0)),\"وجود ندارد\",LOOKUP(A931,Personnel!A:A,Personnel!B:B)))","v":" "},{"$f":"IF(A931=0,\" \",IF(ISNA(MATCH(A931,Personnel!A:A,0)),\"وجود ندارد\",LOOKUP(A931,Personnel!A:A,Personnel!C:C)))","v":" "},null,null,null,null,null,null,null,null,"","",1,0," "," ",""," "," ","",null," "," ",",,,,,,,,,,,,"]
[null,{"$f":"IF(A932=0,\" \",IF(ISNA(MATCH(A932,Personnel!A:A,0)),\"وجود ندارد\",LOOKUP(A932,Personnel!A:A,Personnel!B:B)))","v":" "},{"$f":"IF(A932=0,\" \",IF(ISNA(MATCH(A932,Personnel!A:A,0)),\"وجود ندارد\",LOOKUP(A932,Personnel!A:A,Personnel!C:C)))","v":" "},null,null,null,null,null,null,null,null,"","",1,0," "," ",""," "," ","",null," "," ",",,,,,,,,,,,,"]
[null,{"$f":"IF(A933=0,\" \",IF(ISNA(MATCH(A933,Personnel!A:A,0)),\"وجود ندارد\",LOOKUP(A933,Personnel!A:A,Personnel!B:B)))","v":" "},{"$f":"IF(A933=0,\" \",IF(ISNA(MATCH(A933,Personnel!A:A,0)),\"وجود ندارد\",LOOKUP(A933,Personnel!A:A,Personnel!C:C)))","v":" "},null,null,null,null,null,null,null,null,"","",1,0," "," ",""," "," ","",null," "," ",",,,,,,,,,,,,"]
[null,{"$f":"IF(A934=0,\" \",IF(ISNA(MATCH(A934,Personnel!A:A,0)),\"وجود ندارد\",LOOKUP(A934,Personnel!A:A,Personnel!B:B)))","v":" "},{"$f":"IF(A934=0,\" \",IF(ISNA(MATCH(A934,Personnel!A:A,0)),\"وجود ندارد\",LOOKUP(A934,Personnel!A:A,Personnel!C:C)))","v":" "},null,null,null,null,null,null,null,null,"","",1,0," "," ",""," "," ","",null," "," ",",,,,,,,,,,,,"]
[null,{"$f":"IF(A935=0,\" \",IF(ISNA(MATCH(A935,Personnel!A:A,0)),\"وجود ندارد\",LOOKUP(A935,Personnel!A:A,Personnel!B:B)))","v":" "},{"$f":"IF(A935=0,\" \",IF(ISNA(MATCH(A935,Personnel!A:A,0)),\"وجود ندارد\",LOOKUP(A935,Personnel!A:A,Personnel!C:C)))","v":" "},null,null,null,null,null,null,null,null,"","",1,0," "," ",""," "," ","",null," "," ",",,,,,,,,,,,,"]
[null,{"$f":"IF(A936=0,\" \",IF(ISNA(MATCH(A936,Personnel!A:A,0)),\"وجود ندارد\",LOOKUP(A936,Personnel!A:A,Personnel!B:B)))","v":" "},{"$f":"IF(A936=0,\" \",IF(ISNA(MATCH(A936,Personnel!A:A,0)),\"وجود ندارد\",LOOKUP(A936,Personnel!A:A,Personnel!C:C)))","v":" "},null,null,null,null,null,null,null,null,"","",1,0," "," ",""," "," ","",null," "," ",",,,,,,,,,,,,"]
[null,{"$f":"IF(A937=0,\" \",IF(ISNA(MATCH(A937,Personnel!A:A,0)),\"وجود ندارد\",LOOKUP(A937,Personnel!A:A,Personnel!B:B)))","v":" "},{"$f":"IF(A937=0,\" \",IF(ISNA(MATCH(A937,Personnel!A:A,0)),\"وجود ندارد\",LOOKUP(A937,Personnel!A:A,Personnel!C:C)))","v":" "},null,null,null,null,null,null,null,null,"","",1,0," "," ",""," "," ","",null," "," ",",,,,,,,,,,,,"]
[null,{"$f":"IF(A938=0,\" \",IF(ISNA(MATCH(A938,Personnel!A:A,0)),\"وجود ندارد\",LOOKUP(A938,Personnel!A:A,Personnel!B:B)))","v":" "},{"$f":"IF(A938=0,\" \",IF(ISNA(MATCH(A938,Personnel!A:A,0)),\"وجود ندارد\",LOOKUP(A938,Personnel!A:A,Personnel!C:C)))","v":" "},null,null,null,null,null,null,null,null,"","",1,0," "," ",""," "," ","",null," "," ",",,,,,,,,,,,,"]
[null,{"$f":"IF(A939=0,\" \",IF(ISNA(MATCH(A939,Personnel!A:A,0)),\"وجود ندارد\",LOOKUP(A939,Personnel!A:A,Personnel!B:B)))","v":" "},{"$f":"IF(A939=0,\" \",IF(ISNA(MATCH(A939,Personnel!A:A,0)),\"وجود ندارد\",LOOKUP(A939,Personnel!A:A,Personnel!C:C)))","v":" "},null,null,null,null,null,null,null,null,"","",1,0," "," ",""," "," ","",null," "," ",",,,,,,,,,,,,"]
[null,{"$f":"IF(A940=0,\" \",IF(ISNA(MATCH(A940,Personnel!A:A,0)),\"وجود ندارد\",LOOKUP(A940,Personnel!A:A,Personnel!B:B)))","v":" "},{"$f":"IF(A940=0,\" \",IF(ISNA(MATCH(A940,Personnel!A:A,0)),\"وجود ندارد\",LOOKUP(A940,Personnel!A:A,Personnel!C:C)))","v":" "},null,null,null,null,null,null,null,null,"","",1,0," "," ",""," "," ","",null," "," ",",,,,,,,,,,,,"]
[null,{"$f":"IF(A941=0,\" \",IF(ISNA(MATCH(A941,Personnel!A:A,0)),\"وجود ندارد\",LOOKUP(A941,Personnel!A:A,Personnel!B:B)))","v":" "},{"$f":"IF(A941=0,\" \",IF(ISNA(MATCH(A941,Personnel!A:A,0)),\"وجود ندارد\",LOOKUP(A941,Personnel!A:A,Personnel!C:C)))","v":" "},null,null,null,null,null,null,null,null,"","",1,0," "," ",""," "," ","",null," "," ",",,,,,,,,,,,,"]
[null,{"$f":"IF(A942=0,\" \",IF(ISNA(MATCH(A942,Personnel!A:A,0)),\"وجود ندارد\",LOOKUP(A942,Personnel!A:A,Personnel!B:B)))","v":" "},{"$f":"IF(A942=0,\" \",IF(ISNA(MATCH(A942,Personnel!A:A,0)),\"وجود ندارد\",LOOKUP(A942,Personnel!A:A,Personnel!C:C)))","v":" "},null,null,null,null,null,null,null,null,"","",1,0," "," ",""," "," ","",null," "," ",",,,,,,,,,,,,"]
[null,{"$f":"IF(A943=0,\" \",IF(ISNA(MATCH(A943,Personnel!A:A,0)),\"وجود ندارد\",LOOKUP(A943,Personnel!A:A,Personnel!B:B)))","v":" "},{"$f":"IF(A943=0,\" \",IF(ISNA(MATCH(A943,Personnel!A:A,0)),\"وجود ندارد\",LOOKUP(A943,Personnel!A:A,Personnel!C:C)))","v":" "},null,null,null,null,null,null,null,null,"","",1,0," "," ",""," "," ","",null," "," ",",,,,,,,,,,,,"]
[null,{"$f":"IF(A944=0,\" \",IF(ISNA(MATCH(A944,Personnel!A:A,0)),\"وجود ندارد\",LOOKUP(A944,Personnel!A:A,Personnel!B:B)))","v":" "},{"$f":"IF(A944=0,\" \",IF(ISNA(MATCH(A944,Personnel!A:A,0)),\"وجود ندارد\",LOOKUP(A944,Personnel!A:A,Personnel!C:C)))","v":" "},null,null,null,null,null,null,null,null,"","",1,0," "," ",""," "," ","",null," "," ",",,,,,,,,,,,,"]
[null,{"$f":"IF(A945=0,\" \",IF(ISNA(MATCH(A945,Personnel!A:A,0)),\"وجود ندارد\",LOOKUP(A945,Personnel!A:A,Personnel!B:B)))","v":" "},{"$f":"IF(A945=0,\" \",IF(ISNA(MATCH(A945,Personnel!A:A,0)),\"وجود ندارد\",LOOKUP(A945,Personnel!A:A,Personnel!C:C)))","v":" "},null,null,null,null,null,null,null,null,"","",1,0," "," ",""," "," ","",null," "," ",",,,,,,,,,,,,"]
[null,{"$f":"IF(A946=0,\" \",IF(ISNA(MATCH(A946,Personnel!A:A,0)),\"وجود ندارد\",LOOKUP(A946,Personnel!A:A,Personnel!B:B)))","v":" "},{"$f":"IF(A946=0,\" \",IF(ISNA(MATCH(A946,Personnel!A:A,0)),\"وجود ندارد\",LOOKUP(A946,Personnel!A:A,Personnel!C:C)))","v":" "},null,null,null,null,null,null,null,null,"","",1,0," "," ",""," "," ","",null," "," ",",,,,,,,,,,,,"]
[null,{"$f":"IF(A947=0,\" \",IF(ISNA(MATCH(A947,Personnel!A:A,0)),\"وجود ندارد\",LOOKUP(A947,Personnel!A:A,Personnel!B:B)))","v":" "},{"$f":"IF(A947=0,\" \",IF(ISNA(MATCH(A947,Personnel!A:A,0)),\"وجود ندارد\",LOOKUP(A947,Personnel!A:A,Personnel!C:C)))","v":" "},null,null,null,null,null,null,null,null,"","",1,0," "," ",""," "," ","",null," "," ",",,,,,,,,,,,,"]
[null,{"$f":"IF(A948=0,\" \",IF(ISNA(MATCH(A948,Personnel!A:A,0)),\"وجود ندارد\",LOOKUP(A948,Personnel!A:A,Personnel!B:B)))","v":" "},{"$f":"IF(A948=0,\" \",IF(ISNA(MATCH(A948,Personnel!A:A,0)),\"وجود ندارد\",LOOKUP(A948,Personnel!A:A,Personnel!C:C)))","v":" "},null,null,null,null,null,null,null,null,"","",1,0," "," ",""," "," ","",null," "," ",",,,,,,,,,,,,"]
[null,{"$f":"IF(A949=0,\" \",IF(ISNA(MATCH(A949,Personnel!A:A,0)),\"وجود ندارد\",LOOKUP(A949,Personnel!A:A,Personnel!B:B)))","v":" "},{"$f":"IF(A949=0,\" \",IF(ISNA(MATCH(A949,Personnel!A:A,0)),\"وجود ندارد\",LOOKUP(A949,Personnel!A:A,Personnel!C:C)))","v":" "},null,null,null,null,null,null,null,null,"","",1,0," "," ",""," "," ","",null," "," ",",,,,,,,,,,,,"]
[null,{"$f":"IF(A950=0,\" \",IF(ISNA(MATCH(A950,Personnel!A:A,0)),\"وجود ندارد\",LOOKUP(A950,Personnel!A:A,Personnel!B:B)))","v":" "},{"$f":"IF(A950=0,\" \",IF(ISNA(MATCH(A950,Personnel!A:A,0)),\"وجود ندارد\",LOOKUP(A950,Personnel!A:A,Personnel!C:C)))","v":" "},null,null,null,null,null,null,null,null,"","",1,0," "," ",""," "," ","",null," "," ",",,,,,,,,,,,,"]
[null,{"$f":"IF(A951=0,\" \",IF(ISNA(MATCH(A951,Personnel!A:A,0)),\"وجود ندارد\",LOOKUP(A951,Personnel!A:A,Personnel!B:B)))","v":" "},{"$f":"IF(A951=0,\" \",IF(ISNA(MATCH(A951,Personnel!A:A,0)),\"وجود ندارد\",LOOKUP(A951,Personnel!A:A,Personnel!C:C)))","v":" "},null,null,null,null,null,null,null,null,"","",1,0," "," ",""," "," ","",null," "," ",",,,,,,,,,,,,"]
[null,{"$f":"IF(A952=0,\" \",IF(ISNA(MATCH(A952,Personnel!A:A,0)),\"وجود ندارد\",LOOKUP(A952,Personnel!A:A,Personnel!B:B)))","v":" "},{"$f":"IF(A952=0,\" \",IF(ISNA(MATCH(A952,Personnel!A:A,0)),\"وجود ندارد\",LOOKUP(A952,Personnel!A:A,Personnel!C:C)))","v":" "},null,null,null,null,null,null,null,null,"","",1,0," "," ",""," "," ","",null," "," ",",,,,,,,,,,,,"]
[null,{"$f":"IF(A953=0,\" \",IF(ISNA(MATCH(A953,Personnel!A:A,0)),\"وجود ندارد\",LOOKUP(A953,Personnel!A:A,Personnel!B:B)))","v":" "},{"$f":"IF(A953=0,\" \",IF(ISNA(MATCH(A953,Personnel!A:A,0)),\"وجود ندارد\",LOOKUP(A953,Personnel!A:A,Personnel!C:C)))","v":" "},null,null,null,null,null,null,null,null,"","",1,0," "," ",""," "," ","",null," "," ",",,,,,,,,,,,,"]
[null,{"$f":"IF(A954=0,\" \",IF(ISNA(MATCH(A954,Personnel!A:A,0)),\"وجود ندارد\",LOOKUP(A954,Personnel!A:A,Personnel!B:B)))","v":" "},{"$f":"IF(A954=0,\" \",IF(ISNA(MATCH(A954,Personnel!A:A,0)),\"وجود ندارد\",LOOKUP(A954,Personnel!A:A,Personnel!C:C)))","v":" "},null,null,null,null,null,null,null,null,"","",1,0," "," ",""," "," ","",null," "," ",",,,,,,,,,,,,"]
[null,{"$f":"IF(A955=0,\" \",IF(ISNA(MATCH(A955,Personnel!A:A,0)),\"وجود ندارد\",LOOKUP(A955,Personnel!A:A,Personnel!B:B)))","v":" "},{"$f":"IF(A955=0,\" \",IF(ISNA(MATCH(A955,Personnel!A:A,0)),\"وجود ندارد\",LOOKUP(A955,Personnel!A:A,Personnel!C:C)))","v":" "},null,null,null,null,null,null,null,null,"","",1,0," "," ",""," "," ","",null," "," ",",,,,,,,,,,,,"]
[null,{"$f":"IF(A956=0,\" \",IF(ISNA(MATCH(A956,Personnel!A:A,0)),\"وجود ندارد\",LOOKUP(A956,Personnel!A:A,Personnel!B:B)))","v":" "},{"$f":"IF(A956=0,\" \",IF(ISNA(MATCH(A956,Personnel!A:A,0)),\"وجود ندارد\",LOOKUP(A956,Personnel!A:A,Personnel!C:C)))","v":" "},null,null,null,null,null,null,null,null,"","",1,0," "," ",""," "," ","",null," "," ",",,,,,,,,,,,,"]
[null,{"$f":"IF(A957=0,\" \",IF(ISNA(MATCH(A957,Personnel!A:A,0)),\"وجود ندارد\",LOOKUP(A957,Personnel!A:A,Personnel!B:B)))","v":" "},{"$f":"IF(A957=0,\" \",IF(ISNA(MATCH(A957,Personnel!A:A,0)),\"وجود ندارد\",LOOKUP(A957,Personnel!A:A,Personnel!C:C)))","v":" "},null,null,null,null,null,null,null,null,"","",1,0," "," ",""," "," ","",null," "," ",",,,,,,,,,,,,"]
[null,{"$f":"IF(A958=0,\" \",IF(ISNA(MATCH(A958,Personnel!A:A,0)),\"وجود ندارد\",LOOKUP(A958,Personnel!A:A,Personnel!B:B)))","v":" "},{"$f":"IF(A958=0,\" \",IF(ISNA(MATCH(A958,Personnel!A:A,0)),\"وجود ندارد\",LOOKUP(A958,Personnel!A:A,Personnel!C:C)))","v":" "},null,null,null,null,null,null,null,null,"","",1,0," "," ",""," "," ","",null," "," ",",,,,,,,,,,,,"]
[null,{"$f":"IF(A959=0,\" \",IF(ISNA(MATCH(A959,Personnel!A:A,0)),\"وجود ندارد\",LOOKUP(A959,Personnel!A:A,Personnel!B:B)))","v":" "},{"$f":"IF(A959=0,\" \",IF(ISNA(MATCH(A959,Personnel!A:A,0)),\"وجود ندارد\",LOOKUP(A959,Personnel!A:A,Personnel!C:C)))","v":" "},null,null,null,null,null,null,null,null,"","",1,0," "," ",""," "," ","",null," "," ",",,,,,,,,,,,,"]
[null,{"$f":"IF(A960=0,\" \",IF(ISNA(MATCH(A960,Personnel!A:A,0)),\"وجود ندارد\",LOOKUP(A960,Personnel!A:A,Personnel!B:B)))","v":" "},{"$f":"IF(A960=0,\" \",IF(ISNA(MATCH(A960,Personnel!A:A,0)),\"وجود ندارد\",LOOKUP(A960,Personnel!A:A,Personnel!C:C)))","v":" "},null,null,null,null,null,null,null,null,"","",1,0," "," ",""," "," ","",null," "," ",",,,,,,,,,,,,"]
[null,{"$f":"IF(A961=0,\" \",IF(ISNA(MATCH(A961,Personnel!A:A,0)),\"وجود ندارد\",LOOKUP(A961,Personnel!A:A,Personnel!B:B)))","v":" "},{"$f":"IF(A961=0,\" \",IF(ISNA(MATCH(A961,Personnel!A:A,0)),\"وجود ندارد\",LOOKUP(A961,Personnel!A:A,Personnel!C:C)))","v":" "},null,null,null,null,null,null,null,null,"","",1,0," "," ",""," "," ","",null," "," ",",,,,,,,,,,,,"]
[null,{"$f":"IF(A962=0,\" \",IF(ISNA(MATCH(A962,Personnel!A:A,0)),\"وجود ندارد\",LOOKUP(A962,Personnel!A:A,Personnel!B:B)))","v":" "},{"$f":"IF(A962=0,\" \",IF(ISNA(MATCH(A962,Personnel!A:A,0)),\"وجود ندارد\",LOOKUP(A962,Personnel!A:A,Personnel!C:C)))","v":" "},null,null,null,null,null,null,null,null,"","",1,0,{"$f":"IF(A962=0,\" \",IF(N962+O962<>0,\"تاریخ اشتباه است\",\"\"))","v":" "},{"$f":"IF(A962=0,\" \",IF(AND(G962<>0,H962>G962),\"مبلغ قسط از مبلغ کل بیشتر است\",\"\"))","v":" "},""," ",{"$f":"IF(A962=0,\" \",IF(OR(K962<1,K962>3),\"نوع عمل اشتباه است\",\"\"))","v":" "},"",null," "," ",",,,,,,,,,,,,"]
[null,{"$f":"IF(A963=0,\" \",IF(ISNA(MATCH(A963,Personnel!A:A,0)),\"وجود ندارد\",LOOKUP(A963,Personnel!A:A,Personnel!B:B)))","v":" "},{"$f":"IF(A963=0,\" \",IF(ISNA(MATCH(A963,Personnel!A:A,0)),\"وجود ندارد\",LOOKUP(A963,Personnel!A:A,Personnel!C:C)))","v":" "},null,null,null,null,null,null,null,null,{"$f":"IF(K963=0,\"\",IF(K963=1,\"ایجاد\",IF(K963=2,\"اصلاح\",\"حذف\")))","v":""},{"$f":"IF(AND(K963=3,H963+I963+J963+F963+G963<>0),\"برای عمل حذف اطلاعات اضافی وارد شده است\",\"\")","v":""},{"$f":"IF(AND(K963<>3,F963<900000),1,0)","v":1},{"$f":"IF(F963>991231,1,0)","v":0}," "," ",{"$f":"IF(AND(A963=0,H963+I963+J963+F963+G963+K963+E963+D963<>0),\"در این ردیف شماره پرسنلی وجود ندارد اما اطلاعات دیگر وارد شده است\",\"\")","v":""},{"$f":"IF(A963=0,\" \",IF(D963=0,\"کد وام وارد نشده است\",\"\"))","v":" "}," ",{"$f":"IF(AND(OR(K963=1,K963=2),H963=0),\"مبلغ قسط نمی تواند خالی باشد\",\"\")","v":""},null,{"$f":"IF(AND(A963=0,A964<>0),\"دراین ردیف اصلاحاتی وجود ندارد . لطفا ردیفی را خالی باقی نگذارید\",IF(AND(A963=0,R963=\"\"),\" \",IF(M963&\",\"&P963&\",\"&Q963&\",\"&R963&\",\"&S963&\",\"&T963&\",\"&U963=\",,,,,,\",\"صحیح\",M963&\",\"&P963&\",\"&Q963&\",\"&R963&\",\"&S963&\",\"&T963&\",\"&U963)))","v":" "},{"$f":"IF(AND(ROW(X963)>$Z$2,W963=\" \"),\" \",IF(W963=\" \",IF(AND(A963=0,$Z$2<>$Z$4),\"دراین ردیف اصلاحاتی وجود ندارد . لطفا ردیفی را خالی نگذارید\",W963),W963))","v":" "},{"$f":"CONCATENATE(A963,\",\",D963,\",\",E963,\",\",F963,\",\",G963,\",\",H963,\",\",I963,\",\",K963,\",\",,\",\",J963,\",\",\",\",V963,\",\")","v":",,,,,,,,,,,,"}]
[null,{"$f":"IF(A964=0,\" \",IF(ISNA(MATCH(A964,Personnel!A:A,0)),\"وجود ندارد\",LOOKUP(A964,Personnel!A:A,Personnel!B:B)))","v":" "},{"$f":"IF(A964=0,\" \",IF(ISNA(MATCH(A964,Personnel!A:A,0)),\"وجود ندارد\",LOOKUP(A964,Personnel!A:A,Personnel!C:C)))","v":" "},null,null,null,null,null,null,null,null,"","",1,0," "," ",""," "," ","",null," "," ",",,,,,,,,,,,,"]
[null,{"$f":"IF(A965=0,\" \",IF(ISNA(MATCH(A965,Personnel!A:A,0)),\"وجود ندارد\",LOOKUP(A965,Personnel!A:A,Personnel!B:B)))","v":" "},{"$f":"IF(A965=0,\" \",IF(ISNA(MATCH(A965,Personnel!A:A,0)),\"وجود ندارد\",LOOKUP(A965,Personnel!A:A,Personnel!C:C)))","v":" "},null,null,null,null,null,null,null,null,"","",1,0," "," ",""," "," ","",null," "," ",",,,,,,,,,,,,"]
[null,{"$f":"IF(A966=0,\" \",IF(ISNA(MATCH(A966,Personnel!A:A,0)),\"وجود ندارد\",LOOKUP(A966,Personnel!A:A,Personnel!B:B)))","v":" "},{"$f":"IF(A966=0,\" \",IF(ISNA(MATCH(A966,Personnel!A:A,0)),\"وجود ندارد\",LOOKUP(A966,Personnel!A:A,Personnel!C:C)))","v":" "},null,null,null,null,null,null,null,null,"","",1,0," "," ",""," "," ","",null," "," ",",,,,,,,,,,,,"]
[null,{"$f":"IF(A967=0,\" \",IF(ISNA(MATCH(A967,Personnel!A:A,0)),\"وجود ندارد\",LOOKUP(A967,Personnel!A:A,Personnel!B:B)))","v":" "},{"$f":"IF(A967=0,\" \",IF(ISNA(MATCH(A967,Personnel!A:A,0)),\"وجود ندارد\",LOOKUP(A967,Personnel!A:A,Personnel!C:C)))","v":" "},null,null,null,null,null,null,null,null,"","",1,0," "," ",""," "," ","",null," "," ",",,,,,,,,,,,,"]
[null,{"$f":"IF(A968=0,\" \",IF(ISNA(MATCH(A968,Personnel!A:A,0)),\"وجود ندارد\",LOOKUP(A968,Personnel!A:A,Personnel!B:B)))","v":" "},{"$f":"IF(A968=0,\" \",IF(ISNA(MATCH(A968,Personnel!A:A,0)),\"وجود ندارد\",LOOKUP(A968,Personnel!A:A,Personnel!C:C)))","v":" "},null,null,null,null,null,null,null,null,"","",1,0," "," ",""," "," ","",null," "," ",",,,,,,,,,,,,"]
[null,{"$f":"IF(A969=0,\" \",IF(ISNA(MATCH(A969,Personnel!A:A,0)),\"وجود ندارد\",LOOKUP(A969,Personnel!A:A,Personnel!B:B)))","v":" "},{"$f":"IF(A969=0,\" \",IF(ISNA(MATCH(A969,Personnel!A:A,0)),\"وجود ندارد\",LOOKUP(A969,Personnel!A:A,Personnel!C:C)))","v":" "},null,null,null,null,null,null,null,null,"","",1,0," "," ",""," "," ","",null," "," ",",,,,,,,,,,,,"]
[null,{"$f":"IF(A970=0,\" \",IF(ISNA(MATCH(A970,Personnel!A:A,0)),\"وجود ندارد\",LOOKUP(A970,Personnel!A:A,Personnel!B:B)))","v":" "},{"$f":"IF(A970=0,\" \",IF(ISNA(MATCH(A970,Personnel!A:A,0)),\"وجود ندارد\",LOOKUP(A970,Personnel!A:A,Personnel!C:C)))","v":" "},null,null,null,null,null,null,null,null,"","",1,0," "," ",""," "," ","",null," "," ",",,,,,,,,,,,,"]
[null,{"$f":"IF(A971=0,\" \",IF(ISNA(MATCH(A971,Personnel!A:A,0)),\"وجود ندارد\",LOOKUP(A971,Personnel!A:A,Personnel!B:B)))","v":" "},{"$f":"IF(A971=0,\" \",IF(ISNA(MATCH(A971,Personnel!A:A,0)),\"وجود ندارد\",LOOKUP(A971,Personnel!A:A,Personnel!C:C)))","v":" "},null,null,null,null,null,null,null,null,"","",1,0," "," ",""," "," ","",null," "," ",",,,,,,,,,,,,"]
[null,{"$f":"IF(A972=0,\" \",IF(ISNA(MATCH(A972,Personnel!A:A,0)),\"وجود ندارد\",LOOKUP(A972,Personnel!A:A,Personnel!B:B)))","v":" "},{"$f":"IF(A972=0,\" \",IF(ISNA(MATCH(A972,Personnel!A:A,0)),\"وجود ندارد\",LOOKUP(A972,Personnel!A:A,Personnel!C:C)))","v":" "},null,null,null,null,null,null,null,null,"","",1,0," "," ",""," "," ","",null," "," ",",,,,,,,,,,,,"]
[null,{"$f":"IF(A973=0,\" \",IF(ISNA(MATCH(A973,Personnel!A:A,0)),\"وجود ندارد\",LOOKUP(A973,Personnel!A:A,Personnel!B:B)))","v":" "},{"$f":"IF(A973=0,\" \",IF(ISNA(MATCH(A973,Personnel!A:A,0)),\"وجود ندارد\",LOOKUP(A973,Personnel!A:A,Personnel!C:C)))","v":" "},null,null,null,null,null,null,null,null,"","",1,0," "," ",""," "," ","",null," "," ",",,,,,,,,,,,,"]
[null,{"$f":"IF(A974=0,\" \",IF(ISNA(MATCH(A974,Personnel!A:A,0)),\"وجود ندارد\",LOOKUP(A974,Personnel!A:A,Personnel!B:B)))","v":" "},{"$f":"IF(A974=0,\" \",IF(ISNA(MATCH(A974,Personnel!A:A,0)),\"وجود ندارد\",LOOKUP(A974,Personnel!A:A,Personnel!C:C)))","v":" "},null,null,null,null,null,null,null,null,"","",1,0," "," ",""," "," ","",null," "," ",",,,,,,,,,,,,"]
[null,{"$f":"IF(A975=0,\" \",IF(ISNA(MATCH(A975,Personnel!A:A,0)),\"وجود ندارد\",LOOKUP(A975,Personnel!A:A,Personnel!B:B)))","v":" "},{"$f":"IF(A975=0,\" \",IF(ISNA(MATCH(A975,Personnel!A:A,0)),\"وجود ندارد\",LOOKUP(A975,Personnel!A:A,Personnel!C:C)))","v":" "},null,null,null,null,null,null,null,null,"","",1,0," "," ",""," "," ","",null," "," ",",,,,,,,,,,,,"]
[null,{"$f":"IF(A976=0,\" \",IF(ISNA(MATCH(A976,Personnel!A:A,0)),\"وجود ندارد\",LOOKUP(A976,Personnel!A:A,Personnel!B:B)))","v":" "},{"$f":"IF(A976=0,\" \",IF(ISNA(MATCH(A976,Personnel!A:A,0)),\"وجود ندارد\",LOOKUP(A976,Personnel!A:A,Personnel!C:C)))","v":" "},null,null,null,null,null,null,null,null,"","",1,0," "," ",""," "," ","",null," "," ",",,,,,,,,,,,,"]
[null,{"$f":"IF(A977=0,\" \",IF(ISNA(MATCH(A977,Personnel!A:A,0)),\"وجود ندارد\",LOOKUP(A977,Personnel!A:A,Personnel!B:B)))","v":" "},{"$f":"IF(A977=0,\" \",IF(ISNA(MATCH(A977,Personnel!A:A,0)),\"وجود ندارد\",LOOKUP(A977,Personnel!A:A,Personnel!C:C)))","v":" "},null,null,null,null,null,null,null,null,"","",1,0," "," ",""," "," ","",null," "," ",",,,,,,,,,,,,"]
[null,{"$f":"IF(A978=0,\" \",IF(ISNA(MATCH(A978,Personnel!A:A,0)),\"وجود ندارد\",LOOKUP(A978,Personnel!A:A,Personnel!B:B)))","v":" "},{"$f":"IF(A978=0,\" \",IF(ISNA(MATCH(A978,Personnel!A:A,0)),\"وجود ندارد\",LOOKUP(A978,Personnel!A:A,Personnel!C:C)))","v":" "},null,null,null,null,null,null,null,null,"","",1,0," "," ",""," "," ","",null," "," ",",,,,,,,,,,,,"]
[null,{"$f":"IF(A979=0,\" \",IF(ISNA(MATCH(A979,Personnel!A:A,0)),\"وجود ندارد\",LOOKUP(A979,Personnel!A:A,Personnel!B:B)))","v":" "},{"$f":"IF(A979=0,\" \",IF(ISNA(MATCH(A979,Personnel!A:A,0)),\"وجود ندارد\",LOOKUP(A979,Personnel!A:A,Personnel!C:C)))","v":" "},null,null,null,null,null,null,null,null,"","",1,0," "," ",""," "," ","",null," "," ",",,,,,,,,,,,,"]
[null,{"$f":"IF(A980=0,\" \",IF(ISNA(MATCH(A980,Personnel!A:A,0)),\"وجود ندارد\",LOOKUP(A980,Personnel!A:A,Personnel!B:B)))","v":" "},{"$f":"IF(A980=0,\" \",IF(ISNA(MATCH(A980,Personnel!A:A,0)),\"وجود ندارد\",LOOKUP(A980,Personnel!A:A,Personnel!C:C)))","v":" "},null,null,null,null,null,null,null,null,"","",1,0," "," ",""," "," ","",null," "," ",",,,,,,,,,,,,"]
[null,{"$f":"IF(A981=0,\" \",IF(ISNA(MATCH(A981,Personnel!A:A,0)),\"وجود ندارد\",LOOKUP(A981,Personnel!A:A,Personnel!B:B)))","v":" "},{"$f":"IF(A981=0,\" \",IF(ISNA(MATCH(A981,Personnel!A:A,0)),\"وجود ندارد\",LOOKUP(A981,Personnel!A:A,Personnel!C:C)))","v":" "},null,null,null,null,null,null,null,null,"","",1,0," "," ",""," "," ","",null," "," ",",,,,,,,,,,,,"]
[null,{"$f":"IF(A982=0,\" \",IF(ISNA(MATCH(A982,Personnel!A:A,0)),\"وجود ندارد\",LOOKUP(A982,Personnel!A:A,Personnel!B:B)))","v":" "},{"$f":"IF(A982=0,\" \",IF(ISNA(MATCH(A982,Personnel!A:A,0)),\"وجود ندارد\",LOOKUP(A982,Personnel!A:A,Personnel!C:C)))","v":" "},null,null,null,null,null,null,null,null,"","",1,0," "," ",""," "," ","",null," "," ",",,,,,,,,,,,,"]
[null,{"$f":"IF(A983=0,\" \",IF(ISNA(MATCH(A983,Personnel!A:A,0)),\"وجود ندارد\",LOOKUP(A983,Personnel!A:A,Personnel!B:B)))","v":" "},{"$f":"IF(A983=0,\" \",IF(ISNA(MATCH(A983,Personnel!A:A,0)),\"وجود ندارد\",LOOKUP(A983,Personnel!A:A,Personnel!C:C)))","v":" "},null,null,null,null,null,null,null,null,"","",1,0," "," ",""," "," ","",null," "," ",",,,,,,,,,,,,"]
[null,{"$f":"IF(A984=0,\" \",IF(ISNA(MATCH(A984,Personnel!A:A,0)),\"وجود ندارد\",LOOKUP(A984,Personnel!A:A,Personnel!B:B)))","v":" "},{"$f":"IF(A984=0,\" \",IF(ISNA(MATCH(A984,Personnel!A:A,0)),\"وجود ندارد\",LOOKUP(A984,Personnel!A:A,Personnel!C:C)))","v":" "},null,null,null,null,null,null,null,null,"","",1,0," "," ",""," "," ","",null," "," ",",,,,,,,,,,,,"]
[null,{"$f":"IF(A985=0,\" \",IF(ISNA(MATCH(A985,Personnel!A:A,0)),\"وجود ندارد\",LOOKUP(A985,Personnel!A:A,Personnel!B:B)))","v":" "},{"$f":"IF(A985=0,\" \",IF(ISNA(MATCH(A985,Personnel!A:A,0)),\"وجود ندارد\",LOOKUP(A985,Personnel!A:A,Personnel!C:C)))","v":" "},null,null,null,null,null,null,null,null,"","",1,0," "," ",""," "," ","",null," "," ",",,,,,,,,,,,,"]
[null,{"$f":"IF(A986=0,\" \",IF(ISNA(MATCH(A986,Personnel!A:A,0)),\"وجود ندارد\",LOOKUP(A986,Personnel!A:A,Personnel!B:B)))","v":" "},{"$f":"IF(A986=0,\" \",IF(ISNA(MATCH(A986,Personnel!A:A,0)),\"وجود ندارد\",LOOKUP(A986,Personnel!A:A,Personnel!C:C)))","v":" "},null,null,null,null,null,null,null,null,"","",1,0," "," ",""," "," ","",null," "," ",",,,,,,,,,,,,"]
[null,{"$f":"IF(A987=0,\" \",IF(ISNA(MATCH(A987,Personnel!A:A,0)),\"وجود ندارد\",LOOKUP(A987,Personnel!A:A,Personnel!B:B)))","v":" "},{"$f":"IF(A987=0,\" \",IF(ISNA(MATCH(A987,Personnel!A:A,0)),\"وجود ندارد\",LOOKUP(A987,Personnel!A:A,Personnel!C:C)))","v":" "},null,null,null,null,null,null,null,null,"","",1,0," "," ",""," "," ","",null," "," ",",,,,,,,,,,,,"]
[null,{"$f":"IF(A988=0,\" \",IF(ISNA(MATCH(A988,Personnel!A:A,0)),\"وجود ندارد\",LOOKUP(A988,Personnel!A:A,Personnel!B:B)))","v":" "},{"$f":"IF(A988=0,\" \",IF(ISNA(MATCH(A988,Personnel!A:A,0)),\"وجود ندارد\",LOOKUP(A988,Personnel!A:A,Personnel!C:C)))","v":" "},null,null,null,null,null,null,null,null,"","",1,0," "," ",""," "," ","",null," "," ",",,,,,,,,,,,,"]
[null,{"$f":"IF(A989=0,\" \",IF(ISNA(MATCH(A989,Personnel!A:A,0)),\"وجود ندارد\",LOOKUP(A989,Personnel!A:A,Personnel!B:B)))","v":" "},{"$f":"IF(A989=0,\" \",IF(ISNA(MATCH(A989,Personnel!A:A,0)),\"وجود ندارد\",LOOKUP(A989,Personnel!A:A,Personnel!C:C)))","v":" "},null,null,null,null,null,null,null,null,"","",1,0," "," ",""," "," ","",null," "," ",",,,,,,,,,,,,"]
[null,{"$f":"IF(A990=0,\" \",IF(ISNA(MATCH(A990,Personnel!A:A,0)),\"وجود ندارد\",LOOKUP(A990,Personnel!A:A,Personnel!B:B)))","v":" "},{"$f":"IF(A990=0,\" \",IF(ISNA(MATCH(A990,Personnel!A:A,0)),\"وجود ندارد\",LOOKUP(A990,Personnel!A:A,Personnel!C:C)))","v":" "},null,null,null,null,null,null,null,null,"","",1,0," "," ",""," "," ","",null," "," ",",,,,,,,,,,,,"]
[null,{"$f":"IF(A991=0,\" \",IF(ISNA(MATCH(A991,Personnel!A:A,0)),\"وجود ندارد\",LOOKUP(A991,Personnel!A:A,Personnel!B:B)))","v":" "},{"$f":"IF(A991=0,\" \",IF(ISNA(MATCH(A991,Personnel!A:A,0)),\"وجود ندارد\",LOOKUP(A991,Personnel!A:A,Personnel!C:C)))","v":" "},null,null,null,null,null,null,null,null,"","",1,0," "," ",""," "," ","",null," "," ",",,,,,,,,,,,,"]
[null,{"$f":"IF(A992=0,\" \",IF(ISNA(MATCH(A992,Personnel!A:A,0)),\"وجود ندارد\",LOOKUP(A992,Personnel!A:A,Personnel!B:B)))","v":" "},{"$f":"IF(A992=0,\" \",IF(ISNA(MATCH(A992,Personnel!A:A,0)),\"وجود ندارد\",LOOKUP(A992,Personnel!A:A,Personnel!C:C)))","v":" "},null,null,null,null,null,null,null,null,"","",1,0," "," ",""," "," ","",null," "," ",",,,,,,,,,,,,"]
[null,{"$f":"IF(A993=0,\" \",IF(ISNA(MATCH(A993,Personnel!A:A,0)),\"وجود ندارد\",LOOKUP(A993,Personnel!A:A,Personnel!B:B)))","v":" "},{"$f":"IF(A993=0,\" \",IF(ISNA(MATCH(A993,Personnel!A:A,0)),\"وجود ندارد\",LOOKUP(A993,Personnel!A:A,Personnel!C:C)))","v":" "},null,null,null,null,null,null,null,null,"","",1,0," "," ",""," "," ","",null," "," ",",,,,,,,,,,,,"]
[null,{"$f":"IF(A994=0,\" \",IF(ISNA(MATCH(A994,Personnel!A:A,0)),\"وجود ندارد\",LOOKUP(A994,Personnel!A:A,Personnel!B:B)))","v":" "},{"$f":"IF(A994=0,\" \",IF(ISNA(MATCH(A994,Personnel!A:A,0)),\"وجود ندارد\",LOOKUP(A994,Personnel!A:A,Personnel!C:C)))","v":" "},null,null,null,null,null,null,null,null,"","",1,0," "," ",""," "," ","",null," "," ",",,,,,,,,,,,,"]
[null,{"$f":"IF(A995=0,\" \",IF(ISNA(MATCH(A995,Personnel!A:A,0)),\"وجود ندارد\",LOOKUP(A995,Personnel!A:A,Personnel!B:B)))","v":" "},{"$f":"IF(A995=0,\" \",IF(ISNA(MATCH(A995,Personnel!A:A,0)),\"وجود ندارد\",LOOKUP(A995,Personnel!A:A,Personnel!C:C)))","v":" "},null,null,null,null,null,null,null,null,"","",1,0," "," ",""," "," ","",null," "," ",",,,,,,,,,,,,"]
[null,{"$f":"IF(A996=0,\" \",IF(ISNA(MATCH(A996,Personnel!A:A,0)),\"وجود ندارد\",LOOKUP(A996,Personnel!A:A,Personnel!B:B)))","v":" "},{"$f":"IF(A996=0,\" \",IF(ISNA(MATCH(A996,Personnel!A:A,0)),\"وجود ندارد\",LOOKUP(A996,Personnel!A:A,Personnel!C:C)))","v":" "},null,null,null,null,null,null,null,null,"","",1,0," "," ",""," "," ","",null," "," ",",,,,,,,,,,,,"]
[null,{"$f":"IF(A997=0,\" \",IF(ISNA(MATCH(A997,Personnel!A:A,0)),\"وجود ندارد\",LOOKUP(A997,Personnel!A:A,Personnel!B:B)))","v":" "},{"$f":"IF(A997=0,\" \",IF(ISNA(MATCH(A997,Personnel!A:A,0)),\"وجود ندارد\",LOOKUP(A997,Personnel!A:A,Personnel!C:C)))","v":" "},null,null,null,null,null,null,null,null,"","",1,0," "," ",""," "," ","",null," "," ",",,,,,,,,,,,,"]
[null,{"$f":"IF(A998=0,\" \",IF(ISNA(MATCH(A998,Personnel!A:A,0)),\"وجود ندارد\",LOOKUP(A998,Personnel!A:A,Personnel!B:B)))","v":" "},{"$f":"IF(A998=0,\" \",IF(ISNA(MATCH(A998,Personnel!A:A,0)),\"وجود ندارد\",LOOKUP(A998,Personnel!A:A,Personnel!C:C)))","v":" "},null,null,null,null,null,null,null,null,"","",1,0," "," ",""," "," ","",null," "," ",",,,,,,,,,,,,"]
[null,{"$f":"IF(A999=0,\" \",IF(ISNA(MATCH(A999,Personnel!A:A,0)),\"وجود ندارد\",LOOKUP(A999,Personnel!A:A,Personnel!B:B)))","v":" "},{"$f":"IF(A999=0,\" \",IF(ISNA(MATCH(A999,Personnel!A:A,0)),\"وجود ندارد\",LOOKUP(A999,Personnel!A:A,Personnel!C:C)))","v":" "},null,null,null,null,null,null,null,null,"","",1,0," "," ",""," "," ","",null," "," ",",,,,,,,,,,,,"]
[null,{"$f":"IF(A1000=0,\" \",IF(ISNA(MATCH(A1000,Personnel!A:A,0)),\"وجود ندارد\",LOOKUP(A1000,Personnel!A:A,Personnel!B:B)))","v":" "},{"$f":"IF(A1000=0,\" \",IF(ISNA(MATCH(A1000,Personnel!A:A,0)),\"وجود ندارد\",LOOKUP(A1000,Personnel!A:A,Personnel!C:C)))","v":" "},null,null,null,null,null,null,null,null,"","",1,0," "," ",""," "," ","",null," "," ",",,,,,,,,,,,,"]
[null,{"$f":"IF(A1002=0,\" \",IF(ISNA(MATCH(A1002,Personnel!A:A,0)),\"وجود ندارد\",LOOKUP(A1002,Personnel!A:A,Personnel!B:B)))","v":" "},{"$f":"IF(A1002=0,\" \",IF(ISNA(MATCH(A1002,Personnel!A:A,0)),\"وجود ندارد\",LOOKUP(A1002,Personnel!A:A,Personnel!C:C)))","v":" "},null,null,null,null,null,null,null,null,"","",1,0," "," ",""," "," ","",null," "," ",",,,,,,,,,,,,"]
[null,{"$f":"IF(A1013=0,\" \",IF(ISNA(MATCH(A1013,Personnel!A:A,0)),\"وجود ندارد\",LOOKUP(A1013,Personnel!A:A,Personnel!B:B)))","v":" "},{"$f":"IF(A1013=0,\" \",IF(ISNA(MATCH(A1013,Personnel!A:A,0)),\"وجود ندارد\",LOOKUP(A1013,Personnel!A:A,Personnel!C:C)))","v":" "},null,null,null,null,null,null,null,null,"","",1,0," "," ",""," "," ","",null," "," ",",,,,,,,,,,,,"]
[null,{"$f":"IF(A1025=0,\" \",IF(ISNA(MATCH(A1025,Personnel!A:A,0)),\"وجود ندارد\",LOOKUP(A1025,Personnel!A:A,Personnel!B:B)))","v":" "},{"$f":"IF(A1025=0,\" \",IF(ISNA(MATCH(A1025,Personnel!A:A,0)),\"وجود ندارد\",LOOKUP(A1025,Personnel!A:A,Personnel!C:C)))","v":" "},null,null,null,null,null,null,null,null,"","",1,0," "," ",""," "," ","",null," "," ",",,,,,,,,,,,,"]
[null,{"$f":"IF(A1032=0,\" \",IF(ISNA(MATCH(A1032,Personnel!A:A,0)),\"وجود ندارد\",LOOKUP(A1032,Personnel!A:A,Personnel!B:B)))","v":" "},{"$f":"IF(A1032=0,\" \",IF(ISNA(MATCH(A1032,Personnel!A:A,0)),\"وجود ندارد\",LOOKUP(A1032,Personnel!A:A,Personnel!C:C)))","v":" "},null,null,null,null,null,null,null,null,"","",1,0," "," ",""," "," ","",null," "," ",",,,,,,,,,,,,"]
[null,{"$f":"IF(A1041=0,\" \",IF(ISNA(MATCH(A1041,Personnel!A:A,0)),\"وجود ندارد\",LOOKUP(A1041,Personnel!A:A,Personnel!B:B)))","v":" "},{"$f":"IF(A1041=0,\" \",IF(ISNA(MATCH(A1041,Personnel!A:A,0)),\"وجود ندارد\",LOOKUP(A1041,Personnel!A:A,Personnel!C:C)))","v":" "},null,null,null,null,null,null,null,null,"","",1,0," "," ",""," "," ","",null," "," ",",,,,,,,,,,,,"]
[null,{"$f":"IF(A1046=0,\" \",IF(ISNA(MATCH(A1046,Personnel!A:A,0)),\"وجود ندارد\",LOOKUP(A1046,Personnel!A:A,Personnel!B:B)))","v":" "},{"$f":"IF(A1046=0,\" \",IF(ISNA(MATCH(A1046,Personnel!A:A,0)),\"وجود ندارد\",LOOKUP(A1046,Personnel!A:A,Personnel!C:C)))","v":" "},null,null,null,null,null,null,null,null,"","",1,0," "," ",""," "," ","",null," "," ",",,,,,,,,,,,,"]
[null,{"$f":"IF(A1053=0,\" \",IF(ISNA(MATCH(A1053,Personnel!A:A,0)),\"وجود ندارد\",LOOKUP(A1053,Personnel!A:A,Personnel!B:B)))","v":" "},{"$f":"IF(A1053=0,\" \",IF(ISNA(MATCH(A1053,Personnel!A:A,0)),\"وجود ندارد\",LOOKUP(A1053,Personnel!A:A,Personnel!C:C)))","v":" "},null,null,null,null,null,null,null,null,"","",1,0," "," ",""," "," ","",null," "," ",",,,,,,,,,,,,"]
[null,{"$f":"IF(A1065=0,\" \",IF(ISNA(MATCH(A1065,Personnel!A:A,0)),\"وجود ندارد\",LOOKUP(A1065,Personnel!A:A,Personnel!B:B)))","v":" "},{"$f":"IF(A1065=0,\" \",IF(ISNA(MATCH(A1065,Personnel!A:A,0)),\"وجود ندارد\",LOOKUP(A1065,Personnel!A:A,Personnel!C:C)))","v":" "},null,null,null,null,null,null,null,null,"","",1,0," "," ",""," "," ","",null," "," ",",,,,,,,,,,,,"]
[null,{"$f":"IF(A1072=0,\" \",IF(ISNA(MATCH(A1072,Personnel!A:A,0)),\"وجود ندارد\",LOOKUP(A1072,Personnel!A:A,Personnel!B:B)))","v":" "},{"$f":"IF(A1072=0,\" \",IF(ISNA(MATCH(A1072,Personnel!A:A,0)),\"وجود ندارد\",LOOKUP(A1072,Personnel!A:A,Personnel!C:C)))","v":" "},null,null,null,null,null,null,null,null,"","",1,0," "," ",""," "," ","",null," "," ",",,,,,,,,,,,,"]
[null,{"$f":"IF(A1082=0,\" \",IF(ISNA(MATCH(A1082,Personnel!A:A,0)),\"وجود ندارد\",LOOKUP(A1082,Personnel!A:A,Personnel!B:B)))","v":" "},{"$f":"IF(A1082=0,\" \",IF(ISNA(MATCH(A1082,Personnel!A:A,0)),\"وجود ندارد\",LOOKUP(A1082,Personnel!A:A,Personnel!C:C)))","v":" "},null,null,null,null,null,null,null,null,"","",1,0," "," ",""," "," ","",null," "," ",",,,,,,,,,,,,"]
[null,{"$f":"IF(A1095=0,\" \",IF(ISNA(MATCH(A1095,Personnel!A:A,0)),\"وجود ندارد\",LOOKUP(A1095,Personnel!A:A,Personnel!B:B)))","v":" "},{"$f":"IF(A1095=0,\" \",IF(ISNA(MATCH(A1095,Personnel!A:A,0)),\"وجود ندارد\",LOOKUP(A1095,Personnel!A:A,Personnel!C:C)))","v":" "},null,null,null,null,null,null,null,null,"","",1,0," "," ",""," "," ","",null," "," ",",,,,,,,,,,,,"]
[null,{"$f":"IF(A1102=0,\" \",IF(ISNA(MATCH(A1102,Personnel!A:A,0)),\"وجود ندارد\",LOOKUP(A1102,Personnel!A:A,Personnel!B:B)))","v":" "},{"$f":"IF(A1102=0,\" \",IF(ISNA(MATCH(A1102,Personnel!A:A,0)),\"وجود ندارد\",LOOKUP(A1102,Personnel!A:A,Personnel!C:C)))","v":" "},null,null,null,null,null,null,null,null,"","",1,0," "," ",""," "," ","",null," "," ",",,,,,,,,,,,,"]
[null,{"$f":"IF(A1114=0,\" \",IF(ISNA(MATCH(A1114,Personnel!A:A,0)),\"وجود ندارد\",LOOKUP(A1114,Personnel!A:A,Personnel!B:B)))","v":" "},{"$f":"IF(A1114=0,\" \",IF(ISNA(MATCH(A1114,Personnel!A:A,0)),\"وجود ندارد\",LOOKUP(A1114,Personnel!A:A,Personnel!C:C)))","v":" "},null,null,null,null,null,null,null,null,"","",1,0," "," ",""," "," ","",null," "," ",",,,,,,,,,,,,"]
[null,{"$f":"IF(A1117=0,\" \",IF(ISNA(MATCH(A1117,Personnel!A:A,0)),\"وجود ندارد\",LOOKUP(A1117,Personnel!A:A,Personnel!B:B)))","v":" "},{"$f":"IF(A1117=0,\" \",IF(ISNA(MATCH(A1117,Personnel!A:A,0)),\"وجود ندارد\",LOOKUP(A1117,Personnel!A:A,Personnel!C:C)))","v":" "},null,null,null,null,null,null,null,null,"","",1,0," "," ",""," "," ","",null," "," ",",,,,,,,,,,,,"]
[null,{"$f":"IF(A1131=0,\" \",IF(ISNA(MATCH(A1131,Personnel!A:A,0)),\"وجود ندارد\",LOOKUP(A1131,Personnel!A:A,Personnel!B:B)))","v":" "},{"$f":"IF(A1131=0,\" \",IF(ISNA(MATCH(A1131,Personnel!A:A,0)),\"وجود ندارد\",LOOKUP(A1131,Personnel!A:A,Personnel!C:C)))","v":" "},null,null,null,null,null,null,null,null,"","",1,0," "," ",""," "," ","",null," "," ",",,,,,,,,,,,,"]
[null,{"$f":"IF(A1135=0,\" \",IF(ISNA(MATCH(A1135,Personnel!A:A,0)),\"وجود ندارد\",LOOKUP(A1135,Personnel!A:A,Personnel!B:B)))","v":" "},{"$f":"IF(A1135=0,\" \",IF(ISNA(MATCH(A1135,Personnel!A:A,0)),\"وجود ندارد\",LOOKUP(A1135,Personnel!A:A,Personnel!C:C)))","v":" "},null,null,null,null,null,null,null,null,"","",1,0," "," ",""," "," ","",null," "," ",",,,,,,,,,,,,"]
[null,{"$f":"IF(A1142=0,\" \",IF(ISNA(MATCH(A1142,Personnel!A:A,0)),\"وجود ندارد\",LOOKUP(A1142,Personnel!A:A,Personnel!B:B)))","v":" "},{"$f":"IF(A1142=0,\" \",IF(ISNA(MATCH(A1142,Personnel!A:A,0)),\"وجود ندارد\",LOOKUP(A1142,Personnel!A:A,Personnel!C:C)))","v":" "},null,null,null,null,null,null,null,null,"","",1,0," "," ",""," "," ","",null," "," ",",,,,,,,,,,,,"]
[null,{"$f":"IF(A1154=0,\" \",IF(ISNA(MATCH(A1154,Personnel!A:A,0)),\"وجود ندارد\",LOOKUP(A1154,Personnel!A:A,Personnel!B:B)))","v":" "},{"$f":"IF(A1154=0,\" \",IF(ISNA(MATCH(A1154,Personnel!A:A,0)),\"وجود ندارد\",LOOKUP(A1154,Personnel!A:A,Personnel!C:C)))","v":" "},null,null,null,null,null,null,null,null,"","",1,0,{"$f":"IF(A1154=0,\" \",IF(N1154+O1154<>0,\"تاریخ اشتباه است\",\"\"))","v":" "},{"$f":"IF(A1154=0,\" \",IF(AND(G1154<>0,H1154>G1154),\"مبلغ قسط از مبلغ کل بیشتر است\",\"\"))","v":" "},""," ",{"$f":"IF(A1154=0,\" \",IF(OR(K1154<1,K1154>3),\"نوع عمل اشتباه است\",\"\"))","v":" "},"",null," "," ",",,,,,,,,,,,,"]
[null,{"$f":"IF(A1166=0,\" \",IF(ISNA(MATCH(A1166,Personnel!A:A,0)),\"وجود ندارد\",LOOKUP(A1166,Personnel!A:A,Personnel!B:B)))","v":" "},{"$f":"IF(A1166=0,\" \",IF(ISNA(MATCH(A1166,Personnel!A:A,0)),\"وجود ندارد\",LOOKUP(A1166,Personnel!A:A,Personnel!C:C)))","v":" "},null,null,null,null,null,null,null,null,"","",1,0," "," ",""," "," ","",null," "," ",",,,,,,,,,,,,"]
[null,{"$f":"IF(A1172=0,\" \",IF(ISNA(MATCH(A1172,Personnel!A:A,0)),\"وجود ندارد\",LOOKUP(A1172,Personnel!A:A,Personnel!B:B)))","v":" "},{"$f":"IF(A1172=0,\" \",IF(ISNA(MATCH(A1172,Personnel!A:A,0)),\"وجود ندارد\",LOOKUP(A1172,Personnel!A:A,Personnel!C:C)))","v":" "},null,null,null,null,null,null,null,null,"","",1,0," "," ",""," "," ","",null," "," ",",,,,,,,,,,,,"]
[null,{"$f":"IF(A1184=0,\" \",IF(ISNA(MATCH(A1184,Personnel!A:A,0)),\"وجود ندارد\",LOOKUP(A1184,Personnel!A:A,Personnel!B:B)))","v":" "},{"$f":"IF(A1184=0,\" \",IF(ISNA(MATCH(A1184,Personnel!A:A,0)),\"وجود ندارد\",LOOKUP(A1184,Personnel!A:A,Personnel!C:C)))","v":" "},null,null,null,null,null,null,null,null,"","",1,0," "," ",""," "," ","",null," "," ",",,,,,,,,,,,,"]
[null,{"$f":"IF(A1191=0,\" \",IF(ISNA(MATCH(A1191,Personnel!A:A,0)),\"وجود ندارد\",LOOKUP(A1191,Personnel!A:A,Personnel!B:B)))","v":" "},{"$f":"IF(A1191=0,\" \",IF(ISNA(MATCH(A1191,Personnel!A:A,0)),\"وجود ندارد\",LOOKUP(A1191,Personnel!A:A,Personnel!C:C)))","v":" "},null,null,null,null,null,null,null,null,"","",1,0," "," ",""," "," ","",null," "," ",",,,,,,,,,,,,"]
[null,{"$f":"IF(A1194=0,\" \",IF(ISNA(MATCH(A1194,Personnel!A:A,0)),\"وجود ندارد\",LOOKUP(A1194,Personnel!A:A,Personnel!B:B)))","v":" "},{"$f":"IF(A1194=0,\" \",IF(ISNA(MATCH(A1194,Personnel!A:A,0)),\"وجود ندارد\",LOOKUP(A1194,Personnel!A:A,Personnel!C:C)))","v":" "},null,null,null,null,null,null,null,null,"","",1,0," "," ",""," "," ","",null," "," ",",,,,,,,,,,,,"]
[null,{"$f":"IF(A1206=0,\" \",IF(ISNA(MATCH(A1206,Personnel!A:A,0)),\"وجود ندارد\",LOOKUP(A1206,Personnel!A:A,Personnel!B:B)))","v":" "},{"$f":"IF(A1206=0,\" \",IF(ISNA(MATCH(A1206,Personnel!A:A,0)),\"وجود ندارد\",LOOKUP(A1206,Personnel!A:A,Personnel!C:C)))","v":" "},null,null,null,null,null,null,null,null,"","",1,0," "," ",""," "," ","",null," "," ",",,,,,,,,,,,,"]
[null,{"$f":"IF(A1213=0,\" \",IF(ISNA(MATCH(A1213,Personnel!A:A,0)),\"وجود ندارد\",LOOKUP(A1213,Personnel!A:A,Personnel!B:B)))","v":" "},{"$f":"IF(A1213=0,\" \",IF(ISNA(MATCH(A1213,Personnel!A:A,0)),\"وجود ندارد\",LOOKUP(A1213,Personnel!A:A,Personnel!C:C)))","v":" "},null,null,null,null,null,null,null,null,"","",1,0," "," ",""," "," ","",null," "," ",",,,,,,,,,,,,"]
[null,{"$f":"IF(A1224=0,\" \",IF(ISNA(MATCH(A1224,Personnel!A:A,0)),\"وجود ندارد\",LOOKUP(A1224,Personnel!A:A,Personnel!B:B)))","v":" "},{"$f":"IF(A1224=0,\" \",IF(ISNA(MATCH(A1224,Personnel!A:A,0)),\"وجود ندارد\",LOOKUP(A1224,Personnel!A:A,Personnel!C:C)))","v":" "},null,null,null,null,null,null,null,null,"","",1,0," "," ",""," "," ","",null," "," ",",,,,,,,,,,,,"]
[null,{"$f":"IF(A1236=0,\" \",IF(ISNA(MATCH(A1236,Personnel!A:A,0)),\"وجود ندارد\",LOOKUP(A1236,Personnel!A:A,Personnel!B:B)))","v":" "},{"$f":"IF(A1236=0,\" \",IF(ISNA(MATCH(A1236,Personnel!A:A,0)),\"وجود ندارد\",LOOKUP(A1236,Personnel!A:A,Personnel!C:C)))","v":" "},null,null,null,null,null,null,null,null,"","",1,0," "," ",""," "," ","",null," "," ",",,,,,,,,,,,,"]
[null,{"$f":"IF(A1243=0,\" \",IF(ISNA(MATCH(A1243,Personnel!A:A,0)),\"وجود ندارد\",LOOKUP(A1243,Personnel!A:A,Personnel!B:B)))","v":" "},{"$f":"IF(A1243=0,\" \",IF(ISNA(MATCH(A1243,Personnel!A:A,0)),\"وجود ندارد\",LOOKUP(A1243,Personnel!A:A,Personnel!C:C)))","v":" "},null,null,null,null,null,null,null,null,"","",1,0," "," ",""," "," ","",null," "," ",",,,,,,,,,,,,"]
[null,{"$f":"IF(A1255=0,\" \",IF(ISNA(MATCH(A1255,Personnel!A:A,0)),\"وجود ندارد\",LOOKUP(A1255,Personnel!A:A,Personnel!B:B)))","v":" "},{"$f":"IF(A1255=0,\" \",IF(ISNA(MATCH(A1255,Personnel!A:A,0)),\"وجود ندارد\",LOOKUP(A1255,Personnel!A:A,Personnel!C:C)))","v":" "},null,null,null,null,null,null,null,null,"","",1,0," "," ",""," "," ","",null," "," ",",,,,,,,,,,,,"]
[null,{"$f":"IF(A1262=0,\" \",IF(ISNA(MATCH(A1262,Personnel!A:A,0)),\"وجود ندارد\",LOOKUP(A1262,Personnel!A:A,Personnel!B:B)))","v":" "},{"$f":"IF(A1262=0,\" \",IF(ISNA(MATCH(A1262,Personnel!A:A,0)),\"وجود ندارد\",LOOKUP(A1262,Personnel!A:A,Personnel!C:C)))","v":" "},null,null,null,null,null,null,null,null,"","",1,0," "," ",""," "," ","",null," "," ",",,,,,,,,,,,,"]
[null,{"$f":"IF(A1264=0,\" \",IF(ISNA(MATCH(A1264,Personnel!A:A,0)),\"وجود ندارد\",LOOKUP(A1264,Personnel!A:A,Personnel!B:B)))","v":" "},{"$f":"IF(A1264=0,\" \",IF(ISNA(MATCH(A1264,Personnel!A:A,0)),\"وجود ندارد\",LOOKUP(A1264,Personnel!A:A,Personnel!C:C)))","v":" "},null,null,null,null,null,null,null,null,"","",1,0," "," ",""," "," ","",null," "," ",",,,,,,,,,,,,"]
[null,{"$f":"IF(A1276=0,\" \",IF(ISNA(MATCH(A1276,Personnel!A:A,0)),\"وجود ندارد\",LOOKUP(A1276,Personnel!A:A,Personnel!B:B)))","v":" "},{"$f":"IF(A1276=0,\" \",IF(ISNA(MATCH(A1276,Personnel!A:A,0)),\"وجود ندارد\",LOOKUP(A1276,Personnel!A:A,Personnel!C:C)))","v":" "},null,null,null,null,null,null,null,null,"","",1,0," "," ",""," "," ","",null," "," ",",,,,,,,,,,,,"]
[null,{"$f":"IF(A1283=0,\" \",IF(ISNA(MATCH(A1283,Personnel!A:A,0)),\"وجود ندارد\",LOOKUP(A1283,Personnel!A:A,Personnel!B:B)))","v":" "},{"$f":"IF(A1283=0,\" \",IF(ISNA(MATCH(A1283,Personnel!A:A,0)),\"وجود ندارد\",LOOKUP(A1283,Personnel!A:A,Personnel!C:C)))","v":" "},null,null,null,null,null,null,null,null,{"$f":"IF(K1283=0,\"\",IF(K1283=1,\"ایجاد\",IF(K1283=2,\"اصلاح\",\"حذف\")))","v":""},{"$f":"IF(AND(K1283=3,H1283+I1283+J1283+F1283+G1283<>0),\"برای عمل حذف اطلاعات اضافی وارد شده است\",\"\")","v":""},{"$f":"IF(AND(K1283<>3,F1283<900000),1,0)","v":1},{"$f":"IF(F1283>991231,1,0)","v":0}," "," ",{"$f":"IF(AND(A1283=0,H1283+I1283+J1283+F1283+G1283+K1283+E1283+D1283<>0),\"در این ردیف شماره پرسنلی وجود ندارد اما اطلاعات دیگر وارد شده است\",\"\")","v":""},{"$f":"IF(A1283=0,\" \",IF(D1283=0,\"کد وام وارد نشده است\",\"\"))","v":" "}," ",{"$f":"IF(AND(OR(K1283=1,K1283=2),H1283=0),\"مبلغ قسط نمی تواند خالی باشد\",\"\")","v":""},null,{"$f":"IF(AND(A1283=0,A1284<>0),\"دراین ردیف اصلاحاتی وجود ندارد . لطفا ردیفی را خالی باقی نگذارید\",IF(AND(A1283=0,R1283=\"\"),\" \",IF(M1283&\",\"&P1283&\",\"&Q1283&\",\"&R1283&\",\"&S1283&\",\"&T1283&\",\"&U1283=\",,,,,,\",\"صحیح\",M1283&\",\"&P1283&\",\"&Q1283&\",\"&R1283&\",\"&S1283&\",\"&T1283&\",\"&U1283)))","v":" "},{"$f":"IF(AND(ROW(X1283)>$Z$2,W1283=\" \"),\" \",IF(W1283=\" \",IF(AND(A1283=0,$Z$2<>$Z$4),\"دراین ردیف اصلاحاتی وجود ندارد . لطفا ردیفی را خالی نگذارید\",W1283),W1283))","v":" "},{"$f":"CONCATENATE(A1283,\",\",D1283,\",\",E1283,\",\",F1283,\",\",G1283,\",\",H1283,\",\",I1283,\",\",K1283,\",\",,\",\",J1283,\",\",\",\",V1283,\",\")","v":",,,,,,,,,,,,"}]
[null,{"$f":"IF(A1295=0,\" \",IF(ISNA(MATCH(A1295,Personnel!A:A,0)),\"وجود ندارد\",LOOKUP(A1295,Personnel!A:A,Personnel!B:B)))","v":" "},{"$f":"IF(A1295=0,\" \",IF(ISNA(MATCH(A1295,Personnel!A:A,0)),\"وجود ندارد\",LOOKUP(A1295,Personnel!A:A,Personnel!C:C)))","v":" "},null,null,null,null,null,null,null,null,"","",1,0," "," ",""," "," ","",null," "," ",",,,,,,,,,,,,"]
[null,{"$f":"IF(A1303=0,\" \",IF(ISNA(MATCH(A1303,Personnel!A:A,0)),\"وجود ندارد\",LOOKUP(A1303,Personnel!A:A,Personnel!B:B)))","v":" "},{"$f":"IF(A1303=0,\" \",IF(ISNA(MATCH(A1303,Personnel!A:A,0)),\"وجود ندارد\",LOOKUP(A1303,Personnel!A:A,Personnel!C:C)))","v":" "},null,null,null,null,null,null,null,null,"","",1,0," "," ",""," "," ","",null," "," ",",,,,,,,,,,,,"]
[null,{"$f":"IF(A1313=0,\" \",IF(ISNA(MATCH(A1313,Personnel!A:A,0)),\"وجود ندارد\",LOOKUP(A1313,Personnel!A:A,Personnel!B:B)))","v":" "},{"$f":"IF(A1313=0,\" \",IF(ISNA(MATCH(A1313,Personnel!A:A,0)),\"وجود ندارد\",LOOKUP(A1313,Personnel!A:A,Personnel!C:C)))","v":" "},null,null,null,null,null,null,null,null,"","",1,0," "," ",""," "," ","",null," "," ",",,,,,,,,,,,,"]
[null,{"$f":"IF(A1325=0,\" \",IF(ISNA(MATCH(A1325,Personnel!A:A,0)),\"وجود ندارد\",LOOKUP(A1325,Personnel!A:A,Personnel!B:B)))","v":" "},{"$f":"IF(A1325=0,\" \",IF(ISNA(MATCH(A1325,Personnel!A:A,0)),\"وجود ندارد\",LOOKUP(A1325,Personnel!A:A,Personnel!C:C)))","v":" "},null,null,null,null,null,null,null,null,"","",1,0," "," ",""," "," ","",null," "," ",",,,,,,,,,,,,"]
[null,{"$f":"IF(A1332=0,\" \",IF(ISNA(MATCH(A1332,Personnel!A:A,0)),\"وجود ندارد\",LOOKUP(A1332,Personnel!A:A,Personnel!B:B)))","v":" "},{"$f":"IF(A1332=0,\" \",IF(ISNA(MATCH(A1332,Personnel!A:A,0)),\"وجود ندارد\",LOOKUP(A1332,Personnel!A:A,Personnel!C:C)))","v":" "},null,null,null,null,null,null,null,null,"","",1,0," "," ",""," "," ","",null," "," ",",,,,,,,,,,,,"]
[null,{"$f":"IF(A1335=0,\" \",IF(ISNA(MATCH(A1335,Personnel!A:A,0)),\"وجود ندارد\",LOOKUP(A1335,Personnel!A:A,Personnel!B:B)))","v":" "},{"$f":"IF(A1335=0,\" \",IF(ISNA(MATCH(A1335,Personnel!A:A,0)),\"وجود ندارد\",LOOKUP(A1335,Personnel!A:A,Personnel!C:C)))","v":" "},null,null,null,null,null,null,null,null,"","",1,0," "," ",""," "," ","",null," "," ",",,,,,,,,,,,,"]
[null,{"$f":"IF(A1344=0,\" \",IF(ISNA(MATCH(A1344,Personnel!A:A,0)),\"وجود ندارد\",LOOKUP(A1344,Personnel!A:A,Personnel!B:B)))","v":" "},{"$f":"IF(A1344=0,\" \",IF(ISNA(MATCH(A1344,Personnel!A:A,0)),\"وجود ندارد\",LOOKUP(A1344,Personnel!A:A,Personnel!C:C)))","v":" "},null,null,null,null,null,null,null,null,"","",1,0," "," ",""," "," ","",null," "," ",",,,,,,,,,,,,"]
[null,{"$f":"IF(A1353=0,\" \",IF(ISNA(MATCH(A1353,Personnel!A:A,0)),\"وجود ندارد\",LOOKUP(A1353,Personnel!A:A,Personnel!B:B)))","v":" "},{"$f":"IF(A1353=0,\" \",IF(ISNA(MATCH(A1353,Personnel!A:A,0)),\"وجود ندارد\",LOOKUP(A1353,Personnel!A:A,Personnel!C:C)))","v":" "},null,null,null,null,null,null,null,null,"","",1,0," "," ",""," "," ","",null," "," ",",,,,,,,,,,,,"]
[null,{"$f":"IF(A1365=0,\" \",IF(ISNA(MATCH(A1365,Personnel!A:A,0)),\"وجود ندارد\",LOOKUP(A1365,Personnel!A:A,Personnel!B:B)))","v":" "},{"$f":"IF(A1365=0,\" \",IF(ISNA(MATCH(A1365,Personnel!A:A,0)),\"وجود ندارد\",LOOKUP(A1365,Personnel!A:A,Personnel!C:C)))","v":" "},null,null,null,null,null,null,null,null,"","",1,0," "," ",""," "," ","",null," "," ",",,,,,,,,,,,,"]
[null,{"$f":"IF(A1372=0,\" \",IF(ISNA(MATCH(A1372,Personnel!A:A,0)),\"وجود ندارد\",LOOKUP(A1372,Personnel!A:A,Personnel!B:B)))","v":" "},{"$f":"IF(A1372=0,\" \",IF(ISNA(MATCH(A1372,Personnel!A:A,0)),\"وجود ندارد\",LOOKUP(A1372,Personnel!A:A,Personnel!C:C)))","v":" "},null,null,null,null,null,null,null,null,"","",1,0," "," ",""," "," ","",null," "," ",",,,,,,,,,,,,"]
[null,{"$f":"IF(A1384=0,\" \",IF(ISNA(MATCH(A1384,Personnel!A:A,0)),\"وجود ندارد\",LOOKUP(A1384,Personnel!A:A,Personnel!B:B)))","v":" "},{"$f":"IF(A1384=0,\" \",IF(ISNA(MATCH(A1384,Personnel!A:A,0)),\"وجود ندارد\",LOOKUP(A1384,Personnel!A:A,Personnel!C:C)))","v":" "},null,null,null,null,null,null,null,null,"","",1,0," "," ",""," "," ","",null," "," ",",,,,,,,,,,,,"]
[null,{"$f":"IF(A1393=0,\" \",IF(ISNA(MATCH(A1393,Personnel!A:A,0)),\"وجود ندارد\",LOOKUP(A1393,Personnel!A:A,Personnel!B:B)))","v":" "},{"$f":"IF(A1393=0,\" \",IF(ISNA(MATCH(A1393,Personnel!A:A,0)),\"وجود ندارد\",LOOKUP(A1393,Personnel!A:A,Personnel!C:C)))","v":" "},null,null,null,null,null,null,null,null,"","",1,0," "," ",""," "," ","",null," "," ",",,,,,,,,,,,,"]
[null,{"$f":"IF(A1402=0,\" \",IF(ISNA(MATCH(A1402,Personnel!A:A,0)),\"وجود ندارد\",LOOKUP(A1402,Personnel!A:A,Personnel!B:B)))","v":" "},{"$f":"IF(A1402=0,\" \",IF(ISNA(MATCH(A1402,Personnel!A:A,0)),\"وجود ندارد\",LOOKUP(A1402,Personnel!A:A,Personnel!C:C)))","v":" "},null,null,null,null,null,null,null,null,"","",1,0," "," ",""," "," ","",null," "," ",",,,,,,,,,,,,"]
[null,{"$f":"IF(A1405=0,\" \",IF(ISNA(MATCH(A1405,Personnel!A:A,0)),\"وجود ندارد\",LOOKUP(A1405,Personnel!A:A,Personnel!B:B)))","v":" "},{"$f":"IF(A1405=0,\" \",IF(ISNA(MATCH(A1405,Personnel!A:A,0)),\"وجود ندارد\",LOOKUP(A1405,Personnel!A:A,Personnel!C:C)))","v":" "},null,null,null,null,null,null,null,null,"","",1,0," "," ",""," "," ","",null," "," ",",,,,,,,,,,,,"]
[null,{"$f":"IF(A1417=0,\" \",IF(ISNA(MATCH(A1417,Personnel!A:A,0)),\"وجود ندارد\",LOOKUP(A1417,Personnel!A:A,Personnel!B:B)))","v":" "},{"$f":"IF(A1417=0,\" \",IF(ISNA(MATCH(A1417,Personnel!A:A,0)),\"وجود ندارد\",LOOKUP(A1417,Personnel!A:A,Personnel!C:C)))","v":" "},null,null,null,null,null,null,null,null,"","",1,0," "," ",""," "," ","",null," "," ",",,,,,,,,,,,,"]
[null,{"$f":"IF(A1424=0,\" \",IF(ISNA(MATCH(A1424,Personnel!A:A,0)),\"وجود ندارد\",LOOKUP(A1424,Personnel!A:A,Personnel!B:B)))","v":" "},{"$f":"IF(A1424=0,\" \",IF(ISNA(MATCH(A1424,Personnel!A:A,0)),\"وجود ندارد\",LOOKUP(A1424,Personnel!A:A,Personnel!C:C)))","v":" "},null,null,null,null,null,null,null,null,"","",1,0," "," ",""," "," ","",null," "," ",",,,,,,,,,,,,"]
[null,{"$f":"IF(A1434=0,\" \",IF(ISNA(MATCH(A1434,Personnel!A:A,0)),\"وجود ندارد\",LOOKUP(A1434,Personnel!A:A,Personnel!B:B)))","v":" "},{"$f":"IF(A1434=0,\" \",IF(ISNA(MATCH(A1434,Personnel!A:A,0)),\"وجود ندارد\",LOOKUP(A1434,Personnel!A:A,Personnel!C:C)))","v":" "},null,null,null,null,null,null,null,null,"","",1,0," "," ",""," "," ","",null," "," ",",,,,,,,,,,,,"]
[null,{"$f":"IF(A1442=0,\" \",IF(ISNA(MATCH(A1442,Personnel!A:A,0)),\"وجود ندارد\",LOOKUP(A1442,Personnel!A:A,Personnel!B:B)))","v":" "},{"$f":"IF(A1442=0,\" \",IF(ISNA(MATCH(A1442,Personnel!A:A,0)),\"وجود ندارد\",LOOKUP(A1442,Personnel!A:A,Personnel!C:C)))","v":" "},null,null,null,null,null,null,null,null,"","",1,0," "," ",""," "," ","",null," "," ",",,,,,,,,,,,,"]
[null,{"$f":"IF(A1454=0,\" \",IF(ISNA(MATCH(A1454,Personnel!A:A,0)),\"وجود ندارد\",LOOKUP(A1454,Personnel!A:A,Personnel!B:B)))","v":" "},{"$f":"IF(A1454=0,\" \",IF(ISNA(MATCH(A1454,Personnel!A:A,0)),\"وجود ندارد\",LOOKUP(A1454,Personnel!A:A,Personnel!C:C)))","v":" "},null,null,null,null,null,null,null,null,"","",1,0," "," ",""," "," ","",null," "," ",",,,,,,,,,,,,"]
[null,{"$f":"IF(A1466=0,\" \",IF(ISNA(MATCH(A1466,Personnel!A:A,0)),\"وجود ندارد\",LOOKUP(A1466,Personnel!A:A,Personnel!B:B)))","v":" "},{"$f":"IF(A1466=0,\" \",IF(ISNA(MATCH(A1466,Personnel!A:A,0)),\"وجود ندارد\",LOOKUP(A1466,Personnel!A:A,Personnel!C:C)))","v":" "},null,null,null,null,null,null,null,null,"","",1,0," "," ",""," "," ","",null," "," ",",,,,,,,,,,,,"]
[null,{"$f":"IF(A1473=0,\" \",IF(ISNA(MATCH(A1473,Personnel!A:A,0)),\"وجود ندارد\",LOOKUP(A1473,Personnel!A:A,Personnel!B:B)))","v":" "},{"$f":"IF(A1473=0,\" \",IF(ISNA(MATCH(A1473,Personnel!A:A,0)),\"وجود ندارد\",LOOKUP(A1473,Personnel!A:A,Personnel!C:C)))","v":" "},null,null,null,null,null,null,null,null,"","",1,0," "," ",""," "," ","",null," "," ",",,,,,,,,,,,,"]
[null,{"$f":"IF(A1475=0,\" \",IF(ISNA(MATCH(A1475,Personnel!A:A,0)),\"وجود ندارد\",LOOKUP(A1475,Personnel!A:A,Personnel!B:B)))","v":" "},{"$f":"IF(A1475=0,\" \",IF(ISNA(MATCH(A1475,Personnel!A:A,0)),\"وجود ندارد\",LOOKUP(A1475,Personnel!A:A,Personnel!C:C)))","v":" "},null,null,null,null,null,null,null,null,{"$f":"IF(K1475=0,\"\",IF(K1475=1,\"ایجاد\",IF(K1475=2,\"اصلاح\",\"حذف\")))","v":""},{"$f":"IF(AND(K1475=3,H1475+I1475+J1475+F1475+G1475<>0),\"برای عمل حذف اطلاعات اضافی وارد شده است\",\"\")","v":""},{"$f":"IF(AND(K1475<>3,F1475<900000),1,0)","v":1},{"$f":"IF(F1475>991231,1,0)","v":0}," "," ",{"$f":"IF(AND(A1475=0,H1475+I1475+J1475+F1475+G1475+K1475+E1475+D1475<>0),\"در این ردیف شماره پرسنلی وجود ندارد اما اطلاعات دیگر وارد شده است\",\"\")","v":""},{"$f":"IF(A1475=0,\" \",IF(D1475=0,\"کد وام وارد نشده است\",\"\"))","v":" "}," ",{"$f":"IF(AND(OR(K1475=1,K1475=2),H1475=0),\"مبلغ قسط نمی تواند خالی باشد\",\"\")","v":""},null,{"$f":"IF(AND(A1475=0,A1476<>0),\"دراین ردیف اصلاحاتی وجود ندارد . لطفا ردیفی را خالی باقی نگذارید\",IF(AND(A1475=0,R1475=\"\"),\" \",IF(M1475&\",\"&P1475&\",\"&Q1475&\",\"&R1475&\",\"&S1475&\",\"&T1475&\",\"&U1475=\",,,,,,\",\"صحیح\",M1475&\",\"&P1475&\",\"&Q1475&\",\"&R1475&\",\"&S1475&\",\"&T1475&\",\"&U1475)))","v":" "},{"$f":"IF(AND(ROW(X1475)>$Z$2,W1475=\" \"),\" \",IF(W1475=\" \",IF(AND(A1475=0,$Z$2<>$Z$4),\"دراین ردیف اصلاحاتی وجود ندارد . لطفا ردیفی را خالی نگذارید\",W1475),W1475))","v":" "},{"$f":"CONCATENATE(A1475,\",\",D1475,\",\",E1475,\",\",F1475,\",\",G1475,\",\",H1475,\",\",I1475,\",\",K1475,\",\",,\",\",J1475,\",\",\",\",V1475,\",\")","v":",,,,,,,,,,,,"}]
[null,{"$f":"IF(A1491=0,\" \",IF(ISNA(MATCH(A1491,Personnel!A:A,0)),\"وجود ندارد\",LOOKUP(A1491,Personnel!A:A,Personnel!B:B)))","v":" "},{"$f":"IF(A1491=0,\" \",IF(ISNA(MATCH(A1491,Personnel!A:A,0)),\"وجود ندارد\",LOOKUP(A1491,Personnel!A:A,Personnel!C:C)))","v":" "},null,null,null,null,null,null,null,null,"","",1,0," "," ",""," "," ","",null," "," ",",,,,,,,,,,,,"]
[null,{"$f":"IF(A1494=0,\" \",IF(ISNA(MATCH(A1494,Personnel!A:A,0)),\"وجود ندارد\",LOOKUP(A1494,Personnel!A:A,Personnel!B:B)))","v":" "},{"$f":"IF(A1494=0,\" \",IF(ISNA(MATCH(A1494,Personnel!A:A,0)),\"وجود ندارد\",LOOKUP(A1494,Personnel!A:A,Personnel!C:C)))","v":" "},null,null,null,null,null,null,null,null,"","",1,0," "," ",""," "," ","",null," "," ",",,,,,,,,,,,,"]
[null,{"$f":"IF(A1506=0,\" \",IF(ISNA(MATCH(A1506,Personnel!A:A,0)),\"وجود ندارد\",LOOKUP(A1506,Personnel!A:A,Personnel!B:B)))","v":" "},{"$f":"IF(A1506=0,\" \",IF(ISNA(MATCH(A1506,Personnel!A:A,0)),\"وجود ندارد\",LOOKUP(A1506,Personnel!A:A,Personnel!C:C)))","v":" "},null,null,null,null,null,null,null,null,"","",1,0," "," ",""," "," ","",null," "," ",",,,,,,,,,,,,"]
[null,{"$f":"IF(A1514=0,\" \",IF(ISNA(MATCH(A1514,Personnel!A:A,0)),\"وجود ندارد\",LOOKUP(A1514,Personnel!A:A,Personnel!B:B)))","v":" "},{"$f":"IF(A1514=0,\" \",IF(ISNA(MATCH(A1514,Personnel!A:A,0)),\"وجود ندارد\",LOOKUP(A1514,Personnel!A:A,Personnel!C:C)))","v":" "},null,null,null,null,null,null,null,null,"","",1,0," "," ",""," "," ","",null," "," ",",,,,,,,,,,,,"]
[null,{"$f":"IF(A1524=0,\" \",IF(ISNA(MATCH(A1524,Personnel!A:A,0)),\"وجود ندارد\",LOOKUP(A1524,Personnel!A:A,Personnel!B:B)))","v":" "},{"$f":"IF(A1524=0,\" \",IF(ISNA(MATCH(A1524,Personnel!A:A,0)),\"وجود ندارد\",LOOKUP(A1524,Personnel!A:A,Personnel!C:C)))","v":" "},null,null,null,null,null,null,null,null,"","",1,0," "," ",""," "," ","",null," "," ",",,,,,,,,,,,,"]
[null,{"$f":"IF(A1536=0,\" \",IF(ISNA(MATCH(A1536,Personnel!A:A,0)),\"وجود ندارد\",LOOKUP(A1536,Personnel!A:A,Personnel!B:B)))","v":" "},{"$f":"IF(A1536=0,\" \",IF(ISNA(MATCH(A1536,Personnel!A:A,0)),\"وجود ندارد\",LOOKUP(A1536,Personnel!A:A,Personnel!C:C)))","v":" "},null,null,null,null,null,null,null,null,"","",1,0," "," ",""," "," ","",null," "," ",",,,,,,,,,,,,"]
[null,{"$f":"IF(A1543=0,\" \",IF(ISNA(MATCH(A1543,Personnel!A:A,0)),\"وجود ندارد\",LOOKUP(A1543,Personnel!A:A,Personnel!B:B)))","v":" "},{"$f":"IF(A1543=0,\" \",IF(ISNA(MATCH(A1543,Personnel!A:A,0)),\"وجود ندارد\",LOOKUP(A1543,Personnel!A:A,Personnel!C:C)))","v":" "},null,null,null,null,null,null,null,null,"","",1,0," "," ",""," "," ","",null," "," ",",,,,,,,,,,,,"]
[null,{"$f":"IF(A1546=0,\" \",IF(ISNA(MATCH(A1546,Personnel!A:A,0)),\"وجود ندارد\",LOOKUP(A1546,Personnel!A:A,Personnel!B:B)))","v":" "},{"$f":"IF(A1546=0,\" \",IF(ISNA(MATCH(A1546,Personnel!A:A,0)),\"وجود ندارد\",LOOKUP(A1546,Personnel!A:A,Personnel!C:C)))","v":" "},null,null,null,null,null,null,null,null,"","",1,0," "," ",""," "," ","",null," "," ",",,,,,,,,,,,,"]
[null,{"$f":"IF(A1555=0,\" \",IF(ISNA(MATCH(A1555,Personnel!A:A,0)),\"وجود ندارد\",LOOKUP(A1555,Personnel!A:A,Personnel!B:B)))","v":" "},{"$f":"IF(A1555=0,\" \",IF(ISNA(MATCH(A1555,Personnel!A:A,0)),\"وجود ندارد\",LOOKUP(A1555,Personnel!A:A,Personnel!C:C)))","v":" "},null,null,null,null,null,null,null,null,"","",1,0," "," ",""," "," ","",null," "," ",",,,,,,,,,,,,"]
[null,{"$f":"IF(A1564=0,\" \",IF(ISNA(MATCH(A1564,Personnel!A:A,0)),\"وجود ندارد\",LOOKUP(A1564,Personnel!A:A,Personnel!B:B)))","v":" "},{"$f":"IF(A1564=0,\" \",IF(ISNA(MATCH(A1564,Personnel!A:A,0)),\"وجود ندارد\",LOOKUP(A1564,Personnel!A:A,Personnel!C:C)))","v":" "},null,null,null,null,null,null,null,null,"","",1,0," "," ",""," "," ","",null," "," ",",,,,,,,,,,,,"]
[null,{"$f":"IF(A1576=0,\" \",IF(ISNA(MATCH(A1576,Personnel!A:A,0)),\"وجود ندارد\",LOOKUP(A1576,Personnel!A:A,Personnel!B:B)))","v":" "},{"$f":"IF(A1576=0,\" \",IF(ISNA(MATCH(A1576,Personnel!A:A,0)),\"وجود ندارد\",LOOKUP(A1576,Personnel!A:A,Personnel!C:C)))","v":" "},null,null,null,null,null,null,null,null,"","",1,0," "," ",""," "," ","",null," "," ",",,,,,,,,,,,,"]
[null,{"$f":"IF(A1583=0,\" \",IF(ISNA(MATCH(A1583,Personnel!A:A,0)),\"وجود ندارد\",LOOKUP(A1583,Personnel!A:A,Personnel!B:B)))","v":" "},{"$f":"IF(A1583=0,\" \",IF(ISNA(MATCH(A1583,Personnel!A:A,0)),\"وجود ندارد\",LOOKUP(A1583,Personnel!A:A,Personnel!C:C)))","v":" "},null,null,null,null,null,null,null,null,"","",1,0," "," ",""," "," ","",null," "," ",",,,,,,,,,,,,"]
[null,{"$f":"IF(A1595=0,\" \",IF(ISNA(MATCH(A1595,Personnel!A:A,0)),\"وجود ندارد\",LOOKUP(A1595,Personnel!A:A,Personnel!B:B)))","v":" "},{"$f":"IF(A1595=0,\" \",IF(ISNA(MATCH(A1595,Personnel!A:A,0)),\"وجود ندارد\",LOOKUP(A1595,Personnel!A:A,Personnel!C:C)))","v":" "},null,null,null,null,null,null,null,null,"","",1,0," "," ",""," "," ","",null," "," ",",,,,,,,,,,,,"]
[null,{"$f":"IF(A1604=0,\" \",IF(ISNA(MATCH(A1604,Personnel!A:A,0)),\"وجود ندارد\",LOOKUP(A1604,Personnel!A:A,Personnel!B:B)))","v":" "},{"$f":"IF(A1604=0,\" \",IF(ISNA(MATCH(A1604,Personnel!A:A,0)),\"وجود ندارد\",LOOKUP(A1604,Personnel!A:A,Personnel!C:C)))","v":" "},null,null,null,null,null,null,null,null,"","",1,0," "," ",""," "," ","",null," "," ",",,,,,,,,,,,,"]
[null,{"$f":"IF(A1613=0,\" \",IF(ISNA(MATCH(A1613,Personnel!A:A,0)),\"وجود ندارد\",LOOKUP(A1613,Personnel!A:A,Personnel!B:B)))","v":" "},{"$f":"IF(A1613=0,\" \",IF(ISNA(MATCH(A1613,Personnel!A:A,0)),\"وجود ندارد\",LOOKUP(A1613,Personnel!A:A,Personnel!C:C)))","v":" "},null,null,null,null,null,null,null,null,"","",1,0," "," ",""," "," ","",null," "," ",",,,,,,,,,,,,"]
[null,{"$f":"IF(A1616=0,\" \",IF(ISNA(MATCH(A1616,Personnel!A:A,0)),\"وجود ندارد\",LOOKUP(A1616,Personnel!A:A,Personnel!B:B)))","v":" "},{"$f":"IF(A1616=0,\" \",IF(ISNA(MATCH(A1616,Personnel!A:A,0)),\"وجود ندارد\",LOOKUP(A1616,Personnel!A:A,Personnel!C:C)))","v":" "},null,null,null,null,null,null,null,null,"","",1,0," "," ",""," "," ","",null," "," ",",,,,,,,,,,,,"]
[null,{"$f":"IF(A1632=0,\" \",IF(ISNA(MATCH(A1632,Personnel!A:A,0)),\"وجود ندارد\",LOOKUP(A1632,Personnel!A:A,Personnel!B:B)))","v":" "},{"$f":"IF(A1632=0,\" \",IF(ISNA(MATCH(A1632,Personnel!A:A,0)),\"وجود ندارد\",LOOKUP(A1632,Personnel!A:A,Personnel!C:C)))","v":" "},null,null,null,null,null,null,null,null,"","",1,0," "," ",""," "," ","",null," "," ",",,,,,,,,,,,,"]
[null,{"$f":"IF(A1635=0,\" \",IF(ISNA(MATCH(A1635,Personnel!A:A,0)),\"وجود ندارد\",LOOKUP(A1635,Personnel!A:A,Personnel!B:B)))","v":" "},{"$f":"IF(A1635=0,\" \",IF(ISNA(MATCH(A1635,Personnel!A:A,0)),\"وجود ندارد\",LOOKUP(A1635,Personnel!A:A,Personnel!C:C)))","v":" "},null,null,null,null,null,null,null,null,"","",1,0," "," ",""," "," ","",null," "," ",",,,,,,,,,,,,"]
[null,{"$f":"IF(A1645=0,\" \",IF(ISNA(MATCH(A1645,Personnel!A:A,0)),\"وجود ندارد\",LOOKUP(A1645,Personnel!A:A,Personnel!B:B)))","v":" "},{"$f":"IF(A1645=0,\" \",IF(ISNA(MATCH(A1645,Personnel!A:A,0)),\"وجود ندارد\",LOOKUP(A1645,Personnel!A:A,Personnel!C:C)))","v":" "},null,null,null,null,null,null,null,null,"","",1,0," "," ",""," "," ","",null," "," ",",,,,,,,,,,,,"]
[null,{"$f":"IF(A1653=0,\" \",IF(ISNA(MATCH(A1653,Personnel!A:A,0)),\"وجود ندارد\",LOOKUP(A1653,Personnel!A:A,Personnel!B:B)))","v":" "},{"$f":"IF(A1653=0,\" \",IF(ISNA(MATCH(A1653,Personnel!A:A,0)),\"وجود ندارد\",LOOKUP(A1653,Personnel!A:A,Personnel!C:C)))","v":" "},null,null,null,null,null,null,null,null,"","",1,0," "," ",""," "," ","",null," "," ",",,,,,,,,,,,,"]
[null,{"$f":"IF(A1665=0,\" \",IF(ISNA(MATCH(A1665,Personnel!A:A,0)),\"وجود ندارد\",LOOKUP(A1665,Personnel!A:A,Personnel!B:B)))","v":" "},{"$f":"IF(A1665=0,\" \",IF(ISNA(MATCH(A1665,Personnel!A:A,0)),\"وجود ندارد\",LOOKUP(A1665,Personnel!A:A,Personnel!C:C)))","v":" "},null,null,null,null,null,null,null,null,"","",1,0," "," ",""," "," ","",null," "," ",",,,,,,,,,,,,"]
[null,{"$f":"IF(A1672=0,\" \",IF(ISNA(MATCH(A1672,Personnel!A:A,0)),\"وجود ندارد\",LOOKUP(A1672,Personnel!A:A,Personnel!B:B)))","v":" "},{"$f":"IF(A1672=0,\" \",IF(ISNA(MATCH(A1672,Personnel!A:A,0)),\"وجود ندارد\",LOOKUP(A1672,Personnel!A:A,Personnel!C:C)))","v":" "},null,null,null,null,null,null,null,null,"","",1,0," "," ",""," "," ","",null," "," ",",,,,,,,,,,,,"]
[null,{"$f":"IF(A1684=0,\" \",IF(ISNA(MATCH(A1684,Personnel!A:A,0)),\"وجود ندارد\",LOOKUP(A1684,Personnel!A:A,Personnel!B:B)))","v":" "},{"$f":"IF(A1684=0,\" \",IF(ISNA(MATCH(A1684,Personnel!A:A,0)),\"وجود ندارد\",LOOKUP(A1684,Personnel!A:A,Personnel!C:C)))","v":" "},null,null,null,null,null,null,null,null,"","",1,0," "," ",""," "," ","",null," "," ",",,,,,,,,,,,,"]
[null,{"$f":"IF(A1694=0,\" \",IF(ISNA(MATCH(A1694,Personnel!A:A,0)),\"وجود ندارد\",LOOKUP(A1694,Personnel!A:A,Personnel!B:B)))","v":" "},{"$f":"IF(A1694=0,\" \",IF(ISNA(MATCH(A1694,Personnel!A:A,0)),\"وجود ندارد\",LOOKUP(A1694,Personnel!A:A,Personnel!C:C)))","v":" "},null,null,null,null,null,null,null,null,"","",1,0," "," ",""," "," ","",null," "," ",",,,,,,,,,,,,"]
[null,{"$f":"IF(A1702=0,\" \",IF(ISNA(MATCH(A1702,Personnel!A:A,0)),\"وجود ندارد\",LOOKUP(A1702,Personnel!A:A,Personnel!B:B)))","v":" "},{"$f":"IF(A1702=0,\" \",IF(ISNA(MATCH(A1702,Personnel!A:A,0)),\"وجود ندارد\",LOOKUP(A1702,Personnel!A:A,Personnel!C:C)))","v":" "},null,null,null,null,null,null,null,null,"","",1,0," "," ",""," "," ","",null," "," ",",,,,,,,,,,,,"]
[null,{"$f":"IF(A1705=0,\" \",IF(ISNA(MATCH(A1705,Personnel!A:A,0)),\"وجود ندارد\",LOOKUP(A1705,Personnel!A:A,Personnel!B:B)))","v":" "},{"$f":"IF(A1705=0,\" \",IF(ISNA(MATCH(A1705,Personnel!A:A,0)),\"وجود ندارد\",LOOKUP(A1705,Personnel!A:A,Personnel!C:C)))","v":" "},null,null,null,null,null,null,null,null,"","",1,0," "," ",""," "," ","",null," "," ",",,,,,,,,,,,,"]
[null,{"$f":"IF(A1717=0,\" \",IF(ISNA(MATCH(A1717,Personnel!A:A,0)),\"وجود ندارد\",LOOKUP(A1717,Personnel!A:A,Personnel!B:B)))","v":" "},{"$f":"IF(A1717=0,\" \",IF(ISNA(MATCH(A1717,Personnel!A:A,0)),\"وجود ندارد\",LOOKUP(A1717,Personnel!A:A,Personnel!C:C)))","v":" "},null,null,null,null,null,null,null,null,"","",1,0," "," ",""," "," ","",null," "," ",",,,,,,,,,,,,"]
[null,{"$f":"IF(A1724=0,\" \",IF(ISNA(MATCH(A1724,Personnel!A:A,0)),\"وجود ندارد\",LOOKUP(A1724,Personnel!A:A,Personnel!B:B)))","v":" "},{"$f":"IF(A1724=0,\" \",IF(ISNA(MATCH(A1724,Personnel!A:A,0)),\"وجود ندارد\",LOOKUP(A1724,Personnel!A:A,Personnel!C:C)))","v":" "},null,null,null,null,null,null,null,null,"","",1,0," "," ",""," "," ","",null," "," ",",,,,,,,,,,,,"]
[null,{"$f":"IF(A1735=0,\" \",IF(ISNA(MATCH(A1735,Personnel!A:A,0)),\"وجود ندارد\",LOOKUP(A1735,Personnel!A:A,Personnel!B:B)))","v":" "},{"$f":"IF(A1735=0,\" \",IF(ISNA(MATCH(A1735,Personnel!A:A,0)),\"وجود ندارد\",LOOKUP(A1735,Personnel!A:A,Personnel!C:C)))","v":" "},null,null,null,null,null,null,null,null,"","",1,0," "," ",""," "," ","",null," "," ",",,,,,,,,,,,,"]
[null,{"$f":"IF(A1742=0,\" \",IF(ISNA(MATCH(A1742,Personnel!A:A,0)),\"وجود ندارد\",LOOKUP(A1742,Personnel!A:A,Personnel!B:B)))","v":" "},{"$f":"IF(A1742=0,\" \",IF(ISNA(MATCH(A1742,Personnel!A:A,0)),\"وجود ندارد\",LOOKUP(A1742,Personnel!A:A,Personnel!C:C)))","v":" "},null,null,null,null,null,null,null,null,"","",1,0," "," ",""," "," ","",null," "," ",",,,,,,,,,,,,"]
[null,{"$f":"IF(A1754=0,\" \",IF(ISNA(MATCH(A1754,Personnel!A:A,0)),\"وجود ندارد\",LOOKUP(A1754,Personnel!A:A,Personnel!B:B)))","v":" "},{"$f":"IF(A1754=0,\" \",IF(ISNA(MATCH(A1754,Personnel!A:A,0)),\"وجود ندارد\",LOOKUP(A1754,Personnel!A:A,Personnel!C:C)))","v":" "},null,null,null,null,null,null,null,null,"","",1,0," "," ",""," "," ","",null," "," ",",,,,,,,,,,,,"]
[null,{"$f":"IF(A1757=0,\" \",IF(ISNA(MATCH(A1757,Personnel!A:A,0)),\"وجود ندارد\",LOOKUP(A1757,Personnel!A:A,Personnel!B:B)))","v":" "},{"$f":"IF(A1757=0,\" \",IF(ISNA(MATCH(A1757,Personnel!A:A,0)),\"وجود ندارد\",LOOKUP(A1757,Personnel!A:A,Personnel!C:C)))","v":" "},null,null,null,null,null,null,null,null,"","",1,0," "," ",""," "," ","",null," "," ",",,,,,,,,,,,,"]
[null,{"$f":"IF(A1773=0,\" \",IF(ISNA(MATCH(A1773,Personnel!A:A,0)),\"وجود ندارد\",LOOKUP(A1773,Personnel!A:A,Personnel!B:B)))","v":" "},{"$f":"IF(A1773=0,\" \",IF(ISNA(MATCH(A1773,Personnel!A:A,0)),\"وجود ندارد\",LOOKUP(A1773,Personnel!A:A,Personnel!C:C)))","v":" "},null,null,null,null,null,null,null,null,"","",1,0," "," ",""," "," ","",null," "," ",",,,,,,,,,,,,"]
[null,{"$f":"IF(A1776=0,\" \",IF(ISNA(MATCH(A1776,Personnel!A:A,0)),\"وجود ندارد\",LOOKUP(A1776,Personnel!A:A,Personnel!B:B)))","v":" "},{"$f":"IF(A1776=0,\" \",IF(ISNA(MATCH(A1776,Personnel!A:A,0)),\"وجود ندارد\",LOOKUP(A1776,Personnel!A:A,Personnel!C:C)))","v":" "},null,null,null,null,null,null,null,null,"","",1,0," "," ",""," "," ","",null," "," ",",,,,,,,,,,,,"]
[null,{"$f":"IF(A1787=0,\" \",IF(ISNA(MATCH(A1787,Personnel!A:A,0)),\"وجود ندارد\",LOOKUP(A1787,Personnel!A:A,Personnel!B:B)))","v":" "},{"$f":"IF(A1787=0,\" \",IF(ISNA(MATCH(A1787,Personnel!A:A,0)),\"وجود ندارد\",LOOKUP(A1787,Personnel!A:A,Personnel!C:C)))","v":" "},null,null,null,null,null,null,null,null,"","",1,0," "," ",""," "," ","",null," "," ",",,,,,,,,,,,,"]
[null,{"$f":"IF(A1794=0,\" \",IF(ISNA(MATCH(A1794,Personnel!A:A,0)),\"وجود ندارد\",LOOKUP(A1794,Personnel!A:A,Personnel!B:B)))","v":" "},{"$f":"IF(A1794=0,\" \",IF(ISNA(MATCH(A1794,Personnel!A:A,0)),\"وجود ندارد\",LOOKUP(A1794,Personnel!A:A,Personnel!C:C)))","v":" "},null,null,null,null,null,null,null,null,"","",1,0,{"$f":"IF(A1794=0,\" \",IF(N1794+O1794<>0,\"تاریخ اشتباه است\",\"\"))","v":" "},{"$f":"IF(A1794=0,\" \",IF(AND(G1794<>0,H1794>G1794),\"مبلغ قسط از مبلغ کل بیشتر است\",\"\"))","v":" "},""," ",{"$f":"IF(A1794=0,\" \",IF(OR(K1794<1,K1794>3),\"نوع عمل اشتباه است\",\"\"))","v":" "},"",null," "," ",",,,,,,,,,,,,"]
[null,{"$f":"IF(A1806=0,\" \",IF(ISNA(MATCH(A1806,Personnel!A:A,0)),\"وجود ندارد\",LOOKUP(A1806,Personnel!A:A,Personnel!B:B)))","v":" "},{"$f":"IF(A1806=0,\" \",IF(ISNA(MATCH(A1806,Personnel!A:A,0)),\"وجود ندارد\",LOOKUP(A1806,Personnel!A:A,Personnel!C:C)))","v":" "},null,null,null,null,null,null,null,null,"","",1,0," "," ",""," "," ","",null," "," ",",,,,,,,,,,,,"]
[null,{"$f":"IF(A1813=0,\" \",IF(ISNA(MATCH(A1813,Personnel!A:A,0)),\"وجود ندارد\",LOOKUP(A1813,Personnel!A:A,Personnel!B:B)))","v":" "},{"$f":"IF(A1813=0,\" \",IF(ISNA(MATCH(A1813,Personnel!A:A,0)),\"وجود ندارد\",LOOKUP(A1813,Personnel!A:A,Personnel!C:C)))","v":" "},null,null,null,null,null,null,null,null,"","",1,0," "," ",""," "," ","",null," "," ",",,,,,,,,,,,,"]
[null,{"$f":"IF(A1825=0,\" \",IF(ISNA(MATCH(A1825,Personnel!A:A,0)),\"وجود ندارد\",LOOKUP(A1825,Personnel!A:A,Personnel!B:B)))","v":" "},{"$f":"IF(A1825=0,\" \",IF(ISNA(MATCH(A1825,Personnel!A:A,0)),\"وجود ندارد\",LOOKUP(A1825,Personnel!A:A,Personnel!C:C)))","v":" "},null,null,null,null,null,null,null,null,"","",1,0," "," ",""," "," ","",null," "," ",",,,,,,,,,,,,"]
[null,{"$f":"IF(A1827=0,\" \",IF(ISNA(MATCH(A1827,Personnel!A:A,0)),\"وجود ندارد\",LOOKUP(A1827,Personnel!A:A,Personnel!B:B)))","v":" "},{"$f":"IF(A1827=0,\" \",IF(ISNA(MATCH(A1827,Personnel!A:A,0)),\"وجود ندارد\",LOOKUP(A1827,Personnel!A:A,Personnel!C:C)))","v":" "},null,null,null,null,null,null,null,null,"","",1,0," "," ",""," "," ","",null," "," ",",,,,,,,,,,,,"]
[null,{"$f":"IF(A1843=0,\" \",IF(ISNA(MATCH(A1843,Personnel!A:A,0)),\"وجود ندارد\",LOOKUP(A1843,Personnel!A:A,Personnel!B:B)))","v":" "},{"$f":"IF(A1843=0,\" \",IF(ISNA(MATCH(A1843,Personnel!A:A,0)),\"وجود ندارد\",LOOKUP(A1843,Personnel!A:A,Personnel!C:C)))","v":" "},null,null,null,null,null,null,null,null,"","",1,0," "," ",""," "," ","",null," "," ",",,,,,,,,,,,,"]
[null,{"$f":"IF(A1846=0,\" \",IF(ISNA(MATCH(A1846,Personnel!A:A,0)),\"وجود ندارد\",LOOKUP(A1846,Personnel!A:A,Personnel!B:B)))","v":" "},{"$f":"IF(A1846=0,\" \",IF(ISNA(MATCH(A1846,Personnel!A:A,0)),\"وجود ندارد\",LOOKUP(A1846,Personnel!A:A,Personnel!C:C)))","v":" "},null,null,null,null,null,null,null,null,"","",1,0," "," ",""," "," ","",null," "," ",",,,,,,,,,,,,"]
[null,{"$f":"IF(A1862=0,\" \",IF(ISNA(MATCH(A1862,Personnel!A:A,0)),\"وجود ندارد\",LOOKUP(A1862,Personnel!A:A,Personnel!B:B)))","v":" "},{"$f":"IF(A1862=0,\" \",IF(ISNA(MATCH(A1862,Personnel!A:A,0)),\"وجود ندارد\",LOOKUP(A1862,Personnel!A:A,Personnel!C:C)))","v":" "},null,null,null,null,null,null,null,null,"","",1,0," "," ",""," "," ","",null," "," ",",,,,,,,,,,,,"]
[null,{"$f":"IF(A1866=0,\" \",IF(ISNA(MATCH(A1866,Personnel!A:A,0)),\"وجود ندارد\",LOOKUP(A1866,Personnel!A:A,Personnel!B:B)))","v":" "},{"$f":"IF(A1866=0,\" \",IF(ISNA(MATCH(A1866,Personnel!A:A,0)),\"وجود ندارد\",LOOKUP(A1866,Personnel!A:A,Personnel!C:C)))","v":" "},null,null,null,null,null,null,null,null,"","",1,0," "," ",""," "," ","",null," "," ",",,,,,,,,,,,,"]
[null,{"$f":"IF(A1876=0,\" \",IF(ISNA(MATCH(A1876,Personnel!A:A,0)),\"وجود ندارد\",LOOKUP(A1876,Personnel!A:A,Personnel!B:B)))","v":" "},{"$f":"IF(A1876=0,\" \",IF(ISNA(MATCH(A1876,Personnel!A:A,0)),\"وجود ندارد\",LOOKUP(A1876,Personnel!A:A,Personnel!C:C)))","v":" "},null,null,null,null,null,null,null,null,"","",1,0," "," ",""," "," ","",null," "," ",",,,,,,,,,,,,"]
[null,{"$f":"IF(A1883=0,\" \",IF(ISNA(MATCH(A1883,Personnel!A:A,0)),\"وجود ندارد\",LOOKUP(A1883,Personnel!A:A,Personnel!B:B)))","v":" "},{"$f":"IF(A1883=0,\" \",IF(ISNA(MATCH(A1883,Personnel!A:A,0)),\"وجود ندارد\",LOOKUP(A1883,Personnel!A:A,Personnel!C:C)))","v":" "},null,null,null,null,null,null,null,null,"","",1,0," "," ",""," "," ","",null," "," ",",,,,,,,,,,,,"]
[null,{"$f":"IF(A1895=0,\" \",IF(ISNA(MATCH(A1895,Personnel!A:A,0)),\"وجود ندارد\",LOOKUP(A1895,Personnel!A:A,Personnel!B:B)))","v":" "},{"$f":"IF(A1895=0,\" \",IF(ISNA(MATCH(A1895,Personnel!A:A,0)),\"وجود ندارد\",LOOKUP(A1895,Personnel!A:A,Personnel!C:C)))","v":" "},null,null,null,null,null,null,null,null,"","",1,0," "," ",""," "," ","",null," "," ",",,,,,,,,,,,,"]
[null,{"$f":"IF(A1905=0,\" \",IF(ISNA(MATCH(A1905,Personnel!A:A,0)),\"وجود ندارد\",LOOKUP(A1905,Personnel!A:A,Personnel!B:B)))","v":" "},{"$f":"IF(A1905=0,\" \",IF(ISNA(MATCH(A1905,Personnel!A:A,0)),\"وجود ندارد\",LOOKUP(A1905,Personnel!A:A,Personnel!C:C)))","v":" "},null,null,null,null,null,null,null,null,"","",1,0," "," ",""," "," ","",null," "," ",",,,,,,,,,,,,"]
[null,{"$f":"IF(A1913=0,\" \",IF(ISNA(MATCH(A1913,Personnel!A:A,0)),\"وجود ندارد\",LOOKUP(A1913,Personnel!A:A,Personnel!B:B)))","v":" "},{"$f":"IF(A1913=0,\" \",IF(ISNA(MATCH(A1913,Personnel!A:A,0)),\"وجود ندارد\",LOOKUP(A1913,Personnel!A:A,Personnel!C:C)))","v":" "},null,null,null,null,null,null,null,null,"","",1,0," "," ",""," "," ","",null," "," ",",,,,,,,,,,,,"]
[null,{"$f":"IF(A1916=0,\" \",IF(ISNA(MATCH(A1916,Personnel!A:A,0)),\"وجود ندارد\",LOOKUP(A1916,Personnel!A:A,Personnel!B:B)))","v":" "},{"$f":"IF(A1916=0,\" \",IF(ISNA(MATCH(A1916,Personnel!A:A,0)),\"وجود ندارد\",LOOKUP(A1916,Personnel!A:A,Personnel!C:C)))","v":" "},null,null,null,null,null,null,null,null,"","",1,0," "," ",""," "," ","",null," "," ",",,,,,,,,,,,,"]
[null,{"$f":"IF(A1932=0,\" \",IF(ISNA(MATCH(A1932,Personnel!A:A,0)),\"وجود ندارد\",LOOKUP(A1932,Personnel!A:A,Personnel!B:B)))","v":" "},{"$f":"IF(A1932=0,\" \",IF(ISNA(MATCH(A1932,Personnel!A:A,0)),\"وجود ندارد\",LOOKUP(A1932,Personnel!A:A,Personnel!C:C)))","v":" "},null,null,null,null,null,null,null,null,"","",1,0," "," ",""," "," ","",null," "," ",",,,,,,,,,,,,"]
[null,{"$f":"IF(A1935=0,\" \",IF(ISNA(MATCH(A1935,Personnel!A:A,0)),\"وجود ندارد\",LOOKUP(A1935,Personnel!A:A,Personnel!B:B)))","v":" "},{"$f":"IF(A1935=0,\" \",IF(ISNA(MATCH(A1935,Personnel!A:A,0)),\"وجود ندارد\",LOOKUP(A1935,Personnel!A:A,Personnel!C:C)))","v":" "},null,null,null,null,null,null,null,null,"","",1,0," "," ",""," "," ","",null," "," ",",,,,,,,,,,,,"]
[null,{"$f":"IF(A1946=0,\" \",IF(ISNA(MATCH(A1946,Personnel!A:A,0)),\"وجود ندارد\",LOOKUP(A1946,Personnel!A:A,Personnel!B:B)))","v":" "},{"$f":"IF(A1946=0,\" \",IF(ISNA(MATCH(A1946,Personnel!A:A,0)),\"وجود ندارد\",LOOKUP(A1946,Personnel!A:A,Personnel!C:C)))","v":" "},null,null,null,null,null,null,null,null,"","",1,0," "," ",""," "," ","",null," "," ",",,,,,,,,,,,,"]
[null,{"$f":"IF(A1953=0,\" \",IF(ISNA(MATCH(A1953,Personnel!A:A,0)),\"وجود ندارد\",LOOKUP(A1953,Personnel!A:A,Personnel!B:B)))","v":" "},{"$f":"IF(A1953=0,\" \",IF(ISNA(MATCH(A1953,Personnel!A:A,0)),\"وجود ندارد\",LOOKUP(A1953,Personnel!A:A,Personnel!C:C)))","v":" "},null,null,null,null,null,null,null,null,"","",1,0," "," ",""," "," ","",null," "," ",",,,,,,,,,,,,"]
[null,{"$f":"IF(A1965=0,\" \",IF(ISNA(MATCH(A1965,Personnel!A:A,0)),\"وجود ندارد\",LOOKUP(A1965,Personnel!A:A,Personnel!B:B)))","v":" "},{"$f":"IF(A1965=0,\" \",IF(ISNA(MATCH(A1965,Personnel!A:A,0)),\"وجود ندارد\",LOOKUP(A1965,Personnel!A:A,Personnel!C:C)))","v":" "},null,null,null,null,null,null,null,null,"","",1,0," "," ",""," "," ","",null," "," ",",,,,,,,,,,,,"]
[null,{"$f":"IF(A1972=0,\" \",IF(ISNA(MATCH(A1972,Personnel!A:A,0)),\"وجود ندارد\",LOOKUP(A1972,Personnel!A:A,Personnel!B:B)))","v":" "},{"$f":"IF(A1972=0,\" \",IF(ISNA(MATCH(A1972,Personnel!A:A,0)),\"وجود ندارد\",LOOKUP(A1972,Personnel!A:A,Personnel!C:C)))","v":" "},null,null,null,null,null,null,null,null,"","",1,0," "," ",""," "," ","",null," "," ",",,,,,,,,,,,,"]
[null,{"$f":"IF(A1984=0,\" \",IF(ISNA(MATCH(A1984,Personnel!A:A,0)),\"وجود ندارد\",LOOKUP(A1984,Personnel!A:A,Personnel!B:B)))","v":" "},{"$f":"IF(A1984=0,\" \",IF(ISNA(MATCH(A1984,Personnel!A:A,0)),\"وجود ندارد\",LOOKUP(A1984,Personnel!A:A,Personnel!C:C)))","v":" "},null,null,null,null,null,null,null,null,"","",1,0," "," ",""," "," ","",null," "," ",",,,,,,,,,,,,"]
[null,{"$f":"IF(A1987=0,\" \",IF(ISNA(MATCH(A1987,Personnel!A:A,0)),\"وجود ندارد\",LOOKUP(A1987,Personnel!A:A,Personnel!B:B)))","v":" "},{"$f":"IF(A1987=0,\" \",IF(ISNA(MATCH(A1987,Personnel!A:A,0)),\"وجود ندارد\",LOOKUP(A1987,Personnel!A:A,Personnel!C:C)))","v":" "},null,null,null,null,null,null,null,null,{"$f":"IF(K1987=0,\"\",IF(K1987=1,\"ایجاد\",IF(K1987=2,\"اصلاح\",\"حذف\")))","v":""},{"$f":"IF(AND(K1987=3,H1987+I1987+J1987+F1987+G1987<>0),\"برای عمل حذف اطلاعات اضافی وارد شده است\",\"\")","v":""},{"$f":"IF(AND(K1987<>3,F1987<900000),1,0)","v":1},{"$f":"IF(F1987>991231,1,0)","v":0}," "," ",{"$f":"IF(AND(A1987=0,H1987+I1987+J1987+F1987+G1987+K1987+E1987+D1987<>0),\"در این ردیف شماره پرسنلی وجود ندارد اما اطلاعات دیگر وارد شده است\",\"\")","v":""},{"$f":"IF(A1987=0,\" \",IF(D1987=0,\"کد وام وارد نشده است\",\"\"))","v":" "}," ",{"$f":"IF(AND(OR(K1987=1,K1987=2),H1987=0),\"مبلغ قسط نمی تواند خالی باشد\",\"\")","v":""},null,{"$f":"IF(AND(A1987=0,A1988<>0),\"دراین ردیف اصلاحاتی وجود ندارد . لطفا ردیفی را خالی باقی نگذارید\",IF(AND(A1987=0,R1987=\"\"),\" \",IF(M1987&\",\"&P1987&\",\"&Q1987&\",\"&R1987&\",\"&S1987&\",\"&T1987&\",\"&U1987=\",,,,,,\",\"صحیح\",M1987&\",\"&P1987&\",\"&Q1987&\",\"&R1987&\",\"&S1987&\",\"&T1987&\",\"&U1987)))","v":" "},{"$f":"IF(AND(ROW(X1987)>$Z$2,W1987=\" \"),\" \",IF(W1987=\" \",IF(AND(A1987=0,$Z$2<>$Z$4),\"دراین ردیف اصلاحاتی وجود ندارد . لطفا ردیفی را خالی نگذارید\",W1987),W1987))","v":" "},{"$f":"CONCATENATE(A1987,\",\",D1987,\",\",E1987,\",\",F1987,\",\",G1987,\",\",H1987,\",\",I1987,\",\",K1987,\",\",,\",\",J1987,\",\",\",\",V1987,\",\")","v":",,,,,,,,,,,,"}]
[null,{"$f":"IF(A2002=0,\" \",IF(ISNA(MATCH(A2002,Personnel!A:A,0)),\"وجود ندارد\",LOOKUP(A2002,Personnel!A:A,Personnel!B:B)))","v":" "},{"$f":"IF(A2002=0,\" \",IF(ISNA(MATCH(A2002,Personnel!A:A,0)),\"وجود ندارد\",LOOKUP(A2002,Personnel!A:A,Personnel!C:C)))","v":" "},null,null,null,null,null,null,null,null,"","",1,0," "," ",""," "," ","",null," "," ",",,,,,,,,,,,,"]
[null,{"$f":"IF(A2005=0,\" \",IF(ISNA(MATCH(A2005,Personnel!A:A,0)),\"وجود ندارد\",LOOKUP(A2005,Personnel!A:A,Personnel!B:B)))","v":" "},{"$f":"IF(A2005=0,\" \",IF(ISNA(MATCH(A2005,Personnel!A:A,0)),\"وجود ندارد\",LOOKUP(A2005,Personnel!A:A,Personnel!C:C)))","v":" "},null,null,null,null,null,null,null,null,"","",1,0," "," ",""," "," ","",null," "," ",",,,,,,,,,,,,"]
[null,{"$f":"IF(A2017=0,\" \",IF(ISNA(MATCH(A2017,Personnel!A:A,0)),\"وجود ندارد\",LOOKUP(A2017,Personnel!A:A,Personnel!B:B)))","v":" "},{"$f":"IF(A2017=0,\" \",IF(ISNA(MATCH(A2017,Personnel!A:A,0)),\"وجود ندارد\",LOOKUP(A2017,Personnel!A:A,Personnel!C:C)))","v":" "},null,null,null,null,null,null,null,null,"","",1,0," "," ",""," "," ","",null," "," ",",,,,,,,,,,,,"]
[null,{"$f":"IF(A2024=0,\" \",IF(ISNA(MATCH(A2024,Personnel!A:A,0)),\"وجود ندارد\",LOOKUP(A2024,Personnel!A:A,Personnel!B:B)))","v":" "},{"$f":"IF(A2024=0,\" \",IF(ISNA(MATCH(A2024,Personnel!A:A,0)),\"وجود ندارد\",LOOKUP(A2024,Personnel!A:A,Personnel!C:C)))","v":" "},null,null,null,null,null,null,null,null,"","",1,0," "," ",""," "," ","",null," "," ",",,,,,,,,,,,,"]
[null,{"$f":"IF(A2036=0,\" \",IF(ISNA(MATCH(A2036,Personnel!A:A,0)),\"وجود ندارد\",LOOKUP(A2036,Personnel!A:A,Personnel!B:B)))","v":" "},{"$f":"IF(A2036=0,\" \",IF(ISNA(MATCH(A2036,Personnel!A:A,0)),\"وجود ندارد\",LOOKUP(A2036,Personnel!A:A,Personnel!C:C)))","v":" "},null,null,null,null,null,null,null,null,"","",1,0," "," ",""," "," ","",null," "," ",",,,,,,,,,,,,"]
[null,{"$f":"IF(A2042=0,\" \",IF(ISNA(MATCH(A2042,Personnel!A:A,0)),\"وجود ندارد\",LOOKUP(A2042,Personnel!A:A,Personnel!B:B)))","v":" "},{"$f":"IF(A2042=0,\" \",IF(ISNA(MATCH(A2042,Personnel!A:A,0)),\"وجود ندارد\",LOOKUP(A2042,Personnel!A:A,Personnel!C:C)))","v":" "},null,null,null,null,null,null,null,null,"","",1,0," "," ",""," "," ","",null," "," ",",,,,,,,,,,,,"]
[null,{"$f":"IF(A2054=0,\" \",IF(ISNA(MATCH(A2054,Personnel!A:A,0)),\"وجود ندارد\",LOOKUP(A2054,Personnel!A:A,Personnel!B:B)))","v":" "},{"$f":"IF(A2054=0,\" \",IF(ISNA(MATCH(A2054,Personnel!A:A,0)),\"وجود ندارد\",LOOKUP(A2054,Personnel!A:A,Personnel!C:C)))","v":" "},null,null,null,null,null,null,null,null,"","",1,0," "," ",""," "," ","",null," "," ",",,,,,,,,,,,,"]
[null,{"$f":"IF(A2057=0,\" \",IF(ISNA(MATCH(A2057,Personnel!A:A,0)),\"وجود ندارد\",LOOKUP(A2057,Personnel!A:A,Personnel!B:B)))","v":" "},{"$f":"IF(A2057=0,\" \",IF(ISNA(MATCH(A2057,Personnel!A:A,0)),\"وجود ندارد\",LOOKUP(A2057,Personnel!A:A,Personnel!C:C)))","v":" "},null,null,null,null,null,null,null,null,"","",1,0," "," ",""," "," ","",null," "," ",",,,,,,,,,,,,"]
[null,{"$f":"IF(A2073=0,\" \",IF(ISNA(MATCH(A2073,Personnel!A:A,0)),\"وجود ندارد\",LOOKUP(A2073,Personnel!A:A,Personnel!B:B)))","v":" "},{"$f":"IF(A2073=0,\" \",IF(ISNA(MATCH(A2073,Personnel!A:A,0)),\"وجود ندارد\",LOOKUP(A2073,Personnel!A:A,Personnel!C:C)))","v":" "},null,null,null,null,null,null,null,null,"","",1,0," "," ",""," "," ","",null," "," ",",,,,,,,,,,,,"]
[null,{"$f":"IF(A2077=0,\" \",IF(ISNA(MATCH(A2077,Personnel!A:A,0)),\"وجود ندارد\",LOOKUP(A2077,Personnel!A:A,Personnel!B:B)))","v":" "},{"$f":"IF(A2077=0,\" \",IF(ISNA(MATCH(A2077,Personnel!A:A,0)),\"وجود ندارد\",LOOKUP(A2077,Personnel!A:A,Personnel!C:C)))","v":" "},null,null,null,null,null,null,null,null,"","",1,0," "," ",""," "," ","",null," "," ",",,,,,,,,,,,,"]
[null,{"$f":"IF(A2087=0,\" \",IF(ISNA(MATCH(A2087,Personnel!A:A,0)),\"وجود ندارد\",LOOKUP(A2087,Personnel!A:A,Personnel!B:B)))","v":" "},{"$f":"IF(A2087=0,\" \",IF(ISNA(MATCH(A2087,Personnel!A:A,0)),\"وجود ندارد\",LOOKUP(A2087,Personnel!A:A,Personnel!C:C)))","v":" "},null,null,null,null,null,null,null,null,"","",1,0," "," ",""," "," ","",null," "," ",",,,,,,,,,,,,"]
[null,{"$f":"IF(A2094=0,\" \",IF(ISNA(MATCH(A2094,Personnel!A:A,0)),\"وجود ندارد\",LOOKUP(A2094,Personnel!A:A,Personnel!B:B)))","v":" "},{"$f":"IF(A2094=0,\" \",IF(ISNA(MATCH(A2094,Personnel!A:A,0)),\"وجود ندارد\",LOOKUP(A2094,Personnel!A:A,Personnel!C:C)))","v":" "},null,null,null,null,null,null,null,null,"","",1,0," "," ",""," "," ","",null," "," ",",,,,,,,,,,,,"]
[null,{"$f":"IF(A2106=0,\" \",IF(ISNA(MATCH(A2106,Personnel!A:A,0)),\"وجود ندارد\",LOOKUP(A2106,Personnel!A:A,Personnel!B:B)))","v":" "},{"$f":"IF(A2106=0,\" \",IF(ISNA(MATCH(A2106,Personnel!A:A,0)),\"وجود ندارد\",LOOKUP(A2106,Personnel!A:A,Personnel!C:C)))","v":" "},null,null,null,null,null,null,null,null,"","",1,0," "," ",""," "," ","",null," "," ",",,,,,,,,,,,,"]
[null,{"$f":"IF(A2113=0,\" \",IF(ISNA(MATCH(A2113,Personnel!A:A,0)),\"وجود ندارد\",LOOKUP(A2113,Personnel!A:A,Personnel!B:B)))","v":" "},{"$f":"IF(A2113=0,\" \",IF(ISNA(MATCH(A2113,Personnel!A:A,0)),\"وجود ندارد\",LOOKUP(A2113,Personnel!A:A,Personnel!C:C)))","v":" "},null,null,null,null,null,null,null,null,"","",1,0," "," ",""," "," ","",null," "," ",",,,,,,,,,,,,"]
[null,{"$f":"IF(A2118=0,\" \",IF(ISNA(MATCH(A2118,Personnel!A:A,0)),\"وجود ندارد\",LOOKUP(A2118,Personnel!A:A,Personnel!B:B)))","v":" "},{"$f":"IF(A2118=0,\" \",IF(ISNA(MATCH(A2118,Personnel!A:A,0)),\"وجود ندارد\",LOOKUP(A2118,Personnel!A:A,Personnel!C:C)))","v":" "},null,null,null,null,null,null,null,null,"","",1,0," "," ",""," "," ","",null," "," ",",,,,,,,,,,,,"]
[null,{"$f":"IF(A2127=0,\" \",IF(ISNA(MATCH(A2127,Personnel!A:A,0)),\"وجود ندارد\",LOOKUP(A2127,Personnel!A:A,Personnel!B:B)))","v":" "},{"$f":"IF(A2127=0,\" \",IF(ISNA(MATCH(A2127,Personnel!A:A,0)),\"وجود ندارد\",LOOKUP(A2127,Personnel!A:A,Personnel!C:C)))","v":" "},null,null,null,null,null,null,null,null,"","",1,0," "," ",""," "," ","",null," "," ",",,,,,,,,,,,,"]
[null,{"$f":"IF(A2143=0,\" \",IF(ISNA(MATCH(A2143,Personnel!A:A,0)),\"وجود ندارد\",LOOKUP(A2143,Personnel!A:A,Personnel!B:B)))","v":" "},{"$f":"IF(A2143=0,\" \",IF(ISNA(MATCH(A2143,Personnel!A:A,0)),\"وجود ندارد\",LOOKUP(A2143,Personnel!A:A,Personnel!C:C)))","v":" "},null,null,null,null,null,null,null,null,"","",1,0," "," ",""," "," ","",null," "," ",",,,,,,,,,,,,"]
[null,{"$f":"IF(A2146=0,\" \",IF(ISNA(MATCH(A2146,Personnel!A:A,0)),\"وجود ندارد\",LOOKUP(A2146,Personnel!A:A,Personnel!B:B)))","v":" "},{"$f":"IF(A2146=0,\" \",IF(ISNA(MATCH(A2146,Personnel!A:A,0)),\"وجود ندارد\",LOOKUP(A2146,Personnel!A:A,Personnel!C:C)))","v":" "},null,null,null,null,null,null,null,null,"","",1,0," "," ",""," "," ","",null," "," ",",,,,,,,,,,,,"]
[null,{"$f":"IF(A2153=0,\" \",IF(ISNA(MATCH(A2153,Personnel!A:A,0)),\"وجود ندارد\",LOOKUP(A2153,Personnel!A:A,Personnel!B:B)))","v":" "},{"$f":"IF(A2153=0,\" \",IF(ISNA(MATCH(A2153,Personnel!A:A,0)),\"وجود ندارد\",LOOKUP(A2153,Personnel!A:A,Personnel!C:C)))","v":" "},null,null,null,null,null,null,null,null,"","",1,0," "," ",""," "," ","",null," "," ",",,,,,,,,,,,,"]
[null,{"$f":"IF(A2167=0,\" \",IF(ISNA(MATCH(A2167,Personnel!A:A,0)),\"وجود ندارد\",LOOKUP(A2167,Personnel!A:A,Personnel!B:B)))","v":" "},{"$f":"IF(A2167=0,\" \",IF(ISNA(MATCH(A2167,Personnel!A:A,0)),\"وجود ندارد\",LOOKUP(A2167,Personnel!A:A,Personnel!C:C)))","v":" "},null,null,null,null,null,null,null,null,"","",1,0," "," ",""," "," ","",null," "," ",",,,,,,,,,,,,"]
[null,{"$f":"IF(A2176=0,\" \",IF(ISNA(MATCH(A2176,Personnel!A:A,0)),\"وجود ندارد\",LOOKUP(A2176,Personnel!A:A,Personnel!B:B)))","v":" "},{"$f":"IF(A2176=0,\" \",IF(ISNA(MATCH(A2176,Personnel!A:A,0)),\"وجود ندارد\",LOOKUP(A2176,Personnel!A:A,Personnel!C:C)))","v":" "},null,null,null,null,null,null,null,null,"","",1,0," "," ",""," "," ","",null," "," ",",,,,,,,,,,,,"]
[null,{"$f":"IF(A2183=0,\" \",IF(ISNA(MATCH(A2183,Personnel!A:A,0)),\"وجود ندارد\",LOOKUP(A2183,Personnel!A:A,Personnel!B:B)))","v":" "},{"$f":"IF(A2183=0,\" \",IF(ISNA(MATCH(A2183,Personnel!A:A,0)),\"وجود ندارد\",LOOKUP(A2183,Personnel!A:A,Personnel!C:C)))","v":" "},null,null,null,null,null,null,null,null,"","",1,0," "," ",""," "," ","",null," "," ",",,,,,,,,,,,,"]
[null,{"$f":"IF(A2195=0,\" \",IF(ISNA(MATCH(A2195,Personnel!A:A,0)),\"وجود ندارد\",LOOKUP(A2195,Personnel!A:A,Personnel!B:B)))","v":" "},{"$f":"IF(A2195=0,\" \",IF(ISNA(MATCH(A2195,Personnel!A:A,0)),\"وجود ندارد\",LOOKUP(A2195,Personnel!A:A,Personnel!C:C)))","v":" "},null,null,null,null,null,null,null,null,"","",1,0," "," ",""," "," ","",null," "," ",",,,,,,,,,,,,"]
[null,{"$f":"IF(A2198=0,\" \",IF(ISNA(MATCH(A2198,Personnel!A:A,0)),\"وجود ندارد\",LOOKUP(A2198,Personnel!A:A,Personnel!B:B)))","v":" "},{"$f":"IF(A2198=0,\" \",IF(ISNA(MATCH(A2198,Personnel!A:A,0)),\"وجود ندارد\",LOOKUP(A2198,Personnel!A:A,Personnel!C:C)))","v":" "},null,null,null,null,null,null,null,null,"","",1,0," "," ",""," "," ","",null," "," ",",,,,,,,,,,,,"]
[null,{"$f":"IF(A2208=0,\" \",IF(ISNA(MATCH(A2208,Personnel!A:A,0)),\"وجود ندارد\",LOOKUP(A2208,Personnel!A:A,Personnel!B:B)))","v":" "},{"$f":"IF(A2208=0,\" \",IF(ISNA(MATCH(A2208,Personnel!A:A,0)),\"وجود ندارد\",LOOKUP(A2208,Personnel!A:A,Personnel!C:C)))","v":" "},null,null,null,null,null,null,null,null,"","",1,0," "," ",""," "," ","",null," "," ",",,,,,,,,,,,,"]
[null,{"$f":"IF(A2216=0,\" \",IF(ISNA(MATCH(A2216,Personnel!A:A,0)),\"وجود ندارد\",LOOKUP(A2216,Personnel!A:A,Personnel!B:B)))","v":" "},{"$f":"IF(A2216=0,\" \",IF(ISNA(MATCH(A2216,Personnel!A:A,0)),\"وجود ندارد\",LOOKUP(A2216,Personnel!A:A,Personnel!C:C)))","v":" "},null,null,null,null,null,null,null,null,"","",1,0," "," ",""," "," ","",null," "," ",",,,,,,,,,,,,"]
[null,{"$f":"IF(A2223=0,\" \",IF(ISNA(MATCH(A2223,Personnel!A:A,0)),\"وجود ندارد\",LOOKUP(A2223,Personnel!A:A,Personnel!B:B)))","v":" "},{"$f":"IF(A2223=0,\" \",IF(ISNA(MATCH(A2223,Personnel!A:A,0)),\"وجود ندارد\",LOOKUP(A2223,Personnel!A:A,Personnel!C:C)))","v":" "},null,null,null,null,null,null,null,null,"","",1,0," "," ",""," "," ","",null," "," ",",,,,,,,,,,,,"]
[null,{"$f":"IF(A2235=0,\" \",IF(ISNA(MATCH(A2235,Personnel!A:A,0)),\"وجود ندارد\",LOOKUP(A2235,Personnel!A:A,Personnel!B:B)))","v":" "},{"$f":"IF(A2235=0,\" \",IF(ISNA(MATCH(A2235,Personnel!A:A,0)),\"وجود ندارد\",LOOKUP(A2235,Personnel!A:A,Personnel!C:C)))","v":" "},null,null,null,null,null,null,null,null,"","",1,0," "," ",""," "," ","",null," "," ",",,,,,,,,,,,,"]
[null,{"$f":"IF(A2247=0,\" \",IF(ISNA(MATCH(A2247,Personnel!A:A,0)),\"وجود ندارد\",LOOKUP(A2247,Personnel!A:A,Personnel!B:B)))","v":" "},{"$f":"IF(A2247=0,\" \",IF(ISNA(MATCH(A2247,Personnel!A:A,0)),\"وجود ندارد\",LOOKUP(A2247,Personnel!A:A,Personnel!C:C)))","v":" "},null,null,null,null,null,null,null,null,"","",1,0," "," ",""," "," ","",null," "," ",",,,,,,,,,,,,"]
[null,{"$f":"IF(A2257=0,\" \",IF(ISNA(MATCH(A2257,Personnel!A:A,0)),\"وجود ندارد\",LOOKUP(A2257,Personnel!A:A,Personnel!B:B)))","v":" "},{"$f":"IF(A2257=0,\" \",IF(ISNA(MATCH(A2257,Personnel!A:A,0)),\"وجود ندارد\",LOOKUP(A2257,Personnel!A:A,Personnel!C:C)))","v":" "},null,null,null,null,null,null,null,null,"","",1,0," "," ",""," "," ","",null," "," ",",,,,,,,,,,,,"]
[null,{"$f":"IF(A2265=0,\" \",IF(ISNA(MATCH(A2265,Personnel!A:A,0)),\"وجود ندارد\",LOOKUP(A2265,Personnel!A:A,Personnel!B:B)))","v":" "},{"$f":"IF(A2265=0,\" \",IF(ISNA(MATCH(A2265,Personnel!A:A,0)),\"وجود ندارد\",LOOKUP(A2265,Personnel!A:A,Personnel!C:C)))","v":" "},null,null,null,null,null,null,null,null,"","",1,0," "," ",""," "," ","",null," "," ",",,,,,,,,,,,,"]
[null,{"$f":"IF(A2272=0,\" \",IF(ISNA(MATCH(A2272,Personnel!A:A,0)),\"وجود ندارد\",LOOKUP(A2272,Personnel!A:A,Personnel!B:B)))","v":" "},{"$f":"IF(A2272=0,\" \",IF(ISNA(MATCH(A2272,Personnel!A:A,0)),\"وجود ندارد\",LOOKUP(A2272,Personnel!A:A,Personnel!C:C)))","v":" "},null,null,null,null,null,null,null,null,"","",1,0," "," ",""," "," ","",null," "," ",",,,,,,,,,,,,"]
[null,{"$f":"IF(A2284=0,\" \",IF(ISNA(MATCH(A2284,Personnel!A:A,0)),\"وجود ندارد\",LOOKUP(A2284,Personnel!A:A,Personnel!B:B)))","v":" "},{"$f":"IF(A2284=0,\" \",IF(ISNA(MATCH(A2284,Personnel!A:A,0)),\"وجود ندارد\",LOOKUP(A2284,Personnel!A:A,Personnel!C:C)))","v":" "},null,null,null,null,null,null,null,null,"","",1,0," "," ",""," "," ","",null," "," ",",,,,,,,,,,,,"]
[null,{"$f":"IF(A2287=0,\" \",IF(ISNA(MATCH(A2287,Personnel!A:A,0)),\"وجود ندارد\",LOOKUP(A2287,Personnel!A:A,Personnel!B:B)))","v":" "},{"$f":"IF(A2287=0,\" \",IF(ISNA(MATCH(A2287,Personnel!A:A,0)),\"وجود ندارد\",LOOKUP(A2287,Personnel!A:A,Personnel!C:C)))","v":" "},null,null,null,null,null,null,null,null,"","",1,0," "," ",""," "," ","",null," "," ",",,,,,,,,,,,,"]
[null,{"$f":"IF(A2298=0,\" \",IF(ISNA(MATCH(A2298,Personnel!A:A,0)),\"وجود ندارد\",LOOKUP(A2298,Personnel!A:A,Personnel!B:B)))","v":" "},{"$f":"IF(A2298=0,\" \",IF(ISNA(MATCH(A2298,Personnel!A:A,0)),\"وجود ندارد\",LOOKUP(A2298,Personnel!A:A,Personnel!C:C)))","v":" "},null,null,null,null,null,null,null,null,"","",1,0," "," ",""," "," ","",null," "," ",",,,,,,,,,,,,"]
[null,{"$f":"IF(A2305=0,\" \",IF(ISNA(MATCH(A2305,Personnel!A:A,0)),\"وجود ندارد\",LOOKUP(A2305,Personnel!A:A,Personnel!B:B)))","v":" "},{"$f":"IF(A2305=0,\" \",IF(ISNA(MATCH(A2305,Personnel!A:A,0)),\"وجود ندارد\",LOOKUP(A2305,Personnel!A:A,Personnel!C:C)))","v":" "},null,null,null,null,null,null,null,null,"","",1,0," "," ",""," "," ","",null," "," ",",,,,,,,,,,,,"]
[null,{"$f":"IF(A2317=0,\" \",IF(ISNA(MATCH(A2317,Personnel!A:A,0)),\"وجود ندارد\",LOOKUP(A2317,Personnel!A:A,Personnel!B:B)))","v":" "},{"$f":"IF(A2317=0,\" \",IF(ISNA(MATCH(A2317,Personnel!A:A,0)),\"وجود ندارد\",LOOKUP(A2317,Personnel!A:A,Personnel!C:C)))","v":" "},null,null,null,null,null,null,null,null,"","",1,0," "," ",""," "," ","",null," "," ",",,,,,,,,,,,,"]
[null,{"$f":"IF(A2324=0,\" \",IF(ISNA(MATCH(A2324,Personnel!A:A,0)),\"وجود ندارد\",LOOKUP(A2324,Personnel!A:A,Personnel!B:B)))","v":" "},{"$f":"IF(A2324=0,\" \",IF(ISNA(MATCH(A2324,Personnel!A:A,0)),\"وجود ندارد\",LOOKUP(A2324,Personnel!A:A,Personnel!C:C)))","v":" "},null,null,null,null,null,null,null,null,"","",1,0," "," ",""," "," ","",null," "," ",",,,,,,,,,,,,"]
[null,{"$f":"IF(A2329=0,\" \",IF(ISNA(MATCH(A2329,Personnel!A:A,0)),\"وجود ندارد\",LOOKUP(A2329,Personnel!A:A,Personnel!B:B)))","v":" "},{"$f":"IF(A2329=0,\" \",IF(ISNA(MATCH(A2329,Personnel!A:A,0)),\"وجود ندارد\",LOOKUP(A2329,Personnel!A:A,Personnel!C:C)))","v":" "},null,null,null,null,null,null,null,null,"","",1,0," "," ",""," "," ","",null," "," ",",,,,,,,,,,,,"]
[null,{"$f":"IF(A2342=0,\" \",IF(ISNA(MATCH(A2342,Personnel!A:A,0)),\"وجود ندارد\",LOOKUP(A2342,Personnel!A:A,Personnel!B:B)))","v":" "},{"$f":"IF(A2342=0,\" \",IF(ISNA(MATCH(A2342,Personnel!A:A,0)),\"وجود ندارد\",LOOKUP(A2342,Personnel!A:A,Personnel!C:C)))","v":" "},null,null,null,null,null,null,null,null,"","",1,0," "," ",""," "," ","",null," "," ",",,,,,,,,,,,,"]
[null,{"$f":"IF(A2354=0,\" \",IF(ISNA(MATCH(A2354,Personnel!A:A,0)),\"وجود ندارد\",LOOKUP(A2354,Personnel!A:A,Personnel!B:B)))","v":" "},{"$f":"IF(A2354=0,\" \",IF(ISNA(MATCH(A2354,Personnel!A:A,0)),\"وجود ندارد\",LOOKUP(A2354,Personnel!A:A,Personnel!C:C)))","v":" "},null,null,null,null,null,null,null,null,"","",1,0," "," ",""," "," ","",null," "," ",",,,,,,,,,,,,"]
[null,{"$f":"IF(A2357=0,\" \",IF(ISNA(MATCH(A2357,Personnel!A:A,0)),\"وجود ندارد\",LOOKUP(A2357,Personnel!A:A,Personnel!B:B)))","v":" "},{"$f":"IF(A2357=0,\" \",IF(ISNA(MATCH(A2357,Personnel!A:A,0)),\"وجود ندارد\",LOOKUP(A2357,Personnel!A:A,Personnel!C:C)))","v":" "},null,null,null,null,null,null,null,null,"","",1,0," "," ",""," "," ","",null," "," ",",,,,,,,,,,,,"]
[null,{"$f":"IF(A2364=0,\" \",IF(ISNA(MATCH(A2364,Personnel!A:A,0)),\"وجود ندارد\",LOOKUP(A2364,Personnel!A:A,Personnel!B:B)))","v":" "},{"$f":"IF(A2364=0,\" \",IF(ISNA(MATCH(A2364,Personnel!A:A,0)),\"وجود ندارد\",LOOKUP(A2364,Personnel!A:A,Personnel!C:C)))","v":" "},null,null,null,null,null,null,null,null,"","",1,0," "," ",""," "," ","",null," "," ",",,,,,,,,,,,,"]
[null,{"$f":"IF(A2378=0,\" \",IF(ISNA(MATCH(A2378,Personnel!A:A,0)),\"وجود ندارد\",LOOKUP(A2378,Personnel!A:A,Personnel!B:B)))","v":" "},{"$f":"IF(A2378=0,\" \",IF(ISNA(MATCH(A2378,Personnel!A:A,0)),\"وجود ندارد\",LOOKUP(A2378,Personnel!A:A,Personnel!C:C)))","v":" "},null,null,null,null,null,null,null,null,"","",1,0," "," ",""," "," ","",null," "," ",",,,,,,,,,,,,"]
[null,{"$f":"IF(A2387=0,\" \",IF(ISNA(MATCH(A2387,Personnel!A:A,0)),\"وجود ندارد\",LOOKUP(A2387,Personnel!A:A,Personnel!B:B)))","v":" "},{"$f":"IF(A2387=0,\" \",IF(ISNA(MATCH(A2387,Personnel!A:A,0)),\"وجود ندارد\",LOOKUP(A2387,Personnel!A:A,Personnel!C:C)))","v":" "},null,null,null,null,null,null,null,null,"","",1,0," "," ",""," "," ","",null," "," ",",,,,,,,,,,,,"]
[null,{"$f":"IF(A2394=0,\" \",IF(ISNA(MATCH(A2394,Personnel!A:A,0)),\"وجود ندارد\",LOOKUP(A2394,Personnel!A:A,Personnel!B:B)))","v":" "},{"$f":"IF(A2394=0,\" \",IF(ISNA(MATCH(A2394,Personnel!A:A,0)),\"وجود ندارد\",LOOKUP(A2394,Personnel!A:A,Personnel!C:C)))","v":" "},null,null,null,null,null,null,null,null,"","",1,0," "," ",""," "," ","",null," "," ",",,,,,,,,,,,,"]
[null,{"$f":"IF(A2406=0,\" \",IF(ISNA(MATCH(A2406,Personnel!A:A,0)),\"وجود ندارد\",LOOKUP(A2406,Personnel!A:A,Personnel!B:B)))","v":" "},{"$f":"IF(A2406=0,\" \",IF(ISNA(MATCH(A2406,Personnel!A:A,0)),\"وجود ندارد\",LOOKUP(A2406,Personnel!A:A,Personnel!C:C)))","v":" "},null,null,null,null,null,null,null,null,"","",1,0," "," ",""," "," ","",null," "," ",",,,,,,,,,,,,"]
[null,{"$f":"IF(A2413=0,\" \",IF(ISNA(MATCH(A2413,Personnel!A:A,0)),\"وجود ندارد\",LOOKUP(A2413,Personnel!A:A,Personnel!B:B)))","v":" "},{"$f":"IF(A2413=0,\" \",IF(ISNA(MATCH(A2413,Personnel!A:A,0)),\"وجود ندارد\",LOOKUP(A2413,Personnel!A:A,Personnel!C:C)))","v":" "},null,null,null,null,null,null,null,null,"","",1,0," "," ",""," "," ","",null," "," ",",,,,,,,,,,,,"]
[null,{"$f":"IF(A2419=0,\" \",IF(ISNA(MATCH(A2419,Personnel!A:A,0)),\"وجود ندارد\",LOOKUP(A2419,Personnel!A:A,Personnel!B:B)))","v":" "},{"$f":"IF(A2419=0,\" \",IF(ISNA(MATCH(A2419,Personnel!A:A,0)),\"وجود ندارد\",LOOKUP(A2419,Personnel!A:A,Personnel!C:C)))","v":" "},null,null,null,null,null,null,null,null,"","",1,0," "," ",""," "," ","",null," "," ",",,,,,,,,,,,,"]
[null,{"$f":"IF(A2427=0,\" \",IF(ISNA(MATCH(A2427,Personnel!A:A,0)),\"وجود ندارد\",LOOKUP(A2427,Personnel!A:A,Personnel!B:B)))","v":" "},{"$f":"IF(A2427=0,\" \",IF(ISNA(MATCH(A2427,Personnel!A:A,0)),\"وجود ندارد\",LOOKUP(A2427,Personnel!A:A,Personnel!C:C)))","v":" "},null,null,null,null,null,null,null,null,"","",1,0," "," ",""," "," ","",null," "," ",",,,,,,,,,,,,"]
[null,{"$f":"IF(A2434=0,\" \",IF(ISNA(MATCH(A2434,Personnel!A:A,0)),\"وجود ندارد\",LOOKUP(A2434,Personnel!A:A,Personnel!B:B)))","v":" "},{"$f":"IF(A2434=0,\" \",IF(ISNA(MATCH(A2434,Personnel!A:A,0)),\"وجود ندارد\",LOOKUP(A2434,Personnel!A:A,Personnel!C:C)))","v":" "},null,null,null,null,null,null,null,null,"","",1,0,{"$f":"IF(A2434=0,\" \",IF(N2434+O2434<>0,\"تاریخ اشتباه است\",\"\"))","v":" "},{"$f":"IF(A2434=0,\" \",IF(AND(G2434<>0,H2434>G2434),\"مبلغ قسط از مبلغ کل بیشتر است\",\"\"))","v":" "},""," ",{"$f":"IF(A2434=0,\" \",IF(OR(K2434<1,K2434>3),\"نوع عمل اشتباه است\",\"\"))","v":" "},"",null," "," ",",,,,,,,,,,,,"]
[null,{"$f":"IF(A2446=0,\" \",IF(ISNA(MATCH(A2446,Personnel!A:A,0)),\"وجود ندارد\",LOOKUP(A2446,Personnel!A:A,Personnel!B:B)))","v":" "},{"$f":"IF(A2446=0,\" \",IF(ISNA(MATCH(A2446,Personnel!A:A,0)),\"وجود ندارد\",LOOKUP(A2446,Personnel!A:A,Personnel!C:C)))","v":" "},null,null,null,null,null,null,null,null,"","",1,0," "," ",""," "," ","",null," "," ",",,,,,,,,,,,,"]
[null,{"$f":"IF(A2453=0,\" \",IF(ISNA(MATCH(A2453,Personnel!A:A,0)),\"وجود ندارد\",LOOKUP(A2453,Personnel!A:A,Personnel!B:B)))","v":" "},{"$f":"IF(A2453=0,\" \",IF(ISNA(MATCH(A2453,Personnel!A:A,0)),\"وجود ندارد\",LOOKUP(A2453,Personnel!A:A,Personnel!C:C)))","v":" "},null,null,null,null,null,null,null,null,"","",1,0," "," ",""," "," ","",null," "," ",",,,,,,,,,,,,"]
[null,{"$f":"IF(A2468=0,\" \",IF(ISNA(MATCH(A2468,Personnel!A:A,0)),\"وجود ندارد\",LOOKUP(A2468,Personnel!A:A,Personnel!B:B)))","v":" "},{"$f":"IF(A2468=0,\" \",IF(ISNA(MATCH(A2468,Personnel!A:A,0)),\"وجود ندارد\",LOOKUP(A2468,Personnel!A:A,Personnel!C:C)))","v":" "},null,null,null,null,null,null,null,null,"","",1,0," "," ",""," "," ","",null," "," ",",,,,,,,,,,,,"]
[null,{"$f":"IF(A2476=0,\" \",IF(ISNA(MATCH(A2476,Personnel!A:A,0)),\"وجود ندارد\",LOOKUP(A2476,Personnel!A:A,Personnel!B:B)))","v":" "},{"$f":"IF(A2476=0,\" \",IF(ISNA(MATCH(A2476,Personnel!A:A,0)),\"وجود ندارد\",LOOKUP(A2476,Personnel!A:A,Personnel!C:C)))","v":" "},null,null,null,null,null,null,null,null,"","",1,0," "," ",""," "," ","",null," "," ",",,,,,,,,,,,,"]
[null,{"$f":"IF(A2483=0,\" \",IF(ISNA(MATCH(A2483,Personnel!A:A,0)),\"وجود ندارد\",LOOKUP(A2483,Personnel!A:A,Personnel!B:B)))","v":" "},{"$f":"IF(A2483=0,\" \",IF(ISNA(MATCH(A2483,Personnel!A:A,0)),\"وجود ندارد\",LOOKUP(A2483,Personnel!A:A,Personnel!C:C)))","v":" "},null,null,null,null,null,null,null,null,"","",1,0," "," ",""," "," ","",null," "," ",",,,,,,,,,,,,"]
[null,{"$f":"IF(A2495=0,\" \",IF(ISNA(MATCH(A2495,Personnel!A:A,0)),\"وجود ندارد\",LOOKUP(A2495,Personnel!A:A,Personnel!B:B)))","v":" "},{"$f":"IF(A2495=0,\" \",IF(ISNA(MATCH(A2495,Personnel!A:A,0)),\"وجود ندارد\",LOOKUP(A2495,Personnel!A:A,Personnel!C:C)))","v":" "},null,null,null,null,null,null,null,null,"","",1,0," "," ",""," "," ","",null," "," ",",,,,,,,,,,,,"]
[null,{"$f":"IF(A2498=0,\" \",IF(ISNA(MATCH(A2498,Personnel!A:A,0)),\"وجود ندارد\",LOOKUP(A2498,Personnel!A:A,Personnel!B:B)))","v":" "},{"$f":"IF(A2498=0,\" \",IF(ISNA(MATCH(A2498,Personnel!A:A,0)),\"وجود ندارد\",LOOKUP(A2498,Personnel!A:A,Personnel!C:C)))","v":" "},null,null,null,null,null,null,null,null,"","",1,0,{"$f":"IF(A2498=0,\" \",IF(N2498+O2498<>0,\"تاریخ اشتباه است\",\"\"))","v":" "},{"$f":"IF(A2498=0,\" \",IF(AND(G2498<>0,H2498>G2498),\"مبلغ قسط از مبلغ کل بیشتر است\",\"\"))","v":" "},""," ",{"$f":"IF(A2498=0,\" \",IF(OR(K2498<1,K2498>3),\"نوع عمل اشتباه است\",\"\"))","v":" "},"",null," "," ",",,,,,,,,,,,,"]
[null,{"$f":"IF(A2509=0,\" \",IF(ISNA(MATCH(A2509,Personnel!A:A,0)),\"وجود ندارد\",LOOKUP(A2509,Personnel!A:A,Personnel!B:B)))","v":" "},{"$f":"IF(A2509=0,\" \",IF(ISNA(MATCH(A2509,Personnel!A:A,0)),\"وجود ندارد\",LOOKUP(A2509,Personnel!A:A,Personnel!C:C)))","v":" "},null,null,null,null,null,null,null,null,"","",1,0," "," ",""," "," ","",null," "," ",",,,,,,,,,,,,"]
[null,{"$f":"IF(A2516=0,\" \",IF(ISNA(MATCH(A2516,Personnel!A:A,0)),\"وجود ندارد\",LOOKUP(A2516,Personnel!A:A,Personnel!B:B)))","v":" "},{"$f":"IF(A2516=0,\" \",IF(ISNA(MATCH(A2516,Personnel!A:A,0)),\"وجود ندارد\",LOOKUP(A2516,Personnel!A:A,Personnel!C:C)))","v":" "},null,null,null,null,null,null,null,null,"","",1,0," "," ",""," "," ","",null," "," ",",,,,,,,,,,,,"]
[null,{"$f":"IF(A2523=0,\" \",IF(ISNA(MATCH(A2523,Personnel!A:A,0)),\"وجود ندارد\",LOOKUP(A2523,Personnel!A:A,Personnel!B:B)))","v":" "},{"$f":"IF(A2523=0,\" \",IF(ISNA(MATCH(A2523,Personnel!A:A,0)),\"وجود ندارد\",LOOKUP(A2523,Personnel!A:A,Personnel!C:C)))","v":" "},null,null,null,null,null,null,null,null,"","",1,0," "," ",""," "," ","",null," "," ",",,,,,,,,,,,,"]
[null,{"$f":"IF(A2535=0,\" \",IF(ISNA(MATCH(A2535,Personnel!A:A,0)),\"وجود ندارد\",LOOKUP(A2535,Personnel!A:A,Personnel!B:B)))","v":" "},{"$f":"IF(A2535=0,\" \",IF(ISNA(MATCH(A2535,Personnel!A:A,0)),\"وجود ندارد\",LOOKUP(A2535,Personnel!A:A,Personnel!C:C)))","v":" "},null,null,null,null,null,null,null,null,"","",1,0," "," ",""," "," ","",null," "," ",",,,,,,,,,,,,"]
[null,{"$f":"IF(A2547=0,\" \",IF(ISNA(MATCH(A2547,Personnel!A:A,0)),\"وجود ندارد\",LOOKUP(A2547,Personnel!A:A,Personnel!B:B)))","v":" "},{"$f":"IF(A2547=0,\" \",IF(ISNA(MATCH(A2547,Personnel!A:A,0)),\"وجود ندارد\",LOOKUP(A2547,Personnel!A:A,Personnel!C:C)))","v":" "},null,null,null,null,null,null,null,null,"","",1,0," "," ",""," "," ","",null," "," ",",,,,,,,,,,,,"]
[null,{"$f":"IF(A2550=0,\" \",IF(ISNA(MATCH(A2550,Personnel!A:A,0)),\"وجود ندارد\",LOOKUP(A2550,Personnel!A:A,Personnel!B:B)))","v":" "},{"$f":"IF(A2550=0,\" \",IF(ISNA(MATCH(A2550,Personnel!A:A,0)),\"وجود ندارد\",LOOKUP(A2550,Personnel!A:A,Personnel!C:C)))","v":" "},null,null,null,null,null,null,null,null,"","",1,0," "," ",""," "," ","",null," "," ",",,,,,,,,,,,,"]
[null,{"$f":"IF(A2565=0,\" \",IF(ISNA(MATCH(A2565,Personnel!A:A,0)),\"وجود ندارد\",LOOKUP(A2565,Personnel!A:A,Personnel!B:B)))","v":" "},{"$f":"IF(A2565=0,\" \",IF(ISNA(MATCH(A2565,Personnel!A:A,0)),\"وجود ندارد\",LOOKUP(A2565,Personnel!A:A,Personnel!C:C)))","v":" "},null,null,null,null,null,null,null,null,"","",1,0," "," ",""," "," ","",null," "," ",",,,,,,,,,,,,"]
[null,{"$f":"IF(A2568=0,\" \",IF(ISNA(MATCH(A2568,Personnel!A:A,0)),\"وجود ندارد\",LOOKUP(A2568,Personnel!A:A,Personnel!B:B)))","v":" "},{"$f":"IF(A2568=0,\" \",IF(ISNA(MATCH(A2568,Personnel!A:A,0)),\"وجود ندارد\",LOOKUP(A2568,Personnel!A:A,Personnel!C:C)))","v":" "},null,null,null,null,null,null,null,null,"","",1,0," "," ",""," "," ","",null," "," ",",,,,,,,,,,,,"]
[null,{"$f":"IF(A2575=0,\" \",IF(ISNA(MATCH(A2575,Personnel!A:A,0)),\"وجود ندارد\",LOOKUP(A2575,Personnel!A:A,Personnel!B:B)))","v":" "},{"$f":"IF(A2575=0,\" \",IF(ISNA(MATCH(A2575,Personnel!A:A,0)),\"وجود ندارد\",LOOKUP(A2575,Personnel!A:A,Personnel!C:C)))","v":" "},null,null,null,null,null,null,null,null,"","",1,0," "," ",""," "," ","",null," "," ",",,,,,,,,,,,,"]
[null,{"$f":"IF(A2587=0,\" \",IF(ISNA(MATCH(A2587,Personnel!A:A,0)),\"وجود ندارد\",LOOKUP(A2587,Personnel!A:A,Personnel!B:B)))","v":" "},{"$f":"IF(A2587=0,\" \",IF(ISNA(MATCH(A2587,Personnel!A:A,0)),\"وجود ندارد\",LOOKUP(A2587,Personnel!A:A,Personnel!C:C)))","v":" "},null,null,null,null,null,null,null,null,"","",1,0," "," ",""," "," ","",null," "," ",",,,,,,,,,,,,"]
[null,{"$f":"IF(A2599=0,\" \",IF(ISNA(MATCH(A2599,Personnel!A:A,0)),\"وجود ندارد\",LOOKUP(A2599,Personnel!A:A,Personnel!B:B)))","v":" "},{"$f":"IF(A2599=0,\" \",IF(ISNA(MATCH(A2599,Personnel!A:A,0)),\"وجود ندارد\",LOOKUP(A2599,Personnel!A:A,Personnel!C:C)))","v":" "},null,null,null,null,null,null,null,null,"","",1,0," "," ",""," "," ","",null," "," ",",,,,,,,,,,,,"]
[null,{"$f":"IF(A2605=0,\" \",IF(ISNA(MATCH(A2605,Personnel!A:A,0)),\"وجود ندارد\",LOOKUP(A2605,Personnel!A:A,Personnel!B:B)))","v":" "},{"$f":"IF(A2605=0,\" \",IF(ISNA(MATCH(A2605,Personnel!A:A,0)),\"وجود ندارد\",LOOKUP(A2605,Personnel!A:A,Personnel!C:C)))","v":" "},null,null,null,null,null,null,null,null,"","",1,0," "," ",""," "," ","",null," "," ",",,,,,,,,,,,,"]
[null,{"$f":"IF(A2617=0,\" \",IF(ISNA(MATCH(A2617,Personnel!A:A,0)),\"وجود ندارد\",LOOKUP(A2617,Personnel!A:A,Personnel!B:B)))","v":" "},{"$f":"IF(A2617=0,\" \",IF(ISNA(MATCH(A2617,Personnel!A:A,0)),\"وجود ندارد\",LOOKUP(A2617,Personnel!A:A,Personnel!C:C)))","v":" "},null,null,null,null,null,null,null,null,"","",1,0," "," ",""," "," ","",null," "," ",",,,,,,,,,,,,"]
[null,{"$f":"IF(A2624=0,\" \",IF(ISNA(MATCH(A2624,Personnel!A:A,0)),\"وجود ندارد\",LOOKUP(A2624,Personnel!A:A,Personnel!B:B)))","v":" "},{"$f":"IF(A2624=0,\" \",IF(ISNA(MATCH(A2624,Personnel!A:A,0)),\"وجود ندارد\",LOOKUP(A2624,Personnel!A:A,Personnel!C:C)))","v":" "},null,null,null,null,null,null,null,null,"","",1,0," "," ",""," "," ","",null," "," ",",,,,,,,,,,,,"]
[null,{"$f":"IF(A2636=0,\" \",IF(ISNA(MATCH(A2636,Personnel!A:A,0)),\"وجود ندارد\",LOOKUP(A2636,Personnel!A:A,Personnel!B:B)))","v":" "},{"$f":"IF(A2636=0,\" \",IF(ISNA(MATCH(A2636,Personnel!A:A,0)),\"وجود ندارد\",LOOKUP(A2636,Personnel!A:A,Personnel!C:C)))","v":" "},null,null,null,null,null,null,null,null,"","",1,0," "," ",""," "," ","",null," "," ",",,,,,,,,,,,,"]
[null,{"$f":"IF(A2640=0,\" \",IF(ISNA(MATCH(A2640,Personnel!A:A,0)),\"وجود ندارد\",LOOKUP(A2640,Personnel!A:A,Personnel!B:B)))","v":" "},{"$f":"IF(A2640=0,\" \",IF(ISNA(MATCH(A2640,Personnel!A:A,0)),\"وجود ندارد\",LOOKUP(A2640,Personnel!A:A,Personnel!C:C)))","v":" "},null,null,null,null,null,null,null,null,"","",1,0," "," ",""," "," ","",null," "," ",",,,,,,,,,,,,"]
[null,{"$f":"IF(A2645=0,\" \",IF(ISNA(MATCH(A2645,Personnel!A:A,0)),\"وجود ندارد\",LOOKUP(A2645,Personnel!A:A,Personnel!B:B)))","v":" "},{"$f":"IF(A2645=0,\" \",IF(ISNA(MATCH(A2645,Personnel!A:A,0)),\"وجود ندارد\",LOOKUP(A2645,Personnel!A:A,Personnel!C:C)))","v":" "},null,null,null,null,null,null,null,null,"","",1,0," "," ",""," "," ","",null," "," ",",,,,,,,,,,,,"]
[null,{"$f":"IF(A2657=0,\" \",IF(ISNA(MATCH(A2657,Personnel!A:A,0)),\"وجود ندارد\",LOOKUP(A2657,Personnel!A:A,Personnel!B:B)))","v":" "},{"$f":"IF(A2657=0,\" \",IF(ISNA(MATCH(A2657,Personnel!A:A,0)),\"وجود ندارد\",LOOKUP(A2657,Personnel!A:A,Personnel!C:C)))","v":" "},null,null,null,null,null,null,null,null,"","",1,0," "," ",""," "," ","",null," "," ",",,,,,,,,,,,,"]
[null,{"$f":"IF(A2664=0,\" \",IF(ISNA(MATCH(A2664,Personnel!A:A,0)),\"وجود ندارد\",LOOKUP(A2664,Personnel!A:A,Personnel!B:B)))","v":" "},{"$f":"IF(A2664=0,\" \",IF(ISNA(MATCH(A2664,Personnel!A:A,0)),\"وجود ندارد\",LOOKUP(A2664,Personnel!A:A,Personnel!C:C)))","v":" "},null,null,null,null,null,null,null,null,"","",1,0," "," ",""," "," ","",null," "," ",",,,,,,,,,,,,"]
[null,{"$f":"IF(A2676=0,\" \",IF(ISNA(MATCH(A2676,Personnel!A:A,0)),\"وجود ندارد\",LOOKUP(A2676,Personnel!A:A,Personnel!B:B)))","v":" "},{"$f":"IF(A2676=0,\" \",IF(ISNA(MATCH(A2676,Personnel!A:A,0)),\"وجود ندارد\",LOOKUP(A2676,Personnel!A:A,Personnel!C:C)))","v":" "},null,null,null,null,null,null,null,null,"","",1,0," "," ",""," "," ","",null," "," ",",,,,,,,,,,,,"]
[null,{"$f":"IF(A2681=0,\" \",IF(ISNA(MATCH(A2681,Personnel!A:A,0)),\"وجود ندارد\",LOOKUP(A2681,Personnel!A:A,Personnel!B:B)))","v":" "},{"$f":"IF(A2681=0,\" \",IF(ISNA(MATCH(A2681,Personnel!A:A,0)),\"وجود ندارد\",LOOKUP(A2681,Personnel!A:A,Personnel!C:C)))","v":" "},null,null,null,null,null,null,null,null,"","",1,0," "," ",""," "," ","",null," "," ",",,,,,,,,,,,,"]
[null,{"$f":"IF(A2694=0,\" \",IF(ISNA(MATCH(A2694,Personnel!A:A,0)),\"وجود ندارد\",LOOKUP(A2694,Personnel!A:A,Personnel!B:B)))","v":" "},{"$f":"IF(A2694=0,\" \",IF(ISNA(MATCH(A2694,Personnel!A:A,0)),\"وجود ندارد\",LOOKUP(A2694,Personnel!A:A,Personnel!C:C)))","v":" "},null,null,null,null,null,null,null,null,"","",1,0," "," ",""," "," ","",null," "," ",",,,,,,,,,,,,"]
[null,{"$f":"IF(A2706=0,\" \",IF(ISNA(MATCH(A2706,Personnel!A:A,0)),\"وجود ندارد\",LOOKUP(A2706,Personnel!A:A,Personnel!B:B)))","v":" "},{"$f":"IF(A2706=0,\" \",IF(ISNA(MATCH(A2706,Personnel!A:A,0)),\"وجود ندارد\",LOOKUP(A2706,Personnel!A:A,Personnel!C:C)))","v":" "},null,null,null,null,null,null,null,null,"","",1,0," "," ",""," "," ","",null," "," ",",,,,,,,,,,,,"]
[null,{"$f":"IF(A2713=0,\" \",IF(ISNA(MATCH(A2713,Personnel!A:A,0)),\"وجود ندارد\",LOOKUP(A2713,Personnel!A:A,Personnel!B:B)))","v":" "},{"$f":"IF(A2713=0,\" \",IF(ISNA(MATCH(A2713,Personnel!A:A,0)),\"وجود ندارد\",LOOKUP(A2713,Personnel!A:A,Personnel!C:C)))","v":" "},null,null,null,null,null,null,null,null,"","",1,0," "," ",""," "," ","",null," "," ",",,,,,,,,,,,,"]
[null,{"$f":"IF(A2716=0,\" \",IF(ISNA(MATCH(A2716,Personnel!A:A,0)),\"وجود ندارد\",LOOKUP(A2716,Personnel!A:A,Personnel!B:B)))","v":" "},{"$f":"IF(A2716=0,\" \",IF(ISNA(MATCH(A2716,Personnel!A:A,0)),\"وجود ندارد\",LOOKUP(A2716,Personnel!A:A,Personnel!C:C)))","v":" "},null,null,null,null,null,null,null,null,"","",1,0," "," ",""," "," ","",null," "," ",",,,,,,,,,,,,"]
[null,{"$f":"IF(A2730=0,\" \",IF(ISNA(MATCH(A2730,Personnel!A:A,0)),\"وجود ندارد\",LOOKUP(A2730,Personnel!A:A,Personnel!B:B)))","v":" "},{"$f":"IF(A2730=0,\" \",IF(ISNA(MATCH(A2730,Personnel!A:A,0)),\"وجود ندارد\",LOOKUP(A2730,Personnel!A:A,Personnel!C:C)))","v":" "},null,null,null,null,null,null,null,null,"","",1,0," "," ",""," "," ","",null," "," ",",,,,,,,,,,,,"]
[null,{"$f":"IF(A2734=0,\" \",IF(ISNA(MATCH(A2734,Personnel!A:A,0)),\"وجود ندارد\",LOOKUP(A2734,Personnel!A:A,Personnel!B:B)))","v":" "},{"$f":"IF(A2734=0,\" \",IF(ISNA(MATCH(A2734,Personnel!A:A,0)),\"وجود ندارد\",LOOKUP(A2734,Personnel!A:A,Personnel!C:C)))","v":" "},null,null,null,null,null,null,null,null,"","",1,0," "," ",""," "," ","",null," "," ",",,,,,,,,,,,,"]
[null,{"$f":"IF(A2746=0,\" \",IF(ISNA(MATCH(A2746,Personnel!A:A,0)),\"وجود ندارد\",LOOKUP(A2746,Personnel!A:A,Personnel!B:B)))","v":" "},{"$f":"IF(A2746=0,\" \",IF(ISNA(MATCH(A2746,Personnel!A:A,0)),\"وجود ندارد\",LOOKUP(A2746,Personnel!A:A,Personnel!C:C)))","v":" "},null,null,null,null,null,null,null,null,"","",1,0," "," ",""," "," ","",null," "," ",",,,,,,,,,,,,"]
[null,{"$f":"IF(A2753=0,\" \",IF(ISNA(MATCH(A2753,Personnel!A:A,0)),\"وجود ندارد\",LOOKUP(A2753,Personnel!A:A,Personnel!B:B)))","v":" "},{"$f":"IF(A2753=0,\" \",IF(ISNA(MATCH(A2753,Personnel!A:A,0)),\"وجود ندارد\",LOOKUP(A2753,Personnel!A:A,Personnel!C:C)))","v":" "},null,null,null,null,null,null,null,null,"","",1,0," "," ",""," "," ","",null," "," ",",,,,,,,,,,,,"]
[null,{"$f":"IF(A2761=0,\" \",IF(ISNA(MATCH(A2761,Personnel!A:A,0)),\"وجود ندارد\",LOOKUP(A2761,Personnel!A:A,Personnel!B:B)))","v":" "},{"$f":"IF(A2761=0,\" \",IF(ISNA(MATCH(A2761,Personnel!A:A,0)),\"وجود ندارد\",LOOKUP(A2761,Personnel!A:A,Personnel!C:C)))","v":" "},null,null,null,null,null,null,null,null,"","",1,0," "," ",""," "," ","",null," "," ",",,,,,,,,,,,,"]
[null,{"$f":"IF(A2776=0,\" \",IF(ISNA(MATCH(A2776,Personnel!A:A,0)),\"وجود ندارد\",LOOKUP(A2776,Personnel!A:A,Personnel!B:B)))","v":" "},{"$f":"IF(A2776=0,\" \",IF(ISNA(MATCH(A2776,Personnel!A:A,0)),\"وجود ندارد\",LOOKUP(A2776,Personnel!A:A,Personnel!C:C)))","v":" "},null,null,null,null,null,null,null,null,"","",1,0," "," ",""," "," ","",null," "," ",",,,,,,,,,,,,"]
[null,{"$f":"IF(A2783=0,\" \",IF(ISNA(MATCH(A2783,Personnel!A:A,0)),\"وجود ندارد\",LOOKUP(A2783,Personnel!A:A,Personnel!B:B)))","v":" "},{"$f":"IF(A2783=0,\" \",IF(ISNA(MATCH(A2783,Personnel!A:A,0)),\"وجود ندارد\",LOOKUP(A2783,Personnel!A:A,Personnel!C:C)))","v":" "},null,null,null,null,null,null,null,null,"","",1,0," "," ",""," "," ","",null," "," ",",,,,,,,,,,,,"]
[null,{"$f":"IF(A2786=0,\" \",IF(ISNA(MATCH(A2786,Personnel!A:A,0)),\"وجود ندارد\",LOOKUP(A2786,Personnel!A:A,Personnel!B:B)))","v":" "},{"$f":"IF(A2786=0,\" \",IF(ISNA(MATCH(A2786,Personnel!A:A,0)),\"وجود ندارد\",LOOKUP(A2786,Personnel!A:A,Personnel!C:C)))","v":" "},null,null,null,null,null,null,null,null,"","",1,0," "," ",""," "," ","",null," "," ",",,,,,,,,,,,,"]
[null,{"$f":"IF(A2798=0,\" \",IF(ISNA(MATCH(A2798,Personnel!A:A,0)),\"وجود ندارد\",LOOKUP(A2798,Personnel!A:A,Personnel!B:B)))","v":" "},{"$f":"IF(A2798=0,\" \",IF(ISNA(MATCH(A2798,Personnel!A:A,0)),\"وجود ندارد\",LOOKUP(A2798,Personnel!A:A,Personnel!C:C)))","v":" "},null,null,null,null,null,null,null,null,"","",1,0," "," ",""," "," ","",null," "," ",",,,,,,,,,,,,"]
[null,{"$f":"IF(A2810=0,\" \",IF(ISNA(MATCH(A2810,Personnel!A:A,0)),\"وجود ندارد\",LOOKUP(A2810,Personnel!A:A,Personnel!B:B)))","v":" "},{"$f":"IF(A2810=0,\" \",IF(ISNA(MATCH(A2810,Personnel!A:A,0)),\"وجود ندارد\",LOOKUP(A2810,Personnel!A:A,Personnel!C:C)))","v":" "},null,null,null,null,null,null,null,null,"","",1,0," "," ",""," "," ","",null," "," ",",,,,,,,,,,,,"]
[null,{"$f":"IF(A2816=0,\" \",IF(ISNA(MATCH(A2816,Personnel!A:A,0)),\"وجود ندارد\",LOOKUP(A2816,Personnel!A:A,Personnel!B:B)))","v":" "},{"$f":"IF(A2816=0,\" \",IF(ISNA(MATCH(A2816,Personnel!A:A,0)),\"وجود ندارد\",LOOKUP(A2816,Personnel!A:A,Personnel!C:C)))","v":" "},null,null,null,null,null,null,null,null,"","",1,0," "," ",""," "," ","",null," "," ",",,,,,,,,,,,,"]
[null,{"$f":"IF(A2823=0,\" \",IF(ISNA(MATCH(A2823,Personnel!A:A,0)),\"وجود ندارد\",LOOKUP(A2823,Personnel!A:A,Personnel!B:B)))","v":" "},{"$f":"IF(A2823=0,\" \",IF(ISNA(MATCH(A2823,Personnel!A:A,0)),\"وجود ندارد\",LOOKUP(A2823,Personnel!A:A,Personnel!C:C)))","v":" "},null,null,null,null,null,null,null,null,"","",1,0," "," ",""," "," ","",null," "," ",",,,,,,,,,,,,"]
[null,{"$f":"IF(A2835=0,\" \",IF(ISNA(MATCH(A2835,Personnel!A:A,0)),\"وجود ندارد\",LOOKUP(A2835,Personnel!A:A,Personnel!B:B)))","v":" "},{"$f":"IF(A2835=0,\" \",IF(ISNA(MATCH(A2835,Personnel!A:A,0)),\"وجود ندارد\",LOOKUP(A2835,Personnel!A:A,Personnel!C:C)))","v":" "},null,null,null,null,null,null,null,null,"","",1,0," "," ",""," "," ","",null," "," ",",,,,,,,,,,,,"]
[null,{"$f":"IF(A2847=0,\" \",IF(ISNA(MATCH(A2847,Personnel!A:A,0)),\"وجود ندارد\",LOOKUP(A2847,Personnel!A:A,Personnel!B:B)))","v":" "},{"$f":"IF(A2847=0,\" \",IF(ISNA(MATCH(A2847,Personnel!A:A,0)),\"وجود ندارد\",LOOKUP(A2847,Personnel!A:A,Personnel!C:C)))","v":" "},null,null,null,null,null,null,null,null,"","",1,0," "," ",""," "," ","",null," "," ",",,,,,,,,,,,,"]
[null,{"$f":"IF(A2851=0,\" \",IF(ISNA(MATCH(A2851,Personnel!A:A,0)),\"وجود ندارد\",LOOKUP(A2851,Personnel!A:A,Personnel!B:B)))","v":" "},{"$f":"IF(A2851=0,\" \",IF(ISNA(MATCH(A2851,Personnel!A:A,0)),\"وجود ندارد\",LOOKUP(A2851,Personnel!A:A,Personnel!C:C)))","v":" "},null,null,null,null,null,null,null,null,"","",1,0," "," ",""," "," ","",null," "," ",",,,,,,,,,,,,"]
[null,{"$f":"IF(A2856=0,\" \",IF(ISNA(MATCH(A2856,Personnel!A:A,0)),\"وجود ندارد\",LOOKUP(A2856,Personnel!A:A,Personnel!B:B)))","v":" "},{"$f":"IF(A2856=0,\" \",IF(ISNA(MATCH(A2856,Personnel!A:A,0)),\"وجود ندارد\",LOOKUP(A2856,Personnel!A:A,Personnel!C:C)))","v":" "},null,null,null,null,null,null,null,null,"","",1,0," "," ",""," "," ","",null," "," ",",,,,,,,,,,,,"]
[null,{"$f":"IF(A2868=0,\" \",IF(ISNA(MATCH(A2868,Personnel!A:A,0)),\"وجود ندارد\",LOOKUP(A2868,Personnel!A:A,Personnel!B:B)))","v":" "},{"$f":"IF(A2868=0,\" \",IF(ISNA(MATCH(A2868,Personnel!A:A,0)),\"وجود ندارد\",LOOKUP(A2868,Personnel!A:A,Personnel!C:C)))","v":" "},null,null,null,null,null,null,null,null,"","",1,0," "," ",""," "," ","",null," "," ",",,,,,,,,,,,,"]
[null,{"$f":"IF(A2875=0,\" \",IF(ISNA(MATCH(A2875,Personnel!A:A,0)),\"وجود ندارد\",LOOKUP(A2875,Personnel!A:A,Personnel!B:B)))","v":" "},{"$f":"IF(A2875=0,\" \",IF(ISNA(MATCH(A2875,Personnel!A:A,0)),\"وجود ندارد\",LOOKUP(A2875,Personnel!A:A,Personnel!C:C)))","v":" "},null,null,null,null,null,null,null,null,"","",1,0," "," ",""," "," ","",null," "," ",",,,,,,,,,,,,"]
[null,{"$f":"IF(A2887=0,\" \",IF(ISNA(MATCH(A2887,Personnel!A:A,0)),\"وجود ندارد\",LOOKUP(A2887,Personnel!A:A,Personnel!B:B)))","v":" "},{"$f":"IF(A2887=0,\" \",IF(ISNA(MATCH(A2887,Personnel!A:A,0)),\"وجود ندارد\",LOOKUP(A2887,Personnel!A:A,Personnel!C:C)))","v":" "},null,null,null,null,null,null,null,null,"","",1,0," "," ",""," "," ","",null," "," ",",,,,,,,,,,,,"]
[null,{"$f":"IF(A2892=0,\" \",IF(ISNA(MATCH(A2892,Personnel!A:A,0)),\"وجود ندارد\",LOOKUP(A2892,Personnel!A:A,Personnel!B:B)))","v":" "},{"$f":"IF(A2892=0,\" \",IF(ISNA(MATCH(A2892,Personnel!A:A,0)),\"وجود ندارد\",LOOKUP(A2892,Personnel!A:A,Personnel!C:C)))","v":" "},null,null,null,null,null,null,null,null,"","",1,0," "," ",""," "," ","",null," "," ",",,,,,,,,,,,,"]
[null,{"$f":"IF(A2905=0,\" \",IF(ISNA(MATCH(A2905,Personnel!A:A,0)),\"وجود ندارد\",LOOKUP(A2905,Personnel!A:A,Personnel!B:B)))","v":" "},{"$f":"IF(A2905=0,\" \",IF(ISNA(MATCH(A2905,Personnel!A:A,0)),\"وجود ندارد\",LOOKUP(A2905,Personnel!A:A,Personnel!C:C)))","v":" "},null,null,null,null,null,null,null,null,"","",1,0," "," ",""," "," ","",null," "," ",",,,,,,,,,,,,"]
[null,{"$f":"IF(A2917=0,\" \",IF(ISNA(MATCH(A2917,Personnel!A:A,0)),\"وجود ندارد\",LOOKUP(A2917,Personnel!A:A,Personnel!B:B)))","v":" "},{"$f":"IF(A2917=0,\" \",IF(ISNA(MATCH(A2917,Personnel!A:A,0)),\"وجود ندارد\",LOOKUP(A2917,Personnel!A:A,Personnel!C:C)))","v":" "},null,null,null,null,null,null,null,null,"","",1,0," "," ",""," "," ","",null," "," ",",,,,,,,,,,,,"]
[null,{"$f":"IF(A2924=0,\" \",IF(ISNA(MATCH(A2924,Personnel!A:A,0)),\"وجود ندارد\",LOOKUP(A2924,Personnel!A:A,Personnel!B:B)))","v":" "},{"$f":"IF(A2924=0,\" \",IF(ISNA(MATCH(A2924,Personnel!A:A,0)),\"وجود ندارد\",LOOKUP(A2924,Personnel!A:A,Personnel!C:C)))","v":" "},null,null,null,null,null,null,null,null,"","",1,0," "," ",""," "," ","",null," "," ",",,,,,,,,,,,,"]
[null,{"$f":"IF(A2927=0,\" \",IF(ISNA(MATCH(A2927,Personnel!A:A,0)),\"وجود ندارد\",LOOKUP(A2927,Personnel!A:A,Personnel!B:B)))","v":" "},{"$f":"IF(A2927=0,\" \",IF(ISNA(MATCH(A2927,Personnel!A:A,0)),\"وجود ندارد\",LOOKUP(A2927,Personnel!A:A,Personnel!C:C)))","v":" "},null,null,null,null,null,null,null,null,"","",1,0," "," ",""," "," ","",null," "," ",",,,,,,,,,,,,"]
[null,{"$f":"IF(A2941=0,\" \",IF(ISNA(MATCH(A2941,Personnel!A:A,0)),\"وجود ندارد\",LOOKUP(A2941,Personnel!A:A,Personnel!B:B)))","v":" "},{"$f":"IF(A2941=0,\" \",IF(ISNA(MATCH(A2941,Personnel!A:A,0)),\"وجود ندارد\",LOOKUP(A2941,Personnel!A:A,Personnel!C:C)))","v":" "},null,null,null,null,null,null,null,null,"","",1,0," "," ",""," "," ","",null," "," ",",,,,,,,,,,,,"]
[null,{"$f":"IF(A2945=0,\" \",IF(ISNA(MATCH(A2945,Personnel!A:A,0)),\"وجود ندارد\",LOOKUP(A2945,Personnel!A:A,Personnel!B:B)))","v":" "},{"$f":"IF(A2945=0,\" \",IF(ISNA(MATCH(A2945,Personnel!A:A,0)),\"وجود ندارد\",LOOKUP(A2945,Personnel!A:A,Personnel!C:C)))","v":" "},null,null,null,null,null,null,null,null,"","",1,0," "," ",""," "," ","",null," "," ",",,,,,,,,,,,,"]
[null,{"$f":"IF(A2957=0,\" \",IF(ISNA(MATCH(A2957,Personnel!A:A,0)),\"وجود ندارد\",LOOKUP(A2957,Personnel!A:A,Personnel!B:B)))","v":" "},{"$f":"IF(A2957=0,\" \",IF(ISNA(MATCH(A2957,Personnel!A:A,0)),\"وجود ندارد\",LOOKUP(A2957,Personnel!A:A,Personnel!C:C)))","v":" "},null,null,null,null,null,null,null,null,"","",1,0," "," ",""," "," ","",null," "," ",",,,,,,,,,,,,"]
[null,{"$f":"IF(A2964=0,\" \",IF(ISNA(MATCH(A2964,Personnel!A:A,0)),\"وجود ندارد\",LOOKUP(A2964,Personnel!A:A,Personnel!B:B)))","v":" "},{"$f":"IF(A2964=0,\" \",IF(ISNA(MATCH(A2964,Personnel!A:A,0)),\"وجود ندارد\",LOOKUP(A2964,Personnel!A:A,Personnel!C:C)))","v":" "},null,null,null,null,null,null,null,null,"","",1,0," "," ",""," "," ","",null," "," ",",,,,,,,,,,,,"]
[null,{"$f":"IF(A2976=0,\" \",IF(ISNA(MATCH(A2976,Personnel!A:A,0)),\"وجود ندارد\",LOOKUP(A2976,Personnel!A:A,Personnel!B:B)))","v":" "},{"$f":"IF(A2976=0,\" \",IF(ISNA(MATCH(A2976,Personnel!A:A,0)),\"وجود ندارد\",LOOKUP(A2976,Personnel!A:A,Personnel!C:C)))","v":" "},null,null,null,null,null,null,null,null,"","",1,0," "," ",""," "," ","",null," "," ",",,,,,,,,,,,,"]
[null,{"$f":"IF(A2982=0,\" \",IF(ISNA(MATCH(A2982,Personnel!A:A,0)),\"وجود ندارد\",LOOKUP(A2982,Personnel!A:A,Personnel!B:B)))","v":" "},{"$f":"IF(A2982=0,\" \",IF(ISNA(MATCH(A2982,Personnel!A:A,0)),\"وجود ندارد\",LOOKUP(A2982,Personnel!A:A,Personnel!C:C)))","v":" "},null,null,null,null,null,null,null,null,"","",1,0," "," ",""," "," ","",null," "," ",",,,,,,,,,,,,"]
[null,{"$f":"IF(A2994=0,\" \",IF(ISNA(MATCH(A2994,Personnel!A:A,0)),\"وجود ندارد\",LOOKUP(A2994,Personnel!A:A,Personnel!B:B)))","v":" "},{"$f":"IF(A2994=0,\" \",IF(ISNA(MATCH(A2994,Personnel!A:A,0)),\"وجود ندارد\",LOOKUP(A2994,Personnel!A:A,Personnel!C:C)))","v":" "},null,null,null,null,null,null,null,null,"","",1,0," "," ",""," "," ","",null," "," ",",,,,,,,,,,,,"]
[null,{"$f":"IF(A2997=0,\" \",IF(ISNA(MATCH(A2997,Personnel!A:A,0)),\"وجود ندارد\",LOOKUP(A2997,Personnel!A:A,Personnel!B:B)))","v":" "},{"$f":"IF(A2997=0,\" \",IF(ISNA(MATCH(A2997,Personnel!A:A,0)),\"وجود ندارد\",LOOKUP(A2997,Personnel!A:A,Personnel!C:C)))","v":" "},null,null,null,null,null,null,null,null,"","",1,0," "," ",""," "," ","",null," "," ",",,,,,,,,,,,,"]
[null,{"$f":"IF(A3013=0,\" \",IF(ISNA(MATCH(A3013,Personnel!A:A,0)),\"وجود ندارد\",LOOKUP(A3013,Personnel!A:A,Personnel!B:B)))","v":" "},{"$f":"IF(A3013=0,\" \",IF(ISNA(MATCH(A3013,Personnel!A:A,0)),\"وجود ندارد\",LOOKUP(A3013,Personnel!A:A,Personnel!C:C)))","v":" "},null,null,null,null,null,null,null,null,"","",1,0," "," ",""," "," ","",null," "," ",",,,,,,,,,,,,"]
[null,{"$f":"IF(A3016=0,\" \",IF(ISNA(MATCH(A3016,Personnel!A:A,0)),\"وجود ندارد\",LOOKUP(A3016,Personnel!A:A,Personnel!B:B)))","v":" "},{"$f":"IF(A3016=0,\" \",IF(ISNA(MATCH(A3016,Personnel!A:A,0)),\"وجود ندارد\",LOOKUP(A3016,Personnel!A:A,Personnel!C:C)))","v":" "},null,null,null,null,null,null,null,null,"","",1,0," "," ",""," "," ","",null," "," ",",,,,,,,,,,,,"]
[null,{"$f":"IF(A3031=0,\" \",IF(ISNA(MATCH(A3031,Personnel!A:A,0)),\"وجود ندارد\",LOOKUP(A3031,Personnel!A:A,Personnel!B:B)))","v":" "},{"$f":"IF(A3031=0,\" \",IF(ISNA(MATCH(A3031,Personnel!A:A,0)),\"وجود ندارد\",LOOKUP(A3031,Personnel!A:A,Personnel!C:C)))","v":" "},null,null,null,null,null,null,null,null,"","",1,0," "," ",""," "," ","",null," "," ",",,,,,,,,,,,,"]
[null,{"$f":"IF(A3034=0,\" \",IF(ISNA(MATCH(A3034,Personnel!A:A,0)),\"وجود ندارد\",LOOKUP(A3034,Personnel!A:A,Personnel!B:B)))","v":" "},{"$f":"IF(A3034=0,\" \",IF(ISNA(MATCH(A3034,Personnel!A:A,0)),\"وجود ندارد\",LOOKUP(A3034,Personnel!A:A,Personnel!C:C)))","v":" "},null,null,null,null,null,null,null,null,"","",1,0," "," ",""," "," ","",null," "," ",",,,,,,,,,,,,"]
[null,{"$f":"IF(A3046=0,\" \",IF(ISNA(MATCH(A3046,Personnel!A:A,0)),\"وجود ندارد\",LOOKUP(A3046,Personnel!A:A,Personnel!B:B)))","v":" "},{"$f":"IF(A3046=0,\" \",IF(ISNA(MATCH(A3046,Personnel!A:A,0)),\"وجود ندارد\",LOOKUP(A3046,Personnel!A:A,Personnel!C:C)))","v":" "},null,null,null,null,null,null,null,null,"","",1,0," "," ",""," "," ","",null," "," ",",,,,,,,,,,,,"]
[null,{"$f":"IF(A3058=0,\" \",IF(ISNA(MATCH(A3058,Personnel!A:A,0)),\"وجود ندارد\",LOOKUP(A3058,Personnel!A:A,Personnel!B:B)))","v":" "},{"$f":"IF(A3058=0,\" \",IF(ISNA(MATCH(A3058,Personnel!A:A,0)),\"وجود ندارد\",LOOKUP(A3058,Personnel!A:A,Personnel!C:C)))","v":" "},null,null,null,null,null,null,null,null,"","",1,0," "," ",""," "," ","",null," "," ",",,,,,,,,,,,,"]
[null,{"$f":"IF(A3065=0,\" \",IF(ISNA(MATCH(A3065,Personnel!A:A,0)),\"وجود ندارد\",LOOKUP(A3065,Personnel!A:A,Personnel!B:B)))","v":" "},{"$f":"IF(A3065=0,\" \",IF(ISNA(MATCH(A3065,Personnel!A:A,0)),\"وجود ندارد\",LOOKUP(A3065,Personnel!A:A,Personnel!C:C)))","v":" "},null,null,null,null,null,null,null,null,"","",1,0," "," ",""," "," ","",null," "," ",",,,,,,,,,,,,"]
[null,{"$f":"IF(A3072=0,\" \",IF(ISNA(MATCH(A3072,Personnel!A:A,0)),\"وجود ندارد\",LOOKUP(A3072,Personnel!A:A,Personnel!B:B)))","v":" "},{"$f":"IF(A3072=0,\" \",IF(ISNA(MATCH(A3072,Personnel!A:A,0)),\"وجود ندارد\",LOOKUP(A3072,Personnel!A:A,Personnel!C:C)))","v":" "},null,null,null,null,null,null,null,null,"","",1,0," "," ",""," "," ","",null," "," ",",,,,,,,,,,,,"]
[null,{"$f":"IF(A3083=0,\" \",IF(ISNA(MATCH(A3083,Personnel!A:A,0)),\"وجود ندارد\",LOOKUP(A3083,Personnel!A:A,Personnel!B:B)))","v":" "},{"$f":"IF(A3083=0,\" \",IF(ISNA(MATCH(A3083,Personnel!A:A,0)),\"وجود ندارد\",LOOKUP(A3083,Personnel!A:A,Personnel!C:C)))","v":" "},null,null,null,null,null,null,null,null,"","",1,0," "," ",""," "," ","",null," "," ",",,,,,,,,,,,,"]
[null,{"$f":"IF(A3086=0,\" \",IF(ISNA(MATCH(A3086,Personnel!A:A,0)),\"وجود ندارد\",LOOKUP(A3086,Personnel!A:A,Personnel!B:B)))","v":" "},{"$f":"IF(A3086=0,\" \",IF(ISNA(MATCH(A3086,Personnel!A:A,0)),\"وجود ندارد\",LOOKUP(A3086,Personnel!A:A,Personnel!C:C)))","v":" "},null,null,null,null,null,null,null,null,"","",1,0," "," ",""," "," ","",null," "," ",",,,,,,,,,,,,"]
[null,{"$f":"IF(A3098=0,\" \",IF(ISNA(MATCH(A3098,Personnel!A:A,0)),\"وجود ندارد\",LOOKUP(A3098,Personnel!A:A,Personnel!B:B)))","v":" "},{"$f":"IF(A3098=0,\" \",IF(ISNA(MATCH(A3098,Personnel!A:A,0)),\"وجود ندارد\",LOOKUP(A3098,Personnel!A:A,Personnel!C:C)))","v":" "},null,null,null,null,null,null,null,null,"","",1,0," "," ",""," "," ","",null," "," ",",,,,,,,,,,,,"]
[null,{"$f":"IF(A3105=0,\" \",IF(ISNA(MATCH(A3105,Personnel!A:A,0)),\"وجود ندارد\",LOOKUP(A3105,Personnel!A:A,Personnel!B:B)))","v":" "},{"$f":"IF(A3105=0,\" \",IF(ISNA(MATCH(A3105,Personnel!A:A,0)),\"وجود ندارد\",LOOKUP(A3105,Personnel!A:A,Personnel!C:C)))","v":" "},null,null,null,null,null,null,null,null,"","",1,0," "," ",""," "," ","",null," "," ",",,,,,,,,,,,,"]
[null,{"$f":"IF(A3113=0,\" \",IF(ISNA(MATCH(A3113,Personnel!A:A,0)),\"وجود ندارد\",LOOKUP(A3113,Personnel!A:A,Personnel!B:B)))","v":" "},{"$f":"IF(A3113=0,\" \",IF(ISNA(MATCH(A3113,Personnel!A:A,0)),\"وجود ندارد\",LOOKUP(A3113,Personnel!A:A,Personnel!C:C)))","v":" "},null,null,null,null,null,null,null,null,"","",1,0," "," ",""," "," ","",null," "," ",",,,,,,,,,,,,"]
[null,{"$f":"IF(A3123=0,\" \",IF(ISNA(MATCH(A3123,Personnel!A:A,0)),\"وجود ندارد\",LOOKUP(A3123,Personnel!A:A,Personnel!B:B)))","v":" "},{"$f":"IF(A3123=0,\" \",IF(ISNA(MATCH(A3123,Personnel!A:A,0)),\"وجود ندارد\",LOOKUP(A3123,Personnel!A:A,Personnel!C:C)))","v":" "},null,null,null,null,null,null,null,null,"","",1,0," "," ",""," "," ","",null," "," ",",,,,,,,,,,,,"]
[null,{"$f":"IF(A3135=0,\" \",IF(ISNA(MATCH(A3135,Personnel!A:A,0)),\"وجود ندارد\",LOOKUP(A3135,Personnel!A:A,Personnel!B:B)))","v":" "},{"$f":"IF(A3135=0,\" \",IF(ISNA(MATCH(A3135,Personnel!A:A,0)),\"وجود ندارد\",LOOKUP(A3135,Personnel!A:A,Personnel!C:C)))","v":" "},null,null,null,null,null,null,null,null,"","",1,0," "," ",""," "," ","",null," "," ",",,,,,,,,,,,,"]
[null,{"$f":"IF(A3138=0,\" \",IF(ISNA(MATCH(A3138,Personnel!A:A,0)),\"وجود ندارد\",LOOKUP(A3138,Personnel!A:A,Personnel!B:B)))","v":" "},{"$f":"IF(A3138=0,\" \",IF(ISNA(MATCH(A3138,Personnel!A:A,0)),\"وجود ندارد\",LOOKUP(A3138,Personnel!A:A,Personnel!C:C)))","v":" "},null,null,null,null,null,null,null,null,"","",1,0,{"$f":"IF(A3138=0,\" \",IF(N3138+O3138<>0,\"تاریخ اشتباه است\",\"\"))","v":" "},{"$f":"IF(A3138=0,\" \",IF(AND(G3138<>0,H3138>G3138),\"مبلغ قسط از مبلغ کل بیشتر است\",\"\"))","v":" "},""," ",{"$f":"IF(A3138=0,\" \",IF(OR(K3138<1,K3138>3),\"نوع عمل اشتباه است\",\"\"))","v":" "},"",null," "," ",",,,,,,,,,,,,"]
[null,{"$f":"IF(A3154=0,\" \",IF(ISNA(MATCH(A3154,Personnel!A:A,0)),\"وجود ندارد\",LOOKUP(A3154,Personnel!A:A,Personnel!B:B)))","v":" "},{"$f":"IF(A3154=0,\" \",IF(ISNA(MATCH(A3154,Personnel!A:A,0)),\"وجود ندارد\",LOOKUP(A3154,Personnel!A:A,Personnel!C:C)))","v":" "},null,null,null,null,null,null,null,null,"","",1,0," "," ",""," "," ","",null," "," ",",,,,,,,,,,,,"]
[null,{"$f":"IF(A3162=0,\" \",IF(ISNA(MATCH(A3162,Personnel!A:A,0)),\"وجود ندارد\",LOOKUP(A3162,Personnel!A:A,Personnel!B:B)))","v":" "},{"$f":"IF(A3162=0,\" \",IF(ISNA(MATCH(A3162,Personnel!A:A,0)),\"وجود ندارد\",LOOKUP(A3162,Personnel!A:A,Personnel!C:C)))","v":" "},null,null,null,null,null,null,null,null,"","",1,0," "," ",""," "," ","",null," "," ",",,,,,,,,,,,,"]
[null,{"$f":"IF(A3168=0,\" \",IF(ISNA(MATCH(A3168,Personnel!A:A,0)),\"وجود ندارد\",LOOKUP(A3168,Personnel!A:A,Personnel!B:B)))","v":" "},{"$f":"IF(A3168=0,\" \",IF(ISNA(MATCH(A3168,Personnel!A:A,0)),\"وجود ندارد\",LOOKUP(A3168,Personnel!A:A,Personnel!C:C)))","v":" "},null,null,null,null,null,null,null,null,"","",1,0," "," ",""," "," ","",null," "," ",",,,,,,,,,,,,"]
[null,{"$f":"IF(A3175=0,\" \",IF(ISNA(MATCH(A3175,Personnel!A:A,0)),\"وجود ندارد\",LOOKUP(A3175,Personnel!A:A,Personnel!B:B)))","v":" "},{"$f":"IF(A3175=0,\" \",IF(ISNA(MATCH(A3175,Personnel!A:A,0)),\"وجود ندارد\",LOOKUP(A3175,Personnel!A:A,Personnel!C:C)))","v":" "},null,null,null,null,null,null,null,null,"","",1,0," "," ",""," "," ","",null," "," ",",,,,,,,,,,,,"]
[null,{"$f":"IF(A3187=0,\" \",IF(ISNA(MATCH(A3187,Personnel!A:A,0)),\"وجود ندارد\",LOOKUP(A3187,Personnel!A:A,Personnel!B:B)))","v":" "},{"$f":"IF(A3187=0,\" \",IF(ISNA(MATCH(A3187,Personnel!A:A,0)),\"وجود ندارد\",LOOKUP(A3187,Personnel!A:A,Personnel!C:C)))","v":" "},null,null,null,null,null,null,null,null,"","",1,0," "," ",""," "," ","",null," "," ",",,,,,,,,,,,,"]
[null,{"$f":"IF(A3194=0,\" \",IF(ISNA(MATCH(A3194,Personnel!A:A,0)),\"وجود ندارد\",LOOKUP(A3194,Personnel!A:A,Personnel!B:B)))","v":" "},{"$f":"IF(A3194=0,\" \",IF(ISNA(MATCH(A3194,Personnel!A:A,0)),\"وجود ندارد\",LOOKUP(A3194,Personnel!A:A,Personnel!C:C)))","v":" "},null,null,null,null,null,null,null,null,"","",1,0," "," ",""," "," ","",null," "," ",",,,,,,,,,,,,"]
[null,{"$f":"IF(A3203=0,\" \",IF(ISNA(MATCH(A3203,Personnel!A:A,0)),\"وجود ندارد\",LOOKUP(A3203,Personnel!A:A,Personnel!B:B)))","v":" "},{"$f":"IF(A3203=0,\" \",IF(ISNA(MATCH(A3203,Personnel!A:A,0)),\"وجود ندارد\",LOOKUP(A3203,Personnel!A:A,Personnel!C:C)))","v":" "},null,null,null,null,null,null,null,null,{"$f":"IF(K3203=0,\"\",IF(K3203=1,\"ایجاد\",IF(K3203=2,\"اصلاح\",\"حذف\")))","v":""},{"$f":"IF(AND(K3203=3,H3203+I3203+J3203+F3203+G3203<>0),\"برای عمل حذف اطلاعات اضافی وارد شده است\",\"\")","v":""},{"$f":"IF(AND(K3203<>3,F3203<900000),1,0)","v":1},{"$f":"IF(F3203>991231,1,0)","v":0}," "," ",{"$f":"IF(AND(A3203=0,H3203+I3203+J3203+F3203+G3203+K3203+E3203+D3203<>0),\"در این ردیف شماره پرسنلی وجود ندارد اما اطلاعات دیگر وارد شده است\",\"\")","v":""},{"$f":"IF(A3203=0,\" \",IF(D3203=0,\"کد وام وارد نشده است\",\"\"))","v":" "}," ",{"$f":"IF(AND(OR(K3203=1,K3203=2),H3203=0),\"مبلغ قسط نمی تواند خالی باشد\",\"\")","v":""},null,{"$f":"IF(AND(A3203=0,A3204<>0),\"دراین ردیف اصلاحاتی وجود ندارد . لطفا ردیفی را خالی باقی نگذارید\",IF(AND(A3203=0,R3203=\"\"),\" \",IF(M3203&\",\"&P3203&\",\"&Q3203&\",\"&R3203&\",\"&S3203&\",\"&T3203&\",\"&U3203=\",,,,,,\",\"صحیح\",M3203&\",\"&P3203&\",\"&Q3203&\",\"&R3203&\",\"&S3203&\",\"&T3203&\",\"&U3203)))","v":" "},{"$f":"IF(AND(ROW(X3203)>$Z$2,W3203=\" \"),\" \",IF(W3203=\" \",IF(AND(A3203=0,$Z$2<>$Z$4),\"دراین ردیف اصلاحاتی وجود ندارد . لطفا ردیفی را خالی نگذارید\",W3203),W3203))","v":" "},{"$f":"CONCATENATE(A3203,\",\",D3203,\",\",E3203,\",\",F3203,\",\",G3203,\",\",H3203,\",\",I3203,\",\",K3203,\",\",,\",\",J3203,\",\",\",\",V3203,\",\")","v":",,,,,,,,,,,,"}]
[null,{"$f":"IF(A3208=0,\" \",IF(ISNA(MATCH(A3208,Personnel!A:A,0)),\"وجود ندارد\",LOOKUP(A3208,Personnel!A:A,Personnel!B:B)))","v":" "},{"$f":"IF(A3208=0,\" \",IF(ISNA(MATCH(A3208,Personnel!A:A,0)),\"وجود ندارد\",LOOKUP(A3208,Personnel!A:A,Personnel!C:C)))","v":" "},null,null,null,null,null,null,null,null,"","",1,0," "," ",""," "," ","",null," "," ",",,,,,,,,,,,,"]
[null,{"$f":"IF(A3224=0,\" \",IF(ISNA(MATCH(A3224,Personnel!A:A,0)),\"وجود ندارد\",LOOKUP(A3224,Personnel!A:A,Personnel!B:B)))","v":" "},{"$f":"IF(A3224=0,\" \",IF(ISNA(MATCH(A3224,Personnel!A:A,0)),\"وجود ندارد\",LOOKUP(A3224,Personnel!A:A,Personnel!C:C)))","v":" "},null,null,null,null,null,null,null,null,"","",1,0," "," ",""," "," ","",null," "," ",",,,,,,,,,,,,"]
[null,{"$f":"IF(A3227=0,\" \",IF(ISNA(MATCH(A3227,Personnel!A:A,0)),\"وجود ندارد\",LOOKUP(A3227,Personnel!A:A,Personnel!B:B)))","v":" "},{"$f":"IF(A3227=0,\" \",IF(ISNA(MATCH(A3227,Personnel!A:A,0)),\"وجود ندارد\",LOOKUP(A3227,Personnel!A:A,Personnel!C:C)))","v":" "},null,null,null,null,null,null,null,null,"","",1,0," "," ",""," "," ","",null," "," ",",,,,,,,,,,,,"]
[null,{"$f":"IF(A3242=0,\" \",IF(ISNA(MATCH(A3242,Personnel!A:A,0)),\"وجود ندارد\",LOOKUP(A3242,Personnel!A:A,Personnel!B:B)))","v":" "},{"$f":"IF(A3242=0,\" \",IF(ISNA(MATCH(A3242,Personnel!A:A,0)),\"وجود ندارد\",LOOKUP(A3242,Personnel!A:A,Personnel!C:C)))","v":" "},null,null,null,null,null,null,null,null,"","",1,0," "," ",""," "," ","",null," "," ",",,,,,,,,,,,,"]
[null,{"$f":"IF(A3245=0,\" \",IF(ISNA(MATCH(A3245,Personnel!A:A,0)),\"وجود ندارد\",LOOKUP(A3245,Personnel!A:A,Personnel!B:B)))","v":" "},{"$f":"IF(A3245=0,\" \",IF(ISNA(MATCH(A3245,Personnel!A:A,0)),\"وجود ندارد\",LOOKUP(A3245,Personnel!A:A,Personnel!C:C)))","v":" "},null,null,null,null,null,null,null,null,"","",1,0," "," ",""," "," ","",null," "," ",",,,,,,,,,,,,"]
[null,{"$f":"IF(A3257=0,\" \",IF(ISNA(MATCH(A3257,Personnel!A:A,0)),\"وجود ندارد\",LOOKUP(A3257,Personnel!A:A,Personnel!B:B)))","v":" "},{"$f":"IF(A3257=0,\" \",IF(ISNA(MATCH(A3257,Personnel!A:A,0)),\"وجود ندارد\",LOOKUP(A3257,Personnel!A:A,Personnel!C:C)))","v":" "},null,null,null,null,null,null,null,null,"","",1,0," "," ",""," "," ","",null," "," ",",,,,,,,,,,,,"]
[null,{"$f":"IF(A3264=0,\" \",IF(ISNA(MATCH(A3264,Personnel!A:A,0)),\"وجود ندارد\",LOOKUP(A3264,Personnel!A:A,Personnel!B:B)))","v":" "},{"$f":"IF(A3264=0,\" \",IF(ISNA(MATCH(A3264,Personnel!A:A,0)),\"وجود ندارد\",LOOKUP(A3264,Personnel!A:A,Personnel!C:C)))","v":" "},null,null,null,null,null,null,null,null,"","",1,0," "," ",""," "," ","",null," "," ",",,,,,,,,,,,,"]
[null,{"$f":"IF(A3276=0,\" \",IF(ISNA(MATCH(A3276,Personnel!A:A,0)),\"وجود ندارد\",LOOKUP(A3276,Personnel!A:A,Personnel!B:B)))","v":" "},{"$f":"IF(A3276=0,\" \",IF(ISNA(MATCH(A3276,Personnel!A:A,0)),\"وجود ندارد\",LOOKUP(A3276,Personnel!A:A,Personnel!C:C)))","v":" "},null,null,null,null,null,null,null,null,"","",1,0," "," ",""," "," ","",null," "," ",",,,,,,,,,,,,"]
[null,{"$f":"IF(A3283=0,\" \",IF(ISNA(MATCH(A3283,Personnel!A:A,0)),\"وجود ندارد\",LOOKUP(A3283,Personnel!A:A,Personnel!B:B)))","v":" "},{"$f":"IF(A3283=0,\" \",IF(ISNA(MATCH(A3283,Personnel!A:A,0)),\"وجود ندارد\",LOOKUP(A3283,Personnel!A:A,Personnel!C:C)))","v":" "},null,null,null,null,null,null,null,null,"","",1,0," "," ",""," "," ","",null," "," ",",,,,,,,,,,,,"]
[null,{"$f":"IF(A3294=0,\" \",IF(ISNA(MATCH(A3294,Personnel!A:A,0)),\"وجود ندارد\",LOOKUP(A3294,Personnel!A:A,Personnel!B:B)))","v":" "},{"$f":"IF(A3294=0,\" \",IF(ISNA(MATCH(A3294,Personnel!A:A,0)),\"وجود ندارد\",LOOKUP(A3294,Personnel!A:A,Personnel!C:C)))","v":" "},null,null,null,null,null,null,null,null,"","",1,0," "," ",""," "," ","",null," "," ",",,,,,,,,,,,,"]
[null,{"$f":"IF(A3297=0,\" \",IF(ISNA(MATCH(A3297,Personnel!A:A,0)),\"وجود ندارد\",LOOKUP(A3297,Personnel!A:A,Personnel!B:B)))","v":" "},{"$f":"IF(A3297=0,\" \",IF(ISNA(MATCH(A3297,Personnel!A:A,0)),\"وجود ندارد\",LOOKUP(A3297,Personnel!A:A,Personnel!C:C)))","v":" "},null,null,null,null,null,null,null,null,"","",1,0," "," ",""," "," ","",null," "," ",",,,,,,,,,,,,"]
[null,{"$f":"IF(A3313=0,\" \",IF(ISNA(MATCH(A3313,Personnel!A:A,0)),\"وجود ندارد\",LOOKUP(A3313,Personnel!A:A,Personnel!B:B)))","v":" "},{"$f":"IF(A3313=0,\" \",IF(ISNA(MATCH(A3313,Personnel!A:A,0)),\"وجود ندارد\",LOOKUP(A3313,Personnel!A:A,Personnel!C:C)))","v":" "},null,null,null,null,null,null,null,null,"","",1,0," "," ",""," "," ","",null," "," ",",,,,,,,,,,,,"]
[null,{"$f":"IF(A3316=0,\" \",IF(ISNA(MATCH(A3316,Personnel!A:A,0)),\"وجود ندارد\",LOOKUP(A3316,Personnel!A:A,Personnel!B:B)))","v":" "},{"$f":"IF(A3316=0,\" \",IF(ISNA(MATCH(A3316,Personnel!A:A,0)),\"وجود ندارد\",LOOKUP(A3316,Personnel!A:A,Personnel!C:C)))","v":" "},null,null,null,null,null,null,null,null,"","",1,0," "," ",""," "," ","",null," "," ",",,,,,,,,,,,,"]
[null,{"$f":"IF(A3324=0,\" \",IF(ISNA(MATCH(A3324,Personnel!A:A,0)),\"وجود ندارد\",LOOKUP(A3324,Personnel!A:A,Personnel!B:B)))","v":" "},{"$f":"IF(A3324=0,\" \",IF(ISNA(MATCH(A3324,Personnel!A:A,0)),\"وجود ندارد\",LOOKUP(A3324,Personnel!A:A,Personnel!C:C)))","v":" "},null,null,null,null,null,null,null,null,"","",1,0," "," ",""," "," ","",null," "," ",",,,,,,,,,,,,"]
[null,{"$f":"IF(A3334=0,\" \",IF(ISNA(MATCH(A3334,Personnel!A:A,0)),\"وجود ندارد\",LOOKUP(A3334,Personnel!A:A,Personnel!B:B)))","v":" "},{"$f":"IF(A3334=0,\" \",IF(ISNA(MATCH(A3334,Personnel!A:A,0)),\"وجود ندارد\",LOOKUP(A3334,Personnel!A:A,Personnel!C:C)))","v":" "},null,null,null,null,null,null,null,null,"","",1,0," "," ",""," "," ","",null," "," ",",,,,,,,,,,,,"]
[null,{"$f":"IF(A3346=0,\" \",IF(ISNA(MATCH(A3346,Personnel!A:A,0)),\"وجود ندارد\",LOOKUP(A3346,Personnel!A:A,Personnel!B:B)))","v":" "},{"$f":"IF(A3346=0,\" \",IF(ISNA(MATCH(A3346,Personnel!A:A,0)),\"وجود ندارد\",LOOKUP(A3346,Personnel!A:A,Personnel!C:C)))","v":" "},null,null,null,null,null,null,null,null,"","",1,0," "," ",""," "," ","",null," "," ",",,,,,,,,,,,,"]
[null,{"$f":"IF(A3349=0,\" \",IF(ISNA(MATCH(A3349,Personnel!A:A,0)),\"وجود ندارد\",LOOKUP(A3349,Personnel!A:A,Personnel!B:B)))","v":" "},{"$f":"IF(A3349=0,\" \",IF(ISNA(MATCH(A3349,Personnel!A:A,0)),\"وجود ندارد\",LOOKUP(A3349,Personnel!A:A,Personnel!C:C)))","v":" "},null,null,null,null,null,null,null,null,"","",1,0," "," ",""," "," ","",null," "," ",",,,,,,,,,,,,"]
[null,{"$f":"IF(A3365=0,\" \",IF(ISNA(MATCH(A3365,Personnel!A:A,0)),\"وجود ندارد\",LOOKUP(A3365,Personnel!A:A,Personnel!B:B)))","v":" "},{"$f":"IF(A3365=0,\" \",IF(ISNA(MATCH(A3365,Personnel!A:A,0)),\"وجود ندارد\",LOOKUP(A3365,Personnel!A:A,Personnel!C:C)))","v":" "},null,null,null,null,null,null,null,null,"","",1,0," "," ",""," "," ","",null," "," ",",,,,,,,,,,,,"]
[null,{"$f":"IF(A3373=0,\" \",IF(ISNA(MATCH(A3373,Personnel!A:A,0)),\"وجود ندارد\",LOOKUP(A3373,Personnel!A:A,Personnel!B:B)))","v":" "},{"$f":"IF(A3373=0,\" \",IF(ISNA(MATCH(A3373,Personnel!A:A,0)),\"وجود ندارد\",LOOKUP(A3373,Personnel!A:A,Personnel!C:C)))","v":" "},null,null,null,null,null,null,null,null,"","",1,0," "," ",""," "," ","",null," "," ",",,,,,,,,,,,,"]
[null,{"$f":"IF(A3383=0,\" \",IF(ISNA(MATCH(A3383,Personnel!A:A,0)),\"وجود ندارد\",LOOKUP(A3383,Personnel!A:A,Personnel!B:B)))","v":" "},{"$f":"IF(A3383=0,\" \",IF(ISNA(MATCH(A3383,Personnel!A:A,0)),\"وجود ندارد\",LOOKUP(A3383,Personnel!A:A,Personnel!C:C)))","v":" "},null,null,null,null,null,null,null,null,"","",1,0," "," ",""," "," ","",null," "," ",",,,,,,,,,,,,"]
[null,{"$f":"IF(A3386=0,\" \",IF(ISNA(MATCH(A3386,Personnel!A:A,0)),\"وجود ندارد\",LOOKUP(A3386,Personnel!A:A,Personnel!B:B)))","v":" "},{"$f":"IF(A3386=0,\" \",IF(ISNA(MATCH(A3386,Personnel!A:A,0)),\"وجود ندارد\",LOOKUP(A3386,Personnel!A:A,Personnel!C:C)))","v":" "},null,null,null,null,null,null,null,null,"","",1,0," "," ",""," "," ","",null," "," ",",,,,,,,,,,,,"]
[null,{"$f":"IF(A3398=0,\" \",IF(ISNA(MATCH(A3398,Personnel!A:A,0)),\"وجود ندارد\",LOOKUP(A3398,Personnel!A:A,Personnel!B:B)))","v":" "},{"$f":"IF(A3398=0,\" \",IF(ISNA(MATCH(A3398,Personnel!A:A,0)),\"وجود ندارد\",LOOKUP(A3398,Personnel!A:A,Personnel!C:C)))","v":" "},null,null,null,null,null,null,null,null,"","",1,0," "," ",""," "," ","",null," "," ",",,,,,,,,,,,,"]
[null,{"$f":"IF(A3405=0,\" \",IF(ISNA(MATCH(A3405,Personnel!A:A,0)),\"وجود ندارد\",LOOKUP(A3405,Personnel!A:A,Personnel!B:B)))","v":" "},{"$f":"IF(A3405=0,\" \",IF(ISNA(MATCH(A3405,Personnel!A:A,0)),\"وجود ندارد\",LOOKUP(A3405,Personnel!A:A,Personnel!C:C)))","v":" "},null,null,null,null,null,null,null,null,"","",1,0," "," ",""," "," ","",null," "," ",",,,,,,,,,,,,"]
[null,{"$f":"IF(A3414=0,\" \",IF(ISNA(MATCH(A3414,Personnel!A:A,0)),\"وجود ندارد\",LOOKUP(A3414,Personnel!A:A,Personnel!B:B)))","v":" "},{"$f":"IF(A3414=0,\" \",IF(ISNA(MATCH(A3414,Personnel!A:A,0)),\"وجود ندارد\",LOOKUP(A3414,Personnel!A:A,Personnel!C:C)))","v":" "},null,null,null,null,null,null,null,null,"","",1,0," "," ",""," "," ","",null," "," ",",,,,,,,,,,,,"]
[null,{"$f":"IF(A3423=0,\" \",IF(ISNA(MATCH(A3423,Personnel!A:A,0)),\"وجود ندارد\",LOOKUP(A3423,Personnel!A:A,Personnel!B:B)))","v":" "},{"$f":"IF(A3423=0,\" \",IF(ISNA(MATCH(A3423,Personnel!A:A,0)),\"وجود ندارد\",LOOKUP(A3423,Personnel!A:A,Personnel!C:C)))","v":" "},null,null,null,null,null,null,null,null,"","",1,0," "," ",""," "," ","",null," "," ",",,,,,,,,,,,,"]
[null,{"$f":"IF(A3435=0,\" \",IF(ISNA(MATCH(A3435,Personnel!A:A,0)),\"وجود ندارد\",LOOKUP(A3435,Personnel!A:A,Personnel!B:B)))","v":" "},{"$f":"IF(A3435=0,\" \",IF(ISNA(MATCH(A3435,Personnel!A:A,0)),\"وجود ندارد\",LOOKUP(A3435,Personnel!A:A,Personnel!C:C)))","v":" "},null,null,null,null,null,null,null,null,"","",1,0," "," ",""," "," ","",null," "," ",",,,,,,,,,,,,"]
[null,{"$f":"IF(A3438=0,\" \",IF(ISNA(MATCH(A3438,Personnel!A:A,0)),\"وجود ندارد\",LOOKUP(A3438,Personnel!A:A,Personnel!B:B)))","v":" "},{"$f":"IF(A3438=0,\" \",IF(ISNA(MATCH(A3438,Personnel!A:A,0)),\"وجود ندارد\",LOOKUP(A3438,Personnel!A:A,Personnel!C:C)))","v":" "},null,null,null,null,null,null,null,null,"","",1,0," "," ",""," "," ","",null," "," ",",,,,,,,,,,,,"]
[null,{"$f":"IF(A3454=0,\" \",IF(ISNA(MATCH(A3454,Personnel!A:A,0)),\"وجود ندارد\",LOOKUP(A3454,Personnel!A:A,Personnel!B:B)))","v":" "},{"$f":"IF(A3454=0,\" \",IF(ISNA(MATCH(A3454,Personnel!A:A,0)),\"وجود ندارد\",LOOKUP(A3454,Personnel!A:A,Personnel!C:C)))","v":" "},null,null,null,null,null,null,null,null,"","",1,0," "," ",""," "," ","",null," "," ",",,,,,,,,,,,,"]
[null,{"$f":"IF(A3455=0,\" \",IF(ISNA(MATCH(A3455,Personnel!A:A,0)),\"وجود ندارد\",LOOKUP(A3455,Personnel!A:A,Personnel!B:B)))","v":" "},{"$f":"IF(A3455=0,\" \",IF(ISNA(MATCH(A3455,Personnel!A:A,0)),\"وجود ندارد\",LOOKUP(A3455,Personnel!A:A,Personnel!C:C)))","v":" "},null,null,null,null,null,null,null,null,"","",1,0," "," ",""," "," ","",null," "," ",",,,,,,,,,,,,"]
[null,{"$f":"IF(A3468=0,\" \",IF(ISNA(MATCH(A3468,Personnel!A:A,0)),\"وجود ندارد\",LOOKUP(A3468,Personnel!A:A,Personnel!B:B)))","v":" "},{"$f":"IF(A3468=0,\" \",IF(ISNA(MATCH(A3468,Personnel!A:A,0)),\"وجود ندارد\",LOOKUP(A3468,Personnel!A:A,Personnel!C:C)))","v":" "},null,null,null,null,null,null,null,null,"","",1,0," "," ",""," "," ","",null," "," ",",,,,,,,,,,,,"]
[null,{"$f":"IF(A3475=0,\" \",IF(ISNA(MATCH(A3475,Personnel!A:A,0)),\"وجود ندارد\",LOOKUP(A3475,Personnel!A:A,Personnel!B:B)))","v":" "},{"$f":"IF(A3475=0,\" \",IF(ISNA(MATCH(A3475,Personnel!A:A,0)),\"وجود ندارد\",LOOKUP(A3475,Personnel!A:A,Personnel!C:C)))","v":" "},null,null,null,null,null,null,null,null,"","",1,0," "," ",""," "," ","",null," "," ",",,,,,,,,,,,,"]
[null,{"$f":"IF(A3487=0,\" \",IF(ISNA(MATCH(A3487,Personnel!A:A,0)),\"وجود ندارد\",LOOKUP(A3487,Personnel!A:A,Personnel!B:B)))","v":" "},{"$f":"IF(A3487=0,\" \",IF(ISNA(MATCH(A3487,Personnel!A:A,0)),\"وجود ندارد\",LOOKUP(A3487,Personnel!A:A,Personnel!C:C)))","v":" "},null,null,null,null,null,null,null,null,"","",1,0," "," ",""," "," ","",null," "," ",",,,,,,,,,,,,"]
[null,{"$f":"IF(A3494=0,\" \",IF(ISNA(MATCH(A3494,Personnel!A:A,0)),\"وجود ندارد\",LOOKUP(A3494,Personnel!A:A,Personnel!B:B)))","v":" "},{"$f":"IF(A3494=0,\" \",IF(ISNA(MATCH(A3494,Personnel!A:A,0)),\"وجود ندارد\",LOOKUP(A3494,Personnel!A:A,Personnel!C:C)))","v":" "},null,null,null,null,null,null,null,null,"","",1,0," "," ",""," "," ","",null," "," ",",,,,,,,,,,,,"]
[null,{"$f":"IF(A3504=0,\" \",IF(ISNA(MATCH(A3504,Personnel!A:A,0)),\"وجود ندارد\",LOOKUP(A3504,Personnel!A:A,Personnel!B:B)))","v":" "},{"$f":"IF(A3504=0,\" \",IF(ISNA(MATCH(A3504,Personnel!A:A,0)),\"وجود ندارد\",LOOKUP(A3504,Personnel!A:A,Personnel!C:C)))","v":" "},null,null,null,null,null,null,null,null,"","",1,0," "," ",""," "," ","",null," "," ",",,,,,,,,,,,,"]
[null,{"$f":"IF(A3508=0,\" \",IF(ISNA(MATCH(A3508,Personnel!A:A,0)),\"وجود ندارد\",LOOKUP(A3508,Personnel!A:A,Personnel!B:B)))","v":" "},{"$f":"IF(A3508=0,\" \",IF(ISNA(MATCH(A3508,Personnel!A:A,0)),\"وجود ندارد\",LOOKUP(A3508,Personnel!A:A,Personnel!C:C)))","v":" "},null,null,null,null,null,null,null,null,"","",1,0," "," ",""," "," ","",null," "," ",",,,,,,,,,,,,"]
[null,{"$f":"IF(A3524=0,\" \",IF(ISNA(MATCH(A3524,Personnel!A:A,0)),\"وجود ندارد\",LOOKUP(A3524,Personnel!A:A,Personnel!B:B)))","v":" "},{"$f":"IF(A3524=0,\" \",IF(ISNA(MATCH(A3524,Personnel!A:A,0)),\"وجود ندارد\",LOOKUP(A3524,Personnel!A:A,Personnel!C:C)))","v":" "},null,null,null,null,null,null,null,null,"","",1,0," "," ",""," "," ","",null," "," ",",,,,,,,,,,,,"]
[null,{"$f":"IF(A3527=0,\" \",IF(ISNA(MATCH(A3527,Personnel!A:A,0)),\"وجود ندارد\",LOOKUP(A3527,Personnel!A:A,Personnel!B:B)))","v":" "},{"$f":"IF(A3527=0,\" \",IF(ISNA(MATCH(A3527,Personnel!A:A,0)),\"وجود ندارد\",LOOKUP(A3527,Personnel!A:A,Personnel!C:C)))","v":" "},null,null,null,null,null,null,null,null,"","",1,0," "," ",""," "," ","",null," "," ",",,,,,,,,,,,,"]
[null,{"$f":"IF(A3534=0,\" \",IF(ISNA(MATCH(A3534,Personnel!A:A,0)),\"وجود ندارد\",LOOKUP(A3534,Personnel!A:A,Personnel!B:B)))","v":" "},{"$f":"IF(A3534=0,\" \",IF(ISNA(MATCH(A3534,Personnel!A:A,0)),\"وجود ندارد\",LOOKUP(A3534,Personnel!A:A,Personnel!C:C)))","v":" "},null,null,null,null,null,null,null,null,"","",1,0," "," ",""," "," ","",null," "," ",",,,,,,,,,,,,"]
[null,{"$f":"IF(A3545=0,\" \",IF(ISNA(MATCH(A3545,Personnel!A:A,0)),\"وجود ندارد\",LOOKUP(A3545,Personnel!A:A,Personnel!B:B)))","v":" "},{"$f":"IF(A3545=0,\" \",IF(ISNA(MATCH(A3545,Personnel!A:A,0)),\"وجود ندارد\",LOOKUP(A3545,Personnel!A:A,Personnel!C:C)))","v":" "},null,null,null,null,null,null,null,null,"","",1,0," "," ",""," "," ","",null," "," ",",,,,,,,,,,,,"]
[null,{"$f":"IF(A3557=0,\" \",IF(ISNA(MATCH(A3557,Personnel!A:A,0)),\"وجود ندارد\",LOOKUP(A3557,Personnel!A:A,Personnel!B:B)))","v":" "},{"$f":"IF(A3557=0,\" \",IF(ISNA(MATCH(A3557,Personnel!A:A,0)),\"وجود ندارد\",LOOKUP(A3557,Personnel!A:A,Personnel!C:C)))","v":" "},null,null,null,null,null,null,null,null,"","",1,0," "," ",""," "," ","",null," "," ",",,,,,,,,,,,,"]
[null,{"$f":"IF(A3564=0,\" \",IF(ISNA(MATCH(A3564,Personnel!A:A,0)),\"وجود ندارد\",LOOKUP(A3564,Personnel!A:A,Personnel!B:B)))","v":" "},{"$f":"IF(A3564=0,\" \",IF(ISNA(MATCH(A3564,Personnel!A:A,0)),\"وجود ندارد\",LOOKUP(A3564,Personnel!A:A,Personnel!C:C)))","v":" "},null,null,null,null,null,null,null,null,"","",1,0," "," ",""," "," ","",null," "," ",",,,,,,,,,,,,"]
[null,{"$f":"IF(A3576=0,\" \",IF(ISNA(MATCH(A3576,Personnel!A:A,0)),\"وجود ندارد\",LOOKUP(A3576,Personnel!A:A,Personnel!B:B)))","v":" "},{"$f":"IF(A3576=0,\" \",IF(ISNA(MATCH(A3576,Personnel!A:A,0)),\"وجود ندارد\",LOOKUP(A3576,Personnel!A:A,Personnel!C:C)))","v":" "},null,null,null,null,null,null,null,null,"","",1,0," "," ",""," "," ","",null," "," ",",,,,,,,,,,,,"]
[null,{"$f":"IF(A3579=0,\" \",IF(ISNA(MATCH(A3579,Personnel!A:A,0)),\"وجود ندارد\",LOOKUP(A3579,Personnel!A:A,Personnel!B:B)))","v":" "},{"$f":"IF(A3579=0,\" \",IF(ISNA(MATCH(A3579,Personnel!A:A,0)),\"وجود ندارد\",LOOKUP(A3579,Personnel!A:A,Personnel!C:C)))","v":" "},null,null,null,null,null,null,null,null,"","",1,0," "," ",""," "," ","",null," "," ",",,,,,,,,,,,,"]
[null,{"$f":"IF(A3594=0,\" \",IF(ISNA(MATCH(A3594,Personnel!A:A,0)),\"وجود ندارد\",LOOKUP(A3594,Personnel!A:A,Personnel!B:B)))","v":" "},{"$f":"IF(A3594=0,\" \",IF(ISNA(MATCH(A3594,Personnel!A:A,0)),\"وجود ندارد\",LOOKUP(A3594,Personnel!A:A,Personnel!C:C)))","v":" "},null,null,null,null,null,null,null,null,"","",1,0," "," ",""," "," ","",null," "," ",",,,,,,,,,,,,"]
[null,{"$f":"IF(A3597=0,\" \",IF(ISNA(MATCH(A3597,Personnel!A:A,0)),\"وجود ندارد\",LOOKUP(A3597,Personnel!A:A,Personnel!B:B)))","v":" "},{"$f":"IF(A3597=0,\" \",IF(ISNA(MATCH(A3597,Personnel!A:A,0)),\"وجود ندارد\",LOOKUP(A3597,Personnel!A:A,Personnel!C:C)))","v":" "},null,null,null,null,null,null,null,null,"","",1,0," "," ",""," "," ","",null," "," ",",,,,,,,,,,,,"]
[null,{"$f":"IF(A3604=0,\" \",IF(ISNA(MATCH(A3604,Personnel!A:A,0)),\"وجود ندارد\",LOOKUP(A3604,Personnel!A:A,Personnel!B:B)))","v":" "},{"$f":"IF(A3604=0,\" \",IF(ISNA(MATCH(A3604,Personnel!A:A,0)),\"وجود ندارد\",LOOKUP(A3604,Personnel!A:A,Personnel!C:C)))","v":" "},null,null,null,null,null,null,null,null,"","",1,0," "," ",""," "," ","",null," "," ",",,,,,,,,,,,,"]
[null,{"$f":"IF(A3616=0,\" \",IF(ISNA(MATCH(A3616,Personnel!A:A,0)),\"وجود ندارد\",LOOKUP(A3616,Personnel!A:A,Personnel!B:B)))","v":" "},{"$f":"IF(A3616=0,\" \",IF(ISNA(MATCH(A3616,Personnel!A:A,0)),\"وجود ندارد\",LOOKUP(A3616,Personnel!A:A,Personnel!C:C)))","v":" "},null,null,null,null,null,null,null,null,"","",1,0," "," ",""," "," ","",null," "," ",",,,,,,,,,,,,"]
[null,{"$f":"IF(A3628=0,\" \",IF(ISNA(MATCH(A3628,Personnel!A:A,0)),\"وجود ندارد\",LOOKUP(A3628,Personnel!A:A,Personnel!B:B)))","v":" "},{"$f":"IF(A3628=0,\" \",IF(ISNA(MATCH(A3628,Personnel!A:A,0)),\"وجود ندارد\",LOOKUP(A3628,Personnel!A:A,Personnel!C:C)))","v":" "},null,null,null,null,null,null,null,null,"","",1,0," "," ",""," "," ","",null," "," ",",,,,,,,,,,,,"]
[null,{"$f":"IF(A3635=0,\" \",IF(ISNA(MATCH(A3635,Personnel!A:A,0)),\"وجود ندارد\",LOOKUP(A3635,Personnel!A:A,Personnel!B:B)))","v":" "},{"$f":"IF(A3635=0,\" \",IF(ISNA(MATCH(A3635,Personnel!A:A,0)),\"وجود ندارد\",LOOKUP(A3635,Personnel!A:A,Personnel!C:C)))","v":" "},null,null,null,null,null,null,null,null,"","",1,0," "," ",""," "," ","",null," "," ",",,,,,,,,,,,,"]
[null,{"$f":"IF(A3646=0,\" \",IF(ISNA(MATCH(A3646,Personnel!A:A,0)),\"وجود ندارد\",LOOKUP(A3646,Personnel!A:A,Personnel!B:B)))","v":" "},{"$f":"IF(A3646=0,\" \",IF(ISNA(MATCH(A3646,Personnel!A:A,0)),\"وجود ندارد\",LOOKUP(A3646,Personnel!A:A,Personnel!C:C)))","v":" "},null,null,null,null,null,null,null,null,"","",1,0," "," ",""," "," ","",null," "," ",",,,,,,,,,,,,"]
[null,{"$f":"IF(A3649=0,\" \",IF(ISNA(MATCH(A3649,Personnel!A:A,0)),\"وجود ندارد\",LOOKUP(A3649,Personnel!A:A,Personnel!B:B)))","v":" "},{"$f":"IF(A3649=0,\" \",IF(ISNA(MATCH(A3649,Personnel!A:A,0)),\"وجود ندارد\",LOOKUP(A3649,Personnel!A:A,Personnel!C:C)))","v":" "},null,null,null,null,null,null,null,null,"","",1,0," "," ",""," "," ","",null," "," ",",,,,,,,,,,,,"]
[null,{"$f":"IF(A3665=0,\" \",IF(ISNA(MATCH(A3665,Personnel!A:A,0)),\"وجود ندارد\",LOOKUP(A3665,Personnel!A:A,Personnel!B:B)))","v":" "},{"$f":"IF(A3665=0,\" \",IF(ISNA(MATCH(A3665,Personnel!A:A,0)),\"وجود ندارد\",LOOKUP(A3665,Personnel!A:A,Personnel!C:C)))","v":" "},null,null,null,null,null,null,null,null,"","",1,0," "," ",""," "," ","",null," "," ",",,,,,,,,,,,,"]
[null,{"$f":"IF(A3666=0,\" \",IF(ISNA(MATCH(A3666,Personnel!A:A,0)),\"وجود ندارد\",LOOKUP(A3666,Personnel!A:A,Personnel!B:B)))","v":" "},{"$f":"IF(A3666=0,\" \",IF(ISNA(MATCH(A3666,Personnel!A:A,0)),\"وجود ندارد\",LOOKUP(A3666,Personnel!A:A,Personnel!C:C)))","v":" "},null,null,null,null,null,null,null,null,"","",1,0," "," ",""," "," ","",null," "," ",",,,,,,,,,,,,"]
[null,{"$f":"IF(A3674=0,\" \",IF(ISNA(MATCH(A3674,Personnel!A:A,0)),\"وجود ندارد\",LOOKUP(A3674,Personnel!A:A,Personnel!B:B)))","v":" "},{"$f":"IF(A3674=0,\" \",IF(ISNA(MATCH(A3674,Personnel!A:A,0)),\"وجود ندارد\",LOOKUP(A3674,Personnel!A:A,Personnel!C:C)))","v":" "},null,null,null,null,null,null,null,null,"","",1,0," "," ",""," "," ","",null," "," ",",,,,,,,,,,,,"]
[null,{"$f":"IF(A3686=0,\" \",IF(ISNA(MATCH(A3686,Personnel!A:A,0)),\"وجود ندارد\",LOOKUP(A3686,Personnel!A:A,Personnel!B:B)))","v":" "},{"$f":"IF(A3686=0,\" \",IF(ISNA(MATCH(A3686,Personnel!A:A,0)),\"وجود ندارد\",LOOKUP(A3686,Personnel!A:A,Personnel!C:C)))","v":" "},null,null,null,null,null,null,null,null,"","",1,0," "," ",""," "," ","",null," "," ",",,,,,,,,,,,,"]
[null,{"$f":"IF(A3698=0,\" \",IF(ISNA(MATCH(A3698,Personnel!A:A,0)),\"وجود ندارد\",LOOKUP(A3698,Personnel!A:A,Personnel!B:B)))","v":" "},{"$f":"IF(A3698=0,\" \",IF(ISNA(MATCH(A3698,Personnel!A:A,0)),\"وجود ندارد\",LOOKUP(A3698,Personnel!A:A,Personnel!C:C)))","v":" "},null,null,null,null,null,null,null,null,"","",1,0," "," ",""," "," ","",null," "," ",",,,,,,,,,,,,"]
[null,{"$f":"IF(A3705=0,\" \",IF(ISNA(MATCH(A3705,Personnel!A:A,0)),\"وجود ندارد\",LOOKUP(A3705,Personnel!A:A,Personnel!B:B)))","v":" "},{"$f":"IF(A3705=0,\" \",IF(ISNA(MATCH(A3705,Personnel!A:A,0)),\"وجود ندارد\",LOOKUP(A3705,Personnel!A:A,Personnel!C:C)))","v":" "},null,null,null,null,null,null,null,null,"","",1,0," "," ",""," "," ","",null," "," ",",,,,,,,,,,,,"]
[null,{"$f":"IF(A3715=0,\" \",IF(ISNA(MATCH(A3715,Personnel!A:A,0)),\"وجود ندارد\",LOOKUP(A3715,Personnel!A:A,Personnel!B:B)))","v":" "},{"$f":"IF(A3715=0,\" \",IF(ISNA(MATCH(A3715,Personnel!A:A,0)),\"وجود ندارد\",LOOKUP(A3715,Personnel!A:A,Personnel!C:C)))","v":" "},null,null,null,null,null,null,null,null,{"$f":"IF(K3715=0,\"\",IF(K3715=1,\"ایجاد\",IF(K3715=2,\"اصلاح\",\"حذف\")))","v":""},{"$f":"IF(AND(K3715=3,H3715+I3715+J3715+F3715+G3715<>0),\"برای عمل حذف اطلاعات اضافی وارد شده است\",\"\")","v":""},{"$f":"IF(AND(K3715<>3,F3715<900000),1,0)","v":1},{"$f":"IF(F3715>991231,1,0)","v":0}," "," ",{"$f":"IF(AND(A3715=0,H3715+I3715+J3715+F3715+G3715+K3715+E3715+D3715<>0),\"در این ردیف شماره پرسنلی وجود ندارد اما اطلاعات دیگر وارد شده است\",\"\")","v":""},{"$f":"IF(A3715=0,\" \",IF(D3715=0,\"کد وام وارد نشده است\",\"\"))","v":" "}," ",{"$f":"IF(AND(OR(K3715=1,K3715=2),H3715=0),\"مبلغ قسط نمی تواند خالی باشد\",\"\")","v":""},null,{"$f":"IF(AND(A3715=0,A3716<>0),\"دراین ردیف اصلاحاتی وجود ندارد . لطفا ردیفی را خالی باقی نگذارید\",IF(AND(A3715=0,R3715=\"\"),\" \",IF(M3715&\",\"&P3715&\",\"&Q3715&\",\"&R3715&\",\"&S3715&\",\"&T3715&\",\"&U3715=\",,,,,,\",\"صحیح\",M3715&\",\"&P3715&\",\"&Q3715&\",\"&R3715&\",\"&S3715&\",\"&T3715&\",\"&U3715)))","v":" "},{"$f":"IF(AND(ROW(X3715)>$Z$2,W3715=\" \"),\" \",IF(W3715=\" \",IF(AND(A3715=0,$Z$2<>$Z$4),\"دراین ردیف اصلاحاتی وجود ندارد . لطفا ردیفی را خالی نگذارید\",W3715),W3715))","v":" "},{"$f":"CONCATENATE(A3715,\",\",D3715,\",\",E3715,\",\",F3715,\",\",G3715,\",\",H3715,\",\",I3715,\",\",K3715,\",\",,\",\",J3715,\",\",\",\",V3715,\",\")","v":",,,,,,,,,,,,"}]
[null,{"$f":"IF(A3723=0,\" \",IF(ISNA(MATCH(A3723,Personnel!A:A,0)),\"وجود ندارد\",LOOKUP(A3723,Personnel!A:A,Personnel!B:B)))","v":" "},{"$f":"IF(A3723=0,\" \",IF(ISNA(MATCH(A3723,Personnel!A:A,0)),\"وجود ندارد\",LOOKUP(A3723,Personnel!A:A,Personnel!C:C)))","v":" "},null,null,null,null,null,null,null,null,"","",1,0," "," ",""," "," ","",null," "," ",",,,,,,,,,,,,"]
[null,{"$f":"IF(A3735=0,\" \",IF(ISNA(MATCH(A3735,Personnel!A:A,0)),\"وجود ندارد\",LOOKUP(A3735,Personnel!A:A,Personnel!B:B)))","v":" "},{"$f":"IF(A3735=0,\" \",IF(ISNA(MATCH(A3735,Personnel!A:A,0)),\"وجود ندارد\",LOOKUP(A3735,Personnel!A:A,Personnel!C:C)))","v":" "},null,null,null,null,null,null,null,null,"","",1,0," "," ",""," "," ","",null," "," ",",,,,,,,,,,,,"]
[null,{"$f":"IF(A3738=0,\" \",IF(ISNA(MATCH(A3738,Personnel!A:A,0)),\"وجود ندارد\",LOOKUP(A3738,Personnel!A:A,Personnel!B:B)))","v":" "},{"$f":"IF(A3738=0,\" \",IF(ISNA(MATCH(A3738,Personnel!A:A,0)),\"وجود ندارد\",LOOKUP(A3738,Personnel!A:A,Personnel!C:C)))","v":" "},null,null,null,null,null,null,null,null,"","",1,0," "," ",""," "," ","",null," "," ",",,,,,,,,,,,,"]
[null,{"$f":"IF(A3745=0,\" \",IF(ISNA(MATCH(A3745,Personnel!A:A,0)),\"وجود ندارد\",LOOKUP(A3745,Personnel!A:A,Personnel!B:B)))","v":" "},{"$f":"IF(A3745=0,\" \",IF(ISNA(MATCH(A3745,Personnel!A:A,0)),\"وجود ندارد\",LOOKUP(A3745,Personnel!A:A,Personnel!C:C)))","v":" "},null,null,null,null,null,null,null,null,"","",1,0," "," ",""," "," ","",null," "," ",",,,,,,,,,,,,"]
[null,{"$f":"IF(A3756=0,\" \",IF(ISNA(MATCH(A3756,Personnel!A:A,0)),\"وجود ندارد\",LOOKUP(A3756,Personnel!A:A,Personnel!B:B)))","v":" "},{"$f":"IF(A3756=0,\" \",IF(ISNA(MATCH(A3756,Personnel!A:A,0)),\"وجود ندارد\",LOOKUP(A3756,Personnel!A:A,Personnel!C:C)))","v":" "},null,null,null,null,null,null,null,null,"","",1,0," "," ",""," "," ","",null," "," ",",,,,,,,,,,,,"]
[null,{"$f":"IF(A3768=0,\" \",IF(ISNA(MATCH(A3768,Personnel!A:A,0)),\"وجود ندارد\",LOOKUP(A3768,Personnel!A:A,Personnel!B:B)))","v":" "},{"$f":"IF(A3768=0,\" \",IF(ISNA(MATCH(A3768,Personnel!A:A,0)),\"وجود ندارد\",LOOKUP(A3768,Personnel!A:A,Personnel!C:C)))","v":" "},null,null,null,null,null,null,null,null,"","",1,0," "," ",""," "," ","",null," "," ",",,,,,,,,,,,,"]
[null,{"$f":"IF(A3775=0,\" \",IF(ISNA(MATCH(A3775,Personnel!A:A,0)),\"وجود ندارد\",LOOKUP(A3775,Personnel!A:A,Personnel!B:B)))","v":" "},{"$f":"IF(A3775=0,\" \",IF(ISNA(MATCH(A3775,Personnel!A:A,0)),\"وجود ندارد\",LOOKUP(A3775,Personnel!A:A,Personnel!C:C)))","v":" "},null,null,null,null,null,null,null,null,"","",1,0," "," ",""," "," ","",null," "," ",",,,,,,,,,,,,"]
[null,{"$f":"IF(A3787=0,\" \",IF(ISNA(MATCH(A3787,Personnel!A:A,0)),\"وجود ندارد\",LOOKUP(A3787,Personnel!A:A,Personnel!B:B)))","v":" "},{"$f":"IF(A3787=0,\" \",IF(ISNA(MATCH(A3787,Personnel!A:A,0)),\"وجود ندارد\",LOOKUP(A3787,Personnel!A:A,Personnel!C:C)))","v":" "},null,null,null,null,null,null,null,null,"","",1,0," "," ",""," "," ","",null," "," ",",,,,,,,,,,,,"]
[null,{"$f":"IF(A3794=0,\" \",IF(ISNA(MATCH(A3794,Personnel!A:A,0)),\"وجود ندارد\",LOOKUP(A3794,Personnel!A:A,Personnel!B:B)))","v":" "},{"$f":"IF(A3794=0,\" \",IF(ISNA(MATCH(A3794,Personnel!A:A,0)),\"وجود ندارد\",LOOKUP(A3794,Personnel!A:A,Personnel!C:C)))","v":" "},null,null,null,null,null,null,null,null,"","",1,0," "," ",""," "," ","",null," "," ",",,,,,,,,,,,,"]
[null,{"$f":"IF(A3805=0,\" \",IF(ISNA(MATCH(A3805,Personnel!A:A,0)),\"وجود ندارد\",LOOKUP(A3805,Personnel!A:A,Personnel!B:B)))","v":" "},{"$f":"IF(A3805=0,\" \",IF(ISNA(MATCH(A3805,Personnel!A:A,0)),\"وجود ندارد\",LOOKUP(A3805,Personnel!A:A,Personnel!C:C)))","v":" "},null,null,null,null,null,null,null,null,"","",1,0," "," ",""," "," ","",null," "," ",",,,,,,,,,,,,"]
[null,{"$f":"IF(A3808=0,\" \",IF(ISNA(MATCH(A3808,Personnel!A:A,0)),\"وجود ندارد\",LOOKUP(A3808,Personnel!A:A,Personnel!B:B)))","v":" "},{"$f":"IF(A3808=0,\" \",IF(ISNA(MATCH(A3808,Personnel!A:A,0)),\"وجود ندارد\",LOOKUP(A3808,Personnel!A:A,Personnel!C:C)))","v":" "},null,null,null,null,null,null,null,null,"","",1,0," "," ",""," "," ","",null," "," ",",,,,,,,,,,,,"]
[null,{"$f":"IF(A3815=0,\" \",IF(ISNA(MATCH(A3815,Personnel!A:A,0)),\"وجود ندارد\",LOOKUP(A3815,Personnel!A:A,Personnel!B:B)))","v":" "},{"$f":"IF(A3815=0,\" \",IF(ISNA(MATCH(A3815,Personnel!A:A,0)),\"وجود ندارد\",LOOKUP(A3815,Personnel!A:A,Personnel!C:C)))","v":" "},null,null,null,null,null,null,null,null,"","",1,0," "," ",""," "," ","",null," "," ",",,,,,,,,,,,,"]
[null,{"$f":"IF(A3827=0,\" \",IF(ISNA(MATCH(A3827,Personnel!A:A,0)),\"وجود ندارد\",LOOKUP(A3827,Personnel!A:A,Personnel!B:B)))","v":" "},{"$f":"IF(A3827=0,\" \",IF(ISNA(MATCH(A3827,Personnel!A:A,0)),\"وجود ندارد\",LOOKUP(A3827,Personnel!A:A,Personnel!C:C)))","v":" "},null,null,null,null,null,null,null,null,"","",1,0," "," ",""," "," ","",null," "," ",",,,,,,,,,,,,"]
[null,{"$f":"IF(A3839=0,\" \",IF(ISNA(MATCH(A3839,Personnel!A:A,0)),\"وجود ندارد\",LOOKUP(A3839,Personnel!A:A,Personnel!B:B)))","v":" "},{"$f":"IF(A3839=0,\" \",IF(ISNA(MATCH(A3839,Personnel!A:A,0)),\"وجود ندارد\",LOOKUP(A3839,Personnel!A:A,Personnel!C:C)))","v":" "},null,null,null,null,null,null,null,null,"","",1,0," "," ",""," "," ","",null," "," ",",,,,,,,,,,,,"]
[null,{"$f":"IF(A3846=0,\" \",IF(ISNA(MATCH(A3846,Personnel!A:A,0)),\"وجود ندارد\",LOOKUP(A3846,Personnel!A:A,Personnel!B:B)))","v":" "},{"$f":"IF(A3846=0,\" \",IF(ISNA(MATCH(A3846,Personnel!A:A,0)),\"وجود ندارد\",LOOKUP(A3846,Personnel!A:A,Personnel!C:C)))","v":" "},null,null,null,null,null,null,null,null,"","",1,0," "," ",""," "," ","",null," "," ",",,,,,,,,,,,,"]
[null,{"$f":"IF(A3857=0,\" \",IF(ISNA(MATCH(A3857,Personnel!A:A,0)),\"وجود ندارد\",LOOKUP(A3857,Personnel!A:A,Personnel!B:B)))","v":" "},{"$f":"IF(A3857=0,\" \",IF(ISNA(MATCH(A3857,Personnel!A:A,0)),\"وجود ندارد\",LOOKUP(A3857,Personnel!A:A,Personnel!C:C)))","v":" "},null,null,null,null,null,null,null,null,"","",1,0," "," ",""," "," ","",null," "," ",",,,,,,,,,,,,"]
[null,{"$f":"IF(A3864=0,\" \",IF(ISNA(MATCH(A3864,Personnel!A:A,0)),\"وجود ندارد\",LOOKUP(A3864,Personnel!A:A,Personnel!B:B)))","v":" "},{"$f":"IF(A3864=0,\" \",IF(ISNA(MATCH(A3864,Personnel!A:A,0)),\"وجود ندارد\",LOOKUP(A3864,Personnel!A:A,Personnel!C:C)))","v":" "},null,null,null,null,null,null,null,null,"","",1,0," "," ",""," "," ","",null," "," ",",,,,,,,,,,,,"]
[null,{"$f":"IF(A3876=0,\" \",IF(ISNA(MATCH(A3876,Personnel!A:A,0)),\"وجود ندارد\",LOOKUP(A3876,Personnel!A:A,Personnel!B:B)))","v":" "},{"$f":"IF(A3876=0,\" \",IF(ISNA(MATCH(A3876,Personnel!A:A,0)),\"وجود ندارد\",LOOKUP(A3876,Personnel!A:A,Personnel!C:C)))","v":" "},null,null,null,null,null,null,null,null,"","",1,0," "," ",""," "," ","",null," "," ",",,,,,,,,,,,,"]
[null,{"$f":"IF(A3879=0,\" \",IF(ISNA(MATCH(A3879,Personnel!A:A,0)),\"وجود ندارد\",LOOKUP(A3879,Personnel!A:A,Personnel!B:B)))","v":" "},{"$f":"IF(A3879=0,\" \",IF(ISNA(MATCH(A3879,Personnel!A:A,0)),\"وجود ندارد\",LOOKUP(A3879,Personnel!A:A,Personnel!C:C)))","v":" "},null,null,null,null,null,null,null,null,"","",1,0," "," ",""," "," ","",null," "," ",",,,,,,,,,,,,"]
[null,{"$f":"IF(A3887=0,\" \",IF(ISNA(MATCH(A3887,Personnel!A:A,0)),\"وجود ندارد\",LOOKUP(A3887,Personnel!A:A,Personnel!B:B)))","v":" "},{"$f":"IF(A3887=0,\" \",IF(ISNA(MATCH(A3887,Personnel!A:A,0)),\"وجود ندارد\",LOOKUP(A3887,Personnel!A:A,Personnel!C:C)))","v":" "},null,null,null,null,null,null,null,null,"","",1,0," "," ",""," "," ","",null," "," ",",,,,,,,,,,,,"]
[null,{"$f":"IF(A3897=0,\" \",IF(ISNA(MATCH(A3897,Personnel!A:A,0)),\"وجود ندارد\",LOOKUP(A3897,Personnel!A:A,Personnel!B:B)))","v":" "},{"$f":"IF(A3897=0,\" \",IF(ISNA(MATCH(A3897,Personnel!A:A,0)),\"وجود ندارد\",LOOKUP(A3897,Personnel!A:A,Personnel!C:C)))","v":" "},null,null,null,null,null,null,null,null,"","",1,0," "," ",""," "," ","",null," "," ",",,,,,,,,,,,,"]
[null,{"$f":"IF(A3904=0,\" \",IF(ISNA(MATCH(A3904,Personnel!A:A,0)),\"وجود ندارد\",LOOKUP(A3904,Personnel!A:A,Personnel!B:B)))","v":" "},{"$f":"IF(A3904=0,\" \",IF(ISNA(MATCH(A3904,Personnel!A:A,0)),\"وجود ندارد\",LOOKUP(A3904,Personnel!A:A,Personnel!C:C)))","v":" "},null,null,null,null,null,null,null,null,"","",1,0," "," ",""," "," ","",null," "," ",",,,,,,,,,,,,"]
[null,{"$f":"IF(A3916=0,\" \",IF(ISNA(MATCH(A3916,Personnel!A:A,0)),\"وجود ندارد\",LOOKUP(A3916,Personnel!A:A,Personnel!B:B)))","v":" "},{"$f":"IF(A3916=0,\" \",IF(ISNA(MATCH(A3916,Personnel!A:A,0)),\"وجود ندارد\",LOOKUP(A3916,Personnel!A:A,Personnel!C:C)))","v":" "},null,null,null,null,null,null,null,null,"","",1,0," "," ",""," "," ","",null," "," ",",,,,,,,,,,,,"]
[null,{"$f":"IF(A3928=0,\" \",IF(ISNA(MATCH(A3928,Personnel!A:A,0)),\"وجود ندارد\",LOOKUP(A3928,Personnel!A:A,Personnel!B:B)))","v":" "},{"$f":"IF(A3928=0,\" \",IF(ISNA(MATCH(A3928,Personnel!A:A,0)),\"وجود ندارد\",LOOKUP(A3928,Personnel!A:A,Personnel!C:C)))","v":" "},null,null,null,null,null,null,null,null,"","",1,0," "," ",""," "," ","",null," "," ",",,,,,,,,,,,,"]
[null,{"$f":"IF(A3936=0,\" \",IF(ISNA(MATCH(A3936,Personnel!A:A,0)),\"وجود ندارد\",LOOKUP(A3936,Personnel!A:A,Personnel!B:B)))","v":" "},{"$f":"IF(A3936=0,\" \",IF(ISNA(MATCH(A3936,Personnel!A:A,0)),\"وجود ندارد\",LOOKUP(A3936,Personnel!A:A,Personnel!C:C)))","v":" "},null,null,null,null,null,null,null,null,"","",1,0," "," ",""," "," ","",null," "," ",",,,,,,,,,,,,"]
[null,{"$f":"IF(A3946=0,\" \",IF(ISNA(MATCH(A3946,Personnel!A:A,0)),\"وجود ندارد\",LOOKUP(A3946,Personnel!A:A,Personnel!B:B)))","v":" "},{"$f":"IF(A3946=0,\" \",IF(ISNA(MATCH(A3946,Personnel!A:A,0)),\"وجود ندارد\",LOOKUP(A3946,Personnel!A:A,Personnel!C:C)))","v":" "},null,null,null,null,null,null,null,null,"","",1,0," "," ",""," "," ","",null," "," ",",,,,,,,,,,,,"]
[null,{"$f":"IF(A3949=0,\" \",IF(ISNA(MATCH(A3949,Personnel!A:A,0)),\"وجود ندارد\",LOOKUP(A3949,Personnel!A:A,Personnel!B:B)))","v":" "},{"$f":"IF(A3949=0,\" \",IF(ISNA(MATCH(A3949,Personnel!A:A,0)),\"وجود ندارد\",LOOKUP(A3949,Personnel!A:A,Personnel!C:C)))","v":" "},null,null,null,null,null,null,null,null,"","",1,0," "," ",""," "," ","",null," "," ",",,,,,,,,,,,,"]
[null,{"$f":"IF(A3956=0,\" \",IF(ISNA(MATCH(A3956,Personnel!A:A,0)),\"وجود ندارد\",LOOKUP(A3956,Personnel!A:A,Personnel!B:B)))","v":" "},{"$f":"IF(A3956=0,\" \",IF(ISNA(MATCH(A3956,Personnel!A:A,0)),\"وجود ندارد\",LOOKUP(A3956,Personnel!A:A,Personnel!C:C)))","v":" "},null,null,null,null,null,null,null,null,"","",1,0," "," ",""," "," ","",null," "," ",",,,,,,,,,,,,"]
[null,{"$f":"IF(A3968=0,\" \",IF(ISNA(MATCH(A3968,Personnel!A:A,0)),\"وجود ندارد\",LOOKUP(A3968,Personnel!A:A,Personnel!B:B)))","v":" "},{"$f":"IF(A3968=0,\" \",IF(ISNA(MATCH(A3968,Personnel!A:A,0)),\"وجود ندارد\",LOOKUP(A3968,Personnel!A:A,Personnel!C:C)))","v":" "},null,null,null,null,null,null,null,null,"","",1,0," "," ",""," "," ","",null," "," ",",,,,,,,,,,,,"]
[null,{"$f":"IF(A3977=0,\" \",IF(ISNA(MATCH(A3977,Personnel!A:A,0)),\"وجود ندارد\",LOOKUP(A3977,Personnel!A:A,Personnel!B:B)))","v":" "},{"$f":"IF(A3977=0,\" \",IF(ISNA(MATCH(A3977,Personnel!A:A,0)),\"وجود ندارد\",LOOKUP(A3977,Personnel!A:A,Personnel!C:C)))","v":" "},null,null,null,null,null,null,null,null,"","",1,0," "," ",""," "," ","",null," "," ",",,,,,,,,,,,,"]
[null,{"$f":"IF(A3986=0,\" \",IF(ISNA(MATCH(A3986,Personnel!A:A,0)),\"وجود ندارد\",LOOKUP(A3986,Personnel!A:A,Personnel!B:B)))","v":" "},{"$f":"IF(A3986=0,\" \",IF(ISNA(MATCH(A3986,Personnel!A:A,0)),\"وجود ندارد\",LOOKUP(A3986,Personnel!A:A,Personnel!C:C)))","v":" "},null,null,null,null,null,null,null,null,"","",1,0," "," ",""," "," ","",null," "," ",",,,,,,,,,,,,"]
[null,{"$f":"IF(A3998=0,\" \",IF(ISNA(MATCH(A3998,Personnel!A:A,0)),\"وجود ندارد\",LOOKUP(A3998,Personnel!A:A,Personnel!B:B)))","v":" "},{"$f":"IF(A3998=0,\" \",IF(ISNA(MATCH(A3998,Personnel!A:A,0)),\"وجود ندارد\",LOOKUP(A3998,Personnel!A:A,Personnel!C:C)))","v":" "},null,null,null,null,null,null,null,null,"","",1,0," "," ",""," "," ","",null," "," ",",,,,,,,,,,,,"]
[null,{"$f":"IF(A4005=0,\" \",IF(ISNA(MATCH(A4005,Personnel!A:A,0)),\"وجود ندارد\",LOOKUP(A4005,Personnel!A:A,Personnel!B:B)))","v":" "},{"$f":"IF(A4005=0,\" \",IF(ISNA(MATCH(A4005,Personnel!A:A,0)),\"وجود ندارد\",LOOKUP(A4005,Personnel!A:A,Personnel!C:C)))","v":" "},null,null,null,null,null,null,null,null,"","",1,0," "," ",""," "," ","",null," "," ",",,,,,,,,,,,,"]
[null,{"$f":"IF(A4017=0,\" \",IF(ISNA(MATCH(A4017,Personnel!A:A,0)),\"وجود ندارد\",LOOKUP(A4017,Personnel!A:A,Personnel!B:B)))","v":" "},{"$f":"IF(A4017=0,\" \",IF(ISNA(MATCH(A4017,Personnel!A:A,0)),\"وجود ندارد\",LOOKUP(A4017,Personnel!A:A,Personnel!C:C)))","v":" "},null,null,null,null,null,null,null,null,"","",1,0," "," ",""," "," ","",null," "," ",",,,,,,,,,,,,"]
[null,{"$f":"IF(A4018=0,\" \",IF(ISNA(MATCH(A4018,Personnel!A:A,0)),\"وجود ندارد\",LOOKUP(A4018,Personnel!A:A,Personnel!B:B)))","v":" "},{"$f":"IF(A4018=0,\" \",IF(ISNA(MATCH(A4018,Personnel!A:A,0)),\"وجود ندارد\",LOOKUP(A4018,Personnel!A:A,Personnel!C:C)))","v":" "},null,null,null,null,null,null,null,null,"","",1,0," "," ",""," "," ","",null," "," ",",,,,,,,,,,,,"]
[null,{"$f":"IF(A4026=0,\" \",IF(ISNA(MATCH(A4026,Personnel!A:A,0)),\"وجود ندارد\",LOOKUP(A4026,Personnel!A:A,Personnel!B:B)))","v":" "},{"$f":"IF(A4026=0,\" \",IF(ISNA(MATCH(A4026,Personnel!A:A,0)),\"وجود ندارد\",LOOKUP(A4026,Personnel!A:A,Personnel!C:C)))","v":" "},null,null,null,null,null,null,null,null,"","",1,0," "," ",""," "," ","",null," "," ",",,,,,,,,,,,,"]
[null,{"$f":"IF(A4038=0,\" \",IF(ISNA(MATCH(A4038,Personnel!A:A,0)),\"وجود ندارد\",LOOKUP(A4038,Personnel!A:A,Personnel!B:B)))","v":" "},{"$f":"IF(A4038=0,\" \",IF(ISNA(MATCH(A4038,Personnel!A:A,0)),\"وجود ندارد\",LOOKUP(A4038,Personnel!A:A,Personnel!C:C)))","v":" "},null,null,null,null,null,null,null,null,"","",1,0," "," ",""," "," ","",null," "," ",",,,,,,,,,,,,"]
[null,{"$f":"IF(A4045=0,\" \",IF(ISNA(MATCH(A4045,Personnel!A:A,0)),\"وجود ندارد\",LOOKUP(A4045,Personnel!A:A,Personnel!B:B)))","v":" "},{"$f":"IF(A4045=0,\" \",IF(ISNA(MATCH(A4045,Personnel!A:A,0)),\"وجود ندارد\",LOOKUP(A4045,Personnel!A:A,Personnel!C:C)))","v":" "},null,null,null,null,null,null,null,null,"","",1,0," "," ",""," "," ","",null," "," ",",,,,,,,,,,,,"]
[null,{"$f":"IF(A4057=0,\" \",IF(ISNA(MATCH(A4057,Personnel!A:A,0)),\"وجود ندارد\",LOOKUP(A4057,Personnel!A:A,Personnel!B:B)))","v":" "},{"$f":"IF(A4057=0,\" \",IF(ISNA(MATCH(A4057,Personnel!A:A,0)),\"وجود ندارد\",LOOKUP(A4057,Personnel!A:A,Personnel!C:C)))","v":" "},null,null,null,null,null,null,null,null,"","",1,0," "," ",""," "," ","",null," "," ",",,,,,,,,,,,,"]
[null,{"$f":"IF(A4067=0,\" \",IF(ISNA(MATCH(A4067,Personnel!A:A,0)),\"وجود ندارد\",LOOKUP(A4067,Personnel!A:A,Personnel!B:B)))","v":" "},{"$f":"IF(A4067=0,\" \",IF(ISNA(MATCH(A4067,Personnel!A:A,0)),\"وجود ندارد\",LOOKUP(A4067,Personnel!A:A,Personnel!C:C)))","v":" "},null,null,null,null,null,null,null,null,"","",1,0," "," ",""," "," ","",null," "," ",",,,,,,,,,,,,"]
[null,{"$f":"IF(A4075=0,\" \",IF(ISNA(MATCH(A4075,Personnel!A:A,0)),\"وجود ندارد\",LOOKUP(A4075,Personnel!A:A,Personnel!B:B)))","v":" "},{"$f":"IF(A4075=0,\" \",IF(ISNA(MATCH(A4075,Personnel!A:A,0)),\"وجود ندارد\",LOOKUP(A4075,Personnel!A:A,Personnel!C:C)))","v":" "},null,null,null,null,null,null,null,null,"","",1,0," "," ",""," "," ","",null," "," ",",,,,,,,,,,,,"]
[null,{"$f":"IF(A4087=0,\" \",IF(ISNA(MATCH(A4087,Personnel!A:A,0)),\"وجود ندارد\",LOOKUP(A4087,Personnel!A:A,Personnel!B:B)))","v":" "},{"$f":"IF(A4087=0,\" \",IF(ISNA(MATCH(A4087,Personnel!A:A,0)),\"وجود ندارد\",LOOKUP(A4087,Personnel!A:A,Personnel!C:C)))","v":" "},null,null,null,null,null,null,null,null,"","",1,0," "," ",""," "," ","",null," "," ",",,,,,,,,,,,,"]
[null,{"$f":"IF(A4094=0,\" \",IF(ISNA(MATCH(A4094,Personnel!A:A,0)),\"وجود ندارد\",LOOKUP(A4094,Personnel!A:A,Personnel!B:B)))","v":" "},{"$f":"IF(A4094=0,\" \",IF(ISNA(MATCH(A4094,Personnel!A:A,0)),\"وجود ندارد\",LOOKUP(A4094,Personnel!A:A,Personnel!C:C)))","v":" "},null,null,null,null,null,null,null,null,"","",1,0," "," ",""," "," ","",null," "," ",",,,,,,,,,,,,"]
[null,{"$f":"IF(A4098=0,\" \",IF(ISNA(MATCH(A4098,Personnel!A:A,0)),\"وجود ندارد\",LOOKUP(A4098,Personnel!A:A,Personnel!B:B)))","v":" "},{"$f":"IF(A4098=0,\" \",IF(ISNA(MATCH(A4098,Personnel!A:A,0)),\"وجود ندارد\",LOOKUP(A4098,Personnel!A:A,Personnel!C:C)))","v":" "},null,null,null,null,null,null,null,null,"","",1,0,{"$f":"IF(A4098=0,\" \",IF(N4098+O4098<>0,\"تاریخ اشتباه است\",\"\"))","v":" "},{"$f":"IF(A4098=0,\" \",IF(AND(G4098<>0,H4098>G4098),\"مبلغ قسط از مبلغ کل بیشتر است\",\"\"))","v":" "},""," ",{"$f":"IF(A4098=0,\" \",IF(OR(K4098<1,K4098>3),\"نوع عمل اشتباه است\",\"\"))","v":" "},"",null," "," ",",,,,,,,,,,,,"]
[null,{"$f":"IF(A4108=0,\" \",IF(ISNA(MATCH(A4108,Personnel!A:A,0)),\"وجود ندارد\",LOOKUP(A4108,Personnel!A:A,Personnel!B:B)))","v":" "},{"$f":"IF(A4108=0,\" \",IF(ISNA(MATCH(A4108,Personnel!A:A,0)),\"وجود ندارد\",LOOKUP(A4108,Personnel!A:A,Personnel!C:C)))","v":" "},null,null,null,null,null,null,null,null,"","",1,0," "," ",""," "," ","",null," "," ",",,,,,,,,,,,,"]
[null,{"$f":"IF(A4115=0,\" \",IF(ISNA(MATCH(A4115,Personnel!A:A,0)),\"وجود ندارد\",LOOKUP(A4115,Personnel!A:A,Personnel!B:B)))","v":" "},{"$f":"IF(A4115=0,\" \",IF(ISNA(MATCH(A4115,Personnel!A:A,0)),\"وجود ندارد\",LOOKUP(A4115,Personnel!A:A,Personnel!C:C)))","v":" "},null,null,null,null,null,null,null,null,"","",1,0," "," ",""," "," ","",null," "," ",",,,,,,,,,,,,"]
[null,{"$f":"IF(A4127=0,\" \",IF(ISNA(MATCH(A4127,Personnel!A:A,0)),\"وجود ندارد\",LOOKUP(A4127,Personnel!A:A,Personnel!B:B)))","v":" "},{"$f":"IF(A4127=0,\" \",IF(ISNA(MATCH(A4127,Personnel!A:A,0)),\"وجود ندارد\",LOOKUP(A4127,Personnel!A:A,Personnel!C:C)))","v":" "},null,null,null,null,null,null,null,null,"","",1,0," "," ",""," "," ","",null," "," ",",,,,,,,,,,,,"]
[null,{"$f":"IF(A4139=0,\" \",IF(ISNA(MATCH(A4139,Personnel!A:A,0)),\"وجود ندارد\",LOOKUP(A4139,Personnel!A:A,Personnel!B:B)))","v":" "},{"$f":"IF(A4139=0,\" \",IF(ISNA(MATCH(A4139,Personnel!A:A,0)),\"وجود ندارد\",LOOKUP(A4139,Personnel!A:A,Personnel!C:C)))","v":" "},null,null,null,null,null,null,null,null,"","",1,0," "," ",""," "," ","",null," "," ",",,,,,,,,,,,,"]
[null,{"$f":"IF(A4147=0,\" \",IF(ISNA(MATCH(A4147,Personnel!A:A,0)),\"وجود ندارد\",LOOKUP(A4147,Personnel!A:A,Personnel!B:B)))","v":" "},{"$f":"IF(A4147=0,\" \",IF(ISNA(MATCH(A4147,Personnel!A:A,0)),\"وجود ندارد\",LOOKUP(A4147,Personnel!A:A,Personnel!C:C)))","v":" "},null,null,null,null,null,null,null,null,"","",1,0," "," ",""," "," ","",null," "," ",",,,,,,,,,,,,"]
[null,{"$f":"IF(A4157=0,\" \",IF(ISNA(MATCH(A4157,Personnel!A:A,0)),\"وجود ندارد\",LOOKUP(A4157,Personnel!A:A,Personnel!B:B)))","v":" "},{"$f":"IF(A4157=0,\" \",IF(ISNA(MATCH(A4157,Personnel!A:A,0)),\"وجود ندارد\",LOOKUP(A4157,Personnel!A:A,Personnel!C:C)))","v":" "},null,null,null,null,null,null,null,null,"","",1,0," "," ",""," "," ","",null," "," ",",,,,,,,,,,,,"]
[null,{"$f":"IF(A4164=0,\" \",IF(ISNA(MATCH(A4164,Personnel!A:A,0)),\"وجود ندارد\",LOOKUP(A4164,Personnel!A:A,Personnel!B:B)))","v":" "},{"$f":"IF(A4164=0,\" \",IF(ISNA(MATCH(A4164,Personnel!A:A,0)),\"وجود ندارد\",LOOKUP(A4164,Personnel!A:A,Personnel!C:C)))","v":" "},null,null,null,null,null,null,null,null,"","",1,0," "," ",""," "," ","",null," "," ",",,,,,,,,,,,,"]
[null,{"$f":"IF(A4167=0,\" \",IF(ISNA(MATCH(A4167,Personnel!A:A,0)),\"وجود ندارد\",LOOKUP(A4167,Personnel!A:A,Personnel!B:B)))","v":" "},{"$f":"IF(A4167=0,\" \",IF(ISNA(MATCH(A4167,Personnel!A:A,0)),\"وجود ندارد\",LOOKUP(A4167,Personnel!A:A,Personnel!C:C)))","v":" "},null,null,null,null,null,null,null,null,"","",1,0," "," ",""," "," ","",null," "," ",",,,,,,,,,,,,"]
[null,{"$f":"IF(A4179=0,\" \",IF(ISNA(MATCH(A4179,Personnel!A:A,0)),\"وجود ندارد\",LOOKUP(A4179,Personnel!A:A,Personnel!B:B)))","v":" "},{"$f":"IF(A4179=0,\" \",IF(ISNA(MATCH(A4179,Personnel!A:A,0)),\"وجود ندارد\",LOOKUP(A4179,Personnel!A:A,Personnel!C:C)))","v":" "},null,null,null,null,null,null,null,null,"","",1,0," "," ",""," "," ","",null," "," ",",,,,,,,,,,,,"]
[null,{"$f":"IF(A4188=0,\" \",IF(ISNA(MATCH(A4188,Personnel!A:A,0)),\"وجود ندارد\",LOOKUP(A4188,Personnel!A:A,Personnel!B:B)))","v":" "},{"$f":"IF(A4188=0,\" \",IF(ISNA(MATCH(A4188,Personnel!A:A,0)),\"وجود ندارد\",LOOKUP(A4188,Personnel!A:A,Personnel!C:C)))","v":" "},null,null,null,null,null,null,null,null,"","",1,0," "," ",""," "," ","",null," "," ",",,,,,,,,,,,,"]
[null,{"$f":"IF(A4197=0,\" \",IF(ISNA(MATCH(A4197,Personnel!A:A,0)),\"وجود ندارد\",LOOKUP(A4197,Personnel!A:A,Personnel!B:B)))","v":" "},{"$f":"IF(A4197=0,\" \",IF(ISNA(MATCH(A4197,Personnel!A:A,0)),\"وجود ندارد\",LOOKUP(A4197,Personnel!A:A,Personnel!C:C)))","v":" "},null,null,null,null,null,null,null,null,"","",1,0," "," ",""," "," ","",null," "," ",",,,,,,,,,,,,"]
[null,{"$f":"IF(A4204=0,\" \",IF(ISNA(MATCH(A4204,Personnel!A:A,0)),\"وجود ندارد\",LOOKUP(A4204,Personnel!A:A,Personnel!B:B)))","v":" "},{"$f":"IF(A4204=0,\" \",IF(ISNA(MATCH(A4204,Personnel!A:A,0)),\"وجود ندارد\",LOOKUP(A4204,Personnel!A:A,Personnel!C:C)))","v":" "},null,null,null,null,null,null,null,null,"","",1,0," "," ",""," "," ","",null," "," ",",,,,,,,,,,,,"]
[null,{"$f":"IF(A4216=0,\" \",IF(ISNA(MATCH(A4216,Personnel!A:A,0)),\"وجود ندارد\",LOOKUP(A4216,Personnel!A:A,Personnel!B:B)))","v":" "},{"$f":"IF(A4216=0,\" \",IF(ISNA(MATCH(A4216,Personnel!A:A,0)),\"وجود ندارد\",LOOKUP(A4216,Personnel!A:A,Personnel!C:C)))","v":" "},null,null,null,null,null,null,null,null,"","",1,0," "," ",""," "," ","",null," "," ",",,,,,,,,,,,,"]
[null,{"$f":"IF(A4228=0,\" \",IF(ISNA(MATCH(A4228,Personnel!A:A,0)),\"وجود ندارد\",LOOKUP(A4228,Personnel!A:A,Personnel!B:B)))","v":" "},{"$f":"IF(A4228=0,\" \",IF(ISNA(MATCH(A4228,Personnel!A:A,0)),\"وجود ندارد\",LOOKUP(A4228,Personnel!A:A,Personnel!C:C)))","v":" "},null,null,null,null,null,null,null,null,"","",1,0," "," ",""," "," ","",null," "," ",",,,,,,,,,,,,"]
[null,{"$f":"IF(A4229=0,\" \",IF(ISNA(MATCH(A4229,Personnel!A:A,0)),\"وجود ندارد\",LOOKUP(A4229,Personnel!A:A,Personnel!B:B)))","v":" "},{"$f":"IF(A4229=0,\" \",IF(ISNA(MATCH(A4229,Personnel!A:A,0)),\"وجود ندارد\",LOOKUP(A4229,Personnel!A:A,Personnel!C:C)))","v":" "},null,null,null,null,null,null,null,null,"","",1,0," "," ",""," "," ","",null," "," ",",,,,,,,,,,,,"]
[null,{"$f":"IF(A4237=0,\" \",IF(ISNA(MATCH(A4237,Personnel!A:A,0)),\"وجود ندارد\",LOOKUP(A4237,Personnel!A:A,Personnel!B:B)))","v":" "},{"$f":"IF(A4237=0,\" \",IF(ISNA(MATCH(A4237,Personnel!A:A,0)),\"وجود ندارد\",LOOKUP(A4237,Personnel!A:A,Personnel!C:C)))","v":" "},null,null,null,null,null,null,null,null,"","",1,0," "," ",""," "," ","",null," "," ",",,,,,,,,,,,,"]
[null,{"$f":"IF(A4249=0,\" \",IF(ISNA(MATCH(A4249,Personnel!A:A,0)),\"وجود ندارد\",LOOKUP(A4249,Personnel!A:A,Personnel!B:B)))","v":" "},{"$f":"IF(A4249=0,\" \",IF(ISNA(MATCH(A4249,Personnel!A:A,0)),\"وجود ندارد\",LOOKUP(A4249,Personnel!A:A,Personnel!C:C)))","v":" "},null,null,null,null,null,null,null,null,"","",1,0," "," ",""," "," ","",null," "," ",",,,,,,,,,,,,"]
[null,{"$f":"IF(A4256=0,\" \",IF(ISNA(MATCH(A4256,Personnel!A:A,0)),\"وجود ندارد\",LOOKUP(A4256,Personnel!A:A,Personnel!B:B)))","v":" "},{"$f":"IF(A4256=0,\" \",IF(ISNA(MATCH(A4256,Personnel!A:A,0)),\"وجود ندارد\",LOOKUP(A4256,Personnel!A:A,Personnel!C:C)))","v":" "},null,null,null,null,null,null,null,null,"","",1,0," "," ",""," "," ","",null," "," ",",,,,,,,,,,,,"]
[null,{"$f":"IF(A4268=0,\" \",IF(ISNA(MATCH(A4268,Personnel!A:A,0)),\"وجود ندارد\",LOOKUP(A4268,Personnel!A:A,Personnel!B:B)))","v":" "},{"$f":"IF(A4268=0,\" \",IF(ISNA(MATCH(A4268,Personnel!A:A,0)),\"وجود ندارد\",LOOKUP(A4268,Personnel!A:A,Personnel!C:C)))","v":" "},null,null,null,null,null,null,null,null,"","",1,0," "," ",""," "," ","",null," "," ",",,,,,,,,,,,,"]
[null,{"$f":"IF(A4278=0,\" \",IF(ISNA(MATCH(A4278,Personnel!A:A,0)),\"وجود ندارد\",LOOKUP(A4278,Personnel!A:A,Personnel!B:B)))","v":" "},{"$f":"IF(A4278=0,\" \",IF(ISNA(MATCH(A4278,Personnel!A:A,0)),\"وجود ندارد\",LOOKUP(A4278,Personnel!A:A,Personnel!C:C)))","v":" "},null,null,null,null,null,null,null,null,"","",1,0," "," ",""," "," ","",null," "," ",",,,,,,,,,,,,"]
[null,{"$f":"IF(A4286=0,\" \",IF(ISNA(MATCH(A4286,Personnel!A:A,0)),\"وجود ندارد\",LOOKUP(A4286,Personnel!A:A,Personnel!B:B)))","v":" "},{"$f":"IF(A4286=0,\" \",IF(ISNA(MATCH(A4286,Personnel!A:A,0)),\"وجود ندارد\",LOOKUP(A4286,Personnel!A:A,Personnel!C:C)))","v":" "},null,null,null,null,null,null,null,null,"","",1,0," "," ",""," "," ","",null," "," ",",,,,,,,,,,,,"]
[null,{"$f":"IF(A4298=0,\" \",IF(ISNA(MATCH(A4298,Personnel!A:A,0)),\"وجود ندارد\",LOOKUP(A4298,Personnel!A:A,Personnel!B:B)))","v":" "},{"$f":"IF(A4298=0,\" \",IF(ISNA(MATCH(A4298,Personnel!A:A,0)),\"وجود ندارد\",LOOKUP(A4298,Personnel!A:A,Personnel!C:C)))","v":" "},null,null,null,null,null,null,null,null,"","",1,0," "," ",""," "," ","",null," "," ",",,,,,,,,,,,,"]
[null,{"$f":"IF(A4305=0,\" \",IF(ISNA(MATCH(A4305,Personnel!A:A,0)),\"وجود ندارد\",LOOKUP(A4305,Personnel!A:A,Personnel!B:B)))","v":" "},{"$f":"IF(A4305=0,\" \",IF(ISNA(MATCH(A4305,Personnel!A:A,0)),\"وجود ندارد\",LOOKUP(A4305,Personnel!A:A,Personnel!C:C)))","v":" "},null,null,null,null,null,null,null,null,"","",1,0," "," ",""," "," ","",null," "," ",",,,,,,,,,,,,"]
[null,{"$f":"IF(A4308=0,\" \",IF(ISNA(MATCH(A4308,Personnel!A:A,0)),\"وجود ندارد\",LOOKUP(A4308,Personnel!A:A,Personnel!B:B)))","v":" "},{"$f":"IF(A4308=0,\" \",IF(ISNA(MATCH(A4308,Personnel!A:A,0)),\"وجود ندارد\",LOOKUP(A4308,Personnel!A:A,Personnel!C:C)))","v":" "},null,null,null,null,null,null,null,null,"","",1,0," "," ",""," "," ","",null," "," ",",,,,,,,,,,,,"]
[null,{"$f":"IF(A4319=0,\" \",IF(ISNA(MATCH(A4319,Personnel!A:A,0)),\"وجود ندارد\",LOOKUP(A4319,Personnel!A:A,Personnel!B:B)))","v":" "},{"$f":"IF(A4319=0,\" \",IF(ISNA(MATCH(A4319,Personnel!A:A,0)),\"وجود ندارد\",LOOKUP(A4319,Personnel!A:A,Personnel!C:C)))","v":" "},null,null,null,null,null,null,null,null,"","",1,0," "," ",""," "," ","",null," "," ",",,,,,,,,,,,,"]
[null,{"$f":"IF(A4326=0,\" \",IF(ISNA(MATCH(A4326,Personnel!A:A,0)),\"وجود ندارد\",LOOKUP(A4326,Personnel!A:A,Personnel!B:B)))","v":" "},{"$f":"IF(A4326=0,\" \",IF(ISNA(MATCH(A4326,Personnel!A:A,0)),\"وجود ندارد\",LOOKUP(A4326,Personnel!A:A,Personnel!C:C)))","v":" "},null,null,null,null,null,null,null,null,"","",1,0," "," ",""," "," ","",null," "," ",",,,,,,,,,,,,"]
[null,{"$f":"IF(A4338=0,\" \",IF(ISNA(MATCH(A4338,Personnel!A:A,0)),\"وجود ندارد\",LOOKUP(A4338,Personnel!A:A,Personnel!B:B)))","v":" "},{"$f":"IF(A4338=0,\" \",IF(ISNA(MATCH(A4338,Personnel!A:A,0)),\"وجود ندارد\",LOOKUP(A4338,Personnel!A:A,Personnel!C:C)))","v":" "},null,null,null,null,null,null,null,null,"","",1,0," "," ",""," "," ","",null," "," ",",,,,,,,,,,,,"]
[null,{"$f":"IF(A4345=0,\" \",IF(ISNA(MATCH(A4345,Personnel!A:A,0)),\"وجود ندارد\",LOOKUP(A4345,Personnel!A:A,Personnel!B:B)))","v":" "},{"$f":"IF(A4345=0,\" \",IF(ISNA(MATCH(A4345,Personnel!A:A,0)),\"وجود ندارد\",LOOKUP(A4345,Personnel!A:A,Personnel!C:C)))","v":" "},null,null,null,null,null,null,null,null,"","",1,0," "," ",""," "," ","",null," "," ",",,,,,,,,,,,,"]
[null,{"$f":"IF(A4357=0,\" \",IF(ISNA(MATCH(A4357,Personnel!A:A,0)),\"وجود ندارد\",LOOKUP(A4357,Personnel!A:A,Personnel!B:B)))","v":" "},{"$f":"IF(A4357=0,\" \",IF(ISNA(MATCH(A4357,Personnel!A:A,0)),\"وجود ندارد\",LOOKUP(A4357,Personnel!A:A,Personnel!C:C)))","v":" "},null,null,null,null,null,null,null,null,"","",1,0," "," ",""," "," ","",null," "," ",",,,,,,,,,,,,"]
[null,{"$f":"IF(A4368=0,\" \",IF(ISNA(MATCH(A4368,Personnel!A:A,0)),\"وجود ندارد\",LOOKUP(A4368,Personnel!A:A,Personnel!B:B)))","v":" "},{"$f":"IF(A4368=0,\" \",IF(ISNA(MATCH(A4368,Personnel!A:A,0)),\"وجود ندارد\",LOOKUP(A4368,Personnel!A:A,Personnel!C:C)))","v":" "},null,null,null,null,null,null,null,null,"","",1,0," "," ",""," "," ","",null," "," ",",,,,,,,,,,,,"]
[null,{"$f":"IF(A4375=0,\" \",IF(ISNA(MATCH(A4375,Personnel!A:A,0)),\"وجود ندارد\",LOOKUP(A4375,Personnel!A:A,Personnel!B:B)))","v":" "},{"$f":"IF(A4375=0,\" \",IF(ISNA(MATCH(A4375,Personnel!A:A,0)),\"وجود ندارد\",LOOKUP(A4375,Personnel!A:A,Personnel!C:C)))","v":" "},null,null,null,null,null,null,null,null,"","",1,0," "," ",""," "," ","",null," "," ",",,,,,,,,,,,,"]
[null,{"$f":"IF(A4378=0,\" \",IF(ISNA(MATCH(A4378,Personnel!A:A,0)),\"وجود ندارد\",LOOKUP(A4378,Personnel!A:A,Personnel!B:B)))","v":" "},{"$f":"IF(A4378=0,\" \",IF(ISNA(MATCH(A4378,Personnel!A:A,0)),\"وجود ندارد\",LOOKUP(A4378,Personnel!A:A,Personnel!C:C)))","v":" "},null,null,null,null,null,null,null,null,"","",1,0," "," ",""," "," ","",null," "," ",",,,,,,,,,,,,"]
[null,{"$f":"IF(A4394=0,\" \",IF(ISNA(MATCH(A4394,Personnel!A:A,0)),\"وجود ندارد\",LOOKUP(A4394,Personnel!A:A,Personnel!B:B)))","v":" "},{"$f":"IF(A4394=0,\" \",IF(ISNA(MATCH(A4394,Personnel!A:A,0)),\"وجود ندارد\",LOOKUP(A4394,Personnel!A:A,Personnel!C:C)))","v":" "},null,null,null,null,null,null,null,null,"","",1,0," "," ",""," "," ","",null," "," ",",,,,,,,,,,,,"]
[null,{"$f":"IF(A4397=0,\" \",IF(ISNA(MATCH(A4397,Personnel!A:A,0)),\"وجود ندارد\",LOOKUP(A4397,Personnel!A:A,Personnel!B:B)))","v":" "},{"$f":"IF(A4397=0,\" \",IF(ISNA(MATCH(A4397,Personnel!A:A,0)),\"وجود ندارد\",LOOKUP(A4397,Personnel!A:A,Personnel!C:C)))","v":" "},null,null,null,null,null,null,null,null,"","",1,0," "," ",""," "," ","",null," "," ",",,,,,,,,,,,,"]
[null,{"$f":"IF(A4409=0,\" \",IF(ISNA(MATCH(A4409,Personnel!A:A,0)),\"وجود ندارد\",LOOKUP(A4409,Personnel!A:A,Personnel!B:B)))","v":" "},{"$f":"IF(A4409=0,\" \",IF(ISNA(MATCH(A4409,Personnel!A:A,0)),\"وجود ندارد\",LOOKUP(A4409,Personnel!A:A,Personnel!C:C)))","v":" "},null,null,null,null,null,null,null,null,"","",1,0," "," ",""," "," ","",null," "," ",",,,,,,,,,,,,"]
[null,{"$f":"IF(A4415=0,\" \",IF(ISNA(MATCH(A4415,Personnel!A:A,0)),\"وجود ندارد\",LOOKUP(A4415,Personnel!A:A,Personnel!B:B)))","v":" "},{"$f":"IF(A4415=0,\" \",IF(ISNA(MATCH(A4415,Personnel!A:A,0)),\"وجود ندارد\",LOOKUP(A4415,Personnel!A:A,Personnel!C:C)))","v":" "},null,null,null,null,null,null,null,null,"","",1,0," "," ",""," "," ","",null," "," ",",,,,,,,,,,,,"]
[null,{"$f":"IF(A4427=0,\" \",IF(ISNA(MATCH(A4427,Personnel!A:A,0)),\"وجود ندارد\",LOOKUP(A4427,Personnel!A:A,Personnel!B:B)))","v":" "},{"$f":"IF(A4427=0,\" \",IF(ISNA(MATCH(A4427,Personnel!A:A,0)),\"وجود ندارد\",LOOKUP(A4427,Personnel!A:A,Personnel!C:C)))","v":" "},null,null,null,null,null,null,null,null,"","",1,0," "," ",""," "," ","",null," "," ",",,,,,,,,,,,,"]
[null,{"$f":"IF(A4439=0,\" \",IF(ISNA(MATCH(A4439,Personnel!A:A,0)),\"وجود ندارد\",LOOKUP(A4439,Personnel!A:A,Personnel!B:B)))","v":" "},{"$f":"IF(A4439=0,\" \",IF(ISNA(MATCH(A4439,Personnel!A:A,0)),\"وجود ندارد\",LOOKUP(A4439,Personnel!A:A,Personnel!C:C)))","v":" "},null,null,null,null,null,null,null,null,"","",1,0," "," ",""," "," ","",null," "," ",",,,,,,,,,,,,"]
[null,{"$f":"IF(A4446=0,\" \",IF(ISNA(MATCH(A4446,Personnel!A:A,0)),\"وجود ندارد\",LOOKUP(A4446,Personnel!A:A,Personnel!B:B)))","v":" "},{"$f":"IF(A4446=0,\" \",IF(ISNA(MATCH(A4446,Personnel!A:A,0)),\"وجود ندارد\",LOOKUP(A4446,Personnel!A:A,Personnel!C:C)))","v":" "},null,null,null,null,null,null,null,null,"","",1,0," "," ",""," "," ","",null," "," ",",,,,,,,,,,,,"]
[null,{"$f":"IF(A4450=0,\" \",IF(ISNA(MATCH(A4450,Personnel!A:A,0)),\"وجود ندارد\",LOOKUP(A4450,Personnel!A:A,Personnel!B:B)))","v":" "},{"$f":"IF(A4450=0,\" \",IF(ISNA(MATCH(A4450,Personnel!A:A,0)),\"وجود ندارد\",LOOKUP(A4450,Personnel!A:A,Personnel!C:C)))","v":" "},null,null,null,null,null,null,null,null,"","",1,0," "," ",""," "," ","",null," "," ",",,,,,,,,,,,,"]
[null,{"$f":"IF(A4464=0,\" \",IF(ISNA(MATCH(A4464,Personnel!A:A,0)),\"وجود ندارد\",LOOKUP(A4464,Personnel!A:A,Personnel!B:B)))","v":" "},{"$f":"IF(A4464=0,\" \",IF(ISNA(MATCH(A4464,Personnel!A:A,0)),\"وجود ندارد\",LOOKUP(A4464,Personnel!A:A,Personnel!C:C)))","v":" "},null,null,null,null,null,null,null,null,"","",1,0," "," ",""," "," ","",null," "," ",",,,,,,,,,,,,"]
[null,{"$f":"IF(A4467=0,\" \",IF(ISNA(MATCH(A4467,Personnel!A:A,0)),\"وجود ندارد\",LOOKUP(A4467,Personnel!A:A,Personnel!B:B)))","v":" "},{"$f":"IF(A4467=0,\" \",IF(ISNA(MATCH(A4467,Personnel!A:A,0)),\"وجود ندارد\",LOOKUP(A4467,Personnel!A:A,Personnel!C:C)))","v":" "},null,null,null,null,null,null,null,null,"","",1,0," "," ",""," "," ","",null," "," ",",,,,,,,,,,,,"]
[null,{"$f":"IF(A4479=0,\" \",IF(ISNA(MATCH(A4479,Personnel!A:A,0)),\"وجود ندارد\",LOOKUP(A4479,Personnel!A:A,Personnel!B:B)))","v":" "},{"$f":"IF(A4479=0,\" \",IF(ISNA(MATCH(A4479,Personnel!A:A,0)),\"وجود ندارد\",LOOKUP(A4479,Personnel!A:A,Personnel!C:C)))","v":" "},null,null,null,null,null,null,null,null,"","",1,0," "," ",""," "," ","",null," "," ",",,,,,,,,,,,,"]
[null,{"$f":"IF(A4486=0,\" \",IF(ISNA(MATCH(A4486,Personnel!A:A,0)),\"وجود ندارد\",LOOKUP(A4486,Personnel!A:A,Personnel!B:B)))","v":" "},{"$f":"IF(A4486=0,\" \",IF(ISNA(MATCH(A4486,Personnel!A:A,0)),\"وجود ندارد\",LOOKUP(A4486,Personnel!A:A,Personnel!C:C)))","v":" "},null,null,null,null,null,null,null,null,"","",1,0," "," ",""," "," ","",null," "," ",",,,,,,,,,,,,"]
[null,{"$f":"IF(A4499=0,\" \",IF(ISNA(MATCH(A4499,Personnel!A:A,0)),\"وجود ندارد\",LOOKUP(A4499,Personnel!A:A,Personnel!B:B)))","v":" "},{"$f":"IF(A4499=0,\" \",IF(ISNA(MATCH(A4499,Personnel!A:A,0)),\"وجود ندارد\",LOOKUP(A4499,Personnel!A:A,Personnel!C:C)))","v":" "},null,null,null,null,null,null,null,null,"","",1,0," "," ",""," "," ","",null," "," ",",,,,,,,,,,,,"]
[null,{"$f":"IF(A4504=0,\" \",IF(ISNA(MATCH(A4504,Personnel!A:A,0)),\"وجود ندارد\",LOOKUP(A4504,Personnel!A:A,Personnel!B:B)))","v":" "},{"$f":"IF(A4504=0,\" \",IF(ISNA(MATCH(A4504,Personnel!A:A,0)),\"وجود ندارد\",LOOKUP(A4504,Personnel!A:A,Personnel!C:C)))","v":" "},null,null,null,null,null,null,null,null,"","",1,0," "," ",""," "," ","",null," "," ",",,,,,,,,,,,,"]
[null,{"$f":"IF(A4516=0,\" \",IF(ISNA(MATCH(A4516,Personnel!A:A,0)),\"وجود ندارد\",LOOKUP(A4516,Personnel!A:A,Personnel!B:B)))","v":" "},{"$f":"IF(A4516=0,\" \",IF(ISNA(MATCH(A4516,Personnel!A:A,0)),\"وجود ندارد\",LOOKUP(A4516,Personnel!A:A,Personnel!C:C)))","v":" "},null,null,null,null,null,null,null,null,"","",1,0," "," ",""," "," ","",null," "," ",",,,,,,,,,,,,"]
[null,{"$f":"IF(A4519=0,\" \",IF(ISNA(MATCH(A4519,Personnel!A:A,0)),\"وجود ندارد\",LOOKUP(A4519,Personnel!A:A,Personnel!B:B)))","v":" "},{"$f":"IF(A4519=0,\" \",IF(ISNA(MATCH(A4519,Personnel!A:A,0)),\"وجود ندارد\",LOOKUP(A4519,Personnel!A:A,Personnel!C:C)))","v":" "},null,null,null,null,null,null,null,null,"","",1,0," "," ",""," "," ","",null," "," ",",,,,,,,,,,,,"]
[null,{"$f":"IF(A4530=0,\" \",IF(ISNA(MATCH(A4530,Personnel!A:A,0)),\"وجود ندارد\",LOOKUP(A4530,Personnel!A:A,Personnel!B:B)))","v":" "},{"$f":"IF(A4530=0,\" \",IF(ISNA(MATCH(A4530,Personnel!A:A,0)),\"وجود ندارد\",LOOKUP(A4530,Personnel!A:A,Personnel!C:C)))","v":" "},null,null,null,null,null,null,null,null,"","",1,0," "," ",""," "," ","",null," "," ",",,,,,,,,,,,,"]
[null,{"$f":"IF(A4537=0,\" \",IF(ISNA(MATCH(A4537,Personnel!A:A,0)),\"وجود ندارد\",LOOKUP(A4537,Personnel!A:A,Personnel!B:B)))","v":" "},{"$f":"IF(A4537=0,\" \",IF(ISNA(MATCH(A4537,Personnel!A:A,0)),\"وجود ندارد\",LOOKUP(A4537,Personnel!A:A,Personnel!C:C)))","v":" "},null,null,null,null,null,null,null,null,"","",1,0," "," ",""," "," ","",null," "," ",",,,,,,,,,,,,"]
[null,{"$f":"IF(A4549=0,\" \",IF(ISNA(MATCH(A4549,Personnel!A:A,0)),\"وجود ندارد\",LOOKUP(A4549,Personnel!A:A,Personnel!B:B)))","v":" "},{"$f":"IF(A4549=0,\" \",IF(ISNA(MATCH(A4549,Personnel!A:A,0)),\"وجود ندارد\",LOOKUP(A4549,Personnel!A:A,Personnel!C:C)))","v":" "},null,null,null,null,null,null,null,null,"","",1,0," "," ",""," "," ","",null," "," ",",,,,,,,,,,,,"]
[null,{"$f":"IF(A4556=0,\" \",IF(ISNA(MATCH(A4556,Personnel!A:A,0)),\"وجود ندارد\",LOOKUP(A4556,Personnel!A:A,Personnel!B:B)))","v":" "},{"$f":"IF(A4556=0,\" \",IF(ISNA(MATCH(A4556,Personnel!A:A,0)),\"وجود ندارد\",LOOKUP(A4556,Personnel!A:A,Personnel!C:C)))","v":" "},null,null,null,null,null,null,null,null,"","",1,0," "," ",""," "," ","",null," "," ",",,,,,,,,,,,,"]
[null,{"$f":"IF(A4568=0,\" \",IF(ISNA(MATCH(A4568,Personnel!A:A,0)),\"وجود ندارد\",LOOKUP(A4568,Personnel!A:A,Personnel!B:B)))","v":" "},{"$f":"IF(A4568=0,\" \",IF(ISNA(MATCH(A4568,Personnel!A:A,0)),\"وجود ندارد\",LOOKUP(A4568,Personnel!A:A,Personnel!C:C)))","v":" "},null,null,null,null,null,null,null,null,"","",1,0," "," ",""," "," ","",null," "," ",",,,,,,,,,,,,"]
[null,{"$f":"IF(A4579=0,\" \",IF(ISNA(MATCH(A4579,Personnel!A:A,0)),\"وجود ندارد\",LOOKUP(A4579,Personnel!A:A,Personnel!B:B)))","v":" "},{"$f":"IF(A4579=0,\" \",IF(ISNA(MATCH(A4579,Personnel!A:A,0)),\"وجود ندارد\",LOOKUP(A4579,Personnel!A:A,Personnel!C:C)))","v":" "},null,null,null,null,null,null,null,null,"","",1,0," "," ",""," "," ","",null," "," ",",,,,,,,,,,,,"]
[null,{"$f":"IF(A4586=0,\" \",IF(ISNA(MATCH(A4586,Personnel!A:A,0)),\"وجود ندارد\",LOOKUP(A4586,Personnel!A:A,Personnel!B:B)))","v":" "},{"$f":"IF(A4586=0,\" \",IF(ISNA(MATCH(A4586,Personnel!A:A,0)),\"وجود ندارد\",LOOKUP(A4586,Personnel!A:A,Personnel!C:C)))","v":" "},null,null,null,null,null,null,null,null,"","",1,0," "," ",""," "," ","",null," "," ",",,,,,,,,,,,,"]
[null,{"$f":"IF(A4589=0,\" \",IF(ISNA(MATCH(A4589,Personnel!A:A,0)),\"وجود ندارد\",LOOKUP(A4589,Personnel!A:A,Personnel!B:B)))","v":" "},{"$f":"IF(A4589=0,\" \",IF(ISNA(MATCH(A4589,Personnel!A:A,0)),\"وجود ندارد\",LOOKUP(A4589,Personnel!A:A,Personnel!C:C)))","v":" "},null,null,null,null,null,null,null,null,"","",1,0," "," ",""," "," ","",null," "," ",",,,,,,,,,,,,"]
[null,{"$f":"IF(A4605=0,\" \",IF(ISNA(MATCH(A4605,Personnel!A:A,0)),\"وجود ندارد\",LOOKUP(A4605,Personnel!A:A,Personnel!B:B)))","v":" "},{"$f":"IF(A4605=0,\" \",IF(ISNA(MATCH(A4605,Personnel!A:A,0)),\"وجود ندارد\",LOOKUP(A4605,Personnel!A:A,Personnel!C:C)))","v":" "},null,null,null,null,null,null,null,null,"","",1,0," "," ",""," "," ","",null," "," ",",,,,,,,,,,,,"]
[null,{"$f":"IF(A4608=0,\" \",IF(ISNA(MATCH(A4608,Personnel!A:A,0)),\"وجود ندارد\",LOOKUP(A4608,Personnel!A:A,Personnel!B:B)))","v":" "},{"$f":"IF(A4608=0,\" \",IF(ISNA(MATCH(A4608,Personnel!A:A,0)),\"وجود ندارد\",LOOKUP(A4608,Personnel!A:A,Personnel!C:C)))","v":" "},null,null,null,null,null,null,null,null,"","",1,0," "," ",""," "," ","",null," "," ",",,,,,,,,,,,,"]
[null,{"$f":"IF(A4620=0,\" \",IF(ISNA(MATCH(A4620,Personnel!A:A,0)),\"وجود ندارد\",LOOKUP(A4620,Personnel!A:A,Personnel!B:B)))","v":" "},{"$f":"IF(A4620=0,\" \",IF(ISNA(MATCH(A4620,Personnel!A:A,0)),\"وجود ندارد\",LOOKUP(A4620,Personnel!A:A,Personnel!C:C)))","v":" "},null,null,null,null,null,null,null,null,"","",1,0," "," ",""," "," ","",null," "," ",",,,,,,,,,,,,"]
[null,{"$f":"IF(A4626=0,\" \",IF(ISNA(MATCH(A4626,Personnel!A:A,0)),\"وجود ندارد\",LOOKUP(A4626,Personnel!A:A,Personnel!B:B)))","v":" "},{"$f":"IF(A4626=0,\" \",IF(ISNA(MATCH(A4626,Personnel!A:A,0)),\"وجود ندارد\",LOOKUP(A4626,Personnel!A:A,Personnel!C:C)))","v":" "},null,null,null,null,null,null,null,null,"","",1,0," "," ",""," "," ","",null," "," ",",,,,,,,,,,,,"]
[null,{"$f":"IF(A4638=0,\" \",IF(ISNA(MATCH(A4638,Personnel!A:A,0)),\"وجود ندارد\",LOOKUP(A4638,Personnel!A:A,Personnel!B:B)))","v":" "},{"$f":"IF(A4638=0,\" \",IF(ISNA(MATCH(A4638,Personnel!A:A,0)),\"وجود ندارد\",LOOKUP(A4638,Personnel!A:A,Personnel!C:C)))","v":" "},null,null,null,null,null,null,null,null,"","",1,0," "," ",""," "," ","",null," "," ",",,,,,,,,,,,,"]
[null,{"$f":"IF(A4645=0,\" \",IF(ISNA(MATCH(A4645,Personnel!A:A,0)),\"وجود ندارد\",LOOKUP(A4645,Personnel!A:A,Personnel!B:B)))","v":" "},{"$f":"IF(A4645=0,\" \",IF(ISNA(MATCH(A4645,Personnel!A:A,0)),\"وجود ندارد\",LOOKUP(A4645,Personnel!A:A,Personnel!C:C)))","v":" "},null,null,null,null,null,null,null,null,"","",1,0," "," ",""," "," ","",null," "," ",",,,,,,,,,,,,"]
[null,{"$f":"IF(A4657=0,\" \",IF(ISNA(MATCH(A4657,Personnel!A:A,0)),\"وجود ندارد\",LOOKUP(A4657,Personnel!A:A,Personnel!B:B)))","v":" "},{"$f":"IF(A4657=0,\" \",IF(ISNA(MATCH(A4657,Personnel!A:A,0)),\"وجود ندارد\",LOOKUP(A4657,Personnel!A:A,Personnel!C:C)))","v":" "},null,null,null,null,null,null,null,null,"","",1,0," "," ",""," "," ","",null," "," ",",,,,,,,,,,,,"]
[null,{"$f":"IF(A4661=0,\" \",IF(ISNA(MATCH(A4661,Personnel!A:A,0)),\"وجود ندارد\",LOOKUP(A4661,Personnel!A:A,Personnel!B:B)))","v":" "},{"$f":"IF(A4661=0,\" \",IF(ISNA(MATCH(A4661,Personnel!A:A,0)),\"وجود ندارد\",LOOKUP(A4661,Personnel!A:A,Personnel!C:C)))","v":" "},null,null,null,null,null,null,null,null,"","",1,0," "," ",""," "," ","",null," "," ",",,,,,,,,,,,,"]
[null,{"$f":"IF(A4675=0,\" \",IF(ISNA(MATCH(A4675,Personnel!A:A,0)),\"وجود ندارد\",LOOKUP(A4675,Personnel!A:A,Personnel!B:B)))","v":" "},{"$f":"IF(A4675=0,\" \",IF(ISNA(MATCH(A4675,Personnel!A:A,0)),\"وجود ندارد\",LOOKUP(A4675,Personnel!A:A,Personnel!C:C)))","v":" "},null,null,null,null,null,null,null,null,{"$f":"IF(K4675=0,\"\",IF(K4675=1,\"ایجاد\",IF(K4675=2,\"اصلاح\",\"حذف\")))","v":""},{"$f":"IF(AND(K4675=3,H4675+I4675+J4675+F4675+G4675<>0),\"برای عمل حذف اطلاعات اضافی وارد شده است\",\"\")","v":""},{"$f":"IF(AND(K4675<>3,F4675<900000),1,0)","v":1},{"$f":"IF(F4675>991231,1,0)","v":0}," "," ",{"$f":"IF(AND(A4675=0,H4675+I4675+J4675+F4675+G4675+K4675+E4675+D4675<>0),\"در این ردیف شماره پرسنلی وجود ندارد اما اطلاعات دیگر وارد شده است\",\"\")","v":""},{"$f":"IF(A4675=0,\" \",IF(D4675=0,\"کد وام وارد نشده است\",\"\"))","v":" "}," ",{"$f":"IF(AND(OR(K4675=1,K4675=2),H4675=0),\"مبلغ قسط نمی تواند خالی باشد\",\"\")","v":""},null,{"$f":"IF(AND(A4675=0,A4676<>0),\"دراین ردیف اصلاحاتی وجود ندارد . لطفا ردیفی را خالی باقی نگذارید\",IF(AND(A4675=0,R4675=\"\"),\" \",IF(M4675&\",\"&P4675&\",\"&Q4675&\",\"&R4675&\",\"&S4675&\",\"&T4675&\",\"&U4675=\",,,,,,\",\"صحیح\",M4675&\",\"&P4675&\",\"&Q4675&\",\"&R4675&\",\"&S4675&\",\"&T4675&\",\"&U4675)))","v":" "},{"$f":"IF(AND(ROW(X4675)>$Z$2,W4675=\" \"),\" \",IF(W4675=\" \",IF(AND(A4675=0,$Z$2<>$Z$4),\"دراین ردیف اصلاحاتی وجود ندارد . لطفا ردیفی را خالی نگذارید\",W4675),W4675))","v":" "},{"$f":"CONCATENATE(A4675,\",\",D4675,\",\",E4675,\",\",F4675,\",\",G4675,\",\",H4675,\",\",I4675,\",\",K4675,\",\",,\",\",J4675,\",\",\",\",V4675,\",\")","v":",,,,,,,,,,,,"}]
[null,{"$f":"IF(A4678=0,\" \",IF(ISNA(MATCH(A4678,Personnel!A:A,0)),\"وجود ندارد\",LOOKUP(A4678,Personnel!A:A,Personnel!B:B)))","v":" "},{"$f":"IF(A4678=0,\" \",IF(ISNA(MATCH(A4678,Personnel!A:A,0)),\"وجود ندارد\",LOOKUP(A4678,Personnel!A:A,Personnel!C:C)))","v":" "},null,null,null,null,null,null,null,null,"","",1,0," "," ",""," "," ","",null," "," ",",,,,,,,,,,,,"]
[null,{"$f":"IF(A4694=0,\" \",IF(ISNA(MATCH(A4694,Personnel!A:A,0)),\"وجود ندارد\",LOOKUP(A4694,Personnel!A:A,Personnel!B:B)))","v":" "},{"$f":"IF(A4694=0,\" \",IF(ISNA(MATCH(A4694,Personnel!A:A,0)),\"وجود ندارد\",LOOKUP(A4694,Personnel!A:A,Personnel!C:C)))","v":" "},null,null,null,null,null,null,null,null,"","",1,0," "," ",""," "," ","",null," "," ",",,,,,,,,,,,,"]
[null,{"$f":"IF(A4697=0,\" \",IF(ISNA(MATCH(A4697,Personnel!A:A,0)),\"وجود ندارد\",LOOKUP(A4697,Personnel!A:A,Personnel!B:B)))","v":" "},{"$f":"IF(A4697=0,\" \",IF(ISNA(MATCH(A4697,Personnel!A:A,0)),\"وجود ندارد\",LOOKUP(A4697,Personnel!A:A,Personnel!C:C)))","v":" "},null,null,null,null,null,null,null,null,"","",1,0," "," ",""," "," ","",null," "," ",",,,,,,,,,,,,"]
[null,{"$f":"IF(A4710=0,\" \",IF(ISNA(MATCH(A4710,Personnel!A:A,0)),\"وجود ندارد\",LOOKUP(A4710,Personnel!A:A,Personnel!B:B)))","v":" "},{"$f":"IF(A4710=0,\" \",IF(ISNA(MATCH(A4710,Personnel!A:A,0)),\"وجود ندارد\",LOOKUP(A4710,Personnel!A:A,Personnel!C:C)))","v":" "},null,null,null,null,null,null,null,null,"","",1,0," "," ",""," "," ","",null," "," ",",,,,,,,,,,,,"]
[null,{"$f":"IF(A4715=0,\" \",IF(ISNA(MATCH(A4715,Personnel!A:A,0)),\"وجود ندارد\",LOOKUP(A4715,Personnel!A:A,Personnel!B:B)))","v":" "},{"$f":"IF(A4715=0,\" \",IF(ISNA(MATCH(A4715,Personnel!A:A,0)),\"وجود ندارد\",LOOKUP(A4715,Personnel!A:A,Personnel!C:C)))","v":" "},null,null,null,null,null,null,null,null,"","",1,0," "," ",""," "," ","",null," "," ",",,,,,,,,,,,,"]
[null,{"$f":"IF(A4727=0,\" \",IF(ISNA(MATCH(A4727,Personnel!A:A,0)),\"وجود ندارد\",LOOKUP(A4727,Personnel!A:A,Personnel!B:B)))","v":" "},{"$f":"IF(A4727=0,\" \",IF(ISNA(MATCH(A4727,Personnel!A:A,0)),\"وجود ندارد\",LOOKUP(A4727,Personnel!A:A,Personnel!C:C)))","v":" "},null,null,null,null,null,null,null,null,"","",1,0," "," ",""," "," ","",null," "," ",",,,,,,,,,,,,"]
[null,{"$f":"IF(A4730=0,\" \",IF(ISNA(MATCH(A4730,Personnel!A:A,0)),\"وجود ندارد\",LOOKUP(A4730,Personnel!A:A,Personnel!B:B)))","v":" "},{"$f":"IF(A4730=0,\" \",IF(ISNA(MATCH(A4730,Personnel!A:A,0)),\"وجود ندارد\",LOOKUP(A4730,Personnel!A:A,Personnel!C:C)))","v":" "},null,null,null,null,null,null,null,null,"","",1,0," "," ",""," "," ","",null," "," ",",,,,,,,,,,,,"]
[null,{"$f":"IF(A4746=0,\" \",IF(ISNA(MATCH(A4746,Personnel!A:A,0)),\"وجود ندارد\",LOOKUP(A4746,Personnel!A:A,Personnel!B:B)))","v":" "},{"$f":"IF(A4746=0,\" \",IF(ISNA(MATCH(A4746,Personnel!A:A,0)),\"وجود ندارد\",LOOKUP(A4746,Personnel!A:A,Personnel!C:C)))","v":" "},null,null,null,null,null,null,null,null,"","",1,0," "," ",""," "," ","",null," "," ",",,,,,,,,,,,,"]
[null,{"$f":"IF(A4751=0,\" \",IF(ISNA(MATCH(A4751,Personnel!A:A,0)),\"وجود ندارد\",LOOKUP(A4751,Personnel!A:A,Personnel!B:B)))","v":" "},{"$f":"IF(A4751=0,\" \",IF(ISNA(MATCH(A4751,Personnel!A:A,0)),\"وجود ندارد\",LOOKUP(A4751,Personnel!A:A,Personnel!C:C)))","v":" "},null,null,null,null,null,null,null,null,"","",1,0," "," ",""," "," ","",null," "," ",",,,,,,,,,,,,"]
[null,{"$f":"IF(A4764=0,\" \",IF(ISNA(MATCH(A4764,Personnel!A:A,0)),\"وجود ندارد\",LOOKUP(A4764,Personnel!A:A,Personnel!B:B)))","v":" "},{"$f":"IF(A4764=0,\" \",IF(ISNA(MATCH(A4764,Personnel!A:A,0)),\"وجود ندارد\",LOOKUP(A4764,Personnel!A:A,Personnel!C:C)))","v":" "},null,null,null,null,null,null,null,null,"","",1,0," "," ",""," "," ","",null," "," ",",,,,,,,,,,,,"]
[null,{"$f":"IF(A4767=0,\" \",IF(ISNA(MATCH(A4767,Personnel!A:A,0)),\"وجود ندارد\",LOOKUP(A4767,Personnel!A:A,Personnel!B:B)))","v":" "},{"$f":"IF(A4767=0,\" \",IF(ISNA(MATCH(A4767,Personnel!A:A,0)),\"وجود ندارد\",LOOKUP(A4767,Personnel!A:A,Personnel!C:C)))","v":" "},null,null,null,null,null,null,null,null,"","",1,0," "," ",""," "," ","",null," "," ",",,,,,,,,,,,,"]
[null,{"$f":"IF(A4779=0,\" \",IF(ISNA(MATCH(A4779,Personnel!A:A,0)),\"وجود ندارد\",LOOKUP(A4779,Personnel!A:A,Personnel!B:B)))","v":" "},{"$f":"IF(A4779=0,\" \",IF(ISNA(MATCH(A4779,Personnel!A:A,0)),\"وجود ندارد\",LOOKUP(A4779,Personnel!A:A,Personnel!C:C)))","v":" "},null,null,null,null,null,null,null,null,"","",1,0," "," ",""," "," ","",null," "," ",",,,,,,,,,,,,"]
[null,{"$f":"IF(A4786=0,\" \",IF(ISNA(MATCH(A4786,Personnel!A:A,0)),\"وجود ندارد\",LOOKUP(A4786,Personnel!A:A,Personnel!B:B)))","v":" "},{"$f":"IF(A4786=0,\" \",IF(ISNA(MATCH(A4786,Personnel!A:A,0)),\"وجود ندارد\",LOOKUP(A4786,Personnel!A:A,Personnel!C:C)))","v":" "},null,null,null,null,null,null,null,null,"","",1,0," "," ",""," "," ","",null," "," ",",,,,,,,,,,,,"]
[null,{"$f":"IF(A4792=0,\" \",IF(ISNA(MATCH(A4792,Personnel!A:A,0)),\"وجود ندارد\",LOOKUP(A4792,Personnel!A:A,Personnel!B:B)))","v":" "},{"$f":"IF(A4792=0,\" \",IF(ISNA(MATCH(A4792,Personnel!A:A,0)),\"وجود ندارد\",LOOKUP(A4792,Personnel!A:A,Personnel!C:C)))","v":" "},null,null,null,null,null,null,null,null,"","",1,0," "," ",""," "," ","",null," "," ",",,,,,,,,,,,,"]
[null,{"$f":"IF(A4804=0,\" \",IF(ISNA(MATCH(A4804,Personnel!A:A,0)),\"وجود ندارد\",LOOKUP(A4804,Personnel!A:A,Personnel!B:B)))","v":" "},{"$f":"IF(A4804=0,\" \",IF(ISNA(MATCH(A4804,Personnel!A:A,0)),\"وجود ندارد\",LOOKUP(A4804,Personnel!A:A,Personnel!C:C)))","v":" "},null,null,null,null,null,null,null,null,"","",1,0," "," ",""," "," ","",null," "," ",",,,,,,,,,,,,"]
[null,{"$f":"IF(A4816=0,\" \",IF(ISNA(MATCH(A4816,Personnel!A:A,0)),\"وجود ندارد\",LOOKUP(A4816,Personnel!A:A,Personnel!B:B)))","v":" "},{"$f":"IF(A4816=0,\" \",IF(ISNA(MATCH(A4816,Personnel!A:A,0)),\"وجود ندارد\",LOOKUP(A4816,Personnel!A:A,Personnel!C:C)))","v":" "},null,null,null,null,null,null,null,null,"","",1,0," "," ",""," "," ","",null," "," ",",,,,,,,,,,,,"]
[null,{"$f":"IF(A4819=0,\" \",IF(ISNA(MATCH(A4819,Personnel!A:A,0)),\"وجود ندارد\",LOOKUP(A4819,Personnel!A:A,Personnel!B:B)))","v":" "},{"$f":"IF(A4819=0,\" \",IF(ISNA(MATCH(A4819,Personnel!A:A,0)),\"وجود ندارد\",LOOKUP(A4819,Personnel!A:A,Personnel!C:C)))","v":" "},null,null,null,null,null,null,null,null,"","",1,0," "," ",""," "," ","",null," "," ",",,,,,,,,,,,,"]
[null,{"$f":"IF(A4835=0,\" \",IF(ISNA(MATCH(A4835,Personnel!A:A,0)),\"وجود ندارد\",LOOKUP(A4835,Personnel!A:A,Personnel!B:B)))","v":" "},{"$f":"IF(A4835=0,\" \",IF(ISNA(MATCH(A4835,Personnel!A:A,0)),\"وجود ندارد\",LOOKUP(A4835,Personnel!A:A,Personnel!C:C)))","v":" "},null,null,null,null,null,null,null,null,"","",1,0," "," ",""," "," ","",null," "," ",",,,,,,,,,,,,"]
[null,{"$f":"IF(A4841=0,\" \",IF(ISNA(MATCH(A4841,Personnel!A:A,0)),\"وجود ندارد\",LOOKUP(A4841,Personnel!A:A,Personnel!B:B)))","v":" "},{"$f":"IF(A4841=0,\" \",IF(ISNA(MATCH(A4841,Personnel!A:A,0)),\"وجود ندارد\",LOOKUP(A4841,Personnel!A:A,Personnel!C:C)))","v":" "},null,null,null,null,null,null,null,null,"","",1,0," "," ",""," "," ","",null," "," ",",,,,,,,,,,,,"]
[null,{"$f":"IF(A4849=0,\" \",IF(ISNA(MATCH(A4849,Personnel!A:A,0)),\"وجود ندارد\",LOOKUP(A4849,Personnel!A:A,Personnel!B:B)))","v":" "},{"$f":"IF(A4849=0,\" \",IF(ISNA(MATCH(A4849,Personnel!A:A,0)),\"وجود ندارد\",LOOKUP(A4849,Personnel!A:A,Personnel!C:C)))","v":" "},null,null,null,null,null,null,null,null,"","",1,0," "," ",""," "," ","",null," "," ",",,,,,,,,,,,,"]
[null,{"$f":"IF(A4856=0,\" \",IF(ISNA(MATCH(A4856,Personnel!A:A,0)),\"وجود ندارد\",LOOKUP(A4856,Personnel!A:A,Personnel!B:B)))","v":" "},{"$f":"IF(A4856=0,\" \",IF(ISNA(MATCH(A4856,Personnel!A:A,0)),\"وجود ندارد\",LOOKUP(A4856,Personnel!A:A,Personnel!C:C)))","v":" "},null,null,null,null,null,null,null,null,"","",1,0," "," ",""," "," ","",null," "," ",",,,,,,,,,,,,"]
[null,{"$f":"IF(A4868=0,\" \",IF(ISNA(MATCH(A4868,Personnel!A:A,0)),\"وجود ندارد\",LOOKUP(A4868,Personnel!A:A,Personnel!B:B)))","v":" "},{"$f":"IF(A4868=0,\" \",IF(ISNA(MATCH(A4868,Personnel!A:A,0)),\"وجود ندارد\",LOOKUP(A4868,Personnel!A:A,Personnel!C:C)))","v":" "},null,null,null,null,null,null,null,null,"","",1,0," "," ",""," "," ","",null," "," ",",,,,,,,,,,,,"]
[null,{"$f":"IF(A4875=0,\" \",IF(ISNA(MATCH(A4875,Personnel!A:A,0)),\"وجود ندارد\",LOOKUP(A4875,Personnel!A:A,Personnel!B:B)))","v":" "},{"$f":"IF(A4875=0,\" \",IF(ISNA(MATCH(A4875,Personnel!A:A,0)),\"وجود ندارد\",LOOKUP(A4875,Personnel!A:A,Personnel!C:C)))","v":" "},null,null,null,null,null,null,null,null,"","",1,0," "," ",""," "," ","",null," "," ",",,,,,,,,,,,,"]
[null,{"$f":"IF(A4882=0,\" \",IF(ISNA(MATCH(A4882,Personnel!A:A,0)),\"وجود ندارد\",LOOKUP(A4882,Personnel!A:A,Personnel!B:B)))","v":" "},{"$f":"IF(A4882=0,\" \",IF(ISNA(MATCH(A4882,Personnel!A:A,0)),\"وجود ندارد\",LOOKUP(A4882,Personnel!A:A,Personnel!C:C)))","v":" "},null,null,null,null,null,null,null,null,"","",1,0," "," ",""," "," ","",null," "," ",",,,,,,,,,,,,"]
[null,{"$f":"IF(A4889=0,\" \",IF(ISNA(MATCH(A4889,Personnel!A:A,0)),\"وجود ندارد\",LOOKUP(A4889,Personnel!A:A,Personnel!B:B)))","v":" "},{"$f":"IF(A4889=0,\" \",IF(ISNA(MATCH(A4889,Personnel!A:A,0)),\"وجود ندارد\",LOOKUP(A4889,Personnel!A:A,Personnel!C:C)))","v":" "},null,null,null,null,null,null,null,null,"","",1,0," "," ",""," "," ","",null," "," ",",,,,,,,,,,,,"]
[null,{"$f":"IF(A4905=0,\" \",IF(ISNA(MATCH(A4905,Personnel!A:A,0)),\"وجود ندارد\",LOOKUP(A4905,Personnel!A:A,Personnel!B:B)))","v":" "},{"$f":"IF(A4905=0,\" \",IF(ISNA(MATCH(A4905,Personnel!A:A,0)),\"وجود ندارد\",LOOKUP(A4905,Personnel!A:A,Personnel!C:C)))","v":" "},null,null,null,null,null,null,null,null,"","",1,0," "," ",""," "," ","",null," "," ",",,,,,,,,,,,,"]
[null,{"$f":"IF(A4908=0,\" \",IF(ISNA(MATCH(A4908,Personnel!A:A,0)),\"وجود ندارد\",LOOKUP(A4908,Personnel!A:A,Personnel!B:B)))","v":" "},{"$f":"IF(A4908=0,\" \",IF(ISNA(MATCH(A4908,Personnel!A:A,0)),\"وجود ندارد\",LOOKUP(A4908,Personnel!A:A,Personnel!C:C)))","v":" "},null,null,null,null,null,null,null,null,"","",1,0," "," ",""," "," ","",null," "," ",",,,,,,,,,,,,"]
[null,{"$f":"IF(A4920=0,\" \",IF(ISNA(MATCH(A4920,Personnel!A:A,0)),\"وجود ندارد\",LOOKUP(A4920,Personnel!A:A,Personnel!B:B)))","v":" "},{"$f":"IF(A4920=0,\" \",IF(ISNA(MATCH(A4920,Personnel!A:A,0)),\"وجود ندارد\",LOOKUP(A4920,Personnel!A:A,Personnel!C:C)))","v":" "},null,null,null,null,null,null,null,null,"","",1,0," "," ",""," "," ","",null," "," ",",,,,,,,,,,,,"]
[null,{"$f":"IF(A4931=0,\" \",IF(ISNA(MATCH(A4931,Personnel!A:A,0)),\"وجود ندارد\",LOOKUP(A4931,Personnel!A:A,Personnel!B:B)))","v":" "},{"$f":"IF(A4931=0,\" \",IF(ISNA(MATCH(A4931,Personnel!A:A,0)),\"وجود ندارد\",LOOKUP(A4931,Personnel!A:A,Personnel!C:C)))","v":" "},null,null,null,null,null,null,null,null,{"$f":"IF(K4931=0,\"\",IF(K4931=1,\"ایجاد\",IF(K4931=2,\"اصلاح\",\"حذف\")))","v":""},{"$f":"IF(AND(K4931=3,H4931+I4931+J4931+F4931+G4931<>0),\"برای عمل حذف اطلاعات اضافی وارد شده است\",\"\")","v":""},{"$f":"IF(AND(K4931<>3,F4931<900000),1,0)","v":1},{"$f":"IF(F4931>991231,1,0)","v":0}," "," ",{"$f":"IF(AND(A4931=0,H4931+I4931+J4931+F4931+G4931+K4931+E4931+D4931<>0),\"در این ردیف شماره پرسنلی وجود ندارد اما اطلاعات دیگر وارد شده است\",\"\")","v":""},{"$f":"IF(A4931=0,\" \",IF(D4931=0,\"کد وام وارد نشده است\",\"\"))","v":" "}," ",{"$f":"IF(AND(OR(K4931=1,K4931=2),H4931=0),\"مبلغ قسط نمی تواند خالی باشد\",\"\")","v":""},null,{"$f":"IF(AND(A4931=0,A4932<>0),\"دراین ردیف اصلاحاتی وجود ندارد . لطفا ردیفی را خالی باقی نگذارید\",IF(AND(A4931=0,R4931=\"\"),\" \",IF(M4931&\",\"&P4931&\",\"&Q4931&\",\"&R4931&\",\"&S4931&\",\"&T4931&\",\"&U4931=\",,,,,,\",\"صحیح\",M4931&\",\"&P4931&\",\"&Q4931&\",\"&R4931&\",\"&S4931&\",\"&T4931&\",\"&U4931)))","v":" "},{"$f":"IF(AND(ROW(X4931)>$Z$2,W4931=\" \"),\" \",IF(W4931=\" \",IF(AND(A4931=0,$Z$2<>$Z$4),\"دراین ردیف اصلاحاتی وجود ندارد . لطفا ردیفی را خالی نگذارید\",W4931),W4931))","v":" "},{"$f":"CONCATENATE(A4931,\",\",D4931,\",\",E4931,\",\",F4931,\",\",G4931,\",\",H4931,\",\",I4931,\",\",K4931,\",\",,\",\",J4931,\",\",\",\",V4931,\",\")","v":",,,,,,,,,,,,"}]
[null,{"$f":"IF(A4938=0,\" \",IF(ISNA(MATCH(A4938,Personnel!A:A,0)),\"وجود ندارد\",LOOKUP(A4938,Personnel!A:A,Personnel!B:B)))","v":" "},{"$f":"IF(A4938=0,\" \",IF(ISNA(MATCH(A4938,Personnel!A:A,0)),\"وجود ندارد\",LOOKUP(A4938,Personnel!A:A,Personnel!C:C)))","v":" "},null,null,null,null,null,null,null,null,"","",1,0," "," ",""," "," ","",null," "," ",",,,,,,,,,,,,"]
[null,{"$f":"IF(A4945=0,\" \",IF(ISNA(MATCH(A4945,Personnel!A:A,0)),\"وجود ندارد\",LOOKUP(A4945,Personnel!A:A,Personnel!B:B)))","v":" "},{"$f":"IF(A4945=0,\" \",IF(ISNA(MATCH(A4945,Personnel!A:A,0)),\"وجود ندارد\",LOOKUP(A4945,Personnel!A:A,Personnel!C:C)))","v":" "},null,null,null,null,null,null,null,null,"","",1,0," "," ",""," "," ","",null," "," ",",,,,,,,,,,,,"]
[null,{"$f":"IF(A4957=0,\" \",IF(ISNA(MATCH(A4957,Personnel!A:A,0)),\"وجود ندارد\",LOOKUP(A4957,Personnel!A:A,Personnel!B:B)))","v":" "},{"$f":"IF(A4957=0,\" \",IF(ISNA(MATCH(A4957,Personnel!A:A,0)),\"وجود ندارد\",LOOKUP(A4957,Personnel!A:A,Personnel!C:C)))","v":" "},null,null,null,null,null,null,null,null,"","",1,0," "," ",""," "," ","",null," "," ",",,,,,,,,,,,,"]
[null,{"$f":"IF(A4962=0,\" \",IF(ISNA(MATCH(A4962,Personnel!A:A,0)),\"وجود ندارد\",LOOKUP(A4962,Personnel!A:A,Personnel!B:B)))","v":" "},{"$f":"IF(A4962=0,\" \",IF(ISNA(MATCH(A4962,Personnel!A:A,0)),\"وجود ندارد\",LOOKUP(A4962,Personnel!A:A,Personnel!C:C)))","v":" "},null,null,null,null,null,null,null,null,"","",1,0," "," ",""," "," ","",null," "," ",",,,,,,,,,,,,"]
[null,{"$f":"IF(A4975=0,\" \",IF(ISNA(MATCH(A4975,Personnel!A:A,0)),\"وجود ندارد\",LOOKUP(A4975,Personnel!A:A,Personnel!B:B)))","v":" "},{"$f":"IF(A4975=0,\" \",IF(ISNA(MATCH(A4975,Personnel!A:A,0)),\"وجود ندارد\",LOOKUP(A4975,Personnel!A:A,Personnel!C:C)))","v":" "},null,null,null,null,null,null,null,null,"","",1,0," "," ",""," "," ","",null," "," ",",,,,,,,,,,,,"]
[null,{"$f":"IF(A4978=0,\" \",IF(ISNA(MATCH(A4978,Personnel!A:A,0)),\"وجود ندارد\",LOOKUP(A4978,Personnel!A:A,Personnel!B:B)))","v":" "},{"$f":"IF(A4978=0,\" \",IF(ISNA(MATCH(A4978,Personnel!A:A,0)),\"وجود ندارد\",LOOKUP(A4978,Personnel!A:A,Personnel!C:C)))","v":" "},null,null,null,null,null,null,null,null,"","",1,0," "," ",""," "," ","",null," "," ",",,,,,,,,,,,,"]
[null,{"$f":"IF(A4985=0,\" \",IF(ISNA(MATCH(A4985,Personnel!A:A,0)),\"وجود ندارد\",LOOKUP(A4985,Personnel!A:A,Personnel!B:B)))","v":" "},{"$f":"IF(A4985=0,\" \",IF(ISNA(MATCH(A4985,Personnel!A:A,0)),\"وجود ندارد\",LOOKUP(A4985,Personnel!A:A,Personnel!C:C)))","v":" "},null,null,null,null,null,null,null,null,"","",1,0," "," ",""," "," ","",null," "," ",",,,,,,,,,,,,"]
[null,{"$f":"IF(A4997=0,\" \",IF(ISNA(MATCH(A4997,Personnel!A:A,0)),\"وجود ندارد\",LOOKUP(A4997,Personnel!A:A,Personnel!B:B)))","v":" "},{"$f":"IF(A4997=0,\" \",IF(ISNA(MATCH(A4997,Personnel!A:A,0)),\"وجود ندارد\",LOOKUP(A4997,Personnel!A:A,Personnel!C:C)))","v":" "},null,null,null,null,null,null,null,null,"","",1,0," "," ",""," "," ","",null," "," ",",,,,,,,,,,,,"]
[null,{"$f":"IF(A5003=0,\" \",IF(ISNA(MATCH(A5003,Personnel!A:A,0)),\"وجود ندارد\",LOOKUP(A5003,Personnel!A:A,Personnel!B:B)))","v":" "},{"$f":"IF(A5003=0,\" \",IF(ISNA(MATCH(A5003,Personnel!A:A,0)),\"وجود ندارد\",LOOKUP(A5003,Personnel!A:A,Personnel!C:C)))","v":" "},null,null,null,null,null,null,null,null,"","",1,0," "," ",""," "," ","",null," "," ",",,,,,,,,,,,,"]
[null,{"$f":"IF(A5015=0,\" \",IF(ISNA(MATCH(A5015,Personnel!A:A,0)),\"وجود ندارد\",LOOKUP(A5015,Personnel!A:A,Personnel!B:B)))","v":" "},{"$f":"IF(A5015=0,\" \",IF(ISNA(MATCH(A5015,Personnel!A:A,0)),\"وجود ندارد\",LOOKUP(A5015,Personnel!A:A,Personnel!C:C)))","v":" "},null,null,null,null,null,null,null,null,"","",1,0," "," ",""," "," ","",null," "," ",",,,,,,,,,,,,"]
[null,{"$f":"IF(A5027=0,\" \",IF(ISNA(MATCH(A5027,Personnel!A:A,0)),\"وجود ندارد\",LOOKUP(A5027,Personnel!A:A,Personnel!B:B)))","v":" "},{"$f":"IF(A5027=0,\" \",IF(ISNA(MATCH(A5027,Personnel!A:A,0)),\"وجود ندارد\",LOOKUP(A5027,Personnel!A:A,Personnel!C:C)))","v":" "},null,null,null,null,null,null,null,null,"","",1,0," "," ",""," "," ","",null," "," ",",,,,,,,,,,,,"]
[null,{"$f":"IF(A5030=0,\" \",IF(ISNA(MATCH(A5030,Personnel!A:A,0)),\"وجود ندارد\",LOOKUP(A5030,Personnel!A:A,Personnel!B:B)))","v":" "},{"$f":"IF(A5030=0,\" \",IF(ISNA(MATCH(A5030,Personnel!A:A,0)),\"وجود ندارد\",LOOKUP(A5030,Personnel!A:A,Personnel!C:C)))","v":" "},null,null,null,null,null,null,null,null,"","",1,0," "," ",""," "," ","",null," "," ",",,,,,,,,,,,,"]
[null,{"$f":"IF(A5046=0,\" \",IF(ISNA(MATCH(A5046,Personnel!A:A,0)),\"وجود ندارد\",LOOKUP(A5046,Personnel!A:A,Personnel!B:B)))","v":" "},{"$f":"IF(A5046=0,\" \",IF(ISNA(MATCH(A5046,Personnel!A:A,0)),\"وجود ندارد\",LOOKUP(A5046,Personnel!A:A,Personnel!C:C)))","v":" "},null,null,null,null,null,null,null,null,"","",1,0," "," ",""," "," ","",null," "," ",",,,,,,,,,,,,"]
[null,{"$f":"IF(A5052=0,\" \",IF(ISNA(MATCH(A5052,Personnel!A:A,0)),\"وجود ندارد\",LOOKUP(A5052,Personnel!A:A,Personnel!B:B)))","v":" "},{"$f":"IF(A5052=0,\" \",IF(ISNA(MATCH(A5052,Personnel!A:A,0)),\"وجود ندارد\",LOOKUP(A5052,Personnel!A:A,Personnel!C:C)))","v":" "},null,null,null,null,null,null,null,null,"","",1,0," "," ",""," "," ","",null," "," ",",,,,,,,,,,,,"]
[null,{"$f":"IF(A5055=0,\" \",IF(ISNA(MATCH(A5055,Personnel!A:A,0)),\"وجود ندارد\",LOOKUP(A5055,Personnel!A:A,Personnel!B:B)))","v":" "},{"$f":"IF(A5055=0,\" \",IF(ISNA(MATCH(A5055,Personnel!A:A,0)),\"وجود ندارد\",LOOKUP(A5055,Personnel!A:A,Personnel!C:C)))","v":" "},null,null,null,null,null,null,null,null,"","",1,0," "," ",""," "," ","",null," "," ",",,,,,,,,,,,,"]
[null,{"$f":"IF(A5067=0,\" \",IF(ISNA(MATCH(A5067,Personnel!A:A,0)),\"وجود ندارد\",LOOKUP(A5067,Personnel!A:A,Personnel!B:B)))","v":" "},{"$f":"IF(A5067=0,\" \",IF(ISNA(MATCH(A5067,Personnel!A:A,0)),\"وجود ندارد\",LOOKUP(A5067,Personnel!A:A,Personnel!C:C)))","v":" "},null,null,null,null,null,null,null,null,"","",1,0," "," ",""," "," ","",null," "," ",",,,,,,,,,,,,"]
[null,{"$f":"IF(A5079=0,\" \",IF(ISNA(MATCH(A5079,Personnel!A:A,0)),\"وجود ندارد\",LOOKUP(A5079,Personnel!A:A,Personnel!B:B)))","v":" "},{"$f":"IF(A5079=0,\" \",IF(ISNA(MATCH(A5079,Personnel!A:A,0)),\"وجود ندارد\",LOOKUP(A5079,Personnel!A:A,Personnel!C:C)))","v":" "},null,null,null,null,null,null,null,null,"","",1,0," "," ",""," "," ","",null," "," ",",,,,,,,,,,,,"]
[null,{"$f":"IF(A5086=0,\" \",IF(ISNA(MATCH(A5086,Personnel!A:A,0)),\"وجود ندارد\",LOOKUP(A5086,Personnel!A:A,Personnel!B:B)))","v":" "},{"$f":"IF(A5086=0,\" \",IF(ISNA(MATCH(A5086,Personnel!A:A,0)),\"وجود ندارد\",LOOKUP(A5086,Personnel!A:A,Personnel!C:C)))","v":" "},null,null,null,null,null,null,null,null,"","",1,0," "," ",""," "," ","",null," "," ",",,,,,,,,,,,,"]
[null,{"$f":"IF(A5093=0,\" \",IF(ISNA(MATCH(A5093,Personnel!A:A,0)),\"وجود ندارد\",LOOKUP(A5093,Personnel!A:A,Personnel!B:B)))","v":" "},{"$f":"IF(A5093=0,\" \",IF(ISNA(MATCH(A5093,Personnel!A:A,0)),\"وجود ندارد\",LOOKUP(A5093,Personnel!A:A,Personnel!C:C)))","v":" "},null,null,null,null,null,null,null,null,"","",1,0," "," ",""," "," ","",null," "," ",",,,,,,,,,,,,"]
[null,{"$f":"IF(A5100=0,\" \",IF(ISNA(MATCH(A5100,Personnel!A:A,0)),\"وجود ندارد\",LOOKUP(A5100,Personnel!A:A,Personnel!B:B)))","v":" "},{"$f":"IF(A5100=0,\" \",IF(ISNA(MATCH(A5100,Personnel!A:A,0)),\"وجود ندارد\",LOOKUP(A5100,Personnel!A:A,Personnel!C:C)))","v":" "},null,null,null,null,null,null,null,null,"","",1,0," "," ",""," "," ","",null," "," ",",,,,,,,,,,,,"]
[null,{"$f":"IF(A5116=0,\" \",IF(ISNA(MATCH(A5116,Personnel!A:A,0)),\"وجود ندارد\",LOOKUP(A5116,Personnel!A:A,Personnel!B:B)))","v":" "},{"$f":"IF(A5116=0,\" \",IF(ISNA(MATCH(A5116,Personnel!A:A,0)),\"وجود ندارد\",LOOKUP(A5116,Personnel!A:A,Personnel!C:C)))","v":" "},null,null,null,null,null,null,null,null,"","",1,0," "," ",""," "," ","",null," "," ",",,,,,,,,,,,,"]
[null,{"$f":"IF(A5119=0,\" \",IF(ISNA(MATCH(A5119,Personnel!A:A,0)),\"وجود ندارد\",LOOKUP(A5119,Personnel!A:A,Personnel!B:B)))","v":" "},{"$f":"IF(A5119=0,\" \",IF(ISNA(MATCH(A5119,Personnel!A:A,0)),\"وجود ندارد\",LOOKUP(A5119,Personnel!A:A,Personnel!C:C)))","v":" "},null,null,null,null,null,null,null,null,"","",1,0," "," ",""," "," ","",null," "," ",",,,,,,,,,,,,"]
[null,{"$f":"IF(A5126=0,\" \",IF(ISNA(MATCH(A5126,Personnel!A:A,0)),\"وجود ندارد\",LOOKUP(A5126,Personnel!A:A,Personnel!B:B)))","v":" "},{"$f":"IF(A5126=0,\" \",IF(ISNA(MATCH(A5126,Personnel!A:A,0)),\"وجود ندارد\",LOOKUP(A5126,Personnel!A:A,Personnel!C:C)))","v":" "},null,null,null,null,null,null,null,null,"","",1,0," "," ",""," "," ","",null," "," ",",,,,,,,,,,,,"]
[null,{"$f":"IF(A5142=0,\" \",IF(ISNA(MATCH(A5142,Personnel!A:A,0)),\"وجود ندارد\",LOOKUP(A5142,Personnel!A:A,Personnel!B:B)))","v":" "},{"$f":"IF(A5142=0,\" \",IF(ISNA(MATCH(A5142,Personnel!A:A,0)),\"وجود ندارد\",LOOKUP(A5142,Personnel!A:A,Personnel!C:C)))","v":" "},null,null,null,null,null,null,null,null,"","",1,0," "," ",""," "," ","",null," "," ",",,,,,,,,,,,,"]
[null,{"$f":"IF(A5149=0,\" \",IF(ISNA(MATCH(A5149,Personnel!A:A,0)),\"وجود ندارد\",LOOKUP(A5149,Personnel!A:A,Personnel!B:B)))","v":" "},{"$f":"IF(A5149=0,\" \",IF(ISNA(MATCH(A5149,Personnel!A:A,0)),\"وجود ندارد\",LOOKUP(A5149,Personnel!A:A,Personnel!C:C)))","v":" "},null,null,null,null,null,null,null,null,"","",1,0," "," ",""," "," ","",null," "," ",",,,,,,,,,,,,"]
[null,{"$f":"IF(A5156=0,\" \",IF(ISNA(MATCH(A5156,Personnel!A:A,0)),\"وجود ندارد\",LOOKUP(A5156,Personnel!A:A,Personnel!B:B)))","v":" "},{"$f":"IF(A5156=0,\" \",IF(ISNA(MATCH(A5156,Personnel!A:A,0)),\"وجود ندارد\",LOOKUP(A5156,Personnel!A:A,Personnel!C:C)))","v":" "},null,null,null,null,null,null,null,null,"","",1,0," "," ",""," "," ","",null," "," ",",,,,,,,,,,,,"]
[null,{"$f":"IF(A5168=0,\" \",IF(ISNA(MATCH(A5168,Personnel!A:A,0)),\"وجود ندارد\",LOOKUP(A5168,Personnel!A:A,Personnel!B:B)))","v":" "},{"$f":"IF(A5168=0,\" \",IF(ISNA(MATCH(A5168,Personnel!A:A,0)),\"وجود ندارد\",LOOKUP(A5168,Personnel!A:A,Personnel!C:C)))","v":" "},null,null,null,null,null,null,null,null,"","",1,0," "," ",""," "," ","",null," "," ",",,,,,,,,,,,,"]
[null,{"$f":"IF(A5175=0,\" \",IF(ISNA(MATCH(A5175,Personnel!A:A,0)),\"وجود ندارد\",LOOKUP(A5175,Personnel!A:A,Personnel!B:B)))","v":" "},{"$f":"IF(A5175=0,\" \",IF(ISNA(MATCH(A5175,Personnel!A:A,0)),\"وجود ندارد\",LOOKUP(A5175,Personnel!A:A,Personnel!C:C)))","v":" "},null,null,null,null,null,null,null,null,"","",1,0," "," ",""," "," ","",null," "," ",",,,,,,,,,,,,"]
[null,{"$f":"IF(A5183=0,\" \",IF(ISNA(MATCH(A5183,Personnel!A:A,0)),\"وجود ندارد\",LOOKUP(A5183,Personnel!A:A,Personnel!B:B)))","v":" "},{"$f":"IF(A5183=0,\" \",IF(ISNA(MATCH(A5183,Personnel!A:A,0)),\"وجود ندارد\",LOOKUP(A5183,Personnel!A:A,Personnel!C:C)))","v":" "},null,null,null,null,null,null,null,null,"","",1,0," "," ",""," "," ","",null," "," ",",,,,,,,,,,,,"]
[null,{"$f":"IF(A5189=0,\" \",IF(ISNA(MATCH(A5189,Personnel!A:A,0)),\"وجود ندارد\",LOOKUP(A5189,Personnel!A:A,Personnel!B:B)))","v":" "},{"$f":"IF(A5189=0,\" \",IF(ISNA(MATCH(A5189,Personnel!A:A,0)),\"وجود ندارد\",LOOKUP(A5189,Personnel!A:A,Personnel!C:C)))","v":" "},null,null,null,null,null,null,null,null,"","",1,0," "," ",""," "," ","",null," "," ",",,,,,,,,,,,,"]
[null,{"$f":"IF(A5196=0,\" \",IF(ISNA(MATCH(A5196,Personnel!A:A,0)),\"وجود ندارد\",LOOKUP(A5196,Personnel!A:A,Personnel!B:B)))","v":" "},{"$f":"IF(A5196=0,\" \",IF(ISNA(MATCH(A5196,Personnel!A:A,0)),\"وجود ندارد\",LOOKUP(A5196,Personnel!A:A,Personnel!C:C)))","v":" "},null,null,null,null,null,null,null,null,"","",1,0," "," ",""," "," ","",null," "," ",",,,,,,,,,,,,"]
[null,{"$f":"IF(A5208=0,\" \",IF(ISNA(MATCH(A5208,Personnel!A:A,0)),\"وجود ندارد\",LOOKUP(A5208,Personnel!A:A,Personnel!B:B)))","v":" "},{"$f":"IF(A5208=0,\" \",IF(ISNA(MATCH(A5208,Personnel!A:A,0)),\"وجود ندارد\",LOOKUP(A5208,Personnel!A:A,Personnel!C:C)))","v":" "},null,null,null,null,null,null,null,null,"","",1,0," "," ",""," "," ","",null," "," ",",,,,,,,,,,,,"]
[null,{"$f":"IF(A5220=0,\" \",IF(ISNA(MATCH(A5220,Personnel!A:A,0)),\"وجود ندارد\",LOOKUP(A5220,Personnel!A:A,Personnel!B:B)))","v":" "},{"$f":"IF(A5220=0,\" \",IF(ISNA(MATCH(A5220,Personnel!A:A,0)),\"وجود ندارد\",LOOKUP(A5220,Personnel!A:A,Personnel!C:C)))","v":" "},null,null,null,null,null,null,null,null,"","",1,0," "," ",""," "," ","",null," "," ",",,,,,,,,,,,,"]
[null,{"$f":"IF(A5224=0,\" \",IF(ISNA(MATCH(A5224,Personnel!A:A,0)),\"وجود ندارد\",LOOKUP(A5224,Personnel!A:A,Personnel!B:B)))","v":" "},{"$f":"IF(A5224=0,\" \",IF(ISNA(MATCH(A5224,Personnel!A:A,0)),\"وجود ندارد\",LOOKUP(A5224,Personnel!A:A,Personnel!C:C)))","v":" "},null,null,null,null,null,null,null,null,"","",1,0," "," ",""," "," ","",null," "," ",",,,,,,,,,,,,"]
[null,{"$f":"IF(A5238=0,\" \",IF(ISNA(MATCH(A5238,Personnel!A:A,0)),\"وجود ندارد\",LOOKUP(A5238,Personnel!A:A,Personnel!B:B)))","v":" "},{"$f":"IF(A5238=0,\" \",IF(ISNA(MATCH(A5238,Personnel!A:A,0)),\"وجود ندارد\",LOOKUP(A5238,Personnel!A:A,Personnel!C:C)))","v":" "},null,null,null,null,null,null,null,null,"","",1,0," "," ",""," "," ","",null," "," ",",,,,,,,,,,,,"]
[null,{"$f":"IF(A5245=0,\" \",IF(ISNA(MATCH(A5245,Personnel!A:A,0)),\"وجود ندارد\",LOOKUP(A5245,Personnel!A:A,Personnel!B:B)))","v":" "},{"$f":"IF(A5245=0,\" \",IF(ISNA(MATCH(A5245,Personnel!A:A,0)),\"وجود ندارد\",LOOKUP(A5245,Personnel!A:A,Personnel!C:C)))","v":" "},null,null,null,null,null,null,null,null,"","",1,0," "," ",""," "," ","",null," "," ",",,,,,,,,,,,,"]
[null,{"$f":"IF(A5257=0,\" \",IF(ISNA(MATCH(A5257,Personnel!A:A,0)),\"وجود ندارد\",LOOKUP(A5257,Personnel!A:A,Personnel!B:B)))","v":" "},{"$f":"IF(A5257=0,\" \",IF(ISNA(MATCH(A5257,Personnel!A:A,0)),\"وجود ندارد\",LOOKUP(A5257,Personnel!A:A,Personnel!C:C)))","v":" "},null,null,null,null,null,null,null,null,"","",1,0," "," ",""," "," ","",null," "," ",",,,,,,,,,,,,"]
[null,{"$f":"IF(A5260=0,\" \",IF(ISNA(MATCH(A5260,Personnel!A:A,0)),\"وجود ندارد\",LOOKUP(A5260,Personnel!A:A,Personnel!B:B)))","v":" "},{"$f":"IF(A5260=0,\" \",IF(ISNA(MATCH(A5260,Personnel!A:A,0)),\"وجود ندارد\",LOOKUP(A5260,Personnel!A:A,Personnel!C:C)))","v":" "},null,null,null,null,null,null,null,null,"","",1,0," "," ",""," "," ","",null," "," ",",,,,,,,,,,,,"]
[null,{"$f":"IF(A5273=0,\" \",IF(ISNA(MATCH(A5273,Personnel!A:A,0)),\"وجود ندارد\",LOOKUP(A5273,Personnel!A:A,Personnel!B:B)))","v":" "},{"$f":"IF(A5273=0,\" \",IF(ISNA(MATCH(A5273,Personnel!A:A,0)),\"وجود ندارد\",LOOKUP(A5273,Personnel!A:A,Personnel!C:C)))","v":" "},null,null,null,null,null,null,null,null,"","",1,0," "," ",""," "," ","",null," "," ",",,,,,,,,,,,,"]
[null,{"$f":"IF(A5278=0,\" \",IF(ISNA(MATCH(A5278,Personnel!A:A,0)),\"وجود ندارد\",LOOKUP(A5278,Personnel!A:A,Personnel!B:B)))","v":" "},{"$f":"IF(A5278=0,\" \",IF(ISNA(MATCH(A5278,Personnel!A:A,0)),\"وجود ندارد\",LOOKUP(A5278,Personnel!A:A,Personnel!C:C)))","v":" "},null,null,null,null,null,null,null,null,"","",1,0," "," ",""," "," ","",null," "," ",",,,,,,,,,,,,"]
[null,{"$f":"IF(A5285=0,\" \",IF(ISNA(MATCH(A5285,Personnel!A:A,0)),\"وجود ندارد\",LOOKUP(A5285,Personnel!A:A,Personnel!B:B)))","v":" "},{"$f":"IF(A5285=0,\" \",IF(ISNA(MATCH(A5285,Personnel!A:A,0)),\"وجود ندارد\",LOOKUP(A5285,Personnel!A:A,Personnel!C:C)))","v":" "},null,null,null,null,null,null,null,null,"","",1,0," "," ",""," "," ","",null," "," ",",,,,,,,,,,,,"]
[null,{"$f":"IF(A5297=0,\" \",IF(ISNA(MATCH(A5297,Personnel!A:A,0)),\"وجود ندارد\",LOOKUP(A5297,Personnel!A:A,Personnel!B:B)))","v":" "},{"$f":"IF(A5297=0,\" \",IF(ISNA(MATCH(A5297,Personnel!A:A,0)),\"وجود ندارد\",LOOKUP(A5297,Personnel!A:A,Personnel!C:C)))","v":" "},null,null,null,null,null,null,null,null,"","",1,0," "," ",""," "," ","",null," "," ",",,,,,,,,,,,,"]
[null,{"$f":"IF(A5309=0,\" \",IF(ISNA(MATCH(A5309,Personnel!A:A,0)),\"وجود ندارد\",LOOKUP(A5309,Personnel!A:A,Personnel!B:B)))","v":" "},{"$f":"IF(A5309=0,\" \",IF(ISNA(MATCH(A5309,Personnel!A:A,0)),\"وجود ندارد\",LOOKUP(A5309,Personnel!A:A,Personnel!C:C)))","v":" "},null,null,null,null,null,null,null,null,"","",1,0," "," ",""," "," ","",null," "," ",",,,,,,,,,,,,"]
[null,{"$f":"IF(A5314=0,\" \",IF(ISNA(MATCH(A5314,Personnel!A:A,0)),\"وجود ندارد\",LOOKUP(A5314,Personnel!A:A,Personnel!B:B)))","v":" "},{"$f":"IF(A5314=0,\" \",IF(ISNA(MATCH(A5314,Personnel!A:A,0)),\"وجود ندارد\",LOOKUP(A5314,Personnel!A:A,Personnel!C:C)))","v":" "},null,null,null,null,null,null,null,null,"","",1,0,{"$f":"IF(A5314=0,\" \",IF(N5314+O5314<>0,\"تاریخ اشتباه است\",\"\"))","v":" "},{"$f":"IF(A5314=0,\" \",IF(AND(G5314<>0,H5314>G5314),\"مبلغ قسط از مبلغ کل بیشتر است\",\"\"))","v":" "},""," ",{"$f":"IF(A5314=0,\" \",IF(OR(K5314<1,K5314>3),\"نوع عمل اشتباه است\",\"\"))","v":" "},"",null," "," ",",,,,,,,,,,,,"]
[null,{"$f":"IF(A5327=0,\" \",IF(ISNA(MATCH(A5327,Personnel!A:A,0)),\"وجود ندارد\",LOOKUP(A5327,Personnel!A:A,Personnel!B:B)))","v":" "},{"$f":"IF(A5327=0,\" \",IF(ISNA(MATCH(A5327,Personnel!A:A,0)),\"وجود ندارد\",LOOKUP(A5327,Personnel!A:A,Personnel!C:C)))","v":" "},null,null,null,null,null,null,null,null,"","",1,0," "," ",""," "," ","",null," "," ",",,,,,,,,,,,,"]
[null,{"$f":"IF(A5330=0,\" \",IF(ISNA(MATCH(A5330,Personnel!A:A,0)),\"وجود ندارد\",LOOKUP(A5330,Personnel!A:A,Personnel!B:B)))","v":" "},{"$f":"IF(A5330=0,\" \",IF(ISNA(MATCH(A5330,Personnel!A:A,0)),\"وجود ندارد\",LOOKUP(A5330,Personnel!A:A,Personnel!C:C)))","v":" "},null,null,null,null,null,null,null,null,"","",1,0," "," ",""," "," ","",null," "," ",",,,,,,,,,,,,"]
[null,{"$f":"IF(A5337=0,\" \",IF(ISNA(MATCH(A5337,Personnel!A:A,0)),\"وجود ندارد\",LOOKUP(A5337,Personnel!A:A,Personnel!B:B)))","v":" "},{"$f":"IF(A5337=0,\" \",IF(ISNA(MATCH(A5337,Personnel!A:A,0)),\"وجود ندارد\",LOOKUP(A5337,Personnel!A:A,Personnel!C:C)))","v":" "},null,null,null,null,null,null,null,null,"","",1,0," "," ",""," "," ","",null," "," ",",,,,,,,,,,,,"]
[null,{"$f":"IF(A5349=0,\" \",IF(ISNA(MATCH(A5349,Personnel!A:A,0)),\"وجود ندارد\",LOOKUP(A5349,Personnel!A:A,Personnel!B:B)))","v":" "},{"$f":"IF(A5349=0,\" \",IF(ISNA(MATCH(A5349,Personnel!A:A,0)),\"وجود ندارد\",LOOKUP(A5349,Personnel!A:A,Personnel!C:C)))","v":" "},null,null,null,null,null,null,null,null,"","",1,0," "," ",""," "," ","",null," "," ",",,,,,,,,,,,,"]
[null,{"$f":"IF(A5355=0,\" \",IF(ISNA(MATCH(A5355,Personnel!A:A,0)),\"وجود ندارد\",LOOKUP(A5355,Personnel!A:A,Personnel!B:B)))","v":" "},{"$f":"IF(A5355=0,\" \",IF(ISNA(MATCH(A5355,Personnel!A:A,0)),\"وجود ندارد\",LOOKUP(A5355,Personnel!A:A,Personnel!C:C)))","v":" "},null,null,null,null,null,null,null,null,"","",1,0," "," ",""," "," ","",null," "," ",",,,,,,,,,,,,"]
[null,{"$f":"IF(A5367=0,\" \",IF(ISNA(MATCH(A5367,Personnel!A:A,0)),\"وجود ندارد\",LOOKUP(A5367,Personnel!A:A,Personnel!B:B)))","v":" "},{"$f":"IF(A5367=0,\" \",IF(ISNA(MATCH(A5367,Personnel!A:A,0)),\"وجود ندارد\",LOOKUP(A5367,Personnel!A:A,Personnel!C:C)))","v":" "},null,null,null,null,null,null,null,null,"","",1,0," "," ",""," "," ","",null," "," ",",,,,,,,,,,,,"]
[null,{"$f":"IF(A5379=0,\" \",IF(ISNA(MATCH(A5379,Personnel!A:A,0)),\"وجود ندارد\",LOOKUP(A5379,Personnel!A:A,Personnel!B:B)))","v":" "},{"$f":"IF(A5379=0,\" \",IF(ISNA(MATCH(A5379,Personnel!A:A,0)),\"وجود ندارد\",LOOKUP(A5379,Personnel!A:A,Personnel!C:C)))","v":" "},null,null,null,null,null,null,null,null,{"$f":"IF(K5379=0,\"\",IF(K5379=1,\"ایجاد\",IF(K5379=2,\"اصلاح\",\"حذف\")))","v":""},{"$f":"IF(AND(K5379=3,H5379+I5379+J5379+F5379+G5379<>0),\"برای عمل حذف اطلاعات اضافی وارد شده است\",\"\")","v":""},{"$f":"IF(AND(K5379<>3,F5379<900000),1,0)","v":1},{"$f":"IF(F5379>991231,1,0)","v":0}," "," ",{"$f":"IF(AND(A5379=0,H5379+I5379+J5379+F5379+G5379+K5379+E5379+D5379<>0),\"در این ردیف شماره پرسنلی وجود ندارد اما اطلاعات دیگر وارد شده است\",\"\")","v":""},{"$f":"IF(A5379=0,\" \",IF(D5379=0,\"کد وام وارد نشده است\",\"\"))","v":" "}," ",{"$f":"IF(AND(OR(K5379=1,K5379=2),H5379=0),\"مبلغ قسط نمی تواند خالی باشد\",\"\")","v":""},null,{"$f":"IF(AND(A5379=0,A5380<>0),\"دراین ردیف اصلاحاتی وجود ندارد . لطفا ردیفی را خالی باقی نگذارید\",IF(AND(A5379=0,R5379=\"\"),\" \",IF(M5379&\",\"&P5379&\",\"&Q5379&\",\"&R5379&\",\"&S5379&\",\"&T5379&\",\"&U5379=\",,,,,,\",\"صحیح\",M5379&\",\"&P5379&\",\"&Q5379&\",\"&R5379&\",\"&S5379&\",\"&T5379&\",\"&U5379)))","v":" "},{"$f":"IF(AND(ROW(X5379)>$Z$2,W5379=\" \"),\" \",IF(W5379=\" \",IF(AND(A5379=0,$Z$2<>$Z$4),\"دراین ردیف اصلاحاتی وجود ندارد . لطفا ردیفی را خالی نگذارید\",W5379),W5379))","v":" "},{"$f":"CONCATENATE(A5379,\",\",D5379,\",\",E5379,\",\",F5379,\",\",G5379,\",\",H5379,\",\",I5379,\",\",K5379,\",\",,\",\",J5379,\",\",\",\",V5379,\",\")","v":",,,,,,,,,,,,"}]
[null,{"$f":"IF(A5386=0,\" \",IF(ISNA(MATCH(A5386,Personnel!A:A,0)),\"وجود ندارد\",LOOKUP(A5386,Personnel!A:A,Personnel!B:B)))","v":" "},{"$f":"IF(A5386=0,\" \",IF(ISNA(MATCH(A5386,Personnel!A:A,0)),\"وجود ندارد\",LOOKUP(A5386,Personnel!A:A,Personnel!C:C)))","v":" "},null,null,null,null,null,null,null,null,"","",1,0," "," ",""," "," ","",null," "," ",",,,,,,,,,,,,"]
[null,{"$f":"IF(A5398=0,\" \",IF(ISNA(MATCH(A5398,Personnel!A:A,0)),\"وجود ندارد\",LOOKUP(A5398,Personnel!A:A,Personnel!B:B)))","v":" "},{"$f":"IF(A5398=0,\" \",IF(ISNA(MATCH(A5398,Personnel!A:A,0)),\"وجود ندارد\",LOOKUP(A5398,Personnel!A:A,Personnel!C:C)))","v":" "},null,null,null,null,null,null,null,null,"","",1,0," "," ",""," "," ","",null," "," ",",,,,,,,,,,,,"]
[null,{"$f":"IF(A5404=0,\" \",IF(ISNA(MATCH(A5404,Personnel!A:A,0)),\"وجود ندارد\",LOOKUP(A5404,Personnel!A:A,Personnel!B:B)))","v":" "},{"$f":"IF(A5404=0,\" \",IF(ISNA(MATCH(A5404,Personnel!A:A,0)),\"وجود ندارد\",LOOKUP(A5404,Personnel!A:A,Personnel!C:C)))","v":" "},null,null,null,null,null,null,null,null,"","",1,0," "," ",""," "," ","",null," "," ",",,,,,,,,,,,,"]
[null,{"$f":"IF(A5407=0,\" \",IF(ISNA(MATCH(A5407,Personnel!A:A,0)),\"وجود ندارد\",LOOKUP(A5407,Personnel!A:A,Personnel!B:B)))","v":" "},{"$f":"IF(A5407=0,\" \",IF(ISNA(MATCH(A5407,Personnel!A:A,0)),\"وجود ندارد\",LOOKUP(A5407,Personnel!A:A,Personnel!C:C)))","v":" "},null,null,null,null,null,null,null,null,"","",1,0," "," ",""," "," ","",null," "," ",",,,,,,,,,,,,"]
[null,{"$f":"IF(A5419=0,\" \",IF(ISNA(MATCH(A5419,Personnel!A:A,0)),\"وجود ندارد\",LOOKUP(A5419,Personnel!A:A,Personnel!B:B)))","v":" "},{"$f":"IF(A5419=0,\" \",IF(ISNA(MATCH(A5419,Personnel!A:A,0)),\"وجود ندارد\",LOOKUP(A5419,Personnel!A:A,Personnel!C:C)))","v":" "},null,null,null,null,null,null,null,null,"","",1,0," "," ",""," "," ","",null," "," ",",,,,,,,,,,,,"]
[null,{"$f":"IF(A5426=0,\" \",IF(ISNA(MATCH(A5426,Personnel!A:A,0)),\"وجود ندارد\",LOOKUP(A5426,Personnel!A:A,Personnel!B:B)))","v":" "},{"$f":"IF(A5426=0,\" \",IF(ISNA(MATCH(A5426,Personnel!A:A,0)),\"وجود ندارد\",LOOKUP(A5426,Personnel!A:A,Personnel!C:C)))","v":" "},null,null,null,null,null,null,null,null,"","",1,0," "," ",""," "," ","",null," "," ",",,,,,,,,,,,,"]
[null,{"$f":"IF(A5435=0,\" \",IF(ISNA(MATCH(A5435,Personnel!A:A,0)),\"وجود ندارد\",LOOKUP(A5435,Personnel!A:A,Personnel!B:B)))","v":" "},{"$f":"IF(A5435=0,\" \",IF(ISNA(MATCH(A5435,Personnel!A:A,0)),\"وجود ندارد\",LOOKUP(A5435,Personnel!A:A,Personnel!C:C)))","v":" "},null,null,null,null,null,null,null,null,"","",1,0," "," ",""," "," ","",null," "," ",",,,,,,,,,,,,"]
[null,{"$f":"IF(A5449=0,\" \",IF(ISNA(MATCH(A5449,Personnel!A:A,0)),\"وجود ندارد\",LOOKUP(A5449,Personnel!A:A,Personnel!B:B)))","v":" "},{"$f":"IF(A5449=0,\" \",IF(ISNA(MATCH(A5449,Personnel!A:A,0)),\"وجود ندارد\",LOOKUP(A5449,Personnel!A:A,Personnel!C:C)))","v":" "},null,null,null,null,null,null,null,null,"","",1,0," "," ",""," "," ","",null," "," ",",,,,,,,,,,,,"]
[null,{"$f":"IF(A5456=0,\" \",IF(ISNA(MATCH(A5456,Personnel!A:A,0)),\"وجود ندارد\",LOOKUP(A5456,Personnel!A:A,Personnel!B:B)))","v":" "},{"$f":"IF(A5456=0,\" \",IF(ISNA(MATCH(A5456,Personnel!A:A,0)),\"وجود ندارد\",LOOKUP(A5456,Personnel!A:A,Personnel!C:C)))","v":" "},null,null,null,null,null,null,null,null,"","",1,0," "," ",""," "," ","",null," "," ",",,,,,,,,,,,,"]
[null,{"$f":"IF(A5468=0,\" \",IF(ISNA(MATCH(A5468,Personnel!A:A,0)),\"وجود ندارد\",LOOKUP(A5468,Personnel!A:A,Personnel!B:B)))","v":" "},{"$f":"IF(A5468=0,\" \",IF(ISNA(MATCH(A5468,Personnel!A:A,0)),\"وجود ندارد\",LOOKUP(A5468,Personnel!A:A,Personnel!C:C)))","v":" "},null,null,null,null,null,null,null,null,"","",1,0," "," ",""," "," ","",null," "," ",",,,,,,,,,,,,"]
[null,{"$f":"IF(A5475=0,\" \",IF(ISNA(MATCH(A5475,Personnel!A:A,0)),\"وجود ندارد\",LOOKUP(A5475,Personnel!A:A,Personnel!B:B)))","v":" "},{"$f":"IF(A5475=0,\" \",IF(ISNA(MATCH(A5475,Personnel!A:A,0)),\"وجود ندارد\",LOOKUP(A5475,Personnel!A:A,Personnel!C:C)))","v":" "},null,null,null,null,null,null,null,null,"","",1,0," "," ",""," "," ","",null," "," ",",,,,,,,,,,,,"]
[null,{"$f":"IF(A5484=0,\" \",IF(ISNA(MATCH(A5484,Personnel!A:A,0)),\"وجود ندارد\",LOOKUP(A5484,Personnel!A:A,Personnel!B:B)))","v":" "},{"$f":"IF(A5484=0,\" \",IF(ISNA(MATCH(A5484,Personnel!A:A,0)),\"وجود ندارد\",LOOKUP(A5484,Personnel!A:A,Personnel!C:C)))","v":" "},null,null,null,null,null,null,null,null,"","",1,0," "," ",""," "," ","",null," "," ",",,,,,,,,,,,,"]
[null,{"$f":"IF(A5489=0,\" \",IF(ISNA(MATCH(A5489,Personnel!A:A,0)),\"وجود ندارد\",LOOKUP(A5489,Personnel!A:A,Personnel!B:B)))","v":" "},{"$f":"IF(A5489=0,\" \",IF(ISNA(MATCH(A5489,Personnel!A:A,0)),\"وجود ندارد\",LOOKUP(A5489,Personnel!A:A,Personnel!C:C)))","v":" "},null,null,null,null,null,null,null,null,"","",1,0," "," ",""," "," ","",null," "," ",",,,,,,,,,,,,"]
[null,{"$f":"IF(A5496=0,\" \",IF(ISNA(MATCH(A5496,Personnel!A:A,0)),\"وجود ندارد\",LOOKUP(A5496,Personnel!A:A,Personnel!B:B)))","v":" "},{"$f":"IF(A5496=0,\" \",IF(ISNA(MATCH(A5496,Personnel!A:A,0)),\"وجود ندارد\",LOOKUP(A5496,Personnel!A:A,Personnel!C:C)))","v":" "},null,null,null,null,null,null,null,null,"","",1,0," "," ",""," "," ","",null," "," ",",,,,,,,,,,,,"]
[null,{"$f":"IF(A5508=0,\" \",IF(ISNA(MATCH(A5508,Personnel!A:A,0)),\"وجود ندارد\",LOOKUP(A5508,Personnel!A:A,Personnel!B:B)))","v":" "},{"$f":"IF(A5508=0,\" \",IF(ISNA(MATCH(A5508,Personnel!A:A,0)),\"وجود ندارد\",LOOKUP(A5508,Personnel!A:A,Personnel!C:C)))","v":" "},null,null,null,null,null,null,null,null,"","",1,0," "," ",""," "," ","",null," "," ",",,,,,,,,,,,,"]
[null,{"$f":"IF(A5520=0,\" \",IF(ISNA(MATCH(A5520,Personnel!A:A,0)),\"وجود ندارد\",LOOKUP(A5520,Personnel!A:A,Personnel!B:B)))","v":" "},{"$f":"IF(A5520=0,\" \",IF(ISNA(MATCH(A5520,Personnel!A:A,0)),\"وجود ندارد\",LOOKUP(A5520,Personnel!A:A,Personnel!C:C)))","v":" "},null,null,null,null,null,null,null,null,"","",1,0," "," ",""," "," ","",null," "," ",",,,,,,,,,,,,"]
[null,{"$f":"IF(A5525=0,\" \",IF(ISNA(MATCH(A5525,Personnel!A:A,0)),\"وجود ندارد\",LOOKUP(A5525,Personnel!A:A,Personnel!B:B)))","v":" "},{"$f":"IF(A5525=0,\" \",IF(ISNA(MATCH(A5525,Personnel!A:A,0)),\"وجود ندارد\",LOOKUP(A5525,Personnel!A:A,Personnel!C:C)))","v":" "},null,null,null,null,null,null,null,null,"","",1,0," "," ",""," "," ","",null," "," ",",,,,,,,,,,,,"]
[null,{"$f":"IF(A5538=0,\" \",IF(ISNA(MATCH(A5538,Personnel!A:A,0)),\"وجود ندارد\",LOOKUP(A5538,Personnel!A:A,Personnel!B:B)))","v":" "},{"$f":"IF(A5538=0,\" \",IF(ISNA(MATCH(A5538,Personnel!A:A,0)),\"وجود ندارد\",LOOKUP(A5538,Personnel!A:A,Personnel!C:C)))","v":" "},null,null,null,null,null,null,null,null,"","",1,0," "," ",""," "," ","",null," "," ",",,,,,,,,,,,,"]
[null,{"$f":"IF(A5545=0,\" \",IF(ISNA(MATCH(A5545,Personnel!A:A,0)),\"وجود ندارد\",LOOKUP(A5545,Personnel!A:A,Personnel!B:B)))","v":" "},{"$f":"IF(A5545=0,\" \",IF(ISNA(MATCH(A5545,Personnel!A:A,0)),\"وجود ندارد\",LOOKUP(A5545,Personnel!A:A,Personnel!C:C)))","v":" "},null,null,null,null,null,null,null,null,"","",1,0," "," ",""," "," ","",null," "," ",",,,,,,,,,,,,"]
[null,{"$f":"IF(A5548=0,\" \",IF(ISNA(MATCH(A5548,Personnel!A:A,0)),\"وجود ندارد\",LOOKUP(A5548,Personnel!A:A,Personnel!B:B)))","v":" "},{"$f":"IF(A5548=0,\" \",IF(ISNA(MATCH(A5548,Personnel!A:A,0)),\"وجود ندارد\",LOOKUP(A5548,Personnel!A:A,Personnel!C:C)))","v":" "},null,null,null,null,null,null,null,null,"","",1,0," "," ",""," "," ","",null," "," ",",,,,,,,,,,,,"]
[null,{"$f":"IF(A5560=0,\" \",IF(ISNA(MATCH(A5560,Personnel!A:A,0)),\"وجود ندارد\",LOOKUP(A5560,Personnel!A:A,Personnel!B:B)))","v":" "},{"$f":"IF(A5560=0,\" \",IF(ISNA(MATCH(A5560,Personnel!A:A,0)),\"وجود ندارد\",LOOKUP(A5560,Personnel!A:A,Personnel!C:C)))","v":" "},null,null,null,null,null,null,null,null,"","",1,0," "," ",""," "," ","",null," "," ",",,,,,,,,,,,,"]
[null,{"$f":"IF(A5566=0,\" \",IF(ISNA(MATCH(A5566,Personnel!A:A,0)),\"وجود ندارد\",LOOKUP(A5566,Personnel!A:A,Personnel!B:B)))","v":" "},{"$f":"IF(A5566=0,\" \",IF(ISNA(MATCH(A5566,Personnel!A:A,0)),\"وجود ندارد\",LOOKUP(A5566,Personnel!A:A,Personnel!C:C)))","v":" "},null,null,null,null,null,null,null,null,"","",1,0," "," ",""," "," ","",null," "," ",",,,,,,,,,,,,"]
[null,{"$f":"IF(A5578=0,\" \",IF(ISNA(MATCH(A5578,Personnel!A:A,0)),\"وجود ندارد\",LOOKUP(A5578,Personnel!A:A,Personnel!B:B)))","v":" "},{"$f":"IF(A5578=0,\" \",IF(ISNA(MATCH(A5578,Personnel!A:A,0)),\"وجود ندارد\",LOOKUP(A5578,Personnel!A:A,Personnel!C:C)))","v":" "},null,null,null,null,null,null,null,null,"","",1,0," "," ",""," "," ","",null," "," ",",,,,,,,,,,,,"]
[null,{"$f":"IF(A5585=0,\" \",IF(ISNA(MATCH(A5585,Personnel!A:A,0)),\"وجود ندارد\",LOOKUP(A5585,Personnel!A:A,Personnel!B:B)))","v":" "},{"$f":"IF(A5585=0,\" \",IF(ISNA(MATCH(A5585,Personnel!A:A,0)),\"وجود ندارد\",LOOKUP(A5585,Personnel!A:A,Personnel!C:C)))","v":" "},null,null,null,null,null,null,null,null,"","",1,0," "," ",""," "," ","",null," "," ",",,,,,,,,,,,,"]
[null,{"$f":"IF(A5597=0,\" \",IF(ISNA(MATCH(A5597,Personnel!A:A,0)),\"وجود ندارد\",LOOKUP(A5597,Personnel!A:A,Personnel!B:B)))","v":" "},{"$f":"IF(A5597=0,\" \",IF(ISNA(MATCH(A5597,Personnel!A:A,0)),\"وجود ندارد\",LOOKUP(A5597,Personnel!A:A,Personnel!C:C)))","v":" "},null,null,null,null,null,null,null,null,"","",1,0," "," ",""," "," ","",null," "," ",",,,,,,,,,,,,"]
[null,{"$f":"IF(A5609=0,\" \",IF(ISNA(MATCH(A5609,Personnel!A:A,0)),\"وجود ندارد\",LOOKUP(A5609,Personnel!A:A,Personnel!B:B)))","v":" "},{"$f":"IF(A5609=0,\" \",IF(ISNA(MATCH(A5609,Personnel!A:A,0)),\"وجود ندارد\",LOOKUP(A5609,Personnel!A:A,Personnel!C:C)))","v":" "},null,null,null,null,null,null,null,null,"","",1,0," "," ",""," "," ","",null," "," ",",,,,,,,,,,,,"]
[null,{"$f":"IF(A5615=0,\" \",IF(ISNA(MATCH(A5615,Personnel!A:A,0)),\"وجود ندارد\",LOOKUP(A5615,Personnel!A:A,Personnel!B:B)))","v":" "},{"$f":"IF(A5615=0,\" \",IF(ISNA(MATCH(A5615,Personnel!A:A,0)),\"وجود ندارد\",LOOKUP(A5615,Personnel!A:A,Personnel!C:C)))","v":" "},null,null,null,null,null,null,null,null,"","",1,0," "," ",""," "," ","",null," "," ",",,,,,,,,,,,,"]
[null,{"$f":"IF(A5618=0,\" \",IF(ISNA(MATCH(A5618,Personnel!A:A,0)),\"وجود ندارد\",LOOKUP(A5618,Personnel!A:A,Personnel!B:B)))","v":" "},{"$f":"IF(A5618=0,\" \",IF(ISNA(MATCH(A5618,Personnel!A:A,0)),\"وجود ندارد\",LOOKUP(A5618,Personnel!A:A,Personnel!C:C)))","v":" "},null,null,null,null,null,null,null,null,"","",1,0," "," ",""," "," ","",null," "," ",",,,,,,,,,,,,"]
[null,{"$f":"IF(A5630=0,\" \",IF(ISNA(MATCH(A5630,Personnel!A:A,0)),\"وجود ندارد\",LOOKUP(A5630,Personnel!A:A,Personnel!B:B)))","v":" "},{"$f":"IF(A5630=0,\" \",IF(ISNA(MATCH(A5630,Personnel!A:A,0)),\"وجود ندارد\",LOOKUP(A5630,Personnel!A:A,Personnel!C:C)))","v":" "},null,null,null,null,null,null,null,null,"","",1,0," "," ",""," "," ","",null," "," ",",,,,,,,,,,,,"]
[null,{"$f":"IF(A5637=0,\" \",IF(ISNA(MATCH(A5637,Personnel!A:A,0)),\"وجود ندارد\",LOOKUP(A5637,Personnel!A:A,Personnel!B:B)))","v":" "},{"$f":"IF(A5637=0,\" \",IF(ISNA(MATCH(A5637,Personnel!A:A,0)),\"وجود ندارد\",LOOKUP(A5637,Personnel!A:A,Personnel!C:C)))","v":" "},null,null,null,null,null,null,null,null,"","",1,0," "," ",""," "," ","",null," "," ",",,,,,,,,,,,,"]
[null,{"$f":"IF(A5649=0,\" \",IF(ISNA(MATCH(A5649,Personnel!A:A,0)),\"وجود ندارد\",LOOKUP(A5649,Personnel!A:A,Personnel!B:B)))","v":" "},{"$f":"IF(A5649=0,\" \",IF(ISNA(MATCH(A5649,Personnel!A:A,0)),\"وجود ندارد\",LOOKUP(A5649,Personnel!A:A,Personnel!C:C)))","v":" "},null,null,null,null,null,null,null,null,"","",1,0," "," ",""," "," ","",null," "," ",",,,,,,,,,,,,"]
[null,{"$f":"IF(A5656=0,\" \",IF(ISNA(MATCH(A5656,Personnel!A:A,0)),\"وجود ندارد\",LOOKUP(A5656,Personnel!A:A,Personnel!B:B)))","v":" "},{"$f":"IF(A5656=0,\" \",IF(ISNA(MATCH(A5656,Personnel!A:A,0)),\"وجود ندارد\",LOOKUP(A5656,Personnel!A:A,Personnel!C:C)))","v":" "},null,null,null,null,null,null,null,null,"","",1,0," "," ",""," "," ","",null," "," ",",,,,,,,,,,,,"]
[null,{"$f":"IF(A5667=0,\" \",IF(ISNA(MATCH(A5667,Personnel!A:A,0)),\"وجود ندارد\",LOOKUP(A5667,Personnel!A:A,Personnel!B:B)))","v":" "},{"$f":"IF(A5667=0,\" \",IF(ISNA(MATCH(A5667,Personnel!A:A,0)),\"وجود ندارد\",LOOKUP(A5667,Personnel!A:A,Personnel!C:C)))","v":" "},null,null,null,null,null,null,null,null,"","",1,0," "," ",""," "," ","",null," "," ",",,,,,,,,,,,,"]
[null,{"$f":"IF(A5679=0,\" \",IF(ISNA(MATCH(A5679,Personnel!A:A,0)),\"وجود ندارد\",LOOKUP(A5679,Personnel!A:A,Personnel!B:B)))","v":" "},{"$f":"IF(A5679=0,\" \",IF(ISNA(MATCH(A5679,Personnel!A:A,0)),\"وجود ندارد\",LOOKUP(A5679,Personnel!A:A,Personnel!C:C)))","v":" "},null,null,null,null,null,null,null,null,"","",1,0," "," ",""," "," ","",null," "," ",",,,,,,,,,,,,"]
[null,{"$f":"IF(A5686=0,\" \",IF(ISNA(MATCH(A5686,Personnel!A:A,0)),\"وجود ندارد\",LOOKUP(A5686,Personnel!A:A,Personnel!B:B)))","v":" "},{"$f":"IF(A5686=0,\" \",IF(ISNA(MATCH(A5686,Personnel!A:A,0)),\"وجود ندارد\",LOOKUP(A5686,Personnel!A:A,Personnel!C:C)))","v":" "},null,null,null,null,null,null,null,null,"","",1,0," "," ",""," "," ","",null," "," ",",,,,,,,,,,,,"]
[null,{"$f":"IF(A5689=0,\" \",IF(ISNA(MATCH(A5689,Personnel!A:A,0)),\"وجود ندارد\",LOOKUP(A5689,Personnel!A:A,Personnel!B:B)))","v":" "},{"$f":"IF(A5689=0,\" \",IF(ISNA(MATCH(A5689,Personnel!A:A,0)),\"وجود ندارد\",LOOKUP(A5689,Personnel!A:A,Personnel!C:C)))","v":" "},null,null,null,null,null,null,null,null,"","",1,0," "," ",""," "," ","",null," "," ",",,,,,,,,,,,,"]
[null,{"$f":"IF(A5705=0,\" \",IF(ISNA(MATCH(A5705,Personnel!A:A,0)),\"وجود ندارد\",LOOKUP(A5705,Personnel!A:A,Personnel!B:B)))","v":" "},{"$f":"IF(A5705=0,\" \",IF(ISNA(MATCH(A5705,Personnel!A:A,0)),\"وجود ندارد\",LOOKUP(A5705,Personnel!A:A,Personnel!C:C)))","v":" "},null,null,null,null,null,null,null,null,"","",1,0," "," ",""," "," ","",null," "," ",",,,,,,,,,,,,"]
[null,{"$f":"IF(A5707=0,\" \",IF(ISNA(MATCH(A5707,Personnel!A:A,0)),\"وجود ندارد\",LOOKUP(A5707,Personnel!A:A,Personnel!B:B)))","v":" "},{"$f":"IF(A5707=0,\" \",IF(ISNA(MATCH(A5707,Personnel!A:A,0)),\"وجود ندارد\",LOOKUP(A5707,Personnel!A:A,Personnel!C:C)))","v":" "},null,null,null,null,null,null,null,null,"","",1,0," "," ",""," "," ","",null," "," ",",,,,,,,,,,,,"]
[null,{"$f":"IF(A5719=0,\" \",IF(ISNA(MATCH(A5719,Personnel!A:A,0)),\"وجود ندارد\",LOOKUP(A5719,Personnel!A:A,Personnel!B:B)))","v":" "},{"$f":"IF(A5719=0,\" \",IF(ISNA(MATCH(A5719,Personnel!A:A,0)),\"وجود ندارد\",LOOKUP(A5719,Personnel!A:A,Personnel!C:C)))","v":" "},null,null,null,null,null,null,null,null,"","",1,0," "," ",""," "," ","",null," "," ",",,,,,,,,,,,,"]
[null,{"$f":"IF(A5726=0,\" \",IF(ISNA(MATCH(A5726,Personnel!A:A,0)),\"وجود ندارد\",LOOKUP(A5726,Personnel!A:A,Personnel!B:B)))","v":" "},{"$f":"IF(A5726=0,\" \",IF(ISNA(MATCH(A5726,Personnel!A:A,0)),\"وجود ندارد\",LOOKUP(A5726,Personnel!A:A,Personnel!C:C)))","v":" "},null,null,null,null,null,null,null,null,"","",1,0," "," ",""," "," ","",null," "," ",",,,,,,,,,,,,"]
[null,{"$f":"IF(A5738=0,\" \",IF(ISNA(MATCH(A5738,Personnel!A:A,0)),\"وجود ندارد\",LOOKUP(A5738,Personnel!A:A,Personnel!B:B)))","v":" "},{"$f":"IF(A5738=0,\" \",IF(ISNA(MATCH(A5738,Personnel!A:A,0)),\"وجود ندارد\",LOOKUP(A5738,Personnel!A:A,Personnel!C:C)))","v":" "},null,null,null,null,null,null,null,null,"","",1,0," "," ",""," "," ","",null," "," ",",,,,,,,,,,,,"]
[null,{"$f":"IF(A5746=0,\" \",IF(ISNA(MATCH(A5746,Personnel!A:A,0)),\"وجود ندارد\",LOOKUP(A5746,Personnel!A:A,Personnel!B:B)))","v":" "},{"$f":"IF(A5746=0,\" \",IF(ISNA(MATCH(A5746,Personnel!A:A,0)),\"وجود ندارد\",LOOKUP(A5746,Personnel!A:A,Personnel!C:C)))","v":" "},null,null,null,null,null,null,null,null,"","",1,0," "," ",""," "," ","",null," "," ",",,,,,,,,,,,,"]
[null,{"$f":"IF(A5756=0,\" \",IF(ISNA(MATCH(A5756,Personnel!A:A,0)),\"وجود ندارد\",LOOKUP(A5756,Personnel!A:A,Personnel!B:B)))","v":" "},{"$f":"IF(A5756=0,\" \",IF(ISNA(MATCH(A5756,Personnel!A:A,0)),\"وجود ندارد\",LOOKUP(A5756,Personnel!A:A,Personnel!C:C)))","v":" "},null,null,null,null,null,null,null,null,"","",1,0," "," ",""," "," ","",null," "," ",",,,,,,,,,,,,"]
[null,{"$f":"IF(A5759=0,\" \",IF(ISNA(MATCH(A5759,Personnel!A:A,0)),\"وجود ندارد\",LOOKUP(A5759,Personnel!A:A,Personnel!B:B)))","v":" "},{"$f":"IF(A5759=0,\" \",IF(ISNA(MATCH(A5759,Personnel!A:A,0)),\"وجود ندارد\",LOOKUP(A5759,Personnel!A:A,Personnel!C:C)))","v":" "},null,null,null,null,null,null,null,null,"","",1,0," "," ",""," "," ","",null," "," ",",,,,,,,,,,,,"]
[null,{"$f":"IF(A5775=0,\" \",IF(ISNA(MATCH(A5775,Personnel!A:A,0)),\"وجود ندارد\",LOOKUP(A5775,Personnel!A:A,Personnel!B:B)))","v":" "},{"$f":"IF(A5775=0,\" \",IF(ISNA(MATCH(A5775,Personnel!A:A,0)),\"وجود ندارد\",LOOKUP(A5775,Personnel!A:A,Personnel!C:C)))","v":" "},null,null,null,null,null,null,null,null,"","",1,0," "," ",""," "," ","",null," "," ",",,,,,,,,,,,,"]
[null,{"$f":"IF(A5778=0,\" \",IF(ISNA(MATCH(A5778,Personnel!A:A,0)),\"وجود ندارد\",LOOKUP(A5778,Personnel!A:A,Personnel!B:B)))","v":" "},{"$f":"IF(A5778=0,\" \",IF(ISNA(MATCH(A5778,Personnel!A:A,0)),\"وجود ندارد\",LOOKUP(A5778,Personnel!A:A,Personnel!C:C)))","v":" "},null,null,null,null,null,null,null,null,"","",1,0," "," ",""," "," ","",null," "," ",",,,,,,,,,,,,"]
[null,{"$f":"IF(A5787=0,\" \",IF(ISNA(MATCH(A5787,Personnel!A:A,0)),\"وجود ندارد\",LOOKUP(A5787,Personnel!A:A,Personnel!B:B)))","v":" "},{"$f":"IF(A5787=0,\" \",IF(ISNA(MATCH(A5787,Personnel!A:A,0)),\"وجود ندارد\",LOOKUP(A5787,Personnel!A:A,Personnel!C:C)))","v":" "},null,null,null,null,null,null,null,null,"","",1,0," "," ",""," "," ","",null," "," ",",,,,,,,,,,,,"]
[null,{"$f":"IF(A5796=0,\" \",IF(ISNA(MATCH(A5796,Personnel!A:A,0)),\"وجود ندارد\",LOOKUP(A5796,Personnel!A:A,Personnel!B:B)))","v":" "},{"$f":"IF(A5796=0,\" \",IF(ISNA(MATCH(A5796,Personnel!A:A,0)),\"وجود ندارد\",LOOKUP(A5796,Personnel!A:A,Personnel!C:C)))","v":" "},null,null,null,null,null,null,null,null,"","",1,0," "," ",""," "," ","",null," "," ",",,,,,,,,,,,,"]
[null,{"$f":"IF(A5808=0,\" \",IF(ISNA(MATCH(A5808,Personnel!A:A,0)),\"وجود ندارد\",LOOKUP(A5808,Personnel!A:A,Personnel!B:B)))","v":" "},{"$f":"IF(A5808=0,\" \",IF(ISNA(MATCH(A5808,Personnel!A:A,0)),\"وجود ندارد\",LOOKUP(A5808,Personnel!A:A,Personnel!C:C)))","v":" "},null,null,null,null,null,null,null,null,"","",1,0," "," ",""," "," ","",null," "," ",",,,,,,,,,,,,"]
[null,{"$f":"IF(A5820=0,\" \",IF(ISNA(MATCH(A5820,Personnel!A:A,0)),\"وجود ندارد\",LOOKUP(A5820,Personnel!A:A,Personnel!B:B)))","v":" "},{"$f":"IF(A5820=0,\" \",IF(ISNA(MATCH(A5820,Personnel!A:A,0)),\"وجود ندارد\",LOOKUP(A5820,Personnel!A:A,Personnel!C:C)))","v":" "},null,null,null,null,null,null,null,null,"","",1,0," "," ",""," "," ","",null," "," ",",,,,,,,,,,,,"]
[null,{"$f":"IF(A5827=0,\" \",IF(ISNA(MATCH(A5827,Personnel!A:A,0)),\"وجود ندارد\",LOOKUP(A5827,Personnel!A:A,Personnel!B:B)))","v":" "},{"$f":"IF(A5827=0,\" \",IF(ISNA(MATCH(A5827,Personnel!A:A,0)),\"وجود ندارد\",LOOKUP(A5827,Personnel!A:A,Personnel!C:C)))","v":" "},null,null,null,null,null,null,null,null,{"$f":"IF(K5827=0,\"\",IF(K5827=1,\"ایجاد\",IF(K5827=2,\"اصلاح\",\"حذف\")))","v":""},{"$f":"IF(AND(K5827=3,H5827+I5827+J5827+F5827+G5827<>0),\"برای عمل حذف اطلاعات اضافی وارد شده است\",\"\")","v":""},{"$f":"IF(AND(K5827<>3,F5827<900000),1,0)","v":1},{"$f":"IF(F5827>991231,1,0)","v":0}," "," ",{"$f":"IF(AND(A5827=0,H5827+I5827+J5827+F5827+G5827+K5827+E5827+D5827<>0),\"در این ردیف شماره پرسنلی وجود ندارد اما اطلاعات دیگر وارد شده است\",\"\")","v":""},{"$f":"IF(A5827=0,\" \",IF(D5827=0,\"کد وام وارد نشده است\",\"\"))","v":" "}," ",{"$f":"IF(AND(OR(K5827=1,K5827=2),H5827=0),\"مبلغ قسط نمی تواند خالی باشد\",\"\")","v":""},null,{"$f":"IF(AND(A5827=0,A5828<>0),\"دراین ردیف اصلاحاتی وجود ندارد . لطفا ردیفی را خالی باقی نگذارید\",IF(AND(A5827=0,R5827=\"\"),\" \",IF(M5827&\",\"&P5827&\",\"&Q5827&\",\"&R5827&\",\"&S5827&\",\"&T5827&\",\"&U5827=\",,,,,,\",\"صحیح\",M5827&\",\"&P5827&\",\"&Q5827&\",\"&R5827&\",\"&S5827&\",\"&T5827&\",\"&U5827)))","v":" "},{"$f":"IF(AND(ROW(X5827)>$Z$2,W5827=\" \"),\" \",IF(W5827=\" \",IF(AND(A5827=0,$Z$2<>$Z$4),\"دراین ردیف اصلاحاتی وجود ندارد . لطفا ردیفی را خالی نگذارید\",W5827),W5827))","v":" "},{"$f":"CONCATENATE(A5827,\",\",D5827,\",\",E5827,\",\",F5827,\",\",G5827,\",\",H5827,\",\",I5827,\",\",K5827,\",\",,\",\",J5827,\",\",\",\",V5827,\",\")","v":",,,,,,,,,,,,"}]
[null,{"$f":"IF(A5836=0,\" \",IF(ISNA(MATCH(A5836,Personnel!A:A,0)),\"وجود ندارد\",LOOKUP(A5836,Personnel!A:A,Personnel!B:B)))","v":" "},{"$f":"IF(A5836=0,\" \",IF(ISNA(MATCH(A5836,Personnel!A:A,0)),\"وجود ندارد\",LOOKUP(A5836,Personnel!A:A,Personnel!C:C)))","v":" "},null,null,null,null,null,null,null,null,"","",1,0," "," ",""," "," ","",null," "," ",",,,,,,,,,,,,"]
[null,{"$f":"IF(A5845=0,\" \",IF(ISNA(MATCH(A5845,Personnel!A:A,0)),\"وجود ندارد\",LOOKUP(A5845,Personnel!A:A,Personnel!B:B)))","v":" "},{"$f":"IF(A5845=0,\" \",IF(ISNA(MATCH(A5845,Personnel!A:A,0)),\"وجود ندارد\",LOOKUP(A5845,Personnel!A:A,Personnel!C:C)))","v":" "},null,null,null,null,null,null,null,null,"","",1,0," "," ",""," "," ","",null," "," ",",,,,,,,,,,,,"]
[null,{"$f":"IF(A5848=0,\" \",IF(ISNA(MATCH(A5848,Personnel!A:A,0)),\"وجود ندارد\",LOOKUP(A5848,Personnel!A:A,Personnel!B:B)))","v":" "},{"$f":"IF(A5848=0,\" \",IF(ISNA(MATCH(A5848,Personnel!A:A,0)),\"وجود ندارد\",LOOKUP(A5848,Personnel!A:A,Personnel!C:C)))","v":" "},null,null,null,null,null,null,null,null,"","",1,0," "," ",""," "," ","",null," "," ",",,,,,,,,,,,,"]
[null,{"$f":"IF(A5860=0,\" \",IF(ISNA(MATCH(A5860,Personnel!A:A,0)),\"وجود ندارد\",LOOKUP(A5860,Personnel!A:A,Personnel!B:B)))","v":" "},{"$f":"IF(A5860=0,\" \",IF(ISNA(MATCH(A5860,Personnel!A:A,0)),\"وجود ندارد\",LOOKUP(A5860,Personnel!A:A,Personnel!C:C)))","v":" "},null,null,null,null,null,null,null,null,"","",1,0," "," ",""," "," ","",null," "," ",",,,,,,,,,,,,"]
[null,{"$f":"IF(A5867=0,\" \",IF(ISNA(MATCH(A5867,Personnel!A:A,0)),\"وجود ندارد\",LOOKUP(A5867,Personnel!A:A,Personnel!B:B)))","v":" "},{"$f":"IF(A5867=0,\" \",IF(ISNA(MATCH(A5867,Personnel!A:A,0)),\"وجود ندارد\",LOOKUP(A5867,Personnel!A:A,Personnel!C:C)))","v":" "},null,null,null,null,null,null,null,null,"","",1,0," "," ",""," "," ","",null," "," ",",,,,,,,,,,,,"]
[null,{"$f":"IF(A5878=0,\" \",IF(ISNA(MATCH(A5878,Personnel!A:A,0)),\"وجود ندارد\",LOOKUP(A5878,Personnel!A:A,Personnel!B:B)))","v":" "},{"$f":"IF(A5878=0,\" \",IF(ISNA(MATCH(A5878,Personnel!A:A,0)),\"وجود ندارد\",LOOKUP(A5878,Personnel!A:A,Personnel!C:C)))","v":" "},null,null,null,null,null,null,null,null,"","",1,0," "," ",""," "," ","",null," "," ",",,,,,,,,,,,,"]
[null,{"$f":"IF(A5890=0,\" \",IF(ISNA(MATCH(A5890,Personnel!A:A,0)),\"وجود ندارد\",LOOKUP(A5890,Personnel!A:A,Personnel!B:B)))","v":" "},{"$f":"IF(A5890=0,\" \",IF(ISNA(MATCH(A5890,Personnel!A:A,0)),\"وجود ندارد\",LOOKUP(A5890,Personnel!A:A,Personnel!C:C)))","v":" "},null,null,null,null,null,null,null,null,"","",1,0,{"$f":"IF(A5890=0,\" \",IF(N5890+O5890<>0,\"تاریخ اشتباه است\",\"\"))","v":" "},{"$f":"IF(A5890=0,\" \",IF(AND(G5890<>0,H5890>G5890),\"مبلغ قسط از مبلغ کل بیشتر است\",\"\"))","v":" "},""," ",{"$f":"IF(A5890=0,\" \",IF(OR(K5890<1,K5890>3),\"نوع عمل اشتباه است\",\"\"))","v":" "},"",null," "," ",",,,,,,,,,,,,"]
[null,{"$f":"IF(A5897=0,\" \",IF(ISNA(MATCH(A5897,Personnel!A:A,0)),\"وجود ندارد\",LOOKUP(A5897,Personnel!A:A,Personnel!B:B)))","v":" "},{"$f":"IF(A5897=0,\" \",IF(ISNA(MATCH(A5897,Personnel!A:A,0)),\"وجود ندارد\",LOOKUP(A5897,Personnel!A:A,Personnel!C:C)))","v":" "},null,null,null,null,null,null,null,null,"","",1,0," "," ",""," "," ","",null," "," ",",,,,,,,,,,,,"]
[null,{"$f":"IF(A5900=0,\" \",IF(ISNA(MATCH(A5900,Personnel!A:A,0)),\"وجود ندارد\",LOOKUP(A5900,Personnel!A:A,Personnel!B:B)))","v":" "},{"$f":"IF(A5900=0,\" \",IF(ISNA(MATCH(A5900,Personnel!A:A,0)),\"وجود ندارد\",LOOKUP(A5900,Personnel!A:A,Personnel!C:C)))","v":" "},null,null,null,null,null,null,null,null,"","",1,0," "," ",""," "," ","",null," "," ",",,,,,,,,,,,,"]
[null,{"$f":"IF(A5916=0,\" \",IF(ISNA(MATCH(A5916,Personnel!A:A,0)),\"وجود ندارد\",LOOKUP(A5916,Personnel!A:A,Personnel!B:B)))","v":" "},{"$f":"IF(A5916=0,\" \",IF(ISNA(MATCH(A5916,Personnel!A:A,0)),\"وجود ندارد\",LOOKUP(A5916,Personnel!A:A,Personnel!C:C)))","v":" "},null,null,null,null,null,null,null,null,"","",1,0," "," ",""," "," ","",null," "," ",",,,,,,,,,,,,"]
[null,{"$f":"IF(A5918=0,\" \",IF(ISNA(MATCH(A5918,Personnel!A:A,0)),\"وجود ندارد\",LOOKUP(A5918,Personnel!A:A,Personnel!B:B)))","v":" "},{"$f":"IF(A5918=0,\" \",IF(ISNA(MATCH(A5918,Personnel!A:A,0)),\"وجود ندارد\",LOOKUP(A5918,Personnel!A:A,Personnel!C:C)))","v":" "},null,null,null,null,null,null,null,null,"","",1,0," "," ",""," "," ","",null," "," ",",,,,,,,,,,,,"]
[null,{"$f":"IF(A5930=0,\" \",IF(ISNA(MATCH(A5930,Personnel!A:A,0)),\"وجود ندارد\",LOOKUP(A5930,Personnel!A:A,Personnel!B:B)))","v":" "},{"$f":"IF(A5930=0,\" \",IF(ISNA(MATCH(A5930,Personnel!A:A,0)),\"وجود ندارد\",LOOKUP(A5930,Personnel!A:A,Personnel!C:C)))","v":" "},null,null,null,null,null,null,null,null,"","",1,0," "," ",""," "," ","",null," "," ",",,,,,,,,,,,,"]
[null,{"$f":"IF(A5937=0,\" \",IF(ISNA(MATCH(A5937,Personnel!A:A,0)),\"وجود ندارد\",LOOKUP(A5937,Personnel!A:A,Personnel!B:B)))","v":" "},{"$f":"IF(A5937=0,\" \",IF(ISNA(MATCH(A5937,Personnel!A:A,0)),\"وجود ندارد\",LOOKUP(A5937,Personnel!A:A,Personnel!C:C)))","v":" "},null,null,null,null,null,null,null,null,"","",1,0," "," ",""," "," ","",null," "," ",",,,,,,,,,,,,"]
[null,{"$f":"IF(A5949=0,\" \",IF(ISNA(MATCH(A5949,Personnel!A:A,0)),\"وجود ندارد\",LOOKUP(A5949,Personnel!A:A,Personnel!B:B)))","v":" "},{"$f":"IF(A5949=0,\" \",IF(ISNA(MATCH(A5949,Personnel!A:A,0)),\"وجود ندارد\",LOOKUP(A5949,Personnel!A:A,Personnel!C:C)))","v":" "},null,null,null,null,null,null,null,null,"","",1,0," "," ",""," "," ","",null," "," ",",,,,,,,,,,,,"]
[null,{"$f":"IF(A5957=0,\" \",IF(ISNA(MATCH(A5957,Personnel!A:A,0)),\"وجود ندارد\",LOOKUP(A5957,Personnel!A:A,Personnel!B:B)))","v":" "},{"$f":"IF(A5957=0,\" \",IF(ISNA(MATCH(A5957,Personnel!A:A,0)),\"وجود ندارد\",LOOKUP(A5957,Personnel!A:A,Personnel!C:C)))","v":" "},null,null,null,null,null,null,null,null,"","",1,0," "," ",""," "," ","",null," "," ",",,,,,,,,,,,,"]
[null,{"$f":"IF(A5967=0,\" \",IF(ISNA(MATCH(A5967,Personnel!A:A,0)),\"وجود ندارد\",LOOKUP(A5967,Personnel!A:A,Personnel!B:B)))","v":" "},{"$f":"IF(A5967=0,\" \",IF(ISNA(MATCH(A5967,Personnel!A:A,0)),\"وجود ندارد\",LOOKUP(A5967,Personnel!A:A,Personnel!C:C)))","v":" "},null,null,null,null,null,null,null,null,"","",1,0," "," ",""," "," ","",null," "," ",",,,,,,,,,,,,"]
[null,{"$f":"IF(A5970=0,\" \",IF(ISNA(MATCH(A5970,Personnel!A:A,0)),\"وجود ندارد\",LOOKUP(A5970,Personnel!A:A,Personnel!B:B)))","v":" "},{"$f":"IF(A5970=0,\" \",IF(ISNA(MATCH(A5970,Personnel!A:A,0)),\"وجود ندارد\",LOOKUP(A5970,Personnel!A:A,Personnel!C:C)))","v":" "},null,null,null,null,null,null,null,null,"","",1,0," "," ",""," "," ","",null," "," ",",,,,,,,,,,,,"]
[null,{"$f":"IF(A5986=0,\" \",IF(ISNA(MATCH(A5986,Personnel!A:A,0)),\"وجود ندارد\",LOOKUP(A5986,Personnel!A:A,Personnel!B:B)))","v":" "},{"$f":"IF(A5986=0,\" \",IF(ISNA(MATCH(A5986,Personnel!A:A,0)),\"وجود ندارد\",LOOKUP(A5986,Personnel!A:A,Personnel!C:C)))","v":" "},null,null,null,null,null,null,null,null,"","",1,0," "," ",""," "," ","",null," "," ",",,,,,,,,,,,,"]
[null,{"$f":"IF(A5989=0,\" \",IF(ISNA(MATCH(A5989,Personnel!A:A,0)),\"وجود ندارد\",LOOKUP(A5989,Personnel!A:A,Personnel!B:B)))","v":" "},{"$f":"IF(A5989=0,\" \",IF(ISNA(MATCH(A5989,Personnel!A:A,0)),\"وجود ندارد\",LOOKUP(A5989,Personnel!A:A,Personnel!C:C)))","v":" "},null,null,null,null,null,null,null,null,"","",1,0," "," ",""," "," ","",null," "," ",",,,,,,,,,,,,"]
[null,{"$f":"IF(A5998=0,\" \",IF(ISNA(MATCH(A5998,Personnel!A:A,0)),\"وجود ندارد\",LOOKUP(A5998,Personnel!A:A,Personnel!B:B)))","v":" "},{"$f":"IF(A5998=0,\" \",IF(ISNA(MATCH(A5998,Personnel!A:A,0)),\"وجود ندارد\",LOOKUP(A5998,Personnel!A:A,Personnel!C:C)))","v":" "},null,null,null,null,null,null,null,null,"","",1,0," "," ",""," "," ","",null," "," ",",,,,,,,,,,,,"]
[null,{"$f":"IF(A6007=0,\" \",IF(ISNA(MATCH(A6007,Personnel!A:A,0)),\"وجود ندارد\",LOOKUP(A6007,Personnel!A:A,Personnel!B:B)))","v":" "},{"$f":"IF(A6007=0,\" \",IF(ISNA(MATCH(A6007,Personnel!A:A,0)),\"وجود ندارد\",LOOKUP(A6007,Personnel!A:A,Personnel!C:C)))","v":" "},null,null,null,null,null,null,null,null,"","",1,0," "," ",""," "," ","",null," "," ",",,,,,,,,,,,,"]
[null,{"$f":"IF(A6019=0,\" \",IF(ISNA(MATCH(A6019,Personnel!A:A,0)),\"وجود ندارد\",LOOKUP(A6019,Personnel!A:A,Personnel!B:B)))","v":" "},{"$f":"IF(A6019=0,\" \",IF(ISNA(MATCH(A6019,Personnel!A:A,0)),\"وجود ندارد\",LOOKUP(A6019,Personnel!A:A,Personnel!C:C)))","v":" "},null,null,null,null,null,null,null,null,{"$f":"IF(K6019=0,\"\",IF(K6019=1,\"ایجاد\",IF(K6019=2,\"اصلاح\",\"حذف\")))","v":""},{"$f":"IF(AND(K6019=3,H6019+I6019+J6019+F6019+G6019<>0),\"برای عمل حذف اطلاعات اضافی وارد شده است\",\"\")","v":""},{"$f":"IF(AND(K6019<>3,F6019<900000),1,0)","v":1},{"$f":"IF(F6019>991231,1,0)","v":0}," "," ",{"$f":"IF(AND(A6019=0,H6019+I6019+J6019+F6019+G6019+K6019+E6019+D6019<>0),\"در این ردیف شماره پرسنلی وجود ندارد اما اطلاعات دیگر وارد شده است\",\"\")","v":""},{"$f":"IF(A6019=0,\" \",IF(D6019=0,\"کد وام وارد نشده است\",\"\"))","v":" "}," ",{"$f":"IF(AND(OR(K6019=1,K6019=2),H6019=0),\"مبلغ قسط نمی تواند خالی باشد\",\"\")","v":""},null,{"$f":"IF(AND(A6019=0,A6020<>0),\"دراین ردیف اصلاحاتی وجود ندارد . لطفا ردیفی را خالی باقی نگذارید\",IF(AND(A6019=0,R6019=\"\"),\" \",IF(M6019&\",\"&P6019&\",\"&Q6019&\",\"&R6019&\",\"&S6019&\",\"&T6019&\",\"&U6019=\",,,,,,\",\"صحیح\",M6019&\",\"&P6019&\",\"&Q6019&\",\"&R6019&\",\"&S6019&\",\"&T6019&\",\"&U6019)))","v":" "},{"$f":"IF(AND(ROW(X6019)>$Z$2,W6019=\" \"),\" \",IF(W6019=\" \",IF(AND(A6019=0,$Z$2<>$Z$4),\"دراین ردیف اصلاحاتی وجود ندارد . لطفا ردیفی را خالی نگذارید\",W6019),W6019))","v":" "},{"$f":"CONCATENATE(A6019,\",\",D6019,\",\",E6019,\",\",F6019,\",\",G6019,\",\",H6019,\",\",I6019,\",\",K6019,\",\",,\",\",J6019,\",\",\",\",V6019,\",\")","v":",,,,,,,,,,,,"}]
[null,{"$f":"IF(A6026=0,\" \",IF(ISNA(MATCH(A6026,Personnel!A:A,0)),\"وجود ندارد\",LOOKUP(A6026,Personnel!A:A,Personnel!B:B)))","v":" "},{"$f":"IF(A6026=0,\" \",IF(ISNA(MATCH(A6026,Personnel!A:A,0)),\"وجود ندارد\",LOOKUP(A6026,Personnel!A:A,Personnel!C:C)))","v":" "},null,null,null,null,null,null,null,null,"","",1,0," "," ",""," "," ","",null," "," ",",,,,,,,,,,,,"]
[null,{"$f":"IF(A6038=0,\" \",IF(ISNA(MATCH(A6038,Personnel!A:A,0)),\"وجود ندارد\",LOOKUP(A6038,Personnel!A:A,Personnel!B:B)))","v":" "},{"$f":"IF(A6038=0,\" \",IF(ISNA(MATCH(A6038,Personnel!A:A,0)),\"وجود ندارد\",LOOKUP(A6038,Personnel!A:A,Personnel!C:C)))","v":" "},null,null,null,null,null,null,null,null,"","",1,0," "," ",""," "," ","",null," "," ",",,,,,,,,,,,,"]
[null,{"$f":"IF(A6047=0,\" \",IF(ISNA(MATCH(A6047,Personnel!A:A,0)),\"وجود ندارد\",LOOKUP(A6047,Personnel!A:A,Personnel!B:B)))","v":" "},{"$f":"IF(A6047=0,\" \",IF(ISNA(MATCH(A6047,Personnel!A:A,0)),\"وجود ندارد\",LOOKUP(A6047,Personnel!A:A,Personnel!C:C)))","v":" "},null,null,null,null,null,null,null,null,"","",1,0," "," ",""," "," ","",null," "," ",",,,,,,,,,,,,"]
[null,{"$f":"IF(A6056=0,\" \",IF(ISNA(MATCH(A6056,Personnel!A:A,0)),\"وجود ندارد\",LOOKUP(A6056,Personnel!A:A,Personnel!B:B)))","v":" "},{"$f":"IF(A6056=0,\" \",IF(ISNA(MATCH(A6056,Personnel!A:A,0)),\"وجود ندارد\",LOOKUP(A6056,Personnel!A:A,Personnel!C:C)))","v":" "},null,null,null,null,null,null,null,null,"","",1,0," "," ",""," "," ","",null," "," ",",,,,,,,,,,,,"]
[null,{"$f":"IF(A6059=0,\" \",IF(ISNA(MATCH(A6059,Personnel!A:A,0)),\"وجود ندارد\",LOOKUP(A6059,Personnel!A:A,Personnel!B:B)))","v":" "},{"$f":"IF(A6059=0,\" \",IF(ISNA(MATCH(A6059,Personnel!A:A,0)),\"وجود ندارد\",LOOKUP(A6059,Personnel!A:A,Personnel!C:C)))","v":" "},null,null,null,null,null,null,null,null,"","",1,0," "," ",""," "," ","",null," "," ",",,,,,,,,,,,,"]
[null,{"$f":"IF(A6075=0,\" \",IF(ISNA(MATCH(A6075,Personnel!A:A,0)),\"وجود ندارد\",LOOKUP(A6075,Personnel!A:A,Personnel!B:B)))","v":" "},{"$f":"IF(A6075=0,\" \",IF(ISNA(MATCH(A6075,Personnel!A:A,0)),\"وجود ندارد\",LOOKUP(A6075,Personnel!A:A,Personnel!C:C)))","v":" "},null,null,null,null,null,null,null,null,"","",1,0," "," ",""," "," ","",null," "," ",",,,,,,,,,,,,"]
[null,{"$f":"IF(A6078=0,\" \",IF(ISNA(MATCH(A6078,Personnel!A:A,0)),\"وجود ندارد\",LOOKUP(A6078,Personnel!A:A,Personnel!B:B)))","v":" "},{"$f":"IF(A6078=0,\" \",IF(ISNA(MATCH(A6078,Personnel!A:A,0)),\"وجود ندارد\",LOOKUP(A6078,Personnel!A:A,Personnel!C:C)))","v":" "},null,null,null,null,null,null,null,null,"","",1,0," "," ",""," "," ","",null," "," ",",,,,,,,,,,,,"]
[null,{"$f":"IF(A6088=0,\" \",IF(ISNA(MATCH(A6088,Personnel!A:A,0)),\"وجود ندارد\",LOOKUP(A6088,Personnel!A:A,Personnel!B:B)))","v":" "},{"$f":"IF(A6088=0,\" \",IF(ISNA(MATCH(A6088,Personnel!A:A,0)),\"وجود ندارد\",LOOKUP(A6088,Personnel!A:A,Personnel!C:C)))","v":" "},null,null,null,null,null,null,null,null,"","",1,0," "," ",""," "," ","",null," "," ",",,,,,,,,,,,,"]
[null,{"$f":"IF(A6096=0,\" \",IF(ISNA(MATCH(A6096,Personnel!A:A,0)),\"وجود ندارد\",LOOKUP(A6096,Personnel!A:A,Personnel!B:B)))","v":" "},{"$f":"IF(A6096=0,\" \",IF(ISNA(MATCH(A6096,Personnel!A:A,0)),\"وجود ندارد\",LOOKUP(A6096,Personnel!A:A,Personnel!C:C)))","v":" "},null,null,null,null,null,null,null,null,"","",1,0," "," ",""," "," ","",null," "," ",",,,,,,,,,,,,"]
[null,{"$f":"IF(A6108=0,\" \",IF(ISNA(MATCH(A6108,Personnel!A:A,0)),\"وجود ندارد\",LOOKUP(A6108,Personnel!A:A,Personnel!B:B)))","v":" "},{"$f":"IF(A6108=0,\" \",IF(ISNA(MATCH(A6108,Personnel!A:A,0)),\"وجود ندارد\",LOOKUP(A6108,Personnel!A:A,Personnel!C:C)))","v":" "},null,null,null,null,null,null,null,null,"","",1,0," "," ",""," "," ","",null," "," ",",,,,,,,,,,,,"]
[null,{"$f":"IF(A6111=0,\" \",IF(ISNA(MATCH(A6111,Personnel!A:A,0)),\"وجود ندارد\",LOOKUP(A6111,Personnel!A:A,Personnel!B:B)))","v":" "},{"$f":"IF(A6111=0,\" \",IF(ISNA(MATCH(A6111,Personnel!A:A,0)),\"وجود ندارد\",LOOKUP(A6111,Personnel!A:A,Personnel!C:C)))","v":" "},null,null,null,null,null,null,null,null,"","",1,0," "," ",""," "," ","",null," "," ",",,,,,,,,,,,,"]
[null,{"$f":"IF(A6127=0,\" \",IF(ISNA(MATCH(A6127,Personnel!A:A,0)),\"وجود ندارد\",LOOKUP(A6127,Personnel!A:A,Personnel!B:B)))","v":" "},{"$f":"IF(A6127=0,\" \",IF(ISNA(MATCH(A6127,Personnel!A:A,0)),\"وجود ندارد\",LOOKUP(A6127,Personnel!A:A,Personnel!C:C)))","v":" "},null,null,null,null,null,null,null,null,"","",1,0," "," ",""," "," ","",null," "," ",",,,,,,,,,,,,"]
[null,{"$f":"IF(A6129=0,\" \",IF(ISNA(MATCH(A6129,Personnel!A:A,0)),\"وجود ندارد\",LOOKUP(A6129,Personnel!A:A,Personnel!B:B)))","v":" "},{"$f":"IF(A6129=0,\" \",IF(ISNA(MATCH(A6129,Personnel!A:A,0)),\"وجود ندارد\",LOOKUP(A6129,Personnel!A:A,Personnel!C:C)))","v":" "},null,null,null,null,null,null,null,null,"","",1,0," "," ",""," "," ","",null," "," ",",,,,,,,,,,,,"]
[null,{"$f":"IF(A6145=0,\" \",IF(ISNA(MATCH(A6145,Personnel!A:A,0)),\"وجود ندارد\",LOOKUP(A6145,Personnel!A:A,Personnel!B:B)))","v":" "},{"$f":"IF(A6145=0,\" \",IF(ISNA(MATCH(A6145,Personnel!A:A,0)),\"وجود ندارد\",LOOKUP(A6145,Personnel!A:A,Personnel!C:C)))","v":" "},null,null,null,null,null,null,null,null,"","",1,0," "," ",""," "," ","",null," "," ",",,,,,,,,,,,,"]
[null,{"$f":"IF(A6148=0,\" \",IF(ISNA(MATCH(A6148,Personnel!A:A,0)),\"وجود ندارد\",LOOKUP(A6148,Personnel!A:A,Personnel!B:B)))","v":" "},{"$f":"IF(A6148=0,\" \",IF(ISNA(MATCH(A6148,Personnel!A:A,0)),\"وجود ندارد\",LOOKUP(A6148,Personnel!A:A,Personnel!C:C)))","v":" "},null,null,null,null,null,null,null,null,"","",1,0," "," ",""," "," ","",null," "," ",",,,,,,,,,,,,"]
[null,{"$f":"IF(A6160=0,\" \",IF(ISNA(MATCH(A6160,Personnel!A:A,0)),\"وجود ندارد\",LOOKUP(A6160,Personnel!A:A,Personnel!B:B)))","v":" "},{"$f":"IF(A6160=0,\" \",IF(ISNA(MATCH(A6160,Personnel!A:A,0)),\"وجود ندارد\",LOOKUP(A6160,Personnel!A:A,Personnel!C:C)))","v":" "},null,null,null,null,null,null,null,null,"","",1,0," "," ",""," "," ","",null," "," ",",,,,,,,,,,,,"]
[null,{"$f":"IF(A6167=0,\" \",IF(ISNA(MATCH(A6167,Personnel!A:A,0)),\"وجود ندارد\",LOOKUP(A6167,Personnel!A:A,Personnel!B:B)))","v":" "},{"$f":"IF(A6167=0,\" \",IF(ISNA(MATCH(A6167,Personnel!A:A,0)),\"وجود ندارد\",LOOKUP(A6167,Personnel!A:A,Personnel!C:C)))","v":" "},null,null,null,null,null,null,null,null,"","",1,0," "," ",""," "," ","",null," "," ",",,,,,,,,,,,,"]
[null,{"$f":"IF(A6178=0,\" \",IF(ISNA(MATCH(A6178,Personnel!A:A,0)),\"وجود ندارد\",LOOKUP(A6178,Personnel!A:A,Personnel!B:B)))","v":" "},{"$f":"IF(A6178=0,\" \",IF(ISNA(MATCH(A6178,Personnel!A:A,0)),\"وجود ندارد\",LOOKUP(A6178,Personnel!A:A,Personnel!C:C)))","v":" "},null,null,null,null,null,null,null,null,"","",1,0," "," ",""," "," ","",null," "," ",",,,,,,,,,,,,"]
[null,{"$f":"IF(A6181=0,\" \",IF(ISNA(MATCH(A6181,Personnel!A:A,0)),\"وجود ندارد\",LOOKUP(A6181,Personnel!A:A,Personnel!B:B)))","v":" "},{"$f":"IF(A6181=0,\" \",IF(ISNA(MATCH(A6181,Personnel!A:A,0)),\"وجود ندارد\",LOOKUP(A6181,Personnel!A:A,Personnel!C:C)))","v":" "},null,null,null,null,null,null,null,null,"","",1,0," "," ",""," "," ","",null," "," ",",,,,,,,,,,,,"]
[null,{"$f":"IF(A6197=0,\" \",IF(ISNA(MATCH(A6197,Personnel!A:A,0)),\"وجود ندارد\",LOOKUP(A6197,Personnel!A:A,Personnel!B:B)))","v":" "},{"$f":"IF(A6197=0,\" \",IF(ISNA(MATCH(A6197,Personnel!A:A,0)),\"وجود ندارد\",LOOKUP(A6197,Personnel!A:A,Personnel!C:C)))","v":" "},null,null,null,null,null,null,null,null,"","",1,0," "," ",""," "," ","",null," "," ",",,,,,,,,,,,,"]
[null,{"$f":"IF(A6200=0,\" \",IF(ISNA(MATCH(A6200,Personnel!A:A,0)),\"وجود ندارد\",LOOKUP(A6200,Personnel!A:A,Personnel!B:B)))","v":" "},{"$f":"IF(A6200=0,\" \",IF(ISNA(MATCH(A6200,Personnel!A:A,0)),\"وجود ندارد\",LOOKUP(A6200,Personnel!A:A,Personnel!C:C)))","v":" "},null,null,null,null,null,null,null,null,"","",1,0," "," ",""," "," ","",null," "," ",",,,,,,,,,,,,"]
[null,{"$f":"IF(A6216=0,\" \",IF(ISNA(MATCH(A6216,Personnel!A:A,0)),\"وجود ندارد\",LOOKUP(A6216,Personnel!A:A,Personnel!B:B)))","v":" "},{"$f":"IF(A6216=0,\" \",IF(ISNA(MATCH(A6216,Personnel!A:A,0)),\"وجود ندارد\",LOOKUP(A6216,Personnel!A:A,Personnel!C:C)))","v":" "},null,null,null,null,null,null,null,null,"","",1,0," "," ",""," "," ","",null," "," ",",,,,,,,,,,,,"]
[null,{"$f":"IF(A6219=0,\" \",IF(ISNA(MATCH(A6219,Personnel!A:A,0)),\"وجود ندارد\",LOOKUP(A6219,Personnel!A:A,Personnel!B:B)))","v":" "},{"$f":"IF(A6219=0,\" \",IF(ISNA(MATCH(A6219,Personnel!A:A,0)),\"وجود ندارد\",LOOKUP(A6219,Personnel!A:A,Personnel!C:C)))","v":" "},null,null,null,null,null,null,null,null,"","",1,0," "," ",""," "," ","",null," "," ",",,,,,,,,,,,,"]
[null,{"$f":"IF(A6230=0,\" \",IF(ISNA(MATCH(A6230,Personnel!A:A,0)),\"وجود ندارد\",LOOKUP(A6230,Personnel!A:A,Personnel!B:B)))","v":" "},{"$f":"IF(A6230=0,\" \",IF(ISNA(MATCH(A6230,Personnel!A:A,0)),\"وجود ندارد\",LOOKUP(A6230,Personnel!A:A,Personnel!C:C)))","v":" "},null,null,null,null,null,null,null,null,"","",1,0," "," ",""," "," ","",null," "," ",",,,,,,,,,,,,"]
[null,{"$f":"IF(A6237=0,\" \",IF(ISNA(MATCH(A6237,Personnel!A:A,0)),\"وجود ندارد\",LOOKUP(A6237,Personnel!A:A,Personnel!B:B)))","v":" "},{"$f":"IF(A6237=0,\" \",IF(ISNA(MATCH(A6237,Personnel!A:A,0)),\"وجود ندارد\",LOOKUP(A6237,Personnel!A:A,Personnel!C:C)))","v":" "},null,null,null,null,null,null,null,null,"","",1,0," "," ",""," "," ","",null," "," ",",,,,,,,,,,,,"]
[null,{"$f":"IF(A6249=0,\" \",IF(ISNA(MATCH(A6249,Personnel!A:A,0)),\"وجود ندارد\",LOOKUP(A6249,Personnel!A:A,Personnel!B:B)))","v":" "},{"$f":"IF(A6249=0,\" \",IF(ISNA(MATCH(A6249,Personnel!A:A,0)),\"وجود ندارد\",LOOKUP(A6249,Personnel!A:A,Personnel!C:C)))","v":" "},null,null,null,null,null,null,null,null,"","",1,0," "," ",""," "," ","",null," "," ",",,,,,,,,,,,,"]
[null,{"$f":"IF(A6256=0,\" \",IF(ISNA(MATCH(A6256,Personnel!A:A,0)),\"وجود ندارد\",LOOKUP(A6256,Personnel!A:A,Personnel!B:B)))","v":" "},{"$f":"IF(A6256=0,\" \",IF(ISNA(MATCH(A6256,Personnel!A:A,0)),\"وجود ندارد\",LOOKUP(A6256,Personnel!A:A,Personnel!C:C)))","v":" "},null,null,null,null,null,null,null,null,"","",1,0," "," ",""," "," ","",null," "," ",",,,,,,,,,,,,"]
[null,{"$f":"IF(A6268=0,\" \",IF(ISNA(MATCH(A6268,Personnel!A:A,0)),\"وجود ندارد\",LOOKUP(A6268,Personnel!A:A,Personnel!B:B)))","v":" "},{"$f":"IF(A6268=0,\" \",IF(ISNA(MATCH(A6268,Personnel!A:A,0)),\"وجود ندارد\",LOOKUP(A6268,Personnel!A:A,Personnel!C:C)))","v":" "},null,null,null,null,null,null,null,null,"","",1,0," "," ",""," "," ","",null," "," ",",,,,,,,,,,,,"]
[null,{"$f":"IF(A6270=0,\" \",IF(ISNA(MATCH(A6270,Personnel!A:A,0)),\"وجود ندارد\",LOOKUP(A6270,Personnel!A:A,Personnel!B:B)))","v":" "},{"$f":"IF(A6270=0,\" \",IF(ISNA(MATCH(A6270,Personnel!A:A,0)),\"وجود ندارد\",LOOKUP(A6270,Personnel!A:A,Personnel!C:C)))","v":" "},null,null,null,null,null,null,null,null,"","",1,0," "," ",""," "," ","",null," "," ",",,,,,,,,,,,,"]
[null,{"$f":"IF(A6286=0,\" \",IF(ISNA(MATCH(A6286,Personnel!A:A,0)),\"وجود ندارد\",LOOKUP(A6286,Personnel!A:A,Personnel!B:B)))","v":" "},{"$f":"IF(A6286=0,\" \",IF(ISNA(MATCH(A6286,Personnel!A:A,0)),\"وجود ندارد\",LOOKUP(A6286,Personnel!A:A,Personnel!C:C)))","v":" "},null,null,null,null,null,null,null,null,"","",1,0," "," ",""," "," ","",null," "," ",",,,,,,,,,,,,"]
[null,{"$f":"IF(A6289=0,\" \",IF(ISNA(MATCH(A6289,Personnel!A:A,0)),\"وجود ندارد\",LOOKUP(A6289,Personnel!A:A,Personnel!B:B)))","v":" "},{"$f":"IF(A6289=0,\" \",IF(ISNA(MATCH(A6289,Personnel!A:A,0)),\"وجود ندارد\",LOOKUP(A6289,Personnel!A:A,Personnel!C:C)))","v":" "},null,null,null,null,null,null,null,null,"","",1,0," "," ",""," "," ","",null," "," ",",,,,,,,,,,,,"]
[null,{"$f":"IF(A6299=0,\" \",IF(ISNA(MATCH(A6299,Personnel!A:A,0)),\"وجود ندارد\",LOOKUP(A6299,Personnel!A:A,Personnel!B:B)))","v":" "},{"$f":"IF(A6299=0,\" \",IF(ISNA(MATCH(A6299,Personnel!A:A,0)),\"وجود ندارد\",LOOKUP(A6299,Personnel!A:A,Personnel!C:C)))","v":" "},null,null,null,null,null,null,null,null,"","",1,0," "," ",""," "," ","",null," "," ",",,,,,,,,,,,,"]
[null,{"$f":"IF(A6307=0,\" \",IF(ISNA(MATCH(A6307,Personnel!A:A,0)),\"وجود ندارد\",LOOKUP(A6307,Personnel!A:A,Personnel!B:B)))","v":" "},{"$f":"IF(A6307=0,\" \",IF(ISNA(MATCH(A6307,Personnel!A:A,0)),\"وجود ندارد\",LOOKUP(A6307,Personnel!A:A,Personnel!C:C)))","v":" "},null,null,null,null,null,null,null,null,"","",1,0," "," ",""," "," ","",null," "," ",",,,,,,,,,,,,"]
[null,{"$f":"IF(A6319=0,\" \",IF(ISNA(MATCH(A6319,Personnel!A:A,0)),\"وجود ندارد\",LOOKUP(A6319,Personnel!A:A,Personnel!B:B)))","v":" "},{"$f":"IF(A6319=0,\" \",IF(ISNA(MATCH(A6319,Personnel!A:A,0)),\"وجود ندارد\",LOOKUP(A6319,Personnel!A:A,Personnel!C:C)))","v":" "},null,null,null,null,null,null,null,null,"","",1,0," "," ",""," "," ","",null," "," ",",,,,,,,,,,,,"]
[null,{"$f":"IF(A6326=0,\" \",IF(ISNA(MATCH(A6326,Personnel!A:A,0)),\"وجود ندارد\",LOOKUP(A6326,Personnel!A:A,Personnel!B:B)))","v":" "},{"$f":"IF(A6326=0,\" \",IF(ISNA(MATCH(A6326,Personnel!A:A,0)),\"وجود ندارد\",LOOKUP(A6326,Personnel!A:A,Personnel!C:C)))","v":" "},null,null,null,null,null,null,null,null,"","",1,0," "," ",""," "," ","",null," "," ",",,,,,,,,,,,,"]
[null,{"$f":"IF(A6338=0,\" \",IF(ISNA(MATCH(A6338,Personnel!A:A,0)),\"وجود ندارد\",LOOKUP(A6338,Personnel!A:A,Personnel!B:B)))","v":" "},{"$f":"IF(A6338=0,\" \",IF(ISNA(MATCH(A6338,Personnel!A:A,0)),\"وجود ندارد\",LOOKUP(A6338,Personnel!A:A,Personnel!C:C)))","v":" "},null,null,null,null,null,null,null,null,"","",1,0,{"$f":"IF(A6338=0,\" \",IF(N6338+O6338<>0,\"تاریخ اشتباه است\",\"\"))","v":" "},{"$f":"IF(A6338=0,\" \",IF(AND(G6338<>0,H6338>G6338),\"مبلغ قسط از مبلغ کل بیشتر است\",\"\"))","v":" "},""," ",{"$f":"IF(A6338=0,\" \",IF(OR(K6338<1,K6338>3),\"نوع عمل اشتباه است\",\"\"))","v":" "},"",null," "," ",",,,,,,,,,,,,"]
[null,{"$f":"IF(A6340=0,\" \",IF(ISNA(MATCH(A6340,Personnel!A:A,0)),\"وجود ندارد\",LOOKUP(A6340,Personnel!A:A,Personnel!B:B)))","v":" "},{"$f":"IF(A6340=0,\" \",IF(ISNA(MATCH(A6340,Personnel!A:A,0)),\"وجود ندارد\",LOOKUP(A6340,Personnel!A:A,Personnel!C:C)))","v":" "},null,null,null,null,null,null,null,null,"","",1,0," "," ",""," "," ","",null," "," ",",,,,,,,,,,,,"]
[null,{"$f":"IF(A6356=0,\" \",IF(ISNA(MATCH(A6356,Personnel!A:A,0)),\"وجود ندارد\",LOOKUP(A6356,Personnel!A:A,Personnel!B:B)))","v":" "},{"$f":"IF(A6356=0,\" \",IF(ISNA(MATCH(A6356,Personnel!A:A,0)),\"وجود ندارد\",LOOKUP(A6356,Personnel!A:A,Personnel!C:C)))","v":" "},null,null,null,null,null,null,null,null,"","",1,0," "," ",""," "," ","",null," "," ",",,,,,,,,,,,,"]
[null,{"$f":"IF(A6359=0,\" \",IF(ISNA(MATCH(A6359,Personnel!A:A,0)),\"وجود ندارد\",LOOKUP(A6359,Personnel!A:A,Personnel!B:B)))","v":" "},{"$f":"IF(A6359=0,\" \",IF(ISNA(MATCH(A6359,Personnel!A:A,0)),\"وجود ندارد\",LOOKUP(A6359,Personnel!A:A,Personnel!C:C)))","v":" "},null,null,null,null,null,null,null,null,"","",1,0," "," ",""," "," ","",null," "," ",",,,,,,,,,,,,"]
[null,{"$f":"IF(A6371=0,\" \",IF(ISNA(MATCH(A6371,Personnel!A:A,0)),\"وجود ندارد\",LOOKUP(A6371,Personnel!A:A,Personnel!B:B)))","v":" "},{"$f":"IF(A6371=0,\" \",IF(ISNA(MATCH(A6371,Personnel!A:A,0)),\"وجود ندارد\",LOOKUP(A6371,Personnel!A:A,Personnel!C:C)))","v":" "},null,null,null,null,null,null,null,null,"","",1,0," "," ",""," "," ","",null," "," ",",,,,,,,,,,,,"]
[null,{"$f":"IF(A6378=0,\" \",IF(ISNA(MATCH(A6378,Personnel!A:A,0)),\"وجود ندارد\",LOOKUP(A6378,Personnel!A:A,Personnel!B:B)))","v":" "},{"$f":"IF(A6378=0,\" \",IF(ISNA(MATCH(A6378,Personnel!A:A,0)),\"وجود ندارد\",LOOKUP(A6378,Personnel!A:A,Personnel!C:C)))","v":" "},null,null,null,null,null,null,null,null,"","",1,0," "," ",""," "," ","",null," "," ",",,,,,,,,,,,,"]
[null,{"$f":"IF(A6389=0,\" \",IF(ISNA(MATCH(A6389,Personnel!A:A,0)),\"وجود ندارد\",LOOKUP(A6389,Personnel!A:A,Personnel!B:B)))","v":" "},{"$f":"IF(A6389=0,\" \",IF(ISNA(MATCH(A6389,Personnel!A:A,0)),\"وجود ندارد\",LOOKUP(A6389,Personnel!A:A,Personnel!C:C)))","v":" "},null,null,null,null,null,null,null,null,"","",1,0," "," ",""," "," ","",null," "," ",",,,,,,,,,,,,"]
[null,{"$f":"IF(A6396=0,\" \",IF(ISNA(MATCH(A6396,Personnel!A:A,0)),\"وجود ندارد\",LOOKUP(A6396,Personnel!A:A,Personnel!B:B)))","v":" "},{"$f":"IF(A6396=0,\" \",IF(ISNA(MATCH(A6396,Personnel!A:A,0)),\"وجود ندارد\",LOOKUP(A6396,Personnel!A:A,Personnel!C:C)))","v":" "},null,null,null,null,null,null,null,null,"","",1,0," "," ",""," "," ","",null," "," ",",,,,,,,,,,,,"]
[null,{"$f":"IF(A6408=0,\" \",IF(ISNA(MATCH(A6408,Personnel!A:A,0)),\"وجود ندارد\",LOOKUP(A6408,Personnel!A:A,Personnel!B:B)))","v":" "},{"$f":"IF(A6408=0,\" \",IF(ISNA(MATCH(A6408,Personnel!A:A,0)),\"وجود ندارد\",LOOKUP(A6408,Personnel!A:A,Personnel!C:C)))","v":" "},null,null,null,null,null,null,null,null,"","",1,0," "," ",""," "," ","",null," "," ",",,,,,,,,,,,,"]
[null,{"$f":"IF(A6411=0,\" \",IF(ISNA(MATCH(A6411,Personnel!A:A,0)),\"وجود ندارد\",LOOKUP(A6411,Personnel!A:A,Personnel!B:B)))","v":" "},{"$f":"IF(A6411=0,\" \",IF(ISNA(MATCH(A6411,Personnel!A:A,0)),\"وجود ندارد\",LOOKUP(A6411,Personnel!A:A,Personnel!C:C)))","v":" "},null,null,null,null,null,null,null,null,"","",1,0," "," ",""," "," ","",null," "," ",",,,,,,,,,,,,"]
[null,{"$f":"IF(A6427=0,\" \",IF(ISNA(MATCH(A6427,Personnel!A:A,0)),\"وجود ندارد\",LOOKUP(A6427,Personnel!A:A,Personnel!B:B)))","v":" "},{"$f":"IF(A6427=0,\" \",IF(ISNA(MATCH(A6427,Personnel!A:A,0)),\"وجود ندارد\",LOOKUP(A6427,Personnel!A:A,Personnel!C:C)))","v":" "},null,null,null,null,null,null,null,null,"","",1,0," "," ",""," "," ","",null," "," ",",,,,,,,,,,,,"]
[null,{"$f":"IF(A6430=0,\" \",IF(ISNA(MATCH(A6430,Personnel!A:A,0)),\"وجود ندارد\",LOOKUP(A6430,Personnel!A:A,Personnel!B:B)))","v":" "},{"$f":"IF(A6430=0,\" \",IF(ISNA(MATCH(A6430,Personnel!A:A,0)),\"وجود ندارد\",LOOKUP(A6430,Personnel!A:A,Personnel!C:C)))","v":" "},null,null,null,null,null,null,null,null,"","",1,0," "," ",""," "," ","",null," "," ",",,,,,,,,,,,,"]
[null,{"$f":"IF(A6436=0,\" \",IF(ISNA(MATCH(A6436,Personnel!A:A,0)),\"وجود ندارد\",LOOKUP(A6436,Personnel!A:A,Personnel!B:B)))","v":" "},{"$f":"IF(A6436=0,\" \",IF(ISNA(MATCH(A6436,Personnel!A:A,0)),\"وجود ندارد\",LOOKUP(A6436,Personnel!A:A,Personnel!C:C)))","v":" "},null,null,null,null,null,null,null,null,"","",1,0," "," ",""," "," ","",null," "," ",",,,,,,,,,,,,"]
[null,{"$f":"IF(A6448=0,\" \",IF(ISNA(MATCH(A6448,Personnel!A:A,0)),\"وجود ندارد\",LOOKUP(A6448,Personnel!A:A,Personnel!B:B)))","v":" "},{"$f":"IF(A6448=0,\" \",IF(ISNA(MATCH(A6448,Personnel!A:A,0)),\"وجود ندارد\",LOOKUP(A6448,Personnel!A:A,Personnel!C:C)))","v":" "},null,null,null,null,null,null,null,null,"","",1,0," "," ",""," "," ","",null," "," ",",,,,,,,,,,,,"]
[null,{"$f":"IF(A6460=0,\" \",IF(ISNA(MATCH(A6460,Personnel!A:A,0)),\"وجود ندارد\",LOOKUP(A6460,Personnel!A:A,Personnel!B:B)))","v":" "},{"$f":"IF(A6460=0,\" \",IF(ISNA(MATCH(A6460,Personnel!A:A,0)),\"وجود ندارد\",LOOKUP(A6460,Personnel!A:A,Personnel!C:C)))","v":" "},null,null,null,null,null,null,null,null,"","",1,0," "," ",""," "," ","",null," "," ",",,,,,,,,,,,,"]
[null,{"$f":"IF(A6467=0,\" \",IF(ISNA(MATCH(A6467,Personnel!A:A,0)),\"وجود ندارد\",LOOKUP(A6467,Personnel!A:A,Personnel!B:B)))","v":" "},{"$f":"IF(A6467=0,\" \",IF(ISNA(MATCH(A6467,Personnel!A:A,0)),\"وجود ندارد\",LOOKUP(A6467,Personnel!A:A,Personnel!C:C)))","v":" "},null,null,null,null,null,null,null,null,{"$f":"IF(K6467=0,\"\",IF(K6467=1,\"ایجاد\",IF(K6467=2,\"اصلاح\",\"حذف\")))","v":""},{"$f":"IF(AND(K6467=3,H6467+I6467+J6467+F6467+G6467<>0),\"برای عمل حذف اطلاعات اضافی وارد شده است\",\"\")","v":""},{"$f":"IF(AND(K6467<>3,F6467<900000),1,0)","v":1},{"$f":"IF(F6467>991231,1,0)","v":0}," "," ",{"$f":"IF(AND(A6467=0,H6467+I6467+J6467+F6467+G6467+K6467+E6467+D6467<>0),\"در این ردیف شماره پرسنلی وجود ندارد اما اطلاعات دیگر وارد شده است\",\"\")","v":""},{"$f":"IF(A6467=0,\" \",IF(D6467=0,\"کد وام وارد نشده است\",\"\"))","v":" "}," ",{"$f":"IF(AND(OR(K6467=1,K6467=2),H6467=0),\"مبلغ قسط نمی تواند خالی باشد\",\"\")","v":""},null,{"$f":"IF(AND(A6467=0,A6468<>0),\"دراین ردیف اصلاحاتی وجود ندارد . لطفا ردیفی را خالی باقی نگذارید\",IF(AND(A6467=0,R6467=\"\"),\" \",IF(M6467&\",\"&P6467&\",\"&Q6467&\",\"&R6467&\",\"&S6467&\",\"&T6467&\",\"&U6467=\",,,,,,\",\"صحیح\",M6467&\",\"&P6467&\",\"&Q6467&\",\"&R6467&\",\"&S6467&\",\"&T6467&\",\"&U6467)))","v":" "},{"$f":"IF(AND(ROW(X6467)>$Z$2,W6467=\" \"),\" \",IF(W6467=\" \",IF(AND(A6467=0,$Z$2<>$Z$4),\"دراین ردیف اصلاحاتی وجود ندارد . لطفا ردیفی را خالی نگذارید\",W6467),W6467))","v":" "},{"$f":"CONCATENATE(A6467,\",\",D6467,\",\",E6467,\",\",F6467,\",\",G6467,\",\",H6467,\",\",I6467,\",\",K6467,\",\",,\",\",J6467,\",\",\",\",V6467,\",\")","v":",,,,,,,,,,,,"}]
[null,{"$f":"IF(A6479=0,\" \",IF(ISNA(MATCH(A6479,Personnel!A:A,0)),\"وجود ندارد\",LOOKUP(A6479,Personnel!A:A,Personnel!B:B)))","v":" "},{"$f":"IF(A6479=0,\" \",IF(ISNA(MATCH(A6479,Personnel!A:A,0)),\"وجود ندارد\",LOOKUP(A6479,Personnel!A:A,Personnel!C:C)))","v":" "},null,null,null,null,null,null,null,null,"","",1,0," "," ",""," "," ","",null," "," ",",,,,,,,,,,,,"]
[null,{"$f":"IF(A6481=0,\" \",IF(ISNA(MATCH(A6481,Personnel!A:A,0)),\"وجود ندارد\",LOOKUP(A6481,Personnel!A:A,Personnel!B:B)))","v":" "},{"$f":"IF(A6481=0,\" \",IF(ISNA(MATCH(A6481,Personnel!A:A,0)),\"وجود ندارد\",LOOKUP(A6481,Personnel!A:A,Personnel!C:C)))","v":" "},null,null,null,null,null,null,null,null,"","",1,0," "," ",""," "," ","",null," "," ",",,,,,,,,,,,,"]
[null,{"$f":"IF(A6497=0,\" \",IF(ISNA(MATCH(A6497,Personnel!A:A,0)),\"وجود ندارد\",LOOKUP(A6497,Personnel!A:A,Personnel!B:B)))","v":" "},{"$f":"IF(A6497=0,\" \",IF(ISNA(MATCH(A6497,Personnel!A:A,0)),\"وجود ندارد\",LOOKUP(A6497,Personnel!A:A,Personnel!C:C)))","v":" "},null,null,null,null,null,null,null,null,"","",1,0," "," ",""," "," ","",null," "," ",",,,,,,,,,,,,"]
[null,{"$f":"IF(A6500=0,\" \",IF(ISNA(MATCH(A6500,Personnel!A:A,0)),\"وجود ندارد\",LOOKUP(A6500,Personnel!A:A,Personnel!B:B)))","v":" "},{"$f":"IF(A6500=0,\" \",IF(ISNA(MATCH(A6500,Personnel!A:A,0)),\"وجود ندارد\",LOOKUP(A6500,Personnel!A:A,Personnel!C:C)))","v":" "},null,null,null,null,null,null,null,null,"","",1,0," "," ",""," "," ","",null," "," ",",,,,,,,,,,,,"]
[null,{"$f":"IF(A6507=0,\" \",IF(ISNA(MATCH(A6507,Personnel!A:A,0)),\"وجود ندارد\",LOOKUP(A6507,Personnel!A:A,Personnel!B:B)))","v":" "},{"$f":"IF(A6507=0,\" \",IF(ISNA(MATCH(A6507,Personnel!A:A,0)),\"وجود ندارد\",LOOKUP(A6507,Personnel!A:A,Personnel!C:C)))","v":" "},null,null,null,null,null,null,null,null,"","",1,0," "," ",""," "," ","",null," "," ",",,,,,,,,,,,,"]
[null,{"$f":"IF(A6520=0,\" \",IF(ISNA(MATCH(A6520,Personnel!A:A,0)),\"وجود ندارد\",LOOKUP(A6520,Personnel!A:A,Personnel!B:B)))","v":" "},{"$f":"IF(A6520=0,\" \",IF(ISNA(MATCH(A6520,Personnel!A:A,0)),\"وجود ندارد\",LOOKUP(A6520,Personnel!A:A,Personnel!C:C)))","v":" "},null,null,null,null,null,null,null,null,"","",1,0," "," ",""," "," ","",null," "," ",",,,,,,,,,,,,"]
[null,{"$f":"IF(A6530=0,\" \",IF(ISNA(MATCH(A6530,Personnel!A:A,0)),\"وجود ندارد\",LOOKUP(A6530,Personnel!A:A,Personnel!B:B)))","v":" "},{"$f":"IF(A6530=0,\" \",IF(ISNA(MATCH(A6530,Personnel!A:A,0)),\"وجود ندارد\",LOOKUP(A6530,Personnel!A:A,Personnel!C:C)))","v":" "},null,null,null,null,null,null,null,null,"","",1,0,{"$f":"IF(A6530=0,\" \",IF(N6530+O6530<>0,\"تاریخ اشتباه است\",\"\"))","v":" "},{"$f":"IF(A6530=0,\" \",IF(AND(G6530<>0,H6530>G6530),\"مبلغ قسط از مبلغ کل بیشتر است\",\"\"))","v":" "},""," ",{"$f":"IF(A6530=0,\" \",IF(OR(K6530<1,K6530>3),\"نوع عمل اشتباه است\",\"\"))","v":" "},"",null," "," ",",,,,,,,,,,,,"]
[null,{"$f":"IF(A6537=0,\" \",IF(ISNA(MATCH(A6537,Personnel!A:A,0)),\"وجود ندارد\",LOOKUP(A6537,Personnel!A:A,Personnel!B:B)))","v":" "},{"$f":"IF(A6537=0,\" \",IF(ISNA(MATCH(A6537,Personnel!A:A,0)),\"وجود ندارد\",LOOKUP(A6537,Personnel!A:A,Personnel!C:C)))","v":" "},null,null,null,null,null,null,null,null,"","",1,0," "," ",""," "," ","",null," "," ",",,,,,,,,,,,,"]
[null,{"$f":"IF(A6549=0,\" \",IF(ISNA(MATCH(A6549,Personnel!A:A,0)),\"وجود ندارد\",LOOKUP(A6549,Personnel!A:A,Personnel!B:B)))","v":" "},{"$f":"IF(A6549=0,\" \",IF(ISNA(MATCH(A6549,Personnel!A:A,0)),\"وجود ندارد\",LOOKUP(A6549,Personnel!A:A,Personnel!C:C)))","v":" "},null,null,null,null,null,null,null,null,"","",1,0," "," ",""," "," ","",null," "," ",",,,,,,,,,,,,"]
[null,{"$f":"IF(A6556=0,\" \",IF(ISNA(MATCH(A6556,Personnel!A:A,0)),\"وجود ندارد\",LOOKUP(A6556,Personnel!A:A,Personnel!B:B)))","v":" "},{"$f":"IF(A6556=0,\" \",IF(ISNA(MATCH(A6556,Personnel!A:A,0)),\"وجود ندارد\",LOOKUP(A6556,Personnel!A:A,Personnel!C:C)))","v":" "},null,null,null,null,null,null,null,null,"","",1,0," "," ",""," "," ","",null," "," ",",,,,,,,,,,,,"]
[null,{"$f":"IF(A6561=0,\" \",IF(ISNA(MATCH(A6561,Personnel!A:A,0)),\"وجود ندارد\",LOOKUP(A6561,Personnel!A:A,Personnel!B:B)))","v":" "},{"$f":"IF(A6561=0,\" \",IF(ISNA(MATCH(A6561,Personnel!A:A,0)),\"وجود ندارد\",LOOKUP(A6561,Personnel!A:A,Personnel!C:C)))","v":" "},null,null,null,null,null,null,null,null,"","",1,0," "," ",""," "," ","",null," "," ",",,,,,,,,,,,,"]
[null,{"$f":"IF(A6570=0,\" \",IF(ISNA(MATCH(A6570,Personnel!A:A,0)),\"وجود ندارد\",LOOKUP(A6570,Personnel!A:A,Personnel!B:B)))","v":" "},{"$f":"IF(A6570=0,\" \",IF(ISNA(MATCH(A6570,Personnel!A:A,0)),\"وجود ندارد\",LOOKUP(A6570,Personnel!A:A,Personnel!C:C)))","v":" "},null,null,null,null,null,null,null,null,"","",1,0," "," ",""," "," ","",null," "," ",",,,,,,,,,,,,"]
[null,{"$f":"IF(A6577=0,\" \",IF(ISNA(MATCH(A6577,Personnel!A:A,0)),\"وجود ندارد\",LOOKUP(A6577,Personnel!A:A,Personnel!B:B)))","v":" "},{"$f":"IF(A6577=0,\" \",IF(ISNA(MATCH(A6577,Personnel!A:A,0)),\"وجود ندارد\",LOOKUP(A6577,Personnel!A:A,Personnel!C:C)))","v":" "},null,null,null,null,null,null,null,null,"","",1,0," "," ",""," "," ","",null," "," ",",,,,,,,,,,,,"]
[null,{"$f":"IF(A6589=0,\" \",IF(ISNA(MATCH(A6589,Personnel!A:A,0)),\"وجود ندارد\",LOOKUP(A6589,Personnel!A:A,Personnel!B:B)))","v":" "},{"$f":"IF(A6589=0,\" \",IF(ISNA(MATCH(A6589,Personnel!A:A,0)),\"وجود ندارد\",LOOKUP(A6589,Personnel!A:A,Personnel!C:C)))","v":" "},null,null,null,null,null,null,null,null,"","",1,0," "," ",""," "," ","",null," "," ",",,,,,,,,,,,,"]
[null,{"$f":"IF(A6601=0,\" \",IF(ISNA(MATCH(A6601,Personnel!A:A,0)),\"وجود ندارد\",LOOKUP(A6601,Personnel!A:A,Personnel!B:B)))","v":" "},{"$f":"IF(A6601=0,\" \",IF(ISNA(MATCH(A6601,Personnel!A:A,0)),\"وجود ندارد\",LOOKUP(A6601,Personnel!A:A,Personnel!C:C)))","v":" "},null,null,null,null,null,null,null,null,"","",1,0," "," ",""," "," ","",null," "," ",",,,,,,,,,,,,"]
[null,{"$f":"IF(A6610=0,\" \",IF(ISNA(MATCH(A6610,Personnel!A:A,0)),\"وجود ندارد\",LOOKUP(A6610,Personnel!A:A,Personnel!B:B)))","v":" "},{"$f":"IF(A6610=0,\" \",IF(ISNA(MATCH(A6610,Personnel!A:A,0)),\"وجود ندارد\",LOOKUP(A6610,Personnel!A:A,Personnel!C:C)))","v":" "},null,null,null,null,null,null,null,null,"","",1,0," "," ",""," "," ","",null," "," ",",,,,,,,,,,,,"]
[null,{"$f":"IF(A6619=0,\" \",IF(ISNA(MATCH(A6619,Personnel!A:A,0)),\"وجود ندارد\",LOOKUP(A6619,Personnel!A:A,Personnel!B:B)))","v":" "},{"$f":"IF(A6619=0,\" \",IF(ISNA(MATCH(A6619,Personnel!A:A,0)),\"وجود ندارد\",LOOKUP(A6619,Personnel!A:A,Personnel!C:C)))","v":" "},null,null,null,null,null,null,null,null,"","",1,0," "," ",""," "," ","",null," "," ",",,,,,,,,,,,,"]
[null,{"$f":"IF(A6626=0,\" \",IF(ISNA(MATCH(A6626,Personnel!A:A,0)),\"وجود ندارد\",LOOKUP(A6626,Personnel!A:A,Personnel!B:B)))","v":" "},{"$f":"IF(A6626=0,\" \",IF(ISNA(MATCH(A6626,Personnel!A:A,0)),\"وجود ندارد\",LOOKUP(A6626,Personnel!A:A,Personnel!C:C)))","v":" "},null,null,null,null,null,null,null,null,"","",1,0," "," ",""," "," ","",null," "," ",",,,,,,,,,,,,"]
[null,{"$f":"IF(A6638=0,\" \",IF(ISNA(MATCH(A6638,Personnel!A:A,0)),\"وجود ندارد\",LOOKUP(A6638,Personnel!A:A,Personnel!B:B)))","v":" "},{"$f":"IF(A6638=0,\" \",IF(ISNA(MATCH(A6638,Personnel!A:A,0)),\"وجود ندارد\",LOOKUP(A6638,Personnel!A:A,Personnel!C:C)))","v":" "},null,null,null,null,null,null,null,null,"","",1,0," "," ",""," "," ","",null," "," ",",,,,,,,,,,,,"]
[null,{"$f":"IF(A6641=0,\" \",IF(ISNA(MATCH(A6641,Personnel!A:A,0)),\"وجود ندارد\",LOOKUP(A6641,Personnel!A:A,Personnel!B:B)))","v":" "},{"$f":"IF(A6641=0,\" \",IF(ISNA(MATCH(A6641,Personnel!A:A,0)),\"وجود ندارد\",LOOKUP(A6641,Personnel!A:A,Personnel!C:C)))","v":" "},null,null,null,null,null,null,null,null,"","",1,0," "," ",""," "," ","",null," "," ",",,,,,,,,,,,,"]
[null,{"$f":"IF(A6651=0,\" \",IF(ISNA(MATCH(A6651,Personnel!A:A,0)),\"وجود ندارد\",LOOKUP(A6651,Personnel!A:A,Personnel!B:B)))","v":" "},{"$f":"IF(A6651=0,\" \",IF(ISNA(MATCH(A6651,Personnel!A:A,0)),\"وجود ندارد\",LOOKUP(A6651,Personnel!A:A,Personnel!C:C)))","v":" "},null,null,null,null,null,null,null,null,"","",1,0," "," ",""," "," ","",null," "," ",",,,,,,,,,,,,"]
[null,{"$f":"IF(A6659=0,\" \",IF(ISNA(MATCH(A6659,Personnel!A:A,0)),\"وجود ندارد\",LOOKUP(A6659,Personnel!A:A,Personnel!B:B)))","v":" "},{"$f":"IF(A6659=0,\" \",IF(ISNA(MATCH(A6659,Personnel!A:A,0)),\"وجود ندارد\",LOOKUP(A6659,Personnel!A:A,Personnel!C:C)))","v":" "},null,null,null,null,null,null,null,null,{"$f":"IF(K6659=0,\"\",IF(K6659=1,\"ایجاد\",IF(K6659=2,\"اصلاح\",\"حذف\")))","v":""},{"$f":"IF(AND(K6659=3,H6659+I6659+J6659+F6659+G6659<>0),\"برای عمل حذف اطلاعات اضافی وارد شده است\",\"\")","v":""},{"$f":"IF(AND(K6659<>3,F6659<900000),1,0)","v":1},{"$f":"IF(F6659>991231,1,0)","v":0}," "," ",{"$f":"IF(AND(A6659=0,H6659+I6659+J6659+F6659+G6659+K6659+E6659+D6659<>0),\"در این ردیف شماره پرسنلی وجود ندارد اما اطلاعات دیگر وارد شده است\",\"\")","v":""},{"$f":"IF(A6659=0,\" \",IF(D6659=0,\"کد وام وارد نشده است\",\"\"))","v":" "}," ",{"$f":"IF(AND(OR(K6659=1,K6659=2),H6659=0),\"مبلغ قسط نمی تواند خالی باشد\",\"\")","v":""},null,{"$f":"IF(AND(A6659=0,A6660<>0),\"دراین ردیف اصلاحاتی وجود ندارد . لطفا ردیفی را خالی باقی نگذارید\",IF(AND(A6659=0,R6659=\"\"),\" \",IF(M6659&\",\"&P6659&\",\"&Q6659&\",\"&R6659&\",\"&S6659&\",\"&T6659&\",\"&U6659=\",,,,,,\",\"صحیح\",M6659&\",\"&P6659&\",\"&Q6659&\",\"&R6659&\",\"&S6659&\",\"&T6659&\",\"&U6659)))","v":" "},{"$f":"IF(AND(ROW(X6659)>$Z$2,W6659=\" \"),\" \",IF(W6659=\" \",IF(AND(A6659=0,$Z$2<>$Z$4),\"دراین ردیف اصلاحاتی وجود ندارد . لطفا ردیفی را خالی نگذارید\",W6659),W6659))","v":" "},{"$f":"CONCATENATE(A6659,\",\",D6659,\",\",E6659,\",\",F6659,\",\",G6659,\",\",H6659,\",\",I6659,\",\",K6659,\",\",,\",\",J6659,\",\",\",\",V6659,\",\")","v":",,,,,,,,,,,,"}]
[null,{"$f":"IF(A6671=0,\" \",IF(ISNA(MATCH(A6671,Personnel!A:A,0)),\"وجود ندارد\",LOOKUP(A6671,Personnel!A:A,Personnel!B:B)))","v":" "},{"$f":"IF(A6671=0,\" \",IF(ISNA(MATCH(A6671,Personnel!A:A,0)),\"وجود ندارد\",LOOKUP(A6671,Personnel!A:A,Personnel!C:C)))","v":" "},null,null,null,null,null,null,null,null,"","",1,0," "," ",""," "," ","",null," "," ",",,,,,,,,,,,,"]
[null,{"$f":"IF(A6678=0,\" \",IF(ISNA(MATCH(A6678,Personnel!A:A,0)),\"وجود ندارد\",LOOKUP(A6678,Personnel!A:A,Personnel!B:B)))","v":" "},{"$f":"IF(A6678=0,\" \",IF(ISNA(MATCH(A6678,Personnel!A:A,0)),\"وجود ندارد\",LOOKUP(A6678,Personnel!A:A,Personnel!C:C)))","v":" "},null,null,null,null,null,null,null,null,"","",1,0," "," ",""," "," ","",null," "," ",",,,,,,,,,,,,"]
[null,{"$f":"IF(A6690=0,\" \",IF(ISNA(MATCH(A6690,Personnel!A:A,0)),\"وجود ندارد\",LOOKUP(A6690,Personnel!A:A,Personnel!B:B)))","v":" "},{"$f":"IF(A6690=0,\" \",IF(ISNA(MATCH(A6690,Personnel!A:A,0)),\"وجود ندارد\",LOOKUP(A6690,Personnel!A:A,Personnel!C:C)))","v":" "},null,null,null,null,null,null,null,null,"","",1,0," "," ",""," "," ","",null," "," ",",,,,,,,,,,,,"]
[null,{"$f":"IF(A6692=0,\" \",IF(ISNA(MATCH(A6692,Personnel!A:A,0)),\"وجود ندارد\",LOOKUP(A6692,Personnel!A:A,Personnel!B:B)))","v":" "},{"$f":"IF(A6692=0,\" \",IF(ISNA(MATCH(A6692,Personnel!A:A,0)),\"وجود ندارد\",LOOKUP(A6692,Personnel!A:A,Personnel!C:C)))","v":" "},null,null,null,null,null,null,null,null,"","",1,0," "," ",""," "," ","",null," "," ",",,,,,,,,,,,,"]
[null,{"$f":"IF(A6708=0,\" \",IF(ISNA(MATCH(A6708,Personnel!A:A,0)),\"وجود ندارد\",LOOKUP(A6708,Personnel!A:A,Personnel!B:B)))","v":" "},{"$f":"IF(A6708=0,\" \",IF(ISNA(MATCH(A6708,Personnel!A:A,0)),\"وجود ندارد\",LOOKUP(A6708,Personnel!A:A,Personnel!C:C)))","v":" "},null,null,null,null,null,null,null,null,"","",1,0," "," ",""," "," ","",null," "," ",",,,,,,,,,,,,"]
[null,{"$f":"IF(A6711=0,\" \",IF(ISNA(MATCH(A6711,Personnel!A:A,0)),\"وجود ندارد\",LOOKUP(A6711,Personnel!A:A,Personnel!B:B)))","v":" "},{"$f":"IF(A6711=0,\" \",IF(ISNA(MATCH(A6711,Personnel!A:A,0)),\"وجود ندارد\",LOOKUP(A6711,Personnel!A:A,Personnel!C:C)))","v":" "},null,null,null,null,null,null,null,null,"","",1,0," "," ",""," "," ","",null," "," ",",,,,,,,,,,,,"]
[null,{"$f":"IF(A6718=0,\" \",IF(ISNA(MATCH(A6718,Personnel!A:A,0)),\"وجود ندارد\",LOOKUP(A6718,Personnel!A:A,Personnel!B:B)))","v":" "},{"$f":"IF(A6718=0,\" \",IF(ISNA(MATCH(A6718,Personnel!A:A,0)),\"وجود ندارد\",LOOKUP(A6718,Personnel!A:A,Personnel!C:C)))","v":" "},null,null,null,null,null,null,null,null,"","",1,0," "," ",""," "," ","",null," "," ",",,,,,,,,,,,,"]
[null,{"$f":"IF(A6731=0,\" \",IF(ISNA(MATCH(A6731,Personnel!A:A,0)),\"وجود ندارد\",LOOKUP(A6731,Personnel!A:A,Personnel!B:B)))","v":" "},{"$f":"IF(A6731=0,\" \",IF(ISNA(MATCH(A6731,Personnel!A:A,0)),\"وجود ندارد\",LOOKUP(A6731,Personnel!A:A,Personnel!C:C)))","v":" "},null,null,null,null,null,null,null,null,"","",1,0," "," ",""," "," ","",null," "," ",",,,,,,,,,,,,"]
[null,{"$f":"IF(A6736=0,\" \",IF(ISNA(MATCH(A6736,Personnel!A:A,0)),\"وجود ندارد\",LOOKUP(A6736,Personnel!A:A,Personnel!B:B)))","v":" "},{"$f":"IF(A6736=0,\" \",IF(ISNA(MATCH(A6736,Personnel!A:A,0)),\"وجود ندارد\",LOOKUP(A6736,Personnel!A:A,Personnel!C:C)))","v":" "},null,null,null,null,null,null,null,null,"","",1,0," "," ",""," "," ","",null," "," ",",,,,,,,,,,,,"]
[null,{"$f":"IF(A6748=0,\" \",IF(ISNA(MATCH(A6748,Personnel!A:A,0)),\"وجود ندارد\",LOOKUP(A6748,Personnel!A:A,Personnel!B:B)))","v":" "},{"$f":"IF(A6748=0,\" \",IF(ISNA(MATCH(A6748,Personnel!A:A,0)),\"وجود ندارد\",LOOKUP(A6748,Personnel!A:A,Personnel!C:C)))","v":" "},null,null,null,null,null,null,null,null,"","",1,0," "," ",""," "," ","",null," "," ",",,,,,,,,,,,,"]
[null,{"$f":"IF(A6760=0,\" \",IF(ISNA(MATCH(A6760,Personnel!A:A,0)),\"وجود ندارد\",LOOKUP(A6760,Personnel!A:A,Personnel!B:B)))","v":" "},{"$f":"IF(A6760=0,\" \",IF(ISNA(MATCH(A6760,Personnel!A:A,0)),\"وجود ندارد\",LOOKUP(A6760,Personnel!A:A,Personnel!C:C)))","v":" "},null,null,null,null,null,null,null,null,"","",1,0," "," ",""," "," ","",null," "," ",",,,,,,,,,,,,"]
[null,{"$f":"IF(A6767=0,\" \",IF(ISNA(MATCH(A6767,Personnel!A:A,0)),\"وجود ندارد\",LOOKUP(A6767,Personnel!A:A,Personnel!B:B)))","v":" "},{"$f":"IF(A6767=0,\" \",IF(ISNA(MATCH(A6767,Personnel!A:A,0)),\"وجود ندارد\",LOOKUP(A6767,Personnel!A:A,Personnel!C:C)))","v":" "},null,null,null,null,null,null,null,null,"","",1,0," "," ",""," "," ","",null," "," ",",,,,,,,,,,,,"]
[null,{"$f":"IF(A6772=0,\" \",IF(ISNA(MATCH(A6772,Personnel!A:A,0)),\"وجود ندارد\",LOOKUP(A6772,Personnel!A:A,Personnel!B:B)))","v":" "},{"$f":"IF(A6772=0,\" \",IF(ISNA(MATCH(A6772,Personnel!A:A,0)),\"وجود ندارد\",LOOKUP(A6772,Personnel!A:A,Personnel!C:C)))","v":" "},null,null,null,null,null,null,null,null,"","",1,0," "," ",""," "," ","",null," "," ",",,,,,,,,,,,,"]
[null,{"$f":"IF(A6781=0,\" \",IF(ISNA(MATCH(A6781,Personnel!A:A,0)),\"وجود ندارد\",LOOKUP(A6781,Personnel!A:A,Personnel!B:B)))","v":" "},{"$f":"IF(A6781=0,\" \",IF(ISNA(MATCH(A6781,Personnel!A:A,0)),\"وجود ندارد\",LOOKUP(A6781,Personnel!A:A,Personnel!C:C)))","v":" "},null,null,null,null,null,null,null,null,"","",1,0," "," ",""," "," ","",null," "," ",",,,,,,,,,,,,"]
[null,{"$f":"IF(A6788=0,\" \",IF(ISNA(MATCH(A6788,Personnel!A:A,0)),\"وجود ندارد\",LOOKUP(A6788,Personnel!A:A,Personnel!B:B)))","v":" "},{"$f":"IF(A6788=0,\" \",IF(ISNA(MATCH(A6788,Personnel!A:A,0)),\"وجود ندارد\",LOOKUP(A6788,Personnel!A:A,Personnel!C:C)))","v":" "},null,null,null,null,null,null,null,null,"","",1,0," "," ",""," "," ","",null," "," ",",,,,,,,,,,,,"]
[null,{"$f":"IF(A6800=0,\" \",IF(ISNA(MATCH(A6800,Personnel!A:A,0)),\"وجود ندارد\",LOOKUP(A6800,Personnel!A:A,Personnel!B:B)))","v":" "},{"$f":"IF(A6800=0,\" \",IF(ISNA(MATCH(A6800,Personnel!A:A,0)),\"وجود ندارد\",LOOKUP(A6800,Personnel!A:A,Personnel!C:C)))","v":" "},null,null,null,null,null,null,null,null,"","",1,0," "," ",""," "," ","",null," "," ",",,,,,,,,,,,,"]
[null,{"$f":"IF(A6807=0,\" \",IF(ISNA(MATCH(A6807,Personnel!A:A,0)),\"وجود ندارد\",LOOKUP(A6807,Personnel!A:A,Personnel!B:B)))","v":" "},{"$f":"IF(A6807=0,\" \",IF(ISNA(MATCH(A6807,Personnel!A:A,0)),\"وجود ندارد\",LOOKUP(A6807,Personnel!A:A,Personnel!C:C)))","v":" "},null,null,null,null,null,null,null,null,"","",1,0," "," ",""," "," ","",null," "," ",",,,,,,,,,,,,"]
[null,{"$f":"IF(A6821=0,\" \",IF(ISNA(MATCH(A6821,Personnel!A:A,0)),\"وجود ندارد\",LOOKUP(A6821,Personnel!A:A,Personnel!B:B)))","v":" "},{"$f":"IF(A6821=0,\" \",IF(ISNA(MATCH(A6821,Personnel!A:A,0)),\"وجود ندارد\",LOOKUP(A6821,Personnel!A:A,Personnel!C:C)))","v":" "},null,null,null,null,null,null,null,null,"","",1,0," "," ",""," "," ","",null," "," ",",,,,,,,,,,,,"]
[null,{"$f":"IF(A6830=0,\" \",IF(ISNA(MATCH(A6830,Personnel!A:A,0)),\"وجود ندارد\",LOOKUP(A6830,Personnel!A:A,Personnel!B:B)))","v":" "},{"$f":"IF(A6830=0,\" \",IF(ISNA(MATCH(A6830,Personnel!A:A,0)),\"وجود ندارد\",LOOKUP(A6830,Personnel!A:A,Personnel!C:C)))","v":" "},null,null,null,null,null,null,null,null,"","",1,0," "," ",""," "," ","",null," "," ",",,,,,,,,,,,,"]
[null,{"$f":"IF(A6837=0,\" \",IF(ISNA(MATCH(A6837,Personnel!A:A,0)),\"وجود ندارد\",LOOKUP(A6837,Personnel!A:A,Personnel!B:B)))","v":" "},{"$f":"IF(A6837=0,\" \",IF(ISNA(MATCH(A6837,Personnel!A:A,0)),\"وجود ندارد\",LOOKUP(A6837,Personnel!A:A,Personnel!C:C)))","v":" "},null,null,null,null,null,null,null,null,"","",1,0," "," ",""," "," ","",null," "," ",",,,,,,,,,,,,"]
[null,{"$f":"IF(A6849=0,\" \",IF(ISNA(MATCH(A6849,Personnel!A:A,0)),\"وجود ندارد\",LOOKUP(A6849,Personnel!A:A,Personnel!B:B)))","v":" "},{"$f":"IF(A6849=0,\" \",IF(ISNA(MATCH(A6849,Personnel!A:A,0)),\"وجود ندارد\",LOOKUP(A6849,Personnel!A:A,Personnel!C:C)))","v":" "},null,null,null,null,null,null,null,null,"","",1,0," "," ",""," "," ","",null," "," ",",,,,,,,,,,,,"]
[null,{"$f":"IF(A6856=0,\" \",IF(ISNA(MATCH(A6856,Personnel!A:A,0)),\"وجود ندارد\",LOOKUP(A6856,Personnel!A:A,Personnel!B:B)))","v":" "},{"$f":"IF(A6856=0,\" \",IF(ISNA(MATCH(A6856,Personnel!A:A,0)),\"وجود ندارد\",LOOKUP(A6856,Personnel!A:A,Personnel!C:C)))","v":" "},null,null,null,null,null,null,null,null,"","",1,0," "," ",""," "," ","",null," "," ",",,,,,,,,,,,,"]
[null,{"$f":"IF(A6862=0,\" \",IF(ISNA(MATCH(A6862,Personnel!A:A,0)),\"وجود ندارد\",LOOKUP(A6862,Personnel!A:A,Personnel!B:B)))","v":" "},{"$f":"IF(A6862=0,\" \",IF(ISNA(MATCH(A6862,Personnel!A:A,0)),\"وجود ندارد\",LOOKUP(A6862,Personnel!A:A,Personnel!C:C)))","v":" "},null,null,null,null,null,null,null,null,"","",1,0," "," ",""," "," ","",null," "," ",",,,,,,,,,,,,"]
[null,{"$f":"IF(A6870=0,\" \",IF(ISNA(MATCH(A6870,Personnel!A:A,0)),\"وجود ندارد\",LOOKUP(A6870,Personnel!A:A,Personnel!B:B)))","v":" "},{"$f":"IF(A6870=0,\" \",IF(ISNA(MATCH(A6870,Personnel!A:A,0)),\"وجود ندارد\",LOOKUP(A6870,Personnel!A:A,Personnel!C:C)))","v":" "},null,null,null,null,null,null,null,null,"","",1,0," "," ",""," "," ","",null," "," ",",,,,,,,,,,,,"]
[null,{"$f":"IF(A6877=0,\" \",IF(ISNA(MATCH(A6877,Personnel!A:A,0)),\"وجود ندارد\",LOOKUP(A6877,Personnel!A:A,Personnel!B:B)))","v":" "},{"$f":"IF(A6877=0,\" \",IF(ISNA(MATCH(A6877,Personnel!A:A,0)),\"وجود ندارد\",LOOKUP(A6877,Personnel!A:A,Personnel!C:C)))","v":" "},null,null,null,null,null,null,null,null,"","",1,0," "," ",""," "," ","",null," "," ",",,,,,,,,,,,,"]
[null,{"$f":"IF(A6889=0,\" \",IF(ISNA(MATCH(A6889,Personnel!A:A,0)),\"وجود ندارد\",LOOKUP(A6889,Personnel!A:A,Personnel!B:B)))","v":" "},{"$f":"IF(A6889=0,\" \",IF(ISNA(MATCH(A6889,Personnel!A:A,0)),\"وجود ندارد\",LOOKUP(A6889,Personnel!A:A,Personnel!C:C)))","v":" "},null,null,null,null,null,null,null,null,"","",1,0," "," ",""," "," ","",null," "," ",",,,,,,,,,,,,"]
[null,{"$f":"IF(A6901=0,\" \",IF(ISNA(MATCH(A6901,Personnel!A:A,0)),\"وجود ندارد\",LOOKUP(A6901,Personnel!A:A,Personnel!B:B)))","v":" "},{"$f":"IF(A6901=0,\" \",IF(ISNA(MATCH(A6901,Personnel!A:A,0)),\"وجود ندارد\",LOOKUP(A6901,Personnel!A:A,Personnel!C:C)))","v":" "},null,null,null,null,null,null,null,null,"","",1,0," "," ",""," "," ","",null," "," ",",,,,,,,,,,,,"]
[null,{"$f":"IF(A6903=0,\" \",IF(ISNA(MATCH(A6903,Personnel!A:A,0)),\"وجود ندارد\",LOOKUP(A6903,Personnel!A:A,Personnel!B:B)))","v":" "},{"$f":"IF(A6903=0,\" \",IF(ISNA(MATCH(A6903,Personnel!A:A,0)),\"وجود ندارد\",LOOKUP(A6903,Personnel!A:A,Personnel!C:C)))","v":" "},null,null,null,null,null,null,null,null,"","",1,0," "," ",""," "," ","",null," "," ",",,,,,,,,,,,,"]
[null,{"$f":"IF(A6919=0,\" \",IF(ISNA(MATCH(A6919,Personnel!A:A,0)),\"وجود ندارد\",LOOKUP(A6919,Personnel!A:A,Personnel!B:B)))","v":" "},{"$f":"IF(A6919=0,\" \",IF(ISNA(MATCH(A6919,Personnel!A:A,0)),\"وجود ندارد\",LOOKUP(A6919,Personnel!A:A,Personnel!C:C)))","v":" "},null,null,null,null,null,null,null,null,"","",1,0," "," ",""," "," ","",null," "," ",",,,,,,,,,,,,"]
[null,{"$f":"IF(A6926=0,\" \",IF(ISNA(MATCH(A6926,Personnel!A:A,0)),\"وجود ندارد\",LOOKUP(A6926,Personnel!A:A,Personnel!B:B)))","v":" "},{"$f":"IF(A6926=0,\" \",IF(ISNA(MATCH(A6926,Personnel!A:A,0)),\"وجود ندارد\",LOOKUP(A6926,Personnel!A:A,Personnel!C:C)))","v":" "},null,null,null,null,null,null,null,null,"","",1,0," "," ",""," "," ","",null," "," ",",,,,,,,,,,,,"]
[null,{"$f":"IF(A6929=0,\" \",IF(ISNA(MATCH(A6929,Personnel!A:A,0)),\"وجود ندارد\",LOOKUP(A6929,Personnel!A:A,Personnel!B:B)))","v":" "},{"$f":"IF(A6929=0,\" \",IF(ISNA(MATCH(A6929,Personnel!A:A,0)),\"وجود ندارد\",LOOKUP(A6929,Personnel!A:A,Personnel!C:C)))","v":" "},null,null,null,null,null,null,null,null,"","",1,0," "," ",""," "," ","",null," "," ",",,,,,,,,,,,,"]
[null,{"$f":"IF(A6941=0,\" \",IF(ISNA(MATCH(A6941,Personnel!A:A,0)),\"وجود ندارد\",LOOKUP(A6941,Personnel!A:A,Personnel!B:B)))","v":" "},{"$f":"IF(A6941=0,\" \",IF(ISNA(MATCH(A6941,Personnel!A:A,0)),\"وجود ندارد\",LOOKUP(A6941,Personnel!A:A,Personnel!C:C)))","v":" "},null,null,null,null,null,null,null,null,"","",1,0," "," ",""," "," ","",null," "," ",",,,,,,,,,,,,"]
[null,{"$f":"IF(A6952=0,\" \",IF(ISNA(MATCH(A6952,Personnel!A:A,0)),\"وجود ندارد\",LOOKUP(A6952,Personnel!A:A,Personnel!B:B)))","v":" "},{"$f":"IF(A6952=0,\" \",IF(ISNA(MATCH(A6952,Personnel!A:A,0)),\"وجود ندارد\",LOOKUP(A6952,Personnel!A:A,Personnel!C:C)))","v":" "},null,null,null,null,null,null,null,null,"","",1,0," "," ",""," "," ","",null," "," ",",,,,,,,,,,,,"]
[null,{"$f":"IF(A6959=0,\" \",IF(ISNA(MATCH(A6959,Personnel!A:A,0)),\"وجود ندارد\",LOOKUP(A6959,Personnel!A:A,Personnel!B:B)))","v":" "},{"$f":"IF(A6959=0,\" \",IF(ISNA(MATCH(A6959,Personnel!A:A,0)),\"وجود ندارد\",LOOKUP(A6959,Personnel!A:A,Personnel!C:C)))","v":" "},null,null,null,null,null,null,null,null,"","",1,0," "," ",""," "," ","",null," "," ",",,,,,,,,,,,,"]
[null,{"$f":"IF(A6971=0,\" \",IF(ISNA(MATCH(A6971,Personnel!A:A,0)),\"وجود ندارد\",LOOKUP(A6971,Personnel!A:A,Personnel!B:B)))","v":" "},{"$f":"IF(A6971=0,\" \",IF(ISNA(MATCH(A6971,Personnel!A:A,0)),\"وجود ندارد\",LOOKUP(A6971,Personnel!A:A,Personnel!C:C)))","v":" "},null,null,null,null,null,null,null,null,"","",1,0," "," ",""," "," ","",null," "," ",",,,,,,,,,,,,"]
[null,{"$f":"IF(A6978=0,\" \",IF(ISNA(MATCH(A6978,Personnel!A:A,0)),\"وجود ندارد\",LOOKUP(A6978,Personnel!A:A,Personnel!B:B)))","v":" "},{"$f":"IF(A6978=0,\" \",IF(ISNA(MATCH(A6978,Personnel!A:A,0)),\"وجود ندارد\",LOOKUP(A6978,Personnel!A:A,Personnel!C:C)))","v":" "},null,null,null,null,null,null,null,null,"","",1,0,{"$f":"IF(A6978=0,\" \",IF(N6978+O6978<>0,\"تاریخ اشتباه است\",\"\"))","v":" "},{"$f":"IF(A6978=0,\" \",IF(AND(G6978<>0,H6978>G6978),\"مبلغ قسط از مبلغ کل بیشتر است\",\"\"))","v":" "},""," ",{"$f":"IF(A6978=0,\" \",IF(OR(K6978<1,K6978>3),\"نوع عمل اشتباه است\",\"\"))","v":" "},"",null," "," ",",,,,,,,,,,,,"]
[null,{"$f":"IF(A6990=0,\" \",IF(ISNA(MATCH(A6990,Personnel!A:A,0)),\"وجود ندارد\",LOOKUP(A6990,Personnel!A:A,Personnel!B:B)))","v":" "},{"$f":"IF(A6990=0,\" \",IF(ISNA(MATCH(A6990,Personnel!A:A,0)),\"وجود ندارد\",LOOKUP(A6990,Personnel!A:A,Personnel!C:C)))","v":" "},null,null,null,null,null,null,null,null,"","",1,0," "," ",""," "," ","",null," "," ",",,,,,,,,,,,,"]
[null,{"$f":"IF(A6993=0,\" \",IF(ISNA(MATCH(A6993,Personnel!A:A,0)),\"وجود ندارد\",LOOKUP(A6993,Personnel!A:A,Personnel!B:B)))","v":" "},{"$f":"IF(A6993=0,\" \",IF(ISNA(MATCH(A6993,Personnel!A:A,0)),\"وجود ندارد\",LOOKUP(A6993,Personnel!A:A,Personnel!C:C)))","v":" "},null,null,null,null,null,null,null,null,"","",1,0," "," ",""," "," ","",null," "," ",",,,,,,,,,,,,"]
[null,{"$f":"IF(A6999=0,\" \",IF(ISNA(MATCH(A6999,Personnel!A:A,0)),\"وجود ندارد\",LOOKUP(A6999,Personnel!A:A,Personnel!B:B)))","v":" "},{"$f":"IF(A6999=0,\" \",IF(ISNA(MATCH(A6999,Personnel!A:A,0)),\"وجود ندارد\",LOOKUP(A6999,Personnel!A:A,Personnel!C:C)))","v":" "},null,null,null,null,null,null,null,null,"","",1,0," "," ",""," "," ","",null," "," ",",,,,,,,,,,,,"]
[null,{"$f":"IF(A7011=0,\" \",IF(ISNA(MATCH(A7011,Personnel!A:A,0)),\"وجود ندارد\",LOOKUP(A7011,Personnel!A:A,Personnel!B:B)))","v":" "},{"$f":"IF(A7011=0,\" \",IF(ISNA(MATCH(A7011,Personnel!A:A,0)),\"وجود ندارد\",LOOKUP(A7011,Personnel!A:A,Personnel!C:C)))","v":" "},null,null,null,null,null,null,null,null,"","",1,0," "," ",""," "," ","",null," "," ",",,,,,,,,,,,,"]
[null,{"$f":"IF(A7018=0,\" \",IF(ISNA(MATCH(A7018,Personnel!A:A,0)),\"وجود ندارد\",LOOKUP(A7018,Personnel!A:A,Personnel!B:B)))","v":" "},{"$f":"IF(A7018=0,\" \",IF(ISNA(MATCH(A7018,Personnel!A:A,0)),\"وجود ندارد\",LOOKUP(A7018,Personnel!A:A,Personnel!C:C)))","v":" "},null,null,null,null,null,null,null,null,"","",1,0," "," ",""," "," ","",null," "," ",",,,,,,,,,,,,"]
[null,{"$f":"IF(A7030=0,\" \",IF(ISNA(MATCH(A7030,Personnel!A:A,0)),\"وجود ندارد\",LOOKUP(A7030,Personnel!A:A,Personnel!B:B)))","v":" "},{"$f":"IF(A7030=0,\" \",IF(ISNA(MATCH(A7030,Personnel!A:A,0)),\"وجود ندارد\",LOOKUP(A7030,Personnel!A:A,Personnel!C:C)))","v":" "},null,null,null,null,null,null,null,null,"","",1,0," "," ",""," "," ","",null," "," ",",,,,,,,,,,,,"]
[null,{"$f":"IF(A7042=0,\" \",IF(ISNA(MATCH(A7042,Personnel!A:A,0)),\"وجود ندارد\",LOOKUP(A7042,Personnel!A:A,Personnel!B:B)))","v":" "},{"$f":"IF(A7042=0,\" \",IF(ISNA(MATCH(A7042,Personnel!A:A,0)),\"وجود ندارد\",LOOKUP(A7042,Personnel!A:A,Personnel!C:C)))","v":" "},null,null,null,null,null,null,null,null,"","",1,0,{"$f":"IF(A7042=0,\" \",IF(N7042+O7042<>0,\"تاریخ اشتباه است\",\"\"))","v":" "},{"$f":"IF(A7042=0,\" \",IF(AND(G7042<>0,H7042>G7042),\"مبلغ قسط از مبلغ کل بیشتر است\",\"\"))","v":" "},""," ",{"$f":"IF(A7042=0,\" \",IF(OR(K7042<1,K7042>3),\"نوع عمل اشتباه است\",\"\"))","v":" "},"",null," "," ",",,,,,,,,,,,,"]
[null,{"$f":"IF(A7048=0,\" \",IF(ISNA(MATCH(A7048,Personnel!A:A,0)),\"وجود ندارد\",LOOKUP(A7048,Personnel!A:A,Personnel!B:B)))","v":" "},{"$f":"IF(A7048=0,\" \",IF(ISNA(MATCH(A7048,Personnel!A:A,0)),\"وجود ندارد\",LOOKUP(A7048,Personnel!A:A,Personnel!C:C)))","v":" "},null,null,null,null,null,null,null,null,"","",1,0," "," ",""," "," ","",null," "," ",",,,,,,,,,,,,"]
[null,{"$f":"IF(A7060=0,\" \",IF(ISNA(MATCH(A7060,Personnel!A:A,0)),\"وجود ندارد\",LOOKUP(A7060,Personnel!A:A,Personnel!B:B)))","v":" "},{"$f":"IF(A7060=0,\" \",IF(ISNA(MATCH(A7060,Personnel!A:A,0)),\"وجود ندارد\",LOOKUP(A7060,Personnel!A:A,Personnel!C:C)))","v":" "},null,null,null,null,null,null,null,null,"","",1,0," "," ",""," "," ","",null," "," ",",,,,,,,,,,,,"]
[null,{"$f":"IF(A7067=0,\" \",IF(ISNA(MATCH(A7067,Personnel!A:A,0)),\"وجود ندارد\",LOOKUP(A7067,Personnel!A:A,Personnel!B:B)))","v":" "},{"$f":"IF(A7067=0,\" \",IF(ISNA(MATCH(A7067,Personnel!A:A,0)),\"وجود ندارد\",LOOKUP(A7067,Personnel!A:A,Personnel!C:C)))","v":" "},null,null,null,null,null,null,null,null,"","",1,0," "," ",""," "," ","",null," "," ",",,,,,,,,,,,,"]
[null,{"$f":"IF(A7070=0,\" \",IF(ISNA(MATCH(A7070,Personnel!A:A,0)),\"وجود ندارد\",LOOKUP(A7070,Personnel!A:A,Personnel!B:B)))","v":" "},{"$f":"IF(A7070=0,\" \",IF(ISNA(MATCH(A7070,Personnel!A:A,0)),\"وجود ندارد\",LOOKUP(A7070,Personnel!A:A,Personnel!C:C)))","v":" "},null,null,null,null,null,null,null,null,"","",1,0," "," ",""," "," ","",null," "," ",",,,,,,,,,,,,"]
[null,{"$f":"IF(A7083=0,\" \",IF(ISNA(MATCH(A7083,Personnel!A:A,0)),\"وجود ندارد\",LOOKUP(A7083,Personnel!A:A,Personnel!B:B)))","v":" "},{"$f":"IF(A7083=0,\" \",IF(ISNA(MATCH(A7083,Personnel!A:A,0)),\"وجود ندارد\",LOOKUP(A7083,Personnel!A:A,Personnel!C:C)))","v":" "},null,null,null,null,null,null,null,null,"","",1,0," "," ",""," "," ","",null," "," ",",,,,,,,,,,,,"]
[null,{"$f":"IF(A7088=0,\" \",IF(ISNA(MATCH(A7088,Personnel!A:A,0)),\"وجود ندارد\",LOOKUP(A7088,Personnel!A:A,Personnel!B:B)))","v":" "},{"$f":"IF(A7088=0,\" \",IF(ISNA(MATCH(A7088,Personnel!A:A,0)),\"وجود ندارد\",LOOKUP(A7088,Personnel!A:A,Personnel!C:C)))","v":" "},null,null,null,null,null,null,null,null,"","",1,0," "," ",""," "," ","",null," "," ",",,,,,,,,,,,,"]
[null,{"$f":"IF(A7100=0,\" \",IF(ISNA(MATCH(A7100,Personnel!A:A,0)),\"وجود ندارد\",LOOKUP(A7100,Personnel!A:A,Personnel!B:B)))","v":" "},{"$f":"IF(A7100=0,\" \",IF(ISNA(MATCH(A7100,Personnel!A:A,0)),\"وجود ندارد\",LOOKUP(A7100,Personnel!A:A,Personnel!C:C)))","v":" "},null,null,null,null,null,null,null,null,"","",1,0," "," ",""," "," ","",null," "," ",",,,,,,,,,,,,"]
[null,{"$f":"IF(A7107=0,\" \",IF(ISNA(MATCH(A7107,Personnel!A:A,0)),\"وجود ندارد\",LOOKUP(A7107,Personnel!A:A,Personnel!B:B)))","v":" "},{"$f":"IF(A7107=0,\" \",IF(ISNA(MATCH(A7107,Personnel!A:A,0)),\"وجود ندارد\",LOOKUP(A7107,Personnel!A:A,Personnel!C:C)))","v":" "},null,null,null,null,null,null,null,null,{"$f":"IF(K7107=0,\"\",IF(K7107=1,\"ایجاد\",IF(K7107=2,\"اصلاح\",\"حذف\")))","v":""},{"$f":"IF(AND(K7107=3,H7107+I7107+J7107+F7107+G7107<>0),\"برای عمل حذف اطلاعات اضافی وارد شده است\",\"\")","v":""},{"$f":"IF(AND(K7107<>3,F7107<900000),1,0)","v":1},{"$f":"IF(F7107>991231,1,0)","v":0}," "," ",{"$f":"IF(AND(A7107=0,H7107+I7107+J7107+F7107+G7107+K7107+E7107+D7107<>0),\"در این ردیف شماره پرسنلی وجود ندارد اما اطلاعات دیگر وارد شده است\",\"\")","v":""},{"$f":"IF(A7107=0,\" \",IF(D7107=0,\"کد وام وارد نشده است\",\"\"))","v":" "}," ",{"$f":"IF(AND(OR(K7107=1,K7107=2),H7107=0),\"مبلغ قسط نمی تواند خالی باشد\",\"\")","v":""},null,{"$f":"IF(AND(A7107=0,A7108<>0),\"دراین ردیف اصلاحاتی وجود ندارد . لطفا ردیفی را خالی باقی نگذارید\",IF(AND(A7107=0,R7107=\"\"),\" \",IF(M7107&\",\"&P7107&\",\"&Q7107&\",\"&R7107&\",\"&S7107&\",\"&T7107&\",\"&U7107=\",,,,,,\",\"صحیح\",M7107&\",\"&P7107&\",\"&Q7107&\",\"&R7107&\",\"&S7107&\",\"&T7107&\",\"&U7107)))","v":" "},{"$f":"IF(AND(ROW(X7107)>$Z$2,W7107=\" \"),\" \",IF(W7107=\" \",IF(AND(A7107=0,$Z$2<>$Z$4),\"دراین ردیف اصلاحاتی وجود ندارد . لطفا ردیفی را خالی نگذارید\",W7107),W7107))","v":" "},{"$f":"CONCATENATE(A7107,\",\",D7107,\",\",E7107,\",\",F7107,\",\",G7107,\",\",H7107,\",\",I7107,\",\",K7107,\",\",,\",\",J7107,\",\",\",\",V7107,\",\")","v":",,,,,,,,,,,,"}]
[null,{"$f":"IF(A7119=0,\" \",IF(ISNA(MATCH(A7119,Personnel!A:A,0)),\"وجود ندارد\",LOOKUP(A7119,Personnel!A:A,Personnel!B:B)))","v":" "},{"$f":"IF(A7119=0,\" \",IF(ISNA(MATCH(A7119,Personnel!A:A,0)),\"وجود ندارد\",LOOKUP(A7119,Personnel!A:A,Personnel!C:C)))","v":" "},null,null,null,null,null,null,null,null,"","",1,0," "," ",""," "," ","",null," "," ",",,,,,,,,,,,,"]
[null,{"$f":"IF(A7124=0,\" \",IF(ISNA(MATCH(A7124,Personnel!A:A,0)),\"وجود ندارد\",LOOKUP(A7124,Personnel!A:A,Personnel!B:B)))","v":" "},{"$f":"IF(A7124=0,\" \",IF(ISNA(MATCH(A7124,Personnel!A:A,0)),\"وجود ندارد\",LOOKUP(A7124,Personnel!A:A,Personnel!C:C)))","v":" "},null,null,null,null,null,null,null,null,"","",1,0," "," ",""," "," ","",null," "," ",",,,,,,,,,,,,"]
[null,{"$f":"IF(A7137=0,\" \",IF(ISNA(MATCH(A7137,Personnel!A:A,0)),\"وجود ندارد\",LOOKUP(A7137,Personnel!A:A,Personnel!B:B)))","v":" "},{"$f":"IF(A7137=0,\" \",IF(ISNA(MATCH(A7137,Personnel!A:A,0)),\"وجود ندارد\",LOOKUP(A7137,Personnel!A:A,Personnel!C:C)))","v":" "},null,null,null,null,null,null,null,null,"","",1,0," "," ",""," "," ","",null," "," ",",,,,,,,,,,,,"]
[null,{"$f":"IF(A7140=0,\" \",IF(ISNA(MATCH(A7140,Personnel!A:A,0)),\"وجود ندارد\",LOOKUP(A7140,Personnel!A:A,Personnel!B:B)))","v":" "},{"$f":"IF(A7140=0,\" \",IF(ISNA(MATCH(A7140,Personnel!A:A,0)),\"وجود ندارد\",LOOKUP(A7140,Personnel!A:A,Personnel!C:C)))","v":" "},null,null,null,null,null,null,null,null,"","",1,0," "," ",""," "," ","",null," "," ",",,,,,,,,,,,,"]
[null,{"$f":"IF(A7152=0,\" \",IF(ISNA(MATCH(A7152,Personnel!A:A,0)),\"وجود ندارد\",LOOKUP(A7152,Personnel!A:A,Personnel!B:B)))","v":" "},{"$f":"IF(A7152=0,\" \",IF(ISNA(MATCH(A7152,Personnel!A:A,0)),\"وجود ندارد\",LOOKUP(A7152,Personnel!A:A,Personnel!C:C)))","v":" "},null,null,null,null,null,null,null,null,"","",1,0," "," ",""," "," ","",null," "," ",",,,,,,,,,,,,"]
[null,{"$f":"IF(A7163=0,\" \",IF(ISNA(MATCH(A7163,Personnel!A:A,0)),\"وجود ندارد\",LOOKUP(A7163,Personnel!A:A,Personnel!B:B)))","v":" "},{"$f":"IF(A7163=0,\" \",IF(ISNA(MATCH(A7163,Personnel!A:A,0)),\"وجود ندارد\",LOOKUP(A7163,Personnel!A:A,Personnel!C:C)))","v":" "},null,null,null,null,null,null,null,null,"","",1,0," "," ",""," "," ","",null," "," ",",,,,,,,,,,,,"]
[null,{"$f":"IF(A7170=0,\" \",IF(ISNA(MATCH(A7170,Personnel!A:A,0)),\"وجود ندارد\",LOOKUP(A7170,Personnel!A:A,Personnel!B:B)))","v":" "},{"$f":"IF(A7170=0,\" \",IF(ISNA(MATCH(A7170,Personnel!A:A,0)),\"وجود ندارد\",LOOKUP(A7170,Personnel!A:A,Personnel!C:C)))","v":" "},null,null,null,null,null,null,null,null,"","",1,0,{"$f":"IF(A7170=0,\" \",IF(N7170+O7170<>0,\"تاریخ اشتباه است\",\"\"))","v":" "},{"$f":"IF(A7170=0,\" \",IF(AND(G7170<>0,H7170>G7170),\"مبلغ قسط از مبلغ کل بیشتر است\",\"\"))","v":" "},""," ",{"$f":"IF(A7170=0,\" \",IF(OR(K7170<1,K7170>3),\"نوع عمل اشتباه است\",\"\"))","v":" "},"",null," "," ",",,,,,,,,,,,,"]
[null,{"$f":"IF(A7177=0,\" \",IF(ISNA(MATCH(A7177,Personnel!A:A,0)),\"وجود ندارد\",LOOKUP(A7177,Personnel!A:A,Personnel!B:B)))","v":" "},{"$f":"IF(A7177=0,\" \",IF(ISNA(MATCH(A7177,Personnel!A:A,0)),\"وجود ندارد\",LOOKUP(A7177,Personnel!A:A,Personnel!C:C)))","v":" "},null,null,null,null,null,null,null,null,"","",1,0," "," ",""," "," ","",null," "," ",",,,,,,,,,,,,"]
[null,{"$f":"IF(A7189=0,\" \",IF(ISNA(MATCH(A7189,Personnel!A:A,0)),\"وجود ندارد\",LOOKUP(A7189,Personnel!A:A,Personnel!B:B)))","v":" "},{"$f":"IF(A7189=0,\" \",IF(ISNA(MATCH(A7189,Personnel!A:A,0)),\"وجود ندارد\",LOOKUP(A7189,Personnel!A:A,Personnel!C:C)))","v":" "},null,null,null,null,null,null,null,null,"","",1,0," "," ",""," "," ","",null," "," ",",,,,,,,,,,,,"]
[null,{"$f":"IF(A7201=0,\" \",IF(ISNA(MATCH(A7201,Personnel!A:A,0)),\"وجود ندارد\",LOOKUP(A7201,Personnel!A:A,Personnel!B:B)))","v":" "},{"$f":"IF(A7201=0,\" \",IF(ISNA(MATCH(A7201,Personnel!A:A,0)),\"وجود ندارد\",LOOKUP(A7201,Personnel!A:A,Personnel!C:C)))","v":" "},null,null,null,null,null,null,null,null,"","",1,0," "," ",""," "," ","",null," "," ",",,,,,,,,,,,,"]
[null,{"$f":"IF(A7204=0,\" \",IF(ISNA(MATCH(A7204,Personnel!A:A,0)),\"وجود ندارد\",LOOKUP(A7204,Personnel!A:A,Personnel!B:B)))","v":" "},{"$f":"IF(A7204=0,\" \",IF(ISNA(MATCH(A7204,Personnel!A:A,0)),\"وجود ندارد\",LOOKUP(A7204,Personnel!A:A,Personnel!C:C)))","v":" "},null,null,null,null,null,null,null,null,"","",1,0," "," ",""," "," ","",null," "," ",",,,,,,,,,,,,"]
[null,{"$f":"IF(A7210=0,\" \",IF(ISNA(MATCH(A7210,Personnel!A:A,0)),\"وجود ندارد\",LOOKUP(A7210,Personnel!A:A,Personnel!B:B)))","v":" "},{"$f":"IF(A7210=0,\" \",IF(ISNA(MATCH(A7210,Personnel!A:A,0)),\"وجود ندارد\",LOOKUP(A7210,Personnel!A:A,Personnel!C:C)))","v":" "},null,null,null,null,null,null,null,null,"","",1,0," "," ",""," "," ","",null," "," ",",,,,,,,,,,,,"]
[null,{"$f":"IF(A7226=0,\" \",IF(ISNA(MATCH(A7226,Personnel!A:A,0)),\"وجود ندارد\",LOOKUP(A7226,Personnel!A:A,Personnel!B:B)))","v":" "},{"$f":"IF(A7226=0,\" \",IF(ISNA(MATCH(A7226,Personnel!A:A,0)),\"وجود ندارد\",LOOKUP(A7226,Personnel!A:A,Personnel!C:C)))","v":" "},null,null,null,null,null,null,null,null,"","",1,0," "," ",""," "," ","",null," "," ",",,,,,,,,,,,,"]
[null,{"$f":"IF(A7229=0,\" \",IF(ISNA(MATCH(A7229,Personnel!A:A,0)),\"وجود ندارد\",LOOKUP(A7229,Personnel!A:A,Personnel!B:B)))","v":" "},{"$f":"IF(A7229=0,\" \",IF(ISNA(MATCH(A7229,Personnel!A:A,0)),\"وجود ندارد\",LOOKUP(A7229,Personnel!A:A,Personnel!C:C)))","v":" "},null,null,null,null,null,null,null,null,"","",1,0," "," ",""," "," ","",null," "," ",",,,,,,,,,,,,"]
[null,{"$f":"IF(A7241=0,\" \",IF(ISNA(MATCH(A7241,Personnel!A:A,0)),\"وجود ندارد\",LOOKUP(A7241,Personnel!A:A,Personnel!B:B)))","v":" "},{"$f":"IF(A7241=0,\" \",IF(ISNA(MATCH(A7241,Personnel!A:A,0)),\"وجود ندارد\",LOOKUP(A7241,Personnel!A:A,Personnel!C:C)))","v":" "},null,null,null,null,null,null,null,null,"","",1,0," "," ",""," "," ","",null," "," ",",,,,,,,,,,,,"]
[null,{"$f":"IF(A7253=0,\" \",IF(ISNA(MATCH(A7253,Personnel!A:A,0)),\"وجود ندارد\",LOOKUP(A7253,Personnel!A:A,Personnel!B:B)))","v":" "},{"$f":"IF(A7253=0,\" \",IF(ISNA(MATCH(A7253,Personnel!A:A,0)),\"وجود ندارد\",LOOKUP(A7253,Personnel!A:A,Personnel!C:C)))","v":" "},null,null,null,null,null,null,null,null,"","",1,0," "," ",""," "," ","",null," "," ",",,,,,,,,,,,,"]
[null,{"$f":"IF(A7259=0,\" \",IF(ISNA(MATCH(A7259,Personnel!A:A,0)),\"وجود ندارد\",LOOKUP(A7259,Personnel!A:A,Personnel!B:B)))","v":" "},{"$f":"IF(A7259=0,\" \",IF(ISNA(MATCH(A7259,Personnel!A:A,0)),\"وجود ندارد\",LOOKUP(A7259,Personnel!A:A,Personnel!C:C)))","v":" "},null,null,null,null,null,null,null,null,"","",1,0," "," ",""," "," ","",null," "," ",",,,,,,,,,,,,"]
[null,{"$f":"IF(A7271=0,\" \",IF(ISNA(MATCH(A7271,Personnel!A:A,0)),\"وجود ندارد\",LOOKUP(A7271,Personnel!A:A,Personnel!B:B)))","v":" "},{"$f":"IF(A7271=0,\" \",IF(ISNA(MATCH(A7271,Personnel!A:A,0)),\"وجود ندارد\",LOOKUP(A7271,Personnel!A:A,Personnel!C:C)))","v":" "},null,null,null,null,null,null,null,null,"","",1,0," "," ",""," "," ","",null," "," ",",,,,,,,,,,,,"]
[null,{"$f":"IF(A7278=0,\" \",IF(ISNA(MATCH(A7278,Personnel!A:A,0)),\"وجود ندارد\",LOOKUP(A7278,Personnel!A:A,Personnel!B:B)))","v":" "},{"$f":"IF(A7278=0,\" \",IF(ISNA(MATCH(A7278,Personnel!A:A,0)),\"وجود ندارد\",LOOKUP(A7278,Personnel!A:A,Personnel!C:C)))","v":" "},null,null,null,null,null,null,null,null,"","",1,0," "," ",""," "," ","",null," "," ",",,,,,,,,,,,,"]
[null,{"$f":"IF(A7281=0,\" \",IF(ISNA(MATCH(A7281,Personnel!A:A,0)),\"وجود ندارد\",LOOKUP(A7281,Personnel!A:A,Personnel!B:B)))","v":" "},{"$f":"IF(A7281=0,\" \",IF(ISNA(MATCH(A7281,Personnel!A:A,0)),\"وجود ندارد\",LOOKUP(A7281,Personnel!A:A,Personnel!C:C)))","v":" "},null,null,null,null,null,null,null,null,"","",1,0," "," ",""," "," ","",null," "," ",",,,,,,,,,,,,"]
[null,{"$f":"IF(A7294=0,\" \",IF(ISNA(MATCH(A7294,Personnel!A:A,0)),\"وجود ندارد\",LOOKUP(A7294,Personnel!A:A,Personnel!B:B)))","v":" "},{"$f":"IF(A7294=0,\" \",IF(ISNA(MATCH(A7294,Personnel!A:A,0)),\"وجود ندارد\",LOOKUP(A7294,Personnel!A:A,Personnel!C:C)))","v":" "},null,null,null,null,null,null,null,null,"","",1,0," "," ",""," "," ","",null," "," ",",,,,,,,,,,,,"]
[null,{"$f":"IF(A7299=0,\" \",IF(ISNA(MATCH(A7299,Personnel!A:A,0)),\"وجود ندارد\",LOOKUP(A7299,Personnel!A:A,Personnel!B:B)))","v":" "},{"$f":"IF(A7299=0,\" \",IF(ISNA(MATCH(A7299,Personnel!A:A,0)),\"وجود ندارد\",LOOKUP(A7299,Personnel!A:A,Personnel!C:C)))","v":" "},null,null,null,null,null,null,null,null,{"$f":"IF(K7299=0,\"\",IF(K7299=1,\"ایجاد\",IF(K7299=2,\"اصلاح\",\"حذف\")))","v":""},{"$f":"IF(AND(K7299=3,H7299+I7299+J7299+F7299+G7299<>0),\"برای عمل حذف اطلاعات اضافی وارد شده است\",\"\")","v":""},{"$f":"IF(AND(K7299<>3,F7299<900000),1,0)","v":1},{"$f":"IF(F7299>991231,1,0)","v":0}," "," ",{"$f":"IF(AND(A7299=0,H7299+I7299+J7299+F7299+G7299+K7299+E7299+D7299<>0),\"در این ردیف شماره پرسنلی وجود ندارد اما اطلاعات دیگر وارد شده است\",\"\")","v":""},{"$f":"IF(A7299=0,\" \",IF(D7299=0,\"کد وام وارد نشده است\",\"\"))","v":" "}," ",{"$f":"IF(AND(OR(K7299=1,K7299=2),H7299=0),\"مبلغ قسط نمی تواند خالی باشد\",\"\")","v":""},null,{"$f":"IF(AND(A7299=0,A7300<>0),\"دراین ردیف اصلاحاتی وجود ندارد . لطفا ردیفی را خالی باقی نگذارید\",IF(AND(A7299=0,R7299=\"\"),\" \",IF(M7299&\",\"&P7299&\",\"&Q7299&\",\"&R7299&\",\"&S7299&\",\"&T7299&\",\"&U7299=\",,,,,,\",\"صحیح\",M7299&\",\"&P7299&\",\"&Q7299&\",\"&R7299&\",\"&S7299&\",\"&T7299&\",\"&U7299)))","v":" "},{"$f":"IF(AND(ROW(X7299)>$Z$2,W7299=\" \"),\" \",IF(W7299=\" \",IF(AND(A7299=0,$Z$2<>$Z$4),\"دراین ردیف اصلاحاتی وجود ندارد . لطفا ردیفی را خالی نگذارید\",W7299),W7299))","v":" "},{"$f":"CONCATENATE(A7299,\",\",D7299,\",\",E7299,\",\",F7299,\",\",G7299,\",\",H7299,\",\",I7299,\",\",K7299,\",\",,\",\",J7299,\",\",\",\",V7299,\",\")","v":",,,,,,,,,,,,"}]
[null,{"$f":"IF(A7311=0,\" \",IF(ISNA(MATCH(A7311,Personnel!A:A,0)),\"وجود ندارد\",LOOKUP(A7311,Personnel!A:A,Personnel!B:B)))","v":" "},{"$f":"IF(A7311=0,\" \",IF(ISNA(MATCH(A7311,Personnel!A:A,0)),\"وجود ندارد\",LOOKUP(A7311,Personnel!A:A,Personnel!C:C)))","v":" "},null,null,null,null,null,null,null,null,"","",1,0," "," ",""," "," ","",null," "," ",",,,,,,,,,,,,"]
[null,{"$f":"IF(A7318=0,\" \",IF(ISNA(MATCH(A7318,Personnel!A:A,0)),\"وجود ندارد\",LOOKUP(A7318,Personnel!A:A,Personnel!B:B)))","v":" "},{"$f":"IF(A7318=0,\" \",IF(ISNA(MATCH(A7318,Personnel!A:A,0)),\"وجود ندارد\",LOOKUP(A7318,Personnel!A:A,Personnel!C:C)))","v":" "},null,null,null,null,null,null,null,null,"","",1,0," "," ",""," "," ","",null," "," ",",,,,,,,,,,,,"]
[null,{"$f":"IF(A7330=0,\" \",IF(ISNA(MATCH(A7330,Personnel!A:A,0)),\"وجود ندارد\",LOOKUP(A7330,Personnel!A:A,Personnel!B:B)))","v":" "},{"$f":"IF(A7330=0,\" \",IF(ISNA(MATCH(A7330,Personnel!A:A,0)),\"وجود ندارد\",LOOKUP(A7330,Personnel!A:A,Personnel!C:C)))","v":" "},null,null,null,null,null,null,null,null,"","",1,0," "," ",""," "," ","",null," "," ",",,,,,,,,,,,,"]
[null,{"$f":"IF(A7335=0,\" \",IF(ISNA(MATCH(A7335,Personnel!A:A,0)),\"وجود ندارد\",LOOKUP(A7335,Personnel!A:A,Personnel!B:B)))","v":" "},{"$f":"IF(A7335=0,\" \",IF(ISNA(MATCH(A7335,Personnel!A:A,0)),\"وجود ندارد\",LOOKUP(A7335,Personnel!A:A,Personnel!C:C)))","v":" "},null,null,null,null,null,null,null,null,"","",1,0," "," ",""," "," ","",null," "," ",",,,,,,,,,,,,"]
[null,{"$f":"IF(A7348=0,\" \",IF(ISNA(MATCH(A7348,Personnel!A:A,0)),\"وجود ندارد\",LOOKUP(A7348,Personnel!A:A,Personnel!B:B)))","v":" "},{"$f":"IF(A7348=0,\" \",IF(ISNA(MATCH(A7348,Personnel!A:A,0)),\"وجود ندارد\",LOOKUP(A7348,Personnel!A:A,Personnel!C:C)))","v":" "},null,null,null,null,null,null,null,null,"","",1,0," "," ",""," "," ","",null," "," ",",,,,,,,,,,,,"]
[null,{"$f":"IF(A7351=0,\" \",IF(ISNA(MATCH(A7351,Personnel!A:A,0)),\"وجود ندارد\",LOOKUP(A7351,Personnel!A:A,Personnel!B:B)))","v":" "},{"$f":"IF(A7351=0,\" \",IF(ISNA(MATCH(A7351,Personnel!A:A,0)),\"وجود ندارد\",LOOKUP(A7351,Personnel!A:A,Personnel!C:C)))","v":" "},null,null,null,null,null,null,null,null,"","",1,0," "," ",""," "," ","",null," "," ",",,,,,,,,,,,,"]
[null,{"$f":"IF(A7367=0,\" \",IF(ISNA(MATCH(A7367,Personnel!A:A,0)),\"وجود ندارد\",LOOKUP(A7367,Personnel!A:A,Personnel!B:B)))","v":" "},{"$f":"IF(A7367=0,\" \",IF(ISNA(MATCH(A7367,Personnel!A:A,0)),\"وجود ندارد\",LOOKUP(A7367,Personnel!A:A,Personnel!C:C)))","v":" "},null,null,null,null,null,null,null,null,"","",1,0," "," ",""," "," ","",null," "," ",",,,,,,,,,,,,"]
[null,{"$f":"IF(A7370=0,\" \",IF(ISNA(MATCH(A7370,Personnel!A:A,0)),\"وجود ندارد\",LOOKUP(A7370,Personnel!A:A,Personnel!B:B)))","v":" "},{"$f":"IF(A7370=0,\" \",IF(ISNA(MATCH(A7370,Personnel!A:A,0)),\"وجود ندارد\",LOOKUP(A7370,Personnel!A:A,Personnel!C:C)))","v":" "},null,null,null,null,null,null,null,null,"","",1,0," "," ",""," "," ","",null," "," ",",,,,,,,,,,,,"]
[null,{"$f":"IF(A7384=0,\" \",IF(ISNA(MATCH(A7384,Personnel!A:A,0)),\"وجود ندارد\",LOOKUP(A7384,Personnel!A:A,Personnel!B:B)))","v":" "},{"$f":"IF(A7384=0,\" \",IF(ISNA(MATCH(A7384,Personnel!A:A,0)),\"وجود ندارد\",LOOKUP(A7384,Personnel!A:A,Personnel!C:C)))","v":" "},null,null,null,null,null,null,null,null,"","",1,0," "," ",""," "," ","",null," "," ",",,,,,,,,,,,,"]
[null,{"$f":"IF(A7388=0,\" \",IF(ISNA(MATCH(A7388,Personnel!A:A,0)),\"وجود ندارد\",LOOKUP(A7388,Personnel!A:A,Personnel!B:B)))","v":" "},{"$f":"IF(A7388=0,\" \",IF(ISNA(MATCH(A7388,Personnel!A:A,0)),\"وجود ندارد\",LOOKUP(A7388,Personnel!A:A,Personnel!C:C)))","v":" "},null,null,null,null,null,null,null,null,"","",1,0," "," ",""," "," ","",null," "," ",",,,,,,,,,,,,"]
[null,{"$f":"IF(A7400=0,\" \",IF(ISNA(MATCH(A7400,Personnel!A:A,0)),\"وجود ندارد\",LOOKUP(A7400,Personnel!A:A,Personnel!B:B)))","v":" "},{"$f":"IF(A7400=0,\" \",IF(ISNA(MATCH(A7400,Personnel!A:A,0)),\"وجود ندارد\",LOOKUP(A7400,Personnel!A:A,Personnel!C:C)))","v":" "},null,null,null,null,null,null,null,null,"","",1,0," "," ",""," "," ","",null," "," ",",,,,,,,,,,,,"]
[null,{"$f":"IF(A7407=0,\" \",IF(ISNA(MATCH(A7407,Personnel!A:A,0)),\"وجود ندارد\",LOOKUP(A7407,Personnel!A:A,Personnel!B:B)))","v":" "},{"$f":"IF(A7407=0,\" \",IF(ISNA(MATCH(A7407,Personnel!A:A,0)),\"وجود ندارد\",LOOKUP(A7407,Personnel!A:A,Personnel!C:C)))","v":" "},null,null,null,null,null,null,null,null,"","",1,0," "," ",""," "," ","",null," "," ",",,,,,,,,,,,,"]
[null,{"$f":"IF(A7419=0,\" \",IF(ISNA(MATCH(A7419,Personnel!A:A,0)),\"وجود ندارد\",LOOKUP(A7419,Personnel!A:A,Personnel!B:B)))","v":" "},{"$f":"IF(A7419=0,\" \",IF(ISNA(MATCH(A7419,Personnel!A:A,0)),\"وجود ندارد\",LOOKUP(A7419,Personnel!A:A,Personnel!C:C)))","v":" "},null,null,null,null,null,null,null,null,"","",1,0," "," ",""," "," ","",null," "," ",",,,,,,,,,,,,"]
[null,{"$f":"IF(A7425=0,\" \",IF(ISNA(MATCH(A7425,Personnel!A:A,0)),\"وجود ندارد\",LOOKUP(A7425,Personnel!A:A,Personnel!B:B)))","v":" "},{"$f":"IF(A7425=0,\" \",IF(ISNA(MATCH(A7425,Personnel!A:A,0)),\"وجود ندارد\",LOOKUP(A7425,Personnel!A:A,Personnel!C:C)))","v":" "},null,null,null,null,null,null,null,null,"","",1,0," "," ",""," "," ","",null," "," ",",,,,,,,,,,,,"]
[null,{"$f":"IF(A7437=0,\" \",IF(ISNA(MATCH(A7437,Personnel!A:A,0)),\"وجود ندارد\",LOOKUP(A7437,Personnel!A:A,Personnel!B:B)))","v":" "},{"$f":"IF(A7437=0,\" \",IF(ISNA(MATCH(A7437,Personnel!A:A,0)),\"وجود ندارد\",LOOKUP(A7437,Personnel!A:A,Personnel!C:C)))","v":" "},null,null,null,null,null,null,null,null,"","",1,0," "," ",""," "," ","",null," "," ",",,,,,,,,,,,,"]
[null,{"$f":"IF(A7440=0,\" \",IF(ISNA(MATCH(A7440,Personnel!A:A,0)),\"وجود ندارد\",LOOKUP(A7440,Personnel!A:A,Personnel!B:B)))","v":" "},{"$f":"IF(A7440=0,\" \",IF(ISNA(MATCH(A7440,Personnel!A:A,0)),\"وجود ندارد\",LOOKUP(A7440,Personnel!A:A,Personnel!C:C)))","v":" "},null,null,null,null,null,null,null,null,"","",1,0," "," ",""," "," ","",null," "," ",",,,,,,,,,,,,"]
[null,{"$f":"IF(A7452=0,\" \",IF(ISNA(MATCH(A7452,Personnel!A:A,0)),\"وجود ندارد\",LOOKUP(A7452,Personnel!A:A,Personnel!B:B)))","v":" "},{"$f":"IF(A7452=0,\" \",IF(ISNA(MATCH(A7452,Personnel!A:A,0)),\"وجود ندارد\",LOOKUP(A7452,Personnel!A:A,Personnel!C:C)))","v":" "},null,null,null,null,null,null,null,null,"","",1,0," "," ",""," "," ","",null," "," ",",,,,,,,,,,,,"]
[null,{"$f":"IF(A7459=0,\" \",IF(ISNA(MATCH(A7459,Personnel!A:A,0)),\"وجود ندارد\",LOOKUP(A7459,Personnel!A:A,Personnel!B:B)))","v":" "},{"$f":"IF(A7459=0,\" \",IF(ISNA(MATCH(A7459,Personnel!A:A,0)),\"وجود ندارد\",LOOKUP(A7459,Personnel!A:A,Personnel!C:C)))","v":" "},null,null,null,null,null,null,null,null,"","",1,0," "," ",""," "," ","",null," "," ",",,,,,,,,,,,,"]
[null,{"$f":"IF(A7466=0,\" \",IF(ISNA(MATCH(A7466,Personnel!A:A,0)),\"وجود ندارد\",LOOKUP(A7466,Personnel!A:A,Personnel!B:B)))","v":" "},{"$f":"IF(A7466=0,\" \",IF(ISNA(MATCH(A7466,Personnel!A:A,0)),\"وجود ندارد\",LOOKUP(A7466,Personnel!A:A,Personnel!C:C)))","v":" "},null,null,null,null,null,null,null,null,"","",1,0," "," ",""," "," ","",null," "," ",",,,,,,,,,,,,"]
[null,{"$f":"IF(A7477=0,\" \",IF(ISNA(MATCH(A7477,Personnel!A:A,0)),\"وجود ندارد\",LOOKUP(A7477,Personnel!A:A,Personnel!B:B)))","v":" "},{"$f":"IF(A7477=0,\" \",IF(ISNA(MATCH(A7477,Personnel!A:A,0)),\"وجود ندارد\",LOOKUP(A7477,Personnel!A:A,Personnel!C:C)))","v":" "},null,null,null,null,null,null,null,null,"","",1,0," "," ",""," "," ","",null," "," ",",,,,,,,,,,,,"]
[null,{"$f":"IF(A7489=0,\" \",IF(ISNA(MATCH(A7489,Personnel!A:A,0)),\"وجود ندارد\",LOOKUP(A7489,Personnel!A:A,Personnel!B:B)))","v":" "},{"$f":"IF(A7489=0,\" \",IF(ISNA(MATCH(A7489,Personnel!A:A,0)),\"وجود ندارد\",LOOKUP(A7489,Personnel!A:A,Personnel!C:C)))","v":" "},null,null,null,null,null,null,null,null,"","",1,0," "," ",""," "," ","",null," "," ",",,,,,,,,,,,,"]
[null,{"$f":"IF(A7492=0,\" \",IF(ISNA(MATCH(A7492,Personnel!A:A,0)),\"وجود ندارد\",LOOKUP(A7492,Personnel!A:A,Personnel!B:B)))","v":" "},{"$f":"IF(A7492=0,\" \",IF(ISNA(MATCH(A7492,Personnel!A:A,0)),\"وجود ندارد\",LOOKUP(A7492,Personnel!A:A,Personnel!C:C)))","v":" "},null,null,null,null,null,null,null,null,"","",1,0," "," ",""," "," ","",null," "," ",",,,,,,,,,,,,"]
[null,{"$f":"IF(A7508=0,\" \",IF(ISNA(MATCH(A7508,Personnel!A:A,0)),\"وجود ندارد\",LOOKUP(A7508,Personnel!A:A,Personnel!B:B)))","v":" "},{"$f":"IF(A7508=0,\" \",IF(ISNA(MATCH(A7508,Personnel!A:A,0)),\"وجود ندارد\",LOOKUP(A7508,Personnel!A:A,Personnel!C:C)))","v":" "},null,null,null,null,null,null,null,null,"","",1,0," "," ",""," "," ","",null," "," ",",,,,,,,,,,,,"]
[null,{"$f":"IF(A7515=0,\" \",IF(ISNA(MATCH(A7515,Personnel!A:A,0)),\"وجود ندارد\",LOOKUP(A7515,Personnel!A:A,Personnel!B:B)))","v":" "},{"$f":"IF(A7515=0,\" \",IF(ISNA(MATCH(A7515,Personnel!A:A,0)),\"وجود ندارد\",LOOKUP(A7515,Personnel!A:A,Personnel!C:C)))","v":" "},null,null,null,null,null,null,null,null,"","",1,0," "," ",""," "," ","",null," "," ",",,,,,,,,,,,,"]
[null,{"$f":"IF(A7526=0,\" \",IF(ISNA(MATCH(A7526,Personnel!A:A,0)),\"وجود ندارد\",LOOKUP(A7526,Personnel!A:A,Personnel!B:B)))","v":" "},{"$f":"IF(A7526=0,\" \",IF(ISNA(MATCH(A7526,Personnel!A:A,0)),\"وجود ندارد\",LOOKUP(A7526,Personnel!A:A,Personnel!C:C)))","v":" "},null,null,null,null,null,null,null,null,"","",1,0," "," ",""," "," ","",null," "," ",",,,,,,,,,,,,"]
[null,{"$f":"IF(A7529=0,\" \",IF(ISNA(MATCH(A7529,Personnel!A:A,0)),\"وجود ندارد\",LOOKUP(A7529,Personnel!A:A,Personnel!B:B)))","v":" "},{"$f":"IF(A7529=0,\" \",IF(ISNA(MATCH(A7529,Personnel!A:A,0)),\"وجود ندارد\",LOOKUP(A7529,Personnel!A:A,Personnel!C:C)))","v":" "},null,null,null,null,null,null,null,null,"","",1,0," "," ",""," "," ","",null," "," ",",,,,,,,,,,,,"]
[null,{"$f":"IF(A7541=0,\" \",IF(ISNA(MATCH(A7541,Personnel!A:A,0)),\"وجود ندارد\",LOOKUP(A7541,Personnel!A:A,Personnel!B:B)))","v":" "},{"$f":"IF(A7541=0,\" \",IF(ISNA(MATCH(A7541,Personnel!A:A,0)),\"وجود ندارد\",LOOKUP(A7541,Personnel!A:A,Personnel!C:C)))","v":" "},null,null,null,null,null,null,null,null,"","",1,0," "," ",""," "," ","",null," "," ",",,,,,,,,,,,,"]
[null,{"$f":"IF(A7548=0,\" \",IF(ISNA(MATCH(A7548,Personnel!A:A,0)),\"وجود ندارد\",LOOKUP(A7548,Personnel!A:A,Personnel!B:B)))","v":" "},{"$f":"IF(A7548=0,\" \",IF(ISNA(MATCH(A7548,Personnel!A:A,0)),\"وجود ندارد\",LOOKUP(A7548,Personnel!A:A,Personnel!C:C)))","v":" "},null,null,null,null,null,null,null,null,"","",1,0," "," ",""," "," ","",null," "," ",",,,,,,,,,,,,"]
[null,{"$f":"IF(A7556=0,\" \",IF(ISNA(MATCH(A7556,Personnel!A:A,0)),\"وجود ندارد\",LOOKUP(A7556,Personnel!A:A,Personnel!B:B)))","v":" "},{"$f":"IF(A7556=0,\" \",IF(ISNA(MATCH(A7556,Personnel!A:A,0)),\"وجود ندارد\",LOOKUP(A7556,Personnel!A:A,Personnel!C:C)))","v":" "},null,null,null,null,null,null,null,null,"","",1,0," "," ",""," "," ","",null," "," ",",,,,,,,,,,,,"]
[null,{"$f":"IF(A7562=0,\" \",IF(ISNA(MATCH(A7562,Personnel!A:A,0)),\"وجود ندارد\",LOOKUP(A7562,Personnel!A:A,Personnel!B:B)))","v":" "},{"$f":"IF(A7562=0,\" \",IF(ISNA(MATCH(A7562,Personnel!A:A,0)),\"وجود ندارد\",LOOKUP(A7562,Personnel!A:A,Personnel!C:C)))","v":" "},null,null,null,null,null,null,null,null,"","",1,0," "," ",""," "," ","",null," "," ",",,,,,,,,,,,,"]
[null,{"$f":"IF(A7578=0,\" \",IF(ISNA(MATCH(A7578,Personnel!A:A,0)),\"وجود ندارد\",LOOKUP(A7578,Personnel!A:A,Personnel!B:B)))","v":" "},{"$f":"IF(A7578=0,\" \",IF(ISNA(MATCH(A7578,Personnel!A:A,0)),\"وجود ندارد\",LOOKUP(A7578,Personnel!A:A,Personnel!C:C)))","v":" "},null,null,null,null,null,null,null,null,"","",1,0," "," ",""," "," ","",null," "," ",",,,,,,,,,,,,"]
[null,{"$f":"IF(A7581=0,\" \",IF(ISNA(MATCH(A7581,Personnel!A:A,0)),\"وجود ندارد\",LOOKUP(A7581,Personnel!A:A,Personnel!B:B)))","v":" "},{"$f":"IF(A7581=0,\" \",IF(ISNA(MATCH(A7581,Personnel!A:A,0)),\"وجود ندارد\",LOOKUP(A7581,Personnel!A:A,Personnel!C:C)))","v":" "},null,null,null,null,null,null,null,null,"","",1,0," "," ",""," "," ","",null," "," ",",,,,,,,,,,,,"]
[null,{"$f":"IF(A7597=0,\" \",IF(ISNA(MATCH(A7597,Personnel!A:A,0)),\"وجود ندارد\",LOOKUP(A7597,Personnel!A:A,Personnel!B:B)))","v":" "},{"$f":"IF(A7597=0,\" \",IF(ISNA(MATCH(A7597,Personnel!A:A,0)),\"وجود ندارد\",LOOKUP(A7597,Personnel!A:A,Personnel!C:C)))","v":" "},null,null,null,null,null,null,null,null,"","",1,0," "," ",""," "," ","",null," "," ",",,,,,,,,,,,,"]
[null,{"$f":"IF(A7605=0,\" \",IF(ISNA(MATCH(A7605,Personnel!A:A,0)),\"وجود ندارد\",LOOKUP(A7605,Personnel!A:A,Personnel!B:B)))","v":" "},{"$f":"IF(A7605=0,\" \",IF(ISNA(MATCH(A7605,Personnel!A:A,0)),\"وجود ندارد\",LOOKUP(A7605,Personnel!A:A,Personnel!C:C)))","v":" "},null,null,null,null,null,null,null,null,"","",1,0," "," ",""," "," ","",null," "," ",",,,,,,,,,,,,"]
[null,{"$f":"IF(A7611=0,\" \",IF(ISNA(MATCH(A7611,Personnel!A:A,0)),\"وجود ندارد\",LOOKUP(A7611,Personnel!A:A,Personnel!B:B)))","v":" "},{"$f":"IF(A7611=0,\" \",IF(ISNA(MATCH(A7611,Personnel!A:A,0)),\"وجود ندارد\",LOOKUP(A7611,Personnel!A:A,Personnel!C:C)))","v":" "},null,null,null,null,null,null,null,null,"","",1,0," "," ",""," "," ","",null," "," ",",,,,,,,,,,,,"]
[null,{"$f":"IF(A7618=0,\" \",IF(ISNA(MATCH(A7618,Personnel!A:A,0)),\"وجود ندارد\",LOOKUP(A7618,Personnel!A:A,Personnel!B:B)))","v":" "},{"$f":"IF(A7618=0,\" \",IF(ISNA(MATCH(A7618,Personnel!A:A,0)),\"وجود ندارد\",LOOKUP(A7618,Personnel!A:A,Personnel!C:C)))","v":" "},null,null,null,null,null,null,null,null,"","",1,0,{"$f":"IF(A7618=0,\" \",IF(N7618+O7618<>0,\"تاریخ اشتباه است\",\"\"))","v":" "},{"$f":"IF(A7618=0,\" \",IF(AND(G7618<>0,H7618>G7618),\"مبلغ قسط از مبلغ کل بیشتر است\",\"\"))","v":" "},""," ",{"$f":"IF(A7618=0,\" \",IF(OR(K7618<1,K7618>3),\"نوع عمل اشتباه است\",\"\"))","v":" "},"",null," "," ",",,,,,,,,,,,,"]
[null,{"$f":"IF(A7630=0,\" \",IF(ISNA(MATCH(A7630,Personnel!A:A,0)),\"وجود ندارد\",LOOKUP(A7630,Personnel!A:A,Personnel!B:B)))","v":" "},{"$f":"IF(A7630=0,\" \",IF(ISNA(MATCH(A7630,Personnel!A:A,0)),\"وجود ندارد\",LOOKUP(A7630,Personnel!A:A,Personnel!C:C)))","v":" "},null,null,null,null,null,null,null,null,"","",1,0," "," ",""," "," ","",null," "," ",",,,,,,,,,,,,"]
[null,{"$f":"IF(A7636=0,\" \",IF(ISNA(MATCH(A7636,Personnel!A:A,0)),\"وجود ندارد\",LOOKUP(A7636,Personnel!A:A,Personnel!B:B)))","v":" "},{"$f":"IF(A7636=0,\" \",IF(ISNA(MATCH(A7636,Personnel!A:A,0)),\"وجود ندارد\",LOOKUP(A7636,Personnel!A:A,Personnel!C:C)))","v":" "},null,null,null,null,null,null,null,null,"","",1,0," "," ",""," "," ","",null," "," ",",,,,,,,,,,,,"]
[null,{"$f":"IF(A7648=0,\" \",IF(ISNA(MATCH(A7648,Personnel!A:A,0)),\"وجود ندارد\",LOOKUP(A7648,Personnel!A:A,Personnel!B:B)))","v":" "},{"$f":"IF(A7648=0,\" \",IF(ISNA(MATCH(A7648,Personnel!A:A,0)),\"وجود ندارد\",LOOKUP(A7648,Personnel!A:A,Personnel!C:C)))","v":" "},null,null,null,null,null,null,null,null,"","",1,0," "," ",""," "," ","",null," "," ",",,,,,,,,,,,,"]
[null,{"$f":"IF(A7651=0,\" \",IF(ISNA(MATCH(A7651,Personnel!A:A,0)),\"وجود ندارد\",LOOKUP(A7651,Personnel!A:A,Personnel!B:B)))","v":" "},{"$f":"IF(A7651=0,\" \",IF(ISNA(MATCH(A7651,Personnel!A:A,0)),\"وجود ندارد\",LOOKUP(A7651,Personnel!A:A,Personnel!C:C)))","v":" "},null,null,null,null,null,null,null,null,"","",1,0," "," ",""," "," ","",null," "," ",",,,,,,,,,,,,"]
[null,{"$f":"IF(A7667=0,\" \",IF(ISNA(MATCH(A7667,Personnel!A:A,0)),\"وجود ندارد\",LOOKUP(A7667,Personnel!A:A,Personnel!B:B)))","v":" "},{"$f":"IF(A7667=0,\" \",IF(ISNA(MATCH(A7667,Personnel!A:A,0)),\"وجود ندارد\",LOOKUP(A7667,Personnel!A:A,Personnel!C:C)))","v":" "},null,null,null,null,null,null,null,null,"","",1,0," "," ",""," "," ","",null," "," ",",,,,,,,,,,,,"]
[null,{"$f":"IF(A7670=0,\" \",IF(ISNA(MATCH(A7670,Personnel!A:A,0)),\"وجود ندارد\",LOOKUP(A7670,Personnel!A:A,Personnel!B:B)))","v":" "},{"$f":"IF(A7670=0,\" \",IF(ISNA(MATCH(A7670,Personnel!A:A,0)),\"وجود ندارد\",LOOKUP(A7670,Personnel!A:A,Personnel!C:C)))","v":" "},null,null,null,null,null,null,null,null,"","",1,0," "," ",""," "," ","",null," "," ",",,,,,,,,,,,,"]
[null,{"$f":"IF(A7677=0,\" \",IF(ISNA(MATCH(A7677,Personnel!A:A,0)),\"وجود ندارد\",LOOKUP(A7677,Personnel!A:A,Personnel!B:B)))","v":" "},{"$f":"IF(A7677=0,\" \",IF(ISNA(MATCH(A7677,Personnel!A:A,0)),\"وجود ندارد\",LOOKUP(A7677,Personnel!A:A,Personnel!C:C)))","v":" "},null,null,null,null,null,null,null,null,"","",1,0," "," ",""," "," ","",null," "," ",",,,,,,,,,,,,"]
[null,{"$f":"IF(A7688=0,\" \",IF(ISNA(MATCH(A7688,Personnel!A:A,0)),\"وجود ندارد\",LOOKUP(A7688,Personnel!A:A,Personnel!B:B)))","v":" "},{"$f":"IF(A7688=0,\" \",IF(ISNA(MATCH(A7688,Personnel!A:A,0)),\"وجود ندارد\",LOOKUP(A7688,Personnel!A:A,Personnel!C:C)))","v":" "},null,null,null,null,null,null,null,null,"","",1,0," "," ",""," "," ","",null," "," ",",,,,,,,,,,,,"]
[null,{"$f":"IF(A7700=0,\" \",IF(ISNA(MATCH(A7700,Personnel!A:A,0)),\"وجود ندارد\",LOOKUP(A7700,Personnel!A:A,Personnel!B:B)))","v":" "},{"$f":"IF(A7700=0,\" \",IF(ISNA(MATCH(A7700,Personnel!A:A,0)),\"وجود ندارد\",LOOKUP(A7700,Personnel!A:A,Personnel!C:C)))","v":" "},null,null,null,null,null,null,null,null,"","",1,0," "," ",""," "," ","",null," "," ",",,,,,,,,,,,,"]
[null,{"$f":"IF(A7707=0,\" \",IF(ISNA(MATCH(A7707,Personnel!A:A,0)),\"وجود ندارد\",LOOKUP(A7707,Personnel!A:A,Personnel!B:B)))","v":" "},{"$f":"IF(A7707=0,\" \",IF(ISNA(MATCH(A7707,Personnel!A:A,0)),\"وجود ندارد\",LOOKUP(A7707,Personnel!A:A,Personnel!C:C)))","v":" "},null,null,null,null,null,null,null,null,"","",1,0," "," ",""," "," ","",null," "," ",",,,,,,,,,,,,"]
[null,{"$f":"IF(A7719=0,\" \",IF(ISNA(MATCH(A7719,Personnel!A:A,0)),\"وجود ندارد\",LOOKUP(A7719,Personnel!A:A,Personnel!B:B)))","v":" "},{"$f":"IF(A7719=0,\" \",IF(ISNA(MATCH(A7719,Personnel!A:A,0)),\"وجود ندارد\",LOOKUP(A7719,Personnel!A:A,Personnel!C:C)))","v":" "},null,null,null,null,null,null,null,null,"","",1,0," "," ",""," "," ","",null," "," ",",,,,,,,,,,,,"]
[null,{"$f":"IF(A7726=0,\" \",IF(ISNA(MATCH(A7726,Personnel!A:A,0)),\"وجود ندارد\",LOOKUP(A7726,Personnel!A:A,Personnel!B:B)))","v":" "},{"$f":"IF(A7726=0,\" \",IF(ISNA(MATCH(A7726,Personnel!A:A,0)),\"وجود ندارد\",LOOKUP(A7726,Personnel!A:A,Personnel!C:C)))","v":" "},null,null,null,null,null,null,null,null,"","",1,0," "," ",""," "," ","",null," "," ",",,,,,,,,,,,,"]
[null,{"$f":"IF(A7737=0,\" \",IF(ISNA(MATCH(A7737,Personnel!A:A,0)),\"وجود ندارد\",LOOKUP(A7737,Personnel!A:A,Personnel!B:B)))","v":" "},{"$f":"IF(A7737=0,\" \",IF(ISNA(MATCH(A7737,Personnel!A:A,0)),\"وجود ندارد\",LOOKUP(A7737,Personnel!A:A,Personnel!C:C)))","v":" "},null,null,null,null,null,null,null,null,"","",1,0," "," ",""," "," ","",null," "," ",",,,,,,,,,,,,"]
[null,{"$f":"IF(A7740=0,\" \",IF(ISNA(MATCH(A7740,Personnel!A:A,0)),\"وجود ندارد\",LOOKUP(A7740,Personnel!A:A,Personnel!B:B)))","v":" "},{"$f":"IF(A7740=0,\" \",IF(ISNA(MATCH(A7740,Personnel!A:A,0)),\"وجود ندارد\",LOOKUP(A7740,Personnel!A:A,Personnel!C:C)))","v":" "},null,null,null,null,null,null,null,null,"","",1,0," "," ",""," "," ","",null," "," ",",,,,,,,,,,,,"]
[null,{"$f":"IF(A7752=0,\" \",IF(ISNA(MATCH(A7752,Personnel!A:A,0)),\"وجود ندارد\",LOOKUP(A7752,Personnel!A:A,Personnel!B:B)))","v":" "},{"$f":"IF(A7752=0,\" \",IF(ISNA(MATCH(A7752,Personnel!A:A,0)),\"وجود ندارد\",LOOKUP(A7752,Personnel!A:A,Personnel!C:C)))","v":" "},null,null,null,null,null,null,null,null,"","",1,0," "," ",""," "," ","",null," "," ",",,,,,,,,,,,,"]
[null,{"$f":"IF(A7759=0,\" \",IF(ISNA(MATCH(A7759,Personnel!A:A,0)),\"وجود ندارد\",LOOKUP(A7759,Personnel!A:A,Personnel!B:B)))","v":" "},{"$f":"IF(A7759=0,\" \",IF(ISNA(MATCH(A7759,Personnel!A:A,0)),\"وجود ندارد\",LOOKUP(A7759,Personnel!A:A,Personnel!C:C)))","v":" "},null,null,null,null,null,null,null,null,"","",1,0," "," ",""," "," ","",null," "," ",",,,,,,,,,,,,"]
[null,{"$f":"IF(A7767=0,\" \",IF(ISNA(MATCH(A7767,Personnel!A:A,0)),\"وجود ندارد\",LOOKUP(A7767,Personnel!A:A,Personnel!B:B)))","v":" "},{"$f":"IF(A7767=0,\" \",IF(ISNA(MATCH(A7767,Personnel!A:A,0)),\"وجود ندارد\",LOOKUP(A7767,Personnel!A:A,Personnel!C:C)))","v":" "},null,null,null,null,null,null,null,null,"","",1,0," "," ",""," "," ","",null," "," ",",,,,,,,,,,,,"]
[null,{"$f":"IF(A7777=0,\" \",IF(ISNA(MATCH(A7777,Personnel!A:A,0)),\"وجود ندارد\",LOOKUP(A7777,Personnel!A:A,Personnel!B:B)))","v":" "},{"$f":"IF(A7777=0,\" \",IF(ISNA(MATCH(A7777,Personnel!A:A,0)),\"وجود ندارد\",LOOKUP(A7777,Personnel!A:A,Personnel!C:C)))","v":" "},null,null,null,null,null,null,null,null,"","",1,0," "," ",""," "," ","",null," "," ",",,,,,,,,,,,,"]
[null,{"$f":"IF(A7789=0,\" \",IF(ISNA(MATCH(A7789,Personnel!A:A,0)),\"وجود ندارد\",LOOKUP(A7789,Personnel!A:A,Personnel!B:B)))","v":" "},{"$f":"IF(A7789=0,\" \",IF(ISNA(MATCH(A7789,Personnel!A:A,0)),\"وجود ندارد\",LOOKUP(A7789,Personnel!A:A,Personnel!C:C)))","v":" "},null,null,null,null,null,null,null,null,"","",1,0," "," ",""," "," ","",null," "," ",",,,,,,,,,,,,"]
[null,{"$f":"IF(A7792=0,\" \",IF(ISNA(MATCH(A7792,Personnel!A:A,0)),\"وجود ندارد\",LOOKUP(A7792,Personnel!A:A,Personnel!B:B)))","v":" "},{"$f":"IF(A7792=0,\" \",IF(ISNA(MATCH(A7792,Personnel!A:A,0)),\"وجود ندارد\",LOOKUP(A7792,Personnel!A:A,Personnel!C:C)))","v":" "},null,null,null,null,null,null,null,null,"","",1,0," "," ",""," "," ","",null," "," ",",,,,,,,,,,,,"]
[null,{"$f":"IF(A7808=0,\" \",IF(ISNA(MATCH(A7808,Personnel!A:A,0)),\"وجود ندارد\",LOOKUP(A7808,Personnel!A:A,Personnel!B:B)))","v":" "},{"$f":"IF(A7808=0,\" \",IF(ISNA(MATCH(A7808,Personnel!A:A,0)),\"وجود ندارد\",LOOKUP(A7808,Personnel!A:A,Personnel!C:C)))","v":" "},null,null,null,null,null,null,null,null,"","",1,0," "," ",""," "," ","",null," "," ",",,,,,,,,,,,,"]
[null,{"$f":"IF(A7816=0,\" \",IF(ISNA(MATCH(A7816,Personnel!A:A,0)),\"وجود ندارد\",LOOKUP(A7816,Personnel!A:A,Personnel!B:B)))","v":" "},{"$f":"IF(A7816=0,\" \",IF(ISNA(MATCH(A7816,Personnel!A:A,0)),\"وجود ندارد\",LOOKUP(A7816,Personnel!A:A,Personnel!C:C)))","v":" "},null,null,null,null,null,null,null,null,"","",1,0," "," ",""," "," ","",null," "," ",",,,,,,,,,,,,"]
[null,{"$f":"IF(A7817=0,\" \",IF(ISNA(MATCH(A7817,Personnel!A:A,0)),\"وجود ندارد\",LOOKUP(A7817,Personnel!A:A,Personnel!B:B)))","v":" "},{"$f":"IF(A7817=0,\" \",IF(ISNA(MATCH(A7817,Personnel!A:A,0)),\"وجود ندارد\",LOOKUP(A7817,Personnel!A:A,Personnel!C:C)))","v":" "},null,null,null,null,null,null,null,null,"","",1,0," "," ",""," "," ","",null," "," ",",,,,,,,,,,,,"]
[null,{"$f":"IF(A7829=0,\" \",IF(ISNA(MATCH(A7829,Personnel!A:A,0)),\"وجود ندارد\",LOOKUP(A7829,Personnel!A:A,Personnel!B:B)))","v":" "},{"$f":"IF(A7829=0,\" \",IF(ISNA(MATCH(A7829,Personnel!A:A,0)),\"وجود ندارد\",LOOKUP(A7829,Personnel!A:A,Personnel!C:C)))","v":" "},null,null,null,null,null,null,null,null,"","",1,0," "," ",""," "," ","",null," "," ",",,,,,,,,,,,,"]
[null,{"$f":"IF(A7841=0,\" \",IF(ISNA(MATCH(A7841,Personnel!A:A,0)),\"وجود ندارد\",LOOKUP(A7841,Personnel!A:A,Personnel!B:B)))","v":" "},{"$f":"IF(A7841=0,\" \",IF(ISNA(MATCH(A7841,Personnel!A:A,0)),\"وجود ندارد\",LOOKUP(A7841,Personnel!A:A,Personnel!C:C)))","v":" "},null,null,null,null,null,null,null,null,"","",1,0," "," ",""," "," ","",null," "," ",",,,,,,,,,,,,"]
[null,{"$f":"IF(A7848=0,\" \",IF(ISNA(MATCH(A7848,Personnel!A:A,0)),\"وجود ندارد\",LOOKUP(A7848,Personnel!A:A,Personnel!B:B)))","v":" "},{"$f":"IF(A7848=0,\" \",IF(ISNA(MATCH(A7848,Personnel!A:A,0)),\"وجود ندارد\",LOOKUP(A7848,Personnel!A:A,Personnel!C:C)))","v":" "},null,null,null,null,null,null,null,null,"","",1,0," "," ",""," "," ","",null," "," ",",,,,,,,,,,,,"]
[null,{"$f":"IF(A7857=0,\" \",IF(ISNA(MATCH(A7857,Personnel!A:A,0)),\"وجود ندارد\",LOOKUP(A7857,Personnel!A:A,Personnel!B:B)))","v":" "},{"$f":"IF(A7857=0,\" \",IF(ISNA(MATCH(A7857,Personnel!A:A,0)),\"وجود ندارد\",LOOKUP(A7857,Personnel!A:A,Personnel!C:C)))","v":" "},null,null,null,null,null,null,null,null,"","",1,0," "," ",""," "," ","",null," "," ",",,,,,,,,,,,,"]
[null,{"$f":"IF(A7862=0,\" \",IF(ISNA(MATCH(A7862,Personnel!A:A,0)),\"وجود ندارد\",LOOKUP(A7862,Personnel!A:A,Personnel!B:B)))","v":" "},{"$f":"IF(A7862=0,\" \",IF(ISNA(MATCH(A7862,Personnel!A:A,0)),\"وجود ندارد\",LOOKUP(A7862,Personnel!A:A,Personnel!C:C)))","v":" "},null,null,null,null,null,null,null,null,"","",1,0," "," ",""," "," ","",null," "," ",",,,,,,,,,,,,"]
[null,{"$f":"IF(A7878=0,\" \",IF(ISNA(MATCH(A7878,Personnel!A:A,0)),\"وجود ندارد\",LOOKUP(A7878,Personnel!A:A,Personnel!B:B)))","v":" "},{"$f":"IF(A7878=0,\" \",IF(ISNA(MATCH(A7878,Personnel!A:A,0)),\"وجود ندارد\",LOOKUP(A7878,Personnel!A:A,Personnel!C:C)))","v":" "},null,null,null,null,null,null,null,null,"","",1,0," "," ",""," "," ","",null," "," ",",,,,,,,,,,,,"]
[null,{"$f":"IF(A7881=0,\" \",IF(ISNA(MATCH(A7881,Personnel!A:A,0)),\"وجود ندارد\",LOOKUP(A7881,Personnel!A:A,Personnel!B:B)))","v":" "},{"$f":"IF(A7881=0,\" \",IF(ISNA(MATCH(A7881,Personnel!A:A,0)),\"وجود ندارد\",LOOKUP(A7881,Personnel!A:A,Personnel!C:C)))","v":" "},null,null,null,null,null,null,null,null,"","",1,0," "," ",""," "," ","",null," "," ",",,,,,,,,,,,,"]
[null,{"$f":"IF(A7888=0,\" \",IF(ISNA(MATCH(A7888,Personnel!A:A,0)),\"وجود ندارد\",LOOKUP(A7888,Personnel!A:A,Personnel!B:B)))","v":" "},{"$f":"IF(A7888=0,\" \",IF(ISNA(MATCH(A7888,Personnel!A:A,0)),\"وجود ندارد\",LOOKUP(A7888,Personnel!A:A,Personnel!C:C)))","v":" "},null,null,null,null,null,null,null,null,"","",1,0," "," ",""," "," ","",null," "," ",",,,,,,,,,,,,"]
[null,{"$f":"IF(A7898=0,\" \",IF(ISNA(MATCH(A7898,Personnel!A:A,0)),\"وجود ندارد\",LOOKUP(A7898,Personnel!A:A,Personnel!B:B)))","v":" "},{"$f":"IF(A7898=0,\" \",IF(ISNA(MATCH(A7898,Personnel!A:A,0)),\"وجود ندارد\",LOOKUP(A7898,Personnel!A:A,Personnel!C:C)))","v":" "},null,null,null,null,null,null,null,null,"","",1,0," "," ",""," "," ","",null," "," ",",,,,,,,,,,,,"]
[null,{"$f":"IF(A7911=0,\" \",IF(ISNA(MATCH(A7911,Personnel!A:A,0)),\"وجود ندارد\",LOOKUP(A7911,Personnel!A:A,Personnel!B:B)))","v":" "},{"$f":"IF(A7911=0,\" \",IF(ISNA(MATCH(A7911,Personnel!A:A,0)),\"وجود ندارد\",LOOKUP(A7911,Personnel!A:A,Personnel!C:C)))","v":" "},null,null,null,null,null,null,null,null,"","",1,0," "," ",""," "," ","",null," "," ",",,,,,,,,,,,,"]
[null,{"$f":"IF(A7918=0,\" \",IF(ISNA(MATCH(A7918,Personnel!A:A,0)),\"وجود ندارد\",LOOKUP(A7918,Personnel!A:A,Personnel!B:B)))","v":" "},{"$f":"IF(A7918=0,\" \",IF(ISNA(MATCH(A7918,Personnel!A:A,0)),\"وجود ندارد\",LOOKUP(A7918,Personnel!A:A,Personnel!C:C)))","v":" "},null,null,null,null,null,null,null,null,"","",1,0," "," ",""," "," ","",null," "," ",",,,,,,,,,,,,"]
[null,{"$f":"IF(A7930=0,\" \",IF(ISNA(MATCH(A7930,Personnel!A:A,0)),\"وجود ندارد\",LOOKUP(A7930,Personnel!A:A,Personnel!B:B)))","v":" "},{"$f":"IF(A7930=0,\" \",IF(ISNA(MATCH(A7930,Personnel!A:A,0)),\"وجود ندارد\",LOOKUP(A7930,Personnel!A:A,Personnel!C:C)))","v":" "},null,null,null,null,null,null,null,null,"","",1,0," "," ",""," "," ","",null," "," ",",,,,,,,,,,,,"]
[null,{"$f":"IF(A7933=0,\" \",IF(ISNA(MATCH(A7933,Personnel!A:A,0)),\"وجود ندارد\",LOOKUP(A7933,Personnel!A:A,Personnel!B:B)))","v":" "},{"$f":"IF(A7933=0,\" \",IF(ISNA(MATCH(A7933,Personnel!A:A,0)),\"وجود ندارد\",LOOKUP(A7933,Personnel!A:A,Personnel!C:C)))","v":" "},null,null,null,null,null,null,null,null,"","",1,0," "," ",""," "," ","",null," "," ",",,,,,,,,,,,,"]
[null,{"$f":"IF(A7947=0,\" \",IF(ISNA(MATCH(A7947,Personnel!A:A,0)),\"وجود ندارد\",LOOKUP(A7947,Personnel!A:A,Personnel!B:B)))","v":" "},{"$f":"IF(A7947=0,\" \",IF(ISNA(MATCH(A7947,Personnel!A:A,0)),\"وجود ندارد\",LOOKUP(A7947,Personnel!A:A,Personnel!C:C)))","v":" "},null,null,null,null,null,null,null,null,"","",1,0," "," ",""," "," ","",null," "," ",",,,,,,,,,,,,"]
[null,{"$f":"IF(A7951=0,\" \",IF(ISNA(MATCH(A7951,Personnel!A:A,0)),\"وجود ندارد\",LOOKUP(A7951,Personnel!A:A,Personnel!B:B)))","v":" "},{"$f":"IF(A7951=0,\" \",IF(ISNA(MATCH(A7951,Personnel!A:A,0)),\"وجود ندارد\",LOOKUP(A7951,Personnel!A:A,Personnel!C:C)))","v":" "},null,null,null,null,null,null,null,null,"","",1,0," "," ",""," "," ","",null," "," ",",,,,,,,,,,,,"]
[null,{"$f":"IF(A7958=0,\" \",IF(ISNA(MATCH(A7958,Personnel!A:A,0)),\"وجود ندارد\",LOOKUP(A7958,Personnel!A:A,Personnel!B:B)))","v":" "},{"$f":"IF(A7958=0,\" \",IF(ISNA(MATCH(A7958,Personnel!A:A,0)),\"وجود ندارد\",LOOKUP(A7958,Personnel!A:A,Personnel!C:C)))","v":" "},null,null,null,null,null,null,null,null,"","",1,0," "," ",""," "," ","",null," "," ",",,,,,,,,,,,,"]
[null,{"$f":"IF(A7970=0,\" \",IF(ISNA(MATCH(A7970,Personnel!A:A,0)),\"وجود ندارد\",LOOKUP(A7970,Personnel!A:A,Personnel!B:B)))","v":" "},{"$f":"IF(A7970=0,\" \",IF(ISNA(MATCH(A7970,Personnel!A:A,0)),\"وجود ندارد\",LOOKUP(A7970,Personnel!A:A,Personnel!C:C)))","v":" "},null,null,null,null,null,null,null,null,"","",1,0," "," ",""," "," ","",null," "," ",",,,,,,,,,,,,"]
[null,{"$f":"IF(A7982=0,\" \",IF(ISNA(MATCH(A7982,Personnel!A:A,0)),\"وجود ندارد\",LOOKUP(A7982,Personnel!A:A,Personnel!B:B)))","v":" "},{"$f":"IF(A7982=0,\" \",IF(ISNA(MATCH(A7982,Personnel!A:A,0)),\"وجود ندارد\",LOOKUP(A7982,Personnel!A:A,Personnel!C:C)))","v":" "},null,null,null,null,null,null,null,null,"","",1,0," "," ",""," "," ","",null," "," ",",,,,,,,,,,,,"]
[null,{"$f":"IF(A7988=0,\" \",IF(ISNA(MATCH(A7988,Personnel!A:A,0)),\"وجود ندارد\",LOOKUP(A7988,Personnel!A:A,Personnel!B:B)))","v":" "},{"$f":"IF(A7988=0,\" \",IF(ISNA(MATCH(A7988,Personnel!A:A,0)),\"وجود ندارد\",LOOKUP(A7988,Personnel!A:A,Personnel!C:C)))","v":" "},null,null,null,null,null,null,null,null,"","",1,0," "," ",""," "," ","",null," "," ",",,,,,,,,,,,,"]
[null,{"$f":"IF(A8000=0,\" \",IF(ISNA(MATCH(A8000,Personnel!A:A,0)),\"وجود ندارد\",LOOKUP(A8000,Personnel!A:A,Personnel!B:B)))","v":" "},{"$f":"IF(A8000=0,\" \",IF(ISNA(MATCH(A8000,Personnel!A:A,0)),\"وجود ندارد\",LOOKUP(A8000,Personnel!A:A,Personnel!C:C)))","v":" "},null,null,null,null,null,null,null,null,"","",1,0," "," ",""," "," ","",null," "," ",",,,,,,,,,,,,"]
[null,{"$f":"IF(A8007=0,\" \",IF(ISNA(MATCH(A8007,Personnel!A:A,0)),\"وجود ندارد\",LOOKUP(A8007,Personnel!A:A,Personnel!B:B)))","v":" "},{"$f":"IF(A8007=0,\" \",IF(ISNA(MATCH(A8007,Personnel!A:A,0)),\"وجود ندارد\",LOOKUP(A8007,Personnel!A:A,Personnel!C:C)))","v":" "},null,null,null,null,null,null,null,null,"","",1,0," "," ",""," "," ","",null," "," ",",,,,,,,,,,,,"]
[null,{"$f":"IF(A8019=0,\" \",IF(ISNA(MATCH(A8019,Personnel!A:A,0)),\"وجود ندارد\",LOOKUP(A8019,Personnel!A:A,Personnel!B:B)))","v":" "},{"$f":"IF(A8019=0,\" \",IF(ISNA(MATCH(A8019,Personnel!A:A,0)),\"وجود ندارد\",LOOKUP(A8019,Personnel!A:A,Personnel!C:C)))","v":" "},null,null,null,null,null,null,null,null,"","",1,0," "," ",""," "," ","",null," "," ",",,,,,,,,,,,,"]
[null,{"$f":"IF(A8022=0,\" \",IF(ISNA(MATCH(A8022,Personnel!A:A,0)),\"وجود ندارد\",LOOKUP(A8022,Personnel!A:A,Personnel!B:B)))","v":" "},{"$f":"IF(A8022=0,\" \",IF(ISNA(MATCH(A8022,Personnel!A:A,0)),\"وجود ندارد\",LOOKUP(A8022,Personnel!A:A,Personnel!C:C)))","v":" "},null,null,null,null,null,null,null,null,"","",1,0," "," ",""," "," ","",null," "," ",",,,,,,,,,,,,"]
[null,{"$f":"IF(A8029=0,\" \",IF(ISNA(MATCH(A8029,Personnel!A:A,0)),\"وجود ندارد\",LOOKUP(A8029,Personnel!A:A,Personnel!B:B)))","v":" "},{"$f":"IF(A8029=0,\" \",IF(ISNA(MATCH(A8029,Personnel!A:A,0)),\"وجود ندارد\",LOOKUP(A8029,Personnel!A:A,Personnel!C:C)))","v":" "},null,null,null,null,null,null,null,null,"","",1,0," "," ",""," "," ","",null," "," ",",,,,,,,,,,,,"]
[null,{"$f":"IF(A8040=0,\" \",IF(ISNA(MATCH(A8040,Personnel!A:A,0)),\"وجود ندارد\",LOOKUP(A8040,Personnel!A:A,Personnel!B:B)))","v":" "},{"$f":"IF(A8040=0,\" \",IF(ISNA(MATCH(A8040,Personnel!A:A,0)),\"وجود ندارد\",LOOKUP(A8040,Personnel!A:A,Personnel!C:C)))","v":" "},null,null,null,null,null,null,null,null,"","",1,0," "," ",""," "," ","",null," "," ",",,,,,,,,,,,,"]
[null,{"$f":"IF(A8052=0,\" \",IF(ISNA(MATCH(A8052,Personnel!A:A,0)),\"وجود ندارد\",LOOKUP(A8052,Personnel!A:A,Personnel!B:B)))","v":" "},{"$f":"IF(A8052=0,\" \",IF(ISNA(MATCH(A8052,Personnel!A:A,0)),\"وجود ندارد\",LOOKUP(A8052,Personnel!A:A,Personnel!C:C)))","v":" "},null,null,null,null,null,null,null,null,"","",1,0," "," ",""," "," ","",null," "," ",",,,,,,,,,,,,"]
[null,{"$f":"IF(A8059=0,\" \",IF(ISNA(MATCH(A8059,Personnel!A:A,0)),\"وجود ندارد\",LOOKUP(A8059,Personnel!A:A,Personnel!B:B)))","v":" "},{"$f":"IF(A8059=0,\" \",IF(ISNA(MATCH(A8059,Personnel!A:A,0)),\"وجود ندارد\",LOOKUP(A8059,Personnel!A:A,Personnel!C:C)))","v":" "},null,null,null,null,null,null,null,null,"","",1,0," "," ",""," "," ","",null," "," ",",,,,,,,,,,,,"]
[null,{"$f":"IF(A8068=0,\" \",IF(ISNA(MATCH(A8068,Personnel!A:A,0)),\"وجود ندارد\",LOOKUP(A8068,Personnel!A:A,Personnel!B:B)))","v":" "},{"$f":"IF(A8068=0,\" \",IF(ISNA(MATCH(A8068,Personnel!A:A,0)),\"وجود ندارد\",LOOKUP(A8068,Personnel!A:A,Personnel!C:C)))","v":" "},null,null,null,null,null,null,null,null,"","",1,0," "," ",""," "," ","",null," "," ",",,,,,,,,,,,,"]
[null,{"$f":"IF(A8077=0,\" \",IF(ISNA(MATCH(A8077,Personnel!A:A,0)),\"وجود ندارد\",LOOKUP(A8077,Personnel!A:A,Personnel!B:B)))","v":" "},{"$f":"IF(A8077=0,\" \",IF(ISNA(MATCH(A8077,Personnel!A:A,0)),\"وجود ندارد\",LOOKUP(A8077,Personnel!A:A,Personnel!C:C)))","v":" "},null,null,null,null,null,null,null,null,"","",1,0," "," ",""," "," ","",null," "," ",",,,,,,,,,,,,"]
[null,{"$f":"IF(A8089=0,\" \",IF(ISNA(MATCH(A8089,Personnel!A:A,0)),\"وجود ندارد\",LOOKUP(A8089,Personnel!A:A,Personnel!B:B)))","v":" "},{"$f":"IF(A8089=0,\" \",IF(ISNA(MATCH(A8089,Personnel!A:A,0)),\"وجود ندارد\",LOOKUP(A8089,Personnel!A:A,Personnel!C:C)))","v":" "},null,null,null,null,null,null,null,null,"","",1,0," "," ",""," "," ","",null," "," ",",,,,,,,,,,,,"]
[null,{"$f":"IF(A8092=0,\" \",IF(ISNA(MATCH(A8092,Personnel!A:A,0)),\"وجود ندارد\",LOOKUP(A8092,Personnel!A:A,Personnel!B:B)))","v":" "},{"$f":"IF(A8092=0,\" \",IF(ISNA(MATCH(A8092,Personnel!A:A,0)),\"وجود ندارد\",LOOKUP(A8092,Personnel!A:A,Personnel!C:C)))","v":" "},null,null,null,null,null,null,null,null,"","",1,0," "," ",""," "," ","",null," "," ",",,,,,,,,,,,,"]
[null,{"$f":"IF(A8099=0,\" \",IF(ISNA(MATCH(A8099,Personnel!A:A,0)),\"وجود ندارد\",LOOKUP(A8099,Personnel!A:A,Personnel!B:B)))","v":" "},{"$f":"IF(A8099=0,\" \",IF(ISNA(MATCH(A8099,Personnel!A:A,0)),\"وجود ندارد\",LOOKUP(A8099,Personnel!A:A,Personnel!C:C)))","v":" "},null,null,null,null,null,null,null,null,"","",1,0," "," ",""," "," ","",null," "," ",",,,,,,,,,,,,"]
[null,{"$f":"IF(A8109=0,\" \",IF(ISNA(MATCH(A8109,Personnel!A:A,0)),\"وجود ندارد\",LOOKUP(A8109,Personnel!A:A,Personnel!B:B)))","v":" "},{"$f":"IF(A8109=0,\" \",IF(ISNA(MATCH(A8109,Personnel!A:A,0)),\"وجود ندارد\",LOOKUP(A8109,Personnel!A:A,Personnel!C:C)))","v":" "},null,null,null,null,null,null,null,null,"","",1,0," "," ",""," "," ","",null," "," ",",,,,,,,,,,,,"]
[null,{"$f":"IF(A8117=0,\" \",IF(ISNA(MATCH(A8117,Personnel!A:A,0)),\"وجود ندارد\",LOOKUP(A8117,Personnel!A:A,Personnel!B:B)))","v":" "},{"$f":"IF(A8117=0,\" \",IF(ISNA(MATCH(A8117,Personnel!A:A,0)),\"وجود ندارد\",LOOKUP(A8117,Personnel!A:A,Personnel!C:C)))","v":" "},null,null,null,null,null,null,null,null,"","",1,0," "," ",""," "," ","",null," "," ",",,,,,,,,,,,,"]
[null,{"$f":"IF(A8129=0,\" \",IF(ISNA(MATCH(A8129,Personnel!A:A,0)),\"وجود ندارد\",LOOKUP(A8129,Personnel!A:A,Personnel!B:B)))","v":" "},{"$f":"IF(A8129=0,\" \",IF(ISNA(MATCH(A8129,Personnel!A:A,0)),\"وجود ندارد\",LOOKUP(A8129,Personnel!A:A,Personnel!C:C)))","v":" "},null,null,null,null,null,null,null,null,"","",1,0," "," ",""," "," ","",null," "," ",",,,,,,,,,,,,"]
[null,{"$f":"IF(A8141=0,\" \",IF(ISNA(MATCH(A8141,Personnel!A:A,0)),\"وجود ندارد\",LOOKUP(A8141,Personnel!A:A,Personnel!B:B)))","v":" "},{"$f":"IF(A8141=0,\" \",IF(ISNA(MATCH(A8141,Personnel!A:A,0)),\"وجود ندارد\",LOOKUP(A8141,Personnel!A:A,Personnel!C:C)))","v":" "},null,null,null,null,null,null,null,null,"","",1,0," "," ",""," "," ","",null," "," ",",,,,,,,,,,,,"]
[null,{"$f":"IF(A8148=0,\" \",IF(ISNA(MATCH(A8148,Personnel!A:A,0)),\"وجود ندارد\",LOOKUP(A8148,Personnel!A:A,Personnel!B:B)))","v":" "},{"$f":"IF(A8148=0,\" \",IF(ISNA(MATCH(A8148,Personnel!A:A,0)),\"وجود ندارد\",LOOKUP(A8148,Personnel!A:A,Personnel!C:C)))","v":" "},null,null,null,null,null,null,null,null,"","",1,0," "," ",""," "," ","",null," "," ",",,,,,,,,,,,,"]
[null,{"$f":"IF(A8158=0,\" \",IF(ISNA(MATCH(A8158,Personnel!A:A,0)),\"وجود ندارد\",LOOKUP(A8158,Personnel!A:A,Personnel!B:B)))","v":" "},{"$f":"IF(A8158=0,\" \",IF(ISNA(MATCH(A8158,Personnel!A:A,0)),\"وجود ندارد\",LOOKUP(A8158,Personnel!A:A,Personnel!C:C)))","v":" "},null,null,null,null,null,null,null,null,"","",1,0," "," ",""," "," ","",null," "," ",",,,,,,,,,,,,"]
[null,{"$f":"IF(A8162=0,\" \",IF(ISNA(MATCH(A8162,Personnel!A:A,0)),\"وجود ندارد\",LOOKUP(A8162,Personnel!A:A,Personnel!B:B)))","v":" "},{"$f":"IF(A8162=0,\" \",IF(ISNA(MATCH(A8162,Personnel!A:A,0)),\"وجود ندارد\",LOOKUP(A8162,Personnel!A:A,Personnel!C:C)))","v":" "},null,null,null,null,null,null,null,null,"","",1,0," "," ",""," "," ","",null," "," ",",,,,,,,,,,,,"]
[null,{"$f":"IF(A8169=0,\" \",IF(ISNA(MATCH(A8169,Personnel!A:A,0)),\"وجود ندارد\",LOOKUP(A8169,Personnel!A:A,Personnel!B:B)))","v":" "},{"$f":"IF(A8169=0,\" \",IF(ISNA(MATCH(A8169,Personnel!A:A,0)),\"وجود ندارد\",LOOKUP(A8169,Personnel!A:A,Personnel!C:C)))","v":" "},null,null,null,null,null,null,null,null,"","",1,0," "," ",""," "," ","",null," "," ",",,,,,,,,,,,,"]
[null,{"$f":"IF(A8181=0,\" \",IF(ISNA(MATCH(A8181,Personnel!A:A,0)),\"وجود ندارد\",LOOKUP(A8181,Personnel!A:A,Personnel!B:B)))","v":" "},{"$f":"IF(A8181=0,\" \",IF(ISNA(MATCH(A8181,Personnel!A:A,0)),\"وجود ندارد\",LOOKUP(A8181,Personnel!A:A,Personnel!C:C)))","v":" "},null,null,null,null,null,null,null,null,"","",1,0," "," ",""," "," ","",null," "," ",",,,,,,,,,,,,"]
[null,{"$f":"IF(A8188=0,\" \",IF(ISNA(MATCH(A8188,Personnel!A:A,0)),\"وجود ندارد\",LOOKUP(A8188,Personnel!A:A,Personnel!B:B)))","v":" "},{"$f":"IF(A8188=0,\" \",IF(ISNA(MATCH(A8188,Personnel!A:A,0)),\"وجود ندارد\",LOOKUP(A8188,Personnel!A:A,Personnel!C:C)))","v":" "},null,null,null,null,null,null,null,null,"","",1,0," "," ",""," "," ","",null," "," ",",,,,,,,,,,,,"]
[null,{"$f":"IF(A8199=0,\" \",IF(ISNA(MATCH(A8199,Personnel!A:A,0)),\"وجود ندارد\",LOOKUP(A8199,Personnel!A:A,Personnel!B:B)))","v":" "},{"$f":"IF(A8199=0,\" \",IF(ISNA(MATCH(A8199,Personnel!A:A,0)),\"وجود ندارد\",LOOKUP(A8199,Personnel!A:A,Personnel!C:C)))","v":" "},null,null,null,null,null,null,null,null,"","",1,0," "," ",""," "," ","",null," "," ",",,,,,,,,,,,,"]
[null,{"$f":"IF(A8211=0,\" \",IF(ISNA(MATCH(A8211,Personnel!A:A,0)),\"وجود ندارد\",LOOKUP(A8211,Personnel!A:A,Personnel!B:B)))","v":" "},{"$f":"IF(A8211=0,\" \",IF(ISNA(MATCH(A8211,Personnel!A:A,0)),\"وجود ندارد\",LOOKUP(A8211,Personnel!A:A,Personnel!C:C)))","v":" "},null,null,null,null,null,null,null,null,"","",1,0," "," ",""," "," ","",null," "," ",",,,,,,,,,,,,"]
[null,{"$f":"IF(A8218=0,\" \",IF(ISNA(MATCH(A8218,Personnel!A:A,0)),\"وجود ندارد\",LOOKUP(A8218,Personnel!A:A,Personnel!B:B)))","v":" "},{"$f":"IF(A8218=0,\" \",IF(ISNA(MATCH(A8218,Personnel!A:A,0)),\"وجود ندارد\",LOOKUP(A8218,Personnel!A:A,Personnel!C:C)))","v":" "},null,null,null,null,null,null,null,null,"","",1,0," "," ",""," "," ","",null," "," ",",,,,,,,,,,,,"]
[null,{"$f":"IF(A8230=0,\" \",IF(ISNA(MATCH(A8230,Personnel!A:A,0)),\"وجود ندارد\",LOOKUP(A8230,Personnel!A:A,Personnel!B:B)))","v":" "},{"$f":"IF(A8230=0,\" \",IF(ISNA(MATCH(A8230,Personnel!A:A,0)),\"وجود ندارد\",LOOKUP(A8230,Personnel!A:A,Personnel!C:C)))","v":" "},null,null,null,null,null,null,null,null,"","",1,0," "," ",""," "," ","",null," "," ",",,,,,,,,,,,,"]
[null,{"$f":"IF(A8233=0,\" \",IF(ISNA(MATCH(A8233,Personnel!A:A,0)),\"وجود ندارد\",LOOKUP(A8233,Personnel!A:A,Personnel!B:B)))","v":" "},{"$f":"IF(A8233=0,\" \",IF(ISNA(MATCH(A8233,Personnel!A:A,0)),\"وجود ندارد\",LOOKUP(A8233,Personnel!A:A,Personnel!C:C)))","v":" "},null,null,null,null,null,null,null,null,"","",1,0," "," ",""," "," ","",null," "," ",",,,,,,,,,,,,"]
[null,{"$f":"IF(A8240=0,\" \",IF(ISNA(MATCH(A8240,Personnel!A:A,0)),\"وجود ندارد\",LOOKUP(A8240,Personnel!A:A,Personnel!B:B)))","v":" "},{"$f":"IF(A8240=0,\" \",IF(ISNA(MATCH(A8240,Personnel!A:A,0)),\"وجود ندارد\",LOOKUP(A8240,Personnel!A:A,Personnel!C:C)))","v":" "},null,null,null,null,null,null,null,null,"","",1,0," "," ",""," "," ","",null," "," ",",,,,,,,,,,,,"]
[null,{"$f":"IF(A8251=0,\" \",IF(ISNA(MATCH(A8251,Personnel!A:A,0)),\"وجود ندارد\",LOOKUP(A8251,Personnel!A:A,Personnel!B:B)))","v":" "},{"$f":"IF(A8251=0,\" \",IF(ISNA(MATCH(A8251,Personnel!A:A,0)),\"وجود ندارد\",LOOKUP(A8251,Personnel!A:A,Personnel!C:C)))","v":" "},null,null,null,null,null,null,null,null,"","",1,0," "," ",""," "," ","",null," "," ",",,,,,,,,,,,,"]
[null,{"$f":"IF(A8258=0,\" \",IF(ISNA(MATCH(A8258,Personnel!A:A,0)),\"وجود ندارد\",LOOKUP(A8258,Personnel!A:A,Personnel!B:B)))","v":" "},{"$f":"IF(A8258=0,\" \",IF(ISNA(MATCH(A8258,Personnel!A:A,0)),\"وجود ندارد\",LOOKUP(A8258,Personnel!A:A,Personnel!C:C)))","v":" "},null,null,null,null,null,null,null,null,"","",1,0,{"$f":"IF(A8258=0,\" \",IF(N8258+O8258<>0,\"تاریخ اشتباه است\",\"\"))","v":" "},{"$f":"IF(A8258=0,\" \",IF(AND(G8258<>0,H8258>G8258),\"مبلغ قسط از مبلغ کل بیشتر است\",\"\"))","v":" "},""," ",{"$f":"IF(A8258=0,\" \",IF(OR(K8258<1,K8258>3),\"نوع عمل اشتباه است\",\"\"))","v":" "},"",null," "," ",",,,,,,,,,,,,"]
[null,{"$f":"IF(A8270=0,\" \",IF(ISNA(MATCH(A8270,Personnel!A:A,0)),\"وجود ندارد\",LOOKUP(A8270,Personnel!A:A,Personnel!B:B)))","v":" "},{"$f":"IF(A8270=0,\" \",IF(ISNA(MATCH(A8270,Personnel!A:A,0)),\"وجود ندارد\",LOOKUP(A8270,Personnel!A:A,Personnel!C:C)))","v":" "},null,null,null,null,null,null,null,null,"","",1,0," "," ",""," "," ","",null," "," ",",,,,,,,,,,,,"]
[null,{"$f":"IF(A8282=0,\" \",IF(ISNA(MATCH(A8282,Personnel!A:A,0)),\"وجود ندارد\",LOOKUP(A8282,Personnel!A:A,Personnel!B:B)))","v":" "},{"$f":"IF(A8282=0,\" \",IF(ISNA(MATCH(A8282,Personnel!A:A,0)),\"وجود ندارد\",LOOKUP(A8282,Personnel!A:A,Personnel!C:C)))","v":" "},null,null,null,null,null,null,null,null,"","",1,0," "," ",""," "," ","",null," "," ",",,,,,,,,,,,,"]
[null,{"$f":"IF(A8289=0,\" \",IF(ISNA(MATCH(A8289,Personnel!A:A,0)),\"وجود ندارد\",LOOKUP(A8289,Personnel!A:A,Personnel!B:B)))","v":" "},{"$f":"IF(A8289=0,\" \",IF(ISNA(MATCH(A8289,Personnel!A:A,0)),\"وجود ندارد\",LOOKUP(A8289,Personnel!A:A,Personnel!C:C)))","v":" "},null,null,null,null,null,null,null,null,"","",1,0," "," ",""," "," ","",null," "," ",",,,,,,,,,,,,"]
[null,{"$f":"IF(A8300=0,\" \",IF(ISNA(MATCH(A8300,Personnel!A:A,0)),\"وجود ندارد\",LOOKUP(A8300,Personnel!A:A,Personnel!B:B)))","v":" "},{"$f":"IF(A8300=0,\" \",IF(ISNA(MATCH(A8300,Personnel!A:A,0)),\"وجود ندارد\",LOOKUP(A8300,Personnel!A:A,Personnel!C:C)))","v":" "},null,null,null,null,null,null,null,null,"","",1,0," "," ",""," "," ","",null," "," ",",,,,,,,,,,,,"]
[null,{"$f":"IF(A8307=0,\" \",IF(ISNA(MATCH(A8307,Personnel!A:A,0)),\"وجود ندارد\",LOOKUP(A8307,Personnel!A:A,Personnel!B:B)))","v":" "},{"$f":"IF(A8307=0,\" \",IF(ISNA(MATCH(A8307,Personnel!A:A,0)),\"وجود ندارد\",LOOKUP(A8307,Personnel!A:A,Personnel!C:C)))","v":" "},null,null,null,null,null,null,null,null,"","",1,0," "," ",""," "," ","",null," "," ",",,,,,,,,,,,,"]
[null,{"$f":"IF(A8310=0,\" \",IF(ISNA(MATCH(A8310,Personnel!A:A,0)),\"وجود ندارد\",LOOKUP(A8310,Personnel!A:A,Personnel!B:B)))","v":" "},{"$f":"IF(A8310=0,\" \",IF(ISNA(MATCH(A8310,Personnel!A:A,0)),\"وجود ندارد\",LOOKUP(A8310,Personnel!A:A,Personnel!C:C)))","v":" "},null,null,null,null,null,null,null,null,"","",1,0," "," ",""," "," ","",null," "," ",",,,,,,,,,,,,"]
[null,{"$f":"IF(A8322=0,\" \",IF(ISNA(MATCH(A8322,Personnel!A:A,0)),\"وجود ندارد\",LOOKUP(A8322,Personnel!A:A,Personnel!B:B)))","v":" "},{"$f":"IF(A8322=0,\" \",IF(ISNA(MATCH(A8322,Personnel!A:A,0)),\"وجود ندارد\",LOOKUP(A8322,Personnel!A:A,Personnel!C:C)))","v":" "},null,null,null,null,null,null,null,null,"","",1,0,{"$f":"IF(A8322=0,\" \",IF(N8322+O8322<>0,\"تاریخ اشتباه است\",\"\"))","v":" "},{"$f":"IF(A8322=0,\" \",IF(AND(G8322<>0,H8322>G8322),\"مبلغ قسط از مبلغ کل بیشتر است\",\"\"))","v":" "},""," ",{"$f":"IF(A8322=0,\" \",IF(OR(K8322<1,K8322>3),\"نوع عمل اشتباه است\",\"\"))","v":" "},"",null," "," ",",,,,,,,,,,,,"]
[null,{"$f":"IF(A8330=0,\" \",IF(ISNA(MATCH(A8330,Personnel!A:A,0)),\"وجود ندارد\",LOOKUP(A8330,Personnel!A:A,Personnel!B:B)))","v":" "},{"$f":"IF(A8330=0,\" \",IF(ISNA(MATCH(A8330,Personnel!A:A,0)),\"وجود ندارد\",LOOKUP(A8330,Personnel!A:A,Personnel!C:C)))","v":" "},null,null,null,null,null,null,null,null,"","",1,0," "," ",""," "," ","",null," "," ",",,,,,,,,,,,,"]
[null,{"$f":"IF(A8340=0,\" \",IF(ISNA(MATCH(A8340,Personnel!A:A,0)),\"وجود ندارد\",LOOKUP(A8340,Personnel!A:A,Personnel!B:B)))","v":" "},{"$f":"IF(A8340=0,\" \",IF(ISNA(MATCH(A8340,Personnel!A:A,0)),\"وجود ندارد\",LOOKUP(A8340,Personnel!A:A,Personnel!C:C)))","v":" "},null,null,null,null,null,null,null,null,"","",1,0," "," ",""," "," ","",null," "," ",",,,,,,,,,,,,"]
[null,{"$f":"IF(A8352=0,\" \",IF(ISNA(MATCH(A8352,Personnel!A:A,0)),\"وجود ندارد\",LOOKUP(A8352,Personnel!A:A,Personnel!B:B)))","v":" "},{"$f":"IF(A8352=0,\" \",IF(ISNA(MATCH(A8352,Personnel!A:A,0)),\"وجود ندارد\",LOOKUP(A8352,Personnel!A:A,Personnel!C:C)))","v":" "},null,null,null,null,null,null,null,null,"","",1,0," "," ",""," "," ","",null," "," ",",,,,,,,,,,,,"]
[null,{"$f":"IF(A8359=0,\" \",IF(ISNA(MATCH(A8359,Personnel!A:A,0)),\"وجود ندارد\",LOOKUP(A8359,Personnel!A:A,Personnel!B:B)))","v":" "},{"$f":"IF(A8359=0,\" \",IF(ISNA(MATCH(A8359,Personnel!A:A,0)),\"وجود ندارد\",LOOKUP(A8359,Personnel!A:A,Personnel!C:C)))","v":" "},null,null,null,null,null,null,null,null,"","",1,0," "," ",""," "," ","",null," "," ",",,,,,,,,,,,,"]
[null,{"$f":"IF(A8371=0,\" \",IF(ISNA(MATCH(A8371,Personnel!A:A,0)),\"وجود ندارد\",LOOKUP(A8371,Personnel!A:A,Personnel!B:B)))","v":" "},{"$f":"IF(A8371=0,\" \",IF(ISNA(MATCH(A8371,Personnel!A:A,0)),\"وجود ندارد\",LOOKUP(A8371,Personnel!A:A,Personnel!C:C)))","v":" "},null,null,null,null,null,null,null,null,"","",1,0," "," ",""," "," ","",null," "," ",",,,,,,,,,,,,"]
[null,{"$f":"IF(A8379=0,\" \",IF(ISNA(MATCH(A8379,Personnel!A:A,0)),\"وجود ندارد\",LOOKUP(A8379,Personnel!A:A,Personnel!B:B)))","v":" "},{"$f":"IF(A8379=0,\" \",IF(ISNA(MATCH(A8379,Personnel!A:A,0)),\"وجود ندارد\",LOOKUP(A8379,Personnel!A:A,Personnel!C:C)))","v":" "},null,null,null,null,null,null,null,null,"","",1,0," "," ",""," "," ","",null," "," ",",,,,,,,,,,,,"]
[null,{"$f":"IF(A8380=0,\" \",IF(ISNA(MATCH(A8380,Personnel!A:A,0)),\"وجود ندارد\",LOOKUP(A8380,Personnel!A:A,Personnel!B:B)))","v":" "},{"$f":"IF(A8380=0,\" \",IF(ISNA(MATCH(A8380,Personnel!A:A,0)),\"وجود ندارد\",LOOKUP(A8380,Personnel!A:A,Personnel!C:C)))","v":" "},null,null,null,null,null,null,null,null,"","",1,0," "," ",""," "," ","",null," "," ",",,,,,,,,,,,,"]
[null,{"$f":"IF(A8392=0,\" \",IF(ISNA(MATCH(A8392,Personnel!A:A,0)),\"وجود ندارد\",LOOKUP(A8392,Personnel!A:A,Personnel!B:B)))","v":" "},{"$f":"IF(A8392=0,\" \",IF(ISNA(MATCH(A8392,Personnel!A:A,0)),\"وجود ندارد\",LOOKUP(A8392,Personnel!A:A,Personnel!C:C)))","v":" "},null,null,null,null,null,null,null,null,"","",1,0," "," ",""," "," ","",null," "," ",",,,,,,,,,,,,"]
[null,{"$f":"IF(A8399=0,\" \",IF(ISNA(MATCH(A8399,Personnel!A:A,0)),\"وجود ندارد\",LOOKUP(A8399,Personnel!A:A,Personnel!B:B)))","v":" "},{"$f":"IF(A8399=0,\" \",IF(ISNA(MATCH(A8399,Personnel!A:A,0)),\"وجود ندارد\",LOOKUP(A8399,Personnel!A:A,Personnel!C:C)))","v":" "},null,null,null,null,null,null,null,null,"","",1,0," "," ",""," "," ","",null," "," ",",,,,,,,,,,,,"]
[null,{"$f":"IF(A8411=0,\" \",IF(ISNA(MATCH(A8411,Personnel!A:A,0)),\"وجود ندارد\",LOOKUP(A8411,Personnel!A:A,Personnel!B:B)))","v":" "},{"$f":"IF(A8411=0,\" \",IF(ISNA(MATCH(A8411,Personnel!A:A,0)),\"وجود ندارد\",LOOKUP(A8411,Personnel!A:A,Personnel!C:C)))","v":" "},null,null,null,null,null,null,null,null,"","",1,0," "," ",""," "," ","",null," "," ",",,,,,,,,,,,,"]
[null,{"$f":"IF(A8420=0,\" \",IF(ISNA(MATCH(A8420,Personnel!A:A,0)),\"وجود ندارد\",LOOKUP(A8420,Personnel!A:A,Personnel!B:B)))","v":" "},{"$f":"IF(A8420=0,\" \",IF(ISNA(MATCH(A8420,Personnel!A:A,0)),\"وجود ندارد\",LOOKUP(A8420,Personnel!A:A,Personnel!C:C)))","v":" "},null,null,null,null,null,null,null,null,"","",1,0," "," ",""," "," ","",null," "," ",",,,,,,,,,,,,"]
[null,{"$f":"IF(A8429=0,\" \",IF(ISNA(MATCH(A8429,Personnel!A:A,0)),\"وجود ندارد\",LOOKUP(A8429,Personnel!A:A,Personnel!B:B)))","v":" "},{"$f":"IF(A8429=0,\" \",IF(ISNA(MATCH(A8429,Personnel!A:A,0)),\"وجود ندارد\",LOOKUP(A8429,Personnel!A:A,Personnel!C:C)))","v":" "},null,null,null,null,null,null,null,null,"","",1,0," "," ",""," "," ","",null," "," ",",,,,,,,,,,,,"]
[null,{"$f":"IF(A8441=0,\" \",IF(ISNA(MATCH(A8441,Personnel!A:A,0)),\"وجود ندارد\",LOOKUP(A8441,Personnel!A:A,Personnel!B:B)))","v":" "},{"$f":"IF(A8441=0,\" \",IF(ISNA(MATCH(A8441,Personnel!A:A,0)),\"وجود ندارد\",LOOKUP(A8441,Personnel!A:A,Personnel!C:C)))","v":" "},null,null,null,null,null,null,null,null,"","",1,0," "," ",""," "," ","",null," "," ",",,,,,,,,,,,,"]
[null,{"$f":"IF(A8448=0,\" \",IF(ISNA(MATCH(A8448,Personnel!A:A,0)),\"وجود ندارد\",LOOKUP(A8448,Personnel!A:A,Personnel!B:B)))","v":" "},{"$f":"IF(A8448=0,\" \",IF(ISNA(MATCH(A8448,Personnel!A:A,0)),\"وجود ندارد\",LOOKUP(A8448,Personnel!A:A,Personnel!C:C)))","v":" "},null,null,null,null,null,null,null,null,"","",1,0," "," ",""," "," ","",null," "," ",",,,,,,,,,,,,"]
[null,{"$f":"IF(A8451=0,\" \",IF(ISNA(MATCH(A8451,Personnel!A:A,0)),\"وجود ندارد\",LOOKUP(A8451,Personnel!A:A,Personnel!B:B)))","v":" "},{"$f":"IF(A8451=0,\" \",IF(ISNA(MATCH(A8451,Personnel!A:A,0)),\"وجود ندارد\",LOOKUP(A8451,Personnel!A:A,Personnel!C:C)))","v":" "},null,null,null,null,null,null,null,null,{"$f":"IF(K8451=0,\"\",IF(K8451=1,\"ایجاد\",IF(K8451=2,\"اصلاح\",\"حذف\")))","v":""},{"$f":"IF(AND(K8451=3,H8451+I8451+J8451+F8451+G8451<>0),\"برای عمل حذف اطلاعات اضافی وارد شده است\",\"\")","v":""},{"$f":"IF(AND(K8451<>3,F8451<900000),1,0)","v":1},{"$f":"IF(F8451>991231,1,0)","v":0}," "," ",{"$f":"IF(AND(A8451=0,H8451+I8451+J8451+F8451+G8451+K8451+E8451+D8451<>0),\"در این ردیف شماره پرسنلی وجود ندارد اما اطلاعات دیگر وارد شده است\",\"\")","v":""},{"$f":"IF(A8451=0,\" \",IF(D8451=0,\"کد وام وارد نشده است\",\"\"))","v":" "}," ",{"$f":"IF(AND(OR(K8451=1,K8451=2),H8451=0),\"مبلغ قسط نمی تواند خالی باشد\",\"\")","v":""},null,{"$f":"IF(AND(A8451=0,A8452<>0),\"دراین ردیف اصلاحاتی وجود ندارد . لطفا ردیفی را خالی باقی نگذارید\",IF(AND(A8451=0,R8451=\"\"),\" \",IF(M8451&\",\"&P8451&\",\"&Q8451&\",\"&R8451&\",\"&S8451&\",\"&T8451&\",\"&U8451=\",,,,,,\",\"صحیح\",M8451&\",\"&P8451&\",\"&Q8451&\",\"&R8451&\",\"&S8451&\",\"&T8451&\",\"&U8451)))","v":" "},{"$f":"IF(AND(ROW(X8451)>$Z$2,W8451=\" \"),\" \",IF(W8451=\" \",IF(AND(A8451=0,$Z$2<>$Z$4),\"دراین ردیف اصلاحاتی وجود ندارد . لطفا ردیفی را خالی نگذارید\",W8451),W8451))","v":" "},{"$f":"CONCATENATE(A8451,\",\",D8451,\",\",E8451,\",\",F8451,\",\",G8451,\",\",H8451,\",\",I8451,\",\",K8451,\",\",,\",\",J8451,\",\",\",\",V8451,\",\")","v":",,,,,,,,,,,,"}]
[null,{"$f":"IF(A8461=0,\" \",IF(ISNA(MATCH(A8461,Personnel!A:A,0)),\"وجود ندارد\",LOOKUP(A8461,Personnel!A:A,Personnel!B:B)))","v":" "},{"$f":"IF(A8461=0,\" \",IF(ISNA(MATCH(A8461,Personnel!A:A,0)),\"وجود ندارد\",LOOKUP(A8461,Personnel!A:A,Personnel!C:C)))","v":" "},null,null,null,null,null,null,null,null,"","",1,0," "," ",""," "," ","",null," "," ",",,,,,,,,,,,,"]
[null,{"$f":"IF(A8469=0,\" \",IF(ISNA(MATCH(A8469,Personnel!A:A,0)),\"وجود ندارد\",LOOKUP(A8469,Personnel!A:A,Personnel!B:B)))","v":" "},{"$f":"IF(A8469=0,\" \",IF(ISNA(MATCH(A8469,Personnel!A:A,0)),\"وجود ندارد\",LOOKUP(A8469,Personnel!A:A,Personnel!C:C)))","v":" "},null,null,null,null,null,null,null,null,"","",1,0," "," ",""," "," ","",null," "," ",",,,,,,,,,,,,"]
[null,{"$f":"IF(A8481=0,\" \",IF(ISNA(MATCH(A8481,Personnel!A:A,0)),\"وجود ندارد\",LOOKUP(A8481,Personnel!A:A,Personnel!B:B)))","v":" "},{"$f":"IF(A8481=0,\" \",IF(ISNA(MATCH(A8481,Personnel!A:A,0)),\"وجود ندارد\",LOOKUP(A8481,Personnel!A:A,Personnel!C:C)))","v":" "},null,null,null,null,null,null,null,null,"","",1,0," "," ",""," "," ","",null," "," ",",,,,,,,,,,,,"]
[null,{"$f":"IF(A8488=0,\" \",IF(ISNA(MATCH(A8488,Personnel!A:A,0)),\"وجود ندارد\",LOOKUP(A8488,Personnel!A:A,Personnel!B:B)))","v":" "},{"$f":"IF(A8488=0,\" \",IF(ISNA(MATCH(A8488,Personnel!A:A,0)),\"وجود ندارد\",LOOKUP(A8488,Personnel!A:A,Personnel!C:C)))","v":" "},null,null,null,null,null,null,null,null,"","",1,0," "," ",""," "," ","",null," "," ",",,,,,,,,,,,,"]
[null,{"$f":"IF(A8500=0,\" \",IF(ISNA(MATCH(A8500,Personnel!A:A,0)),\"وجود ندارد\",LOOKUP(A8500,Personnel!A:A,Personnel!B:B)))","v":" "},{"$f":"IF(A8500=0,\" \",IF(ISNA(MATCH(A8500,Personnel!A:A,0)),\"وجود ندارد\",LOOKUP(A8500,Personnel!A:A,Personnel!C:C)))","v":" "},null,null,null,null,null,null,null,null,"","",1,0," "," ",""," "," ","",null," "," ",",,,,,,,,,,,,"]
[null,{"$f":"IF(A8511=0,\" \",IF(ISNA(MATCH(A8511,Personnel!A:A,0)),\"وجود ندارد\",LOOKUP(A8511,Personnel!A:A,Personnel!B:B)))","v":" "},{"$f":"IF(A8511=0,\" \",IF(ISNA(MATCH(A8511,Personnel!A:A,0)),\"وجود ندارد\",LOOKUP(A8511,Personnel!A:A,Personnel!C:C)))","v":" "},null,null,null,null,null,null,null,null,"","",1,0," "," ",""," "," ","",null," "," ",",,,,,,,,,,,,"]
[null,{"$f":"IF(A8518=0,\" \",IF(ISNA(MATCH(A8518,Personnel!A:A,0)),\"وجود ندارد\",LOOKUP(A8518,Personnel!A:A,Personnel!B:B)))","v":" "},{"$f":"IF(A8518=0,\" \",IF(ISNA(MATCH(A8518,Personnel!A:A,0)),\"وجود ندارد\",LOOKUP(A8518,Personnel!A:A,Personnel!C:C)))","v":" "},null,null,null,null,null,null,null,null,"","",1,0," "," ",""," "," ","",null," "," ",",,,,,,,,,,,,"]
[null,{"$f":"IF(A8521=0,\" \",IF(ISNA(MATCH(A8521,Personnel!A:A,0)),\"وجود ندارد\",LOOKUP(A8521,Personnel!A:A,Personnel!B:B)))","v":" "},{"$f":"IF(A8521=0,\" \",IF(ISNA(MATCH(A8521,Personnel!A:A,0)),\"وجود ندارد\",LOOKUP(A8521,Personnel!A:A,Personnel!C:C)))","v":" "},null,null,null,null,null,null,null,null,"","",1,0," "," ",""," "," ","",null," "," ",",,,,,,,,,,,,"]
[null,{"$f":"IF(A8533=0,\" \",IF(ISNA(MATCH(A8533,Personnel!A:A,0)),\"وجود ندارد\",LOOKUP(A8533,Personnel!A:A,Personnel!B:B)))","v":" "},{"$f":"IF(A8533=0,\" \",IF(ISNA(MATCH(A8533,Personnel!A:A,0)),\"وجود ندارد\",LOOKUP(A8533,Personnel!A:A,Personnel!C:C)))","v":" "},null,null,null,null,null,null,null,null,"","",1,0," "," ",""," "," ","",null," "," ",",,,,,,,,,,,,"]
[null,{"$f":"IF(A8541=0,\" \",IF(ISNA(MATCH(A8541,Personnel!A:A,0)),\"وجود ندارد\",LOOKUP(A8541,Personnel!A:A,Personnel!B:B)))","v":" "},{"$f":"IF(A8541=0,\" \",IF(ISNA(MATCH(A8541,Personnel!A:A,0)),\"وجود ندارد\",LOOKUP(A8541,Personnel!A:A,Personnel!C:C)))","v":" "},null,null,null,null,null,null,null,null,"","",1,0," "," ",""," "," ","",null," "," ",",,,,,,,,,,,,"]
[null,{"$f":"IF(A8551=0,\" \",IF(ISNA(MATCH(A8551,Personnel!A:A,0)),\"وجود ندارد\",LOOKUP(A8551,Personnel!A:A,Personnel!B:B)))","v":" "},{"$f":"IF(A8551=0,\" \",IF(ISNA(MATCH(A8551,Personnel!A:A,0)),\"وجود ندارد\",LOOKUP(A8551,Personnel!A:A,Personnel!C:C)))","v":" "},null,null,null,null,null,null,null,null,"","",1,0," "," ",""," "," ","",null," "," ",",,,,,,,,,,,,"]
[null,{"$f":"IF(A8558=0,\" \",IF(ISNA(MATCH(A8558,Personnel!A:A,0)),\"وجود ندارد\",LOOKUP(A8558,Personnel!A:A,Personnel!B:B)))","v":" "},{"$f":"IF(A8558=0,\" \",IF(ISNA(MATCH(A8558,Personnel!A:A,0)),\"وجود ندارد\",LOOKUP(A8558,Personnel!A:A,Personnel!C:C)))","v":" "},null,null,null,null,null,null,null,null,"","",1,0," "," ",""," "," ","",null," "," ",",,,,,,,,,,,,"]
[null,{"$f":"IF(A8570=0,\" \",IF(ISNA(MATCH(A8570,Personnel!A:A,0)),\"وجود ندارد\",LOOKUP(A8570,Personnel!A:A,Personnel!B:B)))","v":" "},{"$f":"IF(A8570=0,\" \",IF(ISNA(MATCH(A8570,Personnel!A:A,0)),\"وجود ندارد\",LOOKUP(A8570,Personnel!A:A,Personnel!C:C)))","v":" "},null,null,null,null,null,null,null,null,"","",1,0," "," ",""," "," ","",null," "," ",",,,,,,,,,,,,"]
[null,{"$f":"IF(A8582=0,\" \",IF(ISNA(MATCH(A8582,Personnel!A:A,0)),\"وجود ندارد\",LOOKUP(A8582,Personnel!A:A,Personnel!B:B)))","v":" "},{"$f":"IF(A8582=0,\" \",IF(ISNA(MATCH(A8582,Personnel!A:A,0)),\"وجود ندارد\",LOOKUP(A8582,Personnel!A:A,Personnel!C:C)))","v":" "},null,null,null,null,null,null,null,null,"","",1,0," "," ",""," "," ","",null," "," ",",,,,,,,,,,,,"]
[null,{"$f":"IF(A8590=0,\" \",IF(ISNA(MATCH(A8590,Personnel!A:A,0)),\"وجود ندارد\",LOOKUP(A8590,Personnel!A:A,Personnel!B:B)))","v":" "},{"$f":"IF(A8590=0,\" \",IF(ISNA(MATCH(A8590,Personnel!A:A,0)),\"وجود ندارد\",LOOKUP(A8590,Personnel!A:A,Personnel!C:C)))","v":" "},null,null,null,null,null,null,null,null,"","",1,0," "," ",""," "," ","",null," "," ",",,,,,,,,,,,,"]
[null,{"$f":"IF(A8591=0,\" \",IF(ISNA(MATCH(A8591,Personnel!A:A,0)),\"وجود ندارد\",LOOKUP(A8591,Personnel!A:A,Personnel!B:B)))","v":" "},{"$f":"IF(A8591=0,\" \",IF(ISNA(MATCH(A8591,Personnel!A:A,0)),\"وجود ندارد\",LOOKUP(A8591,Personnel!A:A,Personnel!C:C)))","v":" "},null,null,null,null,null,null,null,null,"","",1,0," "," ",""," "," ","",null," "," ",",,,,,,,,,,,,"]
[null,{"$f":"IF(A8607=0,\" \",IF(ISNA(MATCH(A8607,Personnel!A:A,0)),\"وجود ندارد\",LOOKUP(A8607,Personnel!A:A,Personnel!B:B)))","v":" "},{"$f":"IF(A8607=0,\" \",IF(ISNA(MATCH(A8607,Personnel!A:A,0)),\"وجود ندارد\",LOOKUP(A8607,Personnel!A:A,Personnel!C:C)))","v":" "},null,null,null,null,null,null,null,null,"","",1,0," "," ",""," "," ","",null," "," ",",,,,,,,,,,,,"]
[null,{"$f":"IF(A8610=0,\" \",IF(ISNA(MATCH(A8610,Personnel!A:A,0)),\"وجود ندارد\",LOOKUP(A8610,Personnel!A:A,Personnel!B:B)))","v":" "},{"$f":"IF(A8610=0,\" \",IF(ISNA(MATCH(A8610,Personnel!A:A,0)),\"وجود ندارد\",LOOKUP(A8610,Personnel!A:A,Personnel!C:C)))","v":" "},null,null,null,null,null,null,null,null,"","",1,0," "," ",""," "," ","",null," "," ",",,,,,,,,,,,,"]
[null,{"$f":"IF(A8622=0,\" \",IF(ISNA(MATCH(A8622,Personnel!A:A,0)),\"وجود ندارد\",LOOKUP(A8622,Personnel!A:A,Personnel!B:B)))","v":" "},{"$f":"IF(A8622=0,\" \",IF(ISNA(MATCH(A8622,Personnel!A:A,0)),\"وجود ندارد\",LOOKUP(A8622,Personnel!A:A,Personnel!C:C)))","v":" "},null,null,null,null,null,null,null,null,"","",1,0," "," ",""," "," ","",null," "," ",",,,,,,,,,,,,"]
[null,{"$f":"IF(A8631=0,\" \",IF(ISNA(MATCH(A8631,Personnel!A:A,0)),\"وجود ندارد\",LOOKUP(A8631,Personnel!A:A,Personnel!B:B)))","v":" "},{"$f":"IF(A8631=0,\" \",IF(ISNA(MATCH(A8631,Personnel!A:A,0)),\"وجود ندارد\",LOOKUP(A8631,Personnel!A:A,Personnel!C:C)))","v":" "},null,null,null,null,null,null,null,null,"","",1,0," "," ",""," "," ","",null," "," ",",,,,,,,,,,,,"]
[null,{"$f":"IF(A8640=0,\" \",IF(ISNA(MATCH(A8640,Personnel!A:A,0)),\"وجود ندارد\",LOOKUP(A8640,Personnel!A:A,Personnel!B:B)))","v":" "},{"$f":"IF(A8640=0,\" \",IF(ISNA(MATCH(A8640,Personnel!A:A,0)),\"وجود ندارد\",LOOKUP(A8640,Personnel!A:A,Personnel!C:C)))","v":" "},null,null,null,null,null,null,null,null,"","",1,0," "," ",""," "," ","",null," "," ",",,,,,,,,,,,,"]
[null,{"$f":"IF(A8652=0,\" \",IF(ISNA(MATCH(A8652,Personnel!A:A,0)),\"وجود ندارد\",LOOKUP(A8652,Personnel!A:A,Personnel!B:B)))","v":" "},{"$f":"IF(A8652=0,\" \",IF(ISNA(MATCH(A8652,Personnel!A:A,0)),\"وجود ندارد\",LOOKUP(A8652,Personnel!A:A,Personnel!C:C)))","v":" "},null,null,null,null,null,null,null,null,"","",1,0," "," ",""," "," ","",null," "," ",",,,,,,,,,,,,"]
[null,{"$f":"IF(A8659=0,\" \",IF(ISNA(MATCH(A8659,Personnel!A:A,0)),\"وجود ندارد\",LOOKUP(A8659,Personnel!A:A,Personnel!B:B)))","v":" "},{"$f":"IF(A8659=0,\" \",IF(ISNA(MATCH(A8659,Personnel!A:A,0)),\"وجود ندارد\",LOOKUP(A8659,Personnel!A:A,Personnel!C:C)))","v":" "},null,null,null,null,null,null,null,null,"","",1,0," "," ",""," "," ","",null," "," ",",,,,,,,,,,,,"]
[null,{"$f":"IF(A8662=0,\" \",IF(ISNA(MATCH(A8662,Personnel!A:A,0)),\"وجود ندارد\",LOOKUP(A8662,Personnel!A:A,Personnel!B:B)))","v":" "},{"$f":"IF(A8662=0,\" \",IF(ISNA(MATCH(A8662,Personnel!A:A,0)),\"وجود ندارد\",LOOKUP(A8662,Personnel!A:A,Personnel!C:C)))","v":" "},null,null,null,null,null,null,null,null,"","",1,0," "," ",""," "," ","",null," "," ",",,,,,,,,,,,,"]
[null,{"$f":"IF(A8672=0,\" \",IF(ISNA(MATCH(A8672,Personnel!A:A,0)),\"وجود ندارد\",LOOKUP(A8672,Personnel!A:A,Personnel!B:B)))","v":" "},{"$f":"IF(A8672=0,\" \",IF(ISNA(MATCH(A8672,Personnel!A:A,0)),\"وجود ندارد\",LOOKUP(A8672,Personnel!A:A,Personnel!C:C)))","v":" "},null,null,null,null,null,null,null,null,"","",1,0," "," ",""," "," ","",null," "," ",",,,,,,,,,,,,"]
[null,{"$f":"IF(A8680=0,\" \",IF(ISNA(MATCH(A8680,Personnel!A:A,0)),\"وجود ندارد\",LOOKUP(A8680,Personnel!A:A,Personnel!B:B)))","v":" "},{"$f":"IF(A8680=0,\" \",IF(ISNA(MATCH(A8680,Personnel!A:A,0)),\"وجود ندارد\",LOOKUP(A8680,Personnel!A:A,Personnel!C:C)))","v":" "},null,null,null,null,null,null,null,null,"","",1,0," "," ",""," "," ","",null," "," ",",,,,,,,,,,,,"]
[null,{"$f":"IF(A8692=0,\" \",IF(ISNA(MATCH(A8692,Personnel!A:A,0)),\"وجود ندارد\",LOOKUP(A8692,Personnel!A:A,Personnel!B:B)))","v":" "},{"$f":"IF(A8692=0,\" \",IF(ISNA(MATCH(A8692,Personnel!A:A,0)),\"وجود ندارد\",LOOKUP(A8692,Personnel!A:A,Personnel!C:C)))","v":" "},null,null,null,null,null,null,null,null,"","",1,0," "," ",""," "," ","",null," "," ",",,,,,,,,,,,,"]
[null,{"$f":"IF(A8699=0,\" \",IF(ISNA(MATCH(A8699,Personnel!A:A,0)),\"وجود ندارد\",LOOKUP(A8699,Personnel!A:A,Personnel!B:B)))","v":" "},{"$f":"IF(A8699=0,\" \",IF(ISNA(MATCH(A8699,Personnel!A:A,0)),\"وجود ندارد\",LOOKUP(A8699,Personnel!A:A,Personnel!C:C)))","v":" "},null,null,null,null,null,null,null,null,"","",1,0," "," ",""," "," ","",null," "," ",",,,,,,,,,,,,"]
[null,{"$f":"IF(A8711=0,\" \",IF(ISNA(MATCH(A8711,Personnel!A:A,0)),\"وجود ندارد\",LOOKUP(A8711,Personnel!A:A,Personnel!B:B)))","v":" "},{"$f":"IF(A8711=0,\" \",IF(ISNA(MATCH(A8711,Personnel!A:A,0)),\"وجود ندارد\",LOOKUP(A8711,Personnel!A:A,Personnel!C:C)))","v":" "},null,null,null,null,null,null,null,null,"","",1,0," "," ",""," "," ","",null," "," ",",,,,,,,,,,,,"]
[null,{"$f":"IF(A8721=0,\" \",IF(ISNA(MATCH(A8721,Personnel!A:A,0)),\"وجود ندارد\",LOOKUP(A8721,Personnel!A:A,Personnel!B:B)))","v":" "},{"$f":"IF(A8721=0,\" \",IF(ISNA(MATCH(A8721,Personnel!A:A,0)),\"وجود ندارد\",LOOKUP(A8721,Personnel!A:A,Personnel!C:C)))","v":" "},null,null,null,null,null,null,null,null,"","",1,0," "," ",""," "," ","",null," "," ",",,,,,,,,,,,,"]
[null,{"$f":"IF(A8729=0,\" \",IF(ISNA(MATCH(A8729,Personnel!A:A,0)),\"وجود ندارد\",LOOKUP(A8729,Personnel!A:A,Personnel!B:B)))","v":" "},{"$f":"IF(A8729=0,\" \",IF(ISNA(MATCH(A8729,Personnel!A:A,0)),\"وجود ندارد\",LOOKUP(A8729,Personnel!A:A,Personnel!C:C)))","v":" "},null,null,null,null,null,null,null,null,"","",1,0," "," ",""," "," ","",null," "," ",",,,,,,,,,,,,"]
[null,{"$f":"IF(A8732=0,\" \",IF(ISNA(MATCH(A8732,Personnel!A:A,0)),\"وجود ندارد\",LOOKUP(A8732,Personnel!A:A,Personnel!B:B)))","v":" "},{"$f":"IF(A8732=0,\" \",IF(ISNA(MATCH(A8732,Personnel!A:A,0)),\"وجود ندارد\",LOOKUP(A8732,Personnel!A:A,Personnel!C:C)))","v":" "},null,null,null,null,null,null,null,null,"","",1,0," "," ",""," "," ","",null," "," ",",,,,,,,,,,,,"]
[null,{"$f":"IF(A8748=0,\" \",IF(ISNA(MATCH(A8748,Personnel!A:A,0)),\"وجود ندارد\",LOOKUP(A8748,Personnel!A:A,Personnel!B:B)))","v":" "},{"$f":"IF(A8748=0,\" \",IF(ISNA(MATCH(A8748,Personnel!A:A,0)),\"وجود ندارد\",LOOKUP(A8748,Personnel!A:A,Personnel!C:C)))","v":" "},null,null,null,null,null,null,null,null,"","",1,0," "," ",""," "," ","",null," "," ",",,,,,,,,,,,,"]
[null,{"$f":"IF(A8751=0,\" \",IF(ISNA(MATCH(A8751,Personnel!A:A,0)),\"وجود ندارد\",LOOKUP(A8751,Personnel!A:A,Personnel!B:B)))","v":" "},{"$f":"IF(A8751=0,\" \",IF(ISNA(MATCH(A8751,Personnel!A:A,0)),\"وجود ندارد\",LOOKUP(A8751,Personnel!A:A,Personnel!C:C)))","v":" "},null,null,null,null,null,null,null,null,"","",1,0," "," ",""," "," ","",null," "," ",",,,,,,,,,,,,"]
[null,{"$f":"IF(A8762=0,\" \",IF(ISNA(MATCH(A8762,Personnel!A:A,0)),\"وجود ندارد\",LOOKUP(A8762,Personnel!A:A,Personnel!B:B)))","v":" "},{"$f":"IF(A8762=0,\" \",IF(ISNA(MATCH(A8762,Personnel!A:A,0)),\"وجود ندارد\",LOOKUP(A8762,Personnel!A:A,Personnel!C:C)))","v":" "},null,null,null,null,null,null,null,null,"","",1,0," "," ",""," "," ","",null," "," ",",,,,,,,,,,,,"]
[null,{"$f":"IF(A8769=0,\" \",IF(ISNA(MATCH(A8769,Personnel!A:A,0)),\"وجود ندارد\",LOOKUP(A8769,Personnel!A:A,Personnel!B:B)))","v":" "},{"$f":"IF(A8769=0,\" \",IF(ISNA(MATCH(A8769,Personnel!A:A,0)),\"وجود ندارد\",LOOKUP(A8769,Personnel!A:A,Personnel!C:C)))","v":" "},null,null,null,null,null,null,null,null,"","",1,0," "," ",""," "," ","",null," "," ",",,,,,,,,,,,,"]
[null,{"$f":"IF(A8781=0,\" \",IF(ISNA(MATCH(A8781,Personnel!A:A,0)),\"وجود ندارد\",LOOKUP(A8781,Personnel!A:A,Personnel!B:B)))","v":" "},{"$f":"IF(A8781=0,\" \",IF(ISNA(MATCH(A8781,Personnel!A:A,0)),\"وجود ندارد\",LOOKUP(A8781,Personnel!A:A,Personnel!C:C)))","v":" "},null,null,null,null,null,null,null,null,"","",1,0," "," ",""," "," ","",null," "," ",",,,,,,,,,,,,"]
[null,{"$f":"IF(A8788=0,\" \",IF(ISNA(MATCH(A8788,Personnel!A:A,0)),\"وجود ندارد\",LOOKUP(A8788,Personnel!A:A,Personnel!B:B)))","v":" "},{"$f":"IF(A8788=0,\" \",IF(ISNA(MATCH(A8788,Personnel!A:A,0)),\"وجود ندارد\",LOOKUP(A8788,Personnel!A:A,Personnel!C:C)))","v":" "},null,null,null,null,null,null,null,null,"","",1,0," "," ",""," "," ","",null," "," ",",,,,,,,,,,,,"]
[null,{"$f":"IF(A8800=0,\" \",IF(ISNA(MATCH(A8800,Personnel!A:A,0)),\"وجود ندارد\",LOOKUP(A8800,Personnel!A:A,Personnel!B:B)))","v":" "},{"$f":"IF(A8800=0,\" \",IF(ISNA(MATCH(A8800,Personnel!A:A,0)),\"وجود ندارد\",LOOKUP(A8800,Personnel!A:A,Personnel!C:C)))","v":" "},null,null,null,null,null,null,null,null,"","",1,0," "," ",""," "," ","",null," "," ",",,,,,,,,,,,,"]
[null,{"$f":"IF(A8803=0,\" \",IF(ISNA(MATCH(A8803,Personnel!A:A,0)),\"وجود ندارد\",LOOKUP(A8803,Personnel!A:A,Personnel!B:B)))","v":" "},{"$f":"IF(A8803=0,\" \",IF(ISNA(MATCH(A8803,Personnel!A:A,0)),\"وجود ندارد\",LOOKUP(A8803,Personnel!A:A,Personnel!C:C)))","v":" "},null,null,null,null,null,null,null,null,"","",1,0," "," ",""," "," ","",null," "," ",",,,,,,,,,,,,"]
[null,{"$f":"IF(A8818=0,\" \",IF(ISNA(MATCH(A8818,Personnel!A:A,0)),\"وجود ندارد\",LOOKUP(A8818,Personnel!A:A,Personnel!B:B)))","v":" "},{"$f":"IF(A8818=0,\" \",IF(ISNA(MATCH(A8818,Personnel!A:A,0)),\"وجود ندارد\",LOOKUP(A8818,Personnel!A:A,Personnel!C:C)))","v":" "},null,null,null,null,null,null,null,null,"","",1,0," "," ",""," "," ","",null," "," ",",,,,,,,,,,,,"]
[null,{"$f":"IF(A8821=0,\" \",IF(ISNA(MATCH(A8821,Personnel!A:A,0)),\"وجود ندارد\",LOOKUP(A8821,Personnel!A:A,Personnel!B:B)))","v":" "},{"$f":"IF(A8821=0,\" \",IF(ISNA(MATCH(A8821,Personnel!A:A,0)),\"وجود ندارد\",LOOKUP(A8821,Personnel!A:A,Personnel!C:C)))","v":" "},null,null,null,null,null,null,null,null,"","",1,0," "," ",""," "," ","",null," "," ",",,,,,,,,,,,,"]
[null,{"$f":"IF(A8833=0,\" \",IF(ISNA(MATCH(A8833,Personnel!A:A,0)),\"وجود ندارد\",LOOKUP(A8833,Personnel!A:A,Personnel!B:B)))","v":" "},{"$f":"IF(A8833=0,\" \",IF(ISNA(MATCH(A8833,Personnel!A:A,0)),\"وجود ندارد\",LOOKUP(A8833,Personnel!A:A,Personnel!C:C)))","v":" "},null,null,null,null,null,null,null,null,"","",1,0," "," ",""," "," ","",null," "," ",",,,,,,,,,,,,"]
[null,{"$f":"IF(A8840=0,\" \",IF(ISNA(MATCH(A8840,Personnel!A:A,0)),\"وجود ندارد\",LOOKUP(A8840,Personnel!A:A,Personnel!B:B)))","v":" "},{"$f":"IF(A8840=0,\" \",IF(ISNA(MATCH(A8840,Personnel!A:A,0)),\"وجود ندارد\",LOOKUP(A8840,Personnel!A:A,Personnel!C:C)))","v":" "},null,null,null,null,null,null,null,null,"","",1,0," "," ",""," "," ","",null," "," ",",,,,,,,,,,,,"]
[null,{"$f":"IF(A8852=0,\" \",IF(ISNA(MATCH(A8852,Personnel!A:A,0)),\"وجود ندارد\",LOOKUP(A8852,Personnel!A:A,Personnel!B:B)))","v":" "},{"$f":"IF(A8852=0,\" \",IF(ISNA(MATCH(A8852,Personnel!A:A,0)),\"وجود ندارد\",LOOKUP(A8852,Personnel!A:A,Personnel!C:C)))","v":" "},null,null,null,null,null,null,null,null,"","",1,0," "," ",""," "," ","",null," "," ",",,,,,,,,,,,,"]
[null,{"$f":"IF(A8858=0,\" \",IF(ISNA(MATCH(A8858,Personnel!A:A,0)),\"وجود ندارد\",LOOKUP(A8858,Personnel!A:A,Personnel!B:B)))","v":" "},{"$f":"IF(A8858=0,\" \",IF(ISNA(MATCH(A8858,Personnel!A:A,0)),\"وجود ندارد\",LOOKUP(A8858,Personnel!A:A,Personnel!C:C)))","v":" "},null,null,null,null,null,null,null,null,"","",1,0," "," ",""," "," ","",null," "," ",",,,,,,,,,,,,"]
[null,{"$f":"IF(A8870=0,\" \",IF(ISNA(MATCH(A8870,Personnel!A:A,0)),\"وجود ندارد\",LOOKUP(A8870,Personnel!A:A,Personnel!B:B)))","v":" "},{"$f":"IF(A8870=0,\" \",IF(ISNA(MATCH(A8870,Personnel!A:A,0)),\"وجود ندارد\",LOOKUP(A8870,Personnel!A:A,Personnel!C:C)))","v":" "},null,null,null,null,null,null,null,null,"","",1,0," "," ",""," "," ","",null," "," ",",,,,,,,,,,,,"]
[null,{"$f":"IF(A8873=0,\" \",IF(ISNA(MATCH(A8873,Personnel!A:A,0)),\"وجود ندارد\",LOOKUP(A8873,Personnel!A:A,Personnel!B:B)))","v":" "},{"$f":"IF(A8873=0,\" \",IF(ISNA(MATCH(A8873,Personnel!A:A,0)),\"وجود ندارد\",LOOKUP(A8873,Personnel!A:A,Personnel!C:C)))","v":" "},null,null,null,null,null,null,null,null,"","",1,0," "," ",""," "," ","",null," "," ",",,,,,,,,,,,,"]
[null,{"$f":"IF(A8889=0,\" \",IF(ISNA(MATCH(A8889,Personnel!A:A,0)),\"وجود ندارد\",LOOKUP(A8889,Personnel!A:A,Personnel!B:B)))","v":" "},{"$f":"IF(A8889=0,\" \",IF(ISNA(MATCH(A8889,Personnel!A:A,0)),\"وجود ندارد\",LOOKUP(A8889,Personnel!A:A,Personnel!C:C)))","v":" "},null,null,null,null,null,null,null,null,"","",1,0," "," ",""," "," ","",null," "," ",",,,,,,,,,,,,"]
[null,{"$f":"IF(A8893=0,\" \",IF(ISNA(MATCH(A8893,Personnel!A:A,0)),\"وجود ندارد\",LOOKUP(A8893,Personnel!A:A,Personnel!B:B)))","v":" "},{"$f":"IF(A8893=0,\" \",IF(ISNA(MATCH(A8893,Personnel!A:A,0)),\"وجود ندارد\",LOOKUP(A8893,Personnel!A:A,Personnel!C:C)))","v":" "},null,null,null,null,null,null,null,null,"","",1,0," "," ",""," "," ","",null," "," ",",,,,,,,,,,,,"]
[null,{"$f":"IF(A8907=0,\" \",IF(ISNA(MATCH(A8907,Personnel!A:A,0)),\"وجود ندارد\",LOOKUP(A8907,Personnel!A:A,Personnel!B:B)))","v":" "},{"$f":"IF(A8907=0,\" \",IF(ISNA(MATCH(A8907,Personnel!A:A,0)),\"وجود ندارد\",LOOKUP(A8907,Personnel!A:A,Personnel!C:C)))","v":" "},null,null,null,null,null,null,null,null,"","",1,0," "," ",""," "," ","",null," "," ",",,,,,,,,,,,,"]
[null,{"$f":"IF(A8910=0,\" \",IF(ISNA(MATCH(A8910,Personnel!A:A,0)),\"وجود ندارد\",LOOKUP(A8910,Personnel!A:A,Personnel!B:B)))","v":" "},{"$f":"IF(A8910=0,\" \",IF(ISNA(MATCH(A8910,Personnel!A:A,0)),\"وجود ندارد\",LOOKUP(A8910,Personnel!A:A,Personnel!C:C)))","v":" "},null,null,null,null,null,null,null,null,"","",1,0," "," ",""," "," ","",null," "," ",",,,,,,,,,,,,"]
[null,{"$f":"IF(A8922=0,\" \",IF(ISNA(MATCH(A8922,Personnel!A:A,0)),\"وجود ندارد\",LOOKUP(A8922,Personnel!A:A,Personnel!B:B)))","v":" "},{"$f":"IF(A8922=0,\" \",IF(ISNA(MATCH(A8922,Personnel!A:A,0)),\"وجود ندارد\",LOOKUP(A8922,Personnel!A:A,Personnel!C:C)))","v":" "},null,null,null,null,null,null,null,null,"","",1,0," "," ",""," "," ","",null," "," ",",,,,,,,,,,,,"]
[null,{"$f":"IF(A8932=0,\" \",IF(ISNA(MATCH(A8932,Personnel!A:A,0)),\"وجود ندارد\",LOOKUP(A8932,Personnel!A:A,Personnel!B:B)))","v":" "},{"$f":"IF(A8932=0,\" \",IF(ISNA(MATCH(A8932,Personnel!A:A,0)),\"وجود ندارد\",LOOKUP(A8932,Personnel!A:A,Personnel!C:C)))","v":" "},null,null,null,null,null,null,null,null,"","",1,0," "," ",""," "," ","",null," "," ",",,,,,,,,,,,,"]
[null,{"$f":"IF(A8940=0,\" \",IF(ISNA(MATCH(A8940,Personnel!A:A,0)),\"وجود ندارد\",LOOKUP(A8940,Personnel!A:A,Personnel!B:B)))","v":" "},{"$f":"IF(A8940=0,\" \",IF(ISNA(MATCH(A8940,Personnel!A:A,0)),\"وجود ندارد\",LOOKUP(A8940,Personnel!A:A,Personnel!C:C)))","v":" "},null,null,null,null,null,null,null,null,"","",1,0," "," ",""," "," ","",null," "," ",",,,,,,,,,,,,"]
[null,{"$f":"IF(A8943=0,\" \",IF(ISNA(MATCH(A8943,Personnel!A:A,0)),\"وجود ندارد\",LOOKUP(A8943,Personnel!A:A,Personnel!B:B)))","v":" "},{"$f":"IF(A8943=0,\" \",IF(ISNA(MATCH(A8943,Personnel!A:A,0)),\"وجود ندارد\",LOOKUP(A8943,Personnel!A:A,Personnel!C:C)))","v":" "},null,null,null,null,null,null,null,null,"","",1,0," "," ",""," "," ","",null," "," ",",,,,,,,,,,,,"]
[null,{"$f":"IF(A8959=0,\" \",IF(ISNA(MATCH(A8959,Personnel!A:A,0)),\"وجود ندارد\",LOOKUP(A8959,Personnel!A:A,Personnel!B:B)))","v":" "},{"$f":"IF(A8959=0,\" \",IF(ISNA(MATCH(A8959,Personnel!A:A,0)),\"وجود ندارد\",LOOKUP(A8959,Personnel!A:A,Personnel!C:C)))","v":" "},null,null,null,null,null,null,null,null,"","",1,0," "," ",""," "," ","",null," "," ",",,,,,,,,,,,,"]
[null,{"$f":"IF(A8962=0,\" \",IF(ISNA(MATCH(A8962,Personnel!A:A,0)),\"وجود ندارد\",LOOKUP(A8962,Personnel!A:A,Personnel!B:B)))","v":" "},{"$f":"IF(A8962=0,\" \",IF(ISNA(MATCH(A8962,Personnel!A:A,0)),\"وجود ندارد\",LOOKUP(A8962,Personnel!A:A,Personnel!C:C)))","v":" "},null,null,null,null,null,null,null,null,"","",1,0,{"$f":"IF(A8962=0,\" \",IF(N8962+O8962<>0,\"تاریخ اشتباه است\",\"\"))","v":" "},{"$f":"IF(A8962=0,\" \",IF(AND(G8962<>0,H8962>G8962),\"مبلغ قسط از مبلغ کل بیشتر است\",\"\"))","v":" "},""," ",{"$f":"IF(A8962=0,\" \",IF(OR(K8962<1,K8962>3),\"نوع عمل اشتباه است\",\"\"))","v":" "},"",null," "," ",",,,,,,,,,,,,"]
[null,{"$f":"IF(A8973=0,\" \",IF(ISNA(MATCH(A8973,Personnel!A:A,0)),\"وجود ندارد\",LOOKUP(A8973,Personnel!A:A,Personnel!B:B)))","v":" "},{"$f":"IF(A8973=0,\" \",IF(ISNA(MATCH(A8973,Personnel!A:A,0)),\"وجود ندارد\",LOOKUP(A8973,Personnel!A:A,Personnel!C:C)))","v":" "},null,null,null,null,null,null,null,null,"","",1,0," "," ",""," "," ","",null," "," ",",,,,,,,,,,,,"]
[null,{"$f":"IF(A8980=0,\" \",IF(ISNA(MATCH(A8980,Personnel!A:A,0)),\"وجود ندارد\",LOOKUP(A8980,Personnel!A:A,Personnel!B:B)))","v":" "},{"$f":"IF(A8980=0,\" \",IF(ISNA(MATCH(A8980,Personnel!A:A,0)),\"وجود ندارد\",LOOKUP(A8980,Personnel!A:A,Personnel!C:C)))","v":" "},null,null,null,null,null,null,null,null,"","",1,0," "," ",""," "," ","",null," "," ",",,,,,,,,,,,,"]
[null,{"$f":"IF(A8992=0,\" \",IF(ISNA(MATCH(A8992,Personnel!A:A,0)),\"وجود ندارد\",LOOKUP(A8992,Personnel!A:A,Personnel!B:B)))","v":" "},{"$f":"IF(A8992=0,\" \",IF(ISNA(MATCH(A8992,Personnel!A:A,0)),\"وجود ندارد\",LOOKUP(A8992,Personnel!A:A,Personnel!C:C)))","v":" "},null,null,null,null,null,null,null,null,"","",1,0," "," ",""," "," ","",null," "," ",",,,,,,,,,,,,"]
[null,{"$f":"IF(A8999=0,\" \",IF(ISNA(MATCH(A8999,Personnel!A:A,0)),\"وجود ندارد\",LOOKUP(A8999,Personnel!A:A,Personnel!B:B)))","v":" "},{"$f":"IF(A8999=0,\" \",IF(ISNA(MATCH(A8999,Personnel!A:A,0)),\"وجود ندارد\",LOOKUP(A8999,Personnel!A:A,Personnel!C:C)))","v":" "},null,null,null,null,null,null,null,null,"","",1,0," "," ",""," "," ","",null," "," ",",,,,,,,,,,,,"]
[null,{"$f":"IF(A9011=0,\" \",IF(ISNA(MATCH(A9011,Personnel!A:A,0)),\"وجود ندارد\",LOOKUP(A9011,Personnel!A:A,Personnel!B:B)))","v":" "},{"$f":"IF(A9011=0,\" \",IF(ISNA(MATCH(A9011,Personnel!A:A,0)),\"وجود ندارد\",LOOKUP(A9011,Personnel!A:A,Personnel!C:C)))","v":" "},null,null,null,null,null,null,null,null,"","",1,0," "," ",""," "," ","",null," "," ",",,,,,,,,,,,,"]
[null,{"$f":"IF(A9014=0,\" \",IF(ISNA(MATCH(A9014,Personnel!A:A,0)),\"وجود ندارد\",LOOKUP(A9014,Personnel!A:A,Personnel!B:B)))","v":" "},{"$f":"IF(A9014=0,\" \",IF(ISNA(MATCH(A9014,Personnel!A:A,0)),\"وجود ندارد\",LOOKUP(A9014,Personnel!A:A,Personnel!C:C)))","v":" "},null,null,null,null,null,null,null,null,"","",1,0," "," ",""," "," ","",null," "," ",",,,,,,,,,,,,"]
[null,{"$f":"IF(A9029=0,\" \",IF(ISNA(MATCH(A9029,Personnel!A:A,0)),\"وجود ندارد\",LOOKUP(A9029,Personnel!A:A,Personnel!B:B)))","v":" "},{"$f":"IF(A9029=0,\" \",IF(ISNA(MATCH(A9029,Personnel!A:A,0)),\"وجود ندارد\",LOOKUP(A9029,Personnel!A:A,Personnel!C:C)))","v":" "},null,null,null,null,null,null,null,null,"","",1,0," "," ",""," "," ","",null," "," ",",,,,,,,,,,,,"]
[null,{"$f":"IF(A9032=0,\" \",IF(ISNA(MATCH(A9032,Personnel!A:A,0)),\"وجود ندارد\",LOOKUP(A9032,Personnel!A:A,Personnel!B:B)))","v":" "},{"$f":"IF(A9032=0,\" \",IF(ISNA(MATCH(A9032,Personnel!A:A,0)),\"وجود ندارد\",LOOKUP(A9032,Personnel!A:A,Personnel!C:C)))","v":" "},null,null,null,null,null,null,null,null,"","",1,0," "," ",""," "," ","",null," "," ",",,,,,,,,,,,,"]
[null,{"$f":"IF(A9048=0,\" \",IF(ISNA(MATCH(A9048,Personnel!A:A,0)),\"وجود ندارد\",LOOKUP(A9048,Personnel!A:A,Personnel!B:B)))","v":" "},{"$f":"IF(A9048=0,\" \",IF(ISNA(MATCH(A9048,Personnel!A:A,0)),\"وجود ندارد\",LOOKUP(A9048,Personnel!A:A,Personnel!C:C)))","v":" "},null,null,null,null,null,null,null,null,"","",1,0," "," ",""," "," ","",null," "," ",",,,,,,,,,,,,"]
[null,{"$f":"IF(A9051=0,\" \",IF(ISNA(MATCH(A9051,Personnel!A:A,0)),\"وجود ندارد\",LOOKUP(A9051,Personnel!A:A,Personnel!B:B)))","v":" "},{"$f":"IF(A9051=0,\" \",IF(ISNA(MATCH(A9051,Personnel!A:A,0)),\"وجود ندارد\",LOOKUP(A9051,Personnel!A:A,Personnel!C:C)))","v":" "},null,null,null,null,null,null,null,null,"","",1,0," "," ",""," "," ","",null," "," ",",,,,,,,,,,,,"]
[null,{"$f":"IF(A9063=0,\" \",IF(ISNA(MATCH(A9063,Personnel!A:A,0)),\"وجود ندارد\",LOOKUP(A9063,Personnel!A:A,Personnel!B:B)))","v":" "},{"$f":"IF(A9063=0,\" \",IF(ISNA(MATCH(A9063,Personnel!A:A,0)),\"وجود ندارد\",LOOKUP(A9063,Personnel!A:A,Personnel!C:C)))","v":" "},null,null,null,null,null,null,null,null,"","",1,0," "," ",""," "," ","",null," "," ",",,,,,,,,,,,,"]
[null,{"$f":"IF(A9069=0,\" \",IF(ISNA(MATCH(A9069,Personnel!A:A,0)),\"وجود ندارد\",LOOKUP(A9069,Personnel!A:A,Personnel!B:B)))","v":" "},{"$f":"IF(A9069=0,\" \",IF(ISNA(MATCH(A9069,Personnel!A:A,0)),\"وجود ندارد\",LOOKUP(A9069,Personnel!A:A,Personnel!C:C)))","v":" "},null,null,null,null,null,null,null,null,"","",1,0," "," ",""," "," ","",null," "," ",",,,,,,,,,,,,"]
[null,{"$f":"IF(A9081=0,\" \",IF(ISNA(MATCH(A9081,Personnel!A:A,0)),\"وجود ندارد\",LOOKUP(A9081,Personnel!A:A,Personnel!B:B)))","v":" "},{"$f":"IF(A9081=0,\" \",IF(ISNA(MATCH(A9081,Personnel!A:A,0)),\"وجود ندارد\",LOOKUP(A9081,Personnel!A:A,Personnel!C:C)))","v":" "},null,null,null,null,null,null,null,null,"","",1,0," "," ",""," "," ","",null," "," ",",,,,,,,,,,,,"]
[null,{"$f":"IF(A9088=0,\" \",IF(ISNA(MATCH(A9088,Personnel!A:A,0)),\"وجود ندارد\",LOOKUP(A9088,Personnel!A:A,Personnel!B:B)))","v":" "},{"$f":"IF(A9088=0,\" \",IF(ISNA(MATCH(A9088,Personnel!A:A,0)),\"وجود ندارد\",LOOKUP(A9088,Personnel!A:A,Personnel!C:C)))","v":" "},null,null,null,null,null,null,null,null,"","",1,0," "," ",""," "," ","",null," "," ",",,,,,,,,,,,,"]
[null,{"$f":"IF(A9100=0,\" \",IF(ISNA(MATCH(A9100,Personnel!A:A,0)),\"وجود ندارد\",LOOKUP(A9100,Personnel!A:A,Personnel!B:B)))","v":" "},{"$f":"IF(A9100=0,\" \",IF(ISNA(MATCH(A9100,Personnel!A:A,0)),\"وجود ندارد\",LOOKUP(A9100,Personnel!A:A,Personnel!C:C)))","v":" "},null,null,null,null,null,null,null,null,"","",1,0," "," ",""," "," ","",null," "," ",",,,,,,,,,,,,"]
[null,{"$f":"IF(A9104=0,\" \",IF(ISNA(MATCH(A9104,Personnel!A:A,0)),\"وجود ندارد\",LOOKUP(A9104,Personnel!A:A,Personnel!B:B)))","v":" "},{"$f":"IF(A9104=0,\" \",IF(ISNA(MATCH(A9104,Personnel!A:A,0)),\"وجود ندارد\",LOOKUP(A9104,Personnel!A:A,Personnel!C:C)))","v":" "},null,null,null,null,null,null,null,null,"","",1,0," "," ",""," "," ","",null," "," ",",,,,,,,,,,,,"]
[null,{"$f":"IF(A9118=0,\" \",IF(ISNA(MATCH(A9118,Personnel!A:A,0)),\"وجود ندارد\",LOOKUP(A9118,Personnel!A:A,Personnel!B:B)))","v":" "},{"$f":"IF(A9118=0,\" \",IF(ISNA(MATCH(A9118,Personnel!A:A,0)),\"وجود ندارد\",LOOKUP(A9118,Personnel!A:A,Personnel!C:C)))","v":" "},null,null,null,null,null,null,null,null,"","",1,0," "," ",""," "," ","",null," "," ",",,,,,,,,,,,,"]
[null,{"$f":"IF(A9121=0,\" \",IF(ISNA(MATCH(A9121,Personnel!A:A,0)),\"وجود ندارد\",LOOKUP(A9121,Personnel!A:A,Personnel!B:B)))","v":" "},{"$f":"IF(A9121=0,\" \",IF(ISNA(MATCH(A9121,Personnel!A:A,0)),\"وجود ندارد\",LOOKUP(A9121,Personnel!A:A,Personnel!C:C)))","v":" "},null,null,null,null,null,null,null,null,"","",1,0," "," ",""," "," ","",null," "," ",",,,,,,,,,,,,"]
[null,{"$f":"IF(A9133=0,\" \",IF(ISNA(MATCH(A9133,Personnel!A:A,0)),\"وجود ندارد\",LOOKUP(A9133,Personnel!A:A,Personnel!B:B)))","v":" "},{"$f":"IF(A9133=0,\" \",IF(ISNA(MATCH(A9133,Personnel!A:A,0)),\"وجود ندارد\",LOOKUP(A9133,Personnel!A:A,Personnel!C:C)))","v":" "},null,null,null,null,null,null,null,null,"","",1,0," "," ",""," "," ","",null," "," ",",,,,,,,,,,,,"]
[null,{"$f":"IF(A9140=0,\" \",IF(ISNA(MATCH(A9140,Personnel!A:A,0)),\"وجود ندارد\",LOOKUP(A9140,Personnel!A:A,Personnel!B:B)))","v":" "},{"$f":"IF(A9140=0,\" \",IF(ISNA(MATCH(A9140,Personnel!A:A,0)),\"وجود ندارد\",LOOKUP(A9140,Personnel!A:A,Personnel!C:C)))","v":" "},null,null,null,null,null,null,null,null,"","",1,0," "," ",""," "," ","",null," "," ",",,,,,,,,,,,,"]
[null,{"$f":"IF(A9153=0,\" \",IF(ISNA(MATCH(A9153,Personnel!A:A,0)),\"وجود ندارد\",LOOKUP(A9153,Personnel!A:A,Personnel!B:B)))","v":" "},{"$f":"IF(A9153=0,\" \",IF(ISNA(MATCH(A9153,Personnel!A:A,0)),\"وجود ندارد\",LOOKUP(A9153,Personnel!A:A,Personnel!C:C)))","v":" "},null,null,null,null,null,null,null,null,"","",1,0," "," ",""," "," ","",null," "," ",",,,,,,,,,,,,"]
[null,{"$f":"IF(A9158=0,\" \",IF(ISNA(MATCH(A9158,Personnel!A:A,0)),\"وجود ندارد\",LOOKUP(A9158,Personnel!A:A,Personnel!B:B)))","v":" "},{"$f":"IF(A9158=0,\" \",IF(ISNA(MATCH(A9158,Personnel!A:A,0)),\"وجود ندارد\",LOOKUP(A9158,Personnel!A:A,Personnel!C:C)))","v":" "},null,null,null,null,null,null,null,null,"","",1,0," "," ",""," "," ","",null," "," ",",,,,,,,,,,,,"]
[null,{"$f":"IF(A9170=0,\" \",IF(ISNA(MATCH(A9170,Personnel!A:A,0)),\"وجود ندارد\",LOOKUP(A9170,Personnel!A:A,Personnel!B:B)))","v":" "},{"$f":"IF(A9170=0,\" \",IF(ISNA(MATCH(A9170,Personnel!A:A,0)),\"وجود ندارد\",LOOKUP(A9170,Personnel!A:A,Personnel!C:C)))","v":" "},null,null,null,null,null,null,null,null,"","",1,0," "," ",""," "," ","",null," "," ",",,,,,,,,,,,,"]
[null,{"$f":"IF(A9173=0,\" \",IF(ISNA(MATCH(A9173,Personnel!A:A,0)),\"وجود ندارد\",LOOKUP(A9173,Personnel!A:A,Personnel!B:B)))","v":" "},{"$f":"IF(A9173=0,\" \",IF(ISNA(MATCH(A9173,Personnel!A:A,0)),\"وجود ندارد\",LOOKUP(A9173,Personnel!A:A,Personnel!C:C)))","v":" "},null,null,null,null,null,null,null,null,"","",1,0," "," ",""," "," ","",null," "," ",",,,,,,,,,,,,"]
[null,{"$f":"IF(A9189=0,\" \",IF(ISNA(MATCH(A9189,Personnel!A:A,0)),\"وجود ندارد\",LOOKUP(A9189,Personnel!A:A,Personnel!B:B)))","v":" "},{"$f":"IF(A9189=0,\" \",IF(ISNA(MATCH(A9189,Personnel!A:A,0)),\"وجود ندارد\",LOOKUP(A9189,Personnel!A:A,Personnel!C:C)))","v":" "},null,null,null,null,null,null,null,null,"","",1,0," "," ",""," "," ","",null," "," ",",,,,,,,,,,,,"]
[null,{"$f":"IF(A9194=0,\" \",IF(ISNA(MATCH(A9194,Personnel!A:A,0)),\"وجود ندارد\",LOOKUP(A9194,Personnel!A:A,Personnel!B:B)))","v":" "},{"$f":"IF(A9194=0,\" \",IF(ISNA(MATCH(A9194,Personnel!A:A,0)),\"وجود ندارد\",LOOKUP(A9194,Personnel!A:A,Personnel!C:C)))","v":" "},null,null,null,null,null,null,null,null,"","",1,0," "," ",""," "," ","",null," "," ",",,,,,,,,,,,,"]
[null,{"$f":"IF(A9203=0,\" \",IF(ISNA(MATCH(A9203,Personnel!A:A,0)),\"وجود ندارد\",LOOKUP(A9203,Personnel!A:A,Personnel!B:B)))","v":" "},{"$f":"IF(A9203=0,\" \",IF(ISNA(MATCH(A9203,Personnel!A:A,0)),\"وجود ندارد\",LOOKUP(A9203,Personnel!A:A,Personnel!C:C)))","v":" "},null,null,null,null,null,null,null,null,"","",1,0," "," ",""," "," ","",null," "," ",",,,,,,,,,,,,"]
[null,{"$f":"IF(A9210=0,\" \",IF(ISNA(MATCH(A9210,Personnel!A:A,0)),\"وجود ندارد\",LOOKUP(A9210,Personnel!A:A,Personnel!B:B)))","v":" "},{"$f":"IF(A9210=0,\" \",IF(ISNA(MATCH(A9210,Personnel!A:A,0)),\"وجود ندارد\",LOOKUP(A9210,Personnel!A:A,Personnel!C:C)))","v":" "},null,null,null,null,null,null,null,null,"","",1,0," "," ",""," "," ","",null," "," ",",,,,,,,,,,,,"]
[null,{"$f":"IF(A9222=0,\" \",IF(ISNA(MATCH(A9222,Personnel!A:A,0)),\"وجود ندارد\",LOOKUP(A9222,Personnel!A:A,Personnel!B:B)))","v":" "},{"$f":"IF(A9222=0,\" \",IF(ISNA(MATCH(A9222,Personnel!A:A,0)),\"وجود ندارد\",LOOKUP(A9222,Personnel!A:A,Personnel!C:C)))","v":" "},null,null,null,null,null,null,null,null,"","",1,0," "," ",""," "," ","",null," "," ",",,,,,,,,,,,,"]
[null,{"$f":"IF(A9229=0,\" \",IF(ISNA(MATCH(A9229,Personnel!A:A,0)),\"وجود ندارد\",LOOKUP(A9229,Personnel!A:A,Personnel!B:B)))","v":" "},{"$f":"IF(A9229=0,\" \",IF(ISNA(MATCH(A9229,Personnel!A:A,0)),\"وجود ندارد\",LOOKUP(A9229,Personnel!A:A,Personnel!C:C)))","v":" "},null,null,null,null,null,null,null,null,"","",1,0," "," ",""," "," ","",null," "," ",",,,,,,,,,,,,"]
[null,{"$f":"IF(A9235=0,\" \",IF(ISNA(MATCH(A9235,Personnel!A:A,0)),\"وجود ندارد\",LOOKUP(A9235,Personnel!A:A,Personnel!B:B)))","v":" "},{"$f":"IF(A9235=0,\" \",IF(ISNA(MATCH(A9235,Personnel!A:A,0)),\"وجود ندارد\",LOOKUP(A9235,Personnel!A:A,Personnel!C:C)))","v":" "},null,null,null,null,null,null,null,null,"","",1,0," "," ",""," "," ","",null," "," ",",,,,,,,,,,,,"]
[null,{"$f":"IF(A9243=0,\" \",IF(ISNA(MATCH(A9243,Personnel!A:A,0)),\"وجود ندارد\",LOOKUP(A9243,Personnel!A:A,Personnel!B:B)))","v":" "},{"$f":"IF(A9243=0,\" \",IF(ISNA(MATCH(A9243,Personnel!A:A,0)),\"وجود ندارد\",LOOKUP(A9243,Personnel!A:A,Personnel!C:C)))","v":" "},null,null,null,null,null,null,null,null,"","",1,0," "," ",""," "," ","",null," "," ",",,,,,,,,,,,,"]
[null,{"$f":"IF(A9259=0,\" \",IF(ISNA(MATCH(A9259,Personnel!A:A,0)),\"وجود ندارد\",LOOKUP(A9259,Personnel!A:A,Personnel!B:B)))","v":" "},{"$f":"IF(A9259=0,\" \",IF(ISNA(MATCH(A9259,Personnel!A:A,0)),\"وجود ندارد\",LOOKUP(A9259,Personnel!A:A,Personnel!C:C)))","v":" "},null,null,null,null,null,null,null,null,"","",1,0," "," ",""," "," ","",null," "," ",",,,,,,,,,,,,"]
[null,{"$f":"IF(A9262=0,\" \",IF(ISNA(MATCH(A9262,Personnel!A:A,0)),\"وجود ندارد\",LOOKUP(A9262,Personnel!A:A,Personnel!B:B)))","v":" "},{"$f":"IF(A9262=0,\" \",IF(ISNA(MATCH(A9262,Personnel!A:A,0)),\"وجود ندارد\",LOOKUP(A9262,Personnel!A:A,Personnel!C:C)))","v":" "},null,null,null,null,null,null,null,null,"","",1,0," "," ",""," "," ","",null," "," ",",,,,,,,,,,,,"]
[null,{"$f":"IF(A9269=0,\" \",IF(ISNA(MATCH(A9269,Personnel!A:A,0)),\"وجود ندارد\",LOOKUP(A9269,Personnel!A:A,Personnel!B:B)))","v":" "},{"$f":"IF(A9269=0,\" \",IF(ISNA(MATCH(A9269,Personnel!A:A,0)),\"وجود ندارد\",LOOKUP(A9269,Personnel!A:A,Personnel!C:C)))","v":" "},null,null,null,null,null,null,null,null,"","",1,0," "," ",""," "," ","",null," "," ",",,,,,,,,,,,,"]
[null,{"$f":"IF(A9284=0,\" \",IF(ISNA(MATCH(A9284,Personnel!A:A,0)),\"وجود ندارد\",LOOKUP(A9284,Personnel!A:A,Personnel!B:B)))","v":" "},{"$f":"IF(A9284=0,\" \",IF(ISNA(MATCH(A9284,Personnel!A:A,0)),\"وجود ندارد\",LOOKUP(A9284,Personnel!A:A,Personnel!C:C)))","v":" "},null,null,null,null,null,null,null,null,"","",1,0," "," ",""," "," ","",null," "," ",",,,,,,,,,,,,"]
[null,{"$f":"IF(A9292=0,\" \",IF(ISNA(MATCH(A9292,Personnel!A:A,0)),\"وجود ندارد\",LOOKUP(A9292,Personnel!A:A,Personnel!B:B)))","v":" "},{"$f":"IF(A9292=0,\" \",IF(ISNA(MATCH(A9292,Personnel!A:A,0)),\"وجود ندارد\",LOOKUP(A9292,Personnel!A:A,Personnel!C:C)))","v":" "},null,null,null,null,null,null,null,null,"","",1,0," "," ",""," "," ","",null," "," ",",,,,,,,,,,,,"]
[null,{"$f":"IF(A9299=0,\" \",IF(ISNA(MATCH(A9299,Personnel!A:A,0)),\"وجود ندارد\",LOOKUP(A9299,Personnel!A:A,Personnel!B:B)))","v":" "},{"$f":"IF(A9299=0,\" \",IF(ISNA(MATCH(A9299,Personnel!A:A,0)),\"وجود ندارد\",LOOKUP(A9299,Personnel!A:A,Personnel!C:C)))","v":" "},null,null,null,null,null,null,null,null,"","",1,0," "," ",""," "," ","",null," "," ",",,,,,,,,,,,,"]
[null,{"$f":"IF(A9311=0,\" \",IF(ISNA(MATCH(A9311,Personnel!A:A,0)),\"وجود ندارد\",LOOKUP(A9311,Personnel!A:A,Personnel!B:B)))","v":" "},{"$f":"IF(A9311=0,\" \",IF(ISNA(MATCH(A9311,Personnel!A:A,0)),\"وجود ندارد\",LOOKUP(A9311,Personnel!A:A,Personnel!C:C)))","v":" "},null,null,null,null,null,null,null,null,"","",1,0," "," ",""," "," ","",null," "," ",",,,,,,,,,,,,"]
[null,{"$f":"IF(A9314=0,\" \",IF(ISNA(MATCH(A9314,Personnel!A:A,0)),\"وجود ندارد\",LOOKUP(A9314,Personnel!A:A,Personnel!B:B)))","v":" "},{"$f":"IF(A9314=0,\" \",IF(ISNA(MATCH(A9314,Personnel!A:A,0)),\"وجود ندارد\",LOOKUP(A9314,Personnel!A:A,Personnel!C:C)))","v":" "},null,null,null,null,null,null,null,null,"","",1,0," "," ",""," "," ","",null," "," ",",,,,,,,,,,,,"]
[null,{"$f":"IF(A9325=0,\" \",IF(ISNA(MATCH(A9325,Personnel!A:A,0)),\"وجود ندارد\",LOOKUP(A9325,Personnel!A:A,Personnel!B:B)))","v":" "},{"$f":"IF(A9325=0,\" \",IF(ISNA(MATCH(A9325,Personnel!A:A,0)),\"وجود ندارد\",LOOKUP(A9325,Personnel!A:A,Personnel!C:C)))","v":" "},null,null,null,null,null,null,null,null,"","",1,0," "," ",""," "," ","",null," "," ",",,,,,,,,,,,,"]
[null,{"$f":"IF(A9332=0,\" \",IF(ISNA(MATCH(A9332,Personnel!A:A,0)),\"وجود ندارد\",LOOKUP(A9332,Personnel!A:A,Personnel!B:B)))","v":" "},{"$f":"IF(A9332=0,\" \",IF(ISNA(MATCH(A9332,Personnel!A:A,0)),\"وجود ندارد\",LOOKUP(A9332,Personnel!A:A,Personnel!C:C)))","v":" "},null,null,null,null,null,null,null,null,"","",1,0," "," ",""," "," ","",null," "," ",",,,,,,,,,,,,"]
[null,{"$f":"IF(A9339=0,\" \",IF(ISNA(MATCH(A9339,Personnel!A:A,0)),\"وجود ندارد\",LOOKUP(A9339,Personnel!A:A,Personnel!B:B)))","v":" "},{"$f":"IF(A9339=0,\" \",IF(ISNA(MATCH(A9339,Personnel!A:A,0)),\"وجود ندارد\",LOOKUP(A9339,Personnel!A:A,Personnel!C:C)))","v":" "},null,null,null,null,null,null,null,null,"","",1,0," "," ",""," "," ","",null," "," ",",,,,,,,,,,,,"]
[null,{"$f":"IF(A9351=0,\" \",IF(ISNA(MATCH(A9351,Personnel!A:A,0)),\"وجود ندارد\",LOOKUP(A9351,Personnel!A:A,Personnel!B:B)))","v":" "},{"$f":"IF(A9351=0,\" \",IF(ISNA(MATCH(A9351,Personnel!A:A,0)),\"وجود ندارد\",LOOKUP(A9351,Personnel!A:A,Personnel!C:C)))","v":" "},null,null,null,null,null,null,null,null,"","",1,0," "," ",""," "," ","",null," "," ",",,,,,,,,,,,,"]
[null,{"$f":"IF(A9364=0,\" \",IF(ISNA(MATCH(A9364,Personnel!A:A,0)),\"وجود ندارد\",LOOKUP(A9364,Personnel!A:A,Personnel!B:B)))","v":" "},{"$f":"IF(A9364=0,\" \",IF(ISNA(MATCH(A9364,Personnel!A:A,0)),\"وجود ندارد\",LOOKUP(A9364,Personnel!A:A,Personnel!C:C)))","v":" "},null,null,null,null,null,null,null,null,"","",1,0," "," ",""," "," ","",null," "," ",",,,,,,,,,,,,"]
[null,{"$f":"IF(A9369=0,\" \",IF(ISNA(MATCH(A9369,Personnel!A:A,0)),\"وجود ندارد\",LOOKUP(A9369,Personnel!A:A,Personnel!B:B)))","v":" "},{"$f":"IF(A9369=0,\" \",IF(ISNA(MATCH(A9369,Personnel!A:A,0)),\"وجود ندارد\",LOOKUP(A9369,Personnel!A:A,Personnel!C:C)))","v":" "},null,null,null,null,null,null,null,null,"","",1,0," "," ",""," "," ","",null," "," ",",,,,,,,,,,,,"]
[null,{"$f":"IF(A9381=0,\" \",IF(ISNA(MATCH(A9381,Personnel!A:A,0)),\"وجود ندارد\",LOOKUP(A9381,Personnel!A:A,Personnel!B:B)))","v":" "},{"$f":"IF(A9381=0,\" \",IF(ISNA(MATCH(A9381,Personnel!A:A,0)),\"وجود ندارد\",LOOKUP(A9381,Personnel!A:A,Personnel!C:C)))","v":" "},null,null,null,null,null,null,null,null,"","",1,0," "," ",""," "," ","",null," "," ",",,,,,,,,,,,,"]
[null,{"$f":"IF(A9388=0,\" \",IF(ISNA(MATCH(A9388,Personnel!A:A,0)),\"وجود ندارد\",LOOKUP(A9388,Personnel!A:A,Personnel!B:B)))","v":" "},{"$f":"IF(A9388=0,\" \",IF(ISNA(MATCH(A9388,Personnel!A:A,0)),\"وجود ندارد\",LOOKUP(A9388,Personnel!A:A,Personnel!C:C)))","v":" "},null,null,null,null,null,null,null,null,"","",1,0," "," ",""," "," ","",null," "," ",",,,,,,,,,,,,"]
[null,{"$f":"IF(A9400=0,\" \",IF(ISNA(MATCH(A9400,Personnel!A:A,0)),\"وجود ندارد\",LOOKUP(A9400,Personnel!A:A,Personnel!B:B)))","v":" "},{"$f":"IF(A9400=0,\" \",IF(ISNA(MATCH(A9400,Personnel!A:A,0)),\"وجود ندارد\",LOOKUP(A9400,Personnel!A:A,Personnel!C:C)))","v":" "},null,null,null,null,null,null,null,null,"","",1,0," "," ",""," "," ","",null," "," ",",,,,,,,,,,,,"]
[null,{"$f":"IF(A9405=0,\" \",IF(ISNA(MATCH(A9405,Personnel!A:A,0)),\"وجود ندارد\",LOOKUP(A9405,Personnel!A:A,Personnel!B:B)))","v":" "},{"$f":"IF(A9405=0,\" \",IF(ISNA(MATCH(A9405,Personnel!A:A,0)),\"وجود ندارد\",LOOKUP(A9405,Personnel!A:A,Personnel!C:C)))","v":" "},null,null,null,null,null,null,null,null,"","",1,0," "," ",""," "," ","",null," "," ",",,,,,,,,,,,,"]
[null,{"$f":"IF(A9409=0,\" \",IF(ISNA(MATCH(A9409,Personnel!A:A,0)),\"وجود ندارد\",LOOKUP(A9409,Personnel!A:A,Personnel!B:B)))","v":" "},{"$f":"IF(A9409=0,\" \",IF(ISNA(MATCH(A9409,Personnel!A:A,0)),\"وجود ندارد\",LOOKUP(A9409,Personnel!A:A,Personnel!C:C)))","v":" "},null,null,null,null,null,null,null,null,"","",1,0," "," ",""," "," ","",null," "," ",",,,,,,,,,,,,"]
[null,{"$f":"IF(A9421=0,\" \",IF(ISNA(MATCH(A9421,Personnel!A:A,0)),\"وجود ندارد\",LOOKUP(A9421,Personnel!A:A,Personnel!B:B)))","v":" "},{"$f":"IF(A9421=0,\" \",IF(ISNA(MATCH(A9421,Personnel!A:A,0)),\"وجود ندارد\",LOOKUP(A9421,Personnel!A:A,Personnel!C:C)))","v":" "},null,null,null,null,null,null,null,null,"","",1,0," "," ",""," "," ","",null," "," ",",,,,,,,,,,,,"]
[null,{"$f":"IF(A9433=0,\" \",IF(ISNA(MATCH(A9433,Personnel!A:A,0)),\"وجود ندارد\",LOOKUP(A9433,Personnel!A:A,Personnel!B:B)))","v":" "},{"$f":"IF(A9433=0,\" \",IF(ISNA(MATCH(A9433,Personnel!A:A,0)),\"وجود ندارد\",LOOKUP(A9433,Personnel!A:A,Personnel!C:C)))","v":" "},null,null,null,null,null,null,null,null,"","",1,0," "," ",""," "," ","",null," "," ",",,,,,,,,,,,,"]
[null,{"$f":"IF(A9440=0,\" \",IF(ISNA(MATCH(A9440,Personnel!A:A,0)),\"وجود ندارد\",LOOKUP(A9440,Personnel!A:A,Personnel!B:B)))","v":" "},{"$f":"IF(A9440=0,\" \",IF(ISNA(MATCH(A9440,Personnel!A:A,0)),\"وجود ندارد\",LOOKUP(A9440,Personnel!A:A,Personnel!C:C)))","v":" "},null,null,null,null,null,null,null,null,"","",1,0," "," ",""," "," ","",null," "," ",",,,,,,,,,,,,"]
[null,{"$f":"IF(A9446=0,\" \",IF(ISNA(MATCH(A9446,Personnel!A:A,0)),\"وجود ندارد\",LOOKUP(A9446,Personnel!A:A,Personnel!B:B)))","v":" "},{"$f":"IF(A9446=0,\" \",IF(ISNA(MATCH(A9446,Personnel!A:A,0)),\"وجود ندارد\",LOOKUP(A9446,Personnel!A:A,Personnel!C:C)))","v":" "},null,null,null,null,null,null,null,null,"","",1,0," "," ",""," "," ","",null," "," ",",,,,,,,,,,,,"]
[null,{"$f":"IF(A9458=0,\" \",IF(ISNA(MATCH(A9458,Personnel!A:A,0)),\"وجود ندارد\",LOOKUP(A9458,Personnel!A:A,Personnel!B:B)))","v":" "},{"$f":"IF(A9458=0,\" \",IF(ISNA(MATCH(A9458,Personnel!A:A,0)),\"وجود ندارد\",LOOKUP(A9458,Personnel!A:A,Personnel!C:C)))","v":" "},null,null,null,null,null,null,null,null,"","",1,0," "," ",""," "," ","",null," "," ",",,,,,,,,,,,,"]
[null,{"$f":"IF(A9470=0,\" \",IF(ISNA(MATCH(A9470,Personnel!A:A,0)),\"وجود ندارد\",LOOKUP(A9470,Personnel!A:A,Personnel!B:B)))","v":" "},{"$f":"IF(A9470=0,\" \",IF(ISNA(MATCH(A9470,Personnel!A:A,0)),\"وجود ندارد\",LOOKUP(A9470,Personnel!A:A,Personnel!C:C)))","v":" "},null,null,null,null,null,null,null,null,"","",1,0," "," ",""," "," ","",null," "," ",",,,,,,,,,,,,"]
[null,{"$f":"IF(A9473=0,\" \",IF(ISNA(MATCH(A9473,Personnel!A:A,0)),\"وجود ندارد\",LOOKUP(A9473,Personnel!A:A,Personnel!B:B)))","v":" "},{"$f":"IF(A9473=0,\" \",IF(ISNA(MATCH(A9473,Personnel!A:A,0)),\"وجود ندارد\",LOOKUP(A9473,Personnel!A:A,Personnel!C:C)))","v":" "},null,null,null,null,null,null,null,null,"","",1,0," "," ",""," "," ","",null," "," ",",,,,,,,,,,,,"]
[null,{"$f":"IF(A9480=0,\" \",IF(ISNA(MATCH(A9480,Personnel!A:A,0)),\"وجود ندارد\",LOOKUP(A9480,Personnel!A:A,Personnel!B:B)))","v":" "},{"$f":"IF(A9480=0,\" \",IF(ISNA(MATCH(A9480,Personnel!A:A,0)),\"وجود ندارد\",LOOKUP(A9480,Personnel!A:A,Personnel!C:C)))","v":" "},null,null,null,null,null,null,null,null,"","",1,0," "," ",""," "," ","",null," "," ",",,,,,,,,,,,,"]
[null,{"$f":"IF(A9495=0,\" \",IF(ISNA(MATCH(A9495,Personnel!A:A,0)),\"وجود ندارد\",LOOKUP(A9495,Personnel!A:A,Personnel!B:B)))","v":" "},{"$f":"IF(A9495=0,\" \",IF(ISNA(MATCH(A9495,Personnel!A:A,0)),\"وجود ندارد\",LOOKUP(A9495,Personnel!A:A,Personnel!C:C)))","v":" "},null,null,null,null,null,null,null,null,"","",1,0," "," ",""," "," ","",null," "," ",",,,,,,,,,,,,"]
[null,{"$f":"IF(A9503=0,\" \",IF(ISNA(MATCH(A9503,Personnel!A:A,0)),\"وجود ندارد\",LOOKUP(A9503,Personnel!A:A,Personnel!B:B)))","v":" "},{"$f":"IF(A9503=0,\" \",IF(ISNA(MATCH(A9503,Personnel!A:A,0)),\"وجود ندارد\",LOOKUP(A9503,Personnel!A:A,Personnel!C:C)))","v":" "},null,null,null,null,null,null,null,null,"","",1,0," "," ",""," "," ","",null," "," ",",,,,,,,,,,,,"]
[null,{"$f":"IF(A9510=0,\" \",IF(ISNA(MATCH(A9510,Personnel!A:A,0)),\"وجود ندارد\",LOOKUP(A9510,Personnel!A:A,Personnel!B:B)))","v":" "},{"$f":"IF(A9510=0,\" \",IF(ISNA(MATCH(A9510,Personnel!A:A,0)),\"وجود ندارد\",LOOKUP(A9510,Personnel!A:A,Personnel!C:C)))","v":" "},null,null,null,null,null,null,null,null,"","",1,0," "," ",""," "," ","",null," "," ",",,,,,,,,,,,,"]
[null,{"$f":"IF(A9522=0,\" \",IF(ISNA(MATCH(A9522,Personnel!A:A,0)),\"وجود ندارد\",LOOKUP(A9522,Personnel!A:A,Personnel!B:B)))","v":" "},{"$f":"IF(A9522=0,\" \",IF(ISNA(MATCH(A9522,Personnel!A:A,0)),\"وجود ندارد\",LOOKUP(A9522,Personnel!A:A,Personnel!C:C)))","v":" "},null,null,null,null,null,null,null,null,"","",1,0," "," ",""," "," ","",null," "," ",",,,,,,,,,,,,"]
[null,{"$f":"IF(A9529=0,\" \",IF(ISNA(MATCH(A9529,Personnel!A:A,0)),\"وجود ندارد\",LOOKUP(A9529,Personnel!A:A,Personnel!B:B)))","v":" "},{"$f":"IF(A9529=0,\" \",IF(ISNA(MATCH(A9529,Personnel!A:A,0)),\"وجود ندارد\",LOOKUP(A9529,Personnel!A:A,Personnel!C:C)))","v":" "},null,null,null,null,null,null,null,null,"","",1,0," "," ",""," "," ","",null," "," ",",,,,,,,,,,,,"]
[null,{"$f":"IF(A9536=0,\" \",IF(ISNA(MATCH(A9536,Personnel!A:A,0)),\"وجود ندارد\",LOOKUP(A9536,Personnel!A:A,Personnel!B:B)))","v":" "},{"$f":"IF(A9536=0,\" \",IF(ISNA(MATCH(A9536,Personnel!A:A,0)),\"وجود ندارد\",LOOKUP(A9536,Personnel!A:A,Personnel!C:C)))","v":" "},null,null,null,null,null,null,null,null,"","",1,0," "," ",""," "," ","",null," "," ",",,,,,,,,,,,,"]
[null,{"$f":"IF(A9543=0,\" \",IF(ISNA(MATCH(A9543,Personnel!A:A,0)),\"وجود ندارد\",LOOKUP(A9543,Personnel!A:A,Personnel!B:B)))","v":" "},{"$f":"IF(A9543=0,\" \",IF(ISNA(MATCH(A9543,Personnel!A:A,0)),\"وجود ندارد\",LOOKUP(A9543,Personnel!A:A,Personnel!C:C)))","v":" "},null,null,null,null,null,null,null,null,"","",1,0," "," ",""," "," ","",null," "," ",",,,,,,,,,,,,"]
[null,{"$f":"IF(A9550=0,\" \",IF(ISNA(MATCH(A9550,Personnel!A:A,0)),\"وجود ندارد\",LOOKUP(A9550,Personnel!A:A,Personnel!B:B)))","v":" "},{"$f":"IF(A9550=0,\" \",IF(ISNA(MATCH(A9550,Personnel!A:A,0)),\"وجود ندارد\",LOOKUP(A9550,Personnel!A:A,Personnel!C:C)))","v":" "},null,null,null,null,null,null,null,null,"","",1,0," "," ",""," "," ","",null," "," ",",,,,,,,,,,,,"]
[null,{"$f":"IF(A9562=0,\" \",IF(ISNA(MATCH(A9562,Personnel!A:A,0)),\"وجود ندارد\",LOOKUP(A9562,Personnel!A:A,Personnel!B:B)))","v":" "},{"$f":"IF(A9562=0,\" \",IF(ISNA(MATCH(A9562,Personnel!A:A,0)),\"وجود ندارد\",LOOKUP(A9562,Personnel!A:A,Personnel!C:C)))","v":" "},null,null,null,null,null,null,null,null,"","",1,0," "," ",""," "," ","",null," "," ",",,,,,,,,,,,,"]
[null,{"$f":"IF(A9569=0,\" \",IF(ISNA(MATCH(A9569,Personnel!A:A,0)),\"وجود ندارد\",LOOKUP(A9569,Personnel!A:A,Personnel!B:B)))","v":" "},{"$f":"IF(A9569=0,\" \",IF(ISNA(MATCH(A9569,Personnel!A:A,0)),\"وجود ندارد\",LOOKUP(A9569,Personnel!A:A,Personnel!C:C)))","v":" "},null,null,null,null,null,null,null,null,"","",1,0," "," ",""," "," ","",null," "," ",",,,,,,,,,,,,"]
[null,{"$f":"IF(A9577=0,\" \",IF(ISNA(MATCH(A9577,Personnel!A:A,0)),\"وجود ندارد\",LOOKUP(A9577,Personnel!A:A,Personnel!B:B)))","v":" "},{"$f":"IF(A9577=0,\" \",IF(ISNA(MATCH(A9577,Personnel!A:A,0)),\"وجود ندارد\",LOOKUP(A9577,Personnel!A:A,Personnel!C:C)))","v":" "},null,null,null,null,null,null,null,null,"","",1,0," "," ",""," "," ","",null," "," ",",,,,,,,,,,,,"]
[null,{"$f":"IF(A9592=0,\" \",IF(ISNA(MATCH(A9592,Personnel!A:A,0)),\"وجود ندارد\",LOOKUP(A9592,Personnel!A:A,Personnel!B:B)))","v":" "},{"$f":"IF(A9592=0,\" \",IF(ISNA(MATCH(A9592,Personnel!A:A,0)),\"وجود ندارد\",LOOKUP(A9592,Personnel!A:A,Personnel!C:C)))","v":" "},null,null,null,null,null,null,null,null,"","",1,0," "," ",""," "," ","",null," "," ",",,,,,,,,,,,,"]
[null,{"$f":"IF(A9599=0,\" \",IF(ISNA(MATCH(A9599,Personnel!A:A,0)),\"وجود ندارد\",LOOKUP(A9599,Personnel!A:A,Personnel!B:B)))","v":" "},{"$f":"IF(A9599=0,\" \",IF(ISNA(MATCH(A9599,Personnel!A:A,0)),\"وجود ندارد\",LOOKUP(A9599,Personnel!A:A,Personnel!C:C)))","v":" "},null,null,null,null,null,null,null,null,"","",1,0," "," ",""," "," ","",null," "," ",",,,,,,,,,,,,"]
[null,{"$f":"IF(A9611=0,\" \",IF(ISNA(MATCH(A9611,Personnel!A:A,0)),\"وجود ندارد\",LOOKUP(A9611,Personnel!A:A,Personnel!B:B)))","v":" "},{"$f":"IF(A9611=0,\" \",IF(ISNA(MATCH(A9611,Personnel!A:A,0)),\"وجود ندارد\",LOOKUP(A9611,Personnel!A:A,Personnel!C:C)))","v":" "},null,null,null,null,null,null,null,null,"","",1,0," "," ",""," "," ","",null," "," ",",,,,,,,,,,,,"]
[null,{"$f":"IF(A9614=0,\" \",IF(ISNA(MATCH(A9614,Personnel!A:A,0)),\"وجود ندارد\",LOOKUP(A9614,Personnel!A:A,Personnel!B:B)))","v":" "},{"$f":"IF(A9614=0,\" \",IF(ISNA(MATCH(A9614,Personnel!A:A,0)),\"وجود ندارد\",LOOKUP(A9614,Personnel!A:A,Personnel!C:C)))","v":" "},null,null,null,null,null,null,null,null,"","",1,0," "," ",""," "," ","",null," "," ",",,,,,,,,,,,,"]
[null,{"$f":"IF(A9626=0,\" \",IF(ISNA(MATCH(A9626,Personnel!A:A,0)),\"وجود ندارد\",LOOKUP(A9626,Personnel!A:A,Personnel!B:B)))","v":" "},{"$f":"IF(A9626=0,\" \",IF(ISNA(MATCH(A9626,Personnel!A:A,0)),\"وجود ندارد\",LOOKUP(A9626,Personnel!A:A,Personnel!C:C)))","v":" "},null,null,null,null,null,null,null,null,"","",1,0," "," ",""," "," ","",null," "," ",",,,,,,,,,,,,"]
[null,{"$f":"IF(A9632=0,\" \",IF(ISNA(MATCH(A9632,Personnel!A:A,0)),\"وجود ندارد\",LOOKUP(A9632,Personnel!A:A,Personnel!B:B)))","v":" "},{"$f":"IF(A9632=0,\" \",IF(ISNA(MATCH(A9632,Personnel!A:A,0)),\"وجود ندارد\",LOOKUP(A9632,Personnel!A:A,Personnel!C:C)))","v":" "},null,null,null,null,null,null,null,null,"","",1,0," "," ",""," "," ","",null," "," ",",,,,,,,,,,,,"]
[null,{"$f":"IF(A9639=0,\" \",IF(ISNA(MATCH(A9639,Personnel!A:A,0)),\"وجود ندارد\",LOOKUP(A9639,Personnel!A:A,Personnel!B:B)))","v":" "},{"$f":"IF(A9639=0,\" \",IF(ISNA(MATCH(A9639,Personnel!A:A,0)),\"وجود ندارد\",LOOKUP(A9639,Personnel!A:A,Personnel!C:C)))","v":" "},null,null,null,null,null,null,null,null,"","",1,0," "," ",""," "," ","",null," "," ",",,,,,,,,,,,,"]
[null,{"$f":"IF(A9651=0,\" \",IF(ISNA(MATCH(A9651,Personnel!A:A,0)),\"وجود ندارد\",LOOKUP(A9651,Personnel!A:A,Personnel!B:B)))","v":" "},{"$f":"IF(A9651=0,\" \",IF(ISNA(MATCH(A9651,Personnel!A:A,0)),\"وجود ندارد\",LOOKUP(A9651,Personnel!A:A,Personnel!C:C)))","v":" "},null,null,null,null,null,null,null,null,"","",1,0," "," ",""," "," ","",null," "," ",",,,,,,,,,,,,"]
[null,{"$f":"IF(A9663=0,\" \",IF(ISNA(MATCH(A9663,Personnel!A:A,0)),\"وجود ندارد\",LOOKUP(A9663,Personnel!A:A,Personnel!B:B)))","v":" "},{"$f":"IF(A9663=0,\" \",IF(ISNA(MATCH(A9663,Personnel!A:A,0)),\"وجود ندارد\",LOOKUP(A9663,Personnel!A:A,Personnel!C:C)))","v":" "},null,null,null,null,null,null,null,null,"","",1,0," "," ",""," "," ","",null," "," ",",,,,,,,,,,,,"]
[null,{"$f":"IF(A9667=0,\" \",IF(ISNA(MATCH(A9667,Personnel!A:A,0)),\"وجود ندارد\",LOOKUP(A9667,Personnel!A:A,Personnel!B:B)))","v":" "},{"$f":"IF(A9667=0,\" \",IF(ISNA(MATCH(A9667,Personnel!A:A,0)),\"وجود ندارد\",LOOKUP(A9667,Personnel!A:A,Personnel!C:C)))","v":" "},null,null,null,null,null,null,null,null,{"$f":"IF(K9667=0,\"\",IF(K9667=1,\"ایجاد\",IF(K9667=2,\"اصلاح\",\"حذف\")))","v":""},{"$f":"IF(AND(K9667=3,H9667+I9667+J9667+F9667+G9667<>0),\"برای عمل حذف اطلاعات اضافی وارد شده است\",\"\")","v":""},{"$f":"IF(AND(K9667<>3,F9667<900000),1,0)","v":1},{"$f":"IF(F9667>991231,1,0)","v":0}," "," ",{"$f":"IF(AND(A9667=0,H9667+I9667+J9667+F9667+G9667+K9667+E9667+D9667<>0),\"در این ردیف شماره پرسنلی وجود ندارد اما اطلاعات دیگر وارد شده است\",\"\")","v":""},{"$f":"IF(A9667=0,\" \",IF(D9667=0,\"کد وام وارد نشده است\",\"\"))","v":" "}," ",{"$f":"IF(AND(OR(K9667=1,K9667=2),H9667=0),\"مبلغ قسط نمی تواند خالی باشد\",\"\")","v":""},null,{"$f":"IF(AND(A9667=0,A9668<>0),\"دراین ردیف اصلاحاتی وجود ندارد . لطفا ردیفی را خالی باقی نگذارید\",IF(AND(A9667=0,R9667=\"\"),\" \",IF(M9667&\",\"&P9667&\",\"&Q9667&\",\"&R9667&\",\"&S9667&\",\"&T9667&\",\"&U9667=\",,,,,,\",\"صحیح\",M9667&\",\"&P9667&\",\"&Q9667&\",\"&R9667&\",\"&S9667&\",\"&T9667&\",\"&U9667)))","v":" "},{"$f":"IF(AND(ROW(X9667)>$Z$2,W9667=\" \"),\" \",IF(W9667=\" \",IF(AND(A9667=0,$Z$2<>$Z$4),\"دراین ردیف اصلاحاتی وجود ندارد . لطفا ردیفی را خالی نگذارید\",W9667),W9667))","v":" "},{"$f":"CONCATENATE(A9667,\",\",D9667,\",\",E9667,\",\",F9667,\",\",G9667,\",\",H9667,\",\",I9667,\",\",K9667,\",\",,\",\",J9667,\",\",\",\",V9667,\",\")","v":",,,,,,,,,,,,"}]
[null,{"$f":"IF(A9681=0,\" \",IF(ISNA(MATCH(A9681,Personnel!A:A,0)),\"وجود ندارد\",LOOKUP(A9681,Personnel!A:A,Personnel!B:B)))","v":" "},{"$f":"IF(A9681=0,\" \",IF(ISNA(MATCH(A9681,Personnel!A:A,0)),\"وجود ندارد\",LOOKUP(A9681,Personnel!A:A,Personnel!C:C)))","v":" "},null,null,null,null,null,null,null,null,"","",1,0," "," ",""," "," ","",null," "," ",",,,,,,,,,,,,"]
[null,{"$f":"IF(A9688=0,\" \",IF(ISNA(MATCH(A9688,Personnel!A:A,0)),\"وجود ندارد\",LOOKUP(A9688,Personnel!A:A,Personnel!B:B)))","v":" "},{"$f":"IF(A9688=0,\" \",IF(ISNA(MATCH(A9688,Personnel!A:A,0)),\"وجود ندارد\",LOOKUP(A9688,Personnel!A:A,Personnel!C:C)))","v":" "},null,null,null,null,null,null,null,null,"","",1,0," "," ",""," "," ","",null," "," ",",,,,,,,,,,,,"]
[null,{"$f":"IF(A9691=0,\" \",IF(ISNA(MATCH(A9691,Personnel!A:A,0)),\"وجود ندارد\",LOOKUP(A9691,Personnel!A:A,Personnel!B:B)))","v":" "},{"$f":"IF(A9691=0,\" \",IF(ISNA(MATCH(A9691,Personnel!A:A,0)),\"وجود ندارد\",LOOKUP(A9691,Personnel!A:A,Personnel!C:C)))","v":" "},null,null,null,null,null,null,null,null,"","",1,0," "," ",""," "," ","",null," "," ",",,,,,,,,,,,,"]
[null,{"$f":"IF(A9703=0,\" \",IF(ISNA(MATCH(A9703,Personnel!A:A,0)),\"وجود ندارد\",LOOKUP(A9703,Personnel!A:A,Personnel!B:B)))","v":" "},{"$f":"IF(A9703=0,\" \",IF(ISNA(MATCH(A9703,Personnel!A:A,0)),\"وجود ندارد\",LOOKUP(A9703,Personnel!A:A,Personnel!C:C)))","v":" "},null,null,null,null,null,null,null,null,"","",1,0," "," ",""," "," ","",null," "," ",",,,,,,,,,,,,"]
[null,{"$f":"IF(A9716=0,\" \",IF(ISNA(MATCH(A9716,Personnel!A:A,0)),\"وجود ندارد\",LOOKUP(A9716,Personnel!A:A,Personnel!B:B)))","v":" "},{"$f":"IF(A9716=0,\" \",IF(ISNA(MATCH(A9716,Personnel!A:A,0)),\"وجود ندارد\",LOOKUP(A9716,Personnel!A:A,Personnel!C:C)))","v":" "},null,null,null,null,null,null,null,null,"","",1,0," "," ",""," "," ","",null," "," ",",,,,,,,,,,,,"]
[null,{"$f":"IF(A9721=0,\" \",IF(ISNA(MATCH(A9721,Personnel!A:A,0)),\"وجود ندارد\",LOOKUP(A9721,Personnel!A:A,Personnel!B:B)))","v":" "},{"$f":"IF(A9721=0,\" \",IF(ISNA(MATCH(A9721,Personnel!A:A,0)),\"وجود ندارد\",LOOKUP(A9721,Personnel!A:A,Personnel!C:C)))","v":" "},null,null,null,null,null,null,null,null,"","",1,0," "," ",""," "," ","",null," "," ",",,,,,,,,,,,,"]
[null,{"$f":"IF(A9733=0,\" \",IF(ISNA(MATCH(A9733,Personnel!A:A,0)),\"وجود ندارد\",LOOKUP(A9733,Personnel!A:A,Personnel!B:B)))","v":" "},{"$f":"IF(A9733=0,\" \",IF(ISNA(MATCH(A9733,Personnel!A:A,0)),\"وجود ندارد\",LOOKUP(A9733,Personnel!A:A,Personnel!C:C)))","v":" "},null,null,null,null,null,null,null,null,"","",1,0," "," ",""," "," ","",null," "," ",",,,,,,,,,,,,"]
[null,{"$f":"IF(A9740=0,\" \",IF(ISNA(MATCH(A9740,Personnel!A:A,0)),\"وجود ندارد\",LOOKUP(A9740,Personnel!A:A,Personnel!B:B)))","v":" "},{"$f":"IF(A9740=0,\" \",IF(ISNA(MATCH(A9740,Personnel!A:A,0)),\"وجود ندارد\",LOOKUP(A9740,Personnel!A:A,Personnel!C:C)))","v":" "},null,null,null,null,null,null,null,null,"","",1,0," "," ",""," "," ","",null," "," ",",,,,,,,,,,,,"]
[null,{"$f":"IF(A9752=0,\" \",IF(ISNA(MATCH(A9752,Personnel!A:A,0)),\"وجود ندارد\",LOOKUP(A9752,Personnel!A:A,Personnel!B:B)))","v":" "},{"$f":"IF(A9752=0,\" \",IF(ISNA(MATCH(A9752,Personnel!A:A,0)),\"وجود ندارد\",LOOKUP(A9752,Personnel!A:A,Personnel!C:C)))","v":" "},null,null,null,null,null,null,null,null,"","",1,0," "," ",""," "," ","",null," "," ",",,,,,,,,,,,,"]
[null,{"$f":"IF(A9757=0,\" \",IF(ISNA(MATCH(A9757,Personnel!A:A,0)),\"وجود ندارد\",LOOKUP(A9757,Personnel!A:A,Personnel!B:B)))","v":" "},{"$f":"IF(A9757=0,\" \",IF(ISNA(MATCH(A9757,Personnel!A:A,0)),\"وجود ندارد\",LOOKUP(A9757,Personnel!A:A,Personnel!C:C)))","v":" "},null,null,null,null,null,null,null,null,"","",1,0," "," ",""," "," ","",null," "," ",",,,,,,,,,,,,"]
[null,{"$f":"IF(A9761=0,\" \",IF(ISNA(MATCH(A9761,Personnel!A:A,0)),\"وجود ندارد\",LOOKUP(A9761,Personnel!A:A,Personnel!B:B)))","v":" "},{"$f":"IF(A9761=0,\" \",IF(ISNA(MATCH(A9761,Personnel!A:A,0)),\"وجود ندارد\",LOOKUP(A9761,Personnel!A:A,Personnel!C:C)))","v":" "},null,null,null,null,null,null,null,null,"","",1,0," "," ",""," "," ","",null," "," ",",,,,,,,,,,,,"]
[null,{"$f":"IF(A9773=0,\" \",IF(ISNA(MATCH(A9773,Personnel!A:A,0)),\"وجود ندارد\",LOOKUP(A9773,Personnel!A:A,Personnel!B:B)))","v":" "},{"$f":"IF(A9773=0,\" \",IF(ISNA(MATCH(A9773,Personnel!A:A,0)),\"وجود ندارد\",LOOKUP(A9773,Personnel!A:A,Personnel!C:C)))","v":" "},null,null,null,null,null,null,null,null,"","",1,0," "," ",""," "," ","",null," "," ",",,,,,,,,,,,,"]
[null,{"$f":"IF(A9780=0,\" \",IF(ISNA(MATCH(A9780,Personnel!A:A,0)),\"وجود ندارد\",LOOKUP(A9780,Personnel!A:A,Personnel!B:B)))","v":" "},{"$f":"IF(A9780=0,\" \",IF(ISNA(MATCH(A9780,Personnel!A:A,0)),\"وجود ندارد\",LOOKUP(A9780,Personnel!A:A,Personnel!C:C)))","v":" "},null,null,null,null,null,null,null,null,"","",1,0," "," ",""," "," ","",null," "," ",",,,,,,,,,,,,"]
[null,{"$f":"IF(A9792=0,\" \",IF(ISNA(MATCH(A9792,Personnel!A:A,0)),\"وجود ندارد\",LOOKUP(A9792,Personnel!A:A,Personnel!B:B)))","v":" "},{"$f":"IF(A9792=0,\" \",IF(ISNA(MATCH(A9792,Personnel!A:A,0)),\"وجود ندارد\",LOOKUP(A9792,Personnel!A:A,Personnel!C:C)))","v":" "},null,null,null,null,null,null,null,null,"","",1,0," "," ",""," "," ","",null," "," ",",,,,,,,,,,,,"]
[null,{"$f":"IF(A9797=0,\" \",IF(ISNA(MATCH(A9797,Personnel!A:A,0)),\"وجود ندارد\",LOOKUP(A9797,Personnel!A:A,Personnel!B:B)))","v":" "},{"$f":"IF(A9797=0,\" \",IF(ISNA(MATCH(A9797,Personnel!A:A,0)),\"وجود ندارد\",LOOKUP(A9797,Personnel!A:A,Personnel!C:C)))","v":" "},null,null,null,null,null,null,null,null,"","",1,0," "," ",""," "," ","",null," "," ",",,,,,,,,,,,,"]
[null,{"$f":"IF(A9798=0,\" \",IF(ISNA(MATCH(A9798,Personnel!A:A,0)),\"وجود ندارد\",LOOKUP(A9798,Personnel!A:A,Personnel!B:B)))","v":" "},{"$f":"IF(A9798=0,\" \",IF(ISNA(MATCH(A9798,Personnel!A:A,0)),\"وجود ندارد\",LOOKUP(A9798,Personnel!A:A,Personnel!C:C)))","v":" "},null,null,null,null,null,null,null,null,"","",1,0," "," ",""," "," ","",null," "," ",",,,,,,,,,,,,"]
[null,{"$f":"IF(A9799=0,\" \",IF(ISNA(MATCH(A9799,Personnel!A:A,0)),\"وجود ندارد\",LOOKUP(A9799,Personnel!A:A,Personnel!B:B)))","v":" "},{"$f":"IF(A9799=0,\" \",IF(ISNA(MATCH(A9799,Personnel!A:A,0)),\"وجود ندارد\",LOOKUP(A9799,Personnel!A:A,Personnel!C:C)))","v":" "},null,null,null,null,null,null,null,null,"","",1,0," "," ",""," "," ","",null," "," ",",,,,,,,,,,,,"]
[null,{"$f":"IF(A9800=0,\" \",IF(ISNA(MATCH(A9800,Personnel!A:A,0)),\"وجود ندارد\",LOOKUP(A9800,Personnel!A:A,Personnel!B:B)))","v":" "},{"$f":"IF(A9800=0,\" \",IF(ISNA(MATCH(A9800,Personnel!A:A,0)),\"وجود ندارد\",LOOKUP(A9800,Personnel!A:A,Personnel!C:C)))","v":" "},null,null,null,null,null,null,null,null,"","",1,0," "," ",""," "," ","",null," "," ",",,,,,,,,,,,,"]
[null,{"$f":"IF(A9801=0,\" \",IF(ISNA(MATCH(A9801,Personnel!A:A,0)),\"وجود ندارد\",LOOKUP(A9801,Personnel!A:A,Personnel!B:B)))","v":" "},{"$f":"IF(A9801=0,\" \",IF(ISNA(MATCH(A9801,Personnel!A:A,0)),\"وجود ندارد\",LOOKUP(A9801,Personnel!A:A,Personnel!C:C)))","v":" "},null,null,null,null,null,null,null,null,"","",1,0," "," ",""," "," ","",null," "," ",",,,,,,,,,,,,"]
[null,{"$f":"IF(A9802=0,\" \",IF(ISNA(MATCH(A9802,Personnel!A:A,0)),\"وجود ندارد\",LOOKUP(A9802,Personnel!A:A,Personnel!B:B)))","v":" "},{"$f":"IF(A9802=0,\" \",IF(ISNA(MATCH(A9802,Personnel!A:A,0)),\"وجود ندارد\",LOOKUP(A9802,Personnel!A:A,Personnel!C:C)))","v":" "},null,null,null,null,null,null,null,null,"","",1,0," "," ",""," "," ","",null," "," ",",,,,,,,,,,,,"]
[null,{"$f":"IF(A9803=0,\" \",IF(ISNA(MATCH(A9803,Personnel!A:A,0)),\"وجود ندارد\",LOOKUP(A9803,Personnel!A:A,Personnel!B:B)))","v":" "},{"$f":"IF(A9803=0,\" \",IF(ISNA(MATCH(A9803,Personnel!A:A,0)),\"وجود ندارد\",LOOKUP(A9803,Personnel!A:A,Personnel!C:C)))","v":" "},null,null,null,null,null,null,null,null,"","",1,0," "," ",""," "," ","",null," "," ",",,,,,,,,,,,,"]
[null,{"$f":"IF(A9804=0,\" \",IF(ISNA(MATCH(A9804,Personnel!A:A,0)),\"وجود ندارد\",LOOKUP(A9804,Personnel!A:A,Personnel!B:B)))","v":" "},{"$f":"IF(A9804=0,\" \",IF(ISNA(MATCH(A9804,Personnel!A:A,0)),\"وجود ندارد\",LOOKUP(A9804,Personnel!A:A,Personnel!C:C)))","v":" "},null,null,null,null,null,null,null,null,"","",1,0," "," ",""," "," ","",null," "," ",",,,,,,,,,,,,"]
[null,{"$f":"IF(A9805=0,\" \",IF(ISNA(MATCH(A9805,Personnel!A:A,0)),\"وجود ندارد\",LOOKUP(A9805,Personnel!A:A,Personnel!B:B)))","v":" "},{"$f":"IF(A9805=0,\" \",IF(ISNA(MATCH(A9805,Personnel!A:A,0)),\"وجود ندارد\",LOOKUP(A9805,Personnel!A:A,Personnel!C:C)))","v":" "},null,null,null,null,null,null,null,null,"","",1,0," "," ",""," "," ","",null," "," ",",,,,,,,,,,,,"]
[null,{"$f":"IF(A9806=0,\" \",IF(ISNA(MATCH(A9806,Personnel!A:A,0)),\"وجود ندارد\",LOOKUP(A9806,Personnel!A:A,Personnel!B:B)))","v":" "},{"$f":"IF(A9806=0,\" \",IF(ISNA(MATCH(A9806,Personnel!A:A,0)),\"وجود ندارد\",LOOKUP(A9806,Personnel!A:A,Personnel!C:C)))","v":" "},null,null,null,null,null,null,null,null,"","",1,0," "," ",""," "," ","",null," "," ",",,,,,,,,,,,,"]
[null,{"$f":"IF(A9807=0,\" \",IF(ISNA(MATCH(A9807,Personnel!A:A,0)),\"وجود ندارد\",LOOKUP(A9807,Personnel!A:A,Personnel!B:B)))","v":" "},{"$f":"IF(A9807=0,\" \",IF(ISNA(MATCH(A9807,Personnel!A:A,0)),\"وجود ندارد\",LOOKUP(A9807,Personnel!A:A,Personnel!C:C)))","v":" "},null,null,null,null,null,null,null,null,"","",1,0," "," ",""," "," ","",null," "," ",",,,,,,,,,,,,"]
[null,{"$f":"IF(A9808=0,\" \",IF(ISNA(MATCH(A9808,Personnel!A:A,0)),\"وجود ندارد\",LOOKUP(A9808,Personnel!A:A,Personnel!B:B)))","v":" "},{"$f":"IF(A9808=0,\" \",IF(ISNA(MATCH(A9808,Personnel!A:A,0)),\"وجود ندارد\",LOOKUP(A9808,Personnel!A:A,Personnel!C:C)))","v":" "},null,null,null,null,null,null,null,null,"","",1,0," "," ",""," "," ","",null," "," ",",,,,,,,,,,,,"]
[null,{"$f":"IF(A9809=0,\" \",IF(ISNA(MATCH(A9809,Personnel!A:A,0)),\"وجود ندارد\",LOOKUP(A9809,Personnel!A:A,Personnel!B:B)))","v":" "},{"$f":"IF(A9809=0,\" \",IF(ISNA(MATCH(A9809,Personnel!A:A,0)),\"وجود ندارد\",LOOKUP(A9809,Personnel!A:A,Personnel!C:C)))","v":" "},null,null,null,null,null,null,null,null,"","",1,0," "," ",""," "," ","",null," "," ",",,,,,,,,,,,,"]
[null,{"$f":"IF(A9810=0,\" \",IF(ISNA(MATCH(A9810,Personnel!A:A,0)),\"وجود ندارد\",LOOKUP(A9810,Personnel!A:A,Personnel!B:B)))","v":" "},{"$f":"IF(A9810=0,\" \",IF(ISNA(MATCH(A9810,Personnel!A:A,0)),\"وجود ندارد\",LOOKUP(A9810,Personnel!A:A,Personnel!C:C)))","v":" "},null,null,null,null,null,null,null,null,"","",1,0," "," ",""," "," ","",null," "," ",",,,,,,,,,,,,"]
[null,{"$f":"IF(A9811=0,\" \",IF(ISNA(MATCH(A9811,Personnel!A:A,0)),\"وجود ندارد\",LOOKUP(A9811,Personnel!A:A,Personnel!B:B)))","v":" "},{"$f":"IF(A9811=0,\" \",IF(ISNA(MATCH(A9811,Personnel!A:A,0)),\"وجود ندارد\",LOOKUP(A9811,Personnel!A:A,Personnel!C:C)))","v":" "},null,null,null,null,null,null,null,null,"","",1,0," "," ",""," "," ","",null," "," ",",,,,,,,,,,,,"]
[null,{"$f":"IF(A9812=0,\" \",IF(ISNA(MATCH(A9812,Personnel!A:A,0)),\"وجود ندارد\",LOOKUP(A9812,Personnel!A:A,Personnel!B:B)))","v":" "},{"$f":"IF(A9812=0,\" \",IF(ISNA(MATCH(A9812,Personnel!A:A,0)),\"وجود ندارد\",LOOKUP(A9812,Personnel!A:A,Personnel!C:C)))","v":" "},null,null,null,null,null,null,null,null,"","",1,0," "," ",""," "," ","",null," "," ",",,,,,,,,,,,,"]
[null,{"$f":"IF(A9813=0,\" \",IF(ISNA(MATCH(A9813,Personnel!A:A,0)),\"وجود ندارد\",LOOKUP(A9813,Personnel!A:A,Personnel!B:B)))","v":" "},{"$f":"IF(A9813=0,\" \",IF(ISNA(MATCH(A9813,Personnel!A:A,0)),\"وجود ندارد\",LOOKUP(A9813,Personnel!A:A,Personnel!C:C)))","v":" "},null,null,null,null,null,null,null,null,"","",1,0," "," ",""," "," ","",null," "," ",",,,,,,,,,,,,"]
[null,{"$f":"IF(A9814=0,\" \",IF(ISNA(MATCH(A9814,Personnel!A:A,0)),\"وجود ندارد\",LOOKUP(A9814,Personnel!A:A,Personnel!B:B)))","v":" "},{"$f":"IF(A9814=0,\" \",IF(ISNA(MATCH(A9814,Personnel!A:A,0)),\"وجود ندارد\",LOOKUP(A9814,Personnel!A:A,Personnel!C:C)))","v":" "},null,null,null,null,null,null,null,null,"","",1,0," "," ",""," "," ","",null," "," ",",,,,,,,,,,,,"]
[null,{"$f":"IF(A9815=0,\" \",IF(ISNA(MATCH(A9815,Personnel!A:A,0)),\"وجود ندارد\",LOOKUP(A9815,Personnel!A:A,Personnel!B:B)))","v":" "},{"$f":"IF(A9815=0,\" \",IF(ISNA(MATCH(A9815,Personnel!A:A,0)),\"وجود ندارد\",LOOKUP(A9815,Personnel!A:A,Personnel!C:C)))","v":" "},null,null,null,null,null,null,null,null,"","",1,0," "," ",""," "," ","",null," "," ",",,,,,,,,,,,,"]
[null,{"$f":"IF(A9816=0,\" \",IF(ISNA(MATCH(A9816,Personnel!A:A,0)),\"وجود ندارد\",LOOKUP(A9816,Personnel!A:A,Personnel!B:B)))","v":" "},{"$f":"IF(A9816=0,\" \",IF(ISNA(MATCH(A9816,Personnel!A:A,0)),\"وجود ندارد\",LOOKUP(A9816,Personnel!A:A,Personnel!C:C)))","v":" "},null,null,null,null,null,null,null,null,"","",1,0," "," ",""," "," ","",null," "," ",",,,,,,,,,,,,"]
[null,{"$f":"IF(A9817=0,\" \",IF(ISNA(MATCH(A9817,Personnel!A:A,0)),\"وجود ندارد\",LOOKUP(A9817,Personnel!A:A,Personnel!B:B)))","v":" "},{"$f":"IF(A9817=0,\" \",IF(ISNA(MATCH(A9817,Personnel!A:A,0)),\"وجود ندارد\",LOOKUP(A9817,Personnel!A:A,Personnel!C:C)))","v":" "},null,null,null,null,null,null,null,null,"","",1,0," "," ",""," "," ","",null," "," ",",,,,,,,,,,,,"]
[null,{"$f":"IF(A9818=0,\" \",IF(ISNA(MATCH(A9818,Personnel!A:A,0)),\"وجود ندارد\",LOOKUP(A9818,Personnel!A:A,Personnel!B:B)))","v":" "},{"$f":"IF(A9818=0,\" \",IF(ISNA(MATCH(A9818,Personnel!A:A,0)),\"وجود ندارد\",LOOKUP(A9818,Personnel!A:A,Personnel!C:C)))","v":" "},null,null,null,null,null,null,null,null,"","",1,0," "," ",""," "," ","",null," "," ",",,,,,,,,,,,,"]
[null,{"$f":"IF(A9819=0,\" \",IF(ISNA(MATCH(A9819,Personnel!A:A,0)),\"وجود ندارد\",LOOKUP(A9819,Personnel!A:A,Personnel!B:B)))","v":" "},{"$f":"IF(A9819=0,\" \",IF(ISNA(MATCH(A9819,Personnel!A:A,0)),\"وجود ندارد\",LOOKUP(A9819,Personnel!A:A,Personnel!C:C)))","v":" "},null,null,null,null,null,null,null,null,"","",1,0," "," ",""," "," ","",null," "," ",",,,,,,,,,,,,"]
[null,{"$f":"IF(A9820=0,\" \",IF(ISNA(MATCH(A9820,Personnel!A:A,0)),\"وجود ندارد\",LOOKUP(A9820,Personnel!A:A,Personnel!B:B)))","v":" "},{"$f":"IF(A9820=0,\" \",IF(ISNA(MATCH(A9820,Personnel!A:A,0)),\"وجود ندارد\",LOOKUP(A9820,Personnel!A:A,Personnel!C:C)))","v":" "},null,null,null,null,null,null,null,null,"","",1,0," "," ",""," "," ","",null," "," ",",,,,,,,,,,,,"]
[null,{"$f":"IF(A9821=0,\" \",IF(ISNA(MATCH(A9821,Personnel!A:A,0)),\"وجود ندارد\",LOOKUP(A9821,Personnel!A:A,Personnel!B:B)))","v":" "},{"$f":"IF(A9821=0,\" \",IF(ISNA(MATCH(A9821,Personnel!A:A,0)),\"وجود ندارد\",LOOKUP(A9821,Personnel!A:A,Personnel!C:C)))","v":" "},null,null,null,null,null,null,null,null,"","",1,0," "," ",""," "," ","",null," "," ",",,,,,,,,,,,,"]
[null,{"$f":"IF(A9822=0,\" \",IF(ISNA(MATCH(A9822,Personnel!A:A,0)),\"وجود ندارد\",LOOKUP(A9822,Personnel!A:A,Personnel!B:B)))","v":" "},{"$f":"IF(A9822=0,\" \",IF(ISNA(MATCH(A9822,Personnel!A:A,0)),\"وجود ندارد\",LOOKUP(A9822,Personnel!A:A,Personnel!C:C)))","v":" "},null,null,null,null,null,null,null,null,"","",1,0," "," ",""," "," ","",null," "," ",",,,,,,,,,,,,"]
[null,{"$f":"IF(A9823=0,\" \",IF(ISNA(MATCH(A9823,Personnel!A:A,0)),\"وجود ندارد\",LOOKUP(A9823,Personnel!A:A,Personnel!B:B)))","v":" "},{"$f":"IF(A9823=0,\" \",IF(ISNA(MATCH(A9823,Personnel!A:A,0)),\"وجود ندارد\",LOOKUP(A9823,Personnel!A:A,Personnel!C:C)))","v":" "},null,null,null,null,null,null,null,null,"","",1,0," "," ",""," "," ","",null," "," ",",,,,,,,,,,,,"]
[null,{"$f":"IF(A9824=0,\" \",IF(ISNA(MATCH(A9824,Personnel!A:A,0)),\"وجود ندارد\",LOOKUP(A9824,Personnel!A:A,Personnel!B:B)))","v":" "},{"$f":"IF(A9824=0,\" \",IF(ISNA(MATCH(A9824,Personnel!A:A,0)),\"وجود ندارد\",LOOKUP(A9824,Personnel!A:A,Personnel!C:C)))","v":" "},null,null,null,null,null,null,null,null,"","",1,0," "," ",""," "," ","",null," "," ",",,,,,,,,,,,,"]
[null,{"$f":"IF(A9825=0,\" \",IF(ISNA(MATCH(A9825,Personnel!A:A,0)),\"وجود ندارد\",LOOKUP(A9825,Personnel!A:A,Personnel!B:B)))","v":" "},{"$f":"IF(A9825=0,\" \",IF(ISNA(MATCH(A9825,Personnel!A:A,0)),\"وجود ندارد\",LOOKUP(A9825,Personnel!A:A,Personnel!C:C)))","v":" "},null,null,null,null,null,null,null,null,"","",1,0," "," ",""," "," ","",null," "," ",",,,,,,,,,,,,"]
[null,{"$f":"IF(A9826=0,\" \",IF(ISNA(MATCH(A9826,Personnel!A:A,0)),\"وجود ندارد\",LOOKUP(A9826,Personnel!A:A,Personnel!B:B)))","v":" "},{"$f":"IF(A9826=0,\" \",IF(ISNA(MATCH(A9826,Personnel!A:A,0)),\"وجود ندارد\",LOOKUP(A9826,Personnel!A:A,Personnel!C:C)))","v":" "},null,null,null,null,null,null,null,null,"","",1,0," "," ",""," "," ","",null," "," ",",,,,,,,,,,,,"]
[null,{"$f":"IF(A9827=0,\" \",IF(ISNA(MATCH(A9827,Personnel!A:A,0)),\"وجود ندارد\",LOOKUP(A9827,Personnel!A:A,Personnel!B:B)))","v":" "},{"$f":"IF(A9827=0,\" \",IF(ISNA(MATCH(A9827,Personnel!A:A,0)),\"وجود ندارد\",LOOKUP(A9827,Personnel!A:A,Personnel!C:C)))","v":" "},null,null,null,null,null,null,null,null,"","",1,0," "," ",""," "," ","",null," "," ",",,,,,,,,,,,,"]
[null,{"$f":"IF(A9828=0,\" \",IF(ISNA(MATCH(A9828,Personnel!A:A,0)),\"وجود ندارد\",LOOKUP(A9828,Personnel!A:A,Personnel!B:B)))","v":" "},{"$f":"IF(A9828=0,\" \",IF(ISNA(MATCH(A9828,Personnel!A:A,0)),\"وجود ندارد\",LOOKUP(A9828,Personnel!A:A,Personnel!C:C)))","v":" "},null,null,null,null,null,null,null,null,"","",1,0," "," ",""," "," ","",null," "," ",",,,,,,,,,,,,"]
[null,{"$f":"IF(A9829=0,\" \",IF(ISNA(MATCH(A9829,Personnel!A:A,0)),\"وجود ندارد\",LOOKUP(A9829,Personnel!A:A,Personnel!B:B)))","v":" "},{"$f":"IF(A9829=0,\" \",IF(ISNA(MATCH(A9829,Personnel!A:A,0)),\"وجود ندارد\",LOOKUP(A9829,Personnel!A:A,Personnel!C:C)))","v":" "},null,null,null,null,null,null,null,null,"","",1,0," "," ",""," "," ","",null," "," ",",,,,,,,,,,,,"]
[null,{"$f":"IF(A9830=0,\" \",IF(ISNA(MATCH(A9830,Personnel!A:A,0)),\"وجود ندارد\",LOOKUP(A9830,Personnel!A:A,Personnel!B:B)))","v":" "},{"$f":"IF(A9830=0,\" \",IF(ISNA(MATCH(A9830,Personnel!A:A,0)),\"وجود ندارد\",LOOKUP(A9830,Personnel!A:A,Personnel!C:C)))","v":" "},null,null,null,null,null,null,null,null,"","",1,0," "," ",""," "," ","",null," "," ",",,,,,,,,,,,,"]
[null,{"$f":"IF(A9831=0,\" \",IF(ISNA(MATCH(A9831,Personnel!A:A,0)),\"وجود ندارد\",LOOKUP(A9831,Personnel!A:A,Personnel!B:B)))","v":" "},{"$f":"IF(A9831=0,\" \",IF(ISNA(MATCH(A9831,Personnel!A:A,0)),\"وجود ندارد\",LOOKUP(A9831,Personnel!A:A,Personnel!C:C)))","v":" "},null,null,null,null,null,null,null,null,"","",1,0," "," ",""," "," ","",null," "," ",",,,,,,,,,,,,"]
[null,{"$f":"IF(A9832=0,\" \",IF(ISNA(MATCH(A9832,Personnel!A:A,0)),\"وجود ندارد\",LOOKUP(A9832,Personnel!A:A,Personnel!B:B)))","v":" "},{"$f":"IF(A9832=0,\" \",IF(ISNA(MATCH(A9832,Personnel!A:A,0)),\"وجود ندارد\",LOOKUP(A9832,Personnel!A:A,Personnel!C:C)))","v":" "},null,null,null,null,null,null,null,null,"","",1,0," "," ",""," "," ","",null," "," ",",,,,,,,,,,,,"]
[null,{"$f":"IF(A9833=0,\" \",IF(ISNA(MATCH(A9833,Personnel!A:A,0)),\"وجود ندارد\",LOOKUP(A9833,Personnel!A:A,Personnel!B:B)))","v":" "},{"$f":"IF(A9833=0,\" \",IF(ISNA(MATCH(A9833,Personnel!A:A,0)),\"وجود ندارد\",LOOKUP(A9833,Personnel!A:A,Personnel!C:C)))","v":" "},null,null,null,null,null,null,null,null,"","",1,0," "," ",""," "," ","",null," "," ",",,,,,,,,,,,,"]
[null,{"$f":"IF(A9834=0,\" \",IF(ISNA(MATCH(A9834,Personnel!A:A,0)),\"وجود ندارد\",LOOKUP(A9834,Personnel!A:A,Personnel!B:B)))","v":" "},{"$f":"IF(A9834=0,\" \",IF(ISNA(MATCH(A9834,Personnel!A:A,0)),\"وجود ندارد\",LOOKUP(A9834,Personnel!A:A,Personnel!C:C)))","v":" "},null,null,null,null,null,null,null,null,"","",1,0," "," ",""," "," ","",null," "," ",",,,,,,,,,,,,"]
[null,{"$f":"IF(A9835=0,\" \",IF(ISNA(MATCH(A9835,Personnel!A:A,0)),\"وجود ندارد\",LOOKUP(A9835,Personnel!A:A,Personnel!B:B)))","v":" "},{"$f":"IF(A9835=0,\" \",IF(ISNA(MATCH(A9835,Personnel!A:A,0)),\"وجود ندارد\",LOOKUP(A9835,Personnel!A:A,Personnel!C:C)))","v":" "},null,null,null,null,null,null,null,null,"","",1,0," "," ",""," "," ","",null," "," ",",,,,,,,,,,,,"]
[null,{"$f":"IF(A9836=0,\" \",IF(ISNA(MATCH(A9836,Personnel!A:A,0)),\"وجود ندارد\",LOOKUP(A9836,Personnel!A:A,Personnel!B:B)))","v":" "},{"$f":"IF(A9836=0,\" \",IF(ISNA(MATCH(A9836,Personnel!A:A,0)),\"وجود ندارد\",LOOKUP(A9836,Personnel!A:A,Personnel!C:C)))","v":" "},null,null,null,null,null,null,null,null,"","",1,0," "," ",""," "," ","",null," "," ",",,,,,,,,,,,,"]
[null,{"$f":"IF(A9837=0,\" \",IF(ISNA(MATCH(A9837,Personnel!A:A,0)),\"وجود ندارد\",LOOKUP(A9837,Personnel!A:A,Personnel!B:B)))","v":" "},{"$f":"IF(A9837=0,\" \",IF(ISNA(MATCH(A9837,Personnel!A:A,0)),\"وجود ندارد\",LOOKUP(A9837,Personnel!A:A,Personnel!C:C)))","v":" "},null,null,null,null,null,null,null,null,"","",1,0," "," ",""," "," ","",null," "," ",",,,,,,,,,,,,"]
[null,{"$f":"IF(A9838=0,\" \",IF(ISNA(MATCH(A9838,Personnel!A:A,0)),\"وجود ندارد\",LOOKUP(A9838,Personnel!A:A,Personnel!B:B)))","v":" "},{"$f":"IF(A9838=0,\" \",IF(ISNA(MATCH(A9838,Personnel!A:A,0)),\"وجود ندارد\",LOOKUP(A9838,Personnel!A:A,Personnel!C:C)))","v":" "},null,null,null,null,null,null,null,null,"","",1,0," "," ",""," "," ","",null," "," ",",,,,,,,,,,,,"]
[null,{"$f":"IF(A9839=0,\" \",IF(ISNA(MATCH(A9839,Personnel!A:A,0)),\"وجود ندارد\",LOOKUP(A9839,Personnel!A:A,Personnel!B:B)))","v":" "},{"$f":"IF(A9839=0,\" \",IF(ISNA(MATCH(A9839,Personnel!A:A,0)),\"وجود ندارد\",LOOKUP(A9839,Personnel!A:A,Personnel!C:C)))","v":" "},null,null,null,null,null,null,null,null,"","",1,0," "," ",""," "," ","",null," "," ",",,,,,,,,,,,,"]
[null,{"$f":"IF(A9840=0,\" \",IF(ISNA(MATCH(A9840,Personnel!A:A,0)),\"وجود ندارد\",LOOKUP(A9840,Personnel!A:A,Personnel!B:B)))","v":" "},{"$f":"IF(A9840=0,\" \",IF(ISNA(MATCH(A9840,Personnel!A:A,0)),\"وجود ندارد\",LOOKUP(A9840,Personnel!A:A,Personnel!C:C)))","v":" "},null,null,null,null,null,null,null,null,"","",1,0," "," ",""," "," ","",null," "," ",",,,,,,,,,,,,"]
[null,{"$f":"IF(A9841=0,\" \",IF(ISNA(MATCH(A9841,Personnel!A:A,0)),\"وجود ندارد\",LOOKUP(A9841,Personnel!A:A,Personnel!B:B)))","v":" "},{"$f":"IF(A9841=0,\" \",IF(ISNA(MATCH(A9841,Personnel!A:A,0)),\"وجود ندارد\",LOOKUP(A9841,Personnel!A:A,Personnel!C:C)))","v":" "},null,null,null,null,null,null,null,null,"","",1,0," "," ",""," "," ","",null," "," ",",,,,,,,,,,,,"]
[null,{"$f":"IF(A9842=0,\" \",IF(ISNA(MATCH(A9842,Personnel!A:A,0)),\"وجود ندارد\",LOOKUP(A9842,Personnel!A:A,Personnel!B:B)))","v":" "},{"$f":"IF(A9842=0,\" \",IF(ISNA(MATCH(A9842,Personnel!A:A,0)),\"وجود ندارد\",LOOKUP(A9842,Personnel!A:A,Personnel!C:C)))","v":" "},null,null,null,null,null,null,null,null,"","",1,0," "," ",""," "," ","",null," "," ",",,,,,,,,,,,,"]
[null,{"$f":"IF(A9843=0,\" \",IF(ISNA(MATCH(A9843,Personnel!A:A,0)),\"وجود ندارد\",LOOKUP(A9843,Personnel!A:A,Personnel!B:B)))","v":" "},{"$f":"IF(A9843=0,\" \",IF(ISNA(MATCH(A9843,Personnel!A:A,0)),\"وجود ندارد\",LOOKUP(A9843,Personnel!A:A,Personnel!C:C)))","v":" "},null,null,null,null,null,null,null,null,"","",1,0," "," ",""," "," ","",null," "," ",",,,,,,,,,,,,"]
[null,{"$f":"IF(A9844=0,\" \",IF(ISNA(MATCH(A9844,Personnel!A:A,0)),\"وجود ندارد\",LOOKUP(A9844,Personnel!A:A,Personnel!B:B)))","v":" "},{"$f":"IF(A9844=0,\" \",IF(ISNA(MATCH(A9844,Personnel!A:A,0)),\"وجود ندارد\",LOOKUP(A9844,Personnel!A:A,Personnel!C:C)))","v":" "},null,null,null,null,null,null,null,null,"","",1,0," "," ",""," "," ","",null," "," ",",,,,,,,,,,,,"]
[null,{"$f":"IF(A9845=0,\" \",IF(ISNA(MATCH(A9845,Personnel!A:A,0)),\"وجود ندارد\",LOOKUP(A9845,Personnel!A:A,Personnel!B:B)))","v":" "},{"$f":"IF(A9845=0,\" \",IF(ISNA(MATCH(A9845,Personnel!A:A,0)),\"وجود ندارد\",LOOKUP(A9845,Personnel!A:A,Personnel!C:C)))","v":" "},null,null,null,null,null,null,null,null,"","",1,0," "," ",""," "," ","",null," "," ",",,,,,,,,,,,,"]
[null,{"$f":"IF(A9846=0,\" \",IF(ISNA(MATCH(A9846,Personnel!A:A,0)),\"وجود ندارد\",LOOKUP(A9846,Personnel!A:A,Personnel!B:B)))","v":" "},{"$f":"IF(A9846=0,\" \",IF(ISNA(MATCH(A9846,Personnel!A:A,0)),\"وجود ندارد\",LOOKUP(A9846,Personnel!A:A,Personnel!C:C)))","v":" "},null,null,null,null,null,null,null,null,"","",1,0," "," ",""," "," ","",null," "," ",",,,,,,,,,,,,"]
[null,{"$f":"IF(A9847=0,\" \",IF(ISNA(MATCH(A9847,Personnel!A:A,0)),\"وجود ندارد\",LOOKUP(A9847,Personnel!A:A,Personnel!B:B)))","v":" "},{"$f":"IF(A9847=0,\" \",IF(ISNA(MATCH(A9847,Personnel!A:A,0)),\"وجود ندارد\",LOOKUP(A9847,Personnel!A:A,Personnel!C:C)))","v":" "},null,null,null,null,null,null,null,null,"","",1,0," "," ",""," "," ","",null," "," ",",,,,,,,,,,,,"]
[null,{"$f":"IF(A9848=0,\" \",IF(ISNA(MATCH(A9848,Personnel!A:A,0)),\"وجود ندارد\",LOOKUP(A9848,Personnel!A:A,Personnel!B:B)))","v":" "},{"$f":"IF(A9848=0,\" \",IF(ISNA(MATCH(A9848,Personnel!A:A,0)),\"وجود ندارد\",LOOKUP(A9848,Personnel!A:A,Personnel!C:C)))","v":" "},null,null,null,null,null,null,null,null,"","",1,0," "," ",""," "," ","",null," "," ",",,,,,,,,,,,,"]
[null,{"$f":"IF(A9849=0,\" \",IF(ISNA(MATCH(A9849,Personnel!A:A,0)),\"وجود ندارد\",LOOKUP(A9849,Personnel!A:A,Personnel!B:B)))","v":" "},{"$f":"IF(A9849=0,\" \",IF(ISNA(MATCH(A9849,Personnel!A:A,0)),\"وجود ندارد\",LOOKUP(A9849,Personnel!A:A,Personnel!C:C)))","v":" "},null,null,null,null,null,null,null,null,"","",1,0," "," ",""," "," ","",null," "," ",",,,,,,,,,,,,"]
[null,{"$f":"IF(A9850=0,\" \",IF(ISNA(MATCH(A9850,Personnel!A:A,0)),\"وجود ندارد\",LOOKUP(A9850,Personnel!A:A,Personnel!B:B)))","v":" "},{"$f":"IF(A9850=0,\" \",IF(ISNA(MATCH(A9850,Personnel!A:A,0)),\"وجود ندارد\",LOOKUP(A9850,Personnel!A:A,Personnel!C:C)))","v":" "},null,null,null,null,null,null,null,null,"","",1,0," "," ",""," "," ","",null," "," ",",,,,,,,,,,,,"]
[null,{"$f":"IF(A9851=0,\" \",IF(ISNA(MATCH(A9851,Personnel!A:A,0)),\"وجود ندارد\",LOOKUP(A9851,Personnel!A:A,Personnel!B:B)))","v":" "},{"$f":"IF(A9851=0,\" \",IF(ISNA(MATCH(A9851,Personnel!A:A,0)),\"وجود ندارد\",LOOKUP(A9851,Personnel!A:A,Personnel!C:C)))","v":" "},null,null,null,null,null,null,null,null,"","",1,0," "," ",""," "," ","",null," "," ",",,,,,,,,,,,,"]
[null,{"$f":"IF(A9852=0,\" \",IF(ISNA(MATCH(A9852,Personnel!A:A,0)),\"وجود ندارد\",LOOKUP(A9852,Personnel!A:A,Personnel!B:B)))","v":" "},{"$f":"IF(A9852=0,\" \",IF(ISNA(MATCH(A9852,Personnel!A:A,0)),\"وجود ندارد\",LOOKUP(A9852,Personnel!A:A,Personnel!C:C)))","v":" "},null,null,null,null,null,null,null,null,"","",1,0," "," ",""," "," ","",null," "," ",",,,,,,,,,,,,"]
[null,{"$f":"IF(A9853=0,\" \",IF(ISNA(MATCH(A9853,Personnel!A:A,0)),\"وجود ندارد\",LOOKUP(A9853,Personnel!A:A,Personnel!B:B)))","v":" "},{"$f":"IF(A9853=0,\" \",IF(ISNA(MATCH(A9853,Personnel!A:A,0)),\"وجود ندارد\",LOOKUP(A9853,Personnel!A:A,Personnel!C:C)))","v":" "},null,null,null,null,null,null,null,null,"","",1,0," "," ",""," "," ","",null," "," ",",,,,,,,,,,,,"]
[null,{"$f":"IF(A9854=0,\" \",IF(ISNA(MATCH(A9854,Personnel!A:A,0)),\"وجود ندارد\",LOOKUP(A9854,Personnel!A:A,Personnel!B:B)))","v":" "},{"$f":"IF(A9854=0,\" \",IF(ISNA(MATCH(A9854,Personnel!A:A,0)),\"وجود ندارد\",LOOKUP(A9854,Personnel!A:A,Personnel!C:C)))","v":" "},null,null,null,null,null,null,null,null,"","",1,0," "," ",""," "," ","",null," "," ",",,,,,,,,,,,,"]
[null,{"$f":"IF(A9855=0,\" \",IF(ISNA(MATCH(A9855,Personnel!A:A,0)),\"وجود ندارد\",LOOKUP(A9855,Personnel!A:A,Personnel!B:B)))","v":" "},{"$f":"IF(A9855=0,\" \",IF(ISNA(MATCH(A9855,Personnel!A:A,0)),\"وجود ندارد\",LOOKUP(A9855,Personnel!A:A,Personnel!C:C)))","v":" "},null,null,null,null,null,null,null,null,"","",1,0," "," ",""," "," ","",null," "," ",",,,,,,,,,,,,"]
[null,{"$f":"IF(A9856=0,\" \",IF(ISNA(MATCH(A9856,Personnel!A:A,0)),\"وجود ندارد\",LOOKUP(A9856,Personnel!A:A,Personnel!B:B)))","v":" "},{"$f":"IF(A9856=0,\" \",IF(ISNA(MATCH(A9856,Personnel!A:A,0)),\"وجود ندارد\",LOOKUP(A9856,Personnel!A:A,Personnel!C:C)))","v":" "},null,null,null,null,null,null,null,null,"","",1,0," "," ",""," "," ","",null," "," ",",,,,,,,,,,,,"]
[null,{"$f":"IF(A9857=0,\" \",IF(ISNA(MATCH(A9857,Personnel!A:A,0)),\"وجود ندارد\",LOOKUP(A9857,Personnel!A:A,Personnel!B:B)))","v":" "},{"$f":"IF(A9857=0,\" \",IF(ISNA(MATCH(A9857,Personnel!A:A,0)),\"وجود ندارد\",LOOKUP(A9857,Personnel!A:A,Personnel!C:C)))","v":" "},null,null,null,null,null,null,null,null,"","",1,0," "," ",""," "," ","",null," "," ",",,,,,,,,,,,,"]
[null,{"$f":"IF(A9858=0,\" \",IF(ISNA(MATCH(A9858,Personnel!A:A,0)),\"وجود ندارد\",LOOKUP(A9858,Personnel!A:A,Personnel!B:B)))","v":" "},{"$f":"IF(A9858=0,\" \",IF(ISNA(MATCH(A9858,Personnel!A:A,0)),\"وجود ندارد\",LOOKUP(A9858,Personnel!A:A,Personnel!C:C)))","v":" "},null,null,null,null,null,null,null,null,"","",1,0,{"$f":"IF(A9858=0,\" \",IF(N9858+O9858<>0,\"تاریخ اشتباه است\",\"\"))","v":" "},{"$f":"IF(A9858=0,\" \",IF(AND(G9858<>0,H9858>G9858),\"مبلغ قسط از مبلغ کل بیشتر است\",\"\"))","v":" "},""," ",{"$f":"IF(A9858=0,\" \",IF(OR(K9858<1,K9858>3),\"نوع عمل اشتباه است\",\"\"))","v":" "},"",null," "," ",",,,,,,,,,,,,"]
[null,{"$f":"IF(A9859=0,\" \",IF(ISNA(MATCH(A9859,Personnel!A:A,0)),\"وجود ندارد\",LOOKUP(A9859,Personnel!A:A,Personnel!B:B)))","v":" "},{"$f":"IF(A9859=0,\" \",IF(ISNA(MATCH(A9859,Personnel!A:A,0)),\"وجود ندارد\",LOOKUP(A9859,Personnel!A:A,Personnel!C:C)))","v":" "},null,null,null,null,null,null,null,null,{"$f":"IF(K9859=0,\"\",IF(K9859=1,\"ایجاد\",IF(K9859=2,\"اصلاح\",\"حذف\")))","v":""},{"$f":"IF(AND(K9859=3,H9859+I9859+J9859+F9859+G9859<>0),\"برای عمل حذف اطلاعات اضافی وارد شده است\",\"\")","v":""},{"$f":"IF(AND(K9859<>3,F9859<900000),1,0)","v":1},{"$f":"IF(F9859>991231,1,0)","v":0}," "," ",{"$f":"IF(AND(A9859=0,H9859+I9859+J9859+F9859+G9859+K9859+E9859+D9859<>0),\"در این ردیف شماره پرسنلی وجود ندارد اما اطلاعات دیگر وارد شده است\",\"\")","v":""},{"$f":"IF(A9859=0,\" \",IF(D9859=0,\"کد وام وارد نشده است\",\"\"))","v":" "}," ",{"$f":"IF(AND(OR(K9859=1,K9859=2),H9859=0),\"مبلغ قسط نمی تواند خالی باشد\",\"\")","v":""},null,{"$f":"IF(AND(A9859=0,A9860<>0),\"دراین ردیف اصلاحاتی وجود ندارد . لطفا ردیفی را خالی باقی نگذارید\",IF(AND(A9859=0,R9859=\"\"),\" \",IF(M9859&\",\"&P9859&\",\"&Q9859&\",\"&R9859&\",\"&S9859&\",\"&T9859&\",\"&U9859=\",,,,,,\",\"صحیح\",M9859&\",\"&P9859&\",\"&Q9859&\",\"&R9859&\",\"&S9859&\",\"&T9859&\",\"&U9859)))","v":" "},{"$f":"IF(AND(ROW(X9859)>$Z$2,W9859=\" \"),\" \",IF(W9859=\" \",IF(AND(A9859=0,$Z$2<>$Z$4),\"دراین ردیف اصلاحاتی وجود ندارد . لطفا ردیفی را خالی نگذارید\",W9859),W9859))","v":" "},{"$f":"CONCATENATE(A9859,\",\",D9859,\",\",E9859,\",\",F9859,\",\",G9859,\",\",H9859,\",\",I9859,\",\",K9859,\",\",,\",\",J9859,\",\",\",\",V9859,\",\")","v":",,,,,,,,,,,,"}]
[null,{"$f":"IF(A9860=0,\" \",IF(ISNA(MATCH(A9860,Personnel!A:A,0)),\"وجود ندارد\",LOOKUP(A9860,Personnel!A:A,Personnel!B:B)))","v":" "},{"$f":"IF(A9860=0,\" \",IF(ISNA(MATCH(A9860,Personnel!A:A,0)),\"وجود ندارد\",LOOKUP(A9860,Personnel!A:A,Personnel!C:C)))","v":" "},null,null,null,null,null,null,null,null,"","",1,0," "," ",""," "," ","",null," "," ",",,,,,,,,,,,,"]
[null,{"$f":"IF(A9861=0,\" \",IF(ISNA(MATCH(A9861,Personnel!A:A,0)),\"وجود ندارد\",LOOKUP(A9861,Personnel!A:A,Personnel!B:B)))","v":" "},{"$f":"IF(A9861=0,\" \",IF(ISNA(MATCH(A9861,Personnel!A:A,0)),\"وجود ندارد\",LOOKUP(A9861,Personnel!A:A,Personnel!C:C)))","v":" "},null,null,null,null,null,null,null,null,"","",1,0," "," ",""," "," ","",null," "," ",",,,,,,,,,,,,"]
[null,{"$f":"IF(A9862=0,\" \",IF(ISNA(MATCH(A9862,Personnel!A:A,0)),\"وجود ندارد\",LOOKUP(A9862,Personnel!A:A,Personnel!B:B)))","v":" "},{"$f":"IF(A9862=0,\" \",IF(ISNA(MATCH(A9862,Personnel!A:A,0)),\"وجود ندارد\",LOOKUP(A9862,Personnel!A:A,Personnel!C:C)))","v":" "},null,null,null,null,null,null,null,null,"","",1,0," "," ",""," "," ","",null," "," ",",,,,,,,,,,,,"]
[null,{"$f":"IF(A9863=0,\" \",IF(ISNA(MATCH(A9863,Personnel!A:A,0)),\"وجود ندارد\",LOOKUP(A9863,Personnel!A:A,Personnel!B:B)))","v":" "},{"$f":"IF(A9863=0,\" \",IF(ISNA(MATCH(A9863,Personnel!A:A,0)),\"وجود ندارد\",LOOKUP(A9863,Personnel!A:A,Personnel!C:C)))","v":" "},null,null,null,null,null,null,null,null,"","",1,0," "," ",""," "," ","",null," "," ",",,,,,,,,,,,,"]
[null,{"$f":"IF(A9864=0,\" \",IF(ISNA(MATCH(A9864,Personnel!A:A,0)),\"وجود ندارد\",LOOKUP(A9864,Personnel!A:A,Personnel!B:B)))","v":" "},{"$f":"IF(A9864=0,\" \",IF(ISNA(MATCH(A9864,Personnel!A:A,0)),\"وجود ندارد\",LOOKUP(A9864,Personnel!A:A,Personnel!C:C)))","v":" "},null,null,null,null,null,null,null,null,"","",1,0," "," ",""," "," ","",null," "," ",",,,,,,,,,,,,"]
[null,{"$f":"IF(A9865=0,\" \",IF(ISNA(MATCH(A9865,Personnel!A:A,0)),\"وجود ندارد\",LOOKUP(A9865,Personnel!A:A,Personnel!B:B)))","v":" "},{"$f":"IF(A9865=0,\" \",IF(ISNA(MATCH(A9865,Personnel!A:A,0)),\"وجود ندارد\",LOOKUP(A9865,Personnel!A:A,Personnel!C:C)))","v":" "},null,null,null,null,null,null,null,null,"","",1,0," "," ",""," "," ","",null," "," ",",,,,,,,,,,,,"]
[null,{"$f":"IF(A9866=0,\" \",IF(ISNA(MATCH(A9866,Personnel!A:A,0)),\"وجود ندارد\",LOOKUP(A9866,Personnel!A:A,Personnel!B:B)))","v":" "},{"$f":"IF(A9866=0,\" \",IF(ISNA(MATCH(A9866,Personnel!A:A,0)),\"وجود ندارد\",LOOKUP(A9866,Personnel!A:A,Personnel!C:C)))","v":" "},null,null,null,null,null,null,null,null,"","",1,0," "," ",""," "," ","",null," "," ",",,,,,,,,,,,,"]
[null,{"$f":"IF(A9867=0,\" \",IF(ISNA(MATCH(A9867,Personnel!A:A,0)),\"وجود ندارد\",LOOKUP(A9867,Personnel!A:A,Personnel!B:B)))","v":" "},{"$f":"IF(A9867=0,\" \",IF(ISNA(MATCH(A9867,Personnel!A:A,0)),\"وجود ندارد\",LOOKUP(A9867,Personnel!A:A,Personnel!C:C)))","v":" "},null,null,null,null,null,null,null,null,"","",1,0," "," ",""," "," ","",null," "," ",",,,,,,,,,,,,"]
[null,{"$f":"IF(A9868=0,\" \",IF(ISNA(MATCH(A9868,Personnel!A:A,0)),\"وجود ندارد\",LOOKUP(A9868,Personnel!A:A,Personnel!B:B)))","v":" "},{"$f":"IF(A9868=0,\" \",IF(ISNA(MATCH(A9868,Personnel!A:A,0)),\"وجود ندارد\",LOOKUP(A9868,Personnel!A:A,Personnel!C:C)))","v":" "},null,null,null,null,null,null,null,null,"","",1,0," "," ",""," "," ","",null," "," ",",,,,,,,,,,,,"]
[null,{"$f":"IF(A9869=0,\" \",IF(ISNA(MATCH(A9869,Personnel!A:A,0)),\"وجود ندارد\",LOOKUP(A9869,Personnel!A:A,Personnel!B:B)))","v":" "},{"$f":"IF(A9869=0,\" \",IF(ISNA(MATCH(A9869,Personnel!A:A,0)),\"وجود ندارد\",LOOKUP(A9869,Personnel!A:A,Personnel!C:C)))","v":" "},null,null,null,null,null,null,null,null,"","",1,0," "," ",""," "," ","",null," "," ",",,,,,,,,,,,,"]
[null,{"$f":"IF(A9870=0,\" \",IF(ISNA(MATCH(A9870,Personnel!A:A,0)),\"وجود ندارد\",LOOKUP(A9870,Personnel!A:A,Personnel!B:B)))","v":" "},{"$f":"IF(A9870=0,\" \",IF(ISNA(MATCH(A9870,Personnel!A:A,0)),\"وجود ندارد\",LOOKUP(A9870,Personnel!A:A,Personnel!C:C)))","v":" "},null,null,null,null,null,null,null,null,"","",1,0," "," ",""," "," ","",null," "," ",",,,,,,,,,,,,"]
[null,{"$f":"IF(A9871=0,\" \",IF(ISNA(MATCH(A9871,Personnel!A:A,0)),\"وجود ندارد\",LOOKUP(A9871,Personnel!A:A,Personnel!B:B)))","v":" "},{"$f":"IF(A9871=0,\" \",IF(ISNA(MATCH(A9871,Personnel!A:A,0)),\"وجود ندارد\",LOOKUP(A9871,Personnel!A:A,Personnel!C:C)))","v":" "},null,null,null,null,null,null,null,null,"","",1,0," "," ",""," "," ","",null," "," ",",,,,,,,,,,,,"]
[null,{"$f":"IF(A9872=0,\" \",IF(ISNA(MATCH(A9872,Personnel!A:A,0)),\"وجود ندارد\",LOOKUP(A9872,Personnel!A:A,Personnel!B:B)))","v":" "},{"$f":"IF(A9872=0,\" \",IF(ISNA(MATCH(A9872,Personnel!A:A,0)),\"وجود ندارد\",LOOKUP(A9872,Personnel!A:A,Personnel!C:C)))","v":" "},null,null,null,null,null,null,null,null,"","",1,0," "," ",""," "," ","",null," "," ",",,,,,,,,,,,,"]
[null,{"$f":"IF(A9873=0,\" \",IF(ISNA(MATCH(A9873,Personnel!A:A,0)),\"وجود ندارد\",LOOKUP(A9873,Personnel!A:A,Personnel!B:B)))","v":" "},{"$f":"IF(A9873=0,\" \",IF(ISNA(MATCH(A9873,Personnel!A:A,0)),\"وجود ندارد\",LOOKUP(A9873,Personnel!A:A,Personnel!C:C)))","v":" "},null,null,null,null,null,null,null,null,"","",1,0," "," ",""," "," ","",null," "," ",",,,,,,,,,,,,"]
[null,{"$f":"IF(A9874=0,\" \",IF(ISNA(MATCH(A9874,Personnel!A:A,0)),\"وجود ندارد\",LOOKUP(A9874,Personnel!A:A,Personnel!B:B)))","v":" "},{"$f":"IF(A9874=0,\" \",IF(ISNA(MATCH(A9874,Personnel!A:A,0)),\"وجود ندارد\",LOOKUP(A9874,Personnel!A:A,Personnel!C:C)))","v":" "},null,null,null,null,null,null,null,null,"","",1,0," "," ",""," "," ","",null," "," ",",,,,,,,,,,,,"]
[null,{"$f":"IF(A9875=0,\" \",IF(ISNA(MATCH(A9875,Personnel!A:A,0)),\"وجود ندارد\",LOOKUP(A9875,Personnel!A:A,Personnel!B:B)))","v":" "},{"$f":"IF(A9875=0,\" \",IF(ISNA(MATCH(A9875,Personnel!A:A,0)),\"وجود ندارد\",LOOKUP(A9875,Personnel!A:A,Personnel!C:C)))","v":" "},null,null,null,null,null,null,null,null,"","",1,0," "," ",""," "," ","",null," "," ",",,,,,,,,,,,,"]
[null,{"$f":"IF(A9876=0,\" \",IF(ISNA(MATCH(A9876,Personnel!A:A,0)),\"وجود ندارد\",LOOKUP(A9876,Personnel!A:A,Personnel!B:B)))","v":" "},{"$f":"IF(A9876=0,\" \",IF(ISNA(MATCH(A9876,Personnel!A:A,0)),\"وجود ندارد\",LOOKUP(A9876,Personnel!A:A,Personnel!C:C)))","v":" "},null,null,null,null,null,null,null,null,"","",1,0," "," ",""," "," ","",null," "," ",",,,,,,,,,,,,"]
[null,{"$f":"IF(A9877=0,\" \",IF(ISNA(MATCH(A9877,Personnel!A:A,0)),\"وجود ندارد\",LOOKUP(A9877,Personnel!A:A,Personnel!B:B)))","v":" "},{"$f":"IF(A9877=0,\" \",IF(ISNA(MATCH(A9877,Personnel!A:A,0)),\"وجود ندارد\",LOOKUP(A9877,Personnel!A:A,Personnel!C:C)))","v":" "},null,null,null,null,null,null,null,null,"","",1,0," "," ",""," "," ","",null," "," ",",,,,,,,,,,,,"]
[null,{"$f":"IF(A9878=0,\" \",IF(ISNA(MATCH(A9878,Personnel!A:A,0)),\"وجود ندارد\",LOOKUP(A9878,Personnel!A:A,Personnel!B:B)))","v":" "},{"$f":"IF(A9878=0,\" \",IF(ISNA(MATCH(A9878,Personnel!A:A,0)),\"وجود ندارد\",LOOKUP(A9878,Personnel!A:A,Personnel!C:C)))","v":" "},null,null,null,null,null,null,null,null,"","",1,0," "," ",""," "," ","",null," "," ",",,,,,,,,,,,,"]
[null,{"$f":"IF(A9879=0,\" \",IF(ISNA(MATCH(A9879,Personnel!A:A,0)),\"وجود ندارد\",LOOKUP(A9879,Personnel!A:A,Personnel!B:B)))","v":" "},{"$f":"IF(A9879=0,\" \",IF(ISNA(MATCH(A9879,Personnel!A:A,0)),\"وجود ندارد\",LOOKUP(A9879,Personnel!A:A,Personnel!C:C)))","v":" "},null,null,null,null,null,null,null,null,"","",1,0," "," ",""," "," ","",null," "," ",",,,,,,,,,,,,"]
[null,{"$f":"IF(A9880=0,\" \",IF(ISNA(MATCH(A9880,Personnel!A:A,0)),\"وجود ندارد\",LOOKUP(A9880,Personnel!A:A,Personnel!B:B)))","v":" "},{"$f":"IF(A9880=0,\" \",IF(ISNA(MATCH(A9880,Personnel!A:A,0)),\"وجود ندارد\",LOOKUP(A9880,Personnel!A:A,Personnel!C:C)))","v":" "},null,null,null,null,null,null,null,null,"","",1,0," "," ",""," "," ","",null," "," ",",,,,,,,,,,,,"]
[null,{"$f":"IF(A9881=0,\" \",IF(ISNA(MATCH(A9881,Personnel!A:A,0)),\"وجود ندارد\",LOOKUP(A9881,Personnel!A:A,Personnel!B:B)))","v":" "},{"$f":"IF(A9881=0,\" \",IF(ISNA(MATCH(A9881,Personnel!A:A,0)),\"وجود ندارد\",LOOKUP(A9881,Personnel!A:A,Personnel!C:C)))","v":" "},null,null,null,null,null,null,null,null,"","",1,0," "," ",""," "," ","",null," "," ",",,,,,,,,,,,,"]
[null,{"$f":"IF(A9882=0,\" \",IF(ISNA(MATCH(A9882,Personnel!A:A,0)),\"وجود ندارد\",LOOKUP(A9882,Personnel!A:A,Personnel!B:B)))","v":" "},{"$f":"IF(A9882=0,\" \",IF(ISNA(MATCH(A9882,Personnel!A:A,0)),\"وجود ندارد\",LOOKUP(A9882,Personnel!A:A,Personnel!C:C)))","v":" "},null,null,null,null,null,null,null,null,"","",1,0," "," ",""," "," ","",null," "," ",",,,,,,,,,,,,"]
[null,{"$f":"IF(A9883=0,\" \",IF(ISNA(MATCH(A9883,Personnel!A:A,0)),\"وجود ندارد\",LOOKUP(A9883,Personnel!A:A,Personnel!B:B)))","v":" "},{"$f":"IF(A9883=0,\" \",IF(ISNA(MATCH(A9883,Personnel!A:A,0)),\"وجود ندارد\",LOOKUP(A9883,Personnel!A:A,Personnel!C:C)))","v":" "},null,null,null,null,null,null,null,null,"","",1,0," "," ",""," "," ","",null," "," ",",,,,,,,,,,,,"]
[null,{"$f":"IF(A9884=0,\" \",IF(ISNA(MATCH(A9884,Personnel!A:A,0)),\"وجود ندارد\",LOOKUP(A9884,Personnel!A:A,Personnel!B:B)))","v":" "},{"$f":"IF(A9884=0,\" \",IF(ISNA(MATCH(A9884,Personnel!A:A,0)),\"وجود ندارد\",LOOKUP(A9884,Personnel!A:A,Personnel!C:C)))","v":" "},null,null,null,null,null,null,null,null,"","",1,0," "," ",""," "," ","",null," "," ",",,,,,,,,,,,,"]
[null,{"$f":"IF(A9885=0,\" \",IF(ISNA(MATCH(A9885,Personnel!A:A,0)),\"وجود ندارد\",LOOKUP(A9885,Personnel!A:A,Personnel!B:B)))","v":" "},{"$f":"IF(A9885=0,\" \",IF(ISNA(MATCH(A9885,Personnel!A:A,0)),\"وجود ندارد\",LOOKUP(A9885,Personnel!A:A,Personnel!C:C)))","v":" "},null,null,null,null,null,null,null,null,"","",1,0," "," ",""," "," ","",null," "," ",",,,,,,,,,,,,"]
[null,{"$f":"IF(A9886=0,\" \",IF(ISNA(MATCH(A9886,Personnel!A:A,0)),\"وجود ندارد\",LOOKUP(A9886,Personnel!A:A,Personnel!B:B)))","v":" "},{"$f":"IF(A9886=0,\" \",IF(ISNA(MATCH(A9886,Personnel!A:A,0)),\"وجود ندارد\",LOOKUP(A9886,Personnel!A:A,Personnel!C:C)))","v":" "},null,null,null,null,null,null,null,null,"","",1,0," "," ",""," "," ","",null," "," ",",,,,,,,,,,,,"]
[null,{"$f":"IF(A9887=0,\" \",IF(ISNA(MATCH(A9887,Personnel!A:A,0)),\"وجود ندارد\",LOOKUP(A9887,Personnel!A:A,Personnel!B:B)))","v":" "},{"$f":"IF(A9887=0,\" \",IF(ISNA(MATCH(A9887,Personnel!A:A,0)),\"وجود ندارد\",LOOKUP(A9887,Personnel!A:A,Personnel!C:C)))","v":" "},null,null,null,null,null,null,null,null,"","",1,0," "," ",""," "," ","",null," "," ",",,,,,,,,,,,,"]
[null,{"$f":"IF(A9888=0,\" \",IF(ISNA(MATCH(A9888,Personnel!A:A,0)),\"وجود ندارد\",LOOKUP(A9888,Personnel!A:A,Personnel!B:B)))","v":" "},{"$f":"IF(A9888=0,\" \",IF(ISNA(MATCH(A9888,Personnel!A:A,0)),\"وجود ندارد\",LOOKUP(A9888,Personnel!A:A,Personnel!C:C)))","v":" "},null,null,null,null,null,null,null,null,"","",1,0," "," ",""," "," ","",null," "," ",",,,,,,,,,,,,"]
[null,{"$f":"IF(A9889=0,\" \",IF(ISNA(MATCH(A9889,Personnel!A:A,0)),\"وجود ندارد\",LOOKUP(A9889,Personnel!A:A,Personnel!B:B)))","v":" "},{"$f":"IF(A9889=0,\" \",IF(ISNA(MATCH(A9889,Personnel!A:A,0)),\"وجود ندارد\",LOOKUP(A9889,Personnel!A:A,Personnel!C:C)))","v":" "},null,null,null,null,null,null,null,null,"","",1,0," "," ",""," "," ","",null," "," ",",,,,,,,,,,,,"]
[null,{"$f":"IF(A9890=0,\" \",IF(ISNA(MATCH(A9890,Personnel!A:A,0)),\"وجود ندارد\",LOOKUP(A9890,Personnel!A:A,Personnel!B:B)))","v":" "},{"$f":"IF(A9890=0,\" \",IF(ISNA(MATCH(A9890,Personnel!A:A,0)),\"وجود ندارد\",LOOKUP(A9890,Personnel!A:A,Personnel!C:C)))","v":" "},null,null,null,null,null,null,null,null,"","",1,0," "," ",""," "," ","",null," "," ",",,,,,,,,,,,,"]
[null,{"$f":"IF(A9891=0,\" \",IF(ISNA(MATCH(A9891,Personnel!A:A,0)),\"وجود ندارد\",LOOKUP(A9891,Personnel!A:A,Personnel!B:B)))","v":" "},{"$f":"IF(A9891=0,\" \",IF(ISNA(MATCH(A9891,Personnel!A:A,0)),\"وجود ندارد\",LOOKUP(A9891,Personnel!A:A,Personnel!C:C)))","v":" "},null,null,null,null,null,null,null,null,"","",1,0," "," ",""," "," ","",null," "," ",",,,,,,,,,,,,"]
[null,{"$f":"IF(A9892=0,\" \",IF(ISNA(MATCH(A9892,Personnel!A:A,0)),\"وجود ندارد\",LOOKUP(A9892,Personnel!A:A,Personnel!B:B)))","v":" "},{"$f":"IF(A9892=0,\" \",IF(ISNA(MATCH(A9892,Personnel!A:A,0)),\"وجود ندارد\",LOOKUP(A9892,Personnel!A:A,Personnel!C:C)))","v":" "},null,null,null,null,null,null,null,null,"","",1,0," "," ",""," "," ","",null," "," ",",,,,,,,,,,,,"]
[null,{"$f":"IF(A9893=0,\" \",IF(ISNA(MATCH(A9893,Personnel!A:A,0)),\"وجود ندارد\",LOOKUP(A9893,Personnel!A:A,Personnel!B:B)))","v":" "},{"$f":"IF(A9893=0,\" \",IF(ISNA(MATCH(A9893,Personnel!A:A,0)),\"وجود ندارد\",LOOKUP(A9893,Personnel!A:A,Personnel!C:C)))","v":" "},null,null,null,null,null,null,null,null,"","",1,0," "," ",""," "," ","",null," "," ",",,,,,,,,,,,,"]
[null,{"$f":"IF(A9894=0,\" \",IF(ISNA(MATCH(A9894,Personnel!A:A,0)),\"وجود ندارد\",LOOKUP(A9894,Personnel!A:A,Personnel!B:B)))","v":" "},{"$f":"IF(A9894=0,\" \",IF(ISNA(MATCH(A9894,Personnel!A:A,0)),\"وجود ندارد\",LOOKUP(A9894,Personnel!A:A,Personnel!C:C)))","v":" "},null,null,null,null,null,null,null,null,"","",1,0," "," ",""," "," ","",null," "," ",",,,,,,,,,,,,"]
[null,{"$f":"IF(A9895=0,\" \",IF(ISNA(MATCH(A9895,Personnel!A:A,0)),\"وجود ندارد\",LOOKUP(A9895,Personnel!A:A,Personnel!B:B)))","v":" "},{"$f":"IF(A9895=0,\" \",IF(ISNA(MATCH(A9895,Personnel!A:A,0)),\"وجود ندارد\",LOOKUP(A9895,Personnel!A:A,Personnel!C:C)))","v":" "},null,null,null,null,null,null,null,null,"","",1,0," "," ",""," "," ","",null," "," ",",,,,,,,,,,,,"]
[null,{"$f":"IF(A9896=0,\" \",IF(ISNA(MATCH(A9896,Personnel!A:A,0)),\"وجود ندارد\",LOOKUP(A9896,Personnel!A:A,Personnel!B:B)))","v":" "},{"$f":"IF(A9896=0,\" \",IF(ISNA(MATCH(A9896,Personnel!A:A,0)),\"وجود ندارد\",LOOKUP(A9896,Personnel!A:A,Personnel!C:C)))","v":" "},null,null,null,null,null,null,null,null,"","",1,0," "," ",""," "," ","",null," "," ",",,,,,,,,,,,,"]
[null,{"$f":"IF(A9897=0,\" \",IF(ISNA(MATCH(A9897,Personnel!A:A,0)),\"وجود ندارد\",LOOKUP(A9897,Personnel!A:A,Personnel!B:B)))","v":" "},{"$f":"IF(A9897=0,\" \",IF(ISNA(MATCH(A9897,Personnel!A:A,0)),\"وجود ندارد\",LOOKUP(A9897,Personnel!A:A,Personnel!C:C)))","v":" "},null,null,null,null,null,null,null,null,"","",1,0," "," ",""," "," ","",null," "," ",",,,,,,,,,,,,"]
[null,{"$f":"IF(A9898=0,\" \",IF(ISNA(MATCH(A9898,Personnel!A:A,0)),\"وجود ندارد\",LOOKUP(A9898,Personnel!A:A,Personnel!B:B)))","v":" "},{"$f":"IF(A9898=0,\" \",IF(ISNA(MATCH(A9898,Personnel!A:A,0)),\"وجود ندارد\",LOOKUP(A9898,Personnel!A:A,Personnel!C:C)))","v":" "},null,null,null,null,null,null,null,null,"","",1,0," "," ",""," "," ","",null," "," ",",,,,,,,,,,,,"]
[null,{"$f":"IF(A9899=0,\" \",IF(ISNA(MATCH(A9899,Personnel!A:A,0)),\"وجود ندارد\",LOOKUP(A9899,Personnel!A:A,Personnel!B:B)))","v":" "},{"$f":"IF(A9899=0,\" \",IF(ISNA(MATCH(A9899,Personnel!A:A,0)),\"وجود ندارد\",LOOKUP(A9899,Personnel!A:A,Personnel!C:C)))","v":" "},null,null,null,null,null,null,null,null,"","",1,0," "," ",""," "," ","",null," "," ",",,,,,,,,,,,,"]
[null,{"$f":"IF(A9900=0,\" \",IF(ISNA(MATCH(A9900,Personnel!A:A,0)),\"وجود ندارد\",LOOKUP(A9900,Personnel!A:A,Personnel!B:B)))","v":" "},{"$f":"IF(A9900=0,\" \",IF(ISNA(MATCH(A9900,Personnel!A:A,0)),\"وجود ندارد\",LOOKUP(A9900,Personnel!A:A,Personnel!C:C)))","v":" "},null,null,null,null,null,null,null,null,"","",1,0," "," ",""," "," ","",null," "," ",",,,,,,,,,,,,"]
[null,{"$f":"IF(A9901=0,\" \",IF(ISNA(MATCH(A9901,Personnel!A:A,0)),\"وجود ندارد\",LOOKUP(A9901,Personnel!A:A,Personnel!B:B)))","v":" "},{"$f":"IF(A9901=0,\" \",IF(ISNA(MATCH(A9901,Personnel!A:A,0)),\"وجود ندارد\",LOOKUP(A9901,Personnel!A:A,Personnel!C:C)))","v":" "},null,null,null,null,null,null,null,null,"","",1,0," "," ",""," "," ","",null," "," ",",,,,,,,,,,,,"]
[null,{"$f":"IF(A9902=0,\" \",IF(ISNA(MATCH(A9902,Personnel!A:A,0)),\"وجود ندارد\",LOOKUP(A9902,Personnel!A:A,Personnel!B:B)))","v":" "},{"$f":"IF(A9902=0,\" \",IF(ISNA(MATCH(A9902,Personnel!A:A,0)),\"وجود ندارد\",LOOKUP(A9902,Personnel!A:A,Personnel!C:C)))","v":" "},null,null,null,null,null,null,null,null,"","",1,0," "," ",""," "," ","",null," "," ",",,,,,,,,,,,,"]
[null,{"$f":"IF(A9903=0,\" \",IF(ISNA(MATCH(A9903,Personnel!A:A,0)),\"وجود ندارد\",LOOKUP(A9903,Personnel!A:A,Personnel!B:B)))","v":" "},{"$f":"IF(A9903=0,\" \",IF(ISNA(MATCH(A9903,Personnel!A:A,0)),\"وجود ندارد\",LOOKUP(A9903,Personnel!A:A,Personnel!C:C)))","v":" "},null,null,null,null,null,null,null,null,"","",1,0," "," ",""," "," ","",null," "," ",",,,,,,,,,,,,"]
[null,{"$f":"IF(A9904=0,\" \",IF(ISNA(MATCH(A9904,Personnel!A:A,0)),\"وجود ندارد\",LOOKUP(A9904,Personnel!A:A,Personnel!B:B)))","v":" "},{"$f":"IF(A9904=0,\" \",IF(ISNA(MATCH(A9904,Personnel!A:A,0)),\"وجود ندارد\",LOOKUP(A9904,Personnel!A:A,Personnel!C:C)))","v":" "},null,null,null,null,null,null,null,null,"","",1,0," "," ",""," "," ","",null," "," ",",,,,,,,,,,,,"]
[null,{"$f":"IF(A9905=0,\" \",IF(ISNA(MATCH(A9905,Personnel!A:A,0)),\"وجود ندارد\",LOOKUP(A9905,Personnel!A:A,Personnel!B:B)))","v":" "},{"$f":"IF(A9905=0,\" \",IF(ISNA(MATCH(A9905,Personnel!A:A,0)),\"وجود ندارد\",LOOKUP(A9905,Personnel!A:A,Personnel!C:C)))","v":" "},null,null,null,null,null,null,null,null,"","",1,0," "," ",""," "," ","",null," "," ",",,,,,,,,,,,,"]
[null,{"$f":"IF(A9906=0,\" \",IF(ISNA(MATCH(A9906,Personnel!A:A,0)),\"وجود ندارد\",LOOKUP(A9906,Personnel!A:A,Personnel!B:B)))","v":" "},{"$f":"IF(A9906=0,\" \",IF(ISNA(MATCH(A9906,Personnel!A:A,0)),\"وجود ندارد\",LOOKUP(A9906,Personnel!A:A,Personnel!C:C)))","v":" "},null,null,null,null,null,null,null,null,"","",1,0," "," ",""," "," ","",null," "," ",",,,,,,,,,,,,"]
[null,{"$f":"IF(A9907=0,\" \",IF(ISNA(MATCH(A9907,Personnel!A:A,0)),\"وجود ندارد\",LOOKUP(A9907,Personnel!A:A,Personnel!B:B)))","v":" "},{"$f":"IF(A9907=0,\" \",IF(ISNA(MATCH(A9907,Personnel!A:A,0)),\"وجود ندارد\",LOOKUP(A9907,Personnel!A:A,Personnel!C:C)))","v":" "},null,null,null,null,null,null,null,null,"","",1,0," "," ",""," "," ","",null," "," ",",,,,,,,,,,,,"]
[null,{"$f":"IF(A9908=0,\" \",IF(ISNA(MATCH(A9908,Personnel!A:A,0)),\"وجود ندارد\",LOOKUP(A9908,Personnel!A:A,Personnel!B:B)))","v":" "},{"$f":"IF(A9908=0,\" \",IF(ISNA(MATCH(A9908,Personnel!A:A,0)),\"وجود ندارد\",LOOKUP(A9908,Personnel!A:A,Personnel!C:C)))","v":" "},null,null,null,null,null,null,null,null,"","",1,0," "," ",""," "," ","",null," "," ",",,,,,,,,,,,,"]
[null,{"$f":"IF(A9909=0,\" \",IF(ISNA(MATCH(A9909,Personnel!A:A,0)),\"وجود ندارد\",LOOKUP(A9909,Personnel!A:A,Personnel!B:B)))","v":" "},{"$f":"IF(A9909=0,\" \",IF(ISNA(MATCH(A9909,Personnel!A:A,0)),\"وجود ندارد\",LOOKUP(A9909,Personnel!A:A,Personnel!C:C)))","v":" "},null,null,null,null,null,null,null,null,"","",1,0," "," ",""," "," ","",null," "," ",",,,,,,,,,,,,"]
[null,{"$f":"IF(A9910=0,\" \",IF(ISNA(MATCH(A9910,Personnel!A:A,0)),\"وجود ندارد\",LOOKUP(A9910,Personnel!A:A,Personnel!B:B)))","v":" "},{"$f":"IF(A9910=0,\" \",IF(ISNA(MATCH(A9910,Personnel!A:A,0)),\"وجود ندارد\",LOOKUP(A9910,Personnel!A:A,Personnel!C:C)))","v":" "},null,null,null,null,null,null,null,null,"","",1,0," "," ",""," "," ","",null," "," ",",,,,,,,,,,,,"]
[null,{"$f":"IF(A9911=0,\" \",IF(ISNA(MATCH(A9911,Personnel!A:A,0)),\"وجود ندارد\",LOOKUP(A9911,Personnel!A:A,Personnel!B:B)))","v":" "},{"$f":"IF(A9911=0,\" \",IF(ISNA(MATCH(A9911,Personnel!A:A,0)),\"وجود ندارد\",LOOKUP(A9911,Personnel!A:A,Personnel!C:C)))","v":" "},null,null,null,null,null,null,null,null,"","",1,0," "," ",""," "," ","",null," "," ",",,,,,,,,,,,,"]
[null,{"$f":"IF(A9912=0,\" \",IF(ISNA(MATCH(A9912,Personnel!A:A,0)),\"وجود ندارد\",LOOKUP(A9912,Personnel!A:A,Personnel!B:B)))","v":" "},{"$f":"IF(A9912=0,\" \",IF(ISNA(MATCH(A9912,Personnel!A:A,0)),\"وجود ندارد\",LOOKUP(A9912,Personnel!A:A,Personnel!C:C)))","v":" "},null,null,null,null,null,null,null,null,"","",1,0," "," ",""," "," ","",null," "," ",",,,,,,,,,,,,"]
[null,{"$f":"IF(A9913=0,\" \",IF(ISNA(MATCH(A9913,Personnel!A:A,0)),\"وجود ندارد\",LOOKUP(A9913,Personnel!A:A,Personnel!B:B)))","v":" "},{"$f":"IF(A9913=0,\" \",IF(ISNA(MATCH(A9913,Personnel!A:A,0)),\"وجود ندارد\",LOOKUP(A9913,Personnel!A:A,Personnel!C:C)))","v":" "},null,null,null,null,null,null,null,null,"","",1,0," "," ",""," "," ","",null," "," ",",,,,,,,,,,,,"]
[null,{"$f":"IF(A9914=0,\" \",IF(ISNA(MATCH(A9914,Personnel!A:A,0)),\"وجود ندارد\",LOOKUP(A9914,Personnel!A:A,Personnel!B:B)))","v":" "},{"$f":"IF(A9914=0,\" \",IF(ISNA(MATCH(A9914,Personnel!A:A,0)),\"وجود ندارد\",LOOKUP(A9914,Personnel!A:A,Personnel!C:C)))","v":" "},null,null,null,null,null,null,null,null,"","",1,0," "," ",""," "," ","",null," "," ",",,,,,,,,,,,,"]
[null,{"$f":"IF(A9915=0,\" \",IF(ISNA(MATCH(A9915,Personnel!A:A,0)),\"وجود ندارد\",LOOKUP(A9915,Personnel!A:A,Personnel!B:B)))","v":" "},{"$f":"IF(A9915=0,\" \",IF(ISNA(MATCH(A9915,Personnel!A:A,0)),\"وجود ندارد\",LOOKUP(A9915,Personnel!A:A,Personnel!C:C)))","v":" "},null,null,null,null,null,null,null,null,"","",1,0," "," ",""," "," ","",null," "," ",",,,,,,,,,,,,"]
[null,{"$f":"IF(A9916=0,\" \",IF(ISNA(MATCH(A9916,Personnel!A:A,0)),\"وجود ندارد\",LOOKUP(A9916,Personnel!A:A,Personnel!B:B)))","v":" "},{"$f":"IF(A9916=0,\" \",IF(ISNA(MATCH(A9916,Personnel!A:A,0)),\"وجود ندارد\",LOOKUP(A9916,Personnel!A:A,Personnel!C:C)))","v":" "},null,null,null,null,null,null,null,null,"","",1,0," "," ",""," "," ","",null," "," ",",,,,,,,,,,,,"]
[null,{"$f":"IF(A9917=0,\" \",IF(ISNA(MATCH(A9917,Personnel!A:A,0)),\"وجود ندارد\",LOOKUP(A9917,Personnel!A:A,Personnel!B:B)))","v":" "},{"$f":"IF(A9917=0,\" \",IF(ISNA(MATCH(A9917,Personnel!A:A,0)),\"وجود ندارد\",LOOKUP(A9917,Personnel!A:A,Personnel!C:C)))","v":" "},null,null,null,null,null,null,null,null,"","",1,0," "," ",""," "," ","",null," "," ",",,,,,,,,,,,,"]
[null,{"$f":"IF(A9918=0,\" \",IF(ISNA(MATCH(A9918,Personnel!A:A,0)),\"وجود ندارد\",LOOKUP(A9918,Personnel!A:A,Personnel!B:B)))","v":" "},{"$f":"IF(A9918=0,\" \",IF(ISNA(MATCH(A9918,Personnel!A:A,0)),\"وجود ندارد\",LOOKUP(A9918,Personnel!A:A,Personnel!C:C)))","v":" "},null,null,null,null,null,null,null,null,"","",1,0," "," ",""," "," ","",null," "," ",",,,,,,,,,,,,"]
[null,{"$f":"IF(A9919=0,\" \",IF(ISNA(MATCH(A9919,Personnel!A:A,0)),\"وجود ندارد\",LOOKUP(A9919,Personnel!A:A,Personnel!B:B)))","v":" "},{"$f":"IF(A9919=0,\" \",IF(ISNA(MATCH(A9919,Personnel!A:A,0)),\"وجود ندارد\",LOOKUP(A9919,Personnel!A:A,Personnel!C:C)))","v":" "},null,null,null,null,null,null,null,null,"","",1,0," "," ",""," "," ","",null," "," ",",,,,,,,,,,,,"]
[null,{"$f":"IF(A9920=0,\" \",IF(ISNA(MATCH(A9920,Personnel!A:A,0)),\"وجود ندارد\",LOOKUP(A9920,Personnel!A:A,Personnel!B:B)))","v":" "},{"$f":"IF(A9920=0,\" \",IF(ISNA(MATCH(A9920,Personnel!A:A,0)),\"وجود ندارد\",LOOKUP(A9920,Personnel!A:A,Personnel!C:C)))","v":" "},null,null,null,null,null,null,null,null,"","",1,0," "," ",""," "," ","",null," "," ",",,,,,,,,,,,,"]
[null,{"$f":"IF(A9921=0,\" \",IF(ISNA(MATCH(A9921,Personnel!A:A,0)),\"وجود ندارد\",LOOKUP(A9921,Personnel!A:A,Personnel!B:B)))","v":" "},{"$f":"IF(A9921=0,\" \",IF(ISNA(MATCH(A9921,Personnel!A:A,0)),\"وجود ندارد\",LOOKUP(A9921,Personnel!A:A,Personnel!C:C)))","v":" "},null,null,null,null,null,null,null,null,"","",1,0," "," ",""," "," ","",null," "," ",",,,,,,,,,,,,"]
[null,{"$f":"IF(A9922=0,\" \",IF(ISNA(MATCH(A9922,Personnel!A:A,0)),\"وجود ندارد\",LOOKUP(A9922,Personnel!A:A,Personnel!B:B)))","v":" "},{"$f":"IF(A9922=0,\" \",IF(ISNA(MATCH(A9922,Personnel!A:A,0)),\"وجود ندارد\",LOOKUP(A9922,Personnel!A:A,Personnel!C:C)))","v":" "},null,null,null,null,null,null,null,null,"","",1,0,{"$f":"IF(A9922=0,\" \",IF(N9922+O9922<>0,\"تاریخ اشتباه است\",\"\"))","v":" "},{"$f":"IF(A9922=0,\" \",IF(AND(G9922<>0,H9922>G9922),\"مبلغ قسط از مبلغ کل بیشتر است\",\"\"))","v":" "},""," ",{"$f":"IF(A9922=0,\" \",IF(OR(K9922<1,K9922>3),\"نوع عمل اشتباه است\",\"\"))","v":" "},"",null," "," ",",,,,,,,,,,,,"]
[null,{"$f":"IF(A9923=0,\" \",IF(ISNA(MATCH(A9923,Personnel!A:A,0)),\"وجود ندارد\",LOOKUP(A9923,Personnel!A:A,Personnel!B:B)))","v":" "},{"$f":"IF(A9923=0,\" \",IF(ISNA(MATCH(A9923,Personnel!A:A,0)),\"وجود ندارد\",LOOKUP(A9923,Personnel!A:A,Personnel!C:C)))","v":" "},null,null,null,null,null,null,null,null,{"$f":"IF(K9923=0,\"\",IF(K9923=1,\"ایجاد\",IF(K9923=2,\"اصلاح\",\"حذف\")))","v":""},{"$f":"IF(AND(K9923=3,H9923+I9923+J9923+F9923+G9923<>0),\"برای عمل حذف اطلاعات اضافی وارد شده است\",\"\")","v":""},{"$f":"IF(AND(K9923<>3,F9923<900000),1,0)","v":1},{"$f":"IF(F9923>991231,1,0)","v":0}," "," ",{"$f":"IF(AND(A9923=0,H9923+I9923+J9923+F9923+G9923+K9923+E9923+D9923<>0),\"در این ردیف شماره پرسنلی وجود ندارد اما اطلاعات دیگر وارد شده است\",\"\")","v":""},{"$f":"IF(A9923=0,\" \",IF(D9923=0,\"کد وام وارد نشده است\",\"\"))","v":" "}," ",{"$f":"IF(AND(OR(K9923=1,K9923=2),H9923=0),\"مبلغ قسط نمی تواند خالی باشد\",\"\")","v":""},null,{"$f":"IF(AND(A9923=0,A9924<>0),\"دراین ردیف اصلاحاتی وجود ندارد . لطفا ردیفی را خالی باقی نگذارید\",IF(AND(A9923=0,R9923=\"\"),\" \",IF(M9923&\",\"&P9923&\",\"&Q9923&\",\"&R9923&\",\"&S9923&\",\"&T9923&\",\"&U9923=\",,,,,,\",\"صحیح\",M9923&\",\"&P9923&\",\"&Q9923&\",\"&R9923&\",\"&S9923&\",\"&T9923&\",\"&U9923)))","v":" "},{"$f":"IF(AND(ROW(X9923)>$Z$2,W9923=\" \"),\" \",IF(W9923=\" \",IF(AND(A9923=0,$Z$2<>$Z$4),\"دراین ردیف اصلاحاتی وجود ندارد . لطفا ردیفی را خالی نگذارید\",W9923),W9923))","v":" "},{"$f":"CONCATENATE(A9923,\",\",D9923,\",\",E9923,\",\",F9923,\",\",G9923,\",\",H9923,\",\",I9923,\",\",K9923,\",\",,\",\",J9923,\",\",\",\",V9923,\",\")","v":",,,,,,,,,,,,"}]
[null,{"$f":"IF(A9924=0,\" \",IF(ISNA(MATCH(A9924,Personnel!A:A,0)),\"وجود ندارد\",LOOKUP(A9924,Personnel!A:A,Personnel!B:B)))","v":" "},{"$f":"IF(A9924=0,\" \",IF(ISNA(MATCH(A9924,Personnel!A:A,0)),\"وجود ندارد\",LOOKUP(A9924,Personnel!A:A,Personnel!C:C)))","v":" "},null,null,null,null,null,null,null,null,"","",1,0," "," ",""," "," ","",null," "," ",",,,,,,,,,,,,"]
[null,{"$f":"IF(A9925=0,\" \",IF(ISNA(MATCH(A9925,Personnel!A:A,0)),\"وجود ندارد\",LOOKUP(A9925,Personnel!A:A,Personnel!B:B)))","v":" "},{"$f":"IF(A9925=0,\" \",IF(ISNA(MATCH(A9925,Personnel!A:A,0)),\"وجود ندارد\",LOOKUP(A9925,Personnel!A:A,Personnel!C:C)))","v":" "},null,null,null,null,null,null,null,null,"","",1,0," "," ",""," "," ","",null," "," ",",,,,,,,,,,,,"]
[null,{"$f":"IF(A9926=0,\" \",IF(ISNA(MATCH(A9926,Personnel!A:A,0)),\"وجود ندارد\",LOOKUP(A9926,Personnel!A:A,Personnel!B:B)))","v":" "},{"$f":"IF(A9926=0,\" \",IF(ISNA(MATCH(A9926,Personnel!A:A,0)),\"وجود ندارد\",LOOKUP(A9926,Personnel!A:A,Personnel!C:C)))","v":" "},null,null,null,null,null,null,null,null,"","",1,0," "," ",""," "," ","",null," "," ",",,,,,,,,,,,,"]
[null,{"$f":"IF(A9927=0,\" \",IF(ISNA(MATCH(A9927,Personnel!A:A,0)),\"وجود ندارد\",LOOKUP(A9927,Personnel!A:A,Personnel!B:B)))","v":" "},{"$f":"IF(A9927=0,\" \",IF(ISNA(MATCH(A9927,Personnel!A:A,0)),\"وجود ندارد\",LOOKUP(A9927,Personnel!A:A,Personnel!C:C)))","v":" "},null,null,null,null,null,null,null,null,"","",1,0," "," ",""," "," ","",null," "," ",",,,,,,,,,,,,"]
[null,{"$f":"IF(A9928=0,\" \",IF(ISNA(MATCH(A9928,Personnel!A:A,0)),\"وجود ندارد\",LOOKUP(A9928,Personnel!A:A,Personnel!B:B)))","v":" "},{"$f":"IF(A9928=0,\" \",IF(ISNA(MATCH(A9928,Personnel!A:A,0)),\"وجود ندارد\",LOOKUP(A9928,Personnel!A:A,Personnel!C:C)))","v":" "},null,null,null,null,null,null,null,null,"","",1,0," "," ",""," "," ","",null," "," ",",,,,,,,,,,,,"]
[null,{"$f":"IF(A9929=0,\" \",IF(ISNA(MATCH(A9929,Personnel!A:A,0)),\"وجود ندارد\",LOOKUP(A9929,Personnel!A:A,Personnel!B:B)))","v":" "},{"$f":"IF(A9929=0,\" \",IF(ISNA(MATCH(A9929,Personnel!A:A,0)),\"وجود ندارد\",LOOKUP(A9929,Personnel!A:A,Personnel!C:C)))","v":" "},null,null,null,null,null,null,null,null,"","",1,0," "," ",""," "," ","",null," "," ",",,,,,,,,,,,,"]
[null,{"$f":"IF(A9930=0,\" \",IF(ISNA(MATCH(A9930,Personnel!A:A,0)),\"وجود ندارد\",LOOKUP(A9930,Personnel!A:A,Personnel!B:B)))","v":" "},{"$f":"IF(A9930=0,\" \",IF(ISNA(MATCH(A9930,Personnel!A:A,0)),\"وجود ندارد\",LOOKUP(A9930,Personnel!A:A,Personnel!C:C)))","v":" "},null,null,null,null,null,null,null,null,"","",1,0," "," ",""," "," ","",null," "," ",",,,,,,,,,,,,"]
[null,{"$f":"IF(A9931=0,\" \",IF(ISNA(MATCH(A9931,Personnel!A:A,0)),\"وجود ندارد\",LOOKUP(A9931,Personnel!A:A,Personnel!B:B)))","v":" "},{"$f":"IF(A9931=0,\" \",IF(ISNA(MATCH(A9931,Personnel!A:A,0)),\"وجود ندارد\",LOOKUP(A9931,Personnel!A:A,Personnel!C:C)))","v":" "},null,null,null,null,null,null,null,null,"","",1,0," "," ",""," "," ","",null," "," ",",,,,,,,,,,,,"]
[null,{"$f":"IF(A9932=0,\" \",IF(ISNA(MATCH(A9932,Personnel!A:A,0)),\"وجود ندارد\",LOOKUP(A9932,Personnel!A:A,Personnel!B:B)))","v":" "},{"$f":"IF(A9932=0,\" \",IF(ISNA(MATCH(A9932,Personnel!A:A,0)),\"وجود ندارد\",LOOKUP(A9932,Personnel!A:A,Personnel!C:C)))","v":" "},null,null,null,null,null,null,null,null,"","",1,0," "," ",""," "," ","",null," "," ",",,,,,,,,,,,,"]
[null,{"$f":"IF(A9933=0,\" \",IF(ISNA(MATCH(A9933,Personnel!A:A,0)),\"وجود ندارد\",LOOKUP(A9933,Personnel!A:A,Personnel!B:B)))","v":" "},{"$f":"IF(A9933=0,\" \",IF(ISNA(MATCH(A9933,Personnel!A:A,0)),\"وجود ندارد\",LOOKUP(A9933,Personnel!A:A,Personnel!C:C)))","v":" "},null,null,null,null,null,null,null,null,"","",1,0," "," ",""," "," ","",null," "," ",",,,,,,,,,,,,"]
[null,{"$f":"IF(A9934=0,\" \",IF(ISNA(MATCH(A9934,Personnel!A:A,0)),\"وجود ندارد\",LOOKUP(A9934,Personnel!A:A,Personnel!B:B)))","v":" "},{"$f":"IF(A9934=0,\" \",IF(ISNA(MATCH(A9934,Personnel!A:A,0)),\"وجود ندارد\",LOOKUP(A9934,Personnel!A:A,Personnel!C:C)))","v":" "},null,null,null,null,null,null,null,null,"","",1,0," "," ",""," "," ","",null," "," ",",,,,,,,,,,,,"]
[null,{"$f":"IF(A9935=0,\" \",IF(ISNA(MATCH(A9935,Personnel!A:A,0)),\"وجود ندارد\",LOOKUP(A9935,Personnel!A:A,Personnel!B:B)))","v":" "},{"$f":"IF(A9935=0,\" \",IF(ISNA(MATCH(A9935,Personnel!A:A,0)),\"وجود ندارد\",LOOKUP(A9935,Personnel!A:A,Personnel!C:C)))","v":" "},null,null,null,null,null,null,null,null,"","",1,0," "," ",""," "," ","",null," "," ",",,,,,,,,,,,,"]
[null,{"$f":"IF(A9936=0,\" \",IF(ISNA(MATCH(A9936,Personnel!A:A,0)),\"وجود ندارد\",LOOKUP(A9936,Personnel!A:A,Personnel!B:B)))","v":" "},{"$f":"IF(A9936=0,\" \",IF(ISNA(MATCH(A9936,Personnel!A:A,0)),\"وجود ندارد\",LOOKUP(A9936,Personnel!A:A,Personnel!C:C)))","v":" "},null,null,null,null,null,null,null,null,"","",1,0," "," ",""," "," ","",null," "," ",",,,,,,,,,,,,"]
[null,{"$f":"IF(A9937=0,\" \",IF(ISNA(MATCH(A9937,Personnel!A:A,0)),\"وجود ندارد\",LOOKUP(A9937,Personnel!A:A,Personnel!B:B)))","v":" "},{"$f":"IF(A9937=0,\" \",IF(ISNA(MATCH(A9937,Personnel!A:A,0)),\"وجود ندارد\",LOOKUP(A9937,Personnel!A:A,Personnel!C:C)))","v":" "},null,null,null,null,null,null,null,null,"","",1,0," "," ",""," "," ","",null," "," ",",,,,,,,,,,,,"]
[null,{"$f":"IF(A9938=0,\" \",IF(ISNA(MATCH(A9938,Personnel!A:A,0)),\"وجود ندارد\",LOOKUP(A9938,Personnel!A:A,Personnel!B:B)))","v":" "},{"$f":"IF(A9938=0,\" \",IF(ISNA(MATCH(A9938,Personnel!A:A,0)),\"وجود ندارد\",LOOKUP(A9938,Personnel!A:A,Personnel!C:C)))","v":" "},null,null,null,null,null,null,null,null,"","",1,0," "," ",""," "," ","",null," "," ",",,,,,,,,,,,,"]
[null,{"$f":"IF(A9939=0,\" \",IF(ISNA(MATCH(A9939,Personnel!A:A,0)),\"وجود ندارد\",LOOKUP(A9939,Personnel!A:A,Personnel!B:B)))","v":" "},{"$f":"IF(A9939=0,\" \",IF(ISNA(MATCH(A9939,Personnel!A:A,0)),\"وجود ندارد\",LOOKUP(A9939,Personnel!A:A,Personnel!C:C)))","v":" "},null,null,null,null,null,null,null,null,"","",1,0," "," ",""," "," ","",null," "," ",",,,,,,,,,,,,"]
[null,{"$f":"IF(A9940=0,\" \",IF(ISNA(MATCH(A9940,Personnel!A:A,0)),\"وجود ندارد\",LOOKUP(A9940,Personnel!A:A,Personnel!B:B)))","v":" "},{"$f":"IF(A9940=0,\" \",IF(ISNA(MATCH(A9940,Personnel!A:A,0)),\"وجود ندارد\",LOOKUP(A9940,Personnel!A:A,Personnel!C:C)))","v":" "},null,null,null,null,null,null,null,null,"","",1,0," "," ",""," "," ","",null," "," ",",,,,,,,,,,,,"]
[null,{"$f":"IF(A9941=0,\" \",IF(ISNA(MATCH(A9941,Personnel!A:A,0)),\"وجود ندارد\",LOOKUP(A9941,Personnel!A:A,Personnel!B:B)))","v":" "},{"$f":"IF(A9941=0,\" \",IF(ISNA(MATCH(A9941,Personnel!A:A,0)),\"وجود ندارد\",LOOKUP(A9941,Personnel!A:A,Personnel!C:C)))","v":" "},null,null,null,null,null,null,null,null,"","",1,0," "," ",""," "," ","",null," "," ",",,,,,,,,,,,,"]
[null,{"$f":"IF(A9942=0,\" \",IF(ISNA(MATCH(A9942,Personnel!A:A,0)),\"وجود ندارد\",LOOKUP(A9942,Personnel!A:A,Personnel!B:B)))","v":" "},{"$f":"IF(A9942=0,\" \",IF(ISNA(MATCH(A9942,Personnel!A:A,0)),\"وجود ندارد\",LOOKUP(A9942,Personnel!A:A,Personnel!C:C)))","v":" "},null,null,null,null,null,null,null,null,"","",1,0," "," ",""," "," ","",null," "," ",",,,,,,,,,,,,"]
[null,{"$f":"IF(A9943=0,\" \",IF(ISNA(MATCH(A9943,Personnel!A:A,0)),\"وجود ندارد\",LOOKUP(A9943,Personnel!A:A,Personnel!B:B)))","v":" "},{"$f":"IF(A9943=0,\" \",IF(ISNA(MATCH(A9943,Personnel!A:A,0)),\"وجود ندارد\",LOOKUP(A9943,Personnel!A:A,Personnel!C:C)))","v":" "},null,null,null,null,null,null,null,null,"","",1,0," "," ",""," "," ","",null," "," ",",,,,,,,,,,,,"]
[null,{"$f":"IF(A9944=0,\" \",IF(ISNA(MATCH(A9944,Personnel!A:A,0)),\"وجود ندارد\",LOOKUP(A9944,Personnel!A:A,Personnel!B:B)))","v":" "},{"$f":"IF(A9944=0,\" \",IF(ISNA(MATCH(A9944,Personnel!A:A,0)),\"وجود ندارد\",LOOKUP(A9944,Personnel!A:A,Personnel!C:C)))","v":" "},null,null,null,null,null,null,null,null,"","",1,0," "," ",""," "," ","",null," "," ",",,,,,,,,,,,,"]
[null,{"$f":"IF(A9945=0,\" \",IF(ISNA(MATCH(A9945,Personnel!A:A,0)),\"وجود ندارد\",LOOKUP(A9945,Personnel!A:A,Personnel!B:B)))","v":" "},{"$f":"IF(A9945=0,\" \",IF(ISNA(MATCH(A9945,Personnel!A:A,0)),\"وجود ندارد\",LOOKUP(A9945,Personnel!A:A,Personnel!C:C)))","v":" "},null,null,null,null,null,null,null,null,"","",1,0," "," ",""," "," ","",null," "," ",",,,,,,,,,,,,"]
[null,{"$f":"IF(A9946=0,\" \",IF(ISNA(MATCH(A9946,Personnel!A:A,0)),\"وجود ندارد\",LOOKUP(A9946,Personnel!A:A,Personnel!B:B)))","v":" "},{"$f":"IF(A9946=0,\" \",IF(ISNA(MATCH(A9946,Personnel!A:A,0)),\"وجود ندارد\",LOOKUP(A9946,Personnel!A:A,Personnel!C:C)))","v":" "},null,null,null,null,null,null,null,null,"","",1,0," "," ",""," "," ","",null," "," ",",,,,,,,,,,,,"]
[null,{"$f":"IF(A9947=0,\" \",IF(ISNA(MATCH(A9947,Personnel!A:A,0)),\"وجود ندارد\",LOOKUP(A9947,Personnel!A:A,Personnel!B:B)))","v":" "},{"$f":"IF(A9947=0,\" \",IF(ISNA(MATCH(A9947,Personnel!A:A,0)),\"وجود ندارد\",LOOKUP(A9947,Personnel!A:A,Personnel!C:C)))","v":" "},null,null,null,null,null,null,null,null,"","",1,0," "," ",""," "," ","",null," "," ",",,,,,,,,,,,,"]
[null,{"$f":"IF(A9948=0,\" \",IF(ISNA(MATCH(A9948,Personnel!A:A,0)),\"وجود ندارد\",LOOKUP(A9948,Personnel!A:A,Personnel!B:B)))","v":" "},{"$f":"IF(A9948=0,\" \",IF(ISNA(MATCH(A9948,Personnel!A:A,0)),\"وجود ندارد\",LOOKUP(A9948,Personnel!A:A,Personnel!C:C)))","v":" "},null,null,null,null,null,null,null,null,"","",1,0," "," ",""," "," ","",null," "," ",",,,,,,,,,,,,"]
[null,{"$f":"IF(A9949=0,\" \",IF(ISNA(MATCH(A9949,Personnel!A:A,0)),\"وجود ندارد\",LOOKUP(A9949,Personnel!A:A,Personnel!B:B)))","v":" "},{"$f":"IF(A9949=0,\" \",IF(ISNA(MATCH(A9949,Personnel!A:A,0)),\"وجود ندارد\",LOOKUP(A9949,Personnel!A:A,Personnel!C:C)))","v":" "},null,null,null,null,null,null,null,null,"","",1,0," "," ",""," "," ","",null," "," ",",,,,,,,,,,,,"]
[null,{"$f":"IF(A9950=0,\" \",IF(ISNA(MATCH(A9950,Personnel!A:A,0)),\"وجود ندارد\",LOOKUP(A9950,Personnel!A:A,Personnel!B:B)))","v":" "},{"$f":"IF(A9950=0,\" \",IF(ISNA(MATCH(A9950,Personnel!A:A,0)),\"وجود ندارد\",LOOKUP(A9950,Personnel!A:A,Personnel!C:C)))","v":" "},null,null,null,null,null,null,null,null,"","",1,0," "," ",""," "," ","",null," "," ",",,,,,,,,,,,,"]
[null,{"$f":"IF(A9951=0,\" \",IF(ISNA(MATCH(A9951,Personnel!A:A,0)),\"وجود ندارد\",LOOKUP(A9951,Personnel!A:A,Personnel!B:B)))","v":" "},{"$f":"IF(A9951=0,\" \",IF(ISNA(MATCH(A9951,Personnel!A:A,0)),\"وجود ندارد\",LOOKUP(A9951,Personnel!A:A,Personnel!C:C)))","v":" "},null,null,null,null,null,null,null,null,"","",1,0," "," ",""," "," ","",null," "," ",",,,,,,,,,,,,"]
[null,{"$f":"IF(A9952=0,\" \",IF(ISNA(MATCH(A9952,Personnel!A:A,0)),\"وجود ندارد\",LOOKUP(A9952,Personnel!A:A,Personnel!B:B)))","v":" "},{"$f":"IF(A9952=0,\" \",IF(ISNA(MATCH(A9952,Personnel!A:A,0)),\"وجود ندارد\",LOOKUP(A9952,Personnel!A:A,Personnel!C:C)))","v":" "},null,null,null,null,null,null,null,null,"","",1,0," "," ",""," "," ","",null," "," ",",,,,,,,,,,,,"]
[null,{"$f":"IF(A9953=0,\" \",IF(ISNA(MATCH(A9953,Personnel!A:A,0)),\"وجود ندارد\",LOOKUP(A9953,Personnel!A:A,Personnel!B:B)))","v":" "},{"$f":"IF(A9953=0,\" \",IF(ISNA(MATCH(A9953,Personnel!A:A,0)),\"وجود ندارد\",LOOKUP(A9953,Personnel!A:A,Personnel!C:C)))","v":" "},null,null,null,null,null,null,null,null,"","",1,0," "," ",""," "," ","",null," "," ",",,,,,,,,,,,,"]
[null,{"$f":"IF(A9954=0,\" \",IF(ISNA(MATCH(A9954,Personnel!A:A,0)),\"وجود ندارد\",LOOKUP(A9954,Personnel!A:A,Personnel!B:B)))","v":" "},{"$f":"IF(A9954=0,\" \",IF(ISNA(MATCH(A9954,Personnel!A:A,0)),\"وجود ندارد\",LOOKUP(A9954,Personnel!A:A,Personnel!C:C)))","v":" "},null,null,null,null,null,null,null,null,"","",1,0," "," ",""," "," ","",null," "," ",",,,,,,,,,,,,"]
[null,{"$f":"IF(A9955=0,\" \",IF(ISNA(MATCH(A9955,Personnel!A:A,0)),\"وجود ندارد\",LOOKUP(A9955,Personnel!A:A,Personnel!B:B)))","v":" "},{"$f":"IF(A9955=0,\" \",IF(ISNA(MATCH(A9955,Personnel!A:A,0)),\"وجود ندارد\",LOOKUP(A9955,Personnel!A:A,Personnel!C:C)))","v":" "},null,null,null,null,null,null,null,null,"","",1,0," "," ",""," "," ","",null," "," ",",,,,,,,,,,,,"]
[null,{"$f":"IF(A9956=0,\" \",IF(ISNA(MATCH(A9956,Personnel!A:A,0)),\"وجود ندارد\",LOOKUP(A9956,Personnel!A:A,Personnel!B:B)))","v":" "},{"$f":"IF(A9956=0,\" \",IF(ISNA(MATCH(A9956,Personnel!A:A,0)),\"وجود ندارد\",LOOKUP(A9956,Personnel!A:A,Personnel!C:C)))","v":" "},null,null,null,null,null,null,null,null,"","",1,0," "," ",""," "," ","",null," "," ",",,,,,,,,,,,,"]
[null,{"$f":"IF(A9957=0,\" \",IF(ISNA(MATCH(A9957,Personnel!A:A,0)),\"وجود ندارد\",LOOKUP(A9957,Personnel!A:A,Personnel!B:B)))","v":" "},{"$f":"IF(A9957=0,\" \",IF(ISNA(MATCH(A9957,Personnel!A:A,0)),\"وجود ندارد\",LOOKUP(A9957,Personnel!A:A,Personnel!C:C)))","v":" "},null,null,null,null,null,null,null,null,"","",1,0," "," ",""," "," ","",null," "," ",",,,,,,,,,,,,"]
[null,{"$f":"IF(A9958=0,\" \",IF(ISNA(MATCH(A9958,Personnel!A:A,0)),\"وجود ندارد\",LOOKUP(A9958,Personnel!A:A,Personnel!B:B)))","v":" "},{"$f":"IF(A9958=0,\" \",IF(ISNA(MATCH(A9958,Personnel!A:A,0)),\"وجود ندارد\",LOOKUP(A9958,Personnel!A:A,Personnel!C:C)))","v":" "},null,null,null,null,null,null,null,null,"","",1,0," "," ",""," "," ","",null," "," ",",,,,,,,,,,,,"]
[null,{"$f":"IF(A9959=0,\" \",IF(ISNA(MATCH(A9959,Personnel!A:A,0)),\"وجود ندارد\",LOOKUP(A9959,Personnel!A:A,Personnel!B:B)))","v":" "},{"$f":"IF(A9959=0,\" \",IF(ISNA(MATCH(A9959,Personnel!A:A,0)),\"وجود ندارد\",LOOKUP(A9959,Personnel!A:A,Personnel!C:C)))","v":" "},null,null,null,null,null,null,null,null,"","",1,0," "," ",""," "," ","",null," "," ",",,,,,,,,,,,,"]
[null,{"$f":"IF(A9960=0,\" \",IF(ISNA(MATCH(A9960,Personnel!A:A,0)),\"وجود ندارد\",LOOKUP(A9960,Personnel!A:A,Personnel!B:B)))","v":" "},{"$f":"IF(A9960=0,\" \",IF(ISNA(MATCH(A9960,Personnel!A:A,0)),\"وجود ندارد\",LOOKUP(A9960,Personnel!A:A,Personnel!C:C)))","v":" "},null,null,null,null,null,null,null,null,"","",1,0," "," ",""," "," ","",null," "," ",",,,,,,,,,,,,"]
[null,{"$f":"IF(A9961=0,\" \",IF(ISNA(MATCH(A9961,Personnel!A:A,0)),\"وجود ندارد\",LOOKUP(A9961,Personnel!A:A,Personnel!B:B)))","v":" "},{"$f":"IF(A9961=0,\" \",IF(ISNA(MATCH(A9961,Personnel!A:A,0)),\"وجود ندارد\",LOOKUP(A9961,Personnel!A:A,Personnel!C:C)))","v":" "},null,null,null,null,null,null,null,null,"","",1,0," "," ",""," "," ","",null," "," ",",,,,,,,,,,,,"]
[null,{"$f":"IF(A9962=0,\" \",IF(ISNA(MATCH(A9962,Personnel!A:A,0)),\"وجود ندارد\",LOOKUP(A9962,Personnel!A:A,Personnel!B:B)))","v":" "},{"$f":"IF(A9962=0,\" \",IF(ISNA(MATCH(A9962,Personnel!A:A,0)),\"وجود ندارد\",LOOKUP(A9962,Personnel!A:A,Personnel!C:C)))","v":" "},null,null,null,null,null,null,null,null,"","",1,0," "," ",""," "," ","",null," "," ",",,,,,,,,,,,,"]
[null,{"$f":"IF(A9963=0,\" \",IF(ISNA(MATCH(A9963,Personnel!A:A,0)),\"وجود ندارد\",LOOKUP(A9963,Personnel!A:A,Personnel!B:B)))","v":" "},{"$f":"IF(A9963=0,\" \",IF(ISNA(MATCH(A9963,Personnel!A:A,0)),\"وجود ندارد\",LOOKUP(A9963,Personnel!A:A,Personnel!C:C)))","v":" "},null,null,null,null,null,null,null,null,"","",1,0," "," ",""," "," ","",null," "," ",",,,,,,,,,,,,"]
[null,{"$f":"IF(A9964=0,\" \",IF(ISNA(MATCH(A9964,Personnel!A:A,0)),\"وجود ندارد\",LOOKUP(A9964,Personnel!A:A,Personnel!B:B)))","v":" "},{"$f":"IF(A9964=0,\" \",IF(ISNA(MATCH(A9964,Personnel!A:A,0)),\"وجود ندارد\",LOOKUP(A9964,Personnel!A:A,Personnel!C:C)))","v":" "},null,null,null,null,null,null,null,null,"","",1,0," "," ",""," "," ","",null," "," ",",,,,,,,,,,,,"]
[null,{"$f":"IF(A9965=0,\" \",IF(ISNA(MATCH(A9965,Personnel!A:A,0)),\"وجود ندارد\",LOOKUP(A9965,Personnel!A:A,Personnel!B:B)))","v":" "},{"$f":"IF(A9965=0,\" \",IF(ISNA(MATCH(A9965,Personnel!A:A,0)),\"وجود ندارد\",LOOKUP(A9965,Personnel!A:A,Personnel!C:C)))","v":" "},null,null,null,null,null,null,null,null,"","",1,0," "," ",""," "," ","",null," "," ",",,,,,,,,,,,,"]
[null,{"$f":"IF(A9966=0,\" \",IF(ISNA(MATCH(A9966,Personnel!A:A,0)),\"وجود ندارد\",LOOKUP(A9966,Personnel!A:A,Personnel!B:B)))","v":" "},{"$f":"IF(A9966=0,\" \",IF(ISNA(MATCH(A9966,Personnel!A:A,0)),\"وجود ندارد\",LOOKUP(A9966,Personnel!A:A,Personnel!C:C)))","v":" "},null,null,null,null,null,null,null,null,"","",1,0," "," ",""," "," ","",null," "," ",",,,,,,,,,,,,"]
[null,{"$f":"IF(A9967=0,\" \",IF(ISNA(MATCH(A9967,Personnel!A:A,0)),\"وجود ندارد\",LOOKUP(A9967,Personnel!A:A,Personnel!B:B)))","v":" "},{"$f":"IF(A9967=0,\" \",IF(ISNA(MATCH(A9967,Personnel!A:A,0)),\"وجود ندارد\",LOOKUP(A9967,Personnel!A:A,Personnel!C:C)))","v":" "},null,null,null,null,null,null,null,null,"","",1,0," "," ",""," "," ","",null," "," ",",,,,,,,,,,,,"]
[null,{"$f":"IF(A9968=0,\" \",IF(ISNA(MATCH(A9968,Personnel!A:A,0)),\"وجود ندارد\",LOOKUP(A9968,Personnel!A:A,Personnel!B:B)))","v":" "},{"$f":"IF(A9968=0,\" \",IF(ISNA(MATCH(A9968,Personnel!A:A,0)),\"وجود ندارد\",LOOKUP(A9968,Personnel!A:A,Personnel!C:C)))","v":" "},null,null,null,null,null,null,null,null,"","",1,0," "," ",""," "," ","",null," "," ",",,,,,,,,,,,,"]
[null,{"$f":"IF(A9969=0,\" \",IF(ISNA(MATCH(A9969,Personnel!A:A,0)),\"وجود ندارد\",LOOKUP(A9969,Personnel!A:A,Personnel!B:B)))","v":" "},{"$f":"IF(A9969=0,\" \",IF(ISNA(MATCH(A9969,Personnel!A:A,0)),\"وجود ندارد\",LOOKUP(A9969,Personnel!A:A,Personnel!C:C)))","v":" "},null,null,null,null,null,null,null,null,"","",1,0," "," ",""," "," ","",null," "," ",",,,,,,,,,,,,"]
[null,{"$f":"IF(A9970=0,\" \",IF(ISNA(MATCH(A9970,Personnel!A:A,0)),\"وجود ندارد\",LOOKUP(A9970,Personnel!A:A,Personnel!B:B)))","v":" "},{"$f":"IF(A9970=0,\" \",IF(ISNA(MATCH(A9970,Personnel!A:A,0)),\"وجود ندارد\",LOOKUP(A9970,Personnel!A:A,Personnel!C:C)))","v":" "},null,null,null,null,null,null,null,null,"","",1,0," "," ",""," "," ","",null," "," ",",,,,,,,,,,,,"]
[null,{"$f":"IF(A9971=0,\" \",IF(ISNA(MATCH(A9971,Personnel!A:A,0)),\"وجود ندارد\",LOOKUP(A9971,Personnel!A:A,Personnel!B:B)))","v":" "},{"$f":"IF(A9971=0,\" \",IF(ISNA(MATCH(A9971,Personnel!A:A,0)),\"وجود ندارد\",LOOKUP(A9971,Personnel!A:A,Personnel!C:C)))","v":" "},null,null,null,null,null,null,null,null,"","",1,0," "," ",""," "," ","",null," "," ",",,,,,,,,,,,,"]
[null,{"$f":"IF(A9972=0,\" \",IF(ISNA(MATCH(A9972,Personnel!A:A,0)),\"وجود ندارد\",LOOKUP(A9972,Personnel!A:A,Personnel!B:B)))","v":" "},{"$f":"IF(A9972=0,\" \",IF(ISNA(MATCH(A9972,Personnel!A:A,0)),\"وجود ندارد\",LOOKUP(A9972,Personnel!A:A,Personnel!C:C)))","v":" "},null,null,null,null,null,null,null,null,"","",1,0," "," ",""," "," ","",null," "," ",",,,,,,,,,,,,"]
[null,{"$f":"IF(A9973=0,\" \",IF(ISNA(MATCH(A9973,Personnel!A:A,0)),\"وجود ندارد\",LOOKUP(A9973,Personnel!A:A,Personnel!B:B)))","v":" "},{"$f":"IF(A9973=0,\" \",IF(ISNA(MATCH(A9973,Personnel!A:A,0)),\"وجود ندارد\",LOOKUP(A9973,Personnel!A:A,Personnel!C:C)))","v":" "},null,null,null,null,null,null,null,null,"","",1,0," "," ",""," "," ","",null," "," ",",,,,,,,,,,,,"]
[null,{"$f":"IF(A9974=0,\" \",IF(ISNA(MATCH(A9974,Personnel!A:A,0)),\"وجود ندارد\",LOOKUP(A9974,Personnel!A:A,Personnel!B:B)))","v":" "},{"$f":"IF(A9974=0,\" \",IF(ISNA(MATCH(A9974,Personnel!A:A,0)),\"وجود ندارد\",LOOKUP(A9974,Personnel!A:A,Personnel!C:C)))","v":" "},null,null,null,null,null,null,null,null,"","",1,0," "," ",""," "," ","",null," "," ",",,,,,,,,,,,,"]
[null,{"$f":"IF(A9975=0,\" \",IF(ISNA(MATCH(A9975,Personnel!A:A,0)),\"وجود ندارد\",LOOKUP(A9975,Personnel!A:A,Personnel!B:B)))","v":" "},{"$f":"IF(A9975=0,\" \",IF(ISNA(MATCH(A9975,Personnel!A:A,0)),\"وجود ندارد\",LOOKUP(A9975,Personnel!A:A,Personnel!C:C)))","v":" "},null,null,null,null,null,null,null,null,"","",1,0," "," ",""," "," ","",null," "," ",",,,,,,,,,,,,"]
[null,{"$f":"IF(A9976=0,\" \",IF(ISNA(MATCH(A9976,Personnel!A:A,0)),\"وجود ندارد\",LOOKUP(A9976,Personnel!A:A,Personnel!B:B)))","v":" "},{"$f":"IF(A9976=0,\" \",IF(ISNA(MATCH(A9976,Personnel!A:A,0)),\"وجود ندارد\",LOOKUP(A9976,Personnel!A:A,Personnel!C:C)))","v":" "},null,null,null,null,null,null,null,null,"","",1,0," "," ",""," "," ","",null," "," ",",,,,,,,,,,,,"]
[null,{"$f":"IF(A9977=0,\" \",IF(ISNA(MATCH(A9977,Personnel!A:A,0)),\"وجود ندارد\",LOOKUP(A9977,Personnel!A:A,Personnel!B:B)))","v":" "},{"$f":"IF(A9977=0,\" \",IF(ISNA(MATCH(A9977,Personnel!A:A,0)),\"وجود ندارد\",LOOKUP(A9977,Personnel!A:A,Personnel!C:C)))","v":" "},null,null,null,null,null,null,null,null,"","",1,0," "," ",""," "," ","",null," "," ",",,,,,,,,,,,,"]
[null,{"$f":"IF(A9978=0,\" \",IF(ISNA(MATCH(A9978,Personnel!A:A,0)),\"وجود ندارد\",LOOKUP(A9978,Personnel!A:A,Personnel!B:B)))","v":" "},{"$f":"IF(A9978=0,\" \",IF(ISNA(MATCH(A9978,Personnel!A:A,0)),\"وجود ندارد\",LOOKUP(A9978,Personnel!A:A,Personnel!C:C)))","v":" "},null,null,null,null,null,null,null,null,"","",1,0," "," ",""," "," ","",null," "," ",",,,,,,,,,,,,"]
[null,{"$f":"IF(A9979=0,\" \",IF(ISNA(MATCH(A9979,Personnel!A:A,0)),\"وجود ندارد\",LOOKUP(A9979,Personnel!A:A,Personnel!B:B)))","v":" "},{"$f":"IF(A9979=0,\" \",IF(ISNA(MATCH(A9979,Personnel!A:A,0)),\"وجود ندارد\",LOOKUP(A9979,Personnel!A:A,Personnel!C:C)))","v":" "},null,null,null,null,null,null,null,null,"","",1,0," "," ",""," "," ","",null," "," ",",,,,,,,,,,,,"]
[null,{"$f":"IF(A9980=0,\" \",IF(ISNA(MATCH(A9980,Personnel!A:A,0)),\"وجود ندارد\",LOOKUP(A9980,Personnel!A:A,Personnel!B:B)))","v":" "},{"$f":"IF(A9980=0,\" \",IF(ISNA(MATCH(A9980,Personnel!A:A,0)),\"وجود ندارد\",LOOKUP(A9980,Personnel!A:A,Personnel!C:C)))","v":" "},null,null,null,null,null,null,null,null,"","",1,0," "," ",""," "," ","",null," "," ",",,,,,,,,,,,,"]
[null,{"$f":"IF(A9981=0,\" \",IF(ISNA(MATCH(A9981,Personnel!A:A,0)),\"وجود ندارد\",LOOKUP(A9981,Personnel!A:A,Personnel!B:B)))","v":" "},{"$f":"IF(A9981=0,\" \",IF(ISNA(MATCH(A9981,Personnel!A:A,0)),\"وجود ندارد\",LOOKUP(A9981,Personnel!A:A,Personnel!C:C)))","v":" "},null,null,null,null,null,null,null,null,"","",1,0," "," ",""," "," ","",null," "," ",",,,,,,,,,,,,"]
[null,{"$f":"IF(A9982=0,\" \",IF(ISNA(MATCH(A9982,Personnel!A:A,0)),\"وجود ندارد\",LOOKUP(A9982,Personnel!A:A,Personnel!B:B)))","v":" "},{"$f":"IF(A9982=0,\" \",IF(ISNA(MATCH(A9982,Personnel!A:A,0)),\"وجود ندارد\",LOOKUP(A9982,Personnel!A:A,Personnel!C:C)))","v":" "},null,null,null,null,null,null,null,null,"","",1,0," "," ",""," "," ","",null," "," ",",,,,,,,,,,,,"]
[null,{"$f":"IF(A9983=0,\" \",IF(ISNA(MATCH(A9983,Personnel!A:A,0)),\"وجود ندارد\",LOOKUP(A9983,Personnel!A:A,Personnel!B:B)))","v":" "},{"$f":"IF(A9983=0,\" \",IF(ISNA(MATCH(A9983,Personnel!A:A,0)),\"وجود ندارد\",LOOKUP(A9983,Personnel!A:A,Personnel!C:C)))","v":" "},null,null,null,null,null,null,null,null,"","",1,0," "," ",""," "," ","",null," "," ",",,,,,,,,,,,,"]
[null,{"$f":"IF(A9984=0,\" \",IF(ISNA(MATCH(A9984,Personnel!A:A,0)),\"وجود ندارد\",LOOKUP(A9984,Personnel!A:A,Personnel!B:B)))","v":" "},{"$f":"IF(A9984=0,\" \",IF(ISNA(MATCH(A9984,Personnel!A:A,0)),\"وجود ندارد\",LOOKUP(A9984,Personnel!A:A,Personnel!C:C)))","v":" "},null,null,null,null,null,null,null,null,"","",1,0," "," ",""," "," ","",null," "," ",",,,,,,,,,,,,"]
[null,{"$f":"IF(A9985=0,\" \",IF(ISNA(MATCH(A9985,Personnel!A:A,0)),\"وجود ندارد\",LOOKUP(A9985,Personnel!A:A,Personnel!B:B)))","v":" "},{"$f":"IF(A9985=0,\" \",IF(ISNA(MATCH(A9985,Personnel!A:A,0)),\"وجود ندارد\",LOOKUP(A9985,Personnel!A:A,Personnel!C:C)))","v":" "},null,null,null,null,null,null,null,null,"","",1,0," "," ",""," "," ","",null," "," ",",,,,,,,,,,,,"]
[null,{"$f":"IF(A9986=0,\" \",IF(ISNA(MATCH(A9986,Personnel!A:A,0)),\"وجود ندارد\",LOOKUP(A9986,Personnel!A:A,Personnel!B:B)))","v":" "},{"$f":"IF(A9986=0,\" \",IF(ISNA(MATCH(A9986,Personnel!A:A,0)),\"وجود ندارد\",LOOKUP(A9986,Personnel!A:A,Personnel!C:C)))","v":" "},null,null,null,null,null,null,null,null,"","",1,0,{"$f":"IF(A9986=0,\" \",IF(N9986+O9986<>0,\"تاریخ اشتباه است\",\"\"))","v":" "},{"$f":"IF(A9986=0,\" \",IF(AND(G9986<>0,H9986>G9986),\"مبلغ قسط از مبلغ کل بیشتر است\",\"\"))","v":" "},""," ",{"$f":"IF(A9986=0,\" \",IF(OR(K9986<1,K9986>3),\"نوع عمل اشتباه است\",\"\"))","v":" "},"",null," "," ",",,,,,,,,,,,,"]
[null,{"$f":"IF(A9987=0,\" \",IF(ISNA(MATCH(A9987,Personnel!A:A,0)),\"وجود ندارد\",LOOKUP(A9987,Personnel!A:A,Personnel!B:B)))","v":" "},{"$f":"IF(A9987=0,\" \",IF(ISNA(MATCH(A9987,Personnel!A:A,0)),\"وجود ندارد\",LOOKUP(A9987,Personnel!A:A,Personnel!C:C)))","v":" "},null,null,null,null,null,null,null,null,{"$f":"IF(K9987=0,\"\",IF(K9987=1,\"ایجاد\",IF(K9987=2,\"اصلاح\",\"حذف\")))","v":""},{"$f":"IF(AND(K9987=3,H9987+I9987+J9987+F9987+G9987<>0),\"برای عمل حذف اطلاعات اضافی وارد شده است\",\"\")","v":""},{"$f":"IF(AND(K9987<>3,F9987<900000),1,0)","v":1},{"$f":"IF(F9987>991231,1,0)","v":0}," "," ",{"$f":"IF(AND(A9987=0,H9987+I9987+J9987+F9987+G9987+K9987+E9987+D9987<>0),\"در این ردیف شماره پرسنلی وجود ندارد اما اطلاعات دیگر وارد شده است\",\"\")","v":""},{"$f":"IF(A9987=0,\" \",IF(D9987=0,\"کد وام وارد نشده است\",\"\"))","v":" "}," ",{"$f":"IF(AND(OR(K9987=1,K9987=2),H9987=0),\"مبلغ قسط نمی تواند خالی باشد\",\"\")","v":""},null,{"$f":"IF(AND(A9987=0,A9988<>0),\"دراین ردیف اصلاحاتی وجود ندارد . لطفا ردیفی را خالی باقی نگذارید\",IF(AND(A9987=0,R9987=\"\"),\" \",IF(M9987&\",\"&P9987&\",\"&Q9987&\",\"&R9987&\",\"&S9987&\",\"&T9987&\",\"&U9987=\",,,,,,\",\"صحیح\",M9987&\",\"&P9987&\",\"&Q9987&\",\"&R9987&\",\"&S9987&\",\"&T9987&\",\"&U9987)))","v":" "},{"$f":"IF(AND(ROW(X9987)>$Z$2,W9987=\" \"),\" \",IF(W9987=\" \",IF(AND(A9987=0,$Z$2<>$Z$4),\"دراین ردیف اصلاحاتی وجود ندارد . لطفا ردیفی را خالی نگذارید\",W9987),W9987))","v":" "},{"$f":"CONCATENATE(A9987,\",\",D9987,\",\",E9987,\",\",F9987,\",\",G9987,\",\",H9987,\",\",I9987,\",\",K9987,\",\",,\",\",J9987,\",\",\",\",V9987,\",\")","v":",,,,,,,,,,,,"}]
[null,{"$f":"IF(A9988=0,\" \",IF(ISNA(MATCH(A9988,Personnel!A:A,0)),\"وجود ندارد\",LOOKUP(A9988,Personnel!A:A,Personnel!B:B)))","v":" "},{"$f":"IF(A9988=0,\" \",IF(ISNA(MATCH(A9988,Personnel!A:A,0)),\"وجود ندارد\",LOOKUP(A9988,Personnel!A:A,Personnel!C:C)))","v":" "},null,null,null,null,null,null,null,null,"","",1,0," "," ",""," "," ","",null," "," ",",,,,,,,,,,,,"]
[null,{"$f":"IF(A9989=0,\" \",IF(ISNA(MATCH(A9989,Personnel!A:A,0)),\"وجود ندارد\",LOOKUP(A9989,Personnel!A:A,Personnel!B:B)))","v":" "},{"$f":"IF(A9989=0,\" \",IF(ISNA(MATCH(A9989,Personnel!A:A,0)),\"وجود ندارد\",LOOKUP(A9989,Personnel!A:A,Personnel!C:C)))","v":" "},null,null,null,null,null,null,null,null,"","",1,0," "," ",""," "," ","",null," "," ",",,,,,,,,,,,,"]
[null,{"$f":"IF(A9990=0,\" \",IF(ISNA(MATCH(A9990,Personnel!A:A,0)),\"وجود ندارد\",LOOKUP(A9990,Personnel!A:A,Personnel!B:B)))","v":" "},{"$f":"IF(A9990=0,\" \",IF(ISNA(MATCH(A9990,Personnel!A:A,0)),\"وجود ندارد\",LOOKUP(A9990,Personnel!A:A,Personnel!C:C)))","v":" "},null,null,null,null,null,null,null,null,"","",1,0," "," ",""," "," ","",null," "," ",",,,,,,,,,,,,"]
[null,{"$f":"IF(A9991=0,\" \",IF(ISNA(MATCH(A9991,Personnel!A:A,0)),\"وجود ندارد\",LOOKUP(A9991,Personnel!A:A,Personnel!B:B)))","v":" "},{"$f":"IF(A9991=0,\" \",IF(ISNA(MATCH(A9991,Personnel!A:A,0)),\"وجود ندارد\",LOOKUP(A9991,Personnel!A:A,Personnel!C:C)))","v":" "},null,null,null,null,null,null,null,null,"","",1,0," "," ",""," "," ","",null," "," ",",,,,,,,,,,,,"]
[null,{"$f":"IF(A9992=0,\" \",IF(ISNA(MATCH(A9992,Personnel!A:A,0)),\"وجود ندارد\",LOOKUP(A9992,Personnel!A:A,Personnel!B:B)))","v":" "},{"$f":"IF(A9992=0,\" \",IF(ISNA(MATCH(A9992,Personnel!A:A,0)),\"وجود ندارد\",LOOKUP(A9992,Personnel!A:A,Personnel!C:C)))","v":" "},null,null,null,null,null,null,null,null,"","",1,0," "," ",""," "," ","",null," "," ",",,,,,,,,,,,,"]
[null,{"$f":"IF(A9993=0,\" \",IF(ISNA(MATCH(A9993,Personnel!A:A,0)),\"وجود ندارد\",LOOKUP(A9993,Personnel!A:A,Personnel!B:B)))","v":" "},{"$f":"IF(A9993=0,\" \",IF(ISNA(MATCH(A9993,Personnel!A:A,0)),\"وجود ندارد\",LOOKUP(A9993,Personnel!A:A,Personnel!C:C)))","v":" "},null,null,null,null,null,null,null,null,"","",1,0," "," ",""," "," ","",null," "," ",",,,,,,,,,,,,"]
[null,{"$f":"IF(A9994=0,\" \",IF(ISNA(MATCH(A9994,Personnel!A:A,0)),\"وجود ندارد\",LOOKUP(A9994,Personnel!A:A,Personnel!B:B)))","v":" "},{"$f":"IF(A9994=0,\" \",IF(ISNA(MATCH(A9994,Personnel!A:A,0)),\"وجود ندارد\",LOOKUP(A9994,Personnel!A:A,Personnel!C:C)))","v":" "},null,null,null,null,null,null,null,null,"","",1,0," "," ",""," "," ","",null," "," ",",,,,,,,,,,,,"]
[null,{"$f":"IF(A9995=0,\" \",IF(ISNA(MATCH(A9995,Personnel!A:A,0)),\"وجود ندارد\",LOOKUP(A9995,Personnel!A:A,Personnel!B:B)))","v":" "},{"$f":"IF(A9995=0,\" \",IF(ISNA(MATCH(A9995,Personnel!A:A,0)),\"وجود ندارد\",LOOKUP(A9995,Personnel!A:A,Personnel!C:C)))","v":" "},null,null,null,null,null,null,null,null,"","",1,0," "," ",""," "," ","",null," "," ",",,,,,,,,,,,,"]
[null,{"$f":"IF(A9996=0,\" \",IF(ISNA(MATCH(A9996,Personnel!A:A,0)),\"وجود ندارد\",LOOKUP(A9996,Personnel!A:A,Personnel!B:B)))","v":" "},{"$f":"IF(A9996=0,\" \",IF(ISNA(MATCH(A9996,Personnel!A:A,0)),\"وجود ندارد\",LOOKUP(A9996,Personnel!A:A,Personnel!C:C)))","v":" "},null,null,null,null,null,null,null,null,"","",1,0," "," ",""," "," ","",null," "," ",",,,,,,,,,,,,"]
[null,{"$f":"IF(A9997=0,\" \",IF(ISNA(MATCH(A9997,Personnel!A:A,0)),\"وجود ندارد\",LOOKUP(A9997,Personnel!A:A,Personnel!B:B)))","v":" "},{"$f":"IF(A9997=0,\" \",IF(ISNA(MATCH(A9997,Personnel!A:A,0)),\"وجود ندارد\",LOOKUP(A9997,Personnel!A:A,Personnel!C:C)))","v":" "},null,null,null,null,null,null,null,null,"","",1,0," "," ",""," "," ","",null," "," ",",,,,,,,,,,,,"]
[null,{"$f":"IF(A9998=0,\" \",IF(ISNA(MATCH(A9998,Personnel!A:A,0)),\"وجود ندارد\",LOOKUP(A9998,Personnel!A:A,Personnel!B:B)))","v":" "},{"$f":"IF(A9998=0,\" \",IF(ISNA(MATCH(A9998,Personnel!A:A,0)),\"وجود ندارد\",LOOKUP(A9998,Personnel!A:A,Personnel!C:C)))","v":" "},null,null,null,null,null,null,null,null,"","",1,0," "," ",""," "," ","",null," "," ",",,,,,,,,,,,,"]
[null,{"$f":"IF(A9999=0,\" \",IF(ISNA(MATCH(A9999,Personnel!A:A,0)),\"وجود ندارد\",LOOKUP(A9999,Personnel!A:A,Personnel!B:B)))","v":" "},{"$f":"IF(A9999=0,\" \",IF(ISNA(MATCH(A9999,Personnel!A:A,0)),\"وجود ندارد\",LOOKUP(A9999,Personnel!A:A,Personnel!C:C)))","v":" "},null,null,null,null,null,null,null,null,"","",1,0," "," ",""," "," ","",null," "," ",",,,,,,,,,,,,"]
[null,{"$f":"IF(A10000=0,\" \",IF(ISNA(MATCH(A10000,Personnel!A:A,0)),\"وجود ندارد\",LOOKUP(A10000,Personnel!A:A,Personnel!B:B)))","v":" "},{"$f":"IF(A10000=0,\" \",IF(ISNA(MATCH(A10000,Personnel!A:A,0)),\"وجود ندارد\",LOOKUP(A10000,Personnel!A:A,Personnel!C:C)))","v":" "},null,null,null,null,null,null,null,null,"","",1,0," "," ",""," "," ","",null," "," ",",,,,,,,,,,,,"]
[null,{"$f":"IF(A10001=0,\" \",IF(ISNA(MATCH(A10001,Personnel!A:A,0)),\"وجود ندارد\",LOOKUP(A10001,Personnel!A:A,Personnel!B:B)))","v":" "},{"$f":"IF(A10001=0,\" \",IF(ISNA(MATCH(A10001,Personnel!A:A,0)),\"وجود ندارد\",LOOKUP(A10001,Personnel!A:A,Personnel!C:C)))","v":" "},null,null,null,null,null,null,null,null,"","",1,0," "," ",""," "," ","",null," "," ",",,,,,,,,,,,,"]
[null,{"$f":"IF(A10002=0,\" \",IF(ISNA(MATCH(A10002,Personnel!A:A,0)),\"وجود ندارد\",LOOKUP(A10002,Personnel!A:A,Personnel!B:B)))","v":" "},{"$f":"IF(A10002=0,\" \",IF(ISNA(MATCH(A10002,Personnel!A:A,0)),\"وجود ندارد\",LOOKUP(A10002,Personnel!A:A,Personnel!C:C)))","v":" "},null,null,null,null,null,null,null,null,"","",1,0," "," ",""," "," ","",null," "," ",",,,,,,,,,,,,"]
[null,{"$f":"IF(A10003=0,\" \",IF(ISNA(MATCH(A10003,Personnel!A:A,0)),\"وجود ندارد\",LOOKUP(A10003,Personnel!A:A,Personnel!B:B)))","v":" "},{"$f":"IF(A10003=0,\" \",IF(ISNA(MATCH(A10003,Personnel!A:A,0)),\"وجود ندارد\",LOOKUP(A10003,Personnel!A:A,Personnel!C:C)))","v":" "},null,null,null,null,null,null,null,null,"","",1,0," "," ",""," "," ","",null," "," ",",,,,,,,,,,,,"]
[null,{"$f":"IF(A10004=0,\" \",IF(ISNA(MATCH(A10004,Personnel!A:A,0)),\"وجود ندارد\",LOOKUP(A10004,Personnel!A:A,Personnel!B:B)))","v":" "},{"$f":"IF(A10004=0,\" \",IF(ISNA(MATCH(A10004,Personnel!A:A,0)),\"وجود ندارد\",LOOKUP(A10004,Personnel!A:A,Personnel!C:C)))","v":" "},null,null,null,null,null,null,null,null,"","",1,0," "," ",""," "," ","",null," "," ",",,,,,,,,,,,,"]
[null,{"$f":"IF(A10005=0,\" \",IF(ISNA(MATCH(A10005,Personnel!A:A,0)),\"وجود ندارد\",LOOKUP(A10005,Personnel!A:A,Personnel!B:B)))","v":" "},{"$f":"IF(A10005=0,\" \",IF(ISNA(MATCH(A10005,Personnel!A:A,0)),\"وجود ندارد\",LOOKUP(A10005,Personnel!A:A,Personnel!C:C)))","v":" "},null,null,null,null,null,null,null,null,"","",1,0," "," ",""," "," ","",null," "," ",",,,,,,,,,,,,"]
[null,{"$f":"IF(A10006=0,\" \",IF(ISNA(MATCH(A10006,Personnel!A:A,0)),\"وجود ندارد\",LOOKUP(A10006,Personnel!A:A,Personnel!B:B)))","v":" "},{"$f":"IF(A10006=0,\" \",IF(ISNA(MATCH(A10006,Personnel!A:A,0)),\"وجود ندارد\",LOOKUP(A10006,Personnel!A:A,Personnel!C:C)))","v":" "},null,null,null,null,null,null,null,null,"","",1,0," "," ",""," "," ","",null," "," ",",,,,,,,,,,,,"]
[null,{"$f":"IF(A10007=0,\" \",IF(ISNA(MATCH(A10007,Personnel!A:A,0)),\"وجود ندارد\",LOOKUP(A10007,Personnel!A:A,Personnel!B:B)))","v":" "},{"$f":"IF(A10007=0,\" \",IF(ISNA(MATCH(A10007,Personnel!A:A,0)),\"وجود ندارد\",LOOKUP(A10007,Personnel!A:A,Personnel!C:C)))","v":" "},null,null,null,null,null,null,null,null,"","",1,0," "," ",""," "," ","",null," "," ",",,,,,,,,,,,,"]
[null,{"$f":"IF(A10008=0,\" \",IF(ISNA(MATCH(A10008,Personnel!A:A,0)),\"وجود ندارد\",LOOKUP(A10008,Personnel!A:A,Personnel!B:B)))","v":" "},{"$f":"IF(A10008=0,\" \",IF(ISNA(MATCH(A10008,Personnel!A:A,0)),\"وجود ندارد\",LOOKUP(A10008,Personnel!A:A,Personnel!C:C)))","v":" "},null,null,null,null,null,null,null,null,"","",1,0," "," ",""," "," ","",null," "," ",",,,,,,,,,,,,"]
[null,{"$f":"IF(A10009=0,\" \",IF(ISNA(MATCH(A10009,Personnel!A:A,0)),\"وجود ندارد\",LOOKUP(A10009,Personnel!A:A,Personnel!B:B)))","v":" "},{"$f":"IF(A10009=0,\" \",IF(ISNA(MATCH(A10009,Personnel!A:A,0)),\"وجود ندارد\",LOOKUP(A10009,Personnel!A:A,Personnel!C:C)))","v":" "},null,null,null,null,null,null,null,null,"","",1,0," "," ",""," "," ","",null," "," ",",,,,,,,,,,,,"]
[null,{"$f":"IF(A10010=0,\" \",IF(ISNA(MATCH(A10010,Personnel!A:A,0)),\"وجود ندارد\",LOOKUP(A10010,Personnel!A:A,Personnel!B:B)))","v":" "},{"$f":"IF(A10010=0,\" \",IF(ISNA(MATCH(A10010,Personnel!A:A,0)),\"وجود ندارد\",LOOKUP(A10010,Personnel!A:A,Personnel!C:C)))","v":" "},null,null,null,null,null,null,null,null,"","",1,0," "," ",""," "," ","",null," "," ",",,,,,,,,,,,,"]
[null,{"$f":"IF(A10011=0,\" \",IF(ISNA(MATCH(A10011,Personnel!A:A,0)),\"وجود ندارد\",LOOKUP(A10011,Personnel!A:A,Personnel!B:B)))","v":" "},{"$f":"IF(A10011=0,\" \",IF(ISNA(MATCH(A10011,Personnel!A:A,0)),\"وجود ندارد\",LOOKUP(A10011,Personnel!A:A,Personnel!C:C)))","v":" "},null,null,null,null,null,null,null,null,"","",1,0," "," ",""," "," ","",null," "," ",",,,,,,,,,,,,"]
[null,{"$f":"IF(A10012=0,\" \",IF(ISNA(MATCH(A10012,Personnel!A:A,0)),\"وجود ندارد\",LOOKUP(A10012,Personnel!A:A,Personnel!B:B)))","v":" "},{"$f":"IF(A10012=0,\" \",IF(ISNA(MATCH(A10012,Personnel!A:A,0)),\"وجود ندارد\",LOOKUP(A10012,Personnel!A:A,Personnel!C:C)))","v":" "},null,null,null,null,null,null,null,null,"","",1,0," "," ",""," "," ","",null," "," ",",,,,,,,,,,,,"]
[null,{"$f":"IF(A10013=0,\" \",IF(ISNA(MATCH(A10013,Personnel!A:A,0)),\"وجود ندارد\",LOOKUP(A10013,Personnel!A:A,Personnel!B:B)))","v":" "},{"$f":"IF(A10013=0,\" \",IF(ISNA(MATCH(A10013,Personnel!A:A,0)),\"وجود ندارد\",LOOKUP(A10013,Personnel!A:A,Personnel!C:C)))","v":" "},null,null,null,null,null,null,null,null,"","",1,0," "," ",""," "," ","",null," "," ",",,,,,,,,,,,,"]
[null,{"$f":"IF(A10014=0,\" \",IF(ISNA(MATCH(A10014,Personnel!A:A,0)),\"وجود ندارد\",LOOKUP(A10014,Personnel!A:A,Personnel!B:B)))","v":" "},{"$f":"IF(A10014=0,\" \",IF(ISNA(MATCH(A10014,Personnel!A:A,0)),\"وجود ندارد\",LOOKUP(A10014,Personnel!A:A,Personnel!C:C)))","v":" "},null,null,null,null,null,null,null,null,"","",1,0," "," ",""," "," ","",null," "," ",",,,,,,,,,,,,"]
[null,{"$f":"IF(A10015=0,\" \",IF(ISNA(MATCH(A10015,Personnel!A:A,0)),\"وجود ندارد\",LOOKUP(A10015,Personnel!A:A,Personnel!B:B)))","v":" "},{"$f":"IF(A10015=0,\" \",IF(ISNA(MATCH(A10015,Personnel!A:A,0)),\"وجود ندارد\",LOOKUP(A10015,Personnel!A:A,Personnel!C:C)))","v":" "},null,null,null,null,null,null,null,null,"","",1,0," "," ",""," "," ","",null," "," ",",,,,,,,,,,,,"]
[null,{"$f":"IF(A10016=0,\" \",IF(ISNA(MATCH(A10016,Personnel!A:A,0)),\"وجود ندارد\",LOOKUP(A10016,Personnel!A:A,Personnel!B:B)))","v":" "},{"$f":"IF(A10016=0,\" \",IF(ISNA(MATCH(A10016,Personnel!A:A,0)),\"وجود ندارد\",LOOKUP(A10016,Personnel!A:A,Personnel!C:C)))","v":" "},null,null,null,null,null,null,null,null,"","",1,0," "," ",""," "," ","",null," "," ",",,,,,,,,,,,,"]
[null,{"$f":"IF(A10017=0,\" \",IF(ISNA(MATCH(A10017,Personnel!A:A,0)),\"وجود ندارد\",LOOKUP(A10017,Personnel!A:A,Personnel!B:B)))","v":" "},{"$f":"IF(A10017=0,\" \",IF(ISNA(MATCH(A10017,Personnel!A:A,0)),\"وجود ندارد\",LOOKUP(A10017,Personnel!A:A,Personnel!C:C)))","v":" "},null,null,null,null,null,null,null,null,"","",1,0," "," ",""," "," ","",null," "," ",",,,,,,,,,,,,"]
[null,{"$f":"IF(A10018=0,\" \",IF(ISNA(MATCH(A10018,Personnel!A:A,0)),\"وجود ندارد\",LOOKUP(A10018,Personnel!A:A,Personnel!B:B)))","v":" "},{"$f":"IF(A10018=0,\" \",IF(ISNA(MATCH(A10018,Personnel!A:A,0)),\"وجود ندارد\",LOOKUP(A10018,Personnel!A:A,Personnel!C:C)))","v":" "},null,null,null,null,null,null,null,null,"","",1,0," "," ",""," "," ","",null," "," ",",,,,,,,,,,,,"]
[null,{"$f":"IF(A10019=0,\" \",IF(ISNA(MATCH(A10019,Personnel!A:A,0)),\"وجود ندارد\",LOOKUP(A10019,Personnel!A:A,Personnel!B:B)))","v":" "},{"$f":"IF(A10019=0,\" \",IF(ISNA(MATCH(A10019,Personnel!A:A,0)),\"وجود ندارد\",LOOKUP(A10019,Personnel!A:A,Personnel!C:C)))","v":" "},null,null,null,null,null,null,null,null,"","",1,0," "," ",""," "," ","",null," "," ",",,,,,,,,,,,,"]
[null,{"$f":"IF(A10020=0,\" \",IF(ISNA(MATCH(A10020,Personnel!A:A,0)),\"وجود ندارد\",LOOKUP(A10020,Personnel!A:A,Personnel!B:B)))","v":" "},{"$f":"IF(A10020=0,\" \",IF(ISNA(MATCH(A10020,Personnel!A:A,0)),\"وجود ندارد\",LOOKUP(A10020,Personnel!A:A,Personnel!C:C)))","v":" "},null,null,null,null,null,null,null,null,"","",1,0," "," ",""," "," ","",null," "," ",",,,,,,,,,,,,"]
[null,{"$f":"IF(A10021=0,\" \",IF(ISNA(MATCH(A10021,Personnel!A:A,0)),\"وجود ندارد\",LOOKUP(A10021,Personnel!A:A,Personnel!B:B)))","v":" "},{"$f":"IF(A10021=0,\" \",IF(ISNA(MATCH(A10021,Personnel!A:A,0)),\"وجود ندارد\",LOOKUP(A10021,Personnel!A:A,Personnel!C:C)))","v":" "},null,null,null,null,null,null,null,null,"","",1,0," "," ",""," "," ","",null," "," ",",,,,,,,,,,,,"]
[null,{"$f":"IF(A10022=0,\" \",IF(ISNA(MATCH(A10022,Personnel!A:A,0)),\"وجود ندارد\",LOOKUP(A10022,Personnel!A:A,Personnel!B:B)))","v":" "},{"$f":"IF(A10022=0,\" \",IF(ISNA(MATCH(A10022,Personnel!A:A,0)),\"وجود ندارد\",LOOKUP(A10022,Personnel!A:A,Personnel!C:C)))","v":" "},null,null,null,null,null,null,null,null,"","",1,0," "," ",""," "," ","",null," "," ",",,,,,,,,,,,,"]
[null,{"$f":"IF(A10023=0,\" \",IF(ISNA(MATCH(A10023,Personnel!A:A,0)),\"وجود ندارد\",LOOKUP(A10023,Personnel!A:A,Personnel!B:B)))","v":" "},{"$f":"IF(A10023=0,\" \",IF(ISNA(MATCH(A10023,Personnel!A:A,0)),\"وجود ندارد\",LOOKUP(A10023,Personnel!A:A,Personnel!C:C)))","v":" "},null,null,null,null,null,null,null,null,"","",1,0," "," ",""," "," ","",null," "," ",",,,,,,,,,,,,"]
[null,{"$f":"IF(A10024=0,\" \",IF(ISNA(MATCH(A10024,Personnel!A:A,0)),\"وجود ندارد\",LOOKUP(A10024,Personnel!A:A,Personnel!B:B)))","v":" "},{"$f":"IF(A10024=0,\" \",IF(ISNA(MATCH(A10024,Personnel!A:A,0)),\"وجود ندارد\",LOOKUP(A10024,Personnel!A:A,Personnel!C:C)))","v":" "},null,null,null,null,null,null,null,null,"","",1,0," "," ",""," "," ","",null," "," ",",,,,,,,,,,,,"]
[null,{"$f":"IF(A10025=0,\" \",IF(ISNA(MATCH(A10025,Personnel!A:A,0)),\"وجود ندارد\",LOOKUP(A10025,Personnel!A:A,Personnel!B:B)))","v":" "},{"$f":"IF(A10025=0,\" \",IF(ISNA(MATCH(A10025,Personnel!A:A,0)),\"وجود ندارد\",LOOKUP(A10025,Personnel!A:A,Personnel!C:C)))","v":" "},null,null,null,null,null,null,null,null,"","",1,0," "," ",""," "," ","",null," "," ",",,,,,,,,,,,,"]
[null,{"$f":"IF(A10026=0,\" \",IF(ISNA(MATCH(A10026,Personnel!A:A,0)),\"وجود ندارد\",LOOKUP(A10026,Personnel!A:A,Personnel!B:B)))","v":" "},{"$f":"IF(A10026=0,\" \",IF(ISNA(MATCH(A10026,Personnel!A:A,0)),\"وجود ندارد\",LOOKUP(A10026,Personnel!A:A,Personnel!C:C)))","v":" "},null,null,null,null,null,null,null,null,"","",1,0," "," ",""," "," ","",null," "," ",",,,,,,,,,,,,"]
[null,{"$f":"IF(A10027=0,\" \",IF(ISNA(MATCH(A10027,Personnel!A:A,0)),\"وجود ندارد\",LOOKUP(A10027,Personnel!A:A,Personnel!B:B)))","v":" "},{"$f":"IF(A10027=0,\" \",IF(ISNA(MATCH(A10027,Personnel!A:A,0)),\"وجود ندارد\",LOOKUP(A10027,Personnel!A:A,Personnel!C:C)))","v":" "},null,null,null,null,null,null,null,null,"","",1,0," "," ",""," "," ","",null," "," ",",,,,,,,,,,,,"]
[null,{"$f":"IF(A10028=0,\" \",IF(ISNA(MATCH(A10028,Personnel!A:A,0)),\"وجود ندارد\",LOOKUP(A10028,Personnel!A:A,Personnel!B:B)))","v":" "},{"$f":"IF(A10028=0,\" \",IF(ISNA(MATCH(A10028,Personnel!A:A,0)),\"وجود ندارد\",LOOKUP(A10028,Personnel!A:A,Personnel!C:C)))","v":" "},null,null,null,null,null,null,null,null,"","",1,0," "," ",""," "," ","",null," "," ",",,,,,,,,,,,,"]
[null,{"$f":"IF(A10029=0,\" \",IF(ISNA(MATCH(A10029,Personnel!A:A,0)),\"وجود ندارد\",LOOKUP(A10029,Personnel!A:A,Personnel!B:B)))","v":" "},{"$f":"IF(A10029=0,\" \",IF(ISNA(MATCH(A10029,Personnel!A:A,0)),\"وجود ندارد\",LOOKUP(A10029,Personnel!A:A,Personnel!C:C)))","v":" "},null,null,null,null,null,null,null,null,"","",1,0," "," ",""," "," ","",null," "," ",",,,,,,,,,,,,"]
[null,{"$f":"IF(A10030=0,\" \",IF(ISNA(MATCH(A10030,Personnel!A:A,0)),\"وجود ندارد\",LOOKUP(A10030,Personnel!A:A,Personnel!B:B)))","v":" "},{"$f":"IF(A10030=0,\" \",IF(ISNA(MATCH(A10030,Personnel!A:A,0)),\"وجود ندارد\",LOOKUP(A10030,Personnel!A:A,Personnel!C:C)))","v":" "},null,null,null,null,null,null,null,null,"","",1,0," "," ",""," "," ","",null," "," ",",,,,,,,,,,,,"]
[null,{"$f":"IF(A10031=0,\" \",IF(ISNA(MATCH(A10031,Personnel!A:A,0)),\"وجود ندارد\",LOOKUP(A10031,Personnel!A:A,Personnel!B:B)))","v":" "},{"$f":"IF(A10031=0,\" \",IF(ISNA(MATCH(A10031,Personnel!A:A,0)),\"وجود ندارد\",LOOKUP(A10031,Personnel!A:A,Personnel!C:C)))","v":" "},null,null,null,null,null,null,null,null,"","",1,0," "," ",""," "," ","",null," "," ",",,,,,,,,,,,,"]
[null,{"$f":"IF(A10032=0,\" \",IF(ISNA(MATCH(A10032,Personnel!A:A,0)),\"وجود ندارد\",LOOKUP(A10032,Personnel!A:A,Personnel!B:B)))","v":" "},{"$f":"IF(A10032=0,\" \",IF(ISNA(MATCH(A10032,Personnel!A:A,0)),\"وجود ندارد\",LOOKUP(A10032,Personnel!A:A,Personnel!C:C)))","v":" "},null,null,null,null,null,null,null,null,"","",1,0," "," ",""," "," ","",null," "," ",",,,,,,,,,,,,"]
[null,{"$f":"IF(A10033=0,\" \",IF(ISNA(MATCH(A10033,Personnel!A:A,0)),\"وجود ندارد\",LOOKUP(A10033,Personnel!A:A,Personnel!B:B)))","v":" "},{"$f":"IF(A10033=0,\" \",IF(ISNA(MATCH(A10033,Personnel!A:A,0)),\"وجود ندارد\",LOOKUP(A10033,Personnel!A:A,Personnel!C:C)))","v":" "},null,null,null,null,null,null,null,null,"","",1,0," "," ",""," "," ","",null," "," ",",,,,,,,,,,,,"]
[null,{"$f":"IF(A10034=0,\" \",IF(ISNA(MATCH(A10034,Personnel!A:A,0)),\"وجود ندارد\",LOOKUP(A10034,Personnel!A:A,Personnel!B:B)))","v":" "},{"$f":"IF(A10034=0,\" \",IF(ISNA(MATCH(A10034,Personnel!A:A,0)),\"وجود ندارد\",LOOKUP(A10034,Personnel!A:A,Personnel!C:C)))","v":" "},null,null,null,null,null,null,null,null,"","",1,0," "," ",""," "," ","",null," "," ",",,,,,,,,,,,,"]
[null,{"$f":"IF(A10035=0,\" \",IF(ISNA(MATCH(A10035,Personnel!A:A,0)),\"وجود ندارد\",LOOKUP(A10035,Personnel!A:A,Personnel!B:B)))","v":" "},{"$f":"IF(A10035=0,\" \",IF(ISNA(MATCH(A10035,Personnel!A:A,0)),\"وجود ندارد\",LOOKUP(A10035,Personnel!A:A,Personnel!C:C)))","v":" "},null,null,null,null,null,null,null,null,"","",1,0," "," ",""," "," ","",null," "," ",",,,,,,,,,,,,"]
[null,{"$f":"IF(A10036=0,\" \",IF(ISNA(MATCH(A10036,Personnel!A:A,0)),\"وجود ندارد\",LOOKUP(A10036,Personnel!A:A,Personnel!B:B)))","v":" "},{"$f":"IF(A10036=0,\" \",IF(ISNA(MATCH(A10036,Personnel!A:A,0)),\"وجود ندارد\",LOOKUP(A10036,Personnel!A:A,Personnel!C:C)))","v":" "},null,null,null,null,null,null,null,null,"","",1,0," "," ",""," "," ","",null," "," ",",,,,,,,,,,,,"]
[null,{"$f":"IF(A10037=0,\" \",IF(ISNA(MATCH(A10037,Personnel!A:A,0)),\"وجود ندارد\",LOOKUP(A10037,Personnel!A:A,Personnel!B:B)))","v":" "},{"$f":"IF(A10037=0,\" \",IF(ISNA(MATCH(A10037,Personnel!A:A,0)),\"وجود ندارد\",LOOKUP(A10037,Personnel!A:A,Personnel!C:C)))","v":" "},null,null,null,null,null,null,null,null,"","",1,0," "," ",""," "," ","",null," "," ",",,,,,,,,,,,,"]
[null,{"$f":"IF(A10038=0,\" \",IF(ISNA(MATCH(A10038,Personnel!A:A,0)),\"وجود ندارد\",LOOKUP(A10038,Personnel!A:A,Personnel!B:B)))","v":" "},{"$f":"IF(A10038=0,\" \",IF(ISNA(MATCH(A10038,Personnel!A:A,0)),\"وجود ندارد\",LOOKUP(A10038,Personnel!A:A,Personnel!C:C)))","v":" "},null,null,null,null,null,null,null,null,"","",1,0," "," ",""," "," ","",null," "," ",",,,,,,,,,,,,"]
[null,{"$f":"IF(A10039=0,\" \",IF(ISNA(MATCH(A10039,Personnel!A:A,0)),\"وجود ندارد\",LOOKUP(A10039,Personnel!A:A,Personnel!B:B)))","v":" "},{"$f":"IF(A10039=0,\" \",IF(ISNA(MATCH(A10039,Personnel!A:A,0)),\"وجود ندارد\",LOOKUP(A10039,Personnel!A:A,Personnel!C:C)))","v":" "},null,null,null,null,null,null,null,null,"","",1,0," "," ",""," "," ","",null," "," ",",,,,,,,,,,,,"]
[null,{"$f":"IF(A10040=0,\" \",IF(ISNA(MATCH(A10040,Personnel!A:A,0)),\"وجود ندارد\",LOOKUP(A10040,Personnel!A:A,Personnel!B:B)))","v":" "},{"$f":"IF(A10040=0,\" \",IF(ISNA(MATCH(A10040,Personnel!A:A,0)),\"وجود ندارد\",LOOKUP(A10040,Personnel!A:A,Personnel!C:C)))","v":" "},null,null,null,null,null,null,null,null,"","",1,0," "," ",""," "," ","",null," "," ",",,,,,,,,,,,,"]
[null,{"$f":"IF(A10041=0,\" \",IF(ISNA(MATCH(A10041,Personnel!A:A,0)),\"وجود ندارد\",LOOKUP(A10041,Personnel!A:A,Personnel!B:B)))","v":" "},{"$f":"IF(A10041=0,\" \",IF(ISNA(MATCH(A10041,Personnel!A:A,0)),\"وجود ندارد\",LOOKUP(A10041,Personnel!A:A,Personnel!C:C)))","v":" "},null,null,null,null,null,null,null,null,"","",1,0," "," ",""," "," ","",null," "," ",",,,,,,,,,,,,"]
[null,{"$f":"IF(A10042=0,\" \",IF(ISNA(MATCH(A10042,Personnel!A:A,0)),\"وجود ندارد\",LOOKUP(A10042,Personnel!A:A,Personnel!B:B)))","v":" "},{"$f":"IF(A10042=0,\" \",IF(ISNA(MATCH(A10042,Personnel!A:A,0)),\"وجود ندارد\",LOOKUP(A10042,Personnel!A:A,Personnel!C:C)))","v":" "},null,null,null,null,null,null,null,null,"","",1,0," "," ",""," "," ","",null," "," ",",,,,,,,,,,,,"]
[null,{"$f":"IF(A10043=0,\" \",IF(ISNA(MATCH(A10043,Personnel!A:A,0)),\"وجود ندارد\",LOOKUP(A10043,Personnel!A:A,Personnel!B:B)))","v":" "},{"$f":"IF(A10043=0,\" \",IF(ISNA(MATCH(A10043,Personnel!A:A,0)),\"وجود ندارد\",LOOKUP(A10043,Personnel!A:A,Personnel!C:C)))","v":" "},null,null,null,null,null,null,null,null,"","",1,0," "," ",""," "," ","",null," "," ",",,,,,,,,,,,,"]
[null,{"$f":"IF(A10044=0,\" \",IF(ISNA(MATCH(A10044,Personnel!A:A,0)),\"وجود ندارد\",LOOKUP(A10044,Personnel!A:A,Personnel!B:B)))","v":" "},{"$f":"IF(A10044=0,\" \",IF(ISNA(MATCH(A10044,Personnel!A:A,0)),\"وجود ندارد\",LOOKUP(A10044,Personnel!A:A,Personnel!C:C)))","v":" "},null,null,null,null,null,null,null,null,"","",1,0," "," ",""," "," ","",null," "," ",",,,,,,,,,,,,"]
[null,{"$f":"IF(A10045=0,\" \",IF(ISNA(MATCH(A10045,Personnel!A:A,0)),\"وجود ندارد\",LOOKUP(A10045,Personnel!A:A,Personnel!B:B)))","v":" "},{"$f":"IF(A10045=0,\" \",IF(ISNA(MATCH(A10045,Personnel!A:A,0)),\"وجود ندارد\",LOOKUP(A10045,Personnel!A:A,Personnel!C:C)))","v":" "},null,null,null,null,null,null,null,null,"","",1,0," "," ",""," "," ","",null," "," ",",,,,,,,,,,,,"]
[null,{"$f":"IF(A10046=0,\" \",IF(ISNA(MATCH(A10046,Personnel!A:A,0)),\"وجود ندارد\",LOOKUP(A10046,Personnel!A:A,Personnel!B:B)))","v":" "},{"$f":"IF(A10046=0,\" \",IF(ISNA(MATCH(A10046,Personnel!A:A,0)),\"وجود ندارد\",LOOKUP(A10046,Personnel!A:A,Personnel!C:C)))","v":" "},null,null,null,null,null,null,null,null,"","",1,0," "," ",""," "," ","",null," "," ",",,,,,,,,,,,,"]

{"sheet":"Personnel","index":1,"n_rows":716,"n_cols":14,"rows_kept":716,"cut":false,"hidden":false,"merged":[]}
["شماره پرسنلی","نام","نام خانوادگی"]
[]
[]
[]
[]
[]
[]
[]
[]
[]
[]
[]
[]
[]
[]
[]
[]
[]
[]
[]
[]
[]
[]
[]
[]
[]
[]
[]
[]
[]
[]
[]
[]
[]
[]
[]
[]
[]
[]
[]
[]
[]
[]
[]
[]
[]
[]
[]
[]
[]
[]
[]
[]
[]
[]
[]
[]
[]
[]
[]
[]
[]
[]
[]
[]
[]
[]
[]
[]
[]
[]
[]
[]
[]
[]
[]
[]
[]
[]
[]
[]
[]
[]
[]
[]
[]
[]
[]
[]
[]
[]
[]
[]
[]
[]
[]
[]
[]
[]
[]
[]
[]
[]
[]
[]
[]
[]
[]
[]
[]
[]
[]
[]
[]
[]
[]
[]
[]
[]
[]
[]
[]
[]
[]
[]
[]
[]
[]
[]
[]
[]
[]
[]
[]
[]
[]
[]
[]
[]
[]
[]
[]
[]
[]
[]
[]
[]
[]
[]
[]
[]
[]
[]
[]
[]
[]
[]
[]
[]
[]
[]
[]
[]
[]
[]
[]
[]
[]
[]
[]
[]
[]
[]
[]
[]
[]
[]
[]
[]
[]
[]
[]
[]
[]
[]
[]
[]
[]
[]
[]
[]
[]
[]
[]
[]
[]
[]
[]
[]
[]
[]
[]
[]
[]
[]
[]
[]
[]
[]
[]
[]
[]
[]
[]
[]
[]
[]
[]
[]
[]
[]
[]
[]
[]
[]
[]
[]
[]
[]
[]
[]
[]
[]
[]
[]
[]
[]
[]
[]
[]
[]
[]
[]
[]
[]
[]
[]
[]
[]
[]
[]
[]
[]
[]
[]
[]
[]
[]
[]
[]
[]
[]
[]
[]
[]
[]
[]
[]
[]
[]
[]
[]
[]
[]
[]
[]
[]
[]
[]
[]
[]
[]
[]
[]
[]
[]
[]
[]
[]
[]
[]
[]
[]
[]
[]
[]
[]
[]
[]
[]
[]
[]
[]
[]
[]
[]
[]
[]
[]
[]
[]
[]
[]
[]
[]
[]
[]
[]
[]
[]
[]
[]
[]
[]
[]
[]
[]
[]
[]
[]
[]
[]
[]
[]
[]
[]
[]
[]
[]
[]
[]
[]
[]
[]
[]
[]
[]
[]
[]
[]
[]
[]
[]
[]
[]
[]
[]
[]
[]
[]
[]
[]
[]
[]
[]
[]
[]
[]
[]
[]
[]
[]
[]
[]
[]
[]
[]
[]
[]
[]
[]
[]
[]
[]
[]
[]
[]
[]
[]
[]
[]
[]
[]
[]
[]
[]
[]
[]
[]
[]
[]
[]
[]
[]
[]
[]
[]
[]
[]
[]
[]
[]
[]
[]
[]
[]
[]
[]
[]
[]
[]
[]
[]
[]
[]
[]
[]
[]
[]
[]
[]
[]
[]
[]
[]
[]
[]
[]
[]
[]
[]
[]
[]
[]
[]
[]
[]
[]
[]
[]
[]
[]
[]
[]
[]
[]
[]
[]
[]
[]
[]
[]
[]
[]
[]
[]
[]
[]
[]
[]
[]
[]
[]
[]
[]
[]
[]
[]
[]
[]
[]
[]
[]
[]
[]
[]
[]
[]
[]
[]
[]
[]
[]
[]
[]
[]
[]
[]
[]
[]
[]
[]
[]
[]
[]
[]
[]
[]
[]
[]
[]
[]
[]
[]
[]
[]
[]
[]
[]
[]
[]
[]
[]
[]
[]
[]
[]
[]
[]
[]
[]
[]
[]
[]
[]
[]
[]
[]
[]
[]
[]
[]
[]
[]
[]
[]
[]
[]
[]
[]
[]
[]
[]
[]
[]
[]
[]
[]
[]
[]
[]
[]
[]
[]
[]
[]
[]
[]
[]
[]
[]
[]
[]
[]
[]
[]
[]
[]
[]
[]
[]
[]
[]
[]
[]
[]
[]
[]
[]
[]
[]
[]
[]
[]
[]
[]
[]
[]
[]
[]
[]
[]
[]
[]
[]
[]
[]
[]
[]
[]
[]
[]
[]
[]
[]
[]
[]
[]
[]
[]
[]
[]
[]
[]
[]
[]
[]
[]
[]
[]
[]
[]
[]
[]
[]
[]
[]
[]
[]
[]
[]
[]
[]
[]
[]
[]
[]
[]
[]
[]
[]
[]
[]
[]
[]
[]
[]
[]
[]
[]
[]
[]
[]
[]
[]
[]
[]
[]
[]
[]
[]
[]
[]
[]
[]
[]
[]
[]
[]
[]
[]
[]
[]
[]
[]
[]
[]
[]
[]
[]
[]
[]
[]
[]
[]
[]
[]
[]
[]
[]
[]
[]
[null,null,null,"پرويز","اصفهان","اصفهان",610620,"2265",1290704953,0,0,2,0,0]
[null,null,null,"منصور","مرکزي","بافت",640228,"11",3131550422,0,0,1,0,0]
[null,null,null,"پيرزاد","زرند","زرند",570120,"697",3090737310,0,0,2,0,0]
[null,null,null,"محمد","مکي   اباد","سيرجان",590422,"195",3071425767,0,0,2,0,0]
[null,null,null,"منوچهر","کرمان","کرمان",670321,"10558",2994108119,0,0,2,0,0]
[null,null,null,"محمد","تبريز","تبريز",580601,"91525",1371044570,0,0,1,0,0]
[null,null,null,"اسدالله","کرمان","کرمان",570101,"1",2993081098,0,0,2,0,0]
[null,null,null,"علي","کرمان","کرمان",540330,"241",2992573647,0,0,2,0,0]
[null,null,null,"قباد","رابر","بافت",610501,"2",5839891134,0,0,2,0,0]
[null,null,null,"امان   الله","آمل","هراز آمل",570202,"393",2141328039,0,0,1,0,0]
[null,null,null,"حسن","شهداد","ح   ١شهري",541010,"60",3199905404,0,0,1,0,0]
[null,null,null,"علي","کرمان","کرمان",630605,"894",2992770558,0,0,1,0,0]
[null,null,null,"محمود",null,"ح   ٢ زرند",620402,"200",3091262431,0,0,2,0,0]
[null,null,null,"محمد","راويز","رفسنجان",590202,"1",3052052837,0,0,1,0,0]