{"text_format":"1","workbook":"xlsx","n_sheets":7,"sheets":["Edit","Rigion Code","Settings","Personnel","Pays","Master","اطلاعات افراد غیر حقوق بگیر"],"not_rendered":{"charts":0,"images":0,"macros":1,"external_links":0,"defined_names":4,"comments":0,"pivot_tables":0},"unopened":[],"bounds":{"document_bytes":16777216,"sheet_cells":100000,"rows_first":2000,"rows_last":500,"rows_between":2000,"halvings":0,"cell_chars":16384,"cell_head_chars":4096},"cells_cut":0,"cells_raw":0,"read":"whole","date_system":"1900"}

{"sheet":"Edit","index":0,"n_rows":575,"n_cols":34,"rows_kept":575,"cut":false,"hidden":false,"merged":[[1,18,1,19],[1,0,1,1],[1,14,1,16],[0,0,0,19],[3,26,3,27]]}
[{"$f":"Settings!D11 & \" \" & C4","v":"لیست حق الزحمه کنکور 1395 "}]
[null,null,null,"جمع هزینه",{"$f":"SUM(P:P)","v":0},"مالیات",{"$f":"SUM(S:S)","v":0},null,null,null,null,null,null,"ویژه",{"$f":"SUM(T:T)","v":0},null,null,null,null,null,null,null,{"$f":"IF(SUM(V:V)>0,1,0)","v":{"$error":"#REF!"}},null,3]
["ردیف","کد منطقه","نام منطقه","شماره پرسنلی","نام","نام خانوادگی","شماره حساب","نوع استخدام","شغل","شاغل","مدیرت","مشمول","نرخ","نرخ یک ساعت","ساعت اضافه کار","جمع هزینه","کد مالیات","درصد مالیات","مالیات","ویژه پرداختی",null,null,"کد مالیات","درصد"]
[1,{"$f":"IF(D4=0,\"\",Settings!$D$6)","v":""},{"$f":"IF(D4=0,\"\",LOOKUP(B4,'Rigion Code'!A:A,'Rigion Code'!B:B))","v":""},null,{"$f":"IF(D4=0,\" \",IF(ISNA(MATCH(D4,Personnel!A:A,0)),IF(ISNA(MATCH(D4,'اطلاعات افراد غیر حقوق بگیر'!A:A,0)),\"وجود ندارد\",LOOKUP(Edit!D4,'اطلاعات افراد غیر حقوق بگیر'!A:A,'اطلاعات افراد غیر حقوق بگیر'!B:B)),LOOKUP(D4,Personnel!A:A,Personnel!C:C)))","v":" "},{"$f":"IF(D4=0,\" \",IF(ISNA(MATCH(D4,Personnel!A:A,0)),IF(ISNA(MATCH(D4,'اطلاعات افراد غیر حقوق بگیر'!A:A,0)),\"وجود ندارد\",LOOKUP(D4,'اطلاعات افراد غیر حقوق بگیر'!A:A,'اطلاعات افراد غیر حقوق بگیر'!C:C)),LOOKUP(D4,Personnel!A:A,Personnel!B:B)))","v":" "},{"$f":"IF(D4=0,0,IF(ISNA(MATCH(D4,Personnel!A:A,0)),IF(ISNA(MATCH(D4,'اطلاعات افراد غیر حقوق بگیر'!A:A,0)),\"وجود ندارد\",LOOKUP(D4,'اطلاعات افراد غیر حقوق بگیر'!A:A,'اطلاعات افراد غیر حقوق بگیر'!D:D)),LOOKUP(D4,Master!D:D,Master!CD:CD)))","v":0},{"$f":"IF(D4=0,\" \",IF(ISNA(MATCH(D4,Personnel!A:A,0)),IF(ISNA(MATCH(D4,'اطلاعات افراد غیر حقوق بگیر'!A:A,0)),\"وجود ندارد\",LOOKUP(D4,'اطلاعات افراد غیر حقوق بگیر'!A:A,'اطلاعات افراد غیر حقوق بگیر'!E:E)),LOOKUP(D4,Master!D:D,Master!AH:AH)))","v":" "},{"$f":"SUMIFS(Pays!G:G,Pays!E:E,1,Pays!D:D,D4)","v":0},{"$f":"SUMIFS(Pays!G:G,Pays!E:E,2,Pays!D:D,D4)","v":0},{"$f":"SUMIFS(Pays!G:G,Pays!E:E,57,Pays!D:D,D4)","v":0},{"$f":"SUMIF(Pays!D:D,D4,Pays!G:G)","v":0},{"$f":"SUMIF(Pays!D:D,D4,Pays!G:G)/176","v":0},{"$f":"IF(M4=0,IF(ISNA(MATCH(D4,'اطلاعات افراد غیر حقوق بگیر'!A:A,0)),0,LOOKUP(D4,'اطلاعات افراد غیر حقوق بگیر'!A:A,'اطلاعات افراد غیر حقوق بگیر'!F:F)),IF(H4=31,Settings!$D$13,ROUND(M4,0)))","v":0},null,{"$f":"N4*O4","v":0},{"$f":"IF(ISNA(MATCH(D4,Master!D:D,0)),IF(ISNA(MATCH(D4,'اطلاعات افراد غیر حقوق بگیر'!A:A,0)),0,LOOKUP(D4,'اطلاعات افراد غیر حقوق بگیر'!A:A,'اطلاعات افراد غیر حقوق بگیر'!G:G)),LOOKUP(D4,Master!D:D,Master!J:J))","v":0},{"$f":"LOOKUP(Q4,$W$4:$W$12,$X$4:$X$12)","v":{"$error":"#N/A"}},{"$f":"IF(P4=0,0,ROUND(P4*R4/100,0))","v":0},{"$f":"P4-S4","v":0},{"$f":"IF(O4>#REF!,\"اخطار ساعت اضافه کار از حداکثر بیشتر است\",\" \")","v":{"$error":"#REF!"}},{"$f":"IF(O4>#REF!,1,0)","v":{"$error":"#REF!"}},1,10,null,null,"محدوده چاپ"]
[{"$f":"A4+1","v":2},{"$f":"IF(D5=0,\"\",Settings!$D$6)","v":""},{"$f":"IF(D5=0,\"\",LOOKUP(B5,'Rigion Code'!A:A,'Rigion Code'!B:B))","v":""},null,{"$f":"IF(D5=0,\" \",IF(ISNA(MATCH(D5,Personnel!A:A,0)),IF(ISNA(MATCH(D5,'اطلاعات افراد غیر حقوق بگیر'!A:A,0)),\"وجود ندارد\",LOOKUP(Edit!D5,'اطلاعات افراد غیر حقوق بگیر'!A:A,'اطلاعات افراد غیر حقوق بگیر'!B:B)),LOOKUP(D5,Personnel!A:A,Personnel!C:C)))","v":" "},{"$f":"IF(D5=0,\" \",IF(ISNA(MATCH(D5,Personnel!A:A,0)),IF(ISNA(MATCH(D5,'اطلاعات افراد غیر حقوق بگیر'!A:A,0)),\"وجود ندارد\",LOOKUP(D5,'اطلاعات افراد غیر حقوق بگیر'!A:A,'اطلاعات افراد غیر حقوق بگیر'!C:C)),LOOKUP(D5,Personnel!A:A,Personnel!B:B)))","v":" "},{"$f":"IF(D5=0,0,IF(ISNA(MATCH(D5,Personnel!A:A,0)),IF(ISNA(MATCH(D5,'اطلاعات افراد غیر حقوق بگیر'!A:A,0)),\"وجود ندارد\",LOOKUP(D5,'اطلاعات افراد غیر حقوق بگیر'!A:A,'اطلاعات افراد غیر حقوق بگیر'!D:D)),LOOKUP(D5,Master!D:D,Master!CD:CD)))","v":0},{"$f":"IF(D5=0,\" \",IF(ISNA(MATCH(D5,Personnel!A:A,0)),IF(ISNA(MATCH(D5,'اطلاعات افراد غیر حقوق بگیر'!A:A,0)),\"وجود ندارد\",LOOKUP(D5,'اطلاعات افراد غیر حقوق بگیر'!A:A,'اطلاعات افراد غیر حقوق بگیر'!E:E)),LOOKUP(D5,Master!D:D,Master!AH:AH)))","v":" "},{"$f":"SUMIFS(Pays!G:G,Pays!E:E,1,Pays!D:D,D5)","v":0},{"$f":"SUMIFS(Pays!G:G,Pays!E:E,2,Pays!D:D,D5)","v":0},{"$f":"SUMIFS(Pays!G:G,Pays!E:E,57,Pays!D:D,D5)","v":0},{"$f":"SUMIF(Pays!D:D,D5,Pays!G:G)","v":0},{"$f":"SUMIF(Pays!D:D,D5,Pays!G:G)/176","v":0},{"$f":"IF(M5=0,IF(ISNA(MATCH(D5,'اطلاعات افراد غیر حقوق بگیر'!A:A,0)),0,LOOKUP(D5,'اطلاعات افراد غیر حقوق بگیر'!A:A,'اطلاعات افراد غیر حقوق بگیر'!F:F)),IF(H5=31,Settings!$D$13,ROUND(M5,0)))","v":0},null,0,{"$f":"IF(ISNA(MATCH(D5,Master!D:D,0)),IF(ISNA(MATCH(D5,'اطلاعات افراد غیر حقوق بگیر'!A:A,0)),0,LOOKUP(D5,'اطلاعات افراد غیر حقوق بگیر'!A:A,'اطلاعات افراد غیر حقوق بگیر'!G:G)),LOOKUP(D5,Master!D:D,Master!J:J))","v":0},{"$f":"LOOKUP(Q5,$W$4:$W$12,$X$4:$X$12)","v":{"$error":"#N/A"}},{"$f":"IF(P5=0,0,ROUND(P5*R5/100,0))","v":0},{"$f":"P5-S5","v":0},{"$f":"IF(O5>#REF!,\"اخطار ساعت اضافه کار از حداکثر بیشتر است\",\" \")","v":{"$error":"#REF!"}},{"$f":"IF(O5>#REF!,1,0)","v":{"$error":"#REF!"}},2,5,null,null," تا ردیف ",0,null,null,null,null,null,572]
[{"$f":"A5+1","v":3},{"$f":"IF(D6=0,\"\",Settings!$D$6)","v":""},{"$f":"IF(D6=0,\"\",LOOKUP(B6,'Rigion Code'!A:A,'Rigion Code'!B:B))","v":""},null,{"$f":"IF(D6=0,\" \",IF(ISNA(MATCH(D6,Personnel!A:A,0)),IF(ISNA(MATCH(D6,'اطلاعات افراد غیر حقوق بگیر'!A:A,0)),\"وجود ندارد\",LOOKUP(Edit!D6,'اطلاعات افراد غیر حقوق بگیر'!A:A,'اطلاعات افراد غیر حقوق بگیر'!B:B)),LOOKUP(D6,Personnel!A:A,Personnel!C:C)))","v":" "},{"$f":"IF(D6=0,\" \",IF(ISNA(MATCH(D6,Personnel!A:A,0)),IF(ISNA(MATCH(D6,'اطلاعات افراد غیر حقوق بگیر'!A:A,0)),\"وجود ندارد\",LOOKUP(D6,'اطلاعات افراد غیر حقوق بگیر'!A:A,'اطلاعات افراد غیر حقوق بگیر'!C:C)),LOOKUP(D6,Personnel!A:A,Personnel!B:B)))","v":" "},{"$f":"IF(D6=0,0,IF(ISNA(MATCH(D6,Personnel!A:A,0)),IF(ISNA(MATCH(D6,'اطلاعات افراد غیر حقوق بگیر'!A:A,0)),\"وجود ندارد\",LOOKUP(D6,'اطلاعات افراد غیر حقوق بگیر'!A:A,'اطلاعات افراد غیر حقوق بگیر'!D:D)),LOOKUP(D6,Master!D:D,Master!CD:CD)))","v":0},{"$f":"IF(D6=0,\" \",IF(ISNA(MATCH(D6,Personnel!A:A,0)),IF(ISNA(MATCH(D6,'اطلاعات افراد غیر حقوق بگیر'!A:A,0)),\"وجود ندارد\",LOOKUP(D6,'اطلاعات افراد غیر حقوق بگیر'!A:A,'اطلاعات افراد غیر حقوق بگیر'!E:E)),LOOKUP(D6,Master!D:D,Master!AH:AH)))","v":" "},{"$f":"SUMIFS(Pays!G:G,Pays!E:E,1,Pays!D:D,D6)","v":0},{"$f":"SUMIFS(Pays!G:G,Pays!E:E,2,Pays!D:D,D6)","v":0},{"$f":"SUMIFS(Pays!G:G,Pays!E:E,57,Pays!D:D,D6)","v":0},{"$f":"SUMIF(Pays!D:D,D6,Pays!G:G)","v":0},{"$f":"SUMIF(Pays!D:D,D6,Pays!G:G)/176","v":0},{"$f":"IF(M6=0,IF(ISNA(MATCH(D6,'اطلاعات افراد غیر حقوق بگیر'!A:A,0)),0,LOOKUP(D6,'اطلاعات افراد غیر حقوق بگیر'!A:A,'اطلاعات افراد غیر حقوق بگیر'!F:F)),IF(H6=31,Settings!$D$13,ROUND(M6,0)))","v":0},null,0,{"$f":"IF(ISNA(MATCH(D6,Master!D:D,0)),IF(ISNA(MATCH(D6,'اطلاعات افراد غیر حقوق بگیر'!A:A,0)),0,LOOKUP(D6,'اطلاعات افراد غیر حقوق بگیر'!A:A,'اطلاعات افراد غیر حقوق بگیر'!G:G)),LOOKUP(D6,Master!D:D,Master!J:J))","v":0},{"$error":"#N/A"},0,0,{"$f":"IF(O6>#REF!,\"اخطار ساعت اضافه کار از حداکثر بیشتر است\",\" \")","v":{"$error":"#REF!"}},{"$f":"IF(O6>#REF!,1,0)","v":{"$error":"#REF!"}},3,0,null,null,"تا ستون- حرف ستون به صورت انگلیسی (A-Z) ","T"]
[4,{"$f":"IF(D7=0,\"\",Settings!$D$6)","v":""},{"$f":"IF(D7=0,\"\",LOOKUP(B7,'Rigion Code'!A:A,'Rigion Code'!B:B))","v":""},null,{"$f":"IF(D7=0,\" \",IF(ISNA(MATCH(D7,Personnel!A:A,0)),IF(ISNA(MATCH(D7,'اطلاعات افراد غیر حقوق بگیر'!A:A,0)),\"وجود ندارد\",LOOKUP(Edit!D7,'اطلاعات افراد غیر حقوق بگیر'!A:A,'اطلاعات افراد غیر حقوق بگیر'!B:B)),LOOKUP(D7,Personnel!A:A,Personnel!C:C)))","v":" "},{"$f":"IF(D7=0,\" \",IF(ISNA(MATCH(D7,Personnel!A:A,0)),IF(ISNA(MATCH(D7,'اطلاعات افراد غیر حقوق بگیر'!A:A,0)),\"وجود ندارد\",LOOKUP(D7,'اطلاعات افراد غیر حقوق بگیر'!A:A,'اطلاعات افراد غیر حقوق بگیر'!C:C)),LOOKUP(D7,Personnel!A:A,Personnel!B:B)))","v":" "},{"$f":"IF(D7=0,0,IF(ISNA(MATCH(D7,Personnel!A:A,0)),IF(ISNA(MATCH(D7,'اطلاعات افراد غیر حقوق بگیر'!A:A,0)),\"وجود ندارد\",LOOKUP(D7,'اطلاعات افراد غیر حقوق بگیر'!A:A,'اطلاعات افراد غیر حقوق بگیر'!D:D)),LOOKUP(D7,Master!D:D,Master!CD:CD)))","v":0},{"$f":"IF(D7=0,\" \",IF(ISNA(MATCH(D7,Personnel!A:A,0)),IF(ISNA(MATCH(D7,'اطلاعات افراد غیر حقوق بگیر'!A:A,0)),\"وجود ندارد\",LOOKUP(D7,'اطلاعات افراد غیر حقوق بگیر'!A:A,'اطلاعات افراد غیر حقوق بگیر'!E:E)),LOOKUP(D7,Master!D:D,Master!AH:AH)))","v":" "},{"$f":"SUMIFS(Pays!G:G,Pays!E:E,1,Pays!D:D,D7)","v":0},{"$f":"SUMIFS(Pays!G:G,Pays!E:E,2,Pays!D:D,D7)","v":0},{"$f":"SUMIFS(Pays!G:G,Pays!E:E,57,Pays!D:D,D7)","v":0},{"$f":"SUMIF(Pays!D:D,D7,Pays!G:G)","v":0},{"$f":"SUMIF(Pays!D:D,D7,Pays!G:G)/176","v":0},{"$f":"IF(M7=0,IF(ISNA(MATCH(D7,'اطلاعات افراد غیر حقوق بگیر'!A:A,0)),0,LOOKUP(D7,'اطلاعات افراد غیر حقوق بگیر'!A:A,'اطلاعات افراد غیر حقوق بگیر'!F:F)),IF(H7=31,Settings!$D$13,ROUND(M7,0)))","v":0},null,0,{"$f":"IF(ISNA(MATCH(D7,Master!D:D,0)),IF(ISNA(MATCH(D7,'اطلاعات افراد غیر حقوق بگیر'!A:A,0)),0,LOOKUP(D7,'اطلاعات افراد غیر حقوق بگیر'!A:A,'اطلاعات افراد غیر حقوق بگیر'!G:G)),LOOKUP(D7,Master!D:D,Master!J:J))","v":0},{"$error":"#N/A"},0,0,{"$f":"IF(O7>#REF!,\"اخطار ساعت اضافه کار از حداکثر بیشتر است\",\" \")","v":{"$error":"#REF!"}},{"$f":"IF(O7>#REF!,1,0)","v":{"$error":"#REF!"}},4,2.5]
[5,{"$f":"IF(D8=0,\"\",Settings!$D$6)","v":""},{"$f":"IF(D8=0,\"\",LOOKUP(B8,'Rigion Code'!A:A,'Rigion Code'!B:B))","v":""},null,{"$f":"IF(D8=0,\" \",IF(ISNA(MATCH(D8,Personnel!A:A,0)),IF(ISNA(MATCH(D8,'اطلاعات افراد غیر حقوق بگیر'!A:A,0)),\"وجود ندارد\",LOOKUP(Edit!D8,'اطلاعات افراد غیر حقوق بگیر'!A:A,'اطلاعات افراد غیر حقوق بگیر'!B:B)),LOOKUP(D8,Personnel!A:A,Personnel!C:C)))","v":" "},{"$f":"IF(D8=0,\" \",IF(ISNA(MATCH(D8,Personnel!A:A,0)),IF(ISNA(MATCH(D8,'اطلاعات افراد غیر حقوق بگیر'!A:A,0)),\"وجود ندارد\",LOOKUP(D8,'اطلاعات افراد غیر حقوق بگیر'!A:A,'اطلاعات افراد غیر حقوق بگیر'!C:C)),LOOKUP(D8,Personnel!A:A,Personnel!B:B)))","v":" "},{"$f":"IF(D8=0,0,IF(ISNA(MATCH(D8,Personnel!A:A,0)),IF(ISNA(MATCH(D8,'اطلاعات افراد غیر حقوق بگیر'!A:A,0)),\"وجود ندارد\",LOOKUP(D8,'اطلاعات افراد غیر حقوق بگیر'!A:A,'اطلاعات افراد غیر حقوق بگیر'!D:D)),LOOKUP(D8,Master!D:D,Master!CD:CD)))","v":0},{"$f":"IF(D8=0,\" \",IF(ISNA(MATCH(D8,Personnel!A:A,0)),IF(ISNA(MATCH(D8,'اطلاعات افراد غیر حقوق بگیر'!A:A,0)),\"وجود ندارد\",LOOKUP(D8,'اطلاعات افراد غیر حقوق بگیر'!A:A,'اطلاعات افراد غیر حقوق بگیر'!E:E)),LOOKUP(D8,Master!D:D,Master!AH:AH)))","v":" "},{"$f":"SUMIFS(Pays!G:G,Pays!E:E,1,Pays!D:D,D8)","v":0},{"$f":"SUMIFS(Pays!G:G,Pays!E:E,2,Pays!D:D,D8)","v":0},{"$f":"SUMIFS(Pays!G:G,Pays!E:E,57,Pays!D:D,D8)","v":0},{"$f":"SUMIF(Pays!D:D,D8,Pays!G:G)","v":0},{"$f":"SUMIF(Pays!D:D,D8,Pays!G:G)/176","v":0},{"$f":"IF(M8=0,IF(ISNA(MATCH(D8,'اطلاعات افراد غیر حقوق بگیر'!A:A,0)),0,LOOKUP(D8,'اطلاعات افراد غیر حقوق بگیر'!A:A,'اطلاعات افراد غیر حقوق بگیر'!F:F)),IF(H8=31,Settings!$D$13,ROUND(M8,0)))","v":0},null,0,{"$f":"IF(ISNA(MATCH(D8,Master!D:D,0)),IF(ISNA(MATCH(D8,'اطلاعات افراد غیر حقوق بگیر'!A:A,0)),0,LOOKUP(D8,'اطلاعات افراد غیر حقوق بگیر'!A:A,'اطلاعات افراد غیر حقوق بگیر'!G:G)),LOOKUP(D8,Master!D:D,Master!J:J))","v":0},{"$error":"#N/A"},0,0,{"$f":"IF(O8>#REF!,\"اخطار ساعت اضافه کار از حداکثر بیشتر است\",\" \")","v":{"$error":"#REF!"}},{"$f":"IF(O8>#REF!,1,0)","v":{"$error":"#REF!"}},9,10]
[6,{"$f":"IF(D9=0,\"\",Settings!$D$6)","v":""},{"$f":"IF(D9=0,\"\",LOOKUP(B9,'Rigion Code'!A:A,'Rigion Code'!B:B))","v":""},null,{"$f":"IF(D9=0,\" \",IF(ISNA(MATCH(D9,Personnel!A:A,0)),IF(ISNA(MATCH(D9,'اطلاعات افراد غیر حقوق بگیر'!A:A,0)),\"وجود ندارد\",LOOKUP(Edit!D9,'اطلاعات افراد غیر حقوق بگیر'!A:A,'اطلاعات افراد غیر حقوق بگیر'!B:B)),LOOKUP(D9,Personnel!A:A,Personnel!C:C)))","v":" "},{"$f":"IF(D9=0,\" \",IF(ISNA(MATCH(D9,Personnel!A:A,0)),IF(ISNA(MATCH(D9,'اطلاعات افراد غیر حقوق بگیر'!A:A,0)),\"وجود ندارد\",LOOKUP(D9,'اطلاعات افراد غیر حقوق بگیر'!A:A,'اطلاعات افراد غیر حقوق بگیر'!C:C)),LOOKUP(D9,Personnel!A:A,Personnel!B:B)))","v":" "},{"$f":"IF(D9=0,0,IF(ISNA(MATCH(D9,Personnel!A:A,0)),IF(ISNA(MATCH(D9,'اطلاعات افراد غیر حقوق بگیر'!A:A,0)),\"وجود ندارد\",LOOKUP(D9,'اطلاعات افراد غیر حقوق بگیر'!A:A,'اطلاعات افراد غیر حقوق بگیر'!D:D)),LOOKUP(D9,Master!D:D,Master!CD:CD)))","v":0},{"$f":"IF(D9=0,\" \",IF(ISNA(MATCH(D9,Personnel!A:A,0)),IF(ISNA(MATCH(D9,'اطلاعات افراد غیر حقوق بگیر'!A:A,0)),\"وجود ندارد\",LOOKUP(D9,'اطلاعات افراد غیر حقوق بگیر'!A:A,'اطلاعات افراد غیر حقوق بگیر'!E:E)),LOOKUP(D9,Master!D:D,Master!AH:AH)))","v":" "},{"$f":"SUMIFS(Pays!G:G,Pays!E:E,1,Pays!D:D,D9)","v":0},{"$f":"SUMIFS(Pays!G:G,Pays!E:E,2,Pays!D:D,D9)","v":0},{"$f":"SUMIFS(Pays!G:G,Pays!E:E,57,Pays!D:D,D9)","v":0},{"$f":"SUMIF(Pays!D:D,D9,Pays!G:G)","v":0},{"$f":"SUMIF(Pays!D:D,D9,Pays!G:G)/176","v":0},{"$f":"IF(M9=0,IF(ISNA(MATCH(D9,'اطلاعات افراد غیر حقوق بگیر'!A:A,0)),0,LOOKUP(D9,'اطلاعات افراد غیر حقوق بگیر'!A:A,'اطلاعات افراد غیر حقوق بگیر'!F:F)),IF(H9=31,Settings!$D$13,ROUND(M9,0)))","v":0},null,0,{"$f":"IF(ISNA(MATCH(D9,Master!D:D,0)),IF(ISNA(MATCH(D9,'اطلاعات افراد غیر حقوق بگیر'!A:A,0)),0,LOOKUP(D9,'اطلاعات افراد غیر حقوق بگیر'!A:A,'اطلاعات افراد غیر حقوق بگیر'!G:G)),LOOKUP(D9,Master!D:D,Master!J:J))","v":0},{"$error":"#N/A"},0,0,{"$f":"IF(O9>#REF!,\"اخطار ساعت اضافه کار از حداکثر بیشتر است\",\" \")","v":{"$error":"#REF!"}},{"$f":"IF(O9>#REF!,1,0)","v":{"$error":"#REF!"}},10,0]
[7,{"$f":"IF(D10=0,\"\",Settings!$D$6)","v":""},{"$f":"IF(D10=0,\"\",LOOKUP(B10,'Rigion Code'!A:A,'Rigion Code'!B:B))","v":""},null,{"$f":"IF(D10=0,\" \",IF(ISNA(MATCH(D10,Personnel!A:A,0)),IF(ISNA(MATCH(D10,'اطلاعات افراد غیر حقوق بگیر'!A:A,0)),\"وجود ندارد\",LOOKUP(Edit!D10,'اطلاعات افراد غیر حقوق بگیر'!A:A,'اطلاعات افراد غیر حقوق بگیر'!B:B)),LOOKUP(D10,Personnel!A:A,Personnel!C:C)))","v":" "},{"$f":"IF(D10=0,\" \",IF(ISNA(MATCH(D10,Personnel!A:A,0)),IF(ISNA(MATCH(D10,'اطلاعات افراد غیر حقوق بگیر'!A:A,0)),\"وجود ندارد\",LOOKUP(D10,'اطلاعات افراد غیر حقوق بگیر'!A:A,'اطلاعات افراد غیر حقوق بگیر'!C:C)),LOOKUP(D10,Personnel!A:A,Personnel!B:B)))","v":" "},{"$f":"IF(D10=0,0,IF(ISNA(MATCH(D10,Personnel!A:A,0)),IF(ISNA(MATCH(D10,'اطلاعات افراد غیر حقوق بگیر'!A:A,0)),\"وجود ندارد\",LOOKUP(D10,'اطلاعات افراد غیر حقوق بگیر'!A:A,'اطلاعات افراد غیر حقوق بگیر'!D:D)),LOOKUP(D10,Master!D:D,Master!CD:CD)))","v":0},{"$f":"IF(D10=0,\" \",IF(ISNA(MATCH(D10,Personnel!A:A,0)),IF(ISNA(MATCH(D10,'اطلاعات افراد غیر حقوق بگیر'!A:A,0)),\"وجود ندارد\",LOOKUP(D10,'اطلاعات افراد غیر حقوق بگیر'!A:A,'اطلاعات افراد غیر حقوق بگیر'!E:E)),LOOKUP(D10,Master!D:D,Master!AH:AH)))","v":" "},{"$f":"SUMIFS(Pays!G:G,Pays!E:E,1,Pays!D:D,D10)","v":0},{"$f":"SUMIFS(Pays!G:G,Pays!E:E,2,Pays!D:D,D10)","v":0},{"$f":"SUMIFS(Pays!G:G,Pays!E:E,57,Pays!D:D,D10)","v":0},{"$f":"SUMIF(Pays!D:D,D10,Pays!G:G)","v":0},{"$f":"SUMIF(Pays!D:D,D10,Pays!G:G)/176","v":0},{"$f":"IF(M10=0,IF(ISNA(MATCH(D10,'اطلاعات افراد غیر حقوق بگیر'!A:A,0)),0,LOOKUP(D10,'اطلاعات افراد غیر حقوق بگیر'!A:A,'اطلاعات افراد غیر حقوق بگیر'!F:F)),IF(H10=31,Settings!$D$13,ROUND(M10,0)))","v":0},null,0,{"$f":"IF(ISNA(MATCH(D10,Master!D:D,0)),IF(ISNA(MATCH(D10,'اطلاعات افراد غیر حقوق بگیر'!A:A,0)),0,LOOKUP(D10,'اطلاعات افراد غیر حقوق بگیر'!A:A,'اطلاعات افراد غیر حقوق بگیر'!G:G)),LOOKUP(D10,Master!D:D,Master!J:J))","v":0},{"$error":"#N/A"},0,0,{"$f":"IF(O10>#REF!,\"اخطار ساعت اضافه کار از حداکثر بیشتر است\",\" \")","v":{"$error":"#REF!"}},{"$f":"IF(O10>#REF!,1,0)","v":{"$error":"#REF!"}},11,5]
[8,{"$f":"IF(D11=0,\"\",Settings!$D$6)","v":""},{"$f":"IF(D11=0,\"\",LOOKUP(B11,'Rigion Code'!A:A,'Rigion Code'!B:B))","v":""},null,{"$f":"IF(D11=0,\" \",IF(ISNA(MATCH(D11,Personnel!A:A,0)),IF(ISNA(MATCH(D11,'اطلاعات افراد غیر حقوق بگیر'!A:A,0)),\"وجود ندارد\",LOOKUP(Edit!D11,'اطلاعات افراد غیر حقوق بگیر'!A:A,'اطلاعات افراد غیر حقوق بگیر'!B:B)),LOOKUP(D11,Personnel!A:A,Personnel!C:C)))","v":" "},{"$f":"IF(D11=0,\" \",IF(ISNA(MATCH(D11,Personnel!A:A,0)),IF(ISNA(MATCH(D11,'اطلاعات افراد غیر حقوق بگیر'!A:A,0)),\"وجود ندارد\",LOOKUP(D11,'اطلاعات افراد غیر حقوق بگیر'!A:A,'اطلاعات افراد غیر حقوق بگیر'!C:C)),LOOKUP(D11,Personnel!A:A,Personnel!B:B)))","v":" "},{"$f":"IF(D11=0,0,IF(ISNA(MATCH(D11,Personnel!A:A,0)),IF(ISNA(MATCH(D11,'اطلاعات افراد غیر حقوق بگیر'!A:A,0)),\"وجود ندارد\",LOOKUP(D11,'اطلاعات افراد غیر حقوق بگیر'!A:A,'اطلاعات افراد غیر حقوق بگیر'!D:D)),LOOKUP(D11,Master!D:D,Master!CD:CD)))","v":0},{"$f":"IF(D11=0,\" \",IF(ISNA(MATCH(D11,Personnel!A:A,0)),IF(ISNA(MATCH(D11,'اطلاعات افراد غیر حقوق بگیر'!A:A,0)),\"وجود ندارد\",LOOKUP(D11,'اطلاعات افراد غیر حقوق بگیر'!A:A,'اطلاعات افراد غیر حقوق بگیر'!E:E)),LOOKUP(D11,Master!D:D,Master!AH:AH)))","v":" "},{"$f":"SUMIFS(Pays!G:G,Pays!E:E,1,Pays!D:D,D11)","v":0},{"$f":"SUMIFS(Pays!G:G,Pays!E:E,2,Pays!D:D,D11)","v":0},{"$f":"SUMIFS(Pays!G:G,Pays!E:E,57,Pays!D:D,D11)","v":0},{"$f":"SUMIF(Pays!D:D,D11,Pays!G:G)","v":0},{"$f":"SUMIF(Pays!D:D,D11,Pays!G:G)/176","v":0},{"$f":"IF(M11=0,IF(ISNA(MATCH(D11,'اطلاعات افراد غیر حقوق بگیر'!A:A,0)),0,LOOKUP(D11,'اطلاعات افراد غیر حقوق بگیر'!A:A,'اطلاعات افراد غیر حقوق بگیر'!F:F)),IF(H11=31,Settings!$D$13,ROUND(M11,0)))","v":0},null,0,{"$f":"IF(ISNA(MATCH(D11,Master!D:D,0)),IF(ISNA(MATCH(D11,'اطلاعات افراد غیر حقوق بگیر'!A:A,0)),0,LOOKUP(D11,'اطلاعات افراد غیر حقوق بگیر'!A:A,'اطلاعات افراد غیر حقوق بگیر'!G:G)),LOOKUP(D11,Master!D:D,Master!J:J))","v":0},{"$error":"#N/A"},0,0,{"$f":"IF(O11>#REF!,\"اخطار ساعت اضافه کار از حداکثر بیشتر است\",\" \")","v":{"$error":"#REF!"}},{"$f":"IF(O11>#REF!,1,0)","v":{"$error":"#REF!"}},12,2.5]
[9,{"$f":"IF(D12=0,\"\",Settings!$D$6)","v":""},{"$f":"IF(D12=0,\"\",LOOKUP(B12,'Rigion Code'!A:A,'Rigion Code'!B:B))","v":""},null,{"$f":"IF(D12=0,\" \",IF(ISNA(MATCH(D12,Personnel!A:A,0)),IF(ISNA(MATCH(D12,'اطلاعات افراد غیر حقوق بگیر'!A:A,0)),\"وجود ندارد\",LOOKUP(Edit!D12,'اطلاعات افراد غیر حقوق بگیر'!A:A,'اطلاعات افراد غیر حقوق بگیر'!B:B)),LOOKUP(D12,Personnel!A:A,Personnel!C:C)))","v":" "},{"$f":"IF(D12=0,\" \",IF(ISNA(MATCH(D12,Personnel!A:A,0)),IF(ISNA(MATCH(D12,'اطلاعات افراد غیر حقوق بگیر'!A:A,0)),\"وجود ندارد\",LOOKUP(D12,'اطلاعات افراد غیر حقوق بگیر'!A:A,'اطلاعات افراد غیر حقوق بگیر'!C:C)),LOOKUP(D12,Personnel!A:A,Personnel!B:B)))","v":" "},{"$f":"IF(D12=0,0,IF(ISNA(MATCH(D12,Personnel!A:A,0)),IF(ISNA(MATCH(D12,'اطلاعات افراد غیر حقوق بگیر'!A:A,0)),\"وجود ندارد\",LOOKUP(D12,'اطلاعات افراد غیر حقوق بگیر'!A:A,'اطلاعات افراد غیر حقوق بگیر'!D:D)),LOOKUP(D12,Master!D:D,Master!CD:CD)))","v":0},{"$f":"IF(D12=0,\" \",IF(ISNA(MATCH(D12,Personnel!A:A,0)),IF(ISNA(MATCH(D12,'اطلاعات افراد غیر حقوق بگیر'!A:A,0)),\"وجود ندارد\",LOOKUP(D12,'اطلاعات افراد غیر حقوق بگیر'!A:A,'اطلاعات افراد غیر حقوق بگیر'!E:E)),LOOKUP(D12,Master!D:D,Master!AH:AH)))","v":" "},{"$f":"SUMIFS(Pays!G:G,Pays!E:E,1,Pays!D:D,D12)","v":0},{"$f":"SUMIFS(Pays!G:G,Pays!E:E,2,Pays!D:D,D12)","v":0},{"$f":"SUMIFS(Pays!G:G,Pays!E:E,57,Pays!D:D,D12)","v":0},{"$f":"SUMIF(Pays!D:D,D12,Pays!G:G)","v":0},{"$f":"SUMIF(Pays!D:D,D12,Pays!G:G)/176","v":0},{"$f":"IF(M12=0,IF(ISNA(MATCH(D12,'اطلاعات افراد غیر حقوق بگیر'!A:A,0)),0,LOOKUP(D12,'اطلاعات افراد غیر حقوق بگیر'!A:A,'اطلاعات افراد غیر حقوق بگیر'!F:F)),IF(H12=31,Settings!$D$13,ROUND(M12,0)))","v":0},null,0,{"$f":"IF(ISNA(MATCH(D12,Master!D:D,0)),IF(ISNA(MATCH(D12,'اطلاعات افراد غیر حقوق بگیر'!A:A,0)),0,LOOKUP(D12,'اطلاعات افراد غیر حقوق بگیر'!A:A,'اطلاعات افراد غیر حقوق بگیر'!G:G)),LOOKUP(D12,Master!D:D,Master!J:J))","v":0},{"$error":"#N/A"},0,0,{"$f":"IF(O12>#REF!,\"اخطار ساعت اضافه کار از حداکثر بیشتر است\",\" \")","v":{"$error":"#REF!"}},{"$f":"IF(O12>#REF!,1,0)","v":{"$error":"#REF!"}},13,0]
[10,{"$f":"IF(D13=0,\"\",Settings!$D$6)","v":""},{"$f":"IF(D13=0,\"\",LOOKUP(B13,'Rigion Code'!A:A,'Rigion Code'!B:B))","v":""},null,{"$f":"IF(D13=0,\" \",IF(ISNA(MATCH(D13,Personnel!A:A,0)),IF(ISNA(MATCH(D13,'اطلاعات افراد غیر حقوق بگیر'!A:A,0)),\"وجود ندارد\",LOOKUP(Edit!D13,'اطلاعات افراد غیر حقوق بگیر'!A:A,'اطلاعات افراد غیر حقوق بگیر'!B:B)),LOOKUP(D13,Personnel!A:A,Personnel!C:C)))","v":" "},{"$f":"IF(D13=0,\" \",IF(ISNA(MATCH(D13,Personnel!A:A,0)),IF(ISNA(MATCH(D13,'اطلاعات افراد غیر حقوق بگیر'!A:A,0)),\"وجود ندارد\",LOOKUP(D13,'اطلاعات افراد غیر حقوق بگیر'!A:A,'اطلاعات افراد غیر حقوق بگیر'!C:C)),LOOKUP(D13,Personnel!A:A,Personnel!B:B)))","v":" "},{"$f":"IF(D13=0,0,IF(ISNA(MATCH(D13,Personnel!A:A,0)),IF(ISNA(MATCH(D13,'اطلاعات افراد غیر حقوق بگیر'!A:A,0)),\"وجود ندارد\",LOOKUP(D13,'اطلاعات افراد غیر حقوق بگیر'!A:A,'اطلاعات افراد غیر حقوق بگیر'!D:D)),LOOKUP(D13,Master!D:D,Master!CD:CD)))","v":0},{"$f":"IF(D13=0,\" \",IF(ISNA(MATCH(D13,Personnel!A:A,0)),IF(ISNA(MATCH(D13,'اطلاعات افراد غیر حقوق بگیر'!A:A,0)),\"وجود ندارد\",LOOKUP(D13,'اطلاعات افراد غیر حقوق بگیر'!A:A,'اطلاعات افراد غیر حقوق بگیر'!E:E)),LOOKUP(D13,Master!D:D,Master!AH:AH)))","v":" "},{"$f":"SUMIFS(Pays!G:G,Pays!E:E,1,Pays!D:D,D13)","v":0},{"$f":"SUMIFS(Pays!G:G,Pays!E:E,2,Pays!D:D,D13)","v":0},{"$f":"SUMIFS(Pays!G:G,Pays!E:E,57,Pays!D:D,D13)","v":0},{"$f":"SUMIF(Pays!D:D,D13,Pays!G:G)","v":0},{"$f":"SUMIF(Pays!D:D,D13,Pays!G:G)/176","v":0},{"$f":"IF(M13=0,IF(ISNA(MATCH(D13,'اطلاعات افراد غیر حقوق بگیر'!A:A,0)),0,LOOKUP(D13,'اطلاعات افراد غیر حقوق بگیر'!A:A,'اطلاعات افراد غیر حقوق بگیر'!F:F)),IF(H13=31,Settings!$D$13,ROUND(M13,0)))","v":0},null,0,{"$f":"IF(ISNA(MATCH(D13,Master!D:D,0)),IF(ISNA(MATCH(D13,'اطلاعات افراد غیر حقوق بگیر'!A:A,0)),0,LOOKUP(D13,'اطلاعات افراد غیر حقوق بگیر'!A:A,'اطلاعات افراد غیر حقوق بگیر'!G:G)),LOOKUP(D13,Master!D:D,Master!J:J))","v":0},{"$error":"#N/A"},0,0,{"$f":"IF(O13>#REF!,\"اخطار ساعت اضافه کار از حداکثر بیشتر است\",\" \")","v":{"$error":"#REF!"}},{"$f":"IF(O13>#REF!,1,0)","v":{"$error":"#REF!"}}]
[11,{"$f":"IF(D14=0,\"\",Settings!$D$6)","v":""},{"$f":"IF(D14=0,\"\",LOOKUP(B14,'Rigion Code'!A:A,'Rigion Code'!B:B))","v":""},null,{"$f":"IF(D14=0,\" \",IF(ISNA(MATCH(D14,Personnel!A:A,0)),IF(ISNA(MATCH(D14,'اطلاعات افراد غیر حقوق بگیر'!A:A,0)),\"وجود ندارد\",LOOKUP(Edit!D14,'اطلاعات افراد غیر حقوق بگیر'!A:A,'اطلاعات افراد غیر حقوق بگیر'!B:B)),LOOKUP(D14,Personnel!A:A,Personnel!C:C)))","v":" "},{"$f":"IF(D14=0,\" \",IF(ISNA(MATCH(D14,Personnel!A:A,0)),IF(ISNA(MATCH(D14,'اطلاعات افراد غیر حقوق بگیر'!A:A,0)),\"وجود ندارد\",LOOKUP(D14,'اطلاعات افراد غیر حقوق بگیر'!A:A,'اطلاعات افراد غیر حقوق بگیر'!C:C)),LOOKUP(D14,Personnel!A:A,Personnel!B:B)))","v":" "},{"$f":"IF(D14=0,0,IF(ISNA(MATCH(D14,Personnel!A:A,0)),IF(ISNA(MATCH(D14,'اطلاعات افراد غیر حقوق بگیر'!A:A,0)),\"وجود ندارد\",LOOKUP(D14,'اطلاعات افراد غیر حقوق بگیر'!A:A,'اطلاعات افراد غیر حقوق بگیر'!D:D)),LOOKUP(D14,Master!D:D,Master!CD:CD)))","v":0},{"$f":"IF(D14=0,\" \",IF(ISNA(MATCH(D14,Personnel!A:A,0)),IF(ISNA(MATCH(D14,'اطلاعات افراد غیر حقوق بگیر'!A:A,0)),\"وجود ندارد\",LOOKUP(D14,'اطلاعات افراد غیر حقوق بگیر'!A:A,'اطلاعات افراد غیر حقوق بگیر'!E:E)),LOOKUP(D14,Master!D:D,Master!AH:AH)))","v":" "},{"$f":"SUMIFS(Pays!G:G,Pays!E:E,1,Pays!D:D,D14)","v":0},{"$f":"SUMIFS(Pays!G:G,Pays!E:E,2,Pays!D:D,D14)","v":0},{"$f":"SUMIFS(Pays!G:G,Pays!E:E,57,Pays!D:D,D14)","v":0},{"$f":"SUMIF(Pays!D:D,D14,Pays!G:G)","v":0},{"$f":"SUMIF(Pays!D:D,D14,Pays!G:G)/176","v":0},{"$f":"IF(M14=0,IF(ISNA(MATCH(D14,'اطلاعات افراد غیر حقوق بگیر'!A:A,0)),0,LOOKUP(D14,'اطلاعات افراد غیر حقوق بگیر'!A:A,'اطلاعات افراد غیر حقوق بگیر'!F:F)),IF(H14=31,Settings!$D$13,ROUND(M14,0)))","v":0},null,0,{"$f":"IF(ISNA(MATCH(D14,Master!D:D,0)),IF(ISNA(MATCH(D14,'اطلاعات افراد غیر حقوق بگیر'!A:A,0)),0,LOOKUP(D14,'اطلاعات افراد غیر حقوق بگیر'!A:A,'اطلاعات افراد غیر حقوق بگیر'!G:G)),LOOKUP(D14,Master!D:D,Master!J:J))","v":0},{"$error":"#N/A"},0,0,{"$f":"IF(O14>#REF!,\"اخطار ساعت اضافه کار از حداکثر بیشتر است\",\" \")","v":{"$error":"#REF!"}},{"$f":"IF(O14>#REF!,1,0)","v":{"$error":"#REF!"}}]
[12,{"$f":"IF(D15=0,\"\",Settings!$D$6)","v":""},{"$f":"IF(D15=0,\"\",LOOKUP(B15,'Rigion Code'!A:A,'Rigion Code'!B:B))","v":""},null,{"$f":"IF(D15=0,\" \",IF(ISNA(MATCH(D15,Personnel!A:A,0)),IF(ISNA(MATCH(D15,'اطلاعات افراد غیر حقوق بگیر'!A:A,0)),\"وجود ندارد\",LOOKUP(Edit!D15,'اطلاعات افراد غیر حقوق بگیر'!A:A,'اطلاعات افراد غیر حقوق بگیر'!B:B)),LOOKUP(D15,Personnel!A:A,Personnel!C:C)))","v":" "},{"$f":"IF(D15=0,\" \",IF(ISNA(MATCH(D15,Personnel!A:A,0)),IF(ISNA(MATCH(D15,'اطلاعات افراد غیر حقوق بگیر'!A:A,0)),\"وجود ندارد\",LOOKUP(D15,'اطلاعات افراد غیر حقوق بگیر'!A:A,'اطلاعات افراد غیر حقوق بگیر'!C:C)),LOOKUP(D15,Personnel!A:A,Personnel!B:B)))","v":" "},{"$f":"IF(D15=0,0,IF(ISNA(MATCH(D15,Personnel!A:A,0)),IF(ISNA(MATCH(D15,'اطلاعات افراد غیر حقوق بگیر'!A:A,0)),\"وجود ندارد\",LOOKUP(D15,'اطلاعات افراد غیر حقوق بگیر'!A:A,'اطلاعات افراد غیر حقوق بگیر'!D:D)),LOOKUP(D15,Master!D:D,Master!CD:CD)))","v":0},{"$f":"IF(D15=0,\" \",IF(ISNA(MATCH(D15,Personnel!A:A,0)),IF(ISNA(MATCH(D15,'اطلاعات افراد غیر حقوق بگیر'!A:A,0)),\"وجود ندارد\",LOOKUP(D15,'اطلاعات افراد غیر حقوق بگیر'!A:A,'اطلاعات افراد غیر حقوق بگیر'!E:E)),LOOKUP(D15,Master!D:D,Master!AH:AH)))","v":" "},{"$f":"SUMIFS(Pays!G:G,Pays!E:E,1,Pays!D:D,D15)","v":0},{"$f":"SUMIFS(Pays!G:G,Pays!E:E,2,Pays!D:D,D15)","v":0},{"$f":"SUMIFS(Pays!G:G,Pays!E:E,57,Pays!D:D,D15)","v":0},{"$f":"SUMIF(Pays!D:D,D15,Pays!G:G)","v":0},{"$f":"SUMIF(Pays!D:D,D15,Pays!G:G)/176","v":0},{"$f":"IF(M15=0,IF(ISNA(MATCH(D15,'اطلاعات افراد غیر حقوق بگیر'!A:A,0)),0,LOOKUP(D15,'اطلاعات افراد غیر حقوق بگیر'!A:A,'اطلاعات افراد غیر حقوق بگیر'!F:F)),IF(H15=31,Settings!$D$13,ROUND(M15,0)))","v":0},null,0,{"$f":"IF(ISNA(MATCH(D15,Master!D:D,0)),IF(ISNA(MATCH(D15,'اطلاعات افراد غیر حقوق بگیر'!A:A,0)),0,LOOKUP(D15,'اطلاعات افراد غیر حقوق بگیر'!A:A,'اطلاعات افراد غیر حقوق بگیر'!G:G)),LOOKUP(D15,Master!D:D,Master!J:J))","v":0},{"$error":"#N/A"},0,0,{"$f":"IF(O15>#REF!,\"اخطار ساعت اضافه کار از حداکثر بیشتر است\",\" \")","v":{"$error":"#REF!"}},{"$f":"IF(O15>#REF!,1,0)","v":{"$error":"#REF!"}}]
[13,{"$f":"IF(D16=0,\"\",Settings!$D$6)","v":""},{"$f":"IF(D16=0,\"\",LOOKUP(B16,'Rigion Code'!A:A,'Rigion Code'!B:B))","v":""},null,{"$f":"IF(D16=0,\" \",IF(ISNA(MATCH(D16,Personnel!A:A,0)),IF(ISNA(MATCH(D16,'اطلاعات افراد غیر حقوق بگیر'!A:A,0)),\"وجود ندارد\",LOOKUP(Edit!D16,'اطلاعات افراد غیر حقوق بگیر'!A:A,'اطلاعات افراد غیر حقوق بگیر'!B:B)),LOOKUP(D16,Personnel!A:A,Personnel!C:C)))","v":" "},{"$f":"IF(D16=0,\" \",IF(ISNA(MATCH(D16,Personnel!A:A,0)),IF(ISNA(MATCH(D16,'اطلاعات افراد غیر حقوق بگیر'!A:A,0)),\"وجود ندارد\",LOOKUP(D16,'اطلاعات افراد غیر حقوق بگیر'!A:A,'اطلاعات افراد غیر حقوق بگیر'!C:C)),LOOKUP(D16,Personnel!A:A,Personnel!B:B)))","v":" "},{"$f":"IF(D16=0,0,IF(ISNA(MATCH(D16,Personnel!A:A,0)),IF(ISNA(MATCH(D16,'اطلاعات افراد غیر حقوق بگیر'!A:A,0)),\"وجود ندارد\",LOOKUP(D16,'اطلاعات افراد غیر حقوق بگیر'!A:A,'اطلاعات افراد غیر حقوق بگیر'!D:D)),LOOKUP(D16,Master!D:D,Master!CD:CD)))","v":0},{"$f":"IF(D16=0,\" \",IF(ISNA(MATCH(D16,Personnel!A:A,0)),IF(ISNA(MATCH(D16,'اطلاعات افراد غیر حقوق بگیر'!A:A,0)),\"وجود ندارد\",LOOKUP(D16,'اطلاعات افراد غیر حقوق بگیر'!A:A,'اطلاعات افراد غیر حقوق بگیر'!E:E)),LOOKUP(D16,Master!D:D,Master!AH:AH)))","v":" "},{"$f":"SUMIFS(Pays!G:G,Pays!E:E,1,Pays!D:D,D16)","v":0},{"$f":"SUMIFS(Pays!G:G,Pays!E:E,2,Pays!D:D,D16)","v":0},{"$f":"SUMIFS(Pays!G:G,Pays!E:E,57,Pays!D:D,D16)","v":0},{"$f":"SUMIF(Pays!D:D,D16,Pays!G:G)","v":0},{"$f":"SUMIF(Pays!D:D,D16,Pays!G:G)/176","v":0},{"$f":"IF(M16=0,IF(ISNA(MATCH(D16,'اطلاعات افراد غیر حقوق بگیر'!A:A,0)),0,LOOKUP(D16,'اطلاعات افراد غیر حقوق بگیر'!A:A,'اطلاعات افراد غیر حقوق بگیر'!F:F)),IF(H16=31,Settings!$D$13,ROUND(M16,0)))","v":0},null,0,{"$f":"IF(ISNA(MATCH(D16,Master!D:D,0)),IF(ISNA(MATCH(D16,'اطلاعات افراد غیر حقوق بگیر'!A:A,0)),0,LOOKUP(D16,'اطلاعات افراد غیر حقوق بگیر'!A:A,'اطلاعات افراد غیر حقوق بگیر'!G:G)),LOOKUP(D16,Master!D:D,Master!J:J))","v":0},{"$error":"#N/A"},0,0,{"$f":"IF(O16>#REF!,\"اخطار ساعت اضافه کار از حداکثر بیشتر است\",\" \")","v":{"$error":"#REF!"}},{"$f":"IF(O16>#REF!,1,0)","v":{"$error":"#REF!"}}]
[14,{"$f":"IF(D17=0,\"\",Settings!$D$6)","v":""},{"$f":"IF(D17=0,\"\",LOOKUP(B17,'Rigion Code'!A:A,'Rigion Code'!B:B))","v":""},null,{"$f":"IF(D17=0,\" \",IF(ISNA(MATCH(D17,Personnel!A:A,0)),IF(ISNA(MATCH(D17,'اطلاعات افراد غیر حقوق بگیر'!A:A,0)),\"وجود ندارد\",LOOKUP(Edit!D17,'اطلاعات افراد غیر حقوق بگیر'!A:A,'اطلاعات افراد غیر حقوق بگیر'!B:B)),LOOKUP(D17,Personnel!A:A,Personnel!C:C)))","v":" "},{"$f":"IF(D17=0,\" \",IF(ISNA(MATCH(D17,Personnel!A:A,0)),IF(ISNA(MATCH(D17,'اطلاعات افراد غیر حقوق بگیر'!A:A,0)),\"وجود ندارد\",LOOKUP(D17,'اطلاعات افراد غیر حقوق بگیر'!A:A,'اطلاعات افراد غیر حقوق بگیر'!C:C)),LOOKUP(D17,Personnel!A:A,Personnel!B:B)))","v":" "},{"$f":"IF(D17=0,0,IF(ISNA(MATCH(D17,Personnel!A:A,0)),IF(ISNA(MATCH(D17,'اطلاعات افراد غیر حقوق بگیر'!A:A,0)),\"وجود ندارد\",LOOKUP(D17,'اطلاعات افراد غیر حقوق بگیر'!A:A,'اطلاعات افراد غیر حقوق بگیر'!D:D)),LOOKUP(D17,Master!D:D,Master!CD:CD)))","v":0},{"$f":"IF(D17=0,\" \",IF(ISNA(MATCH(D17,Personnel!A:A,0)),IF(ISNA(MATCH(D17,'اطلاعات افراد غیر حقوق بگیر'!A:A,0)),\"وجود ندارد\",LOOKUP(D17,'اطلاعات افراد غیر حقوق بگیر'!A:A,'اطلاعات افراد غیر حقوق بگیر'!E:E)),LOOKUP(D17,Master!D:D,Master!AH:AH)))","v":" "},{"$f":"SUMIFS(Pays!G:G,Pays!E:E,1,Pays!D:D,D17)","v":0},{"$f":"SUMIFS(Pays!G:G,Pays!E:E,2,Pays!D:D,D17)","v":0},{"$f":"SUMIFS(Pays!G:G,Pays!E:E,57,Pays!D:D,D17)","v":0},{"$f":"SUMIF(Pays!D:D,D17,Pays!G:G)","v":0},{"$f":"SUMIF(Pays!D:D,D17,Pays!G:G)/176","v":0},{"$f":"IF(M17=0,IF(ISNA(MATCH(D17,'اطلاعات افراد غیر حقوق بگیر'!A:A,0)),0,LOOKUP(D17,'اطلاعات افراد غیر حقوق بگیر'!A:A,'اطلاعات افراد غیر حقوق بگیر'!F:F)),IF(H17=31,Settings!$D$13,ROUND(M17,0)))","v":0},null,0,{"$f":"IF(ISNA(MATCH(D17,Master!D:D,0)),IF(ISNA(MATCH(D17,'اطلاعات افراد غیر حقوق بگیر'!A:A,0)),0,LOOKUP(D17,'اطلاعات افراد غیر حقوق بگیر'!A:A,'اطلاعات افراد غیر حقوق بگیر'!G:G)),LOOKUP(D17,Master!D:D,Master!J:J))","v":0},{"$error":"#N/A"},0,0,{"$f":"IF(O17>#REF!,\"اخطار ساعت اضافه کار از حداکثر بیشتر است\",\" \")","v":{"$error":"#REF!"}},{"$f":"IF(O17>#REF!,1,0)","v":{"$error":"#REF!"}}]
[15,{"$f":"IF(D18=0,\"\",Settings!$D$6)","v":""},{"$f":"IF(D18=0,\"\",LOOKUP(B18,'Rigion Code'!A:A,'Rigion Code'!B:B))","v":""},null,{"$f":"IF(D18=0,\" \",IF(ISNA(MATCH(D18,Personnel!A:A,0)),IF(ISNA(MATCH(D18,'اطلاعات افراد غیر حقوق بگیر'!A:A,0)),\"وجود ندارد\",LOOKUP(Edit!D18,'اطلاعات افراد غیر حقوق بگیر'!A:A,'اطلاعات افراد غیر حقوق بگیر'!B:B)),LOOKUP(D18,Personnel!A:A,Personnel!C:C)))","v":" "},{"$f":"IF(D18=0,\" \",IF(ISNA(MATCH(D18,Personnel!A:A,0)),IF(ISNA(MATCH(D18,'اطلاعات افراد غیر حقوق بگیر'!A:A,0)),\"وجود ندارد\",LOOKUP(D18,'اطلاعات افراد غیر حقوق بگیر'!A:A,'اطلاعات افراد غیر حقوق بگیر'!C:C)),LOOKUP(D18,Personnel!A:A,Personnel!B:B)))","v":" "},{"$f":"IF(D18=0,0,IF(ISNA(MATCH(D18,Personnel!A:A,0)),IF(ISNA(MATCH(D18,'اطلاعات افراد غیر حقوق بگیر'!A:A,0)),\"وجود ندارد\",LOOKUP(D18,'اطلاعات افراد غیر حقوق بگیر'!A:A,'اطلاعات افراد غیر حقوق بگیر'!D:D)),LOOKUP(D18,Master!D:D,Master!CD:CD)))","v":0},{"$f":"IF(D18=0,\" \",IF(ISNA(MATCH(D18,Personnel!A:A,0)),IF(ISNA(MATCH(D18,'اطلاعات افراد غیر حقوق بگیر'!A:A,0)),\"وجود ندارد\",LOOKUP(D18,'اطلاعات افراد غیر حقوق بگیر'!A:A,'اطلاعات افراد غیر حقوق بگیر'!E:E)),LOOKUP(D18,Master!D:D,Master!AH:AH)))","v":" "},{"$f":"SUMIFS(Pays!G:G,Pays!E:E,1,Pays!D:D,D18)","v":0},{"$f":"SUMIFS(Pays!G:G,Pays!E:E,2,Pays!D:D,D18)","v":0},{"$f":"SUMIFS(Pays!G:G,Pays!E:E,57,Pays!D:D,D18)","v":0},{"$f":"SUMIF(Pays!D:D,D18,Pays!G:G)","v":0},{"$f":"SUMIF(Pays!D:D,D18,Pays!G:G)/176","v":0},{"$f":"IF(M18=0,IF(ISNA(MATCH(D18,'اطلاعات افراد غیر حقوق بگیر'!A:A,0)),0,LOOKUP(D18,'اطلاعات افراد غیر حقوق بگیر'!A:A,'اطلاعات افراد غیر حقوق بگیر'!F:F)),IF(H18=31,Settings!$D$13,ROUND(M18,0)))","v":0},null,0,{"$f":"IF(ISNA(MATCH(D18,Master!D:D,0)),IF(ISNA(MATCH(D18,'اطلاعات افراد غیر حقوق بگیر'!A:A,0)),0,LOOKUP(D18,'اطلاعات افراد غیر حقوق بگیر'!A:A,'اطلاعات افراد غیر حقوق بگیر'!G:G)),LOOKUP(D18,Master!D:D,Master!J:J))","v":0},{"$error":"#N/A"},0,0,{"$f":"IF(O18>#REF!,\"اخطار ساعت اضافه کار از حداکثر بیشتر است\",\" \")","v":{"$error":"#REF!"}},{"$f":"IF(O18>#REF!,1,0)","v":{"$error":"#REF!"}}]
[16,{"$f":"IF(D19=0,\"\",Settings!$D$6)","v":""},{"$f":"IF(D19=0,\"\",LOOKUP(B19,'Rigion Code'!A:A,'Rigion Code'!B:B))","v":""},null,{"$f":"IF(D19=0,\" \",IF(ISNA(MATCH(D19,Personnel!A:A,0)),IF(ISNA(MATCH(D19,'اطلاعات افراد غیر حقوق بگیر'!A:A,0)),\"وجود ندارد\",LOOKUP(Edit!D19,'اطلاعات افراد غیر حقوق بگیر'!A:A,'اطلاعات افراد غیر حقوق بگیر'!B:B)),LOOKUP(D19,Personnel!A:A,Personnel!C:C)))","v":" "},{"$f":"IF(D19=0,\" \",IF(ISNA(MATCH(D19,Personnel!A:A,0)),IF(ISNA(MATCH(D19,'اطلاعات افراد غیر حقوق بگیر'!A:A,0)),\"وجود ندارد\",LOOKUP(D19,'اطلاعات افراد غیر حقوق بگیر'!A:A,'اطلاعات افراد غیر حقوق بگیر'!C:C)),LOOKUP(D19,Personnel!A:A,Personnel!B:B)))","v":" "},{"$f":"IF(D19=0,0,IF(ISNA(MATCH(D19,Personnel!A:A,0)),IF(ISNA(MATCH(D19,'اطلاعات افراد غیر حقوق بگیر'!A:A,0)),\"وجود ندارد\",LOOKUP(D19,'اطلاعات افراد غیر حقوق بگیر'!A:A,'اطلاعات افراد غیر حقوق بگیر'!D:D)),LOOKUP(D19,Master!D:D,Master!CD:CD)))","v":0},{"$f":"IF(D19=0,\" \",IF(ISNA(MATCH(D19,Personnel!A:A,0)),IF(ISNA(MATCH(D19,'اطلاعات افراد غیر حقوق بگیر'!A:A,0)),\"وجود ندارد\",LOOKUP(D19,'اطلاعات افراد غیر حقوق بگیر'!A:A,'اطلاعات افراد غیر حقوق بگیر'!E:E)),LOOKUP(D19,Master!D:D,Master!AH:AH)))","v":" "},{"$f":"SUMIFS(Pays!G:G,Pays!E:E,1,Pays!D:D,D19)","v":0},{"$f":"SUMIFS(Pays!G:G,Pays!E:E,2,Pays!D:D,D19)","v":0},{"$f":"SUMIFS(Pays!G:G,Pays!E:E,57,Pays!D:D,D19)","v":0},{"$f":"SUMIF(Pays!D:D,D19,Pays!G:G)","v":0},{"$f":"SUMIF(Pays!D:D,D19,Pays!G:G)/176","v":0},{"$f":"IF(M19=0,IF(ISNA(MATCH(D19,'اطلاعات افراد غیر حقوق بگیر'!A:A,0)),0,LOOKUP(D19,'اطلاعات افراد غیر حقوق بگیر'!A:A,'اطلاعات افراد غیر حقوق بگیر'!F:F)),IF(H19=31,Settings!$D$13,ROUND(M19,0)))","v":0},null,0,{"$f":"IF(ISNA(MATCH(D19,Master!D:D,0)),IF(ISNA(MATCH(D19,'اطلاعات افراد غیر حقوق بگیر'!A:A,0)),0,LOOKUP(D19,'اطلاعات افراد غیر حقوق بگیر'!A:A,'اطلاعات افراد غیر حقوق بگیر'!G:G)),LOOKUP(D19,Master!D:D,Master!J:J))","v":0},{"$error":"#N/A"},0,0,{"$f":"IF(O19>#REF!,\"اخطار ساعت اضافه کار از حداکثر بیشتر است\",\" \")","v":{"$error":"#REF!"}},{"$f":"IF(O19>#REF!,1,0)","v":{"$error":"#REF!"}}]
[17,{"$f":"IF(D20=0,\"\",Settings!$D$6)","v":""},{"$f":"IF(D20=0,\"\",LOOKUP(B20,'Rigion Code'!A:A,'Rigion Code'!B:B))","v":""},null,{"$f":"IF(D20=0,\" \",IF(ISNA(MATCH(D20,Personnel!A:A,0)),IF(ISNA(MATCH(D20,'اطلاعات افراد غیر حقوق بگیر'!A:A,0)),\"وجود ندارد\",LOOKUP(Edit!D20,'اطلاعات افراد غیر حقوق بگیر'!A:A,'اطلاعات افراد غیر حقوق بگیر'!B:B)),LOOKUP(D20,Personnel!A:A,Personnel!C:C)))","v":" "},{"$f":"IF(D20=0,\" \",IF(ISNA(MATCH(D20,Personnel!A:A,0)),IF(ISNA(MATCH(D20,'اطلاعات افراد غیر حقوق بگیر'!A:A,0)),\"وجود ندارد\",LOOKUP(D20,'اطلاعات افراد غیر حقوق بگیر'!A:A,'اطلاعات افراد غیر حقوق بگیر'!C:C)),LOOKUP(D20,Personnel!A:A,Personnel!B:B)))","v":" "},{"$f":"IF(D20=0,0,IF(ISNA(MATCH(D20,Personnel!A:A,0)),IF(ISNA(MATCH(D20,'اطلاعات افراد غیر حقوق بگیر'!A:A,0)),\"وجود ندارد\",LOOKUP(D20,'اطلاعات افراد غیر حقوق بگیر'!A:A,'اطلاعات افراد غیر حقوق بگیر'!D:D)),LOOKUP(D20,Master!D:D,Master!CD:CD)))","v":0},{"$f":"IF(D20=0,\" \",IF(ISNA(MATCH(D20,Personnel!A:A,0)),IF(ISNA(MATCH(D20,'اطلاعات افراد غیر حقوق بگیر'!A:A,0)),\"وجود ندارد\",LOOKUP(D20,'اطلاعات افراد غیر حقوق بگیر'!A:A,'اطلاعات افراد غیر حقوق بگیر'!E:E)),LOOKUP(D20,Master!D:D,Master!AH:AH)))","v":" "},{"$f":"SUMIFS(Pays!G:G,Pays!E:E,1,Pays!D:D,D20)","v":0},{"$f":"SUMIFS(Pays!G:G,Pays!E:E,2,Pays!D:D,D20)","v":0},{"$f":"SUMIFS(Pays!G:G,Pays!E:E,57,Pays!D:D,D20)","v":0},{"$f":"SUMIF(Pays!D:D,D20,Pays!G:G)","v":0},{"$f":"SUMIF(Pays!D:D,D20,Pays!G:G)/176","v":0},{"$f":"IF(M20=0,IF(ISNA(MATCH(D20,'اطلاعات افراد غیر حقوق بگیر'!A:A,0)),0,LOOKUP(D20,'اطلاعات افراد غیر حقوق بگیر'!A:A,'اطلاعات افراد غیر حقوق بگیر'!F:F)),IF(H20=31,Settings!$D$13,ROUND(M20,0)))","v":0},null,0,{"$f":"IF(ISNA(MATCH(D20,Master!D:D,0)),IF(ISNA(MATCH(D20,'اطلاعات افراد غیر حقوق بگیر'!A:A,0)),0,LOOKUP(D20,'اطلاعات افراد غیر حقوق بگیر'!A:A,'اطلاعات افراد غیر حقوق بگیر'!G:G)),LOOKUP(D20,Master!D:D,Master!J:J))","v":0},{"$error":"#N/A"},0,0,{"$f":"IF(O20>#REF!,\"اخطار ساعت اضافه کار از حداکثر بیشتر است\",\" \")","v":{"$error":"#REF!"}},{"$f":"IF(O20>#REF!,1,0)","v":{"$error":"#REF!"}}]
[18,{"$f":"IF(D21=0,\"\",Settings!$D$6)","v":""},{"$f":"IF(D21=0,\"\",LOOKUP(B21,'Rigion Code'!A:A,'Rigion Code'!B:B))","v":""},null,{"$f":"IF(D21=0,\" \",IF(ISNA(MATCH(D21,Personnel!A:A,0)),IF(ISNA(MATCH(D21,'اطلاعات افراد غیر حقوق بگیر'!A:A,0)),\"وجود ندارد\",LOOKUP(Edit!D21,'اطلاعات افراد غیر حقوق بگیر'!A:A,'اطلاعات افراد غیر حقوق بگیر'!B:B)),LOOKUP(D21,Personnel!A:A,Personnel!C:C)))","v":" "},{"$f":"IF(D21=0,\" \",IF(ISNA(MATCH(D21,Personnel!A:A,0)),IF(ISNA(MATCH(D21,'اطلاعات افراد غیر حقوق بگیر'!A:A,0)),\"وجود ندارد\",LOOKUP(D21,'اطلاعات افراد غیر حقوق بگیر'!A:A,'اطلاعات افراد غیر حقوق بگیر'!C:C)),LOOKUP(D21,Personnel!A:A,Personnel!B:B)))","v":" "},{"$f":"IF(D21=0,0,IF(ISNA(MATCH(D21,Personnel!A:A,0)),IF(ISNA(MATCH(D21,'اطلاعات افراد غیر حقوق بگیر'!A:A,0)),\"وجود ندارد\",LOOKUP(D21,'اطلاعات افراد غیر حقوق بگیر'!A:A,'اطلاعات افراد غیر حقوق بگیر'!D:D)),LOOKUP(D21,Master!D:D,Master!CD:CD)))","v":0},{"$f":"IF(D21=0,\" \",IF(ISNA(MATCH(D21,Personnel!A:A,0)),IF(ISNA(MATCH(D21,'اطلاعات افراد غیر حقوق بگیر'!A:A,0)),\"وجود ندارد\",LOOKUP(D21,'اطلاعات افراد غیر حقوق بگیر'!A:A,'اطلاعات افراد غیر حقوق بگیر'!E:E)),LOOKUP(D21,Master!D:D,Master!AH:AH)))","v":" "},{"$f":"SUMIFS(Pays!G:G,Pays!E:E,1,Pays!D:D,D21)","v":0},{"$f":"SUMIFS(Pays!G:G,Pays!E:E,2,Pays!D:D,D21)","v":0},{"$f":"SUMIFS(Pays!G:G,Pays!E:E,57,Pays!D:D,D21)","v":0},{"$f":"SUMIF(Pays!D:D,D21,Pays!G:G)","v":0},{"$f":"SUMIF(Pays!D:D,D21,Pays!G:G)/176","v":0},{"$f":"IF(M21=0,IF(ISNA(MATCH(D21,'اطلاعات افراد غیر حقوق بگیر'!A:A,0)),0,LOOKUP(D21,'اطلاعات افراد غیر حقوق بگیر'!A:A,'اطلاعات افراد غیر حقوق بگیر'!F:F)),IF(H21=31,Settings!$D$13,ROUND(M21,0)))","v":0},null,0,{"$f":"IF(ISNA(MATCH(D21,Master!D:D,0)),IF(ISNA(MATCH(D21,'اطلاعات افراد غیر حقوق بگیر'!A:A,0)),0,LOOKUP(D21,'اطلاعات افراد غیر حقوق بگیر'!A:A,'اطلاعات افراد غیر حقوق بگیر'!G:G)),LOOKUP(D21,Master!D:D,Master!J:J))","v":0},{"$error":"#N/A"},0,0,{"$f":"IF(O21>#REF!,\"اخطار ساعت اضافه کار از حداکثر بیشتر است\",\" \")","v":{"$error":"#REF!"}},{"$f":"IF(O21>#REF!,1,0)","v":{"$error":"#REF!"}}]
[19,{"$f":"IF(D22=0,\"\",Settings!$D$6)","v":""},{"$f":"IF(D22=0,\"\",LOOKUP(B22,'Rigion Code'!A:A,'Rigion Code'!B:B))","v":""},null,{"$f":"IF(D22=0,\" \",IF(ISNA(MATCH(D22,Personnel!A:A,0)),IF(ISNA(MATCH(D22,'اطلاعات افراد غیر حقوق بگیر'!A:A,0)),\"وجود ندارد\",LOOKUP(Edit!D22,'اطلاعات افراد غیر حقوق بگیر'!A:A,'اطلاعات افراد غیر حقوق بگیر'!B:B)),LOOKUP(D22,Personnel!A:A,Personnel!C:C)))","v":" "},{"$f":"IF(D22=0,\" \",IF(ISNA(MATCH(D22,Personnel!A:A,0)),IF(ISNA(MATCH(D22,'اطلاعات افراد غیر حقوق بگیر'!A:A,0)),\"وجود ندارد\",LOOKUP(D22,'اطلاعات افراد غیر حقوق بگیر'!A:A,'اطلاعات افراد غیر حقوق بگیر'!C:C)),LOOKUP(D22,Personnel!A:A,Personnel!B:B)))","v":" "},{"$f":"IF(D22=0,0,IF(ISNA(MATCH(D22,Personnel!A:A,0)),IF(ISNA(MATCH(D22,'اطلاعات افراد غیر حقوق بگیر'!A:A,0)),\"وجود ندارد\",LOOKUP(D22,'اطلاعات افراد غیر حقوق بگیر'!A:A,'اطلاعات افراد غیر حقوق بگیر'!D:D)),LOOKUP(D22,Master!D:D,Master!CD:CD)))","v":0},{"$f":"IF(D22=0,\" \",IF(ISNA(MATCH(D22,Personnel!A:A,0)),IF(ISNA(MATCH(D22,'اطلاعات افراد غیر حقوق بگیر'!A:A,0)),\"وجود ندارد\",LOOKUP(D22,'اطلاعات افراد غیر حقوق بگیر'!A:A,'اطلاعات افراد غیر حقوق بگیر'!E:E)),LOOKUP(D22,Master!D:D,Master!AH:AH)))","v":" "},{"$f":"SUMIFS(Pays!G:G,Pays!E:E,1,Pays!D:D,D22)","v":0},{"$f":"SUMIFS(Pays!G:G,Pays!E:E,2,Pays!D:D,D22)","v":0},{"$f":"SUMIFS(Pays!G:G,Pays!E:E,57,Pays!D:D,D22)","v":0},{"$f":"SUMIF(Pays!D:D,D22,Pays!G:G)","v":0},{"$f":"SUMIF(Pays!D:D,D22,Pays!G:G)/176","v":0},{"$f":"IF(M22=0,IF(ISNA(MATCH(D22,'اطلاعات افراد غیر حقوق بگیر'!A:A,0)),0,LOOKUP(D22,'اطلاعات افراد غیر حقوق بگیر'!A:A,'اطلاعات افراد غیر حقوق بگیر'!F:F)),IF(H22=31,Settings!$D$13,ROUND(M22,0)))","v":0},null,0,{"$f":"IF(ISNA(MATCH(D22,Master!D:D,0)),IF(ISNA(MATCH(D22,'اطلاعات افراد غیر حقوق بگیر'!A:A,0)),0,LOOKUP(D22,'اطلاعات افراد غیر حقوق بگیر'!A:A,'اطلاعات افراد غیر حقوق بگیر'!G:G)),LOOKUP(D22,Master!D:D,Master!J:J))","v":0},{"$error":"#N/A"},0,0,{"$f":"IF(O22>#REF!,\"اخطار ساعت اضافه کار از حداکثر بیشتر است\",\" \")","v":{"$error":"#REF!"}},{"$f":"IF(O22>#REF!,1,0)","v":{"$error":"#REF!"}}]
[20,{"$f":"IF(D23=0,\"\",Settings!$D$6)","v":""},{"$f":"IF(D23=0,\"\",LOOKUP(B23,'Rigion Code'!A:A,'Rigion Code'!B:B))","v":""},null,{"$f":"IF(D23=0,\" \",IF(ISNA(MATCH(D23,Personnel!A:A,0)),IF(ISNA(MATCH(D23,'اطلاعات افراد غیر حقوق بگیر'!A:A,0)),\"وجود ندارد\",LOOKUP(Edit!D23,'اطلاعات افراد غیر حقوق بگیر'!A:A,'اطلاعات افراد غیر حقوق بگیر'!B:B)),LOOKUP(D23,Personnel!A:A,Personnel!C:C)))","v":" "},{"$f":"IF(D23=0,\" \",IF(ISNA(MATCH(D23,Personnel!A:A,0)),IF(ISNA(MATCH(D23,'اطلاعات افراد غیر حقوق بگیر'!A:A,0)),\"وجود ندارد\",LOOKUP(D23,'اطلاعات افراد غیر حقوق بگیر'!A:A,'اطلاعات افراد غیر حقوق بگیر'!C:C)),LOOKUP(D23,Personnel!A:A,Personnel!B:B)))","v":" "},{"$f":"IF(D23=0,0,IF(ISNA(MATCH(D23,Personnel!A:A,0)),IF(ISNA(MATCH(D23,'اطلاعات افراد غیر حقوق بگیر'!A:A,0)),\"وجود ندارد\",LOOKUP(D23,'اطلاعات افراد غیر حقوق بگیر'!A:A,'اطلاعات افراد غیر حقوق بگیر'!D:D)),LOOKUP(D23,Master!D:D,Master!CD:CD)))","v":0},{"$f":"IF(D23=0,\" \",IF(ISNA(MATCH(D23,Personnel!A:A,0)),IF(ISNA(MATCH(D23,'اطلاعات افراد غیر حقوق بگیر'!A:A,0)),\"وجود ندارد\",LOOKUP(D23,'اطلاعات افراد غیر حقوق بگیر'!A:A,'اطلاعات افراد غیر حقوق بگیر'!E:E)),LOOKUP(D23,Master!D:D,Master!AH:AH)))","v":" "},{"$f":"SUMIFS(Pays!G:G,Pays!E:E,1,Pays!D:D,D23)","v":0},{"$f":"SUMIFS(Pays!G:G,Pays!E:E,2,Pays!D:D,D23)","v":0},{"$f":"SUMIFS(Pays!G:G,Pays!E:E,57,Pays!D:D,D23)","v":0},{"$f":"SUMIF(Pays!D:D,D23,Pays!G:G)","v":0},{"$f":"SUMIF(Pays!D:D,D23,Pays!G:G)/176","v":0},{"$f":"IF(M23=0,IF(ISNA(MATCH(D23,'اطلاعات افراد غیر حقوق بگیر'!A:A,0)),0,LOOKUP(D23,'اطلاعات افراد غیر حقوق بگیر'!A:A,'اطلاعات افراد غیر حقوق بگیر'!F:F)),IF(H23=31,Settings!$D$13,ROUND(M23,0)))","v":0},null,0,{"$f":"IF(ISNA(MATCH(D23,Master!D:D,0)),IF(ISNA(MATCH(D23,'اطلاعات افراد غیر حقوق بگیر'!A:A,0)),0,LOOKUP(D23,'اطلاعات افراد غیر حقوق بگیر'!A:A,'اطلاعات افراد غیر حقوق بگیر'!G:G)),LOOKUP(D23,Master!D:D,Master!J:J))","v":0},{"$error":"#N/A"},0,0,{"$f":"IF(O23>#REF!,\"اخطار ساعت اضافه کار از حداکثر بیشتر است\",\" \")","v":{"$error":"#REF!"}},{"$f":"IF(O23>#REF!,1,0)","v":{"$error":"#REF!"}}]
[21,{"$f":"IF(D24=0,\"\",Settings!$D$6)","v":""},{"$f":"IF(D24=0,\"\",LOOKUP(B24,'Rigion Code'!A:A,'Rigion Code'!B:B))","v":""},null,{"$f":"IF(D24=0,\" \",IF(ISNA(MATCH(D24,Personnel!A:A,0)),IF(ISNA(MATCH(D24,'اطلاعات افراد غیر حقوق بگیر'!A:A,0)),\"وجود ندارد\",LOOKUP(Edit!D24,'اطلاعات افراد غیر حقوق بگیر'!A:A,'اطلاعات افراد غیر حقوق بگیر'!B:B)),LOOKUP(D24,Personnel!A:A,Personnel!C:C)))","v":" "},{"$f":"IF(D24=0,\" \",IF(ISNA(MATCH(D24,Personnel!A:A,0)),IF(ISNA(MATCH(D24,'اطلاعات افراد غیر حقوق بگیر'!A:A,0)),\"وجود ندارد\",LOOKUP(D24,'اطلاعات افراد غیر حقوق بگیر'!A:A,'اطلاعات افراد غیر حقوق بگیر'!C:C)),LOOKUP(D24,Personnel!A:A,Personnel!B:B)))","v":" "},{"$f":"IF(D24=0,0,IF(ISNA(MATCH(D24,Personnel!A:A,0)),IF(ISNA(MATCH(D24,'اطلاعات افراد غیر حقوق بگیر'!A:A,0)),\"وجود ندارد\",LOOKUP(D24,'اطلاعات افراد غیر حقوق بگیر'!A:A,'اطلاعات افراد غیر حقوق بگیر'!D:D)),LOOKUP(D24,Master!D:D,Master!CD:CD)))","v":0},{"$f":"IF(D24=0,\" \",IF(ISNA(MATCH(D24,Personnel!A:A,0)),IF(ISNA(MATCH(D24,'اطلاعات افراد غیر حقوق بگیر'!A:A,0)),\"وجود ندارد\",LOOKUP(D24,'اطلاعات افراد غیر حقوق بگیر'!A:A,'اطلاعات افراد غیر حقوق بگیر'!E:E)),LOOKUP(D24,Master!D:D,Master!AH:AH)))","v":" "},{"$f":"SUMIFS(Pays!G:G,Pays!E:E,1,Pays!D:D,D24)","v":0},{"$f":"SUMIFS(Pays!G:G,Pays!E:E,2,Pays!D:D,D24)","v":0},{"$f":"SUMIFS(Pays!G:G,Pays!E:E,57,Pays!D:D,D24)","v":0},{"$f":"SUMIF(Pays!D:D,D24,Pays!G:G)","v":0},{"$f":"SUMIF(Pays!D:D,D24,Pays!G:G)/176","v":0},{"$f":"IF(M24=0,IF(ISNA(MATCH(D24,'اطلاعات افراد غیر حقوق بگیر'!A:A,0)),0,LOOKUP(D24,'اطلاعات افراد غیر حقوق بگیر'!A:A,'اطلاعات افراد غیر حقوق بگیر'!F:F)),IF(H24=31,Settings!$D$13,ROUND(M24,0)))","v":0},null,0,{"$f":"IF(ISNA(MATCH(D24,Master!D:D,0)),IF(ISNA(MATCH(D24,'اطلاعات افراد غیر حقوق بگیر'!A:A,0)),0,LOOKUP(D24,'اطلاعات افراد غیر حقوق بگیر'!A:A,'اطلاعات افراد غیر حقوق بگیر'!G:G)),LOOKUP(D24,Master!D:D,Master!J:J))","v":0},{"$error":"#N/A"},0,0,{"$f":"IF(O24>#REF!,\"اخطار ساعت اضافه کار از حداکثر بیشتر است\",\" \")","v":{"$error":"#REF!"}},{"$f":"IF(O24>#REF!,1,0)","v":{"$error":"#REF!"}}]
[22,{"$f":"IF(D25=0,\"\",Settings!$D$6)","v":""},{"$f":"IF(D25=0,\"\",LOOKUP(B25,'Rigion Code'!A:A,'Rigion Code'!B:B))","v":""},null,{"$f":"IF(D25=0,\" \",IF(ISNA(MATCH(D25,Personnel!A:A,0)),IF(ISNA(MATCH(D25,'اطلاعات افراد غیر حقوق بگیر'!A:A,0)),\"وجود ندارد\",LOOKUP(Edit!D25,'اطلاعات افراد غیر حقوق بگیر'!A:A,'اطلاعات افراد غیر حقوق بگیر'!B:B)),LOOKUP(D25,Personnel!A:A,Personnel!C:C)))","v":" "},{"$f":"IF(D25=0,\" \",IF(ISNA(MATCH(D25,Personnel!A:A,0)),IF(ISNA(MATCH(D25,'اطلاعات افراد غیر حقوق بگیر'!A:A,0)),\"وجود ندارد\",LOOKUP(D25,'اطلاعات افراد غیر حقوق بگیر'!A:A,'اطلاعات افراد غیر حقوق بگیر'!C:C)),LOOKUP(D25,Personnel!A:A,Personnel!B:B)))","v":" "},{"$f":"IF(D25=0,0,IF(ISNA(MATCH(D25,Personnel!A:A,0)),IF(ISNA(MATCH(D25,'اطلاعات افراد غیر حقوق بگیر'!A:A,0)),\"وجود ندارد\",LOOKUP(D25,'اطلاعات افراد غیر حقوق بگیر'!A:A,'اطلاعات افراد غیر حقوق بگیر'!D:D)),LOOKUP(D25,Master!D:D,Master!CD:CD)))","v":0},{"$f":"IF(D25=0,\" \",IF(ISNA(MATCH(D25,Personnel!A:A,0)),IF(ISNA(MATCH(D25,'اطلاعات افراد غیر حقوق بگیر'!A:A,0)),\"وجود ندارد\",LOOKUP(D25,'اطلاعات افراد غیر حقوق بگیر'!A:A,'اطلاعات افراد غیر حقوق بگیر'!E:E)),LOOKUP(D25,Master!D:D,Master!AH:AH)))","v":" "},{"$f":"SUMIFS(Pays!G:G,Pays!E:E,1,Pays!D:D,D25)","v":0},{"$f":"SUMIFS(Pays!G:G,Pays!E:E,2,Pays!D:D,D25)","v":0},{"$f":"SUMIFS(Pays!G:G,Pays!E:E,57,Pays!D:D,D25)","v":0},{"$f":"SUMIF(Pays!D:D,D25,Pays!G:G)","v":0},{"$f":"SUMIF(Pays!D:D,D25,Pays!G:G)/176","v":0},{"$f":"IF(M25=0,IF(ISNA(MATCH(D25,'اطلاعات افراد غیر حقوق بگیر'!A:A,0)),0,LOOKUP(D25,'اطلاعات افراد غیر حقوق بگیر'!A:A,'اطلاعات افراد غیر حقوق بگیر'!F:F)),IF(H25=31,Settings!$D$13,ROUND(M25,0)))","v":0},null,0,{"$f":"IF(ISNA(MATCH(D25,Master!D:D,0)),IF(ISNA(MATCH(D25,'اطلاعات افراد غیر حقوق بگیر'!A:A,0)),0,LOOKUP(D25,'اطلاعات افراد غیر حقوق بگیر'!A:A,'اطلاعات افراد غیر حقوق بگیر'!G:G)),LOOKUP(D25,Master!D:D,Master!J:J))","v":0},{"$error":"#N/A"},0,0,{"$f":"IF(O25>#REF!,\"اخطار ساعت اضافه کار از حداکثر بیشتر است\",\" \")","v":{"$error":"#REF!"}},{"$f":"IF(O25>#REF!,1,0)","v":{"$error":"#REF!"}}]
[23,{"$f":"IF(D26=0,\"\",Settings!$D$6)","v":""},{"$f":"IF(D26=0,\"\",LOOKUP(B26,'Rigion Code'!A:A,'Rigion Code'!B:B))","v":""},null,{"$f":"IF(D26=0,\" \",IF(ISNA(MATCH(D26,Personnel!A:A,0)),IF(ISNA(MATCH(D26,'اطلاعات افراد غیر حقوق بگیر'!A:A,0)),\"وجود ندارد\",LOOKUP(Edit!D26,'اطلاعات افراد غیر حقوق بگیر'!A:A,'اطلاعات افراد غیر حقوق بگیر'!B:B)),LOOKUP(D26,Personnel!A:A,Personnel!C:C)))","v":" "},{"$f":"IF(D26=0,\" \",IF(ISNA(MATCH(D26,Personnel!A:A,0)),IF(ISNA(MATCH(D26,'اطلاعات افراد غیر حقوق بگیر'!A:A,0)),\"وجود ندارد\",LOOKUP(D26,'اطلاعات افراد غیر حقوق بگیر'!A:A,'اطلاعات افراد غیر حقوق بگیر'!C:C)),LOOKUP(D26,Personnel!A:A,Personnel!B:B)))","v":" "},{"$f":"IF(D26=0,0,IF(ISNA(MATCH(D26,Personnel!A:A,0)),IF(ISNA(MATCH(D26,'اطلاعات افراد غیر حقوق بگیر'!A:A,0)),\"وجود ندارد\",LOOKUP(D26,'اطلاعات افراد غیر حقوق بگیر'!A:A,'اطلاعات افراد غیر حقوق بگیر'!D:D)),LOOKUP(D26,Master!D:D,Master!CD:CD)))","v":0},{"$f":"IF(D26=0,\" \",IF(ISNA(MATCH(D26,Personnel!A:A,0)),IF(ISNA(MATCH(D26,'اطلاعات افراد غیر حقوق بگیر'!A:A,0)),\"وجود ندارد\",LOOKUP(D26,'اطلاعات افراد غیر حقوق بگیر'!A:A,'اطلاعات افراد غیر حقوق بگیر'!E:E)),LOOKUP(D26,Master!D:D,Master!AH:AH)))","v":" "},{"$f":"SUMIFS(Pays!G:G,Pays!E:E,1,Pays!D:D,D26)","v":0},{"$f":"SUMIFS(Pays!G:G,Pays!E:E,2,Pays!D:D,D26)","v":0},{"$f":"SUMIFS(Pays!G:G,Pays!E:E,57,Pays!D:D,D26)","v":0},{"$f":"SUMIF(Pays!D:D,D26,Pays!G:G)","v":0},{"$f":"SUMIF(Pays!D:D,D26,Pays!G:G)/176","v":0},{"$f":"IF(M26=0,IF(ISNA(MATCH(D26,'اطلاعات افراد غیر حقوق بگیر'!A:A,0)),0,LOOKUP(D26,'اطلاعات افراد غیر حقوق بگیر'!A:A,'اطلاعات افراد غیر حقوق بگیر'!F:F)),IF(H26=31,Settings!$D$13,ROUND(M26,0)))","v":0},null,0,{"$f":"IF(ISNA(MATCH(D26,Master!D:D,0)),IF(ISNA(MATCH(D26,'اطلاعات افراد غیر حقوق بگیر'!A:A,0)),0,LOOKUP(D26,'اطلاعات افراد غیر حقوق بگیر'!A:A,'اطلاعات افراد غیر حقوق بگیر'!G:G)),LOOKUP(D26,Master!D:D,Master!J:J))","v":0},{"$error":"#N/A"},0,0,{"$f":"IF(O26>#REF!,\"اخطار ساعت اضافه کار از حداکثر بیشتر است\",\" \")","v":{"$error":"#REF!"}},{"$f":"IF(O26>#REF!,1,0)","v":{"$error":"#REF!"}}]
[24,{"$f":"IF(D27=0,\"\",Settings!$D$6)","v":""},{"$f":"IF(D27=0,\"\",LOOKUP(B27,'Rigion Code'!A:A,'Rigion Code'!B:B))","v":""},null,{"$f":"IF(D27=0,\" \",IF(ISNA(MATCH(D27,Personnel!A:A,0)),IF(ISNA(MATCH(D27,'اطلاعات افراد غیر حقوق بگیر'!A:A,0)),\"وجود ندارد\",LOOKUP(Edit!D27,'اطلاعات افراد غیر حقوق بگیر'!A:A,'اطلاعات افراد غیر حقوق بگیر'!B:B)),LOOKUP(D27,Personnel!A:A,Personnel!C:C)))","v":" "},{"$f":"IF(D27=0,\" \",IF(ISNA(MATCH(D27,Personnel!A:A,0)),IF(ISNA(MATCH(D27,'اطلاعات افراد غیر حقوق بگیر'!A:A,0)),\"وجود ندارد\",LOOKUP(D27,'اطلاعات افراد غیر حقوق بگیر'!A:A,'اطلاعات افراد غیر حقوق بگیر'!C:C)),LOOKUP(D27,Personnel!A:A,Personnel!B:B)))","v":" "},{"$f":"IF(D27=0,0,IF(ISNA(MATCH(D27,Personnel!A:A,0)),IF(ISNA(MATCH(D27,'اطلاعات افراد غیر حقوق بگیر'!A:A,0)),\"وجود ندارد\",LOOKUP(D27,'اطلاعات افراد غیر حقوق بگیر'!A:A,'اطلاعات افراد غیر حقوق بگیر'!D:D)),LOOKUP(D27,Master!D:D,Master!CD:CD)))","v":0},{"$f":"IF(D27=0,\" \",IF(ISNA(MATCH(D27,Personnel!A:A,0)),IF(ISNA(MATCH(D27,'اطلاعات افراد غیر حقوق بگیر'!A:A,0)),\"وجود ندارد\",LOOKUP(D27,'اطلاعات افراد غیر حقوق بگیر'!A:A,'اطلاعات افراد غیر حقوق بگیر'!E:E)),LOOKUP(D27,Master!D:D,Master!AH:AH)))","v":" "},{"$f":"SUMIFS(Pays!G:G,Pays!E:E,1,Pays!D:D,D27)","v":0},{"$f":"SUMIFS(Pays!G:G,Pays!E:E,2,Pays!D:D,D27)","v":0},{"$f":"SUMIFS(Pays!G:G,Pays!E:E,57,Pays!D:D,D27)","v":0},{"$f":"SUMIF(Pays!D:D,D27,Pays!G:G)","v":0},{"$f":"SUMIF(Pays!D:D,D27,Pays!G:G)/176","v":0},{"$f":"IF(M27=0,IF(ISNA(MATCH(D27,'اطلاعات افراد غیر حقوق بگیر'!A:A,0)),0,LOOKUP(D27,'اطلاعات افراد غیر حقوق بگیر'!A:A,'اطلاعات افراد غیر حقوق بگیر'!F:F)),IF(H27=31,Settings!$D$13,ROUND(M27,0)))","v":0},null,0,{"$f":"IF(ISNA(MATCH(D27,Master!D:D,0)),IF(ISNA(MATCH(D27,'اطلاعات افراد غیر حقوق بگیر'!A:A,0)),0,LOOKUP(D27,'اطلاعات افراد غیر حقوق بگیر'!A:A,'اطلاعات افراد غیر حقوق بگیر'!G:G)),LOOKUP(D27,Master!D:D,Master!J:J))","v":0},{"$error":"#N/A"},0,0,{"$f":"IF(O27>#REF!,\"اخطار ساعت اضافه کار از حداکثر بیشتر است\",\" \")","v":{"$error":"#REF!"}},{"$f":"IF(O27>#REF!,1,0)","v":{"$error":"#REF!"}}]
[25,{"$f":"IF(D28=0,\"\",Settings!$D$6)","v":""},{"$f":"IF(D28=0,\"\",LOOKUP(B28,'Rigion Code'!A:A,'Rigion Code'!B:B))","v":""},null,{"$f":"IF(D28=0,\" \",IF(ISNA(MATCH(D28,Personnel!A:A,0)),IF(ISNA(MATCH(D28,'اطلاعات افراد غیر حقوق بگیر'!A:A,0)),\"وجود ندارد\",LOOKUP(Edit!D28,'اطلاعات افراد غیر حقوق بگیر'!A:A,'اطلاعات افراد غیر حقوق بگیر'!B:B)),LOOKUP(D28,Personnel!A:A,Personnel!C:C)))","v":" "},{"$f":"IF(D28=0,\" \",IF(ISNA(MATCH(D28,Personnel!A:A,0)),IF(ISNA(MATCH(D28,'اطلاعات افراد غیر حقوق بگیر'!A:A,0)),\"وجود ندارد\",LOOKUP(D28,'اطلاعات افراد غیر حقوق بگیر'!A:A,'اطلاعات افراد غیر حقوق بگیر'!C:C)),LOOKUP(D28,Personnel!A:A,Personnel!B:B)))","v":" "},{"$f":"IF(D28=0,0,IF(ISNA(MATCH(D28,Personnel!A:A,0)),IF(ISNA(MATCH(D28,'اطلاعات افراد غیر حقوق بگیر'!A:A,0)),\"وجود ندارد\",LOOKUP(D28,'اطلاعات افراد غیر حقوق بگیر'!A:A,'اطلاعات افراد غیر حقوق بگیر'!D:D)),LOOKUP(D28,Master!D:D,Master!CD:CD)))","v":0},{"$f":"IF(D28=0,\" \",IF(ISNA(MATCH(D28,Personnel!A:A,0)),IF(ISNA(MATCH(D28,'اطلاعات افراد غیر حقوق بگیر'!A:A,0)),\"وجود ندارد\",LOOKUP(D28,'اطلاعات افراد غیر حقوق بگیر'!A:A,'اطلاعات افراد غیر حقوق بگیر'!E:E)),LOOKUP(D28,Master!D:D,Master!AH:AH)))","v":" "},{"$f":"SUMIFS(Pays!G:G,Pays!E:E,1,Pays!D:D,D28)","v":0},{"$f":"SUMIFS(Pays!G:G,Pays!E:E,2,Pays!D:D,D28)","v":0},{"$f":"SUMIFS(Pays!G:G,Pays!E:E,57,Pays!D:D,D28)","v":0},{"$f":"SUMIF(Pays!D:D,D28,Pays!G:G)","v":0},{"$f":"SUMIF(Pays!D:D,D28,Pays!G:G)/176","v":0},{"$f":"IF(M28=0,IF(ISNA(MATCH(D28,'اطلاعات افراد غیر حقوق بگیر'!A:A,0)),0,LOOKUP(D28,'اطلاعات افراد غیر حقوق بگیر'!A:A,'اطلاعات افراد غیر حقوق بگیر'!F:F)),IF(H28=31,Settings!$D$13,ROUND(M28,0)))","v":0},null,0,{"$f":"IF(ISNA(MATCH(D28,Master!D:D,0)),IF(ISNA(MATCH(D28,'اطلاعات افراد غیر حقوق بگیر'!A:A,0)),0,LOOKUP(D28,'اطلاعات افراد غیر حقوق بگیر'!A:A,'اطلاعات افراد غیر حقوق بگیر'!G:G)),LOOKUP(D28,Master!D:D,Master!J:J))","v":0},{"$error":"#N/A"},0,0,{"$f":"IF(O28>#REF!,\"اخطار ساعت اضافه کار از حداکثر بیشتر است\",\" \")","v":{"$error":"#REF!"}},{"$f":"IF(O28>#REF!,1,0)","v":{"$error":"#REF!"}}]
[26,{"$f":"IF(D29=0,\"\",Settings!$D$6)","v":""},{"$f":"IF(D29=0,\"\",LOOKUP(B29,'Rigion Code'!A:A,'Rigion Code'!B:B))","v":""},null,{"$f":"IF(D29=0,\" \",IF(ISNA(MATCH(D29,Personnel!A:A,0)),IF(ISNA(MATCH(D29,'اطلاعات افراد غیر حقوق بگیر'!A:A,0)),\"وجود ندارد\",LOOKUP(Edit!D29,'اطلاعات افراد غیر حقوق بگیر'!A:A,'اطلاعات افراد غیر حقوق بگیر'!B:B)),LOOKUP(D29,Personnel!A:A,Personnel!C:C)))","v":" "},{"$f":"IF(D29=0,\" \",IF(ISNA(MATCH(D29,Personnel!A:A,0)),IF(ISNA(MATCH(D29,'اطلاعات افراد غیر حقوق بگیر'!A:A,0)),\"وجود ندارد\",LOOKUP(D29,'اطلاعات افراد غیر حقوق بگیر'!A:A,'اطلاعات افراد غیر حقوق بگیر'!C:C)),LOOKUP(D29,Personnel!A:A,Personnel!B:B)))","v":" "},{"$f":"IF(D29=0,0,IF(ISNA(MATCH(D29,Personnel!A:A,0)),IF(ISNA(MATCH(D29,'اطلاعات افراد غیر حقوق بگیر'!A:A,0)),\"وجود ندارد\",LOOKUP(D29,'اطلاعات افراد غیر حقوق بگیر'!A:A,'اطلاعات افراد غیر حقوق بگیر'!D:D)),LOOKUP(D29,Master!D:D,Master!CD:CD)))","v":0},{"$f":"IF(D29=0,\" \",IF(ISNA(MATCH(D29,Personnel!A:A,0)),IF(ISNA(MATCH(D29,'اطلاعات افراد غیر حقوق بگیر'!A:A,0)),\"وجود ندارد\",LOOKUP(D29,'اطلاعات افراد غیر حقوق بگیر'!A:A,'اطلاعات افراد غیر حقوق بگیر'!E:E)),LOOKUP(D29,Master!D:D,Master!AH:AH)))","v":" "},{"$f":"SUMIFS(Pays!G:G,Pays!E:E,1,Pays!D:D,D29)","v":0},{"$f":"SUMIFS(Pays!G:G,Pays!E:E,2,Pays!D:D,D29)","v":0},{"$f":"SUMIFS(Pays!G:G,Pays!E:E,57,Pays!D:D,D29)","v":0},{"$f":"SUMIF(Pays!D:D,D29,Pays!G:G)","v":0},{"$f":"SUMIF(Pays!D:D,D29,Pays!G:G)/176","v":0},{"$f":"IF(M29=0,IF(ISNA(MATCH(D29,'اطلاعات افراد غیر حقوق بگیر'!A:A,0)),0,LOOKUP(D29,'اطلاعات افراد غیر حقوق بگیر'!A:A,'اطلاعات افراد غیر حقوق بگیر'!F:F)),IF(H29=31,Settings!$D$13,ROUND(M29,0)))","v":0},null,0,{"$f":"IF(ISNA(MATCH(D29,Master!D:D,0)),IF(ISNA(MATCH(D29,'اطلاعات افراد غیر حقوق بگیر'!A:A,0)),0,LOOKUP(D29,'اطلاعات افراد غیر حقوق بگیر'!A:A,'اطلاعات افراد غیر حقوق بگیر'!G:G)),LOOKUP(D29,Master!D:D,Master!J:J))","v":0},{"$error":"#N/A"},0,0,{"$f":"IF(O29>#REF!,\"اخطار ساعت اضافه کار از حداکثر بیشتر است\",\" \")","v":{"$error":"#REF!"}},{"$f":"IF(O29>#REF!,1,0)","v":{"$error":"#REF!"}}]
[27,{"$f":"IF(D30=0,\"\",Settings!$D$6)","v":""},{"$f":"IF(D30=0,\"\",LOOKUP(B30,'Rigion Code'!A:A,'Rigion Code'!B:B))","v":""},null,{"$f":"IF(D30=0,\" \",IF(ISNA(MATCH(D30,Personnel!A:A,0)),IF(ISNA(MATCH(D30,'اطلاعات افراد غیر حقوق بگیر'!A:A,0)),\"وجود ندارد\",LOOKUP(Edit!D30,'اطلاعات افراد غیر حقوق بگیر'!A:A,'اطلاعات افراد غیر حقوق بگیر'!B:B)),LOOKUP(D30,Personnel!A:A,Personnel!C:C)))","v":" "},{"$f":"IF(D30=0,\" \",IF(ISNA(MATCH(D30,Personnel!A:A,0)),IF(ISNA(MATCH(D30,'اطلاعات افراد غیر حقوق بگیر'!A:A,0)),\"وجود ندارد\",LOOKUP(D30,'اطلاعات افراد غیر حقوق بگیر'!A:A,'اطلاعات افراد غیر حقوق بگیر'!C:C)),LOOKUP(D30,Personnel!A:A,Personnel!B:B)))","v":" "},{"$f":"IF(D30=0,0,IF(ISNA(MATCH(D30,Personnel!A:A,0)),IF(ISNA(MATCH(D30,'اطلاعات افراد غیر حقوق بگیر'!A:A,0)),\"وجود ندارد\",LOOKUP(D30,'اطلاعات افراد غیر حقوق بگیر'!A:A,'اطلاعات افراد غیر حقوق بگیر'!D:D)),LOOKUP(D30,Master!D:D,Master!CD:CD)))","v":0},{"$f":"IF(D30=0,\" \",IF(ISNA(MATCH(D30,Personnel!A:A,0)),IF(ISNA(MATCH(D30,'اطلاعات افراد غیر حقوق بگیر'!A:A,0)),\"وجود ندارد\",LOOKUP(D30,'اطلاعات افراد غیر حقوق بگیر'!A:A,'اطلاعات افراد غیر حقوق بگیر'!E:E)),LOOKUP(D30,Master!D:D,Master!AH:AH)))","v":" "},{"$f":"SUMIFS(Pays!G:G,Pays!E:E,1,Pays!D:D,D30)","v":0},{"$f":"SUMIFS(Pays!G:G,Pays!E:E,2,Pays!D:D,D30)","v":0},{"$f":"SUMIFS(Pays!G:G,Pays!E:E,57,Pays!D:D,D30)","v":0},{"$f":"SUMIF(Pays!D:D,D30,Pays!G:G)","v":0},{"$f":"SUMIF(Pays!D:D,D30,Pays!G:G)/176","v":0},{"$f":"IF(M30=0,IF(ISNA(MATCH(D30,'اطلاعات افراد غیر حقوق بگیر'!A:A,0)),0,LOOKUP(D30,'اطلاعات افراد غیر حقوق بگیر'!A:A,'اطلاعات افراد غیر حقوق بگیر'!F:F)),IF(H30=31,Settings!$D$13,ROUND(M30,0)))","v":0},null,0,{"$f":"IF(ISNA(MATCH(D30,Master!D:D,0)),IF(ISNA(MATCH(D30,'اطلاعات افراد غیر حقوق بگیر'!A:A,0)),0,LOOKUP(D30,'اطلاعات افراد غیر حقوق بگیر'!A:A,'اطلاعات افراد غیر حقوق بگیر'!G:G)),LOOKUP(D30,Master!D:D,Master!J:J))","v":0},{"$error":"#N/A"},0,0,{"$f":"IF(O30>#REF!,\"اخطار ساعت اضافه کار از حداکثر بیشتر است\",\" \")","v":{"$error":"#REF!"}},{"$f":"IF(O30>#REF!,1,0)","v":{"$error":"#REF!"}}]
[28,{"$f":"IF(D31=0,\"\",Settings!$D$6)","v":""},{"$f":"IF(D31=0,\"\",LOOKUP(B31,'Rigion Code'!A:A,'Rigion Code'!B:B))","v":""},null,{"$f":"IF(D31=0,\" \",IF(ISNA(MATCH(D31,Personnel!A:A,0)),IF(ISNA(MATCH(D31,'اطلاعات افراد غیر حقوق بگیر'!A:A,0)),\"وجود ندارد\",LOOKUP(Edit!D31,'اطلاعات افراد غیر حقوق بگیر'!A:A,'اطلاعات افراد غیر حقوق بگیر'!B:B)),LOOKUP(D31,Personnel!A:A,Personnel!C:C)))","v":" "},{"$f":"IF(D31=0,\" \",IF(ISNA(MATCH(D31,Personnel!A:A,0)),IF(ISNA(MATCH(D31,'اطلاعات افراد غیر حقوق بگیر'!A:A,0)),\"وجود ندارد\",LOOKUP(D31,'اطلاعات افراد غیر حقوق بگیر'!A:A,'اطلاعات افراد غیر حقوق بگیر'!C:C)),LOOKUP(D31,Personnel!A:A,Personnel!B:B)))","v":" "},{"$f":"IF(D31=0,0,IF(ISNA(MATCH(D31,Personnel!A:A,0)),IF(ISNA(MATCH(D31,'اطلاعات افراد غیر حقوق بگیر'!A:A,0)),\"وجود ندارد\",LOOKUP(D31,'اطلاعات افراد غیر حقوق بگیر'!A:A,'اطلاعات افراد غیر حقوق بگیر'!D:D)),LOOKUP(D31,Master!D:D,Master!CD:CD)))","v":0},{"$f":"IF(D31=0,\" \",IF(ISNA(MATCH(D31,Personnel!A:A,0)),IF(ISNA(MATCH(D31,'اطلاعات افراد غیر حقوق بگیر'!A:A,0)),\"وجود ندارد\",LOOKUP(D31,'اطلاعات افراد غیر حقوق بگیر'!A:A,'اطلاعات افراد غیر حقوق بگیر'!E:E)),LOOKUP(D31,Master!D:D,Master!AH:AH)))","v":" "},{"$f":"SUMIFS(Pays!G:G,Pays!E:E,1,Pays!D:D,D31)","v":0},{"$f":"SUMIFS(Pays!G:G,Pays!E:E,2,Pays!D:D,D31)","v":0},{"$f":"SUMIFS(Pays!G:G,Pays!E:E,57,Pays!D:D,D31)","v":0},{"$f":"SUMIF(Pays!D:D,D31,Pays!G:G)","v":0},{"$f":"SUMIF(Pays!D:D,D31,Pays!G:G)/176","v":0},{"$f":"IF(M31=0,IF(ISNA(MATCH(D31,'اطلاعات افراد غیر حقوق بگیر'!A:A,0)),0,LOOKUP(D31,'اطلاعات افراد غیر حقوق بگیر'!A:A,'اطلاعات افراد غیر حقوق بگیر'!F:F)),IF(H31=31,Settings!$D$13,ROUND(M31,0)))","v":0},null,0,{"$f":"IF(ISNA(MATCH(D31,Master!D:D,0)),IF(ISNA(MATCH(D31,'اطلاعات افراد غیر حقوق بگیر'!A:A,0)),0,LOOKUP(D31,'اطلاعات افراد غیر حقوق بگیر'!A:A,'اطلاعات افراد غیر حقوق بگیر'!G:G)),LOOKUP(D31,Master!D:D,Master!J:J))","v":0},{"$error":"#N/A"},0,0,{"$f":"IF(O31>#REF!,\"اخطار ساعت اضافه کار از حداکثر بیشتر است\",\" \")","v":{"$error":"#REF!"}},{"$f":"IF(O31>#REF!,1,0)","v":{"$error":"#REF!"}}]
[29,{"$f":"IF(D32=0,\"\",Settings!$D$6)","v":""},{"$f":"IF(D32=0,\"\",LOOKUP(B32,'Rigion Code'!A:A,'Rigion Code'!B:B))","v":""},null,{"$f":"IF(D32=0,\" \",IF(ISNA(MATCH(D32,Personnel!A:A,0)),IF(ISNA(MATCH(D32,'اطلاعات افراد غیر حقوق بگیر'!A:A,0)),\"وجود ندارد\",LOOKUP(Edit!D32,'اطلاعات افراد غیر حقوق بگیر'!A:A,'اطلاعات افراد غیر حقوق بگیر'!B:B)),LOOKUP(D32,Personnel!A:A,Personnel!C:C)))","v":" "},{"$f":"IF(D32=0,\" \",IF(ISNA(MATCH(D32,Personnel!A:A,0)),IF(ISNA(MATCH(D32,'اطلاعات افراد غیر حقوق بگیر'!A:A,0)),\"وجود ندارد\",LOOKUP(D32,'اطلاعات افراد غیر حقوق بگیر'!A:A,'اطلاعات افراد غیر حقوق بگیر'!C:C)),LOOKUP(D32,Personnel!A:A,Personnel!B:B)))","v":" "},{"$f":"IF(D32=0,0,IF(ISNA(MATCH(D32,Personnel!A:A,0)),IF(ISNA(MATCH(D32,'اطلاعات افراد غیر حقوق بگیر'!A:A,0)),\"وجود ندارد\",LOOKUP(D32,'اطلاعات افراد غیر حقوق بگیر'!A:A,'اطلاعات افراد غیر حقوق بگیر'!D:D)),LOOKUP(D32,Master!D:D,Master!CD:CD)))","v":0},{"$f":"IF(D32=0,\" \",IF(ISNA(MATCH(D32,Personnel!A:A,0)),IF(ISNA(MATCH(D32,'اطلاعات افراد غیر حقوق بگیر'!A:A,0)),\"وجود ندارد\",LOOKUP(D32,'اطلاعات افراد غیر حقوق بگیر'!A:A,'اطلاعات افراد غیر حقوق بگیر'!E:E)),LOOKUP(D32,Master!D:D,Master!AH:AH)))","v":" "},{"$f":"SUMIFS(Pays!G:G,Pays!E:E,1,Pays!D:D,D32)","v":0},{"$f":"SUMIFS(Pays!G:G,Pays!E:E,2,Pays!D:D,D32)","v":0},{"$f":"SUMIFS(Pays!G:G,Pays!E:E,57,Pays!D:D,D32)","v":0},{"$f":"SUMIF(Pays!D:D,D32,Pays!G:G)","v":0},{"$f":"SUMIF(Pays!D:D,D32,Pays!G:G)/176","v":0},{"$f":"IF(M32=0,IF(ISNA(MATCH(D32,'اطلاعات افراد غیر حقوق بگیر'!A:A,0)),0,LOOKUP(D32,'اطلاعات افراد غیر حقوق بگیر'!A:A,'اطلاعات افراد غیر حقوق بگیر'!F:F)),IF(H32=31,Settings!$D$13,ROUND(M32,0)))","v":0},null,0,{"$f":"IF(ISNA(MATCH(D32,Master!D:D,0)),IF(ISNA(MATCH(D32,'اطلاعات افراد غیر حقوق بگیر'!A:A,0)),0,LOOKUP(D32,'اطلاعات افراد غیر حقوق بگیر'!A:A,'اطلاعات افراد غیر حقوق بگیر'!G:G)),LOOKUP(D32,Master!D:D,Master!J:J))","v":0},{"$error":"#N/A"},0,0,{"$f":"IF(O32>#REF!,\"اخطار ساعت اضافه کار از حداکثر بیشتر است\",\" \")","v":{"$error":"#REF!"}},{"$f":"IF(O32>#REF!,1,0)","v":{"$error":"#REF!"}}]
[30,{"$f":"IF(D33=0,\"\",Settings!$D$6)","v":""},{"$f":"IF(D33=0,\"\",LOOKUP(B33,'Rigion Code'!A:A,'Rigion Code'!B:B))","v":""},null,{"$f":"IF(D33=0,\" \",IF(ISNA(MATCH(D33,Personnel!A:A,0)),IF(ISNA(MATCH(D33,'اطلاعات افراد غیر حقوق بگیر'!A:A,0)),\"وجود ندارد\",LOOKUP(Edit!D33,'اطلاعات افراد غیر حقوق بگیر'!A:A,'اطلاعات افراد غیر حقوق بگیر'!B:B)),LOOKUP(D33,Personnel!A:A,Personnel!C:C)))","v":" "},{"$f":"IF(D33=0,\" \",IF(ISNA(MATCH(D33,Personnel!A:A,0)),IF(ISNA(MATCH(D33,'اطلاعات افراد غیر حقوق بگیر'!A:A,0)),\"وجود ندارد\",LOOKUP(D33,'اطلاعات افراد غیر حقوق بگیر'!A:A,'اطلاعات افراد غیر حقوق بگیر'!C:C)),LOOKUP(D33,Personnel!A:A,Personnel!B:B)))","v":" "},{"$f":"IF(D33=0,0,IF(ISNA(MATCH(D33,Personnel!A:A,0)),IF(ISNA(MATCH(D33,'اطلاعات افراد غیر حقوق بگیر'!A:A,0)),\"وجود ندارد\",LOOKUP(D33,'اطلاعات افراد غیر حقوق بگیر'!A:A,'اطلاعات افراد غیر حقوق بگیر'!D:D)),LOOKUP(D33,Master!D:D,Master!CD:CD)))","v":0},{"$f":"IF(D33=0,\" \",IF(ISNA(MATCH(D33,Personnel!A:A,0)),IF(ISNA(MATCH(D33,'اطلاعات افراد غیر حقوق بگیر'!A:A,0)),\"وجود ندارد\",LOOKUP(D33,'اطلاعات افراد غیر حقوق بگیر'!A:A,'اطلاعات افراد غیر حقوق بگیر'!E:E)),LOOKUP(D33,Master!D:D,Master!AH:AH)))","v":" "},{"$f":"SUMIFS(Pays!G:G,Pays!E:E,1,Pays!D:D,D33)","v":0},{"$f":"SUMIFS(Pays!G:G,Pays!E:E,2,Pays!D:D,D33)","v":0},{"$f":"SUMIFS(Pays!G:G,Pays!E:E,57,Pays!D:D,D33)","v":0},{"$f":"SUMIF(Pays!D:D,D33,Pays!G:G)","v":0},{"$f":"SUMIF(Pays!D:D,D33,Pays!G:G)/176","v":0},{"$f":"IF(M33=0,IF(ISNA(MATCH(D33,'اطلاعات افراد غیر حقوق بگیر'!A:A,0)),0,LOOKUP(D33,'اطلاعات افراد غیر حقوق بگیر'!A:A,'اطلاعات افراد غیر حقوق بگیر'!F:F)),IF(H33=31,Settings!$D$13,ROUND(M33,0)))","v":0},null,0,{"$f":"IF(ISNA(MATCH(D33,Master!D:D,0)),IF(ISNA(MATCH(D33,'اطلاعات افراد غیر حقوق بگیر'!A:A,0)),0,LOOKUP(D33,'اطلاعات افراد غیر حقوق بگیر'!A:A,'اطلاعات افراد غیر حقوق بگیر'!G:G)),LOOKUP(D33,Master!D:D,Master!J:J))","v":0},{"$error":"#N/A"},0,0,{"$f":"IF(O33>#REF!,\"اخطار ساعت اضافه کار از حداکثر بیشتر است\",\" \")","v":{"$error":"#REF!"}},{"$f":"IF(O33>#REF!,1,0)","v":{"$error":"#REF!"}}]
[31,{"$f":"IF(D34=0,\"\",Settings!$D$6)","v":""},{"$f":"IF(D34=0,\"\",LOOKUP(B34,'Rigion Code'!A:A,'Rigion Code'!B:B))","v":""},null,{"$f":"IF(D34=0,\" \",IF(ISNA(MATCH(D34,Personnel!A:A,0)),IF(ISNA(MATCH(D34,'اطلاعات افراد غیر حقوق بگیر'!A:A,0)),\"وجود ندارد\",LOOKUP(Edit!D34,'اطلاعات افراد غیر حقوق بگیر'!A:A,'اطلاعات افراد غیر حقوق بگیر'!B:B)),LOOKUP(D34,Personnel!A:A,Personnel!C:C)))","v":" "},{"$f":"IF(D34=0,\" \",IF(ISNA(MATCH(D34,Personnel!A:A,0)),IF(ISNA(MATCH(D34,'اطلاعات افراد غیر حقوق بگیر'!A:A,0)),\"وجود ندارد\",LOOKUP(D34,'اطلاعات افراد غیر حقوق بگیر'!A:A,'اطلاعات افراد غیر حقوق بگیر'!C:C)),LOOKUP(D34,Personnel!A:A,Personnel!B:B)))","v":" "},{"$f":"IF(D34=0,0,IF(ISNA(MATCH(D34,Personnel!A:A,0)),IF(ISNA(MATCH(D34,'اطلاعات افراد غیر حقوق بگیر'!A:A,0)),\"وجود ندارد\",LOOKUP(D34,'اطلاعات افراد غیر حقوق بگیر'!A:A,'اطلاعات افراد غیر حقوق بگیر'!D:D)),LOOKUP(D34,Master!D:D,Master!CD:CD)))","v":0},{"$f":"IF(D34=0,\" \",IF(ISNA(MATCH(D34,Personnel!A:A,0)),IF(ISNA(MATCH(D34,'اطلاعات افراد غیر حقوق بگیر'!A:A,0)),\"وجود ندارد\",LOOKUP(D34,'اطلاعات افراد غیر حقوق بگیر'!A:A,'اطلاعات افراد غیر حقوق بگیر'!E:E)),LOOKUP(D34,Master!D:D,Master!AH:AH)))","v":" "},{"$f":"SUMIFS(Pays!G:G,Pays!E:E,1,Pays!D:D,D34)","v":0},{"$f":"SUMIFS(Pays!G:G,Pays!E:E,2,Pays!D:D,D34)","v":0},{"$f":"SUMIFS(Pays!G:G,Pays!E:E,57,Pays!D:D,D34)","v":0},{"$f":"SUMIF(Pays!D:D,D34,Pays!G:G)","v":0},{"$f":"SUMIF(Pays!D:D,D34,Pays!G:G)/176","v":0},{"$f":"IF(M34=0,IF(ISNA(MATCH(D34,'اطلاعات افراد غیر حقوق بگیر'!A:A,0)),0,LOOKUP(D34,'اطلاعات افراد غیر حقوق بگیر'!A:A,'اطلاعات افراد غیر حقوق بگیر'!F:F)),IF(H34=31,Settings!$D$13,ROUND(M34,0)))","v":0},null,0,{"$f":"IF(ISNA(MATCH(D34,Master!D:D,0)),IF(ISNA(MATCH(D34,'اطلاعات افراد غیر حقوق بگیر'!A:A,0)),0,LOOKUP(D34,'اطلاعات افراد غیر حقوق بگیر'!A:A,'اطلاعات افراد غیر حقوق بگیر'!G:G)),LOOKUP(D34,Master!D:D,Master!J:J))","v":0},{"$error":"#N/A"},0,0,{"$f":"IF(O34>#REF!,\"اخطار ساعت اضافه کار از حداکثر بیشتر است\",\" \")","v":{"$error":"#REF!"}},{"$f":"IF(O34>#REF!,1,0)","v":{"$error":"#REF!"}}]
[32,{"$f":"IF(D35=0,\"\",Settings!$D$6)","v":""},{"$f":"IF(D35=0,\"\",LOOKUP(B35,'Rigion Code'!A:A,'Rigion Code'!B:B))","v":""},null,{"$f":"IF(D35=0,\" \",IF(ISNA(MATCH(D35,Personnel!A:A,0)),IF(ISNA(MATCH(D35,'اطلاعات افراد غیر حقوق بگیر'!A:A,0)),\"وجود ندارد\",LOOKUP(Edit!D35,'اطلاعات افراد غیر حقوق بگیر'!A:A,'اطلاعات افراد غیر حقوق بگیر'!B:B)),LOOKUP(D35,Personnel!A:A,Personnel!C:C)))","v":" "},{"$f":"IF(D35=0,\" \",IF(ISNA(MATCH(D35,Personnel!A:A,0)),IF(ISNA(MATCH(D35,'اطلاعات افراد غیر حقوق بگیر'!A:A,0)),\"وجود ندارد\",LOOKUP(D35,'اطلاعات افراد غیر حقوق بگیر'!A:A,'اطلاعات افراد غیر حقوق بگیر'!C:C)),LOOKUP(D35,Personnel!A:A,Personnel!B:B)))","v":" "},{"$f":"IF(D35=0,0,IF(ISNA(MATCH(D35,Personnel!A:A,0)),IF(ISNA(MATCH(D35,'اطلاعات افراد غیر حقوق بگیر'!A:A,0)),\"وجود ندارد\",LOOKUP(D35,'اطلاعات افراد غیر حقوق بگیر'!A:A,'اطلاعات افراد غیر حقوق بگیر'!D:D)),LOOKUP(D35,Master!D:D,Master!CD:CD)))","v":0},{"$f":"IF(D35=0,\" \",IF(ISNA(MATCH(D35,Personnel!A:A,0)),IF(ISNA(MATCH(D35,'اطلاعات افراد غیر حقوق بگیر'!A:A,0)),\"وجود ندارد\",LOOKUP(D35,'اطلاعات افراد غیر حقوق بگیر'!A:A,'اطلاعات افراد غیر حقوق بگیر'!E:E)),LOOKUP(D35,Master!D:D,Master!AH:AH)))","v":" "},{"$f":"SUMIFS(Pays!G:G,Pays!E:E,1,Pays!D:D,D35)","v":0},{"$f":"SUMIFS(Pays!G:G,Pays!E:E,2,Pays!D:D,D35)","v":0},{"$f":"SUMIFS(Pays!G:G,Pays!E:E,57,Pays!D:D,D35)","v":0},{"$f":"SUMIF(Pays!D:D,D35,Pays!G:G)","v":0},{"$f":"SUMIF(Pays!D:D,D35,Pays!G:G)/176","v":0},{"$f":"IF(M35=0,IF(ISNA(MATCH(D35,'اطلاعات افراد غیر حقوق بگیر'!A:A,0)),0,LOOKUP(D35,'اطلاعات افراد غیر حقوق بگیر'!A:A,'اطلاعات افراد غیر حقوق بگیر'!F:F)),IF(H35=31,Settings!$D$13,ROUND(M35,0)))","v":0},null,0,{"$f":"IF(ISNA(MATCH(D35,Master!D:D,0)),IF(ISNA(MATCH(D35,'اطلاعات افراد غیر حقوق بگیر'!A:A,0)),0,LOOKUP(D35,'اطلاعات افراد غیر حقوق بگیر'!A:A,'اطلاعات افراد غیر حقوق بگیر'!G:G)),LOOKUP(D35,Master!D:D,Master!J:J))","v":0},{"$error":"#N/A"},0,0,{"$f":"IF(O35>#REF!,\"اخطار ساعت اضافه کار از حداکثر بیشتر است\",\" \")","v":{"$error":"#REF!"}},{"$f":"IF(O35>#REF!,1,0)","v":{"$error":"#REF!"}}]
[33,{"$f":"IF(D36=0,\"\",Settings!$D$6)","v":""},{"$f":"IF(D36=0,\"\",LOOKUP(B36,'Rigion Code'!A:A,'Rigion Code'!B:B))","v":""},null,{"$f":"IF(D36=0,\" \",IF(ISNA(MATCH(D36,Personnel!A:A,0)),IF(ISNA(MATCH(D36,'اطلاعات افراد غیر حقوق بگیر'!A:A,0)),\"وجود ندارد\",LOOKUP(Edit!D36,'اطلاعات افراد غیر حقوق بگیر'!A:A,'اطلاعات افراد غیر حقوق بگیر'!B:B)),LOOKUP(D36,Personnel!A:A,Personnel!C:C)))","v":" "},{"$f":"IF(D36=0,\" \",IF(ISNA(MATCH(D36,Personnel!A:A,0)),IF(ISNA(MATCH(D36,'اطلاعات افراد غیر حقوق بگیر'!A:A,0)),\"وجود ندارد\",LOOKUP(D36,'اطلاعات افراد غیر حقوق بگیر'!A:A,'اطلاعات افراد غیر حقوق بگیر'!C:C)),LOOKUP(D36,Personnel!A:A,Personnel!B:B)))","v":" "},{"$f":"IF(D36=0,0,IF(ISNA(MATCH(D36,Personnel!A:A,0)),IF(ISNA(MATCH(D36,'اطلاعات افراد غیر حقوق بگیر'!A:A,0)),\"وجود ندارد\",LOOKUP(D36,'اطلاعات افراد غیر حقوق بگیر'!A:A,'اطلاعات افراد غیر حقوق بگیر'!D:D)),LOOKUP(D36,Master!D:D,Master!CD:CD)))","v":0},{"$f":"IF(D36=0,\" \",IF(ISNA(MATCH(D36,Personnel!A:A,0)),IF(ISNA(MATCH(D36,'اطلاعات افراد غیر حقوق بگیر'!A:A,0)),\"وجود ندارد\",LOOKUP(D36,'اطلاعات افراد غیر حقوق بگیر'!A:A,'اطلاعات افراد غیر حقوق بگیر'!E:E)),LOOKUP(D36,Master!D:D,Master!AH:AH)))","v":" "},{"$f":"SUMIFS(Pays!G:G,Pays!E:E,1,Pays!D:D,D36)","v":0},{"$f":"SUMIFS(Pays!G:G,Pays!E:E,2,Pays!D:D,D36)","v":0},{"$f":"SUMIFS(Pays!G:G,Pays!E:E,57,Pays!D:D,D36)","v":0},{"$f":"SUMIF(Pays!D:D,D36,Pays!G:G)","v":0},{"$f":"SUMIF(Pays!D:D,D36,Pays!G:G)/176","v":0},{"$f":"IF(M36=0,IF(ISNA(MATCH(D36,'اطلاعات افراد غیر حقوق بگیر'!A:A,0)),0,LOOKUP(D36,'اطلاعات افراد غیر حقوق بگیر'!A:A,'اطلاعات افراد غیر حقوق بگیر'!F:F)),IF(H36=31,Settings!$D$13,ROUND(M36,0)))","v":0},null,0,{"$f":"IF(ISNA(MATCH(D36,Master!D:D,0)),IF(ISNA(MATCH(D36,'اطلاعات افراد غیر حقوق بگیر'!A:A,0)),0,LOOKUP(D36,'اطلاعات افراد غیر حقوق بگیر'!A:A,'اطلاعات افراد غیر حقوق بگیر'!G:G)),LOOKUP(D36,Master!D:D,Master!J:J))","v":0},{"$error":"#N/A"},0,0,{"$f":"IF(O36>#REF!,\"اخطار ساعت اضافه کار از حداکثر بیشتر است\",\" \")","v":{"$error":"#REF!"}},{"$f":"IF(O36>#REF!,1,0)","v":{"$error":"#REF!"}}]
[34,{"$f":"IF(D37=0,\"\",Settings!$D$6)","v":""},{"$f":"IF(D37=0,\"\",LOOKUP(B37,'Rigion Code'!A:A,'Rigion Code'!B:B))","v":""},null,{"$f":"IF(D37=0,\" \",IF(ISNA(MATCH(D37,Personnel!A:A,0)),IF(ISNA(MATCH(D37,'اطلاعات افراد غیر حقوق بگیر'!A:A,0)),\"وجود ندارد\",LOOKUP(Edit!D37,'اطلاعات افراد غیر حقوق بگیر'!A:A,'اطلاعات افراد غیر حقوق بگیر'!B:B)),LOOKUP(D37,Personnel!A:A,Personnel!C:C)))","v":" "},{"$f":"IF(D37=0,\" \",IF(ISNA(MATCH(D37,Personnel!A:A,0)),IF(ISNA(MATCH(D37,'اطلاعات افراد غیر حقوق بگیر'!A:A,0)),\"وجود ندارد\",LOOKUP(D37,'اطلاعات افراد غیر حقوق بگیر'!A:A,'اطلاعات افراد غیر حقوق بگیر'!C:C)),LOOKUP(D37,Personnel!A:A,Personnel!B:B)))","v":" "},{"$f":"IF(D37=0,0,IF(ISNA(MATCH(D37,Personnel!A:A,0)),IF(ISNA(MATCH(D37,'اطلاعات افراد غیر حقوق بگیر'!A:A,0)),\"وجود ندارد\",LOOKUP(D37,'اطلاعات افراد غیر حقوق بگیر'!A:A,'اطلاعات افراد غیر حقوق بگیر'!D:D)),LOOKUP(D37,Master!D:D,Master!CD:CD)))","v":0},{"$f":"IF(D37=0,\" \",IF(ISNA(MATCH(D37,Personnel!A:A,0)),IF(ISNA(MATCH(D37,'اطلاعات افراد غیر حقوق بگیر'!A:A,0)),\"وجود ندارد\",LOOKUP(D37,'اطلاعات افراد غیر حقوق بگیر'!A:A,'اطلاعات افراد غیر حقوق بگیر'!E:E)),LOOKUP(D37,Master!D:D,Master!AH:AH)))","v":" "},{"$f":"SUMIFS(Pays!G:G,Pays!E:E,1,Pays!D:D,D37)","v":0},{"$f":"SUMIFS(Pays!G:G,Pays!E:E,2,Pays!D:D,D37)","v":0},{"$f":"SUMIFS(Pays!G:G,Pays!E:E,57,Pays!D:D,D37)","v":0},{"$f":"SUMIF(Pays!D:D,D37,Pays!G:G)","v":0},{"$f":"SUMIF(Pays!D:D,D37,Pays!G:G)/176","v":0},{"$f":"IF(M37=0,IF(ISNA(MATCH(D37,'اطلاعات افراد غیر حقوق بگیر'!A:A,0)),0,LOOKUP(D37,'اطلاعات افراد غیر حقوق بگیر'!A:A,'اطلاعات افراد غیر حقوق بگیر'!F:F)),IF(H37=31,Settings!$D$13,ROUND(M37,0)))","v":0},null,0,{"$f":"IF(ISNA(MATCH(D37,Master!D:D,0)),IF(ISNA(MATCH(D37,'اطلاعات افراد غیر حقوق بگیر'!A:A,0)),0,LOOKUP(D37,'اطلاعات افراد غیر حقوق بگیر'!A:A,'اطلاعات افراد غیر حقوق بگیر'!G:G)),LOOKUP(D37,Master!D:D,Master!J:J))","v":0},{"$error":"#N/A"},0,0,{"$f":"IF(O37>#REF!,\"اخطار ساعت اضافه کار از حداکثر بیشتر است\",\" \")","v":{"$error":"#REF!"}},{"$f":"IF(O37>#REF!,1,0)","v":{"$error":"#REF!"}}]
[35,{"$f":"IF(D38=0,\"\",Settings!$D$6)","v":""},{"$f":"IF(D38=0,\"\",LOOKUP(B38,'Rigion Code'!A:A,'Rigion Code'!B:B))","v":""},null,{"$f":"IF(D38=0,\" \",IF(ISNA(MATCH(D38,Personnel!A:A,0)),IF(ISNA(MATCH(D38,'اطلاعات افراد غیر حقوق بگیر'!A:A,0)),\"وجود ندارد\",LOOKUP(Edit!D38,'اطلاعات افراد غیر حقوق بگیر'!A:A,'اطلاعات افراد غیر حقوق بگیر'!B:B)),LOOKUP(D38,Personnel!A:A,Personnel!C:C)))","v":" "},{"$f":"IF(D38=0,\" \",IF(ISNA(MATCH(D38,Personnel!A:A,0)),IF(ISNA(MATCH(D38,'اطلاعات افراد غیر حقوق بگیر'!A:A,0)),\"وجود ندارد\",LOOKUP(D38,'اطلاعات افراد غیر حقوق بگیر'!A:A,'اطلاعات افراد غیر حقوق بگیر'!C:C)),LOOKUP(D38,Personnel!A:A,Personnel!B:B)))","v":" "},{"$f":"IF(D38=0,0,IF(ISNA(MATCH(D38,Personnel!A:A,0)),IF(ISNA(MATCH(D38,'اطلاعات افراد غیر حقوق بگیر'!A:A,0)),\"وجود ندارد\",LOOKUP(D38,'اطلاعات افراد غیر حقوق بگیر'!A:A,'اطلاعات افراد غیر حقوق بگیر'!D:D)),LOOKUP(D38,Master!D:D,Master!CD:CD)))","v":0},{"$f":"IF(D38=0,\" \",IF(ISNA(MATCH(D38,Personnel!A:A,0)),IF(ISNA(MATCH(D38,'اطلاعات افراد غیر حقوق بگیر'!A:A,0)),\"وجود ندارد\",LOOKUP(D38,'اطلاعات افراد غیر حقوق بگیر'!A:A,'اطلاعات افراد غیر حقوق بگیر'!E:E)),LOOKUP(D38,Master!D:D,Master!AH:AH)))","v":" "},{"$f":"SUMIFS(Pays!G:G,Pays!E:E,1,Pays!D:D,D38)","v":0},{"$f":"SUMIFS(Pays!G:G,Pays!E:E,2,Pays!D:D,D38)","v":0},{"$f":"SUMIFS(Pays!G:G,Pays!E:E,57,Pays!D:D,D38)","v":0},{"$f":"SUMIF(Pays!D:D,D38,Pays!G:G)","v":0},{"$f":"SUMIF(Pays!D:D,D38,Pays!G:G)/176","v":0},{"$f":"IF(M38=0,IF(ISNA(MATCH(D38,'اطلاعات افراد غیر حقوق بگیر'!A:A,0)),0,LOOKUP(D38,'اطلاعات افراد غیر حقوق بگیر'!A:A,'اطلاعات افراد غیر حقوق بگیر'!F:F)),IF(H38=31,Settings!$D$13,ROUND(M38,0)))","v":0},null,0,{"$f":"IF(ISNA(MATCH(D38,Master!D:D,0)),IF(ISNA(MATCH(D38,'اطلاعات افراد غیر حقوق بگیر'!A:A,0)),0,LOOKUP(D38,'اطلاعات افراد غیر حقوق بگیر'!A:A,'اطلاعات افراد غیر حقوق بگیر'!G:G)),LOOKUP(D38,Master!D:D,Master!J:J))","v":0},{"$error":"#N/A"},0,0,{"$f":"IF(O38>#REF!,\"اخطار ساعت اضافه کار از حداکثر بیشتر است\",\" \")","v":{"$error":"#REF!"}},{"$f":"IF(O38>#REF!,1,0)","v":{"$error":"#REF!"}}]
[36,{"$f":"IF(D39=0,\"\",Settings!$D$6)","v":""},{"$f":"IF(D39=0,\"\",LOOKUP(B39,'Rigion Code'!A:A,'Rigion Code'!B:B))","v":""},null,{"$f":"IF(D39=0,\" \",IF(ISNA(MATCH(D39,Personnel!A:A,0)),IF(ISNA(MATCH(D39,'اطلاعات افراد غیر حقوق بگیر'!A:A,0)),\"وجود ندارد\",LOOKUP(Edit!D39,'اطلاعات افراد غیر حقوق بگیر'!A:A,'اطلاعات افراد غیر حقوق بگیر'!B:B)),LOOKUP(D39,Personnel!A:A,Personnel!C:C)))","v":" "},{"$f":"IF(D39=0,\" \",IF(ISNA(MATCH(D39,Personnel!A:A,0)),IF(ISNA(MATCH(D39,'اطلاعات افراد غیر حقوق بگیر'!A:A,0)),\"وجود ندارد\",LOOKUP(D39,'اطلاعات افراد غیر حقوق بگیر'!A:A,'اطلاعات افراد غیر حقوق بگیر'!C:C)),LOOKUP(D39,Personnel!A:A,Personnel!B:B)))","v":" "},{"$f":"IF(D39=0,0,IF(ISNA(MATCH(D39,Personnel!A:A,0)),IF(ISNA(MATCH(D39,'اطلاعات افراد غیر حقوق بگیر'!A:A,0)),\"وجود ندارد\",LOOKUP(D39,'اطلاعات افراد غیر حقوق بگیر'!A:A,'اطلاعات افراد غیر حقوق بگیر'!D:D)),LOOKUP(D39,Master!D:D,Master!CD:CD)))","v":0},{"$f":"IF(D39=0,\" \",IF(ISNA(MATCH(D39,Personnel!A:A,0)),IF(ISNA(MATCH(D39,'اطلاعات افراد غیر حقوق بگیر'!A:A,0)),\"وجود ندارد\",LOOKUP(D39,'اطلاعات افراد غیر حقوق بگیر'!A:A,'اطلاعات افراد غیر حقوق بگیر'!E:E)),LOOKUP(D39,Master!D:D,Master!AH:AH)))","v":" "},{"$f":"SUMIFS(Pays!G:G,Pays!E:E,1,Pays!D:D,D39)","v":0},{"$f":"SUMIFS(Pays!G:G,Pays!E:E,2,Pays!D:D,D39)","v":0},{"$f":"SUMIFS(Pays!G:G,Pays!E:E,57,Pays!D:D,D39)","v":0},{"$f":"SUMIF(Pays!D:D,D39,Pays!G:G)","v":0},{"$f":"SUMIF(Pays!D:D,D39,Pays!G:G)/176","v":0},{"$f":"IF(M39=0,IF(ISNA(MATCH(D39,'اطلاعات افراد غیر حقوق بگیر'!A:A,0)),0,LOOKUP(D39,'اطلاعات افراد غیر حقوق بگیر'!A:A,'اطلاعات افراد غیر حقوق بگیر'!F:F)),IF(H39=31,Settings!$D$13,ROUND(M39,0)))","v":0},null,0,{"$f":"IF(ISNA(MATCH(D39,Master!D:D,0)),IF(ISNA(MATCH(D39,'اطلاعات افراد غیر حقوق بگیر'!A:A,0)),0,LOOKUP(D39,'اطلاعات افراد غیر حقوق بگیر'!A:A,'اطلاعات افراد غیر حقوق بگیر'!G:G)),LOOKUP(D39,Master!D:D,Master!J:J))","v":0},{"$error":"#N/A"},0,0,{"$f":"IF(O39>#REF!,\"اخطار ساعت اضافه کار از حداکثر بیشتر است\",\" \")","v":{"$error":"#REF!"}},{"$f":"IF(O39>#REF!,1,0)","v":{"$error":"#REF!"}}]
[37,{"$f":"IF(D40=0,\"\",Settings!$D$6)","v":""},{"$f":"IF(D40=0,\"\",LOOKUP(B40,'Rigion Code'!A:A,'Rigion Code'!B:B))","v":""},null,{"$f":"IF(D40=0,\" \",IF(ISNA(MATCH(D40,Personnel!A:A,0)),IF(ISNA(MATCH(D40,'اطلاعات افراد غیر حقوق بگیر'!A:A,0)),\"وجود ندارد\",LOOKUP(Edit!D40,'اطلاعات افراد غیر حقوق بگیر'!A:A,'اطلاعات افراد غیر حقوق بگیر'!B:B)),LOOKUP(D40,Personnel!A:A,Personnel!C:C)))","v":" "},{"$f":"IF(D40=0,\" \",IF(ISNA(MATCH(D40,Personnel!A:A,0)),IF(ISNA(MATCH(D40,'اطلاعات افراد غیر حقوق بگیر'!A:A,0)),\"وجود ندارد\",LOOKUP(D40,'اطلاعات افراد غیر حقوق بگیر'!A:A,'اطلاعات افراد غیر حقوق بگیر'!C:C)),LOOKUP(D40,Personnel!A:A,Personnel!B:B)))","v":" "},{"$f":"IF(D40=0,0,IF(ISNA(MATCH(D40,Personnel!A:A,0)),IF(ISNA(MATCH(D40,'اطلاعات افراد غیر حقوق بگیر'!A:A,0)),\"وجود ندارد\",LOOKUP(D40,'اطلاعات افراد غیر حقوق بگیر'!A:A,'اطلاعات افراد غیر حقوق بگیر'!D:D)),LOOKUP(D40,Master!D:D,Master!CD:CD)))","v":0},{"$f":"IF(D40=0,\" \",IF(ISNA(MATCH(D40,Personnel!A:A,0)),IF(ISNA(MATCH(D40,'اطلاعات افراد غیر حقوق بگیر'!A:A,0)),\"وجود ندارد\",LOOKUP(D40,'اطلاعات افراد غیر حقوق بگیر'!A:A,'اطلاعات افراد غیر حقوق بگیر'!E:E)),LOOKUP(D40,Master!D:D,Master!AH:AH)))","v":" "},{"$f":"SUMIFS(Pays!G:G,Pays!E:E,1,Pays!D:D,D40)","v":0},{"$f":"SUMIFS(Pays!G:G,Pays!E:E,2,Pays!D:D,D40)","v":0},{"$f":"SUMIFS(Pays!G:G,Pays!E:E,57,Pays!D:D,D40)","v":0},{"$f":"SUMIF(Pays!D:D,D40,Pays!G:G)","v":0},{"$f":"SUMIF(Pays!D:D,D40,Pays!G:G)/176","v":0},{"$f":"IF(M40=0,IF(ISNA(MATCH(D40,'اطلاعات افراد غیر حقوق بگیر'!A:A,0)),0,LOOKUP(D40,'اطلاعات افراد غیر حقوق بگیر'!A:A,'اطلاعات افراد غیر حقوق بگیر'!F:F)),IF(H40=31,Settings!$D$13,ROUND(M40,0)))","v":0},null,0,{"$f":"IF(ISNA(MATCH(D40,Master!D:D,0)),IF(ISNA(MATCH(D40,'اطلاعات افراد غیر حقوق بگیر'!A:A,0)),0,LOOKUP(D40,'اطلاعات افراد غیر حقوق بگیر'!A:A,'اطلاعات افراد غیر حقوق بگیر'!G:G)),LOOKUP(D40,Master!D:D,Master!J:J))","v":0},{"$error":"#N/A"},0,0,{"$f":"IF(O40>#REF!,\"اخطار ساعت اضافه کار از حداکثر بیشتر است\",\" \")","v":{"$error":"#REF!"}},{"$f":"IF(O40>#REF!,1,0)","v":{"$error":"#REF!"}}]
[38,{"$f":"IF(D41=0,\"\",Settings!$D$6)","v":""},{"$f":"IF(D41=0,\"\",LOOKUP(B41,'Rigion Code'!A:A,'Rigion Code'!B:B))","v":""},null,{"$f":"IF(D41=0,\" \",IF(ISNA(MATCH(D41,Personnel!A:A,0)),IF(ISNA(MATCH(D41,'اطلاعات افراد غیر حقوق بگیر'!A:A,0)),\"وجود ندارد\",LOOKUP(Edit!D41,'اطلاعات افراد غیر حقوق بگیر'!A:A,'اطلاعات افراد غیر حقوق بگیر'!B:B)),LOOKUP(D41,Personnel!A:A,Personnel!C:C)))","v":" "},{"$f":"IF(D41=0,\" \",IF(ISNA(MATCH(D41,Personnel!A:A,0)),IF(ISNA(MATCH(D41,'اطلاعات افراد غیر حقوق بگیر'!A:A,0)),\"وجود ندارد\",LOOKUP(D41,'اطلاعات افراد غیر حقوق بگیر'!A:A,'اطلاعات افراد غیر حقوق بگیر'!C:C)),LOOKUP(D41,Personnel!A:A,Personnel!B:B)))","v":" "},{"$f":"IF(D41=0,0,IF(ISNA(MATCH(D41,Personnel!A:A,0)),IF(ISNA(MATCH(D41,'اطلاعات افراد غیر حقوق بگیر'!A:A,0)),\"وجود ندارد\",LOOKUP(D41,'اطلاعات افراد غیر حقوق بگیر'!A:A,'اطلاعات افراد غیر حقوق بگیر'!D:D)),LOOKUP(D41,Master!D:D,Master!CD:CD)))","v":0},{"$f":"IF(D41=0,\" \",IF(ISNA(MATCH(D41,Personnel!A:A,0)),IF(ISNA(MATCH(D41,'اطلاعات افراد غیر حقوق بگیر'!A:A,0)),\"وجود ندارد\",LOOKUP(D41,'اطلاعات افراد غیر حقوق بگیر'!A:A,'اطلاعات افراد غیر حقوق بگیر'!E:E)),LOOKUP(D41,Master!D:D,Master!AH:AH)))","v":" "},{"$f":"SUMIFS(Pays!G:G,Pays!E:E,1,Pays!D:D,D41)","v":0},{"$f":"SUMIFS(Pays!G:G,Pays!E:E,2,Pays!D:D,D41)","v":0},{"$f":"SUMIFS(Pays!G:G,Pays!E:E,57,Pays!D:D,D41)","v":0},{"$f":"SUMIF(Pays!D:D,D41,Pays!G:G)","v":0},{"$f":"SUMIF(Pays!D:D,D41,Pays!G:G)/176","v":0},{"$f":"IF(M41=0,IF(ISNA(MATCH(D41,'اطلاعات افراد غیر حقوق بگیر'!A:A,0)),0,LOOKUP(D41,'اطلاعات افراد غیر حقوق بگیر'!A:A,'اطلاعات افراد غیر حقوق بگیر'!F:F)),IF(H41=31,Settings!$D$13,ROUND(M41,0)))","v":0},null,0,{"$f":"IF(ISNA(MATCH(D41,Master!D:D,0)),IF(ISNA(MATCH(D41,'اطلاعات افراد غیر حقوق بگیر'!A:A,0)),0,LOOKUP(D41,'اطلاعات افراد غیر حقوق بگیر'!A:A,'اطلاعات افراد غیر حقوق بگیر'!G:G)),LOOKUP(D41,Master!D:D,Master!J:J))","v":0},{"$error":"#N/A"},0,0,{"$f":"IF(O41>#REF!,\"اخطار ساعت اضافه کار از حداکثر بیشتر است\",\" \")","v":{"$error":"#REF!"}},{"$f":"IF(O41>#REF!,1,0)","v":{"$error":"#REF!"}}]
[39,{"$f":"IF(D42=0,\"\",Settings!$D$6)","v":""},{"$f":"IF(D42=0,\"\",LOOKUP(B42,'Rigion Code'!A:A,'Rigion Code'!B:B))","v":""},null,{"$f":"IF(D42=0,\" \",IF(ISNA(MATCH(D42,Personnel!A:A,0)),IF(ISNA(MATCH(D42,'اطلاعات افراد غیر حقوق بگیر'!A:A,0)),\"وجود ندارد\",LOOKUP(Edit!D42,'اطلاعات افراد غیر حقوق بگیر'!A:A,'اطلاعات افراد غیر حقوق بگیر'!B:B)),LOOKUP(D42,Personnel!A:A,Personnel!C:C)))","v":" "},{"$f":"IF(D42=0,\" \",IF(ISNA(MATCH(D42,Personnel!A:A,0)),IF(ISNA(MATCH(D42,'اطلاعات افراد غیر حقوق بگیر'!A:A,0)),\"وجود ندارد\",LOOKUP(D42,'اطلاعات افراد غیر حقوق بگیر'!A:A,'اطلاعات افراد غیر حقوق بگیر'!C:C)),LOOKUP(D42,Personnel!A:A,Personnel!B:B)))","v":" "},{"$f":"IF(D42=0,0,IF(ISNA(MATCH(D42,Personnel!A:A,0)),IF(ISNA(MATCH(D42,'اطلاعات افراد غیر حقوق بگیر'!A:A,0)),\"وجود ندارد\",LOOKUP(D42,'اطلاعات افراد غیر حقوق بگیر'!A:A,'اطلاعات افراد غیر حقوق بگیر'!D:D)),LOOKUP(D42,Master!D:D,Master!CD:CD)))","v":0},{"$f":"IF(D42=0,\" \",IF(ISNA(MATCH(D42,Personnel!A:A,0)),IF(ISNA(MATCH(D42,'اطلاعات افراد غیر حقوق بگیر'!A:A,0)),\"وجود ندارد\",LOOKUP(D42,'اطلاعات افراد غیر حقوق بگیر'!A:A,'اطلاعات افراد غیر حقوق بگیر'!E:E)),LOOKUP(D42,Master!D:D,Master!AH:AH)))","v":" "},{"$f":"SUMIFS(Pays!G:G,Pays!E:E,1,Pays!D:D,D42)","v":0},{"$f":"SUMIFS(Pays!G:G,Pays!E:E,2,Pays!D:D,D42)","v":0},{"$f":"SUMIFS(Pays!G:G,Pays!E:E,57,Pays!D:D,D42)","v":0},{"$f":"SUMIF(Pays!D:D,D42,Pays!G:G)","v":0},{"$f":"SUMIF(Pays!D:D,D42,Pays!G:G)/176","v":0},{"$f":"IF(M42=0,IF(ISNA(MATCH(D42,'اطلاعات افراد غیر حقوق بگیر'!A:A,0)),0,LOOKUP(D42,'اطلاعات افراد غیر حقوق بگیر'!A:A,'اطلاعات افراد غیر حقوق بگیر'!F:F)),IF(H42=31,Settings!$D$13,ROUND(M42,0)))","v":0},null,0,{"$f":"IF(ISNA(MATCH(D42,Master!D:D,0)),IF(ISNA(MATCH(D42,'اطلاعات افراد غیر حقوق بگیر'!A:A,0)),0,LOOKUP(D42,'اطلاعات افراد غیر حقوق بگیر'!A:A,'اطلاعات افراد غیر حقوق بگیر'!G:G)),LOOKUP(D42,Master!D:D,Master!J:J))","v":0},{"$error":"#N/A"},0,0,{"$f":"IF(O42>#REF!,\"اخطار ساعت اضافه کار از حداکثر بیشتر است\",\" \")","v":{"$error":"#REF!"}},{"$f":"IF(O42>#REF!,1,0)","v":{"$error":"#REF!"}}]
[40,{"$f":"IF(D43=0,\"\",Settings!$D$6)","v":""},{"$f":"IF(D43=0,\"\",LOOKUP(B43,'Rigion Code'!A:A,'Rigion Code'!B:B))","v":""},null,{"$f":"IF(D43=0,\" \",IF(ISNA(MATCH(D43,Personnel!A:A,0)),IF(ISNA(MATCH(D43,'اطلاعات افراد غیر حقوق بگیر'!A:A,0)),\"وجود ندارد\",LOOKUP(Edit!D43,'اطلاعات افراد غیر حقوق بگیر'!A:A,'اطلاعات افراد غیر حقوق بگیر'!B:B)),LOOKUP(D43,Personnel!A:A,Personnel!C:C)))","v":" "},{"$f":"IF(D43=0,\" \",IF(ISNA(MATCH(D43,Personnel!A:A,0)),IF(ISNA(MATCH(D43,'اطلاعات افراد غیر حقوق بگیر'!A:A,0)),\"وجود ندارد\",LOOKUP(D43,'اطلاعات افراد غیر حقوق بگیر'!A:A,'اطلاعات افراد غیر حقوق بگیر'!C:C)),LOOKUP(D43,Personnel!A:A,Personnel!B:B)))","v":" "},{"$f":"IF(D43=0,0,IF(ISNA(MATCH(D43,Personnel!A:A,0)),IF(ISNA(MATCH(D43,'اطلاعات افراد غیر حقوق بگیر'!A:A,0)),\"وجود ندارد\",LOOKUP(D43,'اطلاعات افراد غیر حقوق بگیر'!A:A,'اطلاعات افراد غیر حقوق بگیر'!D:D)),LOOKUP(D43,Master!D:D,Master!CD:CD)))","v":0},{"$f":"IF(D43=0,\" \",IF(ISNA(MATCH(D43,Personnel!A:A,0)),IF(ISNA(MATCH(D43,'اطلاعات افراد غیر حقوق بگیر'!A:A,0)),\"وجود ندارد\",LOOKUP(D43,'اطلاعات افراد غیر حقوق بگیر'!A:A,'اطلاعات افراد غیر حقوق بگیر'!E:E)),LOOKUP(D43,Master!D:D,Master!AH:AH)))","v":" "},{"$f":"SUMIFS(Pays!G:G,Pays!E:E,1,Pays!D:D,D43)","v":0},{"$f":"SUMIFS(Pays!G:G,Pays!E:E,2,Pays!D:D,D43)","v":0},{"$f":"SUMIFS(Pays!G:G,Pays!E:E,57,Pays!D:D,D43)","v":0},{"$f":"SUMIF(Pays!D:D,D43,Pays!G:G)","v":0},{"$f":"SUMIF(Pays!D:D,D43,Pays!G:G)/176","v":0},{"$f":"IF(M43=0,IF(ISNA(MATCH(D43,'اطلاعات افراد غیر حقوق بگیر'!A:A,0)),0,LOOKUP(D43,'اطلاعات افراد غیر حقوق بگیر'!A:A,'اطلاعات افراد غیر حقوق بگیر'!F:F)),IF(H43=31,Settings!$D$13,ROUND(M43,0)))","v":0},null,0,{"$f":"IF(ISNA(MATCH(D43,Master!D:D,0)),IF(ISNA(MATCH(D43,'اطلاعات افراد غیر حقوق بگیر'!A:A,0)),0,LOOKUP(D43,'اطلاعات افراد غیر حقوق بگیر'!A:A,'اطلاعات افراد غیر حقوق بگیر'!G:G)),LOOKUP(D43,Master!D:D,Master!J:J))","v":0},{"$error":"#N/A"},0,0,{"$f":"IF(O43>#REF!,\"اخطار ساعت اضافه کار از حداکثر بیشتر است\",\" \")","v":{"$error":"#REF!"}},{"$f":"IF(O43>#REF!,1,0)","v":{"$error":"#REF!"}}]
[41,{"$f":"IF(D44=0,\"\",Settings!$D$6)","v":""},{"$f":"IF(D44=0,\"\",LOOKUP(B44,'Rigion Code'!A:A,'Rigion Code'!B:B))","v":""},null,{"$f":"IF(D44=0,\" \",IF(ISNA(MATCH(D44,Personnel!A:A,0)),IF(ISNA(MATCH(D44,'اطلاعات افراد غیر حقوق بگیر'!A:A,0)),\"وجود ندارد\",LOOKUP(Edit!D44,'اطلاعات افراد غیر حقوق بگیر'!A:A,'اطلاعات افراد غیر حقوق بگیر'!B:B)),LOOKUP(D44,Personnel!A:A,Personnel!C:C)))","v":" "},{"$f":"IF(D44=0,\" \",IF(ISNA(MATCH(D44,Personnel!A:A,0)),IF(ISNA(MATCH(D44,'اطلاعات افراد غیر حقوق بگیر'!A:A,0)),\"وجود ندارد\",LOOKUP(D44,'اطلاعات افراد غیر حقوق بگیر'!A:A,'اطلاعات افراد غیر حقوق بگیر'!C:C)),LOOKUP(D44,Personnel!A:A,Personnel!B:B)))","v":" "},{"$f":"IF(D44=0,0,IF(ISNA(MATCH(D44,Personnel!A:A,0)),IF(ISNA(MATCH(D44,'اطلاعات افراد غیر حقوق بگیر'!A:A,0)),\"وجود ندارد\",LOOKUP(D44,'اطلاعات افراد غیر حقوق بگیر'!A:A,'اطلاعات افراد غیر حقوق بگیر'!D:D)),LOOKUP(D44,Master!D:D,Master!CD:CD)))","v":0},{"$f":"IF(D44=0,\" \",IF(ISNA(MATCH(D44,Personnel!A:A,0)),IF(ISNA(MATCH(D44,'اطلاعات افراد غیر حقوق بگیر'!A:A,0)),\"وجود ندارد\",LOOKUP(D44,'اطلاعات افراد غیر حقوق بگیر'!A:A,'اطلاعات افراد غیر حقوق بگیر'!E:E)),LOOKUP(D44,Master!D:D,Master!AH:AH)))","v":" "},{"$f":"SUMIFS(Pays!G:G,Pays!E:E,1,Pays!D:D,D44)","v":0},{"$f":"SUMIFS(Pays!G:G,Pays!E:E,2,Pays!D:D,D44)","v":0},{"$f":"SUMIFS(Pays!G:G,Pays!E:E,57,Pays!D:D,D44)","v":0},{"$f":"SUMIF(Pays!D:D,D44,Pays!G:G)","v":0},{"$f":"SUMIF(Pays!D:D,D44,Pays!G:G)/176","v":0},{"$f":"IF(M44=0,IF(ISNA(MATCH(D44,'اطلاعات افراد غیر حقوق بگیر'!A:A,0)),0,LOOKUP(D44,'اطلاعات افراد غیر حقوق بگیر'!A:A,'اطلاعات افراد غیر حقوق بگیر'!F:F)),IF(H44=31,Settings!$D$13,ROUND(M44,0)))","v":0},null,0,{"$f":"IF(ISNA(MATCH(D44,Master!D:D,0)),IF(ISNA(MATCH(D44,'اطلاعات افراد غیر حقوق بگیر'!A:A,0)),0,LOOKUP(D44,'اطلاعات افراد غیر حقوق بگیر'!A:A,'اطلاعات افراد غیر حقوق بگیر'!G:G)),LOOKUP(D44,Master!D:D,Master!J:J))","v":0},{"$error":"#N/A"},0,0,{"$f":"IF(O44>#REF!,\"اخطار ساعت اضافه کار از حداکثر بیشتر است\",\" \")","v":{"$error":"#REF!"}},{"$f":"IF(O44>#REF!,1,0)","v":{"$error":"#REF!"}}]
[42,{"$f":"IF(D45=0,\"\",Settings!$D$6)","v":""},{"$f":"IF(D45=0,\"\",LOOKUP(B45,'Rigion Code'!A:A,'Rigion Code'!B:B))","v":""},null,{"$f":"IF(D45=0,\" \",IF(ISNA(MATCH(D45,Personnel!A:A,0)),IF(ISNA(MATCH(D45,'اطلاعات افراد غیر حقوق بگیر'!A:A,0)),\"وجود ندارد\",LOOKUP(Edit!D45,'اطلاعات افراد غیر حقوق بگیر'!A:A,'اطلاعات افراد غیر حقوق بگیر'!B:B)),LOOKUP(D45,Personnel!A:A,Personnel!C:C)))","v":" "},{"$f":"IF(D45=0,\" \",IF(ISNA(MATCH(D45,Personnel!A:A,0)),IF(ISNA(MATCH(D45,'اطلاعات افراد غیر حقوق بگیر'!A:A,0)),\"وجود ندارد\",LOOKUP(D45,'اطلاعات افراد غیر حقوق بگیر'!A:A,'اطلاعات افراد غیر حقوق بگیر'!C:C)),LOOKUP(D45,Personnel!A:A,Personnel!B:B)))","v":" "},{"$f":"IF(D45=0,0,IF(ISNA(MATCH(D45,Personnel!A:A,0)),IF(ISNA(MATCH(D45,'اطلاعات افراد غیر حقوق بگیر'!A:A,0)),\"وجود ندارد\",LOOKUP(D45,'اطلاعات افراد غیر حقوق بگیر'!A:A,'اطلاعات افراد غیر حقوق بگیر'!D:D)),LOOKUP(D45,Master!D:D,Master!CD:CD)))","v":0},{"$f":"IF(D45=0,\" \",IF(ISNA(MATCH(D45,Personnel!A:A,0)),IF(ISNA(MATCH(D45,'اطلاعات افراد غیر حقوق بگیر'!A:A,0)),\"وجود ندارد\",LOOKUP(D45,'اطلاعات افراد غیر حقوق بگیر'!A:A,'اطلاعات افراد غیر حقوق بگیر'!E:E)),LOOKUP(D45,Master!D:D,Master!AH:AH)))","v":" "},{"$f":"SUMIFS(Pays!G:G,Pays!E:E,1,Pays!D:D,D45)","v":0},{"$f":"SUMIFS(Pays!G:G,Pays!E:E,2,Pays!D:D,D45)","v":0},{"$f":"SUMIFS(Pays!G:G,Pays!E:E,57,Pays!D:D,D45)","v":0},{"$f":"SUMIF(Pays!D:D,D45,Pays!G:G)","v":0},{"$f":"SUMIF(Pays!D:D,D45,Pays!G:G)/176","v":0},{"$f":"IF(M45=0,IF(ISNA(MATCH(D45,'اطلاعات افراد غیر حقوق بگیر'!A:A,0)),0,LOOKUP(D45,'اطلاعات افراد غیر حقوق بگیر'!A:A,'اطلاعات افراد غیر حقوق بگیر'!F:F)),IF(H45=31,Settings!$D$13,ROUND(M45,0)))","v":0},null,0,{"$f":"IF(ISNA(MATCH(D45,Master!D:D,0)),IF(ISNA(MATCH(D45,'اطلاعات افراد غیر حقوق بگیر'!A:A,0)),0,LOOKUP(D45,'اطلاعات افراد غیر حقوق بگیر'!A:A,'اطلاعات افراد غیر حقوق بگیر'!G:G)),LOOKUP(D45,Master!D:D,Master!J:J))","v":0},{"$error":"#N/A"},0,0,{"$f":"IF(O45>#REF!,\"اخطار ساعت اضافه کار از حداکثر بیشتر است\",\" \")","v":{"$error":"#REF!"}},{"$f":"IF(O45>#REF!,1,0)","v":{"$error":"#REF!"}}]
[43,{"$f":"IF(D46=0,\"\",Settings!$D$6)","v":""},{"$f":"IF(D46=0,\"\",LOOKUP(B46,'Rigion Code'!A:A,'Rigion Code'!B:B))","v":""},null,{"$f":"IF(D46=0,\" \",IF(ISNA(MATCH(D46,Personnel!A:A,0)),IF(ISNA(MATCH(D46,'اطلاعات افراد غیر حقوق بگیر'!A:A,0)),\"وجود ندارد\",LOOKUP(Edit!D46,'اطلاعات افراد غیر حقوق بگیر'!A:A,'اطلاعات افراد غیر حقوق بگیر'!B:B)),LOOKUP(D46,Personnel!A:A,Personnel!C:C)))","v":" "},{"$f":"IF(D46=0,\" \",IF(ISNA(MATCH(D46,Personnel!A:A,0)),IF(ISNA(MATCH(D46,'اطلاعات افراد غیر حقوق بگیر'!A:A,0)),\"وجود ندارد\",LOOKUP(D46,'اطلاعات افراد غیر حقوق بگیر'!A:A,'اطلاعات افراد غیر حقوق بگیر'!C:C)),LOOKUP(D46,Personnel!A:A,Personnel!B:B)))","v":" "},{"$f":"IF(D46=0,0,IF(ISNA(MATCH(D46,Personnel!A:A,0)),IF(ISNA(MATCH(D46,'اطلاعات افراد غیر حقوق بگیر'!A:A,0)),\"وجود ندارد\",LOOKUP(D46,'اطلاعات افراد غیر حقوق بگیر'!A:A,'اطلاعات افراد غیر حقوق بگیر'!D:D)),LOOKUP(D46,Master!D:D,Master!CD:CD)))","v":0},{"$f":"IF(D46=0,\" \",IF(ISNA(MATCH(D46,Personnel!A:A,0)),IF(ISNA(MATCH(D46,'اطلاعات افراد غیر حقوق بگیر'!A:A,0)),\"وجود ندارد\",LOOKUP(D46,'اطلاعات افراد غیر حقوق بگیر'!A:A,'اطلاعات افراد غیر حقوق بگیر'!E:E)),LOOKUP(D46,Master!D:D,Master!AH:AH)))","v":" "},{"$f":"SUMIFS(Pays!G:G,Pays!E:E,1,Pays!D:D,D46)","v":0},{"$f":"SUMIFS(Pays!G:G,Pays!E:E,2,Pays!D:D,D46)","v":0},{"$f":"SUMIFS(Pays!G:G,Pays!E:E,57,Pays!D:D,D46)","v":0},{"$f":"SUMIF(Pays!D:D,D46,Pays!G:G)","v":0},{"$f":"SUMIF(Pays!D:D,D46,Pays!G:G)/176","v":0},{"$f":"IF(M46=0,IF(ISNA(MATCH(D46,'اطلاعات افراد غیر حقوق بگیر'!A:A,0)),0,LOOKUP(D46,'اطلاعات افراد غیر حقوق بگیر'!A:A,'اطلاعات افراد غیر حقوق بگیر'!F:F)),IF(H46=31,Settings!$D$13,ROUND(M46,0)))","v":0},null,0,{"$f":"IF(ISNA(MATCH(D46,Master!D:D,0)),IF(ISNA(MATCH(D46,'اطلاعات افراد غیر حقوق بگیر'!A:A,0)),0,LOOKUP(D46,'اطلاعات افراد غیر حقوق بگیر'!A:A,'اطلاعات افراد غیر حقوق بگیر'!G:G)),LOOKUP(D46,Master!D:D,Master!J:J))","v":0},{"$error":"#N/A"},0,0,{"$f":"IF(O46>#REF!,\"اخطار ساعت اضافه کار از حداکثر بیشتر است\",\" \")","v":{"$error":"#REF!"}},{"$f":"IF(O46>#REF!,1,0)","v":{"$error":"#REF!"}}]
[44,{"$f":"IF(D47=0,\"\",Settings!$D$6)","v":""},{"$f":"IF(D47=0,\"\",LOOKUP(B47,'Rigion Code'!A:A,'Rigion Code'!B:B))","v":""},null,{"$f":"IF(D47=0,\" \",IF(ISNA(MATCH(D47,Personnel!A:A,0)),IF(ISNA(MATCH(D47,'اطلاعات افراد غیر حقوق بگیر'!A:A,0)),\"وجود ندارد\",LOOKUP(Edit!D47,'اطلاعات افراد غیر حقوق بگیر'!A:A,'اطلاعات افراد غیر حقوق بگیر'!B:B)),LOOKUP(D47,Personnel!A:A,Personnel!C:C)))","v":" "},{"$f":"IF(D47=0,\" \",IF(ISNA(MATCH(D47,Personnel!A:A,0)),IF(ISNA(MATCH(D47,'اطلاعات افراد غیر حقوق بگیر'!A:A,0)),\"وجود ندارد\",LOOKUP(D47,'اطلاعات افراد غیر حقوق بگیر'!A:A,'اطلاعات افراد غیر حقوق بگیر'!C:C)),LOOKUP(D47,Personnel!A:A,Personnel!B:B)))","v":" "},{"$f":"IF(D47=0,0,IF(ISNA(MATCH(D47,Personnel!A:A,0)),IF(ISNA(MATCH(D47,'اطلاعات افراد غیر حقوق بگیر'!A:A,0)),\"وجود ندارد\",LOOKUP(D47,'اطلاعات افراد غیر حقوق بگیر'!A:A,'اطلاعات افراد غیر حقوق بگیر'!D:D)),LOOKUP(D47,Master!D:D,Master!CD:CD)))","v":0},{"$f":"IF(D47=0,\" \",IF(ISNA(MATCH(D47,Personnel!A:A,0)),IF(ISNA(MATCH(D47,'اطلاعات افراد غیر حقوق بگیر'!A:A,0)),\"وجود ندارد\",LOOKUP(D47,'اطلاعات افراد غیر حقوق بگیر'!A:A,'اطلاعات افراد غیر حقوق بگیر'!E:E)),LOOKUP(D47,Master!D:D,Master!AH:AH)))","v":" "},{"$f":"SUMIFS(Pays!G:G,Pays!E:E,1,Pays!D:D,D47)","v":0},{"$f":"SUMIFS(Pays!G:G,Pays!E:E,2,Pays!D:D,D47)","v":0},{"$f":"SUMIFS(Pays!G:G,Pays!E:E,57,Pays!D:D,D47)","v":0},{"$f":"SUMIF(Pays!D:D,D47,Pays!G:G)","v":0},{"$f":"SUMIF(Pays!D:D,D47,Pays!G:G)/176","v":0},{"$f":"IF(M47=0,IF(ISNA(MATCH(D47,'اطلاعات افراد غیر حقوق بگیر'!A:A,0)),0,LOOKUP(D47,'اطلاعات افراد غیر حقوق بگیر'!A:A,'اطلاعات افراد غیر حقوق بگیر'!F:F)),IF(H47=31,Settings!$D$13,ROUND(M47,0)))","v":0},null,0,{"$f":"IF(ISNA(MATCH(D47,Master!D:D,0)),IF(ISNA(MATCH(D47,'اطلاعات افراد غیر حقوق بگیر'!A:A,0)),0,LOOKUP(D47,'اطلاعات افراد غیر حقوق بگیر'!A:A,'اطلاعات افراد غیر حقوق بگیر'!G:G)),LOOKUP(D47,Master!D:D,Master!J:J))","v":0},{"$error":"#N/A"},0,0,{"$f":"IF(O47>#REF!,\"اخطار ساعت اضافه کار از حداکثر بیشتر است\",\" \")","v":{"$error":"#REF!"}},{"$f":"IF(O47>#REF!,1,0)","v":{"$error":"#REF!"}}]
[45,{"$f":"IF(D48=0,\"\",Settings!$D$6)","v":""},{"$f":"IF(D48=0,\"\",LOOKUP(B48,'Rigion Code'!A:A,'Rigion Code'!B:B))","v":""},null,{"$f":"IF(D48=0,\" \",IF(ISNA(MATCH(D48,Personnel!A:A,0)),IF(ISNA(MATCH(D48,'اطلاعات افراد غیر حقوق بگیر'!A:A,0)),\"وجود ندارد\",LOOKUP(Edit!D48,'اطلاعات افراد غیر حقوق بگیر'!A:A,'اطلاعات افراد غیر حقوق بگیر'!B:B)),LOOKUP(D48,Personnel!A:A,Personnel!C:C)))","v":" "},{"$f":"IF(D48=0,\" \",IF(ISNA(MATCH(D48,Personnel!A:A,0)),IF(ISNA(MATCH(D48,'اطلاعات افراد غیر حقوق بگیر'!A:A,0)),\"وجود ندارد\",LOOKUP(D48,'اطلاعات افراد غیر حقوق بگیر'!A:A,'اطلاعات افراد غیر حقوق بگیر'!C:C)),LOOKUP(D48,Personnel!A:A,Personnel!B:B)))","v":" "},{"$f":"IF(D48=0,0,IF(ISNA(MATCH(D48,Personnel!A:A,0)),IF(ISNA(MATCH(D48,'اطلاعات افراد غیر حقوق بگیر'!A:A,0)),\"وجود ندارد\",LOOKUP(D48,'اطلاعات افراد غیر حقوق بگیر'!A:A,'اطلاعات افراد غیر حقوق بگیر'!D:D)),LOOKUP(D48,Master!D:D,Master!CD:CD)))","v":0},{"$f":"IF(D48=0,\" \",IF(ISNA(MATCH(D48,Personnel!A:A,0)),IF(ISNA(MATCH(D48,'اطلاعات افراد غیر حقوق بگیر'!A:A,0)),\"وجود ندارد\",LOOKUP(D48,'اطلاعات افراد غیر حقوق بگیر'!A:A,'اطلاعات افراد غیر حقوق بگیر'!E:E)),LOOKUP(D48,Master!D:D,Master!AH:AH)))","v":" "},{"$f":"SUMIFS(Pays!G:G,Pays!E:E,1,Pays!D:D,D48)","v":0},{"$f":"SUMIFS(Pays!G:G,Pays!E:E,2,Pays!D:D,D48)","v":0},{"$f":"SUMIFS(Pays!G:G,Pays!E:E,57,Pays!D:D,D48)","v":0},{"$f":"SUMIF(Pays!D:D,D48,Pays!G:G)","v":0},{"$f":"SUMIF(Pays!D:D,D48,Pays!G:G)/176","v":0},{"$f":"IF(M48=0,IF(ISNA(MATCH(D48,'اطلاعات افراد غیر حقوق بگیر'!A:A,0)),0,LOOKUP(D48,'اطلاعات افراد غیر حقوق بگیر'!A:A,'اطلاعات افراد غیر حقوق بگیر'!F:F)),IF(H48=31,Settings!$D$13,ROUND(M48,0)))","v":0},null,0,{"$f":"IF(ISNA(MATCH(D48,Master!D:D,0)),IF(ISNA(MATCH(D48,'اطلاعات افراد غیر حقوق بگیر'!A:A,0)),0,LOOKUP(D48,'اطلاعات افراد غیر حقوق بگیر'!A:A,'اطلاعات افراد غیر حقوق بگیر'!G:G)),LOOKUP(D48,Master!D:D,Master!J:J))","v":0},{"$error":"#N/A"},0,0,{"$f":"IF(O48>#REF!,\"اخطار ساعت اضافه کار از حداکثر بیشتر است\",\" \")","v":{"$error":"#REF!"}},{"$f":"IF(O48>#REF!,1,0)","v":{"$error":"#REF!"}}]
[46,{"$f":"IF(D49=0,\"\",Settings!$D$6)","v":""},{"$f":"IF(D49=0,\"\",LOOKUP(B49,'Rigion Code'!A:A,'Rigion Code'!B:B))","v":""},null,{"$f":"IF(D49=0,\" \",IF(ISNA(MATCH(D49,Personnel!A:A,0)),IF(ISNA(MATCH(D49,'اطلاعات افراد غیر حقوق بگیر'!A:A,0)),\"وجود ندارد\",LOOKUP(Edit!D49,'اطلاعات افراد غیر حقوق بگیر'!A:A,'اطلاعات افراد غیر حقوق بگیر'!B:B)),LOOKUP(D49,Personnel!A:A,Personnel!C:C)))","v":" "},{"$f":"IF(D49=0,\" \",IF(ISNA(MATCH(D49,Personnel!A:A,0)),IF(ISNA(MATCH(D49,'اطلاعات افراد غیر حقوق بگیر'!A:A,0)),\"وجود ندارد\",LOOKUP(D49,'اطلاعات افراد غیر حقوق بگیر'!A:A,'اطلاعات افراد غیر حقوق بگیر'!C:C)),LOOKUP(D49,Personnel!A:A,Personnel!B:B)))","v":" "},{"$f":"IF(D49=0,0,IF(ISNA(MATCH(D49,Personnel!A:A,0)),IF(ISNA(MATCH(D49,'اطلاعات افراد غیر حقوق بگیر'!A:A,0)),\"وجود ندارد\",LOOKUP(D49,'اطلاعات افراد غیر حقوق بگیر'!A:A,'اطلاعات افراد غیر حقوق بگیر'!D:D)),LOOKUP(D49,Master!D:D,Master!CD:CD)))","v":0},{"$f":"IF(D49=0,\" \",IF(ISNA(MATCH(D49,Personnel!A:A,0)),IF(ISNA(MATCH(D49,'اطلاعات افراد غیر حقوق بگیر'!A:A,0)),\"وجود ندارد\",LOOKUP(D49,'اطلاعات افراد غیر حقوق بگیر'!A:A,'اطلاعات افراد غیر حقوق بگیر'!E:E)),LOOKUP(D49,Master!D:D,Master!AH:AH)))","v":" "},{"$f":"SUMIFS(Pays!G:G,Pays!E:E,1,Pays!D:D,D49)","v":0},{"$f":"SUMIFS(Pays!G:G,Pays!E:E,2,Pays!D:D,D49)","v":0},{"$f":"SUMIFS(Pays!G:G,Pays!E:E,57,Pays!D:D,D49)","v":0},{"$f":"SUMIF(Pays!D:D,D49,Pays!G:G)","v":0},{"$f":"SUMIF(Pays!D:D,D49,Pays!G:G)/176","v":0},{"$f":"IF(M49=0,IF(ISNA(MATCH(D49,'اطلاعات افراد غیر حقوق بگیر'!A:A,0)),0,LOOKUP(D49,'اطلاعات افراد غیر حقوق بگیر'!A:A,'اطلاعات افراد غیر حقوق بگیر'!F:F)),IF(H49=31,Settings!$D$13,ROUND(M49,0)))","v":0},null,0,{"$f":"IF(ISNA(MATCH(D49,Master!D:D,0)),IF(ISNA(MATCH(D49,'اطلاعات افراد غیر حقوق بگیر'!A:A,0)),0,LOOKUP(D49,'اطلاعات افراد غیر حقوق بگیر'!A:A,'اطلاعات افراد غیر حقوق بگیر'!G:G)),LOOKUP(D49,Master!D:D,Master!J:J))","v":0},{"$error":"#N/A"},0,0,{"$f":"IF(O49>#REF!,\"اخطار ساعت اضافه کار از حداکثر بیشتر است\",\" \")","v":{"$error":"#REF!"}},{"$f":"IF(O49>#REF!,1,0)","v":{"$error":"#REF!"}}]
[47,{"$f":"IF(D50=0,\"\",Settings!$D$6)","v":""},{"$f":"IF(D50=0,\"\",LOOKUP(B50,'Rigion Code'!A:A,'Rigion Code'!B:B))","v":""},null,{"$f":"IF(D50=0,\" \",IF(ISNA(MATCH(D50,Personnel!A:A,0)),IF(ISNA(MATCH(D50,'اطلاعات افراد غیر حقوق بگیر'!A:A,0)),\"وجود ندارد\",LOOKUP(Edit!D50,'اطلاعات افراد غیر حقوق بگیر'!A:A,'اطلاعات افراد غیر حقوق بگیر'!B:B)),LOOKUP(D50,Personnel!A:A,Personnel!C:C)))","v":" "},{"$f":"IF(D50=0,\" \",IF(ISNA(MATCH(D50,Personnel!A:A,0)),IF(ISNA(MATCH(D50,'اطلاعات افراد غیر حقوق بگیر'!A:A,0)),\"وجود ندارد\",LOOKUP(D50,'اطلاعات افراد غیر حقوق بگیر'!A:A,'اطلاعات افراد غیر حقوق بگیر'!C:C)),LOOKUP(D50,Personnel!A:A,Personnel!B:B)))","v":" "},{"$f":"IF(D50=0,0,IF(ISNA(MATCH(D50,Personnel!A:A,0)),IF(ISNA(MATCH(D50,'اطلاعات افراد غیر حقوق بگیر'!A:A,0)),\"وجود ندارد\",LOOKUP(D50,'اطلاعات افراد غیر حقوق بگیر'!A:A,'اطلاعات افراد غیر حقوق بگیر'!D:D)),LOOKUP(D50,Master!D:D,Master!CD:CD)))","v":0},{"$f":"IF(D50=0,\" \",IF(ISNA(MATCH(D50,Personnel!A:A,0)),IF(ISNA(MATCH(D50,'اطلاعات افراد غیر حقوق بگیر'!A:A,0)),\"وجود ندارد\",LOOKUP(D50,'اطلاعات افراد غیر حقوق بگیر'!A:A,'اطلاعات افراد غیر حقوق بگیر'!E:E)),LOOKUP(D50,Master!D:D,Master!AH:AH)))","v":" "},{"$f":"SUMIFS(Pays!G:G,Pays!E:E,1,Pays!D:D,D50)","v":0},{"$f":"SUMIFS(Pays!G:G,Pays!E:E,2,Pays!D:D,D50)","v":0},{"$f":"SUMIFS(Pays!G:G,Pays!E:E,57,Pays!D:D,D50)","v":0},{"$f":"SUMIF(Pays!D:D,D50,Pays!G:G)","v":0},{"$f":"SUMIF(Pays!D:D,D50,Pays!G:G)/176","v":0},{"$f":"IF(M50=0,IF(ISNA(MATCH(D50,'اطلاعات افراد غیر حقوق بگیر'!A:A,0)),0,LOOKUP(D50,'اطلاعات افراد غیر حقوق بگیر'!A:A,'اطلاعات افراد غیر حقوق بگیر'!F:F)),IF(H50=31,Settings!$D$13,ROUND(M50,0)))","v":0},null,0,{"$f":"IF(ISNA(MATCH(D50,Master!D:D,0)),IF(ISNA(MATCH(D50,'اطلاعات افراد غیر حقوق بگیر'!A:A,0)),0,LOOKUP(D50,'اطلاعات افراد غیر حقوق بگیر'!A:A,'اطلاعات افراد غیر حقوق بگیر'!G:G)),LOOKUP(D50,Master!D:D,Master!J:J))","v":0},{"$error":"#N/A"},0,0,{"$f":"IF(O50>#REF!,\"اخطار ساعت اضافه کار از حداکثر بیشتر است\",\" \")","v":{"$error":"#REF!"}},{"$f":"IF(O50>#REF!,1,0)","v":{"$error":"#REF!"}}]
[48,{"$f":"IF(D51=0,\"\",Settings!$D$6)","v":""},{"$f":"IF(D51=0,\"\",LOOKUP(B51,'Rigion Code'!A:A,'Rigion Code'!B:B))","v":""},null,{"$f":"IF(D51=0,\" \",IF(ISNA(MATCH(D51,Personnel!A:A,0)),IF(ISNA(MATCH(D51,'اطلاعات افراد غیر حقوق بگیر'!A:A,0)),\"وجود ندارد\",LOOKUP(Edit!D51,'اطلاعات افراد غیر حقوق بگیر'!A:A,'اطلاعات افراد غیر حقوق بگیر'!B:B)),LOOKUP(D51,Personnel!A:A,Personnel!C:C)))","v":" "},{"$f":"IF(D51=0,\" \",IF(ISNA(MATCH(D51,Personnel!A:A,0)),IF(ISNA(MATCH(D51,'اطلاعات افراد غیر حقوق بگیر'!A:A,0)),\"وجود ندارد\",LOOKUP(D51,'اطلاعات افراد غیر حقوق بگیر'!A:A,'اطلاعات افراد غیر حقوق بگیر'!C:C)),LOOKUP(D51,Personnel!A:A,Personnel!B:B)))","v":" "},{"$f":"IF(D51=0,0,IF(ISNA(MATCH(D51,Personnel!A:A,0)),IF(ISNA(MATCH(D51,'اطلاعات افراد غیر حقوق بگیر'!A:A,0)),\"وجود ندارد\",LOOKUP(D51,'اطلاعات افراد غیر حقوق بگیر'!A:A,'اطلاعات افراد غیر حقوق بگیر'!D:D)),LOOKUP(D51,Master!D:D,Master!CD:CD)))","v":0},{"$f":"IF(D51=0,\" \",IF(ISNA(MATCH(D51,Personnel!A:A,0)),IF(ISNA(MATCH(D51,'اطلاعات افراد غیر حقوق بگیر'!A:A,0)),\"وجود ندارد\",LOOKUP(D51,'اطلاعات افراد غیر حقوق بگیر'!A:A,'اطلاعات افراد غیر حقوق بگیر'!E:E)),LOOKUP(D51,Master!D:D,Master!AH:AH)))","v":" "},{"$f":"SUMIFS(Pays!G:G,Pays!E:E,1,Pays!D:D,D51)","v":0},{"$f":"SUMIFS(Pays!G:G,Pays!E:E,2,Pays!D:D,D51)","v":0},{"$f":"SUMIFS(Pays!G:G,Pays!E:E,57,Pays!D:D,D51)","v":0},{"$f":"SUMIF(Pays!D:D,D51,Pays!G:G)","v":0},{"$f":"SUMIF(Pays!D:D,D51,Pays!G:G)/176","v":0},{"$f":"IF(M51=0,IF(ISNA(MATCH(D51,'اطلاعات افراد غیر حقوق بگیر'!A:A,0)),0,LOOKUP(D51,'اطلاعات افراد غیر حقوق بگیر'!A:A,'اطلاعات افراد غیر حقوق بگیر'!F:F)),IF(H51=31,Settings!$D$13,ROUND(M51,0)))","v":0},null,0,{"$f":"IF(ISNA(MATCH(D51,Master!D:D,0)),IF(ISNA(MATCH(D51,'اطلاعات افراد غیر حقوق بگیر'!A:A,0)),0,LOOKUP(D51,'اطلاعات افراد غیر حقوق بگیر'!A:A,'اطلاعات افراد غیر حقوق بگیر'!G:G)),LOOKUP(D51,Master!D:D,Master!J:J))","v":0},{"$error":"#N/A"},0,0,{"$f":"IF(O51>#REF!,\"اخطار ساعت اضافه کار از حداکثر بیشتر است\",\" \")","v":{"$error":"#REF!"}},{"$f":"IF(O51>#REF!,1,0)","v":{"$error":"#REF!"}}]
[49,{"$f":"IF(D52=0,\"\",Settings!$D$6)","v":""},{"$f":"IF(D52=0,\"\",LOOKUP(B52,'Rigion Code'!A:A,'Rigion Code'!B:B))","v":""},null,{"$f":"IF(D52=0,\" \",IF(ISNA(MATCH(D52,Personnel!A:A,0)),IF(ISNA(MATCH(D52,'اطلاعات افراد غیر حقوق بگیر'!A:A,0)),\"وجود ندارد\",LOOKUP(Edit!D52,'اطلاعات افراد غیر حقوق بگیر'!A:A,'اطلاعات افراد غیر حقوق بگیر'!B:B)),LOOKUP(D52,Personnel!A:A,Personnel!C:C)))","v":" "},{"$f":"IF(D52=0,\" \",IF(ISNA(MATCH(D52,Personnel!A:A,0)),IF(ISNA(MATCH(D52,'اطلاعات افراد غیر حقوق بگیر'!A:A,0)),\"وجود ندارد\",LOOKUP(D52,'اطلاعات افراد غیر حقوق بگیر'!A:A,'اطلاعات افراد غیر حقوق بگیر'!C:C)),LOOKUP(D52,Personnel!A:A,Personnel!B:B)))","v":" "},{"$f":"IF(D52=0,0,IF(ISNA(MATCH(D52,Personnel!A:A,0)),IF(ISNA(MATCH(D52,'اطلاعات افراد غیر حقوق بگیر'!A:A,0)),\"وجود ندارد\",LOOKUP(D52,'اطلاعات افراد غیر حقوق بگیر'!A:A,'اطلاعات افراد غیر حقوق بگیر'!D:D)),LOOKUP(D52,Master!D:D,Master!CD:CD)))","v":0},{"$f":"IF(D52=0,\" \",IF(ISNA(MATCH(D52,Personnel!A:A,0)),IF(ISNA(MATCH(D52,'اطلاعات افراد غیر حقوق بگیر'!A:A,0)),\"وجود ندارد\",LOOKUP(D52,'اطلاعات افراد غیر حقوق بگیر'!A:A,'اطلاعات افراد غیر حقوق بگیر'!E:E)),LOOKUP(D52,Master!D:D,Master!AH:AH)))","v":" "},{"$f":"SUMIFS(Pays!G:G,Pays!E:E,1,Pays!D:D,D52)","v":0},{"$f":"SUMIFS(Pays!G:G,Pays!E:E,2,Pays!D:D,D52)","v":0},{"$f":"SUMIFS(Pays!G:G,Pays!E:E,57,Pays!D:D,D52)","v":0},{"$f":"SUMIF(Pays!D:D,D52,Pays!G:G)","v":0},{"$f":"SUMIF(Pays!D:D,D52,Pays!G:G)/176","v":0},{"$f":"IF(M52=0,IF(ISNA(MATCH(D52,'اطلاعات افراد غیر حقوق بگیر'!A:A,0)),0,LOOKUP(D52,'اطلاعات افراد غیر حقوق بگیر'!A:A,'اطلاعات افراد غیر حقوق بگیر'!F:F)),IF(H52=31,Settings!$D$13,ROUND(M52,0)))","v":0},null,0,{"$f":"IF(ISNA(MATCH(D52,Master!D:D,0)),IF(ISNA(MATCH(D52,'اطلاعات افراد غیر حقوق بگیر'!A:A,0)),0,LOOKUP(D52,'اطلاعات افراد غیر حقوق بگیر'!A:A,'اطلاعات افراد غیر حقوق بگیر'!G:G)),LOOKUP(D52,Master!D:D,Master!J:J))","v":0},{"$error":"#N/A"},0,0,{"$f":"IF(O52>#REF!,\"اخطار ساعت اضافه کار از حداکثر بیشتر است\",\" \")","v":{"$error":"#REF!"}},{"$f":"IF(O52>#REF!,1,0)","v":{"$error":"#REF!"}}]
[50,{"$f":"IF(D53=0,\"\",Settings!$D$6)","v":""},{"$f":"IF(D53=0,\"\",LOOKUP(B53,'Rigion Code'!A:A,'Rigion Code'!B:B))","v":""},null,{"$f":"IF(D53=0,\" \",IF(ISNA(MATCH(D53,Personnel!A:A,0)),IF(ISNA(MATCH(D53,'اطلاعات افراد غیر حقوق بگیر'!A:A,0)),\"وجود ندارد\",LOOKUP(Edit!D53,'اطلاعات افراد غیر حقوق بگیر'!A:A,'اطلاعات افراد غیر حقوق بگیر'!B:B)),LOOKUP(D53,Personnel!A:A,Personnel!C:C)))","v":" "},{"$f":"IF(D53=0,\" \",IF(ISNA(MATCH(D53,Personnel!A:A,0)),IF(ISNA(MATCH(D53,'اطلاعات افراد غیر حقوق بگیر'!A:A,0)),\"وجود ندارد\",LOOKUP(D53,'اطلاعات افراد غیر حقوق بگیر'!A:A,'اطلاعات افراد غیر حقوق بگیر'!C:C)),LOOKUP(D53,Personnel!A:A,Personnel!B:B)))","v":" "},{"$f":"IF(D53=0,0,IF(ISNA(MATCH(D53,Personnel!A:A,0)),IF(ISNA(MATCH(D53,'اطلاعات افراد غیر حقوق بگیر'!A:A,0)),\"وجود ندارد\",LOOKUP(D53,'اطلاعات افراد غیر حقوق بگیر'!A:A,'اطلاعات افراد غیر حقوق بگیر'!D:D)),LOOKUP(D53,Master!D:D,Master!CD:CD)))","v":0},{"$f":"IF(D53=0,\" \",IF(ISNA(MATCH(D53,Personnel!A:A,0)),IF(ISNA(MATCH(D53,'اطلاعات افراد غیر حقوق بگیر'!A:A,0)),\"وجود ندارد\",LOOKUP(D53,'اطلاعات افراد غیر حقوق بگیر'!A:A,'اطلاعات افراد غیر حقوق بگیر'!E:E)),LOOKUP(D53,Master!D:D,Master!AH:AH)))","v":" "},{"$f":"SUMIFS(Pays!G:G,Pays!E:E,1,Pays!D:D,D53)","v":0},{"$f":"SUMIFS(Pays!G:G,Pays!E:E,2,Pays!D:D,D53)","v":0},{"$f":"SUMIFS(Pays!G:G,Pays!E:E,57,Pays!D:D,D53)","v":0},{"$f":"SUMIF(Pays!D:D,D53,Pays!G:G)","v":0},{"$f":"SUMIF(Pays!D:D,D53,Pays!G:G)/176","v":0},{"$f":"IF(M53=0,IF(ISNA(MATCH(D53,'اطلاعات افراد غیر حقوق بگیر'!A:A,0)),0,LOOKUP(D53,'اطلاعات افراد غیر حقوق بگیر'!A:A,'اطلاعات افراد غیر حقوق بگیر'!F:F)),IF(H53=31,Settings!$D$13,ROUND(M53,0)))","v":0},null,0,{"$f":"IF(ISNA(MATCH(D53,Master!D:D,0)),IF(ISNA(MATCH(D53,'اطلاعات افراد غیر حقوق بگیر'!A:A,0)),0,LOOKUP(D53,'اطلاعات افراد غیر حقوق بگیر'!A:A,'اطلاعات افراد غیر حقوق بگیر'!G:G)),LOOKUP(D53,Master!D:D,Master!J:J))","v":0},{"$error":"#N/A"},0,0,{"$f":"IF(O53>#REF!,\"اخطار ساعت اضافه کار از حداکثر بیشتر است\",\" \")","v":{"$error":"#REF!"}},{"$f":"IF(O53>#REF!,1,0)","v":{"$error":"#REF!"}}]
[51,{"$f":"IF(D54=0,\"\",Settings!$D$6)","v":""},{"$f":"IF(D54=0,\"\",LOOKUP(B54,'Rigion Code'!A:A,'Rigion Code'!B:B))","v":""},null,{"$f":"IF(D54=0,\" \",IF(ISNA(MATCH(D54,Personnel!A:A,0)),IF(ISNA(MATCH(D54,'اطلاعات افراد غیر حقوق بگیر'!A:A,0)),\"وجود ندارد\",LOOKUP(Edit!D54,'اطلاعات افراد غیر حقوق بگیر'!A:A,'اطلاعات افراد غیر حقوق بگیر'!B:B)),LOOKUP(D54,Personnel!A:A,Personnel!C:C)))","v":" "},{"$f":"IF(D54=0,\" \",IF(ISNA(MATCH(D54,Personnel!A:A,0)),IF(ISNA(MATCH(D54,'اطلاعات افراد غیر حقوق بگیر'!A:A,0)),\"وجود ندارد\",LOOKUP(D54,'اطلاعات افراد غیر حقوق بگیر'!A:A,'اطلاعات افراد غیر حقوق بگیر'!C:C)),LOOKUP(D54,Personnel!A:A,Personnel!B:B)))","v":" "},{"$f":"IF(D54=0,0,IF(ISNA(MATCH(D54,Personnel!A:A,0)),IF(ISNA(MATCH(D54,'اطلاعات افراد غیر حقوق بگیر'!A:A,0)),\"وجود ندارد\",LOOKUP(D54,'اطلاعات افراد غیر حقوق بگیر'!A:A,'اطلاعات افراد غیر حقوق بگیر'!D:D)),LOOKUP(D54,Master!D:D,Master!CD:CD)))","v":0},{"$f":"IF(D54=0,\" \",IF(ISNA(MATCH(D54,Personnel!A:A,0)),IF(ISNA(MATCH(D54,'اطلاعات افراد غیر حقوق بگیر'!A:A,0)),\"وجود ندارد\",LOOKUP(D54,'اطلاعات افراد غیر حقوق بگیر'!A:A,'اطلاعات افراد غیر حقوق بگیر'!E:E)),LOOKUP(D54,Master!D:D,Master!AH:AH)))","v":" "},{"$f":"SUMIFS(Pays!G:G,Pays!E:E,1,Pays!D:D,D54)","v":0},{"$f":"SUMIFS(Pays!G:G,Pays!E:E,2,Pays!D:D,D54)","v":0},{"$f":"SUMIFS(Pays!G:G,Pays!E:E,57,Pays!D:D,D54)","v":0},{"$f":"SUMIF(Pays!D:D,D54,Pays!G:G)","v":0},{"$f":"SUMIF(Pays!D:D,D54,Pays!G:G)/176","v":0},{"$f":"IF(M54=0,IF(ISNA(MATCH(D54,'اطلاعات افراد غیر حقوق بگیر'!A:A,0)),0,LOOKUP(D54,'اطلاعات افراد غیر حقوق بگیر'!A:A,'اطلاعات افراد غیر حقوق بگیر'!F:F)),IF(H54=31,Settings!$D$13,ROUND(M54,0)))","v":0},null,0,{"$f":"IF(ISNA(MATCH(D54,Master!D:D,0)),IF(ISNA(MATCH(D54,'اطلاعات افراد غیر حقوق بگیر'!A:A,0)),0,LOOKUP(D54,'اطلاعات افراد غیر حقوق بگیر'!A:A,'اطلاعات افراد غیر حقوق بگیر'!G:G)),LOOKUP(D54,Master!D:D,Master!J:J))","v":0},{"$error":"#N/A"},0,0,{"$f":"IF(O54>#REF!,\"اخطار ساعت اضافه کار از حداکثر بیشتر است\",\" \")","v":{"$error":"#REF!"}},{"$f":"IF(O54>#REF!,1,0)","v":{"$error":"#REF!"}}]
[52,{"$f":"IF(D55=0,\"\",Settings!$D$6)","v":""},{"$f":"IF(D55=0,\"\",LOOKUP(B55,'Rigion Code'!A:A,'Rigion Code'!B:B))","v":""},null,{"$f":"IF(D55=0,\" \",IF(ISNA(MATCH(D55,Personnel!A:A,0)),IF(ISNA(MATCH(D55,'اطلاعات افراد غیر حقوق بگیر'!A:A,0)),\"وجود ندارد\",LOOKUP(Edit!D55,'اطلاعات افراد غیر حقوق بگیر'!A:A,'اطلاعات افراد غیر حقوق بگیر'!B:B)),LOOKUP(D55,Personnel!A:A,Personnel!C:C)))","v":" "},{"$f":"IF(D55=0,\" \",IF(ISNA(MATCH(D55,Personnel!A:A,0)),IF(ISNA(MATCH(D55,'اطلاعات افراد غیر حقوق بگیر'!A:A,0)),\"وجود ندارد\",LOOKUP(D55,'اطلاعات افراد غیر حقوق بگیر'!A:A,'اطلاعات افراد غیر حقوق بگیر'!C:C)),LOOKUP(D55,Personnel!A:A,Personnel!B:B)))","v":" "},{"$f":"IF(D55=0,0,IF(ISNA(MATCH(D55,Personnel!A:A,0)),IF(ISNA(MATCH(D55,'اطلاعات افراد غیر حقوق بگیر'!A:A,0)),\"وجود ندارد\",LOOKUP(D55,'اطلاعات افراد غیر حقوق بگیر'!A:A,'اطلاعات افراد غیر حقوق بگیر'!D:D)),LOOKUP(D55,Master!D:D,Master!CD:CD)))","v":0},{"$f":"IF(D55=0,\" \",IF(ISNA(MATCH(D55,Personnel!A:A,0)),IF(ISNA(MATCH(D55,'اطلاعات افراد غیر حقوق بگیر'!A:A,0)),\"وجود ندارد\",LOOKUP(D55,'اطلاعات افراد غیر حقوق بگیر'!A:A,'اطلاعات افراد غیر حقوق بگیر'!E:E)),LOOKUP(D55,Master!D:D,Master!AH:AH)))","v":" "},{"$f":"SUMIFS(Pays!G:G,Pays!E:E,1,Pays!D:D,D55)","v":0},{"$f":"SUMIFS(Pays!G:G,Pays!E:E,2,Pays!D:D,D55)","v":0},{"$f":"SUMIFS(Pays!G:G,Pays!E:E,57,Pays!D:D,D55)","v":0},{"$f":"SUMIF(Pays!D:D,D55,Pays!G:G)","v":0},{"$f":"SUMIF(Pays!D:D,D55,Pays!G:G)/176","v":0},{"$f":"IF(M55=0,IF(ISNA(MATCH(D55,'اطلاعات افراد غیر حقوق بگیر'!A:A,0)),0,LOOKUP(D55,'اطلاعات افراد غیر حقوق بگیر'!A:A,'اطلاعات افراد غیر حقوق بگیر'!F:F)),IF(H55=31,Settings!$D$13,ROUND(M55,0)))","v":0},null,0,{"$f":"IF(ISNA(MATCH(D55,Master!D:D,0)),IF(ISNA(MATCH(D55,'اطلاعات افراد غیر حقوق بگیر'!A:A,0)),0,LOOKUP(D55,'اطلاعات افراد غیر حقوق بگیر'!A:A,'اطلاعات افراد غیر حقوق بگیر'!G:G)),LOOKUP(D55,Master!D:D,Master!J:J))","v":0},{"$error":"#N/A"},0,0,{"$f":"IF(O55>#REF!,\"اخطار ساعت اضافه کار از حداکثر بیشتر است\",\" \")","v":{"$error":"#REF!"}},{"$f":"IF(O55>#REF!,1,0)","v":{"$error":"#REF!"}}]
[53,{"$f":"IF(D56=0,\"\",Settings!$D$6)","v":""},{"$f":"IF(D56=0,\"\",LOOKUP(B56,'Rigion Code'!A:A,'Rigion Code'!B:B))","v":""},null,{"$f":"IF(D56=0,\" \",IF(ISNA(MATCH(D56,Personnel!A:A,0)),IF(ISNA(MATCH(D56,'اطلاعات افراد غیر حقوق بگیر'!A:A,0)),\"وجود ندارد\",LOOKUP(Edit!D56,'اطلاعات افراد غیر حقوق بگیر'!A:A,'اطلاعات افراد غیر حقوق بگیر'!B:B)),LOOKUP(D56,Personnel!A:A,Personnel!C:C)))","v":" "},{"$f":"IF(D56=0,\" \",IF(ISNA(MATCH(D56,Personnel!A:A,0)),IF(ISNA(MATCH(D56,'اطلاعات افراد غیر حقوق بگیر'!A:A,0)),\"وجود ندارد\",LOOKUP(D56,'اطلاعات افراد غیر حقوق بگیر'!A:A,'اطلاعات افراد غیر حقوق بگیر'!C:C)),LOOKUP(D56,Personnel!A:A,Personnel!B:B)))","v":" "},{"$f":"IF(D56=0,0,IF(ISNA(MATCH(D56,Personnel!A:A,0)),IF(ISNA(MATCH(D56,'اطلاعات افراد غیر حقوق بگیر'!A:A,0)),\"وجود ندارد\",LOOKUP(D56,'اطلاعات افراد غیر حقوق بگیر'!A:A,'اطلاعات افراد غیر حقوق بگیر'!D:D)),LOOKUP(D56,Master!D:D,Master!CD:CD)))","v":0},{"$f":"IF(D56=0,\" \",IF(ISNA(MATCH(D56,Personnel!A:A,0)),IF(ISNA(MATCH(D56,'اطلاعات افراد غیر حقوق بگیر'!A:A,0)),\"وجود ندارد\",LOOKUP(D56,'اطلاعات افراد غیر حقوق بگیر'!A:A,'اطلاعات افراد غیر حقوق بگیر'!E:E)),LOOKUP(D56,Master!D:D,Master!AH:AH)))","v":" "},{"$f":"SUMIFS(Pays!G:G,Pays!E:E,1,Pays!D:D,D56)","v":0},{"$f":"SUMIFS(Pays!G:G,Pays!E:E,2,Pays!D:D,D56)","v":0},{"$f":"SUMIFS(Pays!G:G,Pays!E:E,57,Pays!D:D,D56)","v":0},{"$f":"SUMIF(Pays!D:D,D56,Pays!G:G)","v":0},{"$f":"SUMIF(Pays!D:D,D56,Pays!G:G)/176","v":0},{"$f":"IF(M56=0,IF(ISNA(MATCH(D56,'اطلاعات افراد غیر حقوق بگیر'!A:A,0)),0,LOOKUP(D56,'اطلاعات افراد غیر حقوق بگیر'!A:A,'اطلاعات افراد غیر حقوق بگیر'!F:F)),IF(H56=31,Settings!$D$13,ROUND(M56,0)))","v":0},null,0,{"$f":"IF(ISNA(MATCH(D56,Master!D:D,0)),IF(ISNA(MATCH(D56,'اطلاعات افراد غیر حقوق بگیر'!A:A,0)),0,LOOKUP(D56,'اطلاعات افراد غیر حقوق بگیر'!A:A,'اطلاعات افراد غیر حقوق بگیر'!G:G)),LOOKUP(D56,Master!D:D,Master!J:J))","v":0},{"$error":"#N/A"},0,0,{"$f":"IF(O56>#REF!,\"اخطار ساعت اضافه کار از حداکثر بیشتر است\",\" \")","v":{"$error":"#REF!"}},{"$f":"IF(O56>#REF!,1,0)","v":{"$error":"#REF!"}}]
[54,{"$f":"IF(D57=0,\"\",Settings!$D$6)","v":""},{"$f":"IF(D57=0,\"\",LOOKUP(B57,'Rigion Code'!A:A,'Rigion Code'!B:B))","v":""},null,{"$f":"IF(D57=0,\" \",IF(ISNA(MATCH(D57,Personnel!A:A,0)),IF(ISNA(MATCH(D57,'اطلاعات افراد غیر حقوق بگیر'!A:A,0)),\"وجود ندارد\",LOOKUP(Edit!D57,'اطلاعات افراد غیر حقوق بگیر'!A:A,'اطلاعات افراد غیر حقوق بگیر'!B:B)),LOOKUP(D57,Personnel!A:A,Personnel!C:C)))","v":" "},{"$f":"IF(D57=0,\" \",IF(ISNA(MATCH(D57,Personnel!A:A,0)),IF(ISNA(MATCH(D57,'اطلاعات افراد غیر حقوق بگیر'!A:A,0)),\"وجود ندارد\",LOOKUP(D57,'اطلاعات افراد غیر حقوق بگیر'!A:A,'اطلاعات افراد غیر حقوق بگیر'!C:C)),LOOKUP(D57,Personnel!A:A,Personnel!B:B)))","v":" "},{"$f":"IF(D57=0,0,IF(ISNA(MATCH(D57,Personnel!A:A,0)),IF(ISNA(MATCH(D57,'اطلاعات افراد غیر حقوق بگیر'!A:A,0)),\"وجود ندارد\",LOOKUP(D57,'اطلاعات افراد غیر حقوق بگیر'!A:A,'اطلاعات افراد غیر حقوق بگیر'!D:D)),LOOKUP(D57,Master!D:D,Master!CD:CD)))","v":0},{"$f":"IF(D57=0,\" \",IF(ISNA(MATCH(D57,Personnel!A:A,0)),IF(ISNA(MATCH(D57,'اطلاعات افراد غیر حقوق بگیر'!A:A,0)),\"وجود ندارد\",LOOKUP(D57,'اطلاعات افراد غیر حقوق بگیر'!A:A,'اطلاعات افراد غیر حقوق بگیر'!E:E)),LOOKUP(D57,Master!D:D,Master!AH:AH)))","v":" "},{"$f":"SUMIFS(Pays!G:G,Pays!E:E,1,Pays!D:D,D57)","v":0},{"$f":"SUMIFS(Pays!G:G,Pays!E:E,2,Pays!D:D,D57)","v":0},{"$f":"SUMIFS(Pays!G:G,Pays!E:E,57,Pays!D:D,D57)","v":0},{"$f":"SUMIF(Pays!D:D,D57,Pays!G:G)","v":0},{"$f":"SUMIF(Pays!D:D,D57,Pays!G:G)/176","v":0},{"$f":"IF(M57=0,IF(ISNA(MATCH(D57,'اطلاعات افراد غیر حقوق بگیر'!A:A,0)),0,LOOKUP(D57,'اطلاعات افراد غیر حقوق بگیر'!A:A,'اطلاعات افراد غیر حقوق بگیر'!F:F)),IF(H57=31,Settings!$D$13,ROUND(M57,0)))","v":0},null,0,{"$f":"IF(ISNA(MATCH(D57,Master!D:D,0)),IF(ISNA(MATCH(D57,'اطلاعات افراد غیر حقوق بگیر'!A:A,0)),0,LOOKUP(D57,'اطلاعات افراد غیر حقوق بگیر'!A:A,'اطلاعات افراد غیر حقوق بگیر'!G:G)),LOOKUP(D57,Master!D:D,Master!J:J))","v":0},{"$error":"#N/A"},0,0,{"$f":"IF(O57>#REF!,\"اخطار ساعت اضافه کار از حداکثر بیشتر است\",\" \")","v":{"$error":"#REF!"}},{"$f":"IF(O57>#REF!,1,0)","v":{"$error":"#REF!"}}]
[55,{"$f":"IF(D58=0,\"\",Settings!$D$6)","v":""},{"$f":"IF(D58=0,\"\",LOOKUP(B58,'Rigion Code'!A:A,'Rigion Code'!B:B))","v":""},null,{"$f":"IF(D58=0,\" \",IF(ISNA(MATCH(D58,Personnel!A:A,0)),IF(ISNA(MATCH(D58,'اطلاعات افراد غیر حقوق بگیر'!A:A,0)),\"وجود ندارد\",LOOKUP(Edit!D58,'اطلاعات افراد غیر حقوق بگیر'!A:A,'اطلاعات افراد غیر حقوق بگیر'!B:B)),LOOKUP(D58,Personnel!A:A,Personnel!C:C)))","v":" "},{"$f":"IF(D58=0,\" \",IF(ISNA(MATCH(D58,Personnel!A:A,0)),IF(ISNA(MATCH(D58,'اطلاعات افراد غیر حقوق بگیر'!A:A,0)),\"وجود ندارد\",LOOKUP(D58,'اطلاعات افراد غیر حقوق بگیر'!A:A,'اطلاعات افراد غیر حقوق بگیر'!C:C)),LOOKUP(D58,Personnel!A:A,Personnel!B:B)))","v":" "},{"$f":"IF(D58=0,0,IF(ISNA(MATCH(D58,Personnel!A:A,0)),IF(ISNA(MATCH(D58,'اطلاعات افراد غیر حقوق بگیر'!A:A,0)),\"وجود ندارد\",LOOKUP(D58,'اطلاعات افراد غیر حقوق بگیر'!A:A,'اطلاعات افراد غیر حقوق بگیر'!D:D)),LOOKUP(D58,Master!D:D,Master!CD:CD)))","v":0},{"$f":"IF(D58=0,\" \",IF(ISNA(MATCH(D58,Personnel!A:A,0)),IF(ISNA(MATCH(D58,'اطلاعات افراد غیر حقوق بگیر'!A:A,0)),\"وجود ندارد\",LOOKUP(D58,'اطلاعات افراد غیر حقوق بگیر'!A:A,'اطلاعات افراد غیر حقوق بگیر'!E:E)),LOOKUP(D58,Master!D:D,Master!AH:AH)))","v":" "},{"$f":"SUMIFS(Pays!G:G,Pays!E:E,1,Pays!D:D,D58)","v":0},{"$f":"SUMIFS(Pays!G:G,Pays!E:E,2,Pays!D:D,D58)","v":0},{"$f":"SUMIFS(Pays!G:G,Pays!E:E,57,Pays!D:D,D58)","v":0},{"$f":"SUMIF(Pays!D:D,D58,Pays!G:G)","v":0},{"$f":"SUMIF(Pays!D:D,D58,Pays!G:G)/176","v":0},{"$f":"IF(M58=0,IF(ISNA(MATCH(D58,'اطلاعات افراد غیر حقوق بگیر'!A:A,0)),0,LOOKUP(D58,'اطلاعات افراد غیر حقوق بگیر'!A:A,'اطلاعات افراد غیر حقوق بگیر'!F:F)),IF(H58=31,Settings!$D$13,ROUND(M58,0)))","v":0},null,0,{"$f":"IF(ISNA(MATCH(D58,Master!D:D,0)),IF(ISNA(MATCH(D58,'اطلاعات افراد غیر حقوق بگیر'!A:A,0)),0,LOOKUP(D58,'اطلاعات افراد غیر حقوق بگیر'!A:A,'اطلاعات افراد غیر حقوق بگیر'!G:G)),LOOKUP(D58,Master!D:D,Master!J:J))","v":0},{"$error":"#N/A"},0,0,{"$f":"IF(O58>#REF!,\"اخطار ساعت اضافه کار از حداکثر بیشتر است\",\" \")","v":{"$error":"#REF!"}},{"$f":"IF(O58>#REF!,1,0)","v":{"$error":"#REF!"}}]
[56,{"$f":"IF(D59=0,\"\",Settings!$D$6)","v":""},{"$f":"IF(D59=0,\"\",LOOKUP(B59,'Rigion Code'!A:A,'Rigion Code'!B:B))","v":""},null,{"$f":"IF(D59=0,\" \",IF(ISNA(MATCH(D59,Personnel!A:A,0)),IF(ISNA(MATCH(D59,'اطلاعات افراد غیر حقوق بگیر'!A:A,0)),\"وجود ندارد\",LOOKUP(Edit!D59,'اطلاعات افراد غیر حقوق بگیر'!A:A,'اطلاعات افراد غیر حقوق بگیر'!B:B)),LOOKUP(D59,Personnel!A:A,Personnel!C:C)))","v":" "},{"$f":"IF(D59=0,\" \",IF(ISNA(MATCH(D59,Personnel!A:A,0)),IF(ISNA(MATCH(D59,'اطلاعات افراد غیر حقوق بگیر'!A:A,0)),\"وجود ندارد\",LOOKUP(D59,'اطلاعات افراد غیر حقوق بگیر'!A:A,'اطلاعات افراد غیر حقوق بگیر'!C:C)),LOOKUP(D59,Personnel!A:A,Personnel!B:B)))","v":" "},{"$f":"IF(D59=0,0,IF(ISNA(MATCH(D59,Personnel!A:A,0)),IF(ISNA(MATCH(D59,'اطلاعات افراد غیر حقوق بگیر'!A:A,0)),\"وجود ندارد\",LOOKUP(D59,'اطلاعات افراد غیر حقوق بگیر'!A:A,'اطلاعات افراد غیر حقوق بگیر'!D:D)),LOOKUP(D59,Master!D:D,Master!CD:CD)))","v":0},{"$f":"IF(D59=0,\" \",IF(ISNA(MATCH(D59,Personnel!A:A,0)),IF(ISNA(MATCH(D59,'اطلاعات افراد غیر حقوق بگیر'!A:A,0)),\"وجود ندارد\",LOOKUP(D59,'اطلاعات افراد غیر حقوق بگیر'!A:A,'اطلاعات افراد غیر حقوق بگیر'!E:E)),LOOKUP(D59,Master!D:D,Master!AH:AH)))","v":" "},{"$f":"SUMIFS(Pays!G:G,Pays!E:E,1,Pays!D:D,D59)","v":0},{"$f":"SUMIFS(Pays!G:G,Pays!E:E,2,Pays!D:D,D59)","v":0},{"$f":"SUMIFS(Pays!G:G,Pays!E:E,57,Pays!D:D,D59)","v":0},{"$f":"SUMIF(Pays!D:D,D59,Pays!G:G)","v":0},{"$f":"SUMIF(Pays!D:D,D59,Pays!G:G)/176","v":0},{"$f":"IF(M59=0,IF(ISNA(MATCH(D59,'اطلاعات افراد غیر حقوق بگیر'!A:A,0)),0,LOOKUP(D59,'اطلاعات افراد غیر حقوق بگیر'!A:A,'اطلاعات افراد غیر حقوق بگیر'!F:F)),IF(H59=31,Settings!$D$13,ROUND(M59,0)))","v":0},null,0,{"$f":"IF(ISNA(MATCH(D59,Master!D:D,0)),IF(ISNA(MATCH(D59,'اطلاعات افراد غیر حقوق بگیر'!A:A,0)),0,LOOKUP(D59,'اطلاعات افراد غیر حقوق بگیر'!A:A,'اطلاعات افراد غیر حقوق بگیر'!G:G)),LOOKUP(D59,Master!D:D,Master!J:J))","v":0},{"$error":"#N/A"},0,0,{"$f":"IF(O59>#REF!,\"اخطار ساعت اضافه کار از حداکثر بیشتر است\",\" \")","v":{"$error":"#REF!"}},{"$f":"IF(O59>#REF!,1,0)","v":{"$error":"#REF!"}}]
[57,{"$f":"IF(D60=0,\"\",Settings!$D$6)","v":""},{"$f":"IF(D60=0,\"\",LOOKUP(B60,'Rigion Code'!A:A,'Rigion Code'!B:B))","v":""},null,{"$f":"IF(D60=0,\" \",IF(ISNA(MATCH(D60,Personnel!A:A,0)),IF(ISNA(MATCH(D60,'اطلاعات افراد غیر حقوق بگیر'!A:A,0)),\"وجود ندارد\",LOOKUP(Edit!D60,'اطلاعات افراد غیر حقوق بگیر'!A:A,'اطلاعات افراد غیر حقوق بگیر'!B:B)),LOOKUP(D60,Personnel!A:A,Personnel!C:C)))","v":" "},{"$f":"IF(D60=0,\" \",IF(ISNA(MATCH(D60,Personnel!A:A,0)),IF(ISNA(MATCH(D60,'اطلاعات افراد غیر حقوق بگیر'!A:A,0)),\"وجود ندارد\",LOOKUP(D60,'اطلاعات افراد غیر حقوق بگیر'!A:A,'اطلاعات افراد غیر حقوق بگیر'!C:C)),LOOKUP(D60,Personnel!A:A,Personnel!B:B)))","v":" "},{"$f":"IF(D60=0,0,IF(ISNA(MATCH(D60,Personnel!A:A,0)),IF(ISNA(MATCH(D60,'اطلاعات افراد غیر حقوق بگیر'!A:A,0)),\"وجود ندارد\",LOOKUP(D60,'اطلاعات افراد غیر حقوق بگیر'!A:A,'اطلاعات افراد غیر حقوق بگیر'!D:D)),LOOKUP(D60,Master!D:D,Master!CD:CD)))","v":0},{"$f":"IF(D60=0,\" \",IF(ISNA(MATCH(D60,Personnel!A:A,0)),IF(ISNA(MATCH(D60,'اطلاعات افراد غیر حقوق بگیر'!A:A,0)),\"وجود ندارد\",LOOKUP(D60,'اطلاعات افراد غیر حقوق بگیر'!A:A,'اطلاعات افراد غیر حقوق بگیر'!E:E)),LOOKUP(D60,Master!D:D,Master!AH:AH)))","v":" "},{"$f":"SUMIFS(Pays!G:G,Pays!E:E,1,Pays!D:D,D60)","v":0},{"$f":"SUMIFS(Pays!G:G,Pays!E:E,2,Pays!D:D,D60)","v":0},{"$f":"SUMIFS(Pays!G:G,Pays!E:E,57,Pays!D:D,D60)","v":0},{"$f":"SUMIF(Pays!D:D,D60,Pays!G:G)","v":0},{"$f":"SUMIF(Pays!D:D,D60,Pays!G:G)/176","v":0},{"$f":"IF(M60=0,IF(ISNA(MATCH(D60,'اطلاعات افراد غیر حقوق بگیر'!A:A,0)),0,LOOKUP(D60,'اطلاعات افراد غیر حقوق بگیر'!A:A,'اطلاعات افراد غیر حقوق بگیر'!F:F)),IF(H60=31,Settings!$D$13,ROUND(M60,0)))","v":0},null,0,{"$f":"IF(ISNA(MATCH(D60,Master!D:D,0)),IF(ISNA(MATCH(D60,'اطلاعات افراد غیر حقوق بگیر'!A:A,0)),0,LOOKUP(D60,'اطلاعات افراد غیر حقوق بگیر'!A:A,'اطلاعات افراد غیر حقوق بگیر'!G:G)),LOOKUP(D60,Master!D:D,Master!J:J))","v":0},{"$error":"#N/A"},0,0,{"$f":"IF(O60>#REF!,\"اخطار ساعت اضافه کار از حداکثر بیشتر است\",\" \")","v":{"$error":"#REF!"}},{"$f":"IF(O60>#REF!,1,0)","v":{"$error":"#REF!"}}]
[58,{"$f":"IF(D61=0,\"\",Settings!$D$6)","v":""},{"$f":"IF(D61=0,\"\",LOOKUP(B61,'Rigion Code'!A:A,'Rigion Code'!B:B))","v":""},null,{"$f":"IF(D61=0,\" \",IF(ISNA(MATCH(D61,Personnel!A:A,0)),IF(ISNA(MATCH(D61,'اطلاعات افراد غیر حقوق بگیر'!A:A,0)),\"وجود ندارد\",LOOKUP(Edit!D61,'اطلاعات افراد غیر حقوق بگیر'!A:A,'اطلاعات افراد غیر حقوق بگیر'!B:B)),LOOKUP(D61,Personnel!A:A,Personnel!C:C)))","v":" "},{"$f":"IF(D61=0,\" \",IF(ISNA(MATCH(D61,Personnel!A:A,0)),IF(ISNA(MATCH(D61,'اطلاعات افراد غیر حقوق بگیر'!A:A,0)),\"وجود ندارد\",LOOKUP(D61,'اطلاعات افراد غیر حقوق بگیر'!A:A,'اطلاعات افراد غیر حقوق بگیر'!C:C)),LOOKUP(D61,Personnel!A:A,Personnel!B:B)))","v":" "},{"$f":"IF(D61=0,0,IF(ISNA(MATCH(D61,Personnel!A:A,0)),IF(ISNA(MATCH(D61,'اطلاعات افراد غیر حقوق بگیر'!A:A,0)),\"وجود ندارد\",LOOKUP(D61,'اطلاعات افراد غیر حقوق بگیر'!A:A,'اطلاعات افراد غیر حقوق بگیر'!D:D)),LOOKUP(D61,Master!D:D,Master!CD:CD)))","v":0},{"$f":"IF(D61=0,\" \",IF(ISNA(MATCH(D61,Personnel!A:A,0)),IF(ISNA(MATCH(D61,'اطلاعات افراد غیر حقوق بگیر'!A:A,0)),\"وجود ندارد\",LOOKUP(D61,'اطلاعات افراد غیر حقوق بگیر'!A:A,'اطلاعات افراد غیر حقوق بگیر'!E:E)),LOOKUP(D61,Master!D:D,Master!AH:AH)))","v":" "},{"$f":"SUMIFS(Pays!G:G,Pays!E:E,1,Pays!D:D,D61)","v":0},{"$f":"SUMIFS(Pays!G:G,Pays!E:E,2,Pays!D:D,D61)","v":0},{"$f":"SUMIFS(Pays!G:G,Pays!E:E,57,Pays!D:D,D61)","v":0},{"$f":"SUMIF(Pays!D:D,D61,Pays!G:G)","v":0},{"$f":"SUMIF(Pays!D:D,D61,Pays!G:G)/176","v":0},{"$f":"IF(M61=0,IF(ISNA(MATCH(D61,'اطلاعات افراد غیر حقوق بگیر'!A:A,0)),0,LOOKUP(D61,'اطلاعات افراد غیر حقوق بگیر'!A:A,'اطلاعات افراد غیر حقوق بگیر'!F:F)),IF(H61=31,Settings!$D$13,ROUND(M61,0)))","v":0},null,0,{"$f":"IF(ISNA(MATCH(D61,Master!D:D,0)),IF(ISNA(MATCH(D61,'اطلاعات افراد غیر حقوق بگیر'!A:A,0)),0,LOOKUP(D61,'اطلاعات افراد غیر حقوق بگیر'!A:A,'اطلاعات افراد غیر حقوق بگیر'!G:G)),LOOKUP(D61,Master!D:D,Master!J:J))","v":0},{"$error":"#N/A"},0,0,{"$f":"IF(O61>#REF!,\"اخطار ساعت اضافه کار از حداکثر بیشتر است\",\" \")","v":{"$error":"#REF!"}},{"$f":"IF(O61>#REF!,1,0)","v":{"$error":"#REF!"}}]
[59,{"$f":"IF(D62=0,\"\",Settings!$D$6)","v":""},{"$f":"IF(D62=0,\"\",LOOKUP(B62,'Rigion Code'!A:A,'Rigion Code'!B:B))","v":""},null,{"$f":"IF(D62=0,\" \",IF(ISNA(MATCH(D62,Personnel!A:A,0)),IF(ISNA(MATCH(D62,'اطلاعات افراد غیر حقوق بگیر'!A:A,0)),\"وجود ندارد\",LOOKUP(Edit!D62,'اطلاعات افراد غیر حقوق بگیر'!A:A,'اطلاعات افراد غیر حقوق بگیر'!B:B)),LOOKUP(D62,Personnel!A:A,Personnel!C:C)))","v":" "},{"$f":"IF(D62=0,\" \",IF(ISNA(MATCH(D62,Personnel!A:A,0)),IF(ISNA(MATCH(D62,'اطلاعات افراد غیر حقوق بگیر'!A:A,0)),\"وجود ندارد\",LOOKUP(D62,'اطلاعات افراد غیر حقوق بگیر'!A:A,'اطلاعات افراد غیر حقوق بگیر'!C:C)),LOOKUP(D62,Personnel!A:A,Personnel!B:B)))","v":" "},{"$f":"IF(D62=0,0,IF(ISNA(MATCH(D62,Personnel!A:A,0)),IF(ISNA(MATCH(D62,'اطلاعات افراد غیر حقوق بگیر'!A:A,0)),\"وجود ندارد\",LOOKUP(D62,'اطلاعات افراد غیر حقوق بگیر'!A:A,'اطلاعات افراد غیر حقوق بگیر'!D:D)),LOOKUP(D62,Master!D:D,Master!CD:CD)))","v":0},{"$f":"IF(D62=0,\" \",IF(ISNA(MATCH(D62,Personnel!A:A,0)),IF(ISNA(MATCH(D62,'اطلاعات افراد غیر حقوق بگیر'!A:A,0)),\"وجود ندارد\",LOOKUP(D62,'اطلاعات افراد غیر حقوق بگیر'!A:A,'اطلاعات افراد غیر حقوق بگیر'!E:E)),LOOKUP(D62,Master!D:D,Master!AH:AH)))","v":" "},{"$f":"SUMIFS(Pays!G:G,Pays!E:E,1,Pays!D:D,D62)","v":0},{"$f":"SUMIFS(Pays!G:G,Pays!E:E,2,Pays!D:D,D62)","v":0},{"$f":"SUMIFS(Pays!G:G,Pays!E:E,57,Pays!D:D,D62)","v":0},{"$f":"SUMIF(Pays!D:D,D62,Pays!G:G)","v":0},{"$f":"SUMIF(Pays!D:D,D62,Pays!G:G)/176","v":0},{"$f":"IF(M62=0,IF(ISNA(MATCH(D62,'اطلاعات افراد غیر حقوق بگیر'!A:A,0)),0,LOOKUP(D62,'اطلاعات افراد غیر حقوق بگیر'!A:A,'اطلاعات افراد غیر حقوق بگیر'!F:F)),IF(H62=31,Settings!$D$13,ROUND(M62,0)))","v":0},null,0,{"$f":"IF(ISNA(MATCH(D62,Master!D:D,0)),IF(ISNA(MATCH(D62,'اطلاعات افراد غیر حقوق بگیر'!A:A,0)),0,LOOKUP(D62,'اطلاعات افراد غیر حقوق بگیر'!A:A,'اطلاعات افراد غیر حقوق بگیر'!G:G)),LOOKUP(D62,Master!D:D,Master!J:J))","v":0},{"$error":"#N/A"},0,0,{"$f":"IF(O62>#REF!,\"اخطار ساعت اضافه کار از حداکثر بیشتر است\",\" \")","v":{"$error":"#REF!"}},{"$f":"IF(O62>#REF!,1,0)","v":{"$error":"#REF!"}}]
[60,{"$f":"IF(D63=0,\"\",Settings!$D$6)","v":""},{"$f":"IF(D63=0,\"\",LOOKUP(B63,'Rigion Code'!A:A,'Rigion Code'!B:B))","v":""},null,{"$f":"IF(D63=0,\" \",IF(ISNA(MATCH(D63,Personnel!A:A,0)),IF(ISNA(MATCH(D63,'اطلاعات افراد غیر حقوق بگیر'!A:A,0)),\"وجود ندارد\",LOOKUP(Edit!D63,'اطلاعات افراد غیر حقوق بگیر'!A:A,'اطلاعات افراد غیر حقوق بگیر'!B:B)),LOOKUP(D63,Personnel!A:A,Personnel!C:C)))","v":" "},{"$f":"IF(D63=0,\" \",IF(ISNA(MATCH(D63,Personnel!A:A,0)),IF(ISNA(MATCH(D63,'اطلاعات افراد غیر حقوق بگیر'!A:A,0)),\"وجود ندارد\",LOOKUP(D63,'اطلاعات افراد غیر حقوق بگیر'!A:A,'اطلاعات افراد غیر حقوق بگیر'!C:C)),LOOKUP(D63,Personnel!A:A,Personnel!B:B)))","v":" "},{"$f":"IF(D63=0,0,IF(ISNA(MATCH(D63,Personnel!A:A,0)),IF(ISNA(MATCH(D63,'اطلاعات افراد غیر حقوق بگیر'!A:A,0)),\"وجود ندارد\",LOOKUP(D63,'اطلاعات افراد غیر حقوق بگیر'!A:A,'اطلاعات افراد غیر حقوق بگیر'!D:D)),LOOKUP(D63,Master!D:D,Master!CD:CD)))","v":0},{"$f":"IF(D63=0,\" \",IF(ISNA(MATCH(D63,Personnel!A:A,0)),IF(ISNA(MATCH(D63,'اطلاعات افراد غیر حقوق بگیر'!A:A,0)),\"وجود ندارد\",LOOKUP(D63,'اطلاعات افراد غیر حقوق بگیر'!A:A,'اطلاعات افراد غیر حقوق بگیر'!E:E)),LOOKUP(D63,Master!D:D,Master!AH:AH)))","v":" "},{"$f":"SUMIFS(Pays!G:G,Pays!E:E,1,Pays!D:D,D63)","v":0},{"$f":"SUMIFS(Pays!G:G,Pays!E:E,2,Pays!D:D,D63)","v":0},{"$f":"SUMIFS(Pays!G:G,Pays!E:E,57,Pays!D:D,D63)","v":0},{"$f":"SUMIF(Pays!D:D,D63,Pays!G:G)","v":0},{"$f":"SUMIF(Pays!D:D,D63,Pays!G:G)/176","v":0},{"$f":"IF(M63=0,IF(ISNA(MATCH(D63,'اطلاعات افراد غیر حقوق بگیر'!A:A,0)),0,LOOKUP(D63,'اطلاعات افراد غیر حقوق بگیر'!A:A,'اطلاعات افراد غیر حقوق بگیر'!F:F)),IF(H63=31,Settings!$D$13,ROUND(M63,0)))","v":0},null,0,{"$f":"IF(ISNA(MATCH(D63,Master!D:D,0)),IF(ISNA(MATCH(D63,'اطلاعات افراد غیر حقوق بگیر'!A:A,0)),0,LOOKUP(D63,'اطلاعات افراد غیر حقوق بگیر'!A:A,'اطلاعات افراد غیر حقوق بگیر'!G:G)),LOOKUP(D63,Master!D:D,Master!J:J))","v":0},{"$error":"#N/A"},0,0,{"$f":"IF(O63>#REF!,\"اخطار ساعت اضافه کار از حداکثر بیشتر است\",\" \")","v":{"$error":"#REF!"}},{"$f":"IF(O63>#REF!,1,0)","v":{"$error":"#REF!"}}]
[61,{"$f":"IF(D64=0,\"\",Settings!$D$6)","v":""},{"$f":"IF(D64=0,\"\",LOOKUP(B64,'Rigion Code'!A:A,'Rigion Code'!B:B))","v":""},null,{"$f":"IF(D64=0,\" \",IF(ISNA(MATCH(D64,Personnel!A:A,0)),IF(ISNA(MATCH(D64,'اطلاعات افراد غیر حقوق بگیر'!A:A,0)),\"وجود ندارد\",LOOKUP(Edit!D64,'اطلاعات افراد غیر حقوق بگیر'!A:A,'اطلاعات افراد غیر حقوق بگیر'!B:B)),LOOKUP(D64,Personnel!A:A,Personnel!C:C)))","v":" "},{"$f":"IF(D64=0,\" \",IF(ISNA(MATCH(D64,Personnel!A:A,0)),IF(ISNA(MATCH(D64,'اطلاعات افراد غیر حقوق بگیر'!A:A,0)),\"وجود ندارد\",LOOKUP(D64,'اطلاعات افراد غیر حقوق بگیر'!A:A,'اطلاعات افراد غیر حقوق بگیر'!C:C)),LOOKUP(D64,Personnel!A:A,Personnel!B:B)))","v":" "},{"$f":"IF(D64=0,0,IF(ISNA(MATCH(D64,Personnel!A:A,0)),IF(ISNA(MATCH(D64,'اطلاعات افراد غیر حقوق بگیر'!A:A,0)),\"وجود ندارد\",LOOKUP(D64,'اطلاعات افراد غیر حقوق بگیر'!A:A,'اطلاعات افراد غیر حقوق بگیر'!D:D)),LOOKUP(D64,Master!D:D,Master!CD:CD)))","v":0},{"$f":"IF(D64=0,\" \",IF(ISNA(MATCH(D64,Personnel!A:A,0)),IF(ISNA(MATCH(D64,'اطلاعات افراد غیر حقوق بگیر'!A:A,0)),\"وجود ندارد\",LOOKUP(D64,'اطلاعات افراد غیر حقوق بگیر'!A:A,'اطلاعات افراد غیر حقوق بگیر'!E:E)),LOOKUP(D64,Master!D:D,Master!AH:AH)))","v":" "},{"$f":"SUMIFS(Pays!G:G,Pays!E:E,1,Pays!D:D,D64)","v":0},{"$f":"SUMIFS(Pays!G:G,Pays!E:E,2,Pays!D:D,D64)","v":0},{"$f":"SUMIFS(Pays!G:G,Pays!E:E,57,Pays!D:D,D64)","v":0},{"$f":"SUMIF(Pays!D:D,D64,Pays!G:G)","v":0},{"$f":"SUMIF(Pays!D:D,D64,Pays!G:G)/176","v":0},{"$f":"IF(M64=0,IF(ISNA(MATCH(D64,'اطلاعات افراد غیر حقوق بگیر'!A:A,0)),0,LOOKUP(D64,'اطلاعات افراد غیر حقوق بگیر'!A:A,'اطلاعات افراد غیر حقوق بگیر'!F:F)),IF(H64=31,Settings!$D$13,ROUND(M64,0)))","v":0},null,0,{"$f":"IF(ISNA(MATCH(D64,Master!D:D,0)),IF(ISNA(MATCH(D64,'اطلاعات افراد غیر حقوق بگیر'!A:A,0)),0,LOOKUP(D64,'اطلاعات افراد غیر حقوق بگیر'!A:A,'اطلاعات افراد غیر حقوق بگیر'!G:G)),LOOKUP(D64,Master!D:D,Master!J:J))","v":0},{"$error":"#N/A"},0,0,{"$f":"IF(O64>#REF!,\"اخطار ساعت اضافه کار از حداکثر بیشتر است\",\" \")","v":{"$error":"#REF!"}},{"$f":"IF(O64>#REF!,1,0)","v":{"$error":"#REF!"}}]
[62,{"$f":"IF(D65=0,\"\",Settings!$D$6)","v":""},{"$f":"IF(D65=0,\"\",LOOKUP(B65,'Rigion Code'!A:A,'Rigion Code'!B:B))","v":""},null,{"$f":"IF(D65=0,\" \",IF(ISNA(MATCH(D65,Personnel!A:A,0)),IF(ISNA(MATCH(D65,'اطلاعات افراد غیر حقوق بگیر'!A:A,0)),\"وجود ندارد\",LOOKUP(Edit!D65,'اطلاعات افراد غیر حقوق بگیر'!A:A,'اطلاعات افراد غیر حقوق بگیر'!B:B)),LOOKUP(D65,Personnel!A:A,Personnel!C:C)))","v":" "},{"$f":"IF(D65=0,\" \",IF(ISNA(MATCH(D65,Personnel!A:A,0)),IF(ISNA(MATCH(D65,'اطلاعات افراد غیر حقوق بگیر'!A:A,0)),\"وجود ندارد\",LOOKUP(D65,'اطلاعات افراد غیر حقوق بگیر'!A:A,'اطلاعات افراد غیر حقوق بگیر'!C:C)),LOOKUP(D65,Personnel!A:A,Personnel!B:B)))","v":" "},{"$f":"IF(D65=0,0,IF(ISNA(MATCH(D65,Personnel!A:A,0)),IF(ISNA(MATCH(D65,'اطلاعات افراد غیر حقوق بگیر'!A:A,0)),\"وجود ندارد\",LOOKUP(D65,'اطلاعات افراد غیر حقوق بگیر'!A:A,'اطلاعات افراد غیر حقوق بگیر'!D:D)),LOOKUP(D65,Master!D:D,Master!CD:CD)))","v":0},{"$f":"IF(D65=0,\" \",IF(ISNA(MATCH(D65,Personnel!A:A,0)),IF(ISNA(MATCH(D65,'اطلاعات افراد غیر حقوق بگیر'!A:A,0)),\"وجود ندارد\",LOOKUP(D65,'اطلاعات افراد غیر حقوق بگیر'!A:A,'اطلاعات افراد غیر حقوق بگیر'!E:E)),LOOKUP(D65,Master!D:D,Master!AH:AH)))","v":" "},{"$f":"SUMIFS(Pays!G:G,Pays!E:E,1,Pays!D:D,D65)","v":0},{"$f":"SUMIFS(Pays!G:G,Pays!E:E,2,Pays!D:D,D65)","v":0},{"$f":"SUMIFS(Pays!G:G,Pays!E:E,57,Pays!D:D,D65)","v":0},{"$f":"SUMIF(Pays!D:D,D65,Pays!G:G)","v":0},{"$f":"SUMIF(Pays!D:D,D65,Pays!G:G)/176","v":0},{"$f":"IF(M65=0,IF(ISNA(MATCH(D65,'اطلاعات افراد غیر حقوق بگیر'!A:A,0)),0,LOOKUP(D65,'اطلاعات افراد غیر حقوق بگیر'!A:A,'اطلاعات افراد غیر حقوق بگیر'!F:F)),IF(H65=31,Settings!$D$13,ROUND(M65,0)))","v":0},null,0,{"$f":"IF(ISNA(MATCH(D65,Master!D:D,0)),IF(ISNA(MATCH(D65,'اطلاعات افراد غیر حقوق بگیر'!A:A,0)),0,LOOKUP(D65,'اطلاعات افراد غیر حقوق بگیر'!A:A,'اطلاعات افراد غیر حقوق بگیر'!G:G)),LOOKUP(D65,Master!D:D,Master!J:J))","v":0},{"$error":"#N/A"},0,0,{"$f":"IF(O65>#REF!,\"اخطار ساعت اضافه کار از حداکثر بیشتر است\",\" \")","v":{"$error":"#REF!"}},{"$f":"IF(O65>#REF!,1,0)","v":{"$error":"#REF!"}}]
[63,{"$f":"IF(D66=0,\"\",Settings!$D$6)","v":""},{"$f":"IF(D66=0,\"\",LOOKUP(B66,'Rigion Code'!A:A,'Rigion Code'!B:B))","v":""},null,{"$f":"IF(D66=0,\" \",IF(ISNA(MATCH(D66,Personnel!A:A,0)),IF(ISNA(MATCH(D66,'اطلاعات افراد غیر حقوق بگیر'!A:A,0)),\"وجود ندارد\",LOOKUP(Edit!D66,'اطلاعات افراد غیر حقوق بگیر'!A:A,'اطلاعات افراد غیر حقوق بگیر'!B:B)),LOOKUP(D66,Personnel!A:A,Personnel!C:C)))","v":" "},{"$f":"IF(D66=0,\" \",IF(ISNA(MATCH(D66,Personnel!A:A,0)),IF(ISNA(MATCH(D66,'اطلاعات افراد غیر حقوق بگیر'!A:A,0)),\"وجود ندارد\",LOOKUP(D66,'اطلاعات افراد غیر حقوق بگیر'!A:A,'اطلاعات افراد غیر حقوق بگیر'!C:C)),LOOKUP(D66,Personnel!A:A,Personnel!B:B)))","v":" "},{"$f":"IF(D66=0,0,IF(ISNA(MATCH(D66,Personnel!A:A,0)),IF(ISNA(MATCH(D66,'اطلاعات افراد غیر حقوق بگیر'!A:A,0)),\"وجود ندارد\",LOOKUP(D66,'اطلاعات افراد غیر حقوق بگیر'!A:A,'اطلاعات افراد غیر حقوق بگیر'!D:D)),LOOKUP(D66,Master!D:D,Master!CD:CD)))","v":0},{"$f":"IF(D66=0,\" \",IF(ISNA(MATCH(D66,Personnel!A:A,0)),IF(ISNA(MATCH(D66,'اطلاعات افراد غیر حقوق بگیر'!A:A,0)),\"وجود ندارد\",LOOKUP(D66,'اطلاعات افراد غیر حقوق بگیر'!A:A,'اطلاعات افراد غیر حقوق بگیر'!E:E)),LOOKUP(D66,Master!D:D,Master!AH:AH)))","v":" "},{"$f":"SUMIFS(Pays!G:G,Pays!E:E,1,Pays!D:D,D66)","v":0},{"$f":"SUMIFS(Pays!G:G,Pays!E:E,2,Pays!D:D,D66)","v":0},{"$f":"SUMIFS(Pays!G:G,Pays!E:E,57,Pays!D:D,D66)","v":0},{"$f":"SUMIF(Pays!D:D,D66,Pays!G:G)","v":0},{"$f":"SUMIF(Pays!D:D,D66,Pays!G:G)/176","v":0},{"$f":"IF(M66=0,IF(ISNA(MATCH(D66,'اطلاعات افراد غیر حقوق بگیر'!A:A,0)),0,LOOKUP(D66,'اطلاعات افراد غیر حقوق بگیر'!A:A,'اطلاعات افراد غیر حقوق بگیر'!F:F)),IF(H66=31,Settings!$D$13,ROUND(M66,0)))","v":0},null,0,{"$f":"IF(ISNA(MATCH(D66,Master!D:D,0)),IF(ISNA(MATCH(D66,'اطلاعات افراد غیر حقوق بگیر'!A:A,0)),0,LOOKUP(D66,'اطلاعات افراد غیر حقوق بگیر'!A:A,'اطلاعات افراد غیر حقوق بگیر'!G:G)),LOOKUP(D66,Master!D:D,Master!J:J))","v":0},{"$error":"#N/A"},0,0,{"$f":"IF(O66>#REF!,\"اخطار ساعت اضافه کار از حداکثر بیشتر است\",\" \")","v":{"$error":"#REF!"}},{"$f":"IF(O66>#REF!,1,0)","v":{"$error":"#REF!"}}]
[64,{"$f":"IF(D67=0,\"\",Settings!$D$6)","v":""},{"$f":"IF(D67=0,\"\",LOOKUP(B67,'Rigion Code'!A:A,'Rigion Code'!B:B))","v":""},null,{"$f":"IF(D67=0,\" \",IF(ISNA(MATCH(D67,Personnel!A:A,0)),IF(ISNA(MATCH(D67,'اطلاعات افراد غیر حقوق بگیر'!A:A,0)),\"وجود ندارد\",LOOKUP(Edit!D67,'اطلاعات افراد غیر حقوق بگیر'!A:A,'اطلاعات افراد غیر حقوق بگیر'!B:B)),LOOKUP(D67,Personnel!A:A,Personnel!C:C)))","v":" "},{"$f":"IF(D67=0,\" \",IF(ISNA(MATCH(D67,Personnel!A:A,0)),IF(ISNA(MATCH(D67,'اطلاعات افراد غیر حقوق بگیر'!A:A,0)),\"وجود ندارد\",LOOKUP(D67,'اطلاعات افراد غیر حقوق بگیر'!A:A,'اطلاعات افراد غیر حقوق بگیر'!C:C)),LOOKUP(D67,Personnel!A:A,Personnel!B:B)))","v":" "},{"$f":"IF(D67=0,0,IF(ISNA(MATCH(D67,Personnel!A:A,0)),IF(ISNA(MATCH(D67,'اطلاعات افراد غیر حقوق بگیر'!A:A,0)),\"وجود ندارد\",LOOKUP(D67,'اطلاعات افراد غیر حقوق بگیر'!A:A,'اطلاعات افراد غیر حقوق بگیر'!D:D)),LOOKUP(D67,Master!D:D,Master!CD:CD)))","v":0},{"$f":"IF(D67=0,\" \",IF(ISNA(MATCH(D67,Personnel!A:A,0)),IF(ISNA(MATCH(D67,'اطلاعات افراد غیر حقوق بگیر'!A:A,0)),\"وجود ندارد\",LOOKUP(D67,'اطلاعات افراد غیر حقوق بگیر'!A:A,'اطلاعات افراد غیر حقوق بگیر'!E:E)),LOOKUP(D67,Master!D:D,Master!AH:AH)))","v":" "},{"$f":"SUMIFS(Pays!G:G,Pays!E:E,1,Pays!D:D,D67)","v":0},{"$f":"SUMIFS(Pays!G:G,Pays!E:E,2,Pays!D:D,D67)","v":0},{"$f":"SUMIFS(Pays!G:G,Pays!E:E,57,Pays!D:D,D67)","v":0},{"$f":"SUMIF(Pays!D:D,D67,Pays!G:G)","v":0},{"$f":"SUMIF(Pays!D:D,D67,Pays!G:G)/176","v":0},{"$f":"IF(M67=0,IF(ISNA(MATCH(D67,'اطلاعات افراد غیر حقوق بگیر'!A:A,0)),0,LOOKUP(D67,'اطلاعات افراد غیر حقوق بگیر'!A:A,'اطلاعات افراد غیر حقوق بگیر'!F:F)),IF(H67=31,Settings!$D$13,ROUND(M67,0)))","v":0},null,0,{"$f":"IF(ISNA(MATCH(D67,Master!D:D,0)),IF(ISNA(MATCH(D67,'اطلاعات افراد غیر حقوق بگیر'!A:A,0)),0,LOOKUP(D67,'اطلاعات افراد غیر حقوق بگیر'!A:A,'اطلاعات افراد غیر حقوق بگیر'!G:G)),LOOKUP(D67,Master!D:D,Master!J:J))","v":0},{"$error":"#N/A"},0,0,{"$f":"IF(O67>#REF!,\"اخطار ساعت اضافه کار از حداکثر بیشتر است\",\" \")","v":{"$error":"#REF!"}},{"$f":"IF(O67>#REF!,1,0)","v":{"$error":"#REF!"}}]
[65,{"$f":"IF(D68=0,\"\",Settings!$D$6)","v":""},{"$f":"IF(D68=0,\"\",LOOKUP(B68,'Rigion Code'!A:A,'Rigion Code'!B:B))","v":""},null,{"$f":"IF(D68=0,\" \",IF(ISNA(MATCH(D68,Personnel!A:A,0)),IF(ISNA(MATCH(D68,'اطلاعات افراد غیر حقوق بگیر'!A:A,0)),\"وجود ندارد\",LOOKUP(Edit!D68,'اطلاعات افراد غیر حقوق بگیر'!A:A,'اطلاعات افراد غیر حقوق بگیر'!B:B)),LOOKUP(D68,Personnel!A:A,Personnel!C:C)))","v":" "},{"$f":"IF(D68=0,\" \",IF(ISNA(MATCH(D68,Personnel!A:A,0)),IF(ISNA(MATCH(D68,'اطلاعات افراد غیر حقوق بگیر'!A:A,0)),\"وجود ندارد\",LOOKUP(D68,'اطلاعات افراد غیر حقوق بگیر'!A:A,'اطلاعات افراد غیر حقوق بگیر'!C:C)),LOOKUP(D68,Personnel!A:A,Personnel!B:B)))","v":" "},{"$f":"IF(D68=0,0,IF(ISNA(MATCH(D68,Personnel!A:A,0)),IF(ISNA(MATCH(D68,'اطلاعات افراد غیر حقوق بگیر'!A:A,0)),\"وجود ندارد\",LOOKUP(D68,'اطلاعات افراد غیر حقوق بگیر'!A:A,'اطلاعات افراد غیر حقوق بگیر'!D:D)),LOOKUP(D68,Master!D:D,Master!CD:CD)))","v":0},{"$f":"IF(D68=0,\" \",IF(ISNA(MATCH(D68,Personnel!A:A,0)),IF(ISNA(MATCH(D68,'اطلاعات افراد غیر حقوق بگیر'!A:A,0)),\"وجود ندارد\",LOOKUP(D68,'اطلاعات افراد غیر حقوق بگیر'!A:A,'اطلاعات افراد غیر حقوق بگیر'!E:E)),LOOKUP(D68,Master!D:D,Master!AH:AH)))","v":" "},{"$f":"SUMIFS(Pays!G:G,Pays!E:E,1,Pays!D:D,D68)","v":0},{"$f":"SUMIFS(Pays!G:G,Pays!E:E,2,Pays!D:D,D68)","v":0},{"$f":"SUMIFS(Pays!G:G,Pays!E:E,57,Pays!D:D,D68)","v":0},{"$f":"SUMIF(Pays!D:D,D68,Pays!G:G)","v":0},{"$f":"SUMIF(Pays!D:D,D68,Pays!G:G)/176","v":0},{"$f":"IF(M68=0,IF(ISNA(MATCH(D68,'اطلاعات افراد غیر حقوق بگیر'!A:A,0)),0,LOOKUP(D68,'اطلاعات افراد غیر حقوق بگیر'!A:A,'اطلاعات افراد غیر حقوق بگیر'!F:F)),IF(H68=31,Settings!$D$13,ROUND(M68,0)))","v":0},null,{"$f":"N68*O68","v":0},{"$f":"IF(ISNA(MATCH(D68,Master!D:D,0)),IF(ISNA(MATCH(D68,'اطلاعات افراد غیر حقوق بگیر'!A:A,0)),0,LOOKUP(D68,'اطلاعات افراد غیر حقوق بگیر'!A:A,'اطلاعات افراد غیر حقوق بگیر'!G:G)),LOOKUP(D68,Master!D:D,Master!J:J))","v":0},{"$error":"#N/A"},0,0,{"$f":"IF(O68>#REF!,\"اخطار ساعت اضافه کار از حداکثر بیشتر است\",\" \")","v":{"$error":"#REF!"}},{"$f":"IF(O68>#REF!,1,0)","v":{"$error":"#REF!"}}]
[66,{"$f":"IF(D69=0,\"\",Settings!$D$6)","v":""},{"$f":"IF(D69=0,\"\",LOOKUP(B69,'Rigion Code'!A:A,'Rigion Code'!B:B))","v":""},null,{"$f":"IF(D69=0,\" \",IF(ISNA(MATCH(D69,Personnel!A:A,0)),IF(ISNA(MATCH(D69,'اطلاعات افراد غیر حقوق بگیر'!A:A,0)),\"وجود ندارد\",LOOKUP(Edit!D69,'اطلاعات افراد غیر حقوق بگیر'!A:A,'اطلاعات افراد غیر حقوق بگیر'!B:B)),LOOKUP(D69,Personnel!A:A,Personnel!C:C)))","v":" "},{"$f":"IF(D69=0,\" \",IF(ISNA(MATCH(D69,Personnel!A:A,0)),IF(ISNA(MATCH(D69,'اطلاعات افراد غیر حقوق بگیر'!A:A,0)),\"وجود ندارد\",LOOKUP(D69,'اطلاعات افراد غیر حقوق بگیر'!A:A,'اطلاعات افراد غیر حقوق بگیر'!C:C)),LOOKUP(D69,Personnel!A:A,Personnel!B:B)))","v":" "},{"$f":"IF(D69=0,0,IF(ISNA(MATCH(D69,Personnel!A:A,0)),IF(ISNA(MATCH(D69,'اطلاعات افراد غیر حقوق بگیر'!A:A,0)),\"وجود ندارد\",LOOKUP(D69,'اطلاعات افراد غیر حقوق بگیر'!A:A,'اطلاعات افراد غیر حقوق بگیر'!D:D)),LOOKUP(D69,Master!D:D,Master!CD:CD)))","v":0},{"$f":"IF(D69=0,\" \",IF(ISNA(MATCH(D69,Personnel!A:A,0)),IF(ISNA(MATCH(D69,'اطلاعات افراد غیر حقوق بگیر'!A:A,0)),\"وجود ندارد\",LOOKUP(D69,'اطلاعات افراد غیر حقوق بگیر'!A:A,'اطلاعات افراد غیر حقوق بگیر'!E:E)),LOOKUP(D69,Master!D:D,Master!AH:AH)))","v":" "},{"$f":"SUMIFS(Pays!G:G,Pays!E:E,1,Pays!D:D,D69)","v":0},{"$f":"SUMIFS(Pays!G:G,Pays!E:E,2,Pays!D:D,D69)","v":0},{"$f":"SUMIFS(Pays!G:G,Pays!E:E,57,Pays!D:D,D69)","v":0},{"$f":"SUMIF(Pays!D:D,D69,Pays!G:G)","v":0},{"$f":"SUMIF(Pays!D:D,D69,Pays!G:G)/176","v":0},{"$f":"IF(M69=0,IF(ISNA(MATCH(D69,'اطلاعات افراد غیر حقوق بگیر'!A:A,0)),0,LOOKUP(D69,'اطلاعات افراد غیر حقوق بگیر'!A:A,'اطلاعات افراد غیر حقوق بگیر'!F:F)),IF(H69=31,Settings!$D$13,ROUND(M69,0)))","v":0},null,0,{"$f":"IF(ISNA(MATCH(D69,Master!D:D,0)),IF(ISNA(MATCH(D69,'اطلاعات افراد غیر حقوق بگیر'!A:A,0)),0,LOOKUP(D69,'اطلاعات افراد غیر حقوق بگیر'!A:A,'اطلاعات افراد غیر حقوق بگیر'!G:G)),LOOKUP(D69,Master!D:D,Master!J:J))","v":0},{"$f":"LOOKUP(Q69,$W$4:$W$12,$X$4:$X$12)","v":{"$error":"#N/A"}},{"$f":"IF(P69=0,0,ROUND(P69*R69/100,0))","v":0},{"$f":"P69-S69","v":0},{"$f":"IF(O69>#REF!,\"اخطار ساعت اضافه کار از حداکثر بیشتر است\",\" \")","v":{"$error":"#REF!"}},{"$f":"IF(O69>#REF!,1,0)","v":{"$error":"#REF!"}}]
[{"$f":"A69+1","v":67},{"$f":"IF(D70=0,\"\",Settings!$D$6)","v":""},{"$f":"IF(D70=0,\"\",LOOKUP(B70,'Rigion Code'!A:A,'Rigion Code'!B:B))","v":""},null,{"$f":"IF(D70=0,\" \",IF(ISNA(MATCH(D70,Personnel!A:A,0)),IF(ISNA(MATCH(D70,'اطلاعات افراد غیر حقوق بگیر'!A:A,0)),\"وجود ندارد\",LOOKUP(Edit!D70,'اطلاعات افراد غیر حقوق بگیر'!A:A,'اطلاعات افراد غیر حقوق بگیر'!B:B)),LOOKUP(D70,Personnel!A:A,Personnel!C:C)))","v":" "},{"$f":"IF(D70=0,\" \",IF(ISNA(MATCH(D70,Personnel!A:A,0)),IF(ISNA(MATCH(D70,'اطلاعات افراد غیر حقوق بگیر'!A:A,0)),\"وجود ندارد\",LOOKUP(D70,'اطلاعات افراد غیر حقوق بگیر'!A:A,'اطلاعات افراد غیر حقوق بگیر'!C:C)),LOOKUP(D70,Personnel!A:A,Personnel!B:B)))","v":" "},{"$f":"IF(D70=0,0,IF(ISNA(MATCH(D70,Personnel!A:A,0)),IF(ISNA(MATCH(D70,'اطلاعات افراد غیر حقوق بگیر'!A:A,0)),\"وجود ندارد\",LOOKUP(D70,'اطلاعات افراد غیر حقوق بگیر'!A:A,'اطلاعات افراد غیر حقوق بگیر'!D:D)),LOOKUP(D70,Master!D:D,Master!CD:CD)))","v":0},{"$f":"IF(D70=0,\" \",IF(ISNA(MATCH(D70,Personnel!A:A,0)),IF(ISNA(MATCH(D70,'اطلاعات افراد غیر حقوق بگیر'!A:A,0)),\"وجود ندارد\",LOOKUP(D70,'اطلاعات افراد غیر حقوق بگیر'!A:A,'اطلاعات افراد غیر حقوق بگیر'!E:E)),LOOKUP(D70,Master!D:D,Master!AH:AH)))","v":" "},{"$f":"SUMIFS(Pays!G:G,Pays!E:E,1,Pays!D:D,D70)","v":0},{"$f":"SUMIFS(Pays!G:G,Pays!E:E,2,Pays!D:D,D70)","v":0},{"$f":"SUMIFS(Pays!G:G,Pays!E:E,57,Pays!D:D,D70)","v":0},{"$f":"SUMIF(Pays!D:D,D70,Pays!G:G)","v":0},{"$f":"SUMIF(Pays!D:D,D70,Pays!G:G)/176","v":0},{"$f":"IF(M70=0,IF(ISNA(MATCH(D70,'اطلاعات افراد غیر حقوق بگیر'!A:A,0)),0,LOOKUP(D70,'اطلاعات افراد غیر حقوق بگیر'!A:A,'اطلاعات افراد غیر حقوق بگیر'!F:F)),IF(H70=31,Settings!$D$13,ROUND(M70,0)))","v":0},null,0,{"$f":"IF(ISNA(MATCH(D70,Master!D:D,0)),IF(ISNA(MATCH(D70,'اطلاعات افراد غیر حقوق بگیر'!A:A,0)),0,LOOKUP(D70,'اطلاعات افراد غیر حقوق بگیر'!A:A,'اطلاعات افراد غیر حقوق بگیر'!G:G)),LOOKUP(D70,Master!D:D,Master!J:J))","v":0},{"$error":"#N/A"},0,0,{"$f":"IF(O70>#REF!,\"اخطار ساعت اضافه کار از حداکثر بیشتر است\",\" \")","v":{"$error":"#REF!"}},{"$f":"IF(O70>#REF!,1,0)","v":{"$error":"#REF!"}}]
[68,{"$f":"IF(D71=0,\"\",Settings!$D$6)","v":""},{"$f":"IF(D71=0,\"\",LOOKUP(B71,'Rigion Code'!A:A,'Rigion Code'!B:B))","v":""},null,{"$f":"IF(D71=0,\" \",IF(ISNA(MATCH(D71,Personnel!A:A,0)),IF(ISNA(MATCH(D71,'اطلاعات افراد غیر حقوق بگیر'!A:A,0)),\"وجود ندارد\",LOOKUP(Edit!D71,'اطلاعات افراد غیر حقوق بگیر'!A:A,'اطلاعات افراد غیر حقوق بگیر'!B:B)),LOOKUP(D71,Personnel!A:A,Personnel!C:C)))","v":" "},{"$f":"IF(D71=0,\" \",IF(ISNA(MATCH(D71,Personnel!A:A,0)),IF(ISNA(MATCH(D71,'اطلاعات افراد غیر حقوق بگیر'!A:A,0)),\"وجود ندارد\",LOOKUP(D71,'اطلاعات افراد غیر حقوق بگیر'!A:A,'اطلاعات افراد غیر حقوق بگیر'!C:C)),LOOKUP(D71,Personnel!A:A,Personnel!B:B)))","v":" "},{"$f":"IF(D71=0,0,IF(ISNA(MATCH(D71,Personnel!A:A,0)),IF(ISNA(MATCH(D71,'اطلاعات افراد غیر حقوق بگیر'!A:A,0)),\"وجود ندارد\",LOOKUP(D71,'اطلاعات افراد غیر حقوق بگیر'!A:A,'اطلاعات افراد غیر حقوق بگیر'!D:D)),LOOKUP(D71,Master!D:D,Master!CD:CD)))","v":0},{"$f":"IF(D71=0,\" \",IF(ISNA(MATCH(D71,Personnel!A:A,0)),IF(ISNA(MATCH(D71,'اطلاعات افراد غیر حقوق بگیر'!A:A,0)),\"وجود ندارد\",LOOKUP(D71,'اطلاعات افراد غیر حقوق بگیر'!A:A,'اطلاعات افراد غیر حقوق بگیر'!E:E)),LOOKUP(D71,Master!D:D,Master!AH:AH)))","v":" "},{"$f":"SUMIFS(Pays!G:G,Pays!E:E,1,Pays!D:D,D71)","v":0},{"$f":"SUMIFS(Pays!G:G,Pays!E:E,2,Pays!D:D,D71)","v":0},{"$f":"SUMIFS(Pays!G:G,Pays!E:E,57,Pays!D:D,D71)","v":0},{"$f":"SUMIF(Pays!D:D,D71,Pays!G:G)","v":0},{"$f":"SUMIF(Pays!D:D,D71,Pays!G:G)/176","v":0},{"$f":"IF(M71=0,IF(ISNA(MATCH(D71,'اطلاعات افراد غیر حقوق بگیر'!A:A,0)),0,LOOKUP(D71,'اطلاعات افراد غیر حقوق بگیر'!A:A,'اطلاعات افراد غیر حقوق بگیر'!F:F)),IF(H71=31,Settings!$D$13,ROUND(M71,0)))","v":0},null,0,{"$f":"IF(ISNA(MATCH(D71,Master!D:D,0)),IF(ISNA(MATCH(D71,'اطلاعات افراد غیر حقوق بگیر'!A:A,0)),0,LOOKUP(D71,'اطلاعات افراد غیر حقوق بگیر'!A:A,'اطلاعات افراد غیر حقوق بگیر'!G:G)),LOOKUP(D71,Master!D:D,Master!J:J))","v":0},{"$error":"#N/A"},0,0,{"$f":"IF(O71>#REF!,\"اخطار ساعت اضافه کار از حداکثر بیشتر است\",\" \")","v":{"$error":"#REF!"}},{"$f":"IF(O71>#REF!,1,0)","v":{"$error":"#REF!"}}]
[69,{"$f":"IF(D72=0,\"\",Settings!$D$6)","v":""},{"$f":"IF(D72=0,\"\",LOOKUP(B72,'Rigion Code'!A:A,'Rigion Code'!B:B))","v":""},null,{"$f":"IF(D72=0,\" \",IF(ISNA(MATCH(D72,Personnel!A:A,0)),IF(ISNA(MATCH(D72,'اطلاعات افراد غیر حقوق بگیر'!A:A,0)),\"وجود ندارد\",LOOKUP(Edit!D72,'اطلاعات افراد غیر حقوق بگیر'!A:A,'اطلاعات افراد غیر حقوق بگیر'!B:B)),LOOKUP(D72,Personnel!A:A,Personnel!C:C)))","v":" "},{"$f":"IF(D72=0,\" \",IF(ISNA(MATCH(D72,Personnel!A:A,0)),IF(ISNA(MATCH(D72,'اطلاعات افراد غیر حقوق بگیر'!A:A,0)),\"وجود ندارد\",LOOKUP(D72,'اطلاعات افراد غیر حقوق بگیر'!A:A,'اطلاعات افراد غیر حقوق بگیر'!C:C)),LOOKUP(D72,Personnel!A:A,Personnel!B:B)))","v":" "},{"$f":"IF(D72=0,0,IF(ISNA(MATCH(D72,Personnel!A:A,0)),IF(ISNA(MATCH(D72,'اطلاعات افراد غیر حقوق بگیر'!A:A,0)),\"وجود ندارد\",LOOKUP(D72,'اطلاعات افراد غیر حقوق بگیر'!A:A,'اطلاعات افراد غیر حقوق بگیر'!D:D)),LOOKUP(D72,Master!D:D,Master!CD:CD)))","v":0},{"$f":"IF(D72=0,\" \",IF(ISNA(MATCH(D72,Personnel!A:A,0)),IF(ISNA(MATCH(D72,'اطلاعات افراد غیر حقوق بگیر'!A:A,0)),\"وجود ندارد\",LOOKUP(D72,'اطلاعات افراد غیر حقوق بگیر'!A:A,'اطلاعات افراد غیر حقوق بگیر'!E:E)),LOOKUP(D72,Master!D:D,Master!AH:AH)))","v":" "},{"$f":"SUMIFS(Pays!G:G,Pays!E:E,1,Pays!D:D,D72)","v":0},{"$f":"SUMIFS(Pays!G:G,Pays!E:E,2,Pays!D:D,D72)","v":0},{"$f":"SUMIFS(Pays!G:G,Pays!E:E,57,Pays!D:D,D72)","v":0},{"$f":"SUMIF(Pays!D:D,D72,Pays!G:G)","v":0},{"$f":"SUMIF(Pays!D:D,D72,Pays!G:G)/176","v":0},{"$f":"IF(M72=0,IF(ISNA(MATCH(D72,'اطلاعات افراد غیر حقوق بگیر'!A:A,0)),0,LOOKUP(D72,'اطلاعات افراد غیر حقوق بگیر'!A:A,'اطلاعات افراد غیر حقوق بگیر'!F:F)),IF(H72=31,Settings!$D$13,ROUND(M72,0)))","v":0},null,0,{"$f":"IF(ISNA(MATCH(D72,Master!D:D,0)),IF(ISNA(MATCH(D72,'اطلاعات افراد غیر حقوق بگیر'!A:A,0)),0,LOOKUP(D72,'اطلاعات افراد غیر حقوق بگیر'!A:A,'اطلاعات افراد غیر حقوق بگیر'!G:G)),LOOKUP(D72,Master!D:D,Master!J:J))","v":0},{"$error":"#N/A"},0,0,{"$f":"IF(O72>#REF!,\"اخطار ساعت اضافه کار از حداکثر بیشتر است\",\" \")","v":{"$error":"#REF!"}},{"$f":"IF(O72>#REF!,1,0)","v":{"$error":"#REF!"}}]
[70,{"$f":"IF(D73=0,\"\",Settings!$D$6)","v":""},{"$f":"IF(D73=0,\"\",LOOKUP(B73,'Rigion Code'!A:A,'Rigion Code'!B:B))","v":""},null,{"$f":"IF(D73=0,\" \",IF(ISNA(MATCH(D73,Personnel!A:A,0)),IF(ISNA(MATCH(D73,'اطلاعات افراد غیر حقوق بگیر'!A:A,0)),\"وجود ندارد\",LOOKUP(Edit!D73,'اطلاعات افراد غیر حقوق بگیر'!A:A,'اطلاعات افراد غیر حقوق بگیر'!B:B)),LOOKUP(D73,Personnel!A:A,Personnel!C:C)))","v":" "},{"$f":"IF(D73=0,\" \",IF(ISNA(MATCH(D73,Personnel!A:A,0)),IF(ISNA(MATCH(D73,'اطلاعات افراد غیر حقوق بگیر'!A:A,0)),\"وجود ندارد\",LOOKUP(D73,'اطلاعات افراد غیر حقوق بگیر'!A:A,'اطلاعات افراد غیر حقوق بگیر'!C:C)),LOOKUP(D73,Personnel!A:A,Personnel!B:B)))","v":" "},{"$f":"IF(D73=0,0,IF(ISNA(MATCH(D73,Personnel!A:A,0)),IF(ISNA(MATCH(D73,'اطلاعات افراد غیر حقوق بگیر'!A:A,0)),\"وجود ندارد\",LOOKUP(D73,'اطلاعات افراد غیر حقوق بگیر'!A:A,'اطلاعات افراد غیر حقوق بگیر'!D:D)),LOOKUP(D73,Master!D:D,Master!CD:CD)))","v":0},{"$f":"IF(D73=0,\" \",IF(ISNA(MATCH(D73,Personnel!A:A,0)),IF(ISNA(MATCH(D73,'اطلاعات افراد غیر حقوق بگیر'!A:A,0)),\"وجود ندارد\",LOOKUP(D73,'اطلاعات افراد غیر حقوق بگیر'!A:A,'اطلاعات افراد غیر حقوق بگیر'!E:E)),LOOKUP(D73,Master!D:D,Master!AH:AH)))","v":" "},{"$f":"SUMIFS(Pays!G:G,Pays!E:E,1,Pays!D:D,D73)","v":0},{"$f":"SUMIFS(Pays!G:G,Pays!E:E,2,Pays!D:D,D73)","v":0},{"$f":"SUMIFS(Pays!G:G,Pays!E:E,57,Pays!D:D,D73)","v":0},{"$f":"SUMIF(Pays!D:D,D73,Pays!G:G)","v":0},{"$f":"SUMIF(Pays!D:D,D73,Pays!G:G)/176","v":0},{"$f":"IF(M73=0,IF(ISNA(MATCH(D73,'اطلاعات افراد غیر حقوق بگیر'!A:A,0)),0,LOOKUP(D73,'اطلاعات افراد غیر حقوق بگیر'!A:A,'اطلاعات افراد غیر حقوق بگیر'!F:F)),IF(H73=31,Settings!$D$13,ROUND(M73,0)))","v":0},null,0,{"$f":"IF(ISNA(MATCH(D73,Master!D:D,0)),IF(ISNA(MATCH(D73,'اطلاعات افراد غیر حقوق بگیر'!A:A,0)),0,LOOKUP(D73,'اطلاعات افراد غیر حقوق بگیر'!A:A,'اطلاعات افراد غیر حقوق بگیر'!G:G)),LOOKUP(D73,Master!D:D,Master!J:J))","v":0},{"$error":"#N/A"},0,0,{"$f":"IF(O73>#REF!,\"اخطار ساعت اضافه کار از حداکثر بیشتر است\",\" \")","v":{"$error":"#REF!"}},{"$f":"IF(O73>#REF!,1,0)","v":{"$error":"#REF!"}}]
[71,{"$f":"IF(D74=0,\"\",Settings!$D$6)","v":""},{"$f":"IF(D74=0,\"\",LOOKUP(B74,'Rigion Code'!A:A,'Rigion Code'!B:B))","v":""},null,{"$f":"IF(D74=0,\" \",IF(ISNA(MATCH(D74,Personnel!A:A,0)),IF(ISNA(MATCH(D74,'اطلاعات افراد غیر حقوق بگیر'!A:A,0)),\"وجود ندارد\",LOOKUP(Edit!D74,'اطلاعات افراد غیر حقوق بگیر'!A:A,'اطلاعات افراد غیر حقوق بگیر'!B:B)),LOOKUP(D74,Personnel!A:A,Personnel!C:C)))","v":" "},{"$f":"IF(D74=0,\" \",IF(ISNA(MATCH(D74,Personnel!A:A,0)),IF(ISNA(MATCH(D74,'اطلاعات افراد غیر حقوق بگیر'!A:A,0)),\"وجود ندارد\",LOOKUP(D74,'اطلاعات افراد غیر حقوق بگیر'!A:A,'اطلاعات افراد غیر حقوق بگیر'!C:C)),LOOKUP(D74,Personnel!A:A,Personnel!B:B)))","v":" "},{"$f":"IF(D74=0,0,IF(ISNA(MATCH(D74,Personnel!A:A,0)),IF(ISNA(MATCH(D74,'اطلاعات افراد غیر حقوق بگیر'!A:A,0)),\"وجود ندارد\",LOOKUP(D74,'اطلاعات افراد غیر حقوق بگیر'!A:A,'اطلاعات افراد غیر حقوق بگیر'!D:D)),LOOKUP(D74,Master!D:D,Master!CD:CD)))","v":0},{"$f":"IF(D74=0,\" \",IF(ISNA(MATCH(D74,Personnel!A:A,0)),IF(ISNA(MATCH(D74,'اطلاعات افراد غیر حقوق بگیر'!A:A,0)),\"وجود ندارد\",LOOKUP(D74,'اطلاعات افراد غیر حقوق بگیر'!A:A,'اطلاعات افراد غیر حقوق بگیر'!E:E)),LOOKUP(D74,Master!D:D,Master!AH:AH)))","v":" "},{"$f":"SUMIFS(Pays!G:G,Pays!E:E,1,Pays!D:D,D74)","v":0},{"$f":"SUMIFS(Pays!G:G,Pays!E:E,2,Pays!D:D,D74)","v":0},{"$f":"SUMIFS(Pays!G:G,Pays!E:E,57,Pays!D:D,D74)","v":0},{"$f":"SUMIF(Pays!D:D,D74,Pays!G:G)","v":0},{"$f":"SUMIF(Pays!D:D,D74,Pays!G:G)/176","v":0},{"$f":"IF(M74=0,IF(ISNA(MATCH(D74,'اطلاعات افراد غیر حقوق بگیر'!A:A,0)),0,LOOKUP(D74,'اطلاعات افراد غیر حقوق بگیر'!A:A,'اطلاعات افراد غیر حقوق بگیر'!F:F)),IF(H74=31,Settings!$D$13,ROUND(M74,0)))","v":0},null,0,{"$f":"IF(ISNA(MATCH(D74,Master!D:D,0)),IF(ISNA(MATCH(D74,'اطلاعات افراد غیر حقوق بگیر'!A:A,0)),0,LOOKUP(D74,'اطلاعات افراد غیر حقوق بگیر'!A:A,'اطلاعات افراد غیر حقوق بگیر'!G:G)),LOOKUP(D74,Master!D:D,Master!J:J))","v":0},{"$error":"#N/A"},0,0,{"$f":"IF(O74>#REF!,\"اخطار ساعت اضافه کار از حداکثر بیشتر است\",\" \")","v":{"$error":"#REF!"}},{"$f":"IF(O74>#REF!,1,0)","v":{"$error":"#REF!"}}]
[72,{"$f":"IF(D75=0,\"\",Settings!$D$6)","v":""},{"$f":"IF(D75=0,\"\",LOOKUP(B75,'Rigion Code'!A:A,'Rigion Code'!B:B))","v":""},null,{"$f":"IF(D75=0,\" \",IF(ISNA(MATCH(D75,Personnel!A:A,0)),IF(ISNA(MATCH(D75,'اطلاعات افراد غیر حقوق بگیر'!A:A,0)),\"وجود ندارد\",LOOKUP(Edit!D75,'اطلاعات افراد غیر حقوق بگیر'!A:A,'اطلاعات افراد غیر حقوق بگیر'!B:B)),LOOKUP(D75,Personnel!A:A,Personnel!C:C)))","v":" "},{"$f":"IF(D75=0,\" \",IF(ISNA(MATCH(D75,Personnel!A:A,0)),IF(ISNA(MATCH(D75,'اطلاعات افراد غیر حقوق بگیر'!A:A,0)),\"وجود ندارد\",LOOKUP(D75,'اطلاعات افراد غیر حقوق بگیر'!A:A,'اطلاعات افراد غیر حقوق بگیر'!C:C)),LOOKUP(D75,Personnel!A:A,Personnel!B:B)))","v":" "},{"$f":"IF(D75=0,0,IF(ISNA(MATCH(D75,Personnel!A:A,0)),IF(ISNA(MATCH(D75,'اطلاعات افراد غیر حقوق بگیر'!A:A,0)),\"وجود ندارد\",LOOKUP(D75,'اطلاعات افراد غیر حقوق بگیر'!A:A,'اطلاعات افراد غیر حقوق بگیر'!D:D)),LOOKUP(D75,Master!D:D,Master!CD:CD)))","v":0},{"$f":"IF(D75=0,\" \",IF(ISNA(MATCH(D75,Personnel!A:A,0)),IF(ISNA(MATCH(D75,'اطلاعات افراد غیر حقوق بگیر'!A:A,0)),\"وجود ندارد\",LOOKUP(D75,'اطلاعات افراد غیر حقوق بگیر'!A:A,'اطلاعات افراد غیر حقوق بگیر'!E:E)),LOOKUP(D75,Master!D:D,Master!AH:AH)))","v":" "},{"$f":"SUMIFS(Pays!G:G,Pays!E:E,1,Pays!D:D,D75)","v":0},{"$f":"SUMIFS(Pays!G:G,Pays!E:E,2,Pays!D:D,D75)","v":0},{"$f":"SUMIFS(Pays!G:G,Pays!E:E,57,Pays!D:D,D75)","v":0},{"$f":"SUMIF(Pays!D:D,D75,Pays!G:G)","v":0},{"$f":"SUMIF(Pays!D:D,D75,Pays!G:G)/176","v":0},{"$f":"IF(M75=0,IF(ISNA(MATCH(D75,'اطلاعات افراد غیر حقوق بگیر'!A:A,0)),0,LOOKUP(D75,'اطلاعات افراد غیر حقوق بگیر'!A:A,'اطلاعات افراد غیر حقوق بگیر'!F:F)),IF(H75=31,Settings!$D$13,ROUND(M75,0)))","v":0},null,0,{"$f":"IF(ISNA(MATCH(D75,Master!D:D,0)),IF(ISNA(MATCH(D75,'اطلاعات افراد غیر حقوق بگیر'!A:A,0)),0,LOOKUP(D75,'اطلاعات افراد غیر حقوق بگیر'!A:A,'اطلاعات افراد غیر حقوق بگیر'!G:G)),LOOKUP(D75,Master!D:D,Master!J:J))","v":0},{"$error":"#N/A"},0,0,{"$f":"IF(O75>#REF!,\"اخطار ساعت اضافه کار از حداکثر بیشتر است\",\" \")","v":{"$error":"#REF!"}},{"$f":"IF(O75>#REF!,1,0)","v":{"$error":"#REF!"}}]
[73,{"$f":"IF(D76=0,\"\",Settings!$D$6)","v":""},{"$f":"IF(D76=0,\"\",LOOKUP(B76,'Rigion Code'!A:A,'Rigion Code'!B:B))","v":""},null,{"$f":"IF(D76=0,\" \",IF(ISNA(MATCH(D76,Personnel!A:A,0)),IF(ISNA(MATCH(D76,'اطلاعات افراد غیر حقوق بگیر'!A:A,0)),\"وجود ندارد\",LOOKUP(Edit!D76,'اطلاعات افراد غیر حقوق بگیر'!A:A,'اطلاعات افراد غیر حقوق بگیر'!B:B)),LOOKUP(D76,Personnel!A:A,Personnel!C:C)))","v":" "},{"$f":"IF(D76=0,\" \",IF(ISNA(MATCH(D76,Personnel!A:A,0)),IF(ISNA(MATCH(D76,'اطلاعات افراد غیر حقوق بگیر'!A:A,0)),\"وجود ندارد\",LOOKUP(D76,'اطلاعات افراد غیر حقوق بگیر'!A:A,'اطلاعات افراد غیر حقوق بگیر'!C:C)),LOOKUP(D76,Personnel!A:A,Personnel!B:B)))","v":" "},{"$f":"IF(D76=0,0,IF(ISNA(MATCH(D76,Personnel!A:A,0)),IF(ISNA(MATCH(D76,'اطلاعات افراد غیر حقوق بگیر'!A:A,0)),\"وجود ندارد\",LOOKUP(D76,'اطلاعات افراد غیر حقوق بگیر'!A:A,'اطلاعات افراد غیر حقوق بگیر'!D:D)),LOOKUP(D76,Master!D:D,Master!CD:CD)))","v":0},{"$f":"IF(D76=0,\" \",IF(ISNA(MATCH(D76,Personnel!A:A,0)),IF(ISNA(MATCH(D76,'اطلاعات افراد غیر حقوق بگیر'!A:A,0)),\"وجود ندارد\",LOOKUP(D76,'اطلاعات افراد غیر حقوق بگیر'!A:A,'اطلاعات افراد غیر حقوق بگیر'!E:E)),LOOKUP(D76,Master!D:D,Master!AH:AH)))","v":" "},{"$f":"SUMIFS(Pays!G:G,Pays!E:E,1,Pays!D:D,D76)","v":0},{"$f":"SUMIFS(Pays!G:G,Pays!E:E,2,Pays!D:D,D76)","v":0},{"$f":"SUMIFS(Pays!G:G,Pays!E:E,57,Pays!D:D,D76)","v":0},{"$f":"SUMIF(Pays!D:D,D76,Pays!G:G)","v":0},{"$f":"SUMIF(Pays!D:D,D76,Pays!G:G)/176","v":0},{"$f":"IF(M76=0,IF(ISNA(MATCH(D76,'اطلاعات افراد غیر حقوق بگیر'!A:A,0)),0,LOOKUP(D76,'اطلاعات افراد غیر حقوق بگیر'!A:A,'اطلاعات افراد غیر حقوق بگیر'!F:F)),IF(H76=31,Settings!$D$13,ROUND(M76,0)))","v":0},null,0,{"$f":"IF(ISNA(MATCH(D76,Master!D:D,0)),IF(ISNA(MATCH(D76,'اطلاعات افراد غیر حقوق بگیر'!A:A,0)),0,LOOKUP(D76,'اطلاعات افراد غیر حقوق بگیر'!A:A,'اطلاعات افراد غیر حقوق بگیر'!G:G)),LOOKUP(D76,Master!D:D,Master!J:J))","v":0},{"$error":"#N/A"},0,0,{"$f":"IF(O76>#REF!,\"اخطار ساعت اضافه کار از حداکثر بیشتر است\",\" \")","v":{"$error":"#REF!"}},{"$f":"IF(O76>#REF!,1,0)","v":{"$error":"#REF!"}}]
[74,{"$f":"IF(D77=0,\"\",Settings!$D$6)","v":""},{"$f":"IF(D77=0,\"\",LOOKUP(B77,'Rigion Code'!A:A,'Rigion Code'!B:B))","v":""},null,{"$f":"IF(D77=0,\" \",IF(ISNA(MATCH(D77,Personnel!A:A,0)),IF(ISNA(MATCH(D77,'اطلاعات افراد غیر حقوق بگیر'!A:A,0)),\"وجود ندارد\",LOOKUP(Edit!D77,'اطلاعات افراد غیر حقوق بگیر'!A:A,'اطلاعات افراد غیر حقوق بگیر'!B:B)),LOOKUP(D77,Personnel!A:A,Personnel!C:C)))","v":" "},{"$f":"IF(D77=0,\" \",IF(ISNA(MATCH(D77,Personnel!A:A,0)),IF(ISNA(MATCH(D77,'اطلاعات افراد غیر حقوق بگیر'!A:A,0)),\"وجود ندارد\",LOOKUP(D77,'اطلاعات افراد غیر حقوق بگیر'!A:A,'اطلاعات افراد غیر حقوق بگیر'!C:C)),LOOKUP(D77,Personnel!A:A,Personnel!B:B)))","v":" "},{"$f":"IF(D77=0,0,IF(ISNA(MATCH(D77,Personnel!A:A,0)),IF(ISNA(MATCH(D77,'اطلاعات افراد غیر حقوق بگیر'!A:A,0)),\"وجود ندارد\",LOOKUP(D77,'اطلاعات افراد غیر حقوق بگیر'!A:A,'اطلاعات افراد غیر حقوق بگیر'!D:D)),LOOKUP(D77,Master!D:D,Master!CD:CD)))","v":0},{"$f":"IF(D77=0,\" \",IF(ISNA(MATCH(D77,Personnel!A:A,0)),IF(ISNA(MATCH(D77,'اطلاعات افراد غیر حقوق بگیر'!A:A,0)),\"وجود ندارد\",LOOKUP(D77,'اطلاعات افراد غیر حقوق بگیر'!A:A,'اطلاعات افراد غیر حقوق بگیر'!E:E)),LOOKUP(D77,Master!D:D,Master!AH:AH)))","v":" "},{"$f":"SUMIFS(Pays!G:G,Pays!E:E,1,Pays!D:D,D77)","v":0},{"$f":"SUMIFS(Pays!G:G,Pays!E:E,2,Pays!D:D,D77)","v":0},{"$f":"SUMIFS(Pays!G:G,Pays!E:E,57,Pays!D:D,D77)","v":0},{"$f":"SUMIF(Pays!D:D,D77,Pays!G:G)","v":0},{"$f":"SUMIF(Pays!D:D,D77,Pays!G:G)/176","v":0},{"$f":"IF(M77=0,IF(ISNA(MATCH(D77,'اطلاعات افراد غیر حقوق بگیر'!A:A,0)),0,LOOKUP(D77,'اطلاعات افراد غیر حقوق بگیر'!A:A,'اطلاعات افراد غیر حقوق بگیر'!F:F)),IF(H77=31,Settings!$D$13,ROUND(M77,0)))","v":0},null,0,{"$f":"IF(ISNA(MATCH(D77,Master!D:D,0)),IF(ISNA(MATCH(D77,'اطلاعات افراد غیر حقوق بگیر'!A:A,0)),0,LOOKUP(D77,'اطلاعات افراد غیر حقوق بگیر'!A:A,'اطلاعات افراد غیر حقوق بگیر'!G:G)),LOOKUP(D77,Master!D:D,Master!J:J))","v":0},{"$error":"#N/A"},0,0,{"$f":"IF(O77>#REF!,\"اخطار ساعت اضافه کار از حداکثر بیشتر است\",\" \")","v":{"$error":"#REF!"}},{"$f":"IF(O77>#REF!,1,0)","v":{"$error":"#REF!"}}]
[75,{"$f":"IF(D78=0,\"\",Settings!$D$6)","v":""},{"$f":"IF(D78=0,\"\",LOOKUP(B78,'Rigion Code'!A:A,'Rigion Code'!B:B))","v":""},null,{"$f":"IF(D78=0,\" \",IF(ISNA(MATCH(D78,Personnel!A:A,0)),IF(ISNA(MATCH(D78,'اطلاعات افراد غیر حقوق بگیر'!A:A,0)),\"وجود ندارد\",LOOKUP(Edit!D78,'اطلاعات افراد غیر حقوق بگیر'!A:A,'اطلاعات افراد غیر حقوق بگیر'!B:B)),LOOKUP(D78,Personnel!A:A,Personnel!C:C)))","v":" "},{"$f":"IF(D78=0,\" \",IF(ISNA(MATCH(D78,Personnel!A:A,0)),IF(ISNA(MATCH(D78,'اطلاعات افراد غیر حقوق بگیر'!A:A,0)),\"وجود ندارد\",LOOKUP(D78,'اطلاعات افراد غیر حقوق بگیر'!A:A,'اطلاعات افراد غیر حقوق بگیر'!C:C)),LOOKUP(D78,Personnel!A:A,Personnel!B:B)))","v":" "},{"$f":"IF(D78=0,0,IF(ISNA(MATCH(D78,Personnel!A:A,0)),IF(ISNA(MATCH(D78,'اطلاعات افراد غیر حقوق بگیر'!A:A,0)),\"وجود ندارد\",LOOKUP(D78,'اطلاعات افراد غیر حقوق بگیر'!A:A,'اطلاعات افراد غیر حقوق بگیر'!D:D)),LOOKUP(D78,Master!D:D,Master!CD:CD)))","v":0},{"$f":"IF(D78=0,\" \",IF(ISNA(MATCH(D78,Personnel!A:A,0)),IF(ISNA(MATCH(D78,'اطلاعات افراد غیر حقوق بگیر'!A:A,0)),\"وجود ندارد\",LOOKUP(D78,'اطلاعات افراد غیر حقوق بگیر'!A:A,'اطلاعات افراد غیر حقوق بگیر'!E:E)),LOOKUP(D78,Master!D:D,Master!AH:AH)))","v":" "},{"$f":"SUMIFS(Pays!G:G,Pays!E:E,1,Pays!D:D,D78)","v":0},{"$f":"SUMIFS(Pays!G:G,Pays!E:E,2,Pays!D:D,D78)","v":0},{"$f":"SUMIFS(Pays!G:G,Pays!E:E,57,Pays!D:D,D78)","v":0},{"$f":"SUMIF(Pays!D:D,D78,Pays!G:G)","v":0},{"$f":"SUMIF(Pays!D:D,D78,Pays!G:G)/176","v":0},{"$f":"IF(M78=0,IF(ISNA(MATCH(D78,'اطلاعات افراد غیر حقوق بگیر'!A:A,0)),0,LOOKUP(D78,'اطلاعات افراد غیر حقوق بگیر'!A:A,'اطلاعات افراد غیر حقوق بگیر'!F:F)),IF(H78=31,Settings!$D$13,ROUND(M78,0)))","v":0},null,0,{"$f":"IF(ISNA(MATCH(D78,Master!D:D,0)),IF(ISNA(MATCH(D78,'اطلاعات افراد غیر حقوق بگیر'!A:A,0)),0,LOOKUP(D78,'اطلاعات افراد غیر حقوق بگیر'!A:A,'اطلاعات افراد غیر حقوق بگیر'!G:G)),LOOKUP(D78,Master!D:D,Master!J:J))","v":0},{"$error":"#N/A"},0,0,{"$f":"IF(O78>#REF!,\"اخطار ساعت اضافه کار از حداکثر بیشتر است\",\" \")","v":{"$error":"#REF!"}},{"$f":"IF(O78>#REF!,1,0)","v":{"$error":"#REF!"}}]
[76,{"$f":"IF(D79=0,\"\",Settings!$D$6)","v":""},{"$f":"IF(D79=0,\"\",LOOKUP(B79,'Rigion Code'!A:A,'Rigion Code'!B:B))","v":""},null,{"$f":"IF(D79=0,\" \",IF(ISNA(MATCH(D79,Personnel!A:A,0)),IF(ISNA(MATCH(D79,'اطلاعات افراد غیر حقوق بگیر'!A:A,0)),\"وجود ندارد\",LOOKUP(Edit!D79,'اطلاعات افراد غیر حقوق بگیر'!A:A,'اطلاعات افراد غیر حقوق بگیر'!B:B)),LOOKUP(D79,Personnel!A:A,Personnel!C:C)))","v":" "},{"$f":"IF(D79=0,\" \",IF(ISNA(MATCH(D79,Personnel!A:A,0)),IF(ISNA(MATCH(D79,'اطلاعات افراد غیر حقوق بگیر'!A:A,0)),\"وجود ندارد\",LOOKUP(D79,'اطلاعات افراد غیر حقوق بگیر'!A:A,'اطلاعات افراد غیر حقوق بگیر'!C:C)),LOOKUP(D79,Personnel!A:A,Personnel!B:B)))","v":" "},{"$f":"IF(D79=0,0,IF(ISNA(MATCH(D79,Personnel!A:A,0)),IF(ISNA(MATCH(D79,'اطلاعات افراد غیر حقوق بگیر'!A:A,0)),\"وجود ندارد\",LOOKUP(D79,'اطلاعات افراد غیر حقوق بگیر'!A:A,'اطلاعات افراد غیر حقوق بگیر'!D:D)),LOOKUP(D79,Master!D:D,Master!CD:CD)))","v":0},{"$f":"IF(D79=0,\" \",IF(ISNA(MATCH(D79,Personnel!A:A,0)),IF(ISNA(MATCH(D79,'اطلاعات افراد غیر حقوق بگیر'!A:A,0)),\"وجود ندارد\",LOOKUP(D79,'اطلاعات افراد غیر حقوق بگیر'!A:A,'اطلاعات افراد غیر حقوق بگیر'!E:E)),LOOKUP(D79,Master!D:D,Master!AH:AH)))","v":" "},{"$f":"SUMIFS(Pays!G:G,Pays!E:E,1,Pays!D:D,D79)","v":0},{"$f":"SUMIFS(Pays!G:G,Pays!E:E,2,Pays!D:D,D79)","v":0},{"$f":"SUMIFS(Pays!G:G,Pays!E:E,57,Pays!D:D,D79)","v":0},{"$f":"SUMIF(Pays!D:D,D79,Pays!G:G)","v":0},{"$f":"SUMIF(Pays!D:D,D79,Pays!G:G)/176","v":0},{"$f":"IF(M79=0,IF(ISNA(MATCH(D79,'اطلاعات افراد غیر حقوق بگیر'!A:A,0)),0,LOOKUP(D79,'اطلاعات افراد غیر حقوق بگیر'!A:A,'اطلاعات افراد غیر حقوق بگیر'!F:F)),IF(H79=31,Settings!$D$13,ROUND(M79,0)))","v":0},null,0,{"$f":"IF(ISNA(MATCH(D79,Master!D:D,0)),IF(ISNA(MATCH(D79,'اطلاعات افراد غیر حقوق بگیر'!A:A,0)),0,LOOKUP(D79,'اطلاعات افراد غیر حقوق بگیر'!A:A,'اطلاعات افراد غیر حقوق بگیر'!G:G)),LOOKUP(D79,Master!D:D,Master!J:J))","v":0},{"$error":"#N/A"},0,0,{"$f":"IF(O79>#REF!,\"اخطار ساعت اضافه کار از حداکثر بیشتر است\",\" \")","v":{"$error":"#REF!"}},{"$f":"IF(O79>#REF!,1,0)","v":{"$error":"#REF!"}}]
[77,{"$f":"IF(D80=0,\"\",Settings!$D$6)","v":""},{"$f":"IF(D80=0,\"\",LOOKUP(B80,'Rigion Code'!A:A,'Rigion Code'!B:B))","v":""},null,{"$f":"IF(D80=0,\" \",IF(ISNA(MATCH(D80,Personnel!A:A,0)),IF(ISNA(MATCH(D80,'اطلاعات افراد غیر حقوق بگیر'!A:A,0)),\"وجود ندارد\",LOOKUP(Edit!D80,'اطلاعات افراد غیر حقوق بگیر'!A:A,'اطلاعات افراد غیر حقوق بگیر'!B:B)),LOOKUP(D80,Personnel!A:A,Personnel!C:C)))","v":" "},{"$f":"IF(D80=0,\" \",IF(ISNA(MATCH(D80,Personnel!A:A,0)),IF(ISNA(MATCH(D80,'اطلاعات افراد غیر حقوق بگیر'!A:A,0)),\"وجود ندارد\",LOOKUP(D80,'اطلاعات افراد غیر حقوق بگیر'!A:A,'اطلاعات افراد غیر حقوق بگیر'!C:C)),LOOKUP(D80,Personnel!A:A,Personnel!B:B)))","v":" "},{"$f":"IF(D80=0,0,IF(ISNA(MATCH(D80,Personnel!A:A,0)),IF(ISNA(MATCH(D80,'اطلاعات افراد غیر حقوق بگیر'!A:A,0)),\"وجود ندارد\",LOOKUP(D80,'اطلاعات افراد غیر حقوق بگیر'!A:A,'اطلاعات افراد غیر حقوق بگیر'!D:D)),LOOKUP(D80,Master!D:D,Master!CD:CD)))","v":0},{"$f":"IF(D80=0,\" \",IF(ISNA(MATCH(D80,Personnel!A:A,0)),IF(ISNA(MATCH(D80,'اطلاعات افراد غیر حقوق بگیر'!A:A,0)),\"وجود ندارد\",LOOKUP(D80,'اطلاعات افراد غیر حقوق بگیر'!A:A,'اطلاعات افراد غیر حقوق بگیر'!E:E)),LOOKUP(D80,Master!D:D,Master!AH:AH)))","v":" "},{"$f":"SUMIFS(Pays!G:G,Pays!E:E,1,Pays!D:D,D80)","v":0},{"$f":"SUMIFS(Pays!G:G,Pays!E:E,2,Pays!D:D,D80)","v":0},{"$f":"SUMIFS(Pays!G:G,Pays!E:E,57,Pays!D:D,D80)","v":0},{"$f":"SUMIF(Pays!D:D,D80,Pays!G:G)","v":0},{"$f":"SUMIF(Pays!D:D,D80,Pays!G:G)/176","v":0},{"$f":"IF(M80=0,IF(ISNA(MATCH(D80,'اطلاعات افراد غیر حقوق بگیر'!A:A,0)),0,LOOKUP(D80,'اطلاعات افراد غیر حقوق بگیر'!A:A,'اطلاعات افراد غیر حقوق بگیر'!F:F)),IF(H80=31,Settings!$D$13,ROUND(M80,0)))","v":0},null,0,{"$f":"IF(ISNA(MATCH(D80,Master!D:D,0)),IF(ISNA(MATCH(D80,'اطلاعات افراد غیر حقوق بگیر'!A:A,0)),0,LOOKUP(D80,'اطلاعات افراد غیر حقوق بگیر'!A:A,'اطلاعات افراد غیر حقوق بگیر'!G:G)),LOOKUP(D80,Master!D:D,Master!J:J))","v":0},{"$error":"#N/A"},0,0,{"$f":"IF(O80>#REF!,\"اخطار ساعت اضافه کار از حداکثر بیشتر است\",\" \")","v":{"$error":"#REF!"}},{"$f":"IF(O80>#REF!,1,0)","v":{"$error":"#REF!"}}]
[78,{"$f":"IF(D81=0,\"\",Settings!$D$6)","v":""},{"$f":"IF(D81=0,\"\",LOOKUP(B81,'Rigion Code'!A:A,'Rigion Code'!B:B))","v":""},null,{"$f":"IF(D81=0,\" \",IF(ISNA(MATCH(D81,Personnel!A:A,0)),IF(ISNA(MATCH(D81,'اطلاعات افراد غیر حقوق بگیر'!A:A,0)),\"وجود ندارد\",LOOKUP(Edit!D81,'اطلاعات افراد غیر حقوق بگیر'!A:A,'اطلاعات افراد غیر حقوق بگیر'!B:B)),LOOKUP(D81,Personnel!A:A,Personnel!C:C)))","v":" "},{"$f":"IF(D81=0,\" \",IF(ISNA(MATCH(D81,Personnel!A:A,0)),IF(ISNA(MATCH(D81,'اطلاعات افراد غیر حقوق بگیر'!A:A,0)),\"وجود ندارد\",LOOKUP(D81,'اطلاعات افراد غیر حقوق بگیر'!A:A,'اطلاعات افراد غیر حقوق بگیر'!C:C)),LOOKUP(D81,Personnel!A:A,Personnel!B:B)))","v":" "},{"$f":"IF(D81=0,0,IF(ISNA(MATCH(D81,Personnel!A:A,0)),IF(ISNA(MATCH(D81,'اطلاعات افراد غیر حقوق بگیر'!A:A,0)),\"وجود ندارد\",LOOKUP(D81,'اطلاعات افراد غیر حقوق بگیر'!A:A,'اطلاعات افراد غیر حقوق بگیر'!D:D)),LOOKUP(D81,Master!D:D,Master!CD:CD)))","v":0},{"$f":"IF(D81=0,\" \",IF(ISNA(MATCH(D81,Personnel!A:A,0)),IF(ISNA(MATCH(D81,'اطلاعات افراد غیر حقوق بگیر'!A:A,0)),\"وجود ندارد\",LOOKUP(D81,'اطلاعات افراد غیر حقوق بگیر'!A:A,'اطلاعات افراد غیر حقوق بگیر'!E:E)),LOOKUP(D81,Master!D:D,Master!AH:AH)))","v":" "},{"$f":"SUMIFS(Pays!G:G,Pays!E:E,1,Pays!D:D,D81)","v":0},{"$f":"SUMIFS(Pays!G:G,Pays!E:E,2,Pays!D:D,D81)","v":0},{"$f":"SUMIFS(Pays!G:G,Pays!E:E,57,Pays!D:D,D81)","v":0},{"$f":"SUMIF(Pays!D:D,D81,Pays!G:G)","v":0},{"$f":"SUMIF(Pays!D:D,D81,Pays!G:G)/176","v":0},{"$f":"IF(M81=0,IF(ISNA(MATCH(D81,'اطلاعات افراد غیر حقوق بگیر'!A:A,0)),0,LOOKUP(D81,'اطلاعات افراد غیر حقوق بگیر'!A:A,'اطلاعات افراد غیر حقوق بگیر'!F:F)),IF(H81=31,Settings!$D$13,ROUND(M81,0)))","v":0},null,0,{"$f":"IF(ISNA(MATCH(D81,Master!D:D,0)),IF(ISNA(MATCH(D81,'اطلاعات افراد غیر حقوق بگیر'!A:A,0)),0,LOOKUP(D81,'اطلاعات افراد غیر حقوق بگیر'!A:A,'اطلاعات افراد غیر حقوق بگیر'!G:G)),LOOKUP(D81,Master!D:D,Master!J:J))","v":0},{"$error":"#N/A"},0,0,{"$f":"IF(O81>#REF!,\"اخطار ساعت اضافه کار از حداکثر بیشتر است\",\" \")","v":{"$error":"#REF!"}},{"$f":"IF(O81>#REF!,1,0)","v":{"$error":"#REF!"}}]
[79,{"$f":"IF(D82=0,\"\",Settings!$D$6)","v":""},{"$f":"IF(D82=0,\"\",LOOKUP(B82,'Rigion Code'!A:A,'Rigion Code'!B:B))","v":""},null,{"$f":"IF(D82=0,\" \",IF(ISNA(MATCH(D82,Personnel!A:A,0)),IF(ISNA(MATCH(D82,'اطلاعات افراد غیر حقوق بگیر'!A:A,0)),\"وجود ندارد\",LOOKUP(Edit!D82,'اطلاعات افراد غیر حقوق بگیر'!A:A,'اطلاعات افراد غیر حقوق بگیر'!B:B)),LOOKUP(D82,Personnel!A:A,Personnel!C:C)))","v":" "},{"$f":"IF(D82=0,\" \",IF(ISNA(MATCH(D82,Personnel!A:A,0)),IF(ISNA(MATCH(D82,'اطلاعات افراد غیر حقوق بگیر'!A:A,0)),\"وجود ندارد\",LOOKUP(D82,'اطلاعات افراد غیر حقوق بگیر'!A:A,'اطلاعات افراد غیر حقوق بگیر'!C:C)),LOOKUP(D82,Personnel!A:A,Personnel!B:B)))","v":" "},{"$f":"IF(D82=0,0,IF(ISNA(MATCH(D82,Personnel!A:A,0)),IF(ISNA(MATCH(D82,'اطلاعات افراد غیر حقوق بگیر'!A:A,0)),\"وجود ندارد\",LOOKUP(D82,'اطلاعات افراد غیر حقوق بگیر'!A:A,'اطلاعات افراد غیر حقوق بگیر'!D:D)),LOOKUP(D82,Master!D:D,Master!CD:CD)))","v":0},{"$f":"IF(D82=0,\" \",IF(ISNA(MATCH(D82,Personnel!A:A,0)),IF(ISNA(MATCH(D82,'اطلاعات افراد غیر حقوق بگیر'!A:A,0)),\"وجود ندارد\",LOOKUP(D82,'اطلاعات افراد غیر حقوق بگیر'!A:A,'اطلاعات افراد غیر حقوق بگیر'!E:E)),LOOKUP(D82,Master!D:D,Master!AH:AH)))","v":" "},{"$f":"SUMIFS(Pays!G:G,Pays!E:E,1,Pays!D:D,D82)","v":0},{"$f":"SUMIFS(Pays!G:G,Pays!E:E,2,Pays!D:D,D82)","v":0},{"$f":"SUMIFS(Pays!G:G,Pays!E:E,57,Pays!D:D,D82)","v":0},{"$f":"SUMIF(Pays!D:D,D82,Pays!G:G)","v":0},{"$f":"SUMIF(Pays!D:D,D82,Pays!G:G)/176","v":0},{"$f":"IF(M82=0,IF(ISNA(MATCH(D82,'اطلاعات افراد غیر حقوق بگیر'!A:A,0)),0,LOOKUP(D82,'اطلاعات افراد غیر حقوق بگیر'!A:A,'اطلاعات افراد غیر حقوق بگیر'!F:F)),IF(H82=31,Settings!$D$13,ROUND(M82,0)))","v":0},null,0,{"$f":"IF(ISNA(MATCH(D82,Master!D:D,0)),IF(ISNA(MATCH(D82,'اطلاعات افراد غیر حقوق بگیر'!A:A,0)),0,LOOKUP(D82,'اطلاعات افراد غیر حقوق بگیر'!A:A,'اطلاعات افراد غیر حقوق بگیر'!G:G)),LOOKUP(D82,Master!D:D,Master!J:J))","v":0},{"$error":"#N/A"},0,0,{"$f":"IF(O82>#REF!,\"اخطار ساعت اضافه کار از حداکثر بیشتر است\",\" \")","v":{"$error":"#REF!"}},{"$f":"IF(O82>#REF!,1,0)","v":{"$error":"#REF!"}}]
[80,{"$f":"IF(D83=0,\"\",Settings!$D$6)","v":""},{"$f":"IF(D83=0,\"\",LOOKUP(B83,'Rigion Code'!A:A,'Rigion Code'!B:B))","v":""},null,{"$f":"IF(D83=0,\" \",IF(ISNA(MATCH(D83,Personnel!A:A,0)),IF(ISNA(MATCH(D83,'اطلاعات افراد غیر حقوق بگیر'!A:A,0)),\"وجود ندارد\",LOOKUP(Edit!D83,'اطلاعات افراد غیر حقوق بگیر'!A:A,'اطلاعات افراد غیر حقوق بگیر'!B:B)),LOOKUP(D83,Personnel!A:A,Personnel!C:C)))","v":" "},{"$f":"IF(D83=0,\" \",IF(ISNA(MATCH(D83,Personnel!A:A,0)),IF(ISNA(MATCH(D83,'اطلاعات افراد غیر حقوق بگیر'!A:A,0)),\"وجود ندارد\",LOOKUP(D83,'اطلاعات افراد غیر حقوق بگیر'!A:A,'اطلاعات افراد غیر حقوق بگیر'!C:C)),LOOKUP(D83,Personnel!A:A,Personnel!B:B)))","v":" "},{"$f":"IF(D83=0,0,IF(ISNA(MATCH(D83,Personnel!A:A,0)),IF(ISNA(MATCH(D83,'اطلاعات افراد غیر حقوق بگیر'!A:A,0)),\"وجود ندارد\",LOOKUP(D83,'اطلاعات افراد غیر حقوق بگیر'!A:A,'اطلاعات افراد غیر حقوق بگیر'!D:D)),LOOKUP(D83,Master!D:D,Master!CD:CD)))","v":0},{"$f":"IF(D83=0,\" \",IF(ISNA(MATCH(D83,Personnel!A:A,0)),IF(ISNA(MATCH(D83,'اطلاعات افراد غیر حقوق بگیر'!A:A,0)),\"وجود ندارد\",LOOKUP(D83,'اطلاعات افراد غیر حقوق بگیر'!A:A,'اطلاعات افراد غیر حقوق بگیر'!E:E)),LOOKUP(D83,Master!D:D,Master!AH:AH)))","v":" "},{"$f":"SUMIFS(Pays!G:G,Pays!E:E,1,Pays!D:D,D83)","v":0},{"$f":"SUMIFS(Pays!G:G,Pays!E:E,2,Pays!D:D,D83)","v":0},{"$f":"SUMIFS(Pays!G:G,Pays!E:E,57,Pays!D:D,D83)","v":0},{"$f":"SUMIF(Pays!D:D,D83,Pays!G:G)","v":0},{"$f":"SUMIF(Pays!D:D,D83,Pays!G:G)/176","v":0},{"$f":"IF(M83=0,IF(ISNA(MATCH(D83,'اطلاعات افراد غیر حقوق بگیر'!A:A,0)),0,LOOKUP(D83,'اطلاعات افراد غیر حقوق بگیر'!A:A,'اطلاعات افراد غیر حقوق بگیر'!F:F)),IF(H83=31,Settings!$D$13,ROUND(M83,0)))","v":0},null,0,{"$f":"IF(ISNA(MATCH(D83,Master!D:D,0)),IF(ISNA(MATCH(D83,'اطلاعات افراد غیر حقوق بگیر'!A:A,0)),0,LOOKUP(D83,'اطلاعات افراد غیر حقوق بگیر'!A:A,'اطلاعات افراد غیر حقوق بگیر'!G:G)),LOOKUP(D83,Master!D:D,Master!J:J))","v":0},{"$error":"#N/A"},0,0,{"$f":"IF(O83>#REF!,\"اخطار ساعت اضافه کار از حداکثر بیشتر است\",\" \")","v":{"$error":"#REF!"}},{"$f":"IF(O83>#REF!,1,0)","v":{"$error":"#REF!"}}]
[81,{"$f":"IF(D84=0,\"\",Settings!$D$6)","v":""},{"$f":"IF(D84=0,\"\",LOOKUP(B84,'Rigion Code'!A:A,'Rigion Code'!B:B))","v":""},null,{"$f":"IF(D84=0,\" \",IF(ISNA(MATCH(D84,Personnel!A:A,0)),IF(ISNA(MATCH(D84,'اطلاعات افراد غیر حقوق بگیر'!A:A,0)),\"وجود ندارد\",LOOKUP(Edit!D84,'اطلاعات افراد غیر حقوق بگیر'!A:A,'اطلاعات افراد غیر حقوق بگیر'!B:B)),LOOKUP(D84,Personnel!A:A,Personnel!C:C)))","v":" "},{"$f":"IF(D84=0,\" \",IF(ISNA(MATCH(D84,Personnel!A:A,0)),IF(ISNA(MATCH(D84,'اطلاعات افراد غیر حقوق بگیر'!A:A,0)),\"وجود ندارد\",LOOKUP(D84,'اطلاعات افراد غیر حقوق بگیر'!A:A,'اطلاعات افراد غیر حقوق بگیر'!C:C)),LOOKUP(D84,Personnel!A:A,Personnel!B:B)))","v":" "},{"$f":"IF(D84=0,0,IF(ISNA(MATCH(D84,Personnel!A:A,0)),IF(ISNA(MATCH(D84,'اطلاعات افراد غیر حقوق بگیر'!A:A,0)),\"وجود ندارد\",LOOKUP(D84,'اطلاعات افراد غیر حقوق بگیر'!A:A,'اطلاعات افراد غیر حقوق بگیر'!D:D)),LOOKUP(D84,Master!D:D,Master!CD:CD)))","v":0},{"$f":"IF(D84=0,\" \",IF(ISNA(MATCH(D84,Personnel!A:A,0)),IF(ISNA(MATCH(D84,'اطلاعات افراد غیر حقوق بگیر'!A:A,0)),\"وجود ندارد\",LOOKUP(D84,'اطلاعات افراد غیر حقوق بگیر'!A:A,'اطلاعات افراد غیر حقوق بگیر'!E:E)),LOOKUP(D84,Master!D:D,Master!AH:AH)))","v":" "},{"$f":"SUMIFS(Pays!G:G,Pays!E:E,1,Pays!D:D,D84)","v":0},{"$f":"SUMIFS(Pays!G:G,Pays!E:E,2,Pays!D:D,D84)","v":0},{"$f":"SUMIFS(Pays!G:G,Pays!E:E,57,Pays!D:D,D84)","v":0},{"$f":"SUMIF(Pays!D:D,D84,Pays!G:G)","v":0},{"$f":"SUMIF(Pays!D:D,D84,Pays!G:G)/176","v":0},{"$f":"IF(M84=0,IF(ISNA(MATCH(D84,'اطلاعات افراد غیر حقوق بگیر'!A:A,0)),0,LOOKUP(D84,'اطلاعات افراد غیر حقوق بگیر'!A:A,'اطلاعات افراد غیر حقوق بگیر'!F:F)),IF(H84=31,Settings!$D$13,ROUND(M84,0)))","v":0},null,0,{"$f":"IF(ISNA(MATCH(D84,Master!D:D,0)),IF(ISNA(MATCH(D84,'اطلاعات افراد غیر حقوق بگیر'!A:A,0)),0,LOOKUP(D84,'اطلاعات افراد غیر حقوق بگیر'!A:A,'اطلاعات افراد غیر حقوق بگیر'!G:G)),LOOKUP(D84,Master!D:D,Master!J:J))","v":0},{"$error":"#N/A"},0,0,{"$f":"IF(O84>#REF!,\"اخطار ساعت اضافه کار از حداکثر بیشتر است\",\" \")","v":{"$error":"#REF!"}},{"$f":"IF(O84>#REF!,1,0)","v":{"$error":"#REF!"}}]
[82,{"$f":"IF(D85=0,\"\",Settings!$D$6)","v":""},{"$f":"IF(D85=0,\"\",LOOKUP(B85,'Rigion Code'!A:A,'Rigion Code'!B:B))","v":""},null,{"$f":"IF(D85=0,\" \",IF(ISNA(MATCH(D85,Personnel!A:A,0)),IF(ISNA(MATCH(D85,'اطلاعات افراد غیر حقوق بگیر'!A:A,0)),\"وجود ندارد\",LOOKUP(Edit!D85,'اطلاعات افراد غیر حقوق بگیر'!A:A,'اطلاعات افراد غیر حقوق بگیر'!B:B)),LOOKUP(D85,Personnel!A:A,Personnel!C:C)))","v":" "},{"$f":"IF(D85=0,\" \",IF(ISNA(MATCH(D85,Personnel!A:A,0)),IF(ISNA(MATCH(D85,'اطلاعات افراد غیر حقوق بگیر'!A:A,0)),\"وجود ندارد\",LOOKUP(D85,'اطلاعات افراد غیر حقوق بگیر'!A:A,'اطلاعات افراد غیر حقوق بگیر'!C:C)),LOOKUP(D85,Personnel!A:A,Personnel!B:B)))","v":" "},{"$f":"IF(D85=0,0,IF(ISNA(MATCH(D85,Personnel!A:A,0)),IF(ISNA(MATCH(D85,'اطلاعات افراد غیر حقوق بگیر'!A:A,0)),\"وجود ندارد\",LOOKUP(D85,'اطلاعات افراد غیر حقوق بگیر'!A:A,'اطلاعات افراد غیر حقوق بگیر'!D:D)),LOOKUP(D85,Master!D:D,Master!CD:CD)))","v":0},{"$f":"IF(D85=0,\" \",IF(ISNA(MATCH(D85,Personnel!A:A,0)),IF(ISNA(MATCH(D85,'اطلاعات افراد غیر حقوق بگیر'!A:A,0)),\"وجود ندارد\",LOOKUP(D85,'اطلاعات افراد غیر حقوق بگیر'!A:A,'اطلاعات افراد غیر حقوق بگیر'!E:E)),LOOKUP(D85,Master!D:D,Master!AH:AH)))","v":" "},{"$f":"SUMIFS(Pays!G:G,Pays!E:E,1,Pays!D:D,D85)","v":0},{"$f":"SUMIFS(Pays!G:G,Pays!E:E,2,Pays!D:D,D85)","v":0},{"$f":"SUMIFS(Pays!G:G,Pays!E:E,57,Pays!D:D,D85)","v":0},{"$f":"SUMIF(Pays!D:D,D85,Pays!G:G)","v":0},{"$f":"SUMIF(Pays!D:D,D85,Pays!G:G)/176","v":0},{"$f":"IF(M85=0,IF(ISNA(MATCH(D85,'اطلاعات افراد غیر حقوق بگیر'!A:A,0)),0,LOOKUP(D85,'اطلاعات افراد غیر حقوق بگیر'!A:A,'اطلاعات افراد غیر حقوق بگیر'!F:F)),IF(H85=31,Settings!$D$13,ROUND(M85,0)))","v":0},null,0,{"$f":"IF(ISNA(MATCH(D85,Master!D:D,0)),IF(ISNA(MATCH(D85,'اطلاعات افراد غیر حقوق بگیر'!A:A,0)),0,LOOKUP(D85,'اطلاعات افراد غیر حقوق بگیر'!A:A,'اطلاعات افراد غیر حقوق بگیر'!G:G)),LOOKUP(D85,Master!D:D,Master!J:J))","v":0},{"$error":"#N/A"},0,0,{"$f":"IF(O85>#REF!,\"اخطار ساعت اضافه کار از حداکثر بیشتر است\",\" \")","v":{"$error":"#REF!"}},{"$f":"IF(O85>#REF!,1,0)","v":{"$error":"#REF!"}}]
[83,{"$f":"IF(D86=0,\"\",Settings!$D$6)","v":""},{"$f":"IF(D86=0,\"\",LOOKUP(B86,'Rigion Code'!A:A,'Rigion Code'!B:B))","v":""},null,{"$f":"IF(D86=0,\" \",IF(ISNA(MATCH(D86,Personnel!A:A,0)),IF(ISNA(MATCH(D86,'اطلاعات افراد غیر حقوق بگیر'!A:A,0)),\"وجود ندارد\",LOOKUP(Edit!D86,'اطلاعات افراد غیر حقوق بگیر'!A:A,'اطلاعات افراد غیر حقوق بگیر'!B:B)),LOOKUP(D86,Personnel!A:A,Personnel!C:C)))","v":" "},{"$f":"IF(D86=0,\" \",IF(ISNA(MATCH(D86,Personnel!A:A,0)),IF(ISNA(MATCH(D86,'اطلاعات افراد غیر حقوق بگیر'!A:A,0)),\"وجود ندارد\",LOOKUP(D86,'اطلاعات افراد غیر حقوق بگیر'!A:A,'اطلاعات افراد غیر حقوق بگیر'!C:C)),LOOKUP(D86,Personnel!A:A,Personnel!B:B)))","v":" "},{"$f":"IF(D86=0,0,IF(ISNA(MATCH(D86,Personnel!A:A,0)),IF(ISNA(MATCH(D86,'اطلاعات افراد غیر حقوق بگیر'!A:A,0)),\"وجود ندارد\",LOOKUP(D86,'اطلاعات افراد غیر حقوق بگیر'!A:A,'اطلاعات افراد غیر حقوق بگیر'!D:D)),LOOKUP(D86,Master!D:D,Master!CD:CD)))","v":0},{"$f":"IF(D86=0,\" \",IF(ISNA(MATCH(D86,Personnel!A:A,0)),IF(ISNA(MATCH(D86,'اطلاعات افراد غیر حقوق بگیر'!A:A,0)),\"وجود ندارد\",LOOKUP(D86,'اطلاعات افراد غیر حقوق بگیر'!A:A,'اطلاعات افراد غیر حقوق بگیر'!E:E)),LOOKUP(D86,Master!D:D,Master!AH:AH)))","v":" "},{"$f":"SUMIFS(Pays!G:G,Pays!E:E,1,Pays!D:D,D86)","v":0},{"$f":"SUMIFS(Pays!G:G,Pays!E:E,2,Pays!D:D,D86)","v":0},{"$f":"SUMIFS(Pays!G:G,Pays!E:E,57,Pays!D:D,D86)","v":0},{"$f":"SUMIF(Pays!D:D,D86,Pays!G:G)","v":0},{"$f":"SUMIF(Pays!D:D,D86,Pays!G:G)/176","v":0},{"$f":"IF(M86=0,IF(ISNA(MATCH(D86,'اطلاعات افراد غیر حقوق بگیر'!A:A,0)),0,LOOKUP(D86,'اطلاعات افراد غیر حقوق بگیر'!A:A,'اطلاعات افراد غیر حقوق بگیر'!F:F)),IF(H86=31,Settings!$D$13,ROUND(M86,0)))","v":0},null,0,{"$f":"IF(ISNA(MATCH(D86,Master!D:D,0)),IF(ISNA(MATCH(D86,'اطلاعات افراد غیر حقوق بگیر'!A:A,0)),0,LOOKUP(D86,'اطلاعات افراد غیر حقوق بگیر'!A:A,'اطلاعات افراد غیر حقوق بگیر'!G:G)),LOOKUP(D86,Master!D:D,Master!J:J))","v":0},{"$error":"#N/A"},0,0,{"$f":"IF(O86>#REF!,\"اخطار ساعت اضافه کار از حداکثر بیشتر است\",\" \")","v":{"$error":"#REF!"}},{"$f":"IF(O86>#REF!,1,0)","v":{"$error":"#REF!"}}]
[84,{"$f":"IF(D87=0,\"\",Settings!$D$6)","v":""},{"$f":"IF(D87=0,\"\",LOOKUP(B87,'Rigion Code'!A:A,'Rigion Code'!B:B))","v":""},null,{"$f":"IF(D87=0,\" \",IF(ISNA(MATCH(D87,Personnel!A:A,0)),IF(ISNA(MATCH(D87,'اطلاعات افراد غیر حقوق بگیر'!A:A,0)),\"وجود ندارد\",LOOKUP(Edit!D87,'اطلاعات افراد غیر حقوق بگیر'!A:A,'اطلاعات افراد غیر حقوق بگیر'!B:B)),LOOKUP(D87,Personnel!A:A,Personnel!C:C)))","v":" "},{"$f":"IF(D87=0,\" \",IF(ISNA(MATCH(D87,Personnel!A:A,0)),IF(ISNA(MATCH(D87,'اطلاعات افراد غیر حقوق بگیر'!A:A,0)),\"وجود ندارد\",LOOKUP(D87,'اطلاعات افراد غیر حقوق بگیر'!A:A,'اطلاعات افراد غیر حقوق بگیر'!C:C)),LOOKUP(D87,Personnel!A:A,Personnel!B:B)))","v":" "},{"$f":"IF(D87=0,0,IF(ISNA(MATCH(D87,Personnel!A:A,0)),IF(ISNA(MATCH(D87,'اطلاعات افراد غیر حقوق بگیر'!A:A,0)),\"وجود ندارد\",LOOKUP(D87,'اطلاعات افراد غیر حقوق بگیر'!A:A,'اطلاعات افراد غیر حقوق بگیر'!D:D)),LOOKUP(D87,Master!D:D,Master!CD:CD)))","v":0},{"$f":"IF(D87=0,\" \",IF(ISNA(MATCH(D87,Personnel!A:A,0)),IF(ISNA(MATCH(D87,'اطلاعات افراد غیر حقوق بگیر'!A:A,0)),\"وجود ندارد\",LOOKUP(D87,'اطلاعات افراد غیر حقوق بگیر'!A:A,'اطلاعات افراد غیر حقوق بگیر'!E:E)),LOOKUP(D87,Master!D:D,Master!AH:AH)))","v":" "},{"$f":"SUMIFS(Pays!G:G,Pays!E:E,1,Pays!D:D,D87)","v":0},{"$f":"SUMIFS(Pays!G:G,Pays!E:E,2,Pays!D:D,D87)","v":0},{"$f":"SUMIFS(Pays!G:G,Pays!E:E,57,Pays!D:D,D87)","v":0},{"$f":"SUMIF(Pays!D:D,D87,Pays!G:G)","v":0},{"$f":"SUMIF(Pays!D:D,D87,Pays!G:G)/176","v":0},{"$f":"IF(M87=0,IF(ISNA(MATCH(D87,'اطلاعات افراد غیر حقوق بگیر'!A:A,0)),0,LOOKUP(D87,'اطلاعات افراد غیر حقوق بگیر'!A:A,'اطلاعات افراد غیر حقوق بگیر'!F:F)),IF(H87=31,Settings!$D$13,ROUND(M87,0)))","v":0},null,0,{"$f":"IF(ISNA(MATCH(D87,Master!D:D,0)),IF(ISNA(MATCH(D87,'اطلاعات افراد غیر حقوق بگیر'!A:A,0)),0,LOOKUP(D87,'اطلاعات افراد غیر حقوق بگیر'!A:A,'اطلاعات افراد غیر حقوق بگیر'!G:G)),LOOKUP(D87,Master!D:D,Master!J:J))","v":0},{"$error":"#N/A"},0,0,{"$f":"IF(O87>#REF!,\"اخطار ساعت اضافه کار از حداکثر بیشتر است\",\" \")","v":{"$error":"#REF!"}},{"$f":"IF(O87>#REF!,1,0)","v":{"$error":"#REF!"}}]
[85,{"$f":"IF(D88=0,\"\",Settings!$D$6)","v":""},{"$f":"IF(D88=0,\"\",LOOKUP(B88,'Rigion Code'!A:A,'Rigion Code'!B:B))","v":""},null,{"$f":"IF(D88=0,\" \",IF(ISNA(MATCH(D88,Personnel!A:A,0)),IF(ISNA(MATCH(D88,'اطلاعات افراد غیر حقوق بگیر'!A:A,0)),\"وجود ندارد\",LOOKUP(Edit!D88,'اطلاعات افراد غیر حقوق بگیر'!A:A,'اطلاعات افراد غیر حقوق بگیر'!B:B)),LOOKUP(D88,Personnel!A:A,Personnel!C:C)))","v":" "},{"$f":"IF(D88=0,\" \",IF(ISNA(MATCH(D88,Personnel!A:A,0)),IF(ISNA(MATCH(D88,'اطلاعات افراد غیر حقوق بگیر'!A:A,0)),\"وجود ندارد\",LOOKUP(D88,'اطلاعات افراد غیر حقوق بگیر'!A:A,'اطلاعات افراد غیر حقوق بگیر'!C:C)),LOOKUP(D88,Personnel!A:A,Personnel!B:B)))","v":" "},{"$f":"IF(D88=0,0,IF(ISNA(MATCH(D88,Personnel!A:A,0)),IF(ISNA(MATCH(D88,'اطلاعات افراد غیر حقوق بگیر'!A:A,0)),\"وجود ندارد\",LOOKUP(D88,'اطلاعات افراد غیر حقوق بگیر'!A:A,'اطلاعات افراد غیر حقوق بگیر'!D:D)),LOOKUP(D88,Master!D:D,Master!CD:CD)))","v":0},{"$f":"IF(D88=0,\" \",IF(ISNA(MATCH(D88,Personnel!A:A,0)),IF(ISNA(MATCH(D88,'اطلاعات افراد غیر حقوق بگیر'!A:A,0)),\"وجود ندارد\",LOOKUP(D88,'اطلاعات افراد غیر حقوق بگیر'!A:A,'اطلاعات افراد غیر حقوق بگیر'!E:E)),LOOKUP(D88,Master!D:D,Master!AH:AH)))","v":" "},{"$f":"SUMIFS(Pays!G:G,Pays!E:E,1,Pays!D:D,D88)","v":0},{"$f":"SUMIFS(Pays!G:G,Pays!E:E,2,Pays!D:D,D88)","v":0},{"$f":"SUMIFS(Pays!G:G,Pays!E:E,57,Pays!D:D,D88)","v":0},{"$f":"SUMIF(Pays!D:D,D88,Pays!G:G)","v":0},{"$f":"SUMIF(Pays!D:D,D88,Pays!G:G)/176","v":0},{"$f":"IF(M88=0,IF(ISNA(MATCH(D88,'اطلاعات افراد غیر حقوق بگیر'!A:A,0)),0,LOOKUP(D88,'اطلاعات افراد غیر حقوق بگیر'!A:A,'اطلاعات افراد غیر حقوق بگیر'!F:F)),IF(H88=31,Settings!$D$13,ROUND(M88,0)))","v":0},null,0,{"$f":"IF(ISNA(MATCH(D88,Master!D:D,0)),IF(ISNA(MATCH(D88,'اطلاعات افراد غیر حقوق بگیر'!A:A,0)),0,LOOKUP(D88,'اطلاعات افراد غیر حقوق بگیر'!A:A,'اطلاعات افراد غیر حقوق بگیر'!G:G)),LOOKUP(D88,Master!D:D,Master!J:J))","v":0},{"$error":"#N/A"},0,0,{"$f":"IF(O88>#REF!,\"اخطار ساعت اضافه کار از حداکثر بیشتر است\",\" \")","v":{"$error":"#REF!"}},{"$f":"IF(O88>#REF!,1,0)","v":{"$error":"#REF!"}}]
[86,{"$f":"IF(D89=0,\"\",Settings!$D$6)","v":""},{"$f":"IF(D89=0,\"\",LOOKUP(B89,'Rigion Code'!A:A,'Rigion Code'!B:B))","v":""},null,{"$f":"IF(D89=0,\" \",IF(ISNA(MATCH(D89,Personnel!A:A,0)),IF(ISNA(MATCH(D89,'اطلاعات افراد غیر حقوق بگیر'!A:A,0)),\"وجود ندارد\",LOOKUP(Edit!D89,'اطلاعات افراد غیر حقوق بگیر'!A:A,'اطلاعات افراد غیر حقوق بگیر'!B:B)),LOOKUP(D89,Personnel!A:A,Personnel!C:C)))","v":" "},{"$f":"IF(D89=0,\" \",IF(ISNA(MATCH(D89,Personnel!A:A,0)),IF(ISNA(MATCH(D89,'اطلاعات افراد غیر حقوق بگیر'!A:A,0)),\"وجود ندارد\",LOOKUP(D89,'اطلاعات افراد غیر حقوق بگیر'!A:A,'اطلاعات افراد غیر حقوق بگیر'!C:C)),LOOKUP(D89,Personnel!A:A,Personnel!B:B)))","v":" "},{"$f":"IF(D89=0,0,IF(ISNA(MATCH(D89,Personnel!A:A,0)),IF(ISNA(MATCH(D89,'اطلاعات افراد غیر حقوق بگیر'!A:A,0)),\"وجود ندارد\",LOOKUP(D89,'اطلاعات افراد غیر حقوق بگیر'!A:A,'اطلاعات افراد غیر حقوق بگیر'!D:D)),LOOKUP(D89,Master!D:D,Master!CD:CD)))","v":0},{"$f":"IF(D89=0,\" \",IF(ISNA(MATCH(D89,Personnel!A:A,0)),IF(ISNA(MATCH(D89,'اطلاعات افراد غیر حقوق بگیر'!A:A,0)),\"وجود ندارد\",LOOKUP(D89,'اطلاعات افراد غیر حقوق بگیر'!A:A,'اطلاعات افراد غیر حقوق بگیر'!E:E)),LOOKUP(D89,Master!D:D,Master!AH:AH)))","v":" "},{"$f":"SUMIFS(Pays!G:G,Pays!E:E,1,Pays!D:D,D89)","v":0},{"$f":"SUMIFS(Pays!G:G,Pays!E:E,2,Pays!D:D,D89)","v":0},{"$f":"SUMIFS(Pays!G:G,Pays!E:E,57,Pays!D:D,D89)","v":0},{"$f":"SUMIF(Pays!D:D,D89,Pays!G:G)","v":0},{"$f":"SUMIF(Pays!D:D,D89,Pays!G:G)/176","v":0},{"$f":"IF(M89=0,IF(ISNA(MATCH(D89,'اطلاعات افراد غیر حقوق بگیر'!A:A,0)),0,LOOKUP(D89,'اطلاعات افراد غیر حقوق بگیر'!A:A,'اطلاعات افراد غیر حقوق بگیر'!F:F)),IF(H89=31,Settings!$D$13,ROUND(M89,0)))","v":0},null,0,{"$f":"IF(ISNA(MATCH(D89,Master!D:D,0)),IF(ISNA(MATCH(D89,'اطلاعات افراد غیر حقوق بگیر'!A:A,0)),0,LOOKUP(D89,'اطلاعات افراد غیر حقوق بگیر'!A:A,'اطلاعات افراد غیر حقوق بگیر'!G:G)),LOOKUP(D89,Master!D:D,Master!J:J))","v":0},{"$error":"#N/A"},0,0,{"$f":"IF(O89>#REF!,\"اخطار ساعت اضافه کار از حداکثر بیشتر است\",\" \")","v":{"$error":"#REF!"}},{"$f":"IF(O89>#REF!,1,0)","v":{"$error":"#REF!"}}]
[87,{"$f":"IF(D90=0,\"\",Settings!$D$6)","v":""},{"$f":"IF(D90=0,\"\",LOOKUP(B90,'Rigion Code'!A:A,'Rigion Code'!B:B))","v":""},null,{"$f":"IF(D90=0,\" \",IF(ISNA(MATCH(D90,Personnel!A:A,0)),IF(ISNA(MATCH(D90,'اطلاعات افراد غیر حقوق بگیر'!A:A,0)),\"وجود ندارد\",LOOKUP(Edit!D90,'اطلاعات افراد غیر حقوق بگیر'!A:A,'اطلاعات افراد غیر حقوق بگیر'!B:B)),LOOKUP(D90,Personnel!A:A,Personnel!C:C)))","v":" "},{"$f":"IF(D90=0,\" \",IF(ISNA(MATCH(D90,Personnel!A:A,0)),IF(ISNA(MATCH(D90,'اطلاعات افراد غیر حقوق بگیر'!A:A,0)),\"وجود ندارد\",LOOKUP(D90,'اطلاعات افراد غیر حقوق بگیر'!A:A,'اطلاعات افراد غیر حقوق بگیر'!C:C)),LOOKUP(D90,Personnel!A:A,Personnel!B:B)))","v":" "},{"$f":"IF(D90=0,0,IF(ISNA(MATCH(D90,Personnel!A:A,0)),IF(ISNA(MATCH(D90,'اطلاعات افراد غیر حقوق بگیر'!A:A,0)),\"وجود ندارد\",LOOKUP(D90,'اطلاعات افراد غیر حقوق بگیر'!A:A,'اطلاعات افراد غیر حقوق بگیر'!D:D)),LOOKUP(D90,Master!D:D,Master!CD:CD)))","v":0},{"$f":"IF(D90=0,\" \",IF(ISNA(MATCH(D90,Personnel!A:A,0)),IF(ISNA(MATCH(D90,'اطلاعات افراد غیر حقوق بگیر'!A:A,0)),\"وجود ندارد\",LOOKUP(D90,'اطلاعات افراد غیر حقوق بگیر'!A:A,'اطلاعات افراد غیر حقوق بگیر'!E:E)),LOOKUP(D90,Master!D:D,Master!AH:AH)))","v":" "},{"$f":"SUMIFS(Pays!G:G,Pays!E:E,1,Pays!D:D,D90)","v":0},{"$f":"SUMIFS(Pays!G:G,Pays!E:E,2,Pays!D:D,D90)","v":0},{"$f":"SUMIFS(Pays!G:G,Pays!E:E,57,Pays!D:D,D90)","v":0},{"$f":"SUMIF(Pays!D:D,D90,Pays!G:G)","v":0},{"$f":"SUMIF(Pays!D:D,D90,Pays!G:G)/176","v":0},{"$f":"IF(M90=0,IF(ISNA(MATCH(D90,'اطلاعات افراد غیر حقوق بگیر'!A:A,0)),0,LOOKUP(D90,'اطلاعات افراد غیر حقوق بگیر'!A:A,'اطلاعات افراد غیر حقوق بگیر'!F:F)),IF(H90=31,Settings!$D$13,ROUND(M90,0)))","v":0},null,0,{"$f":"IF(ISNA(MATCH(D90,Master!D:D,0)),IF(ISNA(MATCH(D90,'اطلاعات افراد غیر حقوق بگیر'!A:A,0)),0,LOOKUP(D90,'اطلاعات افراد غیر حقوق بگیر'!A:A,'اطلاعات افراد غیر حقوق بگیر'!G:G)),LOOKUP(D90,Master!D:D,Master!J:J))","v":0},{"$error":"#N/A"},0,0,{"$f":"IF(O90>#REF!,\"اخطار ساعت اضافه کار از حداکثر بیشتر است\",\" \")","v":{"$error":"#REF!"}},{"$f":"IF(O90>#REF!,1,0)","v":{"$error":"#REF!"}}]
[88,{"$f":"IF(D91=0,\"\",Settings!$D$6)","v":""},{"$f":"IF(D91=0,\"\",LOOKUP(B91,'Rigion Code'!A:A,'Rigion Code'!B:B))","v":""},null,{"$f":"IF(D91=0,\" \",IF(ISNA(MATCH(D91,Personnel!A:A,0)),IF(ISNA(MATCH(D91,'اطلاعات افراد غیر حقوق بگیر'!A:A,0)),\"وجود ندارد\",LOOKUP(Edit!D91,'اطلاعات افراد غیر حقوق بگیر'!A:A,'اطلاعات افراد غیر حقوق بگیر'!B:B)),LOOKUP(D91,Personnel!A:A,Personnel!C:C)))","v":" "},{"$f":"IF(D91=0,\" \",IF(ISNA(MATCH(D91,Personnel!A:A,0)),IF(ISNA(MATCH(D91,'اطلاعات افراد غیر حقوق بگیر'!A:A,0)),\"وجود ندارد\",LOOKUP(D91,'اطلاعات افراد غیر حقوق بگیر'!A:A,'اطلاعات افراد غیر حقوق بگیر'!C:C)),LOOKUP(D91,Personnel!A:A,Personnel!B:B)))","v":" "},{"$f":"IF(D91=0,0,IF(ISNA(MATCH(D91,Personnel!A:A,0)),IF(ISNA(MATCH(D91,'اطلاعات افراد غیر حقوق بگیر'!A:A,0)),\"وجود ندارد\",LOOKUP(D91,'اطلاعات افراد غیر حقوق بگیر'!A:A,'اطلاعات افراد غیر حقوق بگیر'!D:D)),LOOKUP(D91,Master!D:D,Master!CD:CD)))","v":0},{"$f":"IF(D91=0,\" \",IF(ISNA(MATCH(D91,Personnel!A:A,0)),IF(ISNA(MATCH(D91,'اطلاعات افراد غیر حقوق بگیر'!A:A,0)),\"وجود ندارد\",LOOKUP(D91,'اطلاعات افراد غیر حقوق بگیر'!A:A,'اطلاعات افراد غیر حقوق بگیر'!E:E)),LOOKUP(D91,Master!D:D,Master!AH:AH)))","v":" "},{"$f":"SUMIFS(Pays!G:G,Pays!E:E,1,Pays!D:D,D91)","v":0},{"$f":"SUMIFS(Pays!G:G,Pays!E:E,2,Pays!D:D,D91)","v":0},{"$f":"SUMIFS(Pays!G:G,Pays!E:E,57,Pays!D:D,D91)","v":0},{"$f":"SUMIF(Pays!D:D,D91,Pays!G:G)","v":0},{"$f":"SUMIF(Pays!D:D,D91,Pays!G:G)/176","v":0},{"$f":"IF(M91=0,IF(ISNA(MATCH(D91,'اطلاعات افراد غیر حقوق بگیر'!A:A,0)),0,LOOKUP(D91,'اطلاعات افراد غیر حقوق بگیر'!A:A,'اطلاعات افراد غیر حقوق بگیر'!F:F)),IF(H91=31,Settings!$D$13,ROUND(M91,0)))","v":0},null,0,{"$f":"IF(ISNA(MATCH(D91,Master!D:D,0)),IF(ISNA(MATCH(D91,'اطلاعات افراد غیر حقوق بگیر'!A:A,0)),0,LOOKUP(D91,'اطلاعات افراد غیر حقوق بگیر'!A:A,'اطلاعات افراد غیر حقوق بگیر'!G:G)),LOOKUP(D91,Master!D:D,Master!J:J))","v":0},{"$error":"#N/A"},0,0,{"$f":"IF(O91>#REF!,\"اخطار ساعت اضافه کار از حداکثر بیشتر است\",\" \")","v":{"$error":"#REF!"}},{"$f":"IF(O91>#REF!,1,0)","v":{"$error":"#REF!"}}]
[89,{"$f":"IF(D92=0,\"\",Settings!$D$6)","v":""},{"$f":"IF(D92=0,\"\",LOOKUP(B92,'Rigion Code'!A:A,'Rigion Code'!B:B))","v":""},null,{"$f":"IF(D92=0,\" \",IF(ISNA(MATCH(D92,Personnel!A:A,0)),IF(ISNA(MATCH(D92,'اطلاعات افراد غیر حقوق بگیر'!A:A,0)),\"وجود ندارد\",LOOKUP(Edit!D92,'اطلاعات افراد غیر حقوق بگیر'!A:A,'اطلاعات افراد غیر حقوق بگیر'!B:B)),LOOKUP(D92,Personnel!A:A,Personnel!C:C)))","v":" "},{"$f":"IF(D92=0,\" \",IF(ISNA(MATCH(D92,Personnel!A:A,0)),IF(ISNA(MATCH(D92,'اطلاعات افراد غیر حقوق بگیر'!A:A,0)),\"وجود ندارد\",LOOKUP(D92,'اطلاعات افراد غیر حقوق بگیر'!A:A,'اطلاعات افراد غیر حقوق بگیر'!C:C)),LOOKUP(D92,Personnel!A:A,Personnel!B:B)))","v":" "},{"$f":"IF(D92=0,0,IF(ISNA(MATCH(D92,Personnel!A:A,0)),IF(ISNA(MATCH(D92,'اطلاعات افراد غیر حقوق بگیر'!A:A,0)),\"وجود ندارد\",LOOKUP(D92,'اطلاعات افراد غیر حقوق بگیر'!A:A,'اطلاعات افراد غیر حقوق بگیر'!D:D)),LOOKUP(D92,Master!D:D,Master!CD:CD)))","v":0},{"$f":"IF(D92=0,\" \",IF(ISNA(MATCH(D92,Personnel!A:A,0)),IF(ISNA(MATCH(D92,'اطلاعات افراد غیر حقوق بگیر'!A:A,0)),\"وجود ندارد\",LOOKUP(D92,'اطلاعات افراد غیر حقوق بگیر'!A:A,'اطلاعات افراد غیر حقوق بگیر'!E:E)),LOOKUP(D92,Master!D:D,Master!AH:AH)))","v":" "},{"$f":"SUMIFS(Pays!G:G,Pays!E:E,1,Pays!D:D,D92)","v":0},{"$f":"SUMIFS(Pays!G:G,Pays!E:E,2,Pays!D:D,D92)","v":0},{"$f":"SUMIFS(Pays!G:G,Pays!E:E,57,Pays!D:D,D92)","v":0},{"$f":"SUMIF(Pays!D:D,D92,Pays!G:G)","v":0},{"$f":"SUMIF(Pays!D:D,D92,Pays!G:G)/176","v":0},{"$f":"IF(M92=0,IF(ISNA(MATCH(D92,'اطلاعات افراد غیر حقوق بگیر'!A:A,0)),0,LOOKUP(D92,'اطلاعات افراد غیر حقوق بگیر'!A:A,'اطلاعات افراد غیر حقوق بگیر'!F:F)),IF(H92=31,Settings!$D$13,ROUND(M92,0)))","v":0},null,0,{"$f":"IF(ISNA(MATCH(D92,Master!D:D,0)),IF(ISNA(MATCH(D92,'اطلاعات افراد غیر حقوق بگیر'!A:A,0)),0,LOOKUP(D92,'اطلاعات افراد غیر حقوق بگیر'!A:A,'اطلاعات افراد غیر حقوق بگیر'!G:G)),LOOKUP(D92,Master!D:D,Master!J:J))","v":0},{"$error":"#N/A"},0,0,{"$f":"IF(O92>#REF!,\"اخطار ساعت اضافه کار از حداکثر بیشتر است\",\" \")","v":{"$error":"#REF!"}},{"$f":"IF(O92>#REF!,1,0)","v":{"$error":"#REF!"}}]
[90,{"$f":"IF(D93=0,\"\",Settings!$D$6)","v":""},{"$f":"IF(D93=0,\"\",LOOKUP(B93,'Rigion Code'!A:A,'Rigion Code'!B:B))","v":""},null,{"$f":"IF(D93=0,\" \",IF(ISNA(MATCH(D93,Personnel!A:A,0)),IF(ISNA(MATCH(D93,'اطلاعات افراد غیر حقوق بگیر'!A:A,0)),\"وجود ندارد\",LOOKUP(Edit!D93,'اطلاعات افراد غیر حقوق بگیر'!A:A,'اطلاعات افراد غیر حقوق بگیر'!B:B)),LOOKUP(D93,Personnel!A:A,Personnel!C:C)))","v":" "},{"$f":"IF(D93=0,\" \",IF(ISNA(MATCH(D93,Personnel!A:A,0)),IF(ISNA(MATCH(D93,'اطلاعات افراد غیر حقوق بگیر'!A:A,0)),\"وجود ندارد\",LOOKUP(D93,'اطلاعات افراد غیر حقوق بگیر'!A:A,'اطلاعات افراد غیر حقوق بگیر'!C:C)),LOOKUP(D93,Personnel!A:A,Personnel!B:B)))","v":" "},{"$f":"IF(D93=0,0,IF(ISNA(MATCH(D93,Personnel!A:A,0)),IF(ISNA(MATCH(D93,'اطلاعات افراد غیر حقوق بگیر'!A:A,0)),\"وجود ندارد\",LOOKUP(D93,'اطلاعات افراد غیر حقوق بگیر'!A:A,'اطلاعات افراد غیر حقوق بگیر'!D:D)),LOOKUP(D93,Master!D:D,Master!CD:CD)))","v":0},{"$f":"IF(D93=0,\" \",IF(ISNA(MATCH(D93,Personnel!A:A,0)),IF(ISNA(MATCH(D93,'اطلاعات افراد غیر حقوق بگیر'!A:A,0)),\"وجود ندارد\",LOOKUP(D93,'اطلاعات افراد غیر حقوق بگیر'!A:A,'اطلاعات افراد غیر حقوق بگیر'!E:E)),LOOKUP(D93,Master!D:D,Master!AH:AH)))","v":" "},{"$f":"SUMIFS(Pays!G:G,Pays!E:E,1,Pays!D:D,D93)","v":0},{"$f":"SUMIFS(Pays!G:G,Pays!E:E,2,Pays!D:D,D93)","v":0},{"$f":"SUMIFS(Pays!G:G,Pays!E:E,57,Pays!D:D,D93)","v":0},{"$f":"SUMIF(Pays!D:D,D93,Pays!G:G)","v":0},{"$f":"SUMIF(Pays!D:D,D93,Pays!G:G)/176","v":0},{"$f":"IF(M93=0,IF(ISNA(MATCH(D93,'اطلاعات افراد غیر حقوق بگیر'!A:A,0)),0,LOOKUP(D93,'اطلاعات افراد غیر حقوق بگیر'!A:A,'اطلاعات افراد غیر حقوق بگیر'!F:F)),IF(H93=31,Settings!$D$13,ROUND(M93,0)))","v":0},null,0,{"$f":"IF(ISNA(MATCH(D93,Master!D:D,0)),IF(ISNA(MATCH(D93,'اطلاعات افراد غیر حقوق بگیر'!A:A,0)),0,LOOKUP(D93,'اطلاعات افراد غیر حقوق بگیر'!A:A,'اطلاعات افراد غیر حقوق بگیر'!G:G)),LOOKUP(D93,Master!D:D,Master!J:J))","v":0},{"$error":"#N/A"},0,0,{"$f":"IF(O93>#REF!,\"اخطار ساعت اضافه کار از حداکثر بیشتر است\",\" \")","v":{"$error":"#REF!"}},{"$f":"IF(O93>#REF!,1,0)","v":{"$error":"#REF!"}}]
[91,{"$f":"IF(D94=0,\"\",Settings!$D$6)","v":""},{"$f":"IF(D94=0,\"\",LOOKUP(B94,'Rigion Code'!A:A,'Rigion Code'!B:B))","v":""},null,{"$f":"IF(D94=0,\" \",IF(ISNA(MATCH(D94,Personnel!A:A,0)),IF(ISNA(MATCH(D94,'اطلاعات افراد غیر حقوق بگیر'!A:A,0)),\"وجود ندارد\",LOOKUP(Edit!D94,'اطلاعات افراد غیر حقوق بگیر'!A:A,'اطلاعات افراد غیر حقوق بگیر'!B:B)),LOOKUP(D94,Personnel!A:A,Personnel!C:C)))","v":" "},{"$f":"IF(D94=0,\" \",IF(ISNA(MATCH(D94,Personnel!A:A,0)),IF(ISNA(MATCH(D94,'اطلاعات افراد غیر حقوق بگیر'!A:A,0)),\"وجود ندارد\",LOOKUP(D94,'اطلاعات افراد غیر حقوق بگیر'!A:A,'اطلاعات افراد غیر حقوق بگیر'!C:C)),LOOKUP(D94,Personnel!A:A,Personnel!B:B)))","v":" "},{"$f":"IF(D94=0,0,IF(ISNA(MATCH(D94,Personnel!A:A,0)),IF(ISNA(MATCH(D94,'اطلاعات افراد غیر حقوق بگیر'!A:A,0)),\"وجود ندارد\",LOOKUP(D94,'اطلاعات افراد غیر حقوق بگیر'!A:A,'اطلاعات افراد غیر حقوق بگیر'!D:D)),LOOKUP(D94,Master!D:D,Master!CD:CD)))","v":0},{"$f":"IF(D94=0,\" \",IF(ISNA(MATCH(D94,Personnel!A:A,0)),IF(ISNA(MATCH(D94,'اطلاعات افراد غیر حقوق بگیر'!A:A,0)),\"وجود ندارد\",LOOKUP(D94,'اطلاعات افراد غیر حقوق بگیر'!A:A,'اطلاعات افراد غیر حقوق بگیر'!E:E)),LOOKUP(D94,Master!D:D,Master!AH:AH)))","v":" "},{"$f":"SUMIFS(Pays!G:G,Pays!E:E,1,Pays!D:D,D94)","v":0},{"$f":"SUMIFS(Pays!G:G,Pays!E:E,2,Pays!D:D,D94)","v":0},{"$f":"SUMIFS(Pays!G:G,Pays!E:E,57,Pays!D:D,D94)","v":0},{"$f":"SUMIF(Pays!D:D,D94,Pays!G:G)","v":0},{"$f":"SUMIF(Pays!D:D,D94,Pays!G:G)/176","v":0},{"$f":"IF(M94=0,IF(ISNA(MATCH(D94,'اطلاعات افراد غیر حقوق بگیر'!A:A,0)),0,LOOKUP(D94,'اطلاعات افراد غیر حقوق بگیر'!A:A,'اطلاعات افراد غیر حقوق بگیر'!F:F)),IF(H94=31,Settings!$D$13,ROUND(M94,0)))","v":0},null,0,{"$f":"IF(ISNA(MATCH(D94,Master!D:D,0)),IF(ISNA(MATCH(D94,'اطلاعات افراد غیر حقوق بگیر'!A:A,0)),0,LOOKUP(D94,'اطلاعات افراد غیر حقوق بگیر'!A:A,'اطلاعات افراد غیر حقوق بگیر'!G:G)),LOOKUP(D94,Master!D:D,Master!J:J))","v":0},{"$error":"#N/A"},0,0,{"$f":"IF(O94>#REF!,\"اخطار ساعت اضافه کار از حداکثر بیشتر است\",\" \")","v":{"$error":"#REF!"}},{"$f":"IF(O94>#REF!,1,0)","v":{"$error":"#REF!"}}]
[92,{"$f":"IF(D95=0,\"\",Settings!$D$6)","v":""},{"$f":"IF(D95=0,\"\",LOOKUP(B95,'Rigion Code'!A:A,'Rigion Code'!B:B))","v":""},null,{"$f":"IF(D95=0,\" \",IF(ISNA(MATCH(D95,Personnel!A:A,0)),IF(ISNA(MATCH(D95,'اطلاعات افراد غیر حقوق بگیر'!A:A,0)),\"وجود ندارد\",LOOKUP(Edit!D95,'اطلاعات افراد غیر حقوق بگیر'!A:A,'اطلاعات افراد غیر حقوق بگیر'!B:B)),LOOKUP(D95,Personnel!A:A,Personnel!C:C)))","v":" "},{"$f":"IF(D95=0,\" \",IF(ISNA(MATCH(D95,Personnel!A:A,0)),IF(ISNA(MATCH(D95,'اطلاعات افراد غیر حقوق بگیر'!A:A,0)),\"وجود ندارد\",LOOKUP(D95,'اطلاعات افراد غیر حقوق بگیر'!A:A,'اطلاعات افراد غیر حقوق بگیر'!C:C)),LOOKUP(D95,Personnel!A:A,Personnel!B:B)))","v":" "},{"$f":"IF(D95=0,0,IF(ISNA(MATCH(D95,Personnel!A:A,0)),IF(ISNA(MATCH(D95,'اطلاعات افراد غیر حقوق بگیر'!A:A,0)),\"وجود ندارد\",LOOKUP(D95,'اطلاعات افراد غیر حقوق بگیر'!A:A,'اطلاعات افراد غیر حقوق بگیر'!D:D)),LOOKUP(D95,Master!D:D,Master!CD:CD)))","v":0},{"$f":"IF(D95=0,\" \",IF(ISNA(MATCH(D95,Personnel!A:A,0)),IF(ISNA(MATCH(D95,'اطلاعات افراد غیر حقوق بگیر'!A:A,0)),\"وجود ندارد\",LOOKUP(D95,'اطلاعات افراد غیر حقوق بگیر'!A:A,'اطلاعات افراد غیر حقوق بگیر'!E:E)),LOOKUP(D95,Master!D:D,Master!AH:AH)))","v":" "},{"$f":"SUMIFS(Pays!G:G,Pays!E:E,1,Pays!D:D,D95)","v":0},{"$f":"SUMIFS(Pays!G:G,Pays!E:E,2,Pays!D:D,D95)","v":0},{"$f":"SUMIFS(Pays!G:G,Pays!E:E,57,Pays!D:D,D95)","v":0},{"$f":"SUMIF(Pays!D:D,D95,Pays!G:G)","v":0},{"$f":"SUMIF(Pays!D:D,D95,Pays!G:G)/176","v":0},{"$f":"IF(M95=0,IF(ISNA(MATCH(D95,'اطلاعات افراد غیر حقوق بگیر'!A:A,0)),0,LOOKUP(D95,'اطلاعات افراد غیر حقوق بگیر'!A:A,'اطلاعات افراد غیر حقوق بگیر'!F:F)),IF(H95=31,Settings!$D$13,ROUND(M95,0)))","v":0},null,0,{"$f":"IF(ISNA(MATCH(D95,Master!D:D,0)),IF(ISNA(MATCH(D95,'اطلاعات افراد غیر حقوق بگیر'!A:A,0)),0,LOOKUP(D95,'اطلاعات افراد غیر حقوق بگیر'!A:A,'اطلاعات افراد غیر حقوق بگیر'!G:G)),LOOKUP(D95,Master!D:D,Master!J:J))","v":0},{"$error":"#N/A"},0,0,{"$f":"IF(O95>#REF!,\"اخطار ساعت اضافه کار از حداکثر بیشتر است\",\" \")","v":{"$error":"#REF!"}},{"$f":"IF(O95>#REF!,1,0)","v":{"$error":"#REF!"}}]
[93,{"$f":"IF(D96=0,\"\",Settings!$D$6)","v":""},{"$f":"IF(D96=0,\"\",LOOKUP(B96,'Rigion Code'!A:A,'Rigion Code'!B:B))","v":""},null,{"$f":"IF(D96=0,\" \",IF(ISNA(MATCH(D96,Personnel!A:A,0)),IF(ISNA(MATCH(D96,'اطلاعات افراد غیر حقوق بگیر'!A:A,0)),\"وجود ندارد\",LOOKUP(Edit!D96,'اطلاعات افراد غیر حقوق بگیر'!A:A,'اطلاعات افراد غیر حقوق بگیر'!B:B)),LOOKUP(D96,Personnel!A:A,Personnel!C:C)))","v":" "},{"$f":"IF(D96=0,\" \",IF(ISNA(MATCH(D96,Personnel!A:A,0)),IF(ISNA(MATCH(D96,'اطلاعات افراد غیر حقوق بگیر'!A:A,0)),\"وجود ندارد\",LOOKUP(D96,'اطلاعات افراد غیر حقوق بگیر'!A:A,'اطلاعات افراد غیر حقوق بگیر'!C:C)),LOOKUP(D96,Personnel!A:A,Personnel!B:B)))","v":" "},{"$f":"IF(D96=0,0,IF(ISNA(MATCH(D96,Personnel!A:A,0)),IF(ISNA(MATCH(D96,'اطلاعات افراد غیر حقوق بگیر'!A:A,0)),\"وجود ندارد\",LOOKUP(D96,'اطلاعات افراد غیر حقوق بگیر'!A:A,'اطلاعات افراد غیر حقوق بگیر'!D:D)),LOOKUP(D96,Master!D:D,Master!CD:CD)))","v":0},{"$f":"IF(D96=0,\" \",IF(ISNA(MATCH(D96,Personnel!A:A,0)),IF(ISNA(MATCH(D96,'اطلاعات افراد غیر حقوق بگیر'!A:A,0)),\"وجود ندارد\",LOOKUP(D96,'اطلاعات افراد غیر حقوق بگیر'!A:A,'اطلاعات افراد غیر حقوق بگیر'!E:E)),LOOKUP(D96,Master!D:D,Master!AH:AH)))","v":" "},{"$f":"SUMIFS(Pays!G:G,Pays!E:E,1,Pays!D:D,D96)","v":0},{"$f":"SUMIFS(Pays!G:G,Pays!E:E,2,Pays!D:D,D96)","v":0},{"$f":"SUMIFS(Pays!G:G,Pays!E:E,57,Pays!D:D,D96)","v":0},{"$f":"SUMIF(Pays!D:D,D96,Pays!G:G)","v":0},{"$f":"SUMIF(Pays!D:D,D96,Pays!G:G)/176","v":0},{"$f":"IF(M96=0,IF(ISNA(MATCH(D96,'اطلاعات افراد غیر حقوق بگیر'!A:A,0)),0,LOOKUP(D96,'اطلاعات افراد غیر حقوق بگیر'!A:A,'اطلاعات افراد غیر حقوق بگیر'!F:F)),IF(H96=31,Settings!$D$13,ROUND(M96,0)))","v":0},null,0,{"$f":"IF(ISNA(MATCH(D96,Master!D:D,0)),IF(ISNA(MATCH(D96,'اطلاعات افراد غیر حقوق بگیر'!A:A,0)),0,LOOKUP(D96,'اطلاعات افراد غیر حقوق بگیر'!A:A,'اطلاعات افراد غیر حقوق بگیر'!G:G)),LOOKUP(D96,Master!D:D,Master!J:J))","v":0},{"$error":"#N/A"},0,0,{"$f":"IF(O96>#REF!,\"اخطار ساعت اضافه کار از حداکثر بیشتر است\",\" \")","v":{"$error":"#REF!"}},{"$f":"IF(O96>#REF!,1,0)","v":{"$error":"#REF!"}}]
[94,{"$f":"IF(D97=0,\"\",Settings!$D$6)","v":""},{"$f":"IF(D97=0,\"\",LOOKUP(B97,'Rigion Code'!A:A,'Rigion Code'!B:B))","v":""},null,{"$f":"IF(D97=0,\" \",IF(ISNA(MATCH(D97,Personnel!A:A,0)),IF(ISNA(MATCH(D97,'اطلاعات افراد غیر حقوق بگیر'!A:A,0)),\"وجود ندارد\",LOOKUP(Edit!D97,'اطلاعات افراد غیر حقوق بگیر'!A:A,'اطلاعات افراد غیر حقوق بگیر'!B:B)),LOOKUP(D97,Personnel!A:A,Personnel!C:C)))","v":" "},{"$f":"IF(D97=0,\" \",IF(ISNA(MATCH(D97,Personnel!A:A,0)),IF(ISNA(MATCH(D97,'اطلاعات افراد غیر حقوق بگیر'!A:A,0)),\"وجود ندارد\",LOOKUP(D97,'اطلاعات افراد غیر حقوق بگیر'!A:A,'اطلاعات افراد غیر حقوق بگیر'!C:C)),LOOKUP(D97,Personnel!A:A,Personnel!B:B)))","v":" "},{"$f":"IF(D97=0,0,IF(ISNA(MATCH(D97,Personnel!A:A,0)),IF(ISNA(MATCH(D97,'اطلاعات افراد غیر حقوق بگیر'!A:A,0)),\"وجود ندارد\",LOOKUP(D97,'اطلاعات افراد غیر حقوق بگیر'!A:A,'اطلاعات افراد غیر حقوق بگیر'!D:D)),LOOKUP(D97,Master!D:D,Master!CD:CD)))","v":0},{"$f":"IF(D97=0,\" \",IF(ISNA(MATCH(D97,Personnel!A:A,0)),IF(ISNA(MATCH(D97,'اطلاعات افراد غیر حقوق بگیر'!A:A,0)),\"وجود ندارد\",LOOKUP(D97,'اطلاعات افراد غیر حقوق بگیر'!A:A,'اطلاعات افراد غیر حقوق بگیر'!E:E)),LOOKUP(D97,Master!D:D,Master!AH:AH)))","v":" "},{"$f":"SUMIFS(Pays!G:G,Pays!E:E,1,Pays!D:D,D97)","v":0},{"$f":"SUMIFS(Pays!G:G,Pays!E:E,2,Pays!D:D,D97)","v":0},{"$f":"SUMIFS(Pays!G:G,Pays!E:E,57,Pays!D:D,D97)","v":0},{"$f":"SUMIF(Pays!D:D,D97,Pays!G:G)","v":0},{"$f":"SUMIF(Pays!D:D,D97,Pays!G:G)/176","v":0},{"$f":"IF(M97=0,IF(ISNA(MATCH(D97,'اطلاعات افراد غیر حقوق بگیر'!A:A,0)),0,LOOKUP(D97,'اطلاعات افراد غیر حقوق بگیر'!A:A,'اطلاعات افراد غیر حقوق بگیر'!F:F)),IF(H97=31,Settings!$D$13,ROUND(M97,0)))","v":0},null,0,{"$f":"IF(ISNA(MATCH(D97,Master!D:D,0)),IF(ISNA(MATCH(D97,'اطلاعات افراد غیر حقوق بگیر'!A:A,0)),0,LOOKUP(D97,'اطلاعات افراد غیر حقوق بگیر'!A:A,'اطلاعات افراد غیر حقوق بگیر'!G:G)),LOOKUP(D97,Master!D:D,Master!J:J))","v":0},{"$error":"#N/A"},0,0,{"$f":"IF(O97>#REF!,\"اخطار ساعت اضافه کار از حداکثر بیشتر است\",\" \")","v":{"$error":"#REF!"}},{"$f":"IF(O97>#REF!,1,0)","v":{"$error":"#REF!"}}]
[95,{"$f":"IF(D98=0,\"\",Settings!$D$6)","v":""},{"$f":"IF(D98=0,\"\",LOOKUP(B98,'Rigion Code'!A:A,'Rigion Code'!B:B))","v":""},null,{"$f":"IF(D98=0,\" \",IF(ISNA(MATCH(D98,Personnel!A:A,0)),IF(ISNA(MATCH(D98,'اطلاعات افراد غیر حقوق بگیر'!A:A,0)),\"وجود ندارد\",LOOKUP(Edit!D98,'اطلاعات افراد غیر حقوق بگیر'!A:A,'اطلاعات افراد غیر حقوق بگیر'!B:B)),LOOKUP(D98,Personnel!A:A,Personnel!C:C)))","v":" "},{"$f":"IF(D98=0,\" \",IF(ISNA(MATCH(D98,Personnel!A:A,0)),IF(ISNA(MATCH(D98,'اطلاعات افراد غیر حقوق بگیر'!A:A,0)),\"وجود ندارد\",LOOKUP(D98,'اطلاعات افراد غیر حقوق بگیر'!A:A,'اطلاعات افراد غیر حقوق بگیر'!C:C)),LOOKUP(D98,Personnel!A:A,Personnel!B:B)))","v":" "},{"$f":"IF(D98=0,0,IF(ISNA(MATCH(D98,Personnel!A:A,0)),IF(ISNA(MATCH(D98,'اطلاعات افراد غیر حقوق بگیر'!A:A,0)),\"وجود ندارد\",LOOKUP(D98,'اطلاعات افراد غیر حقوق بگیر'!A:A,'اطلاعات افراد غیر حقوق بگیر'!D:D)),LOOKUP(D98,Master!D:D,Master!CD:CD)))","v":0},{"$f":"IF(D98=0,\" \",IF(ISNA(MATCH(D98,Personnel!A:A,0)),IF(ISNA(MATCH(D98,'اطلاعات افراد غیر حقوق بگیر'!A:A,0)),\"وجود ندارد\",LOOKUP(D98,'اطلاعات افراد غیر حقوق بگیر'!A:A,'اطلاعات افراد غیر حقوق بگیر'!E:E)),LOOKUP(D98,Master!D:D,Master!AH:AH)))","v":" "},{"$f":"SUMIFS(Pays!G:G,Pays!E:E,1,Pays!D:D,D98)","v":0},{"$f":"SUMIFS(Pays!G:G,Pays!E:E,2,Pays!D:D,D98)","v":0},{"$f":"SUMIFS(Pays!G:G,Pays!E:E,57,Pays!D:D,D98)","v":0},{"$f":"SUMIF(Pays!D:D,D98,Pays!G:G)","v":0},{"$f":"SUMIF(Pays!D:D,D98,Pays!G:G)/176","v":0},{"$f":"IF(M98=0,IF(ISNA(MATCH(D98,'اطلاعات افراد غیر حقوق بگیر'!A:A,0)),0,LOOKUP(D98,'اطلاعات افراد غیر حقوق بگیر'!A:A,'اطلاعات افراد غیر حقوق بگیر'!F:F)),IF(H98=31,Settings!$D$13,ROUND(M98,0)))","v":0},null,0,{"$f":"IF(ISNA(MATCH(D98,Master!D:D,0)),IF(ISNA(MATCH(D98,'اطلاعات افراد غیر حقوق بگیر'!A:A,0)),0,LOOKUP(D98,'اطلاعات افراد غیر حقوق بگیر'!A:A,'اطلاعات افراد غیر حقوق بگیر'!G:G)),LOOKUP(D98,Master!D:D,Master!J:J))","v":0},{"$error":"#N/A"},0,0,{"$f":"IF(O98>#REF!,\"اخطار ساعت اضافه کار از حداکثر بیشتر است\",\" \")","v":{"$error":"#REF!"}},{"$f":"IF(O98>#REF!,1,0)","v":{"$error":"#REF!"}}]
[96,{"$f":"IF(D99=0,\"\",Settings!$D$6)","v":""},{"$f":"IF(D99=0,\"\",LOOKUP(B99,'Rigion Code'!A:A,'Rigion Code'!B:B))","v":""},null,{"$f":"IF(D99=0,\" \",IF(ISNA(MATCH(D99,Personnel!A:A,0)),IF(ISNA(MATCH(D99,'اطلاعات افراد غیر حقوق بگیر'!A:A,0)),\"وجود ندارد\",LOOKUP(Edit!D99,'اطلاعات افراد غیر حقوق بگیر'!A:A,'اطلاعات افراد غیر حقوق بگیر'!B:B)),LOOKUP(D99,Personnel!A:A,Personnel!C:C)))","v":" "},{"$f":"IF(D99=0,\" \",IF(ISNA(MATCH(D99,Personnel!A:A,0)),IF(ISNA(MATCH(D99,'اطلاعات افراد غیر حقوق بگیر'!A:A,0)),\"وجود ندارد\",LOOKUP(D99,'اطلاعات افراد غیر حقوق بگیر'!A:A,'اطلاعات افراد غیر حقوق بگیر'!C:C)),LOOKUP(D99,Personnel!A:A,Personnel!B:B)))","v":" "},{"$f":"IF(D99=0,0,IF(ISNA(MATCH(D99,Personnel!A:A,0)),IF(ISNA(MATCH(D99,'اطلاعات افراد غیر حقوق بگیر'!A:A,0)),\"وجود ندارد\",LOOKUP(D99,'اطلاعات افراد غیر حقوق بگیر'!A:A,'اطلاعات افراد غیر حقوق بگیر'!D:D)),LOOKUP(D99,Master!D:D,Master!CD:CD)))","v":0},{"$f":"IF(D99=0,\" \",IF(ISNA(MATCH(D99,Personnel!A:A,0)),IF(ISNA(MATCH(D99,'اطلاعات افراد غیر حقوق بگیر'!A:A,0)),\"وجود ندارد\",LOOKUP(D99,'اطلاعات افراد غیر حقوق بگیر'!A:A,'اطلاعات افراد غیر حقوق بگیر'!E:E)),LOOKUP(D99,Master!D:D,Master!AH:AH)))","v":" "},{"$f":"SUMIFS(Pays!G:G,Pays!E:E,1,Pays!D:D,D99)","v":0},{"$f":"SUMIFS(Pays!G:G,Pays!E:E,2,Pays!D:D,D99)","v":0},{"$f":"SUMIFS(Pays!G:G,Pays!E:E,57,Pays!D:D,D99)","v":0},{"$f":"SUMIF(Pays!D:D,D99,Pays!G:G)","v":0},{"$f":"SUMIF(Pays!D:D,D99,Pays!G:G)/176","v":0},{"$f":"IF(M99=0,IF(ISNA(MATCH(D99,'اطلاعات افراد غیر حقوق بگیر'!A:A,0)),0,LOOKUP(D99,'اطلاعات افراد غیر حقوق بگیر'!A:A,'اطلاعات افراد غیر حقوق بگیر'!F:F)),IF(H99=31,Settings!$D$13,ROUND(M99,0)))","v":0},null,0,{"$f":"IF(ISNA(MATCH(D99,Master!D:D,0)),IF(ISNA(MATCH(D99,'اطلاعات افراد غیر حقوق بگیر'!A:A,0)),0,LOOKUP(D99,'اطلاعات افراد غیر حقوق بگیر'!A:A,'اطلاعات افراد غیر حقوق بگیر'!G:G)),LOOKUP(D99,Master!D:D,Master!J:J))","v":0},{"$error":"#N/A"},0,0,{"$f":"IF(O99>#REF!,\"اخطار ساعت اضافه کار از حداکثر بیشتر است\",\" \")","v":{"$error":"#REF!"}},{"$f":"IF(O99>#REF!,1,0)","v":{"$error":"#REF!"}}]
[97,{"$f":"IF(D100=0,\"\",Settings!$D$6)","v":""},{"$f":"IF(D100=0,\"\",LOOKUP(B100,'Rigion Code'!A:A,'Rigion Code'!B:B))","v":""},null,{"$f":"IF(D100=0,\" \",IF(ISNA(MATCH(D100,Personnel!A:A,0)),IF(ISNA(MATCH(D100,'اطلاعات افراد غیر حقوق بگیر'!A:A,0)),\"وجود ندارد\",LOOKUP(Edit!D100,'اطلاعات افراد غیر حقوق بگیر'!A:A,'اطلاعات افراد غیر حقوق بگیر'!B:B)),LOOKUP(D100,Personnel!A:A,Personnel!C:C)))","v":" "},{"$f":"IF(D100=0,\" \",IF(ISNA(MATCH(D100,Personnel!A:A,0)),IF(ISNA(MATCH(D100,'اطلاعات افراد غیر حقوق بگیر'!A:A,0)),\"وجود ندارد\",LOOKUP(D100,'اطلاعات افراد غیر حقوق بگیر'!A:A,'اطلاعات افراد غیر حقوق بگیر'!C:C)),LOOKUP(D100,Personnel!A:A,Personnel!B:B)))","v":" "},{"$f":"IF(D100=0,0,IF(ISNA(MATCH(D100,Personnel!A:A,0)),IF(ISNA(MATCH(D100,'اطلاعات افراد غیر حقوق بگیر'!A:A,0)),\"وجود ندارد\",LOOKUP(D100,'اطلاعات افراد غیر حقوق بگیر'!A:A,'اطلاعات افراد غیر حقوق بگیر'!D:D)),LOOKUP(D100,Master!D:D,Master!CD:CD)))","v":0},{"$f":"IF(D100=0,\" \",IF(ISNA(MATCH(D100,Personnel!A:A,0)),IF(ISNA(MATCH(D100,'اطلاعات افراد غیر حقوق بگیر'!A:A,0)),\"وجود ندارد\",LOOKUP(D100,'اطلاعات افراد غیر حقوق بگیر'!A:A,'اطلاعات افراد غیر حقوق بگیر'!E:E)),LOOKUP(D100,Master!D:D,Master!AH:AH)))","v":" "},{"$f":"SUMIFS(Pays!G:G,Pays!E:E,1,Pays!D:D,D100)","v":0},{"$f":"SUMIFS(Pays!G:G,Pays!E:E,2,Pays!D:D,D100)","v":0},{"$f":"SUMIFS(Pays!G:G,Pays!E:E,57,Pays!D:D,D100)","v":0},{"$f":"SUMIF(Pays!D:D,D100,Pays!G:G)","v":0},{"$f":"SUMIF(Pays!D:D,D100,Pays!G:G)/176","v":0},{"$f":"IF(M100=0,IF(ISNA(MATCH(D100,'اطلاعات افراد غیر حقوق بگیر'!A:A,0)),0,LOOKUP(D100,'اطلاعات افراد غیر حقوق بگیر'!A:A,'اطلاعات افراد غیر حقوق بگیر'!F:F)),IF(H100=31,Settings!$D$13,ROUND(M100,0)))","v":0},null,0,{"$f":"IF(ISNA(MATCH(D100,Master!D:D,0)),IF(ISNA(MATCH(D100,'اطلاعات افراد غیر حقوق بگیر'!A:A,0)),0,LOOKUP(D100,'اطلاعات افراد غیر حقوق بگیر'!A:A,'اطلاعات افراد غیر حقوق بگیر'!G:G)),LOOKUP(D100,Master!D:D,Master!J:J))","v":0},{"$error":"#N/A"},0,0,{"$f":"IF(O100>#REF!,\"اخطار ساعت اضافه کار از حداکثر بیشتر است\",\" \")","v":{"$error":"#REF!"}},{"$f":"IF(O100>#REF!,1,0)","v":{"$error":"#REF!"}}]
[98,{"$f":"IF(D101=0,\"\",Settings!$D$6)","v":""},{"$f":"IF(D101=0,\"\",LOOKUP(B101,'Rigion Code'!A:A,'Rigion Code'!B:B))","v":""},null,{"$f":"IF(D101=0,\" \",IF(ISNA(MATCH(D101,Personnel!A:A,0)),IF(ISNA(MATCH(D101,'اطلاعات افراد غیر حقوق بگیر'!A:A,0)),\"وجود ندارد\",LOOKUP(Edit!D101,'اطلاعات افراد غیر حقوق بگیر'!A:A,'اطلاعات افراد غیر حقوق بگیر'!B:B)),LOOKUP(D101,Personnel!A:A,Personnel!C:C)))","v":" "},{"$f":"IF(D101=0,\" \",IF(ISNA(MATCH(D101,Personnel!A:A,0)),IF(ISNA(MATCH(D101,'اطلاعات افراد غیر حقوق بگیر'!A:A,0)),\"وجود ندارد\",LOOKUP(D101,'اطلاعات افراد غیر حقوق بگیر'!A:A,'اطلاعات افراد غیر حقوق بگیر'!C:C)),LOOKUP(D101,Personnel!A:A,Personnel!B:B)))","v":" "},{"$f":"IF(D101=0,0,IF(ISNA(MATCH(D101,Personnel!A:A,0)),IF(ISNA(MATCH(D101,'اطلاعات افراد غیر حقوق بگیر'!A:A,0)),\"وجود ندارد\",LOOKUP(D101,'اطلاعات افراد غیر حقوق بگیر'!A:A,'اطلاعات افراد غیر حقوق بگیر'!D:D)),LOOKUP(D101,Master!D:D,Master!CD:CD)))","v":0},{"$f":"IF(D101=0,\" \",IF(ISNA(MATCH(D101,Personnel!A:A,0)),IF(ISNA(MATCH(D101,'اطلاعات افراد غیر حقوق بگیر'!A:A,0)),\"وجود ندارد\",LOOKUP(D101,'اطلاعات افراد غیر حقوق بگیر'!A:A,'اطلاعات افراد غیر حقوق بگیر'!E:E)),LOOKUP(D101,Master!D:D,Master!AH:AH)))","v":" "},{"$f":"SUMIFS(Pays!G:G,Pays!E:E,1,Pays!D:D,D101)","v":0},{"$f":"SUMIFS(Pays!G:G,Pays!E:E,2,Pays!D:D,D101)","v":0},{"$f":"SUMIFS(Pays!G:G,Pays!E:E,57,Pays!D:D,D101)","v":0},{"$f":"SUMIF(Pays!D:D,D101,Pays!G:G)","v":0},{"$f":"SUMIF(Pays!D:D,D101,Pays!G:G)/176","v":0},{"$f":"IF(M101=0,IF(ISNA(MATCH(D101,'اطلاعات افراد غیر حقوق بگیر'!A:A,0)),0,LOOKUP(D101,'اطلاعات افراد غیر حقوق بگیر'!A:A,'اطلاعات افراد غیر حقوق بگیر'!F:F)),IF(H101=31,Settings!$D$13,ROUND(M101,0)))","v":0},null,0,{"$f":"IF(ISNA(MATCH(D101,Master!D:D,0)),IF(ISNA(MATCH(D101,'اطلاعات افراد غیر حقوق بگیر'!A:A,0)),0,LOOKUP(D101,'اطلاعات افراد غیر حقوق بگیر'!A:A,'اطلاعات افراد غیر حقوق بگیر'!G:G)),LOOKUP(D101,Master!D:D,Master!J:J))","v":0},{"$error":"#N/A"},0,0,{"$f":"IF(O101>#REF!,\"اخطار ساعت اضافه کار از حداکثر بیشتر است\",\" \")","v":{"$error":"#REF!"}},{"$f":"IF(O101>#REF!,1,0)","v":{"$error":"#REF!"}}]
[99,{"$f":"IF(D102=0,\"\",Settings!$D$6)","v":""},{"$f":"IF(D102=0,\"\",LOOKUP(B102,'Rigion Code'!A:A,'Rigion Code'!B:B))","v":""},null,{"$f":"IF(D102=0,\" \",IF(ISNA(MATCH(D102,Personnel!A:A,0)),IF(ISNA(MATCH(D102,'اطلاعات افراد غیر حقوق بگیر'!A:A,0)),\"وجود ندارد\",LOOKUP(Edit!D102,'اطلاعات افراد غیر حقوق بگیر'!A:A,'اطلاعات افراد غیر حقوق بگیر'!B:B)),LOOKUP(D102,Personnel!A:A,Personnel!C:C)))","v":" "},{"$f":"IF(D102=0,\" \",IF(ISNA(MATCH(D102,Personnel!A:A,0)),IF(ISNA(MATCH(D102,'اطلاعات افراد غیر حقوق بگیر'!A:A,0)),\"وجود ندارد\",LOOKUP(D102,'اطلاعات افراد غیر حقوق بگیر'!A:A,'اطلاعات افراد غیر حقوق بگیر'!C:C)),LOOKUP(D102,Personnel!A:A,Personnel!B:B)))","v":" "},{"$f":"IF(D102=0,0,IF(ISNA(MATCH(D102,Personnel!A:A,0)),IF(ISNA(MATCH(D102,'اطلاعات افراد غیر حقوق بگیر'!A:A,0)),\"وجود ندارد\",LOOKUP(D102,'اطلاعات افراد غیر حقوق بگیر'!A:A,'اطلاعات افراد غیر حقوق بگیر'!D:D)),LOOKUP(D102,Master!D:D,Master!CD:CD)))","v":0},{"$f":"IF(D102=0,\" \",IF(ISNA(MATCH(D102,Personnel!A:A,0)),IF(ISNA(MATCH(D102,'اطلاعات افراد غیر حقوق بگیر'!A:A,0)),\"وجود ندارد\",LOOKUP(D102,'اطلاعات افراد غیر حقوق بگیر'!A:A,'اطلاعات افراد غیر حقوق بگیر'!E:E)),LOOKUP(D102,Master!D:D,Master!AH:AH)))","v":" "},{"$f":"SUMIFS(Pays!G:G,Pays!E:E,1,Pays!D:D,D102)","v":0},{"$f":"SUMIFS(Pays!G:G,Pays!E:E,2,Pays!D:D,D102)","v":0},{"$f":"SUMIFS(Pays!G:G,Pays!E:E,57,Pays!D:D,D102)","v":0},{"$f":"SUMIF(Pays!D:D,D102,Pays!G:G)","v":0},{"$f":"SUMIF(Pays!D:D,D102,Pays!G:G)/176","v":0},{"$f":"IF(M102=0,IF(ISNA(MATCH(D102,'اطلاعات افراد غیر حقوق بگیر'!A:A,0)),0,LOOKUP(D102,'اطلاعات افراد غیر حقوق بگیر'!A:A,'اطلاعات افراد غیر حقوق بگیر'!F:F)),IF(H102=31,Settings!$D$13,ROUND(M102,0)))","v":0},null,0,{"$f":"IF(ISNA(MATCH(D102,Master!D:D,0)),IF(ISNA(MATCH(D102,'اطلاعات افراد غیر حقوق بگیر'!A:A,0)),0,LOOKUP(D102,'اطلاعات افراد غیر حقوق بگیر'!A:A,'اطلاعات افراد غیر حقوق بگیر'!G:G)),LOOKUP(D102,Master!D:D,Master!J:J))","v":0},{"$error":"#N/A"},0,0,{"$f":"IF(O102>#REF!,\"اخطار ساعت اضافه کار از حداکثر بیشتر است\",\" \")","v":{"$error":"#REF!"}},{"$f":"IF(O102>#REF!,1,0)","v":{"$error":"#REF!"}}]
[100,{"$f":"IF(D103=0,\"\",Settings!$D$6)","v":""},{"$f":"IF(D103=0,\"\",LOOKUP(B103,'Rigion Code'!A:A,'Rigion Code'!B:B))","v":""},null,{"$f":"IF(D103=0,\" \",IF(ISNA(MATCH(D103,Personnel!A:A,0)),IF(ISNA(MATCH(D103,'اطلاعات افراد غیر حقوق بگیر'!A:A,0)),\"وجود ندارد\",LOOKUP(Edit!D103,'اطلاعات افراد غیر حقوق بگیر'!A:A,'اطلاعات افراد غیر حقوق بگیر'!B:B)),LOOKUP(D103,Personnel!A:A,Personnel!C:C)))","v":" "},{"$f":"IF(D103=0,\" \",IF(ISNA(MATCH(D103,Personnel!A:A,0)),IF(ISNA(MATCH(D103,'اطلاعات افراد غیر حقوق بگیر'!A:A,0)),\"وجود ندارد\",LOOKUP(D103,'اطلاعات افراد غیر حقوق بگیر'!A:A,'اطلاعات افراد غیر حقوق بگیر'!C:C)),LOOKUP(D103,Personnel!A:A,Personnel!B:B)))","v":" "},{"$f":"IF(D103=0,0,IF(ISNA(MATCH(D103,Personnel!A:A,0)),IF(ISNA(MATCH(D103,'اطلاعات افراد غیر حقوق بگیر'!A:A,0)),\"وجود ندارد\",LOOKUP(D103,'اطلاعات افراد غیر حقوق بگیر'!A:A,'اطلاعات افراد غیر حقوق بگیر'!D:D)),LOOKUP(D103,Master!D:D,Master!CD:CD)))","v":0},{"$f":"IF(D103=0,\" \",IF(ISNA(MATCH(D103,Personnel!A:A,0)),IF(ISNA(MATCH(D103,'اطلاعات افراد غیر حقوق بگیر'!A:A,0)),\"وجود ندارد\",LOOKUP(D103,'اطلاعات افراد غیر حقوق بگیر'!A:A,'اطلاعات افراد غیر حقوق بگیر'!E:E)),LOOKUP(D103,Master!D:D,Master!AH:AH)))","v":" "},{"$f":"SUMIFS(Pays!G:G,Pays!E:E,1,Pays!D:D,D103)","v":0},{"$f":"SUMIFS(Pays!G:G,Pays!E:E,2,Pays!D:D,D103)","v":0},{"$f":"SUMIFS(Pays!G:G,Pays!E:E,57,Pays!D:D,D103)","v":0},{"$f":"SUMIF(Pays!D:D,D103,Pays!G:G)","v":0},{"$f":"SUMIF(Pays!D:D,D103,Pays!G:G)/176","v":0},{"$f":"IF(M103=0,IF(ISNA(MATCH(D103,'اطلاعات افراد غیر حقوق بگیر'!A:A,0)),0,LOOKUP(D103,'اطلاعات افراد غیر حقوق بگیر'!A:A,'اطلاعات افراد غیر حقوق بگیر'!F:F)),IF(H103=31,Settings!$D$13,ROUND(M103,0)))","v":0},null,0,{"$f":"IF(ISNA(MATCH(D103,Master!D:D,0)),IF(ISNA(MATCH(D103,'اطلاعات افراد غیر حقوق بگیر'!A:A,0)),0,LOOKUP(D103,'اطلاعات افراد غیر حقوق بگیر'!A:A,'اطلاعات افراد غیر حقوق بگیر'!G:G)),LOOKUP(D103,Master!D:D,Master!J:J))","v":0},{"$error":"#N/A"},0,0,{"$f":"IF(O103>#REF!,\"اخطار ساعت اضافه کار از حداکثر بیشتر است\",\" \")","v":{"$error":"#REF!"}},{"$f":"IF(O103>#REF!,1,0)","v":{"$error":"#REF!"}}]
[101,{"$f":"IF(D104=0,\"\",Settings!$D$6)","v":""},{"$f":"IF(D104=0,\"\",LOOKUP(B104,'Rigion Code'!A:A,'Rigion Code'!B:B))","v":""},null,{"$f":"IF(D104=0,\" \",IF(ISNA(MATCH(D104,Personnel!A:A,0)),IF(ISNA(MATCH(D104,'اطلاعات افراد غیر حقوق بگیر'!A:A,0)),\"وجود ندارد\",LOOKUP(Edit!D104,'اطلاعات افراد غیر حقوق بگیر'!A:A,'اطلاعات افراد غیر حقوق بگیر'!B:B)),LOOKUP(D104,Personnel!A:A,Personnel!C:C)))","v":" "},{"$f":"IF(D104=0,\" \",IF(ISNA(MATCH(D104,Personnel!A:A,0)),IF(ISNA(MATCH(D104,'اطلاعات افراد غیر حقوق بگیر'!A:A,0)),\"وجود ندارد\",LOOKUP(D104,'اطلاعات افراد غیر حقوق بگیر'!A:A,'اطلاعات افراد غیر حقوق بگیر'!C:C)),LOOKUP(D104,Personnel!A:A,Personnel!B:B)))","v":" "},{"$f":"IF(D104=0,0,IF(ISNA(MATCH(D104,Personnel!A:A,0)),IF(ISNA(MATCH(D104,'اطلاعات افراد غیر حقوق بگیر'!A:A,0)),\"وجود ندارد\",LOOKUP(D104,'اطلاعات افراد غیر حقوق بگیر'!A:A,'اطلاعات افراد غیر حقوق بگیر'!D:D)),LOOKUP(D104,Master!D:D,Master!CD:CD)))","v":0},{"$f":"IF(D104=0,\" \",IF(ISNA(MATCH(D104,Personnel!A:A,0)),IF(ISNA(MATCH(D104,'اطلاعات افراد غیر حقوق بگیر'!A:A,0)),\"وجود ندارد\",LOOKUP(D104,'اطلاعات افراد غیر حقوق بگیر'!A:A,'اطلاعات افراد غیر حقوق بگیر'!E:E)),LOOKUP(D104,Master!D:D,Master!AH:AH)))","v":" "},{"$f":"SUMIFS(Pays!G:G,Pays!E:E,1,Pays!D:D,D104)","v":0},{"$f":"SUMIFS(Pays!G:G,Pays!E:E,2,Pays!D:D,D104)","v":0},{"$f":"SUMIFS(Pays!G:G,Pays!E:E,57,Pays!D:D,D104)","v":0},{"$f":"SUMIF(Pays!D:D,D104,Pays!G:G)","v":0},{"$f":"SUMIF(Pays!D:D,D104,Pays!G:G)/176","v":0},{"$f":"IF(M104=0,IF(ISNA(MATCH(D104,'اطلاعات افراد غیر حقوق بگیر'!A:A,0)),0,LOOKUP(D104,'اطلاعات افراد غیر حقوق بگیر'!A:A,'اطلاعات افراد غیر حقوق بگیر'!F:F)),IF(H104=31,Settings!$D$13,ROUND(M104,0)))","v":0},null,0,{"$f":"IF(ISNA(MATCH(D104,Master!D:D,0)),IF(ISNA(MATCH(D104,'اطلاعات افراد غیر حقوق بگیر'!A:A,0)),0,LOOKUP(D104,'اطلاعات افراد غیر حقوق بگیر'!A:A,'اطلاعات افراد غیر حقوق بگیر'!G:G)),LOOKUP(D104,Master!D:D,Master!J:J))","v":0},{"$error":"#N/A"},0,0,{"$f":"IF(O104>#REF!,\"اخطار ساعت اضافه کار از حداکثر بیشتر است\",\" \")","v":{"$error":"#REF!"}},{"$f":"IF(O104>#REF!,1,0)","v":{"$error":"#REF!"}}]
[102,{"$f":"IF(D105=0,\"\",Settings!$D$6)","v":""},{"$f":"IF(D105=0,\"\",LOOKUP(B105,'Rigion Code'!A:A,'Rigion Code'!B:B))","v":""},null,{"$f":"IF(D105=0,\" \",IF(ISNA(MATCH(D105,Personnel!A:A,0)),IF(ISNA(MATCH(D105,'اطلاعات افراد غیر حقوق بگیر'!A:A,0)),\"وجود ندارد\",LOOKUP(Edit!D105,'اطلاعات افراد غیر حقوق بگیر'!A:A,'اطلاعات افراد غیر حقوق بگیر'!B:B)),LOOKUP(D105,Personnel!A:A,Personnel!C:C)))","v":" "},{"$f":"IF(D105=0,\" \",IF(ISNA(MATCH(D105,Personnel!A:A,0)),IF(ISNA(MATCH(D105,'اطلاعات افراد غیر حقوق بگیر'!A:A,0)),\"وجود ندارد\",LOOKUP(D105,'اطلاعات افراد غیر حقوق بگیر'!A:A,'اطلاعات افراد غیر حقوق بگیر'!C:C)),LOOKUP(D105,Personnel!A:A,Personnel!B:B)))","v":" "},{"$f":"IF(D105=0,0,IF(ISNA(MATCH(D105,Personnel!A:A,0)),IF(ISNA(MATCH(D105,'اطلاعات افراد غیر حقوق بگیر'!A:A,0)),\"وجود ندارد\",LOOKUP(D105,'اطلاعات افراد غیر حقوق بگیر'!A:A,'اطلاعات افراد غیر حقوق بگیر'!D:D)),LOOKUP(D105,Master!D:D,Master!CD:CD)))","v":0},{"$f":"IF(D105=0,\" \",IF(ISNA(MATCH(D105,Personnel!A:A,0)),IF(ISNA(MATCH(D105,'اطلاعات افراد غیر حقوق بگیر'!A:A,0)),\"وجود ندارد\",LOOKUP(D105,'اطلاعات افراد غیر حقوق بگیر'!A:A,'اطلاعات افراد غیر حقوق بگیر'!E:E)),LOOKUP(D105,Master!D:D,Master!AH:AH)))","v":" "},{"$f":"SUMIFS(Pays!G:G,Pays!E:E,1,Pays!D:D,D105)","v":0},{"$f":"SUMIFS(Pays!G:G,Pays!E:E,2,Pays!D:D,D105)","v":0},{"$f":"SUMIFS(Pays!G:G,Pays!E:E,57,Pays!D:D,D105)","v":0},{"$f":"SUMIF(Pays!D:D,D105,Pays!G:G)","v":0},{"$f":"SUMIF(Pays!D:D,D105,Pays!G:G)/176","v":0},{"$f":"IF(M105=0,IF(ISNA(MATCH(D105,'اطلاعات افراد غیر حقوق بگیر'!A:A,0)),0,LOOKUP(D105,'اطلاعات افراد غیر حقوق بگیر'!A:A,'اطلاعات افراد غیر حقوق بگیر'!F:F)),IF(H105=31,Settings!$D$13,ROUND(M105,0)))","v":0},null,0,{"$f":"IF(ISNA(MATCH(D105,Master!D:D,0)),IF(ISNA(MATCH(D105,'اطلاعات افراد غیر حقوق بگیر'!A:A,0)),0,LOOKUP(D105,'اطلاعات افراد غیر حقوق بگیر'!A:A,'اطلاعات افراد غیر حقوق بگیر'!G:G)),LOOKUP(D105,Master!D:D,Master!J:J))","v":0},{"$error":"#N/A"},0,0,{"$f":"IF(O105>#REF!,\"اخطار ساعت اضافه کار از حداکثر بیشتر است\",\" \")","v":{"$error":"#REF!"}},{"$f":"IF(O105>#REF!,1,0)","v":{"$error":"#REF!"}}]
[103,{"$f":"IF(D106=0,\"\",Settings!$D$6)","v":""},{"$f":"IF(D106=0,\"\",LOOKUP(B106,'Rigion Code'!A:A,'Rigion Code'!B:B))","v":""},null,{"$f":"IF(D106=0,\" \",IF(ISNA(MATCH(D106,Personnel!A:A,0)),IF(ISNA(MATCH(D106,'اطلاعات افراد غیر حقوق بگیر'!A:A,0)),\"وجود ندارد\",LOOKUP(Edit!D106,'اطلاعات افراد غیر حقوق بگیر'!A:A,'اطلاعات افراد غیر حقوق بگیر'!B:B)),LOOKUP(D106,Personnel!A:A,Personnel!C:C)))","v":" "},{"$f":"IF(D106=0,\" \",IF(ISNA(MATCH(D106,Personnel!A:A,0)),IF(ISNA(MATCH(D106,'اطلاعات افراد غیر حقوق بگیر'!A:A,0)),\"وجود ندارد\",LOOKUP(D106,'اطلاعات افراد غیر حقوق بگیر'!A:A,'اطلاعات افراد غیر حقوق بگیر'!C:C)),LOOKUP(D106,Personnel!A:A,Personnel!B:B)))","v":" "},{"$f":"IF(D106=0,0,IF(ISNA(MATCH(D106,Personnel!A:A,0)),IF(ISNA(MATCH(D106,'اطلاعات افراد غیر حقوق بگیر'!A:A,0)),\"وجود ندارد\",LOOKUP(D106,'اطلاعات افراد غیر حقوق بگیر'!A:A,'اطلاعات افراد غیر حقوق بگیر'!D:D)),LOOKUP(D106,Master!D:D,Master!CD:CD)))","v":0},{"$f":"IF(D106=0,\" \",IF(ISNA(MATCH(D106,Personnel!A:A,0)),IF(ISNA(MATCH(D106,'اطلاعات افراد غیر حقوق بگیر'!A:A,0)),\"وجود ندارد\",LOOKUP(D106,'اطلاعات افراد غیر حقوق بگیر'!A:A,'اطلاعات افراد غیر حقوق بگیر'!E:E)),LOOKUP(D106,Master!D:D,Master!AH:AH)))","v":" "},{"$f":"SUMIFS(Pays!G:G,Pays!E:E,1,Pays!D:D,D106)","v":0},{"$f":"SUMIFS(Pays!G:G,Pays!E:E,2,Pays!D:D,D106)","v":0},{"$f":"SUMIFS(Pays!G:G,Pays!E:E,57,Pays!D:D,D106)","v":0},{"$f":"SUMIF(Pays!D:D,D106,Pays!G:G)","v":0},{"$f":"SUMIF(Pays!D:D,D106,Pays!G:G)/176","v":0},{"$f":"IF(M106=0,IF(ISNA(MATCH(D106,'اطلاعات افراد غیر حقوق بگیر'!A:A,0)),0,LOOKUP(D106,'اطلاعات افراد غیر حقوق بگیر'!A:A,'اطلاعات افراد غیر حقوق بگیر'!F:F)),IF(H106=31,Settings!$D$13,ROUND(M106,0)))","v":0},null,0,{"$f":"IF(ISNA(MATCH(D106,Master!D:D,0)),IF(ISNA(MATCH(D106,'اطلاعات افراد غیر حقوق بگیر'!A:A,0)),0,LOOKUP(D106,'اطلاعات افراد غیر حقوق بگیر'!A:A,'اطلاعات افراد غیر حقوق بگیر'!G:G)),LOOKUP(D106,Master!D:D,Master!J:J))","v":0},{"$error":"#N/A"},0,0,{"$f":"IF(O106>#REF!,\"اخطار ساعت اضافه کار از حداکثر بیشتر است\",\" \")","v":{"$error":"#REF!"}},{"$f":"IF(O106>#REF!,1,0)","v":{"$error":"#REF!"}}]
[104,{"$f":"IF(D107=0,\"\",Settings!$D$6)","v":""},{"$f":"IF(D107=0,\"\",LOOKUP(B107,'Rigion Code'!A:A,'Rigion Code'!B:B))","v":""},null,{"$f":"IF(D107=0,\" \",IF(ISNA(MATCH(D107,Personnel!A:A,0)),IF(ISNA(MATCH(D107,'اطلاعات افراد غیر حقوق بگیر'!A:A,0)),\"وجود ندارد\",LOOKUP(Edit!D107,'اطلاعات افراد غیر حقوق بگیر'!A:A,'اطلاعات افراد غیر حقوق بگیر'!B:B)),LOOKUP(D107,Personnel!A:A,Personnel!C:C)))","v":" "},{"$f":"IF(D107=0,\" \",IF(ISNA(MATCH(D107,Personnel!A:A,0)),IF(ISNA(MATCH(D107,'اطلاعات افراد غیر حقوق بگیر'!A:A,0)),\"وجود ندارد\",LOOKUP(D107,'اطلاعات افراد غیر حقوق بگیر'!A:A,'اطلاعات افراد غیر حقوق بگیر'!C:C)),LOOKUP(D107,Personnel!A:A,Personnel!B:B)))","v":" "},{"$f":"IF(D107=0,0,IF(ISNA(MATCH(D107,Personnel!A:A,0)),IF(ISNA(MATCH(D107,'اطلاعات افراد غیر حقوق بگیر'!A:A,0)),\"وجود ندارد\",LOOKUP(D107,'اطلاعات افراد غیر حقوق بگیر'!A:A,'اطلاعات افراد غیر حقوق بگیر'!D:D)),LOOKUP(D107,Master!D:D,Master!CD:CD)))","v":0},{"$f":"IF(D107=0,\" \",IF(ISNA(MATCH(D107,Personnel!A:A,0)),IF(ISNA(MATCH(D107,'اطلاعات افراد غیر حقوق بگیر'!A:A,0)),\"وجود ندارد\",LOOKUP(D107,'اطلاعات افراد غیر حقوق بگیر'!A:A,'اطلاعات افراد غیر حقوق بگیر'!E:E)),LOOKUP(D107,Master!D:D,Master!AH:AH)))","v":" "},{"$f":"SUMIFS(Pays!G:G,Pays!E:E,1,Pays!D:D,D107)","v":0},{"$f":"SUMIFS(Pays!G:G,Pays!E:E,2,Pays!D:D,D107)","v":0},{"$f":"SUMIFS(Pays!G:G,Pays!E:E,57,Pays!D:D,D107)","v":0},{"$f":"SUMIF(Pays!D:D,D107,Pays!G:G)","v":0},{"$f":"SUMIF(Pays!D:D,D107,Pays!G:G)/176","v":0},{"$f":"IF(M107=0,IF(ISNA(MATCH(D107,'اطلاعات افراد غیر حقوق بگیر'!A:A,0)),0,LOOKUP(D107,'اطلاعات افراد غیر حقوق بگیر'!A:A,'اطلاعات افراد غیر حقوق بگیر'!F:F)),IF(H107=31,Settings!$D$13,ROUND(M107,0)))","v":0},null,0,{"$f":"IF(ISNA(MATCH(D107,Master!D:D,0)),IF(ISNA(MATCH(D107,'اطلاعات افراد غیر حقوق بگیر'!A:A,0)),0,LOOKUP(D107,'اطلاعات افراد غیر حقوق بگیر'!A:A,'اطلاعات افراد غیر حقوق بگیر'!G:G)),LOOKUP(D107,Master!D:D,Master!J:J))","v":0},{"$error":"#N/A"},0,0,{"$f":"IF(O107>#REF!,\"اخطار ساعت اضافه کار از حداکثر بیشتر است\",\" \")","v":{"$error":"#REF!"}},{"$f":"IF(O107>#REF!,1,0)","v":{"$error":"#REF!"}}]
[105,{"$f":"IF(D108=0,\"\",Settings!$D$6)","v":""},{"$f":"IF(D108=0,\"\",LOOKUP(B108,'Rigion Code'!A:A,'Rigion Code'!B:B))","v":""},null,{"$f":"IF(D108=0,\" \",IF(ISNA(MATCH(D108,Personnel!A:A,0)),IF(ISNA(MATCH(D108,'اطلاعات افراد غیر حقوق بگیر'!A:A,0)),\"وجود ندارد\",LOOKUP(Edit!D108,'اطلاعات افراد غیر حقوق بگیر'!A:A,'اطلاعات افراد غیر حقوق بگیر'!B:B)),LOOKUP(D108,Personnel!A:A,Personnel!C:C)))","v":" "},{"$f":"IF(D108=0,\" \",IF(ISNA(MATCH(D108,Personnel!A:A,0)),IF(ISNA(MATCH(D108,'اطلاعات افراد غیر حقوق بگیر'!A:A,0)),\"وجود ندارد\",LOOKUP(D108,'اطلاعات افراد غیر حقوق بگیر'!A:A,'اطلاعات افراد غیر حقوق بگیر'!C:C)),LOOKUP(D108,Personnel!A:A,Personnel!B:B)))","v":" "},{"$f":"IF(D108=0,0,IF(ISNA(MATCH(D108,Personnel!A:A,0)),IF(ISNA(MATCH(D108,'اطلاعات افراد غیر حقوق بگیر'!A:A,0)),\"وجود ندارد\",LOOKUP(D108,'اطلاعات افراد غیر حقوق بگیر'!A:A,'اطلاعات افراد غیر حقوق بگیر'!D:D)),LOOKUP(D108,Master!D:D,Master!CD:CD)))","v":0},{"$f":"IF(D108=0,\" \",IF(ISNA(MATCH(D108,Personnel!A:A,0)),IF(ISNA(MATCH(D108,'اطلاعات افراد غیر حقوق بگیر'!A:A,0)),\"وجود ندارد\",LOOKUP(D108,'اطلاعات افراد غیر حقوق بگیر'!A:A,'اطلاعات افراد غیر حقوق بگیر'!E:E)),LOOKUP(D108,Master!D:D,Master!AH:AH)))","v":" "},{"$f":"SUMIFS(Pays!G:G,Pays!E:E,1,Pays!D:D,D108)","v":0},{"$f":"SUMIFS(Pays!G:G,Pays!E:E,2,Pays!D:D,D108)","v":0},{"$f":"SUMIFS(Pays!G:G,Pays!E:E,57,Pays!D:D,D108)","v":0},{"$f":"SUMIF(Pays!D:D,D108,Pays!G:G)","v":0},{"$f":"SUMIF(Pays!D:D,D108,Pays!G:G)/176","v":0},{"$f":"IF(M108=0,IF(ISNA(MATCH(D108,'اطلاعات افراد غیر حقوق بگیر'!A:A,0)),0,LOOKUP(D108,'اطلاعات افراد غیر حقوق بگیر'!A:A,'اطلاعات افراد غیر حقوق بگیر'!F:F)),IF(H108=31,Settings!$D$13,ROUND(M108,0)))","v":0},null,0,{"$f":"IF(ISNA(MATCH(D108,Master!D:D,0)),IF(ISNA(MATCH(D108,'اطلاعات افراد غیر حقوق بگیر'!A:A,0)),0,LOOKUP(D108,'اطلاعات افراد غیر حقوق بگیر'!A:A,'اطلاعات افراد غیر حقوق بگیر'!G:G)),LOOKUP(D108,Master!D:D,Master!J:J))","v":0},{"$error":"#N/A"},0,0,{"$f":"IF(O108>#REF!,\"اخطار ساعت اضافه کار از حداکثر بیشتر است\",\" \")","v":{"$error":"#REF!"}},{"$f":"IF(O108>#REF!,1,0)","v":{"$error":"#REF!"}}]
[106,{"$f":"IF(D109=0,\"\",Settings!$D$6)","v":""},{"$f":"IF(D109=0,\"\",LOOKUP(B109,'Rigion Code'!A:A,'Rigion Code'!B:B))","v":""},null,{"$f":"IF(D109=0,\" \",IF(ISNA(MATCH(D109,Personnel!A:A,0)),IF(ISNA(MATCH(D109,'اطلاعات افراد غیر حقوق بگیر'!A:A,0)),\"وجود ندارد\",LOOKUP(Edit!D109,'اطلاعات افراد غیر حقوق بگیر'!A:A,'اطلاعات افراد غیر حقوق بگیر'!B:B)),LOOKUP(D109,Personnel!A:A,Personnel!C:C)))","v":" "},{"$f":"IF(D109=0,\" \",IF(ISNA(MATCH(D109,Personnel!A:A,0)),IF(ISNA(MATCH(D109,'اطلاعات افراد غیر حقوق بگیر'!A:A,0)),\"وجود ندارد\",LOOKUP(D109,'اطلاعات افراد غیر حقوق بگیر'!A:A,'اطلاعات افراد غیر حقوق بگیر'!C:C)),LOOKUP(D109,Personnel!A:A,Personnel!B:B)))","v":" "},{"$f":"IF(D109=0,0,IF(ISNA(MATCH(D109,Personnel!A:A,0)),IF(ISNA(MATCH(D109,'اطلاعات افراد غیر حقوق بگیر'!A:A,0)),\"وجود ندارد\",LOOKUP(D109,'اطلاعات افراد غیر حقوق بگیر'!A:A,'اطلاعات افراد غیر حقوق بگیر'!D:D)),LOOKUP(D109,Master!D:D,Master!CD:CD)))","v":0},{"$f":"IF(D109=0,\" \",IF(ISNA(MATCH(D109,Personnel!A:A,0)),IF(ISNA(MATCH(D109,'اطلاعات افراد غیر حقوق بگیر'!A:A,0)),\"وجود ندارد\",LOOKUP(D109,'اطلاعات افراد غیر حقوق بگیر'!A:A,'اطلاعات افراد غیر حقوق بگیر'!E:E)),LOOKUP(D109,Master!D:D,Master!AH:AH)))","v":" "},{"$f":"SUMIFS(Pays!G:G,Pays!E:E,1,Pays!D:D,D109)","v":0},{"$f":"SUMIFS(Pays!G:G,Pays!E:E,2,Pays!D:D,D109)","v":0},{"$f":"SUMIFS(Pays!G:G,Pays!E:E,57,Pays!D:D,D109)","v":0},{"$f":"SUMIF(Pays!D:D,D109,Pays!G:G)","v":0},{"$f":"SUMIF(Pays!D:D,D109,Pays!G:G)/176","v":0},{"$f":"IF(M109=0,IF(ISNA(MATCH(D109,'اطلاعات افراد غیر حقوق بگیر'!A:A,0)),0,LOOKUP(D109,'اطلاعات افراد غیر حقوق بگیر'!A:A,'اطلاعات افراد غیر حقوق بگیر'!F:F)),IF(H109=31,Settings!$D$13,ROUND(M109,0)))","v":0},null,0,{"$f":"IF(ISNA(MATCH(D109,Master!D:D,0)),IF(ISNA(MATCH(D109,'اطلاعات افراد غیر حقوق بگیر'!A:A,0)),0,LOOKUP(D109,'اطلاعات افراد غیر حقوق بگیر'!A:A,'اطلاعات افراد غیر حقوق بگیر'!G:G)),LOOKUP(D109,Master!D:D,Master!J:J))","v":0},{"$error":"#N/A"},0,0,{"$f":"IF(O109>#REF!,\"اخطار ساعت اضافه کار از حداکثر بیشتر است\",\" \")","v":{"$error":"#REF!"}},{"$f":"IF(O109>#REF!,1,0)","v":{"$error":"#REF!"}}]
[107,{"$f":"IF(D110=0,\"\",Settings!$D$6)","v":""},{"$f":"IF(D110=0,\"\",LOOKUP(B110,'Rigion Code'!A:A,'Rigion Code'!B:B))","v":""},null,{"$f":"IF(D110=0,\" \",IF(ISNA(MATCH(D110,Personnel!A:A,0)),IF(ISNA(MATCH(D110,'اطلاعات افراد غیر حقوق بگیر'!A:A,0)),\"وجود ندارد\",LOOKUP(Edit!D110,'اطلاعات افراد غیر حقوق بگیر'!A:A,'اطلاعات افراد غیر حقوق بگیر'!B:B)),LOOKUP(D110,Personnel!A:A,Personnel!C:C)))","v":" "},{"$f":"IF(D110=0,\" \",IF(ISNA(MATCH(D110,Personnel!A:A,0)),IF(ISNA(MATCH(D110,'اطلاعات افراد غیر حقوق بگیر'!A:A,0)),\"وجود ندارد\",LOOKUP(D110,'اطلاعات افراد غیر حقوق بگیر'!A:A,'اطلاعات افراد غیر حقوق بگیر'!C:C)),LOOKUP(D110,Personnel!A:A,Personnel!B:B)))","v":" "},{"$f":"IF(D110=0,0,IF(ISNA(MATCH(D110,Personnel!A:A,0)),IF(ISNA(MATCH(D110,'اطلاعات افراد غیر حقوق بگیر'!A:A,0)),\"وجود ندارد\",LOOKUP(D110,'اطلاعات افراد غیر حقوق بگیر'!A:A,'اطلاعات افراد غیر حقوق بگیر'!D:D)),LOOKUP(D110,Master!D:D,Master!CD:CD)))","v":0},{"$f":"IF(D110=0,\" \",IF(ISNA(MATCH(D110,Personnel!A:A,0)),IF(ISNA(MATCH(D110,'اطلاعات افراد غیر حقوق بگیر'!A:A,0)),\"وجود ندارد\",LOOKUP(D110,'اطلاعات افراد غیر حقوق بگیر'!A:A,'اطلاعات افراد غیر حقوق بگیر'!E:E)),LOOKUP(D110,Master!D:D,Master!AH:AH)))","v":" "},{"$f":"SUMIFS(Pays!G:G,Pays!E:E,1,Pays!D:D,D110)","v":0},{"$f":"SUMIFS(Pays!G:G,Pays!E:E,2,Pays!D:D,D110)","v":0},{"$f":"SUMIFS(Pays!G:G,Pays!E:E,57,Pays!D:D,D110)","v":0},{"$f":"SUMIF(Pays!D:D,D110,Pays!G:G)","v":0},{"$f":"SUMIF(Pays!D:D,D110,Pays!G:G)/176","v":0},{"$f":"IF(M110=0,IF(ISNA(MATCH(D110,'اطلاعات افراد غیر حقوق بگیر'!A:A,0)),0,LOOKUP(D110,'اطلاعات افراد غیر حقوق بگیر'!A:A,'اطلاعات افراد غیر حقوق بگیر'!F:F)),IF(H110=31,Settings!$D$13,ROUND(M110,0)))","v":0},null,0,{"$f":"IF(ISNA(MATCH(D110,Master!D:D,0)),IF(ISNA(MATCH(D110,'اطلاعات افراد غیر حقوق بگیر'!A:A,0)),0,LOOKUP(D110,'اطلاعات افراد غیر حقوق بگیر'!A:A,'اطلاعات افراد غیر حقوق بگیر'!G:G)),LOOKUP(D110,Master!D:D,Master!J:J))","v":0},{"$error":"#N/A"},0,0,{"$f":"IF(O110>#REF!,\"اخطار ساعت اضافه کار از حداکثر بیشتر است\",\" \")","v":{"$error":"#REF!"}},{"$f":"IF(O110>#REF!,1,0)","v":{"$error":"#REF!"}}]
[108,{"$f":"IF(D111=0,\"\",Settings!$D$6)","v":""},{"$f":"IF(D111=0,\"\",LOOKUP(B111,'Rigion Code'!A:A,'Rigion Code'!B:B))","v":""},null,{"$f":"IF(D111=0,\" \",IF(ISNA(MATCH(D111,Personnel!A:A,0)),IF(ISNA(MATCH(D111,'اطلاعات افراد غیر حقوق بگیر'!A:A,0)),\"وجود ندارد\",LOOKUP(Edit!D111,'اطلاعات افراد غیر حقوق بگیر'!A:A,'اطلاعات افراد غیر حقوق بگیر'!B:B)),LOOKUP(D111,Personnel!A:A,Personnel!C:C)))","v":" "},{"$f":"IF(D111=0,\" \",IF(ISNA(MATCH(D111,Personnel!A:A,0)),IF(ISNA(MATCH(D111,'اطلاعات افراد غیر حقوق بگیر'!A:A,0)),\"وجود ندارد\",LOOKUP(D111,'اطلاعات افراد غیر حقوق بگیر'!A:A,'اطلاعات افراد غیر حقوق بگیر'!C:C)),LOOKUP(D111,Personnel!A:A,Personnel!B:B)))","v":" "},{"$f":"IF(D111=0,0,IF(ISNA(MATCH(D111,Personnel!A:A,0)),IF(ISNA(MATCH(D111,'اطلاعات افراد غیر حقوق بگیر'!A:A,0)),\"وجود ندارد\",LOOKUP(D111,'اطلاعات افراد غیر حقوق بگیر'!A:A,'اطلاعات افراد غیر حقوق بگیر'!D:D)),LOOKUP(D111,Master!D:D,Master!CD:CD)))","v":0},{"$f":"IF(D111=0,\" \",IF(ISNA(MATCH(D111,Personnel!A:A,0)),IF(ISNA(MATCH(D111,'اطلاعات افراد غیر حقوق بگیر'!A:A,0)),\"وجود ندارد\",LOOKUP(D111,'اطلاعات افراد غیر حقوق بگیر'!A:A,'اطلاعات افراد غیر حقوق بگیر'!E:E)),LOOKUP(D111,Master!D:D,Master!AH:AH)))","v":" "},{"$f":"SUMIFS(Pays!G:G,Pays!E:E,1,Pays!D:D,D111)","v":0},{"$f":"SUMIFS(Pays!G:G,Pays!E:E,2,Pays!D:D,D111)","v":0},{"$f":"SUMIFS(Pays!G:G,Pays!E:E,57,Pays!D:D,D111)","v":0},{"$f":"SUMIF(Pays!D:D,D111,Pays!G:G)","v":0},{"$f":"SUMIF(Pays!D:D,D111,Pays!G:G)/176","v":0},{"$f":"IF(M111=0,IF(ISNA(MATCH(D111,'اطلاعات افراد غیر حقوق بگیر'!A:A,0)),0,LOOKUP(D111,'اطلاعات افراد غیر حقوق بگیر'!A:A,'اطلاعات افراد غیر حقوق بگیر'!F:F)),IF(H111=31,Settings!$D$13,ROUND(M111,0)))","v":0},null,0,{"$f":"IF(ISNA(MATCH(D111,Master!D:D,0)),IF(ISNA(MATCH(D111,'اطلاعات افراد غیر حقوق بگیر'!A:A,0)),0,LOOKUP(D111,'اطلاعات افراد غیر حقوق بگیر'!A:A,'اطلاعات افراد غیر حقوق بگیر'!G:G)),LOOKUP(D111,Master!D:D,Master!J:J))","v":0},{"$error":"#N/A"},0,0,{"$f":"IF(O111>#REF!,\"اخطار ساعت اضافه کار از حداکثر بیشتر است\",\" \")","v":{"$error":"#REF!"}},{"$f":"IF(O111>#REF!,1,0)","v":{"$error":"#REF!"}}]
[109,{"$f":"IF(D112=0,\"\",Settings!$D$6)","v":""},{"$f":"IF(D112=0,\"\",LOOKUP(B112,'Rigion Code'!A:A,'Rigion Code'!B:B))","v":""},null,{"$f":"IF(D112=0,\" \",IF(ISNA(MATCH(D112,Personnel!A:A,0)),IF(ISNA(MATCH(D112,'اطلاعات افراد غیر حقوق بگیر'!A:A,0)),\"وجود ندارد\",LOOKUP(Edit!D112,'اطلاعات افراد غیر حقوق بگیر'!A:A,'اطلاعات افراد غیر حقوق بگیر'!B:B)),LOOKUP(D112,Personnel!A:A,Personnel!C:C)))","v":" "},{"$f":"IF(D112=0,\" \",IF(ISNA(MATCH(D112,Personnel!A:A,0)),IF(ISNA(MATCH(D112,'اطلاعات افراد غیر حقوق بگیر'!A:A,0)),\"وجود ندارد\",LOOKUP(D112,'اطلاعات افراد غیر حقوق بگیر'!A:A,'اطلاعات افراد غیر حقوق بگیر'!C:C)),LOOKUP(D112,Personnel!A:A,Personnel!B:B)))","v":" "},{"$f":"IF(D112=0,0,IF(ISNA(MATCH(D112,Personnel!A:A,0)),IF(ISNA(MATCH(D112,'اطلاعات افراد غیر حقوق بگیر'!A:A,0)),\"وجود ندارد\",LOOKUP(D112,'اطلاعات افراد غیر حقوق بگیر'!A:A,'اطلاعات افراد غیر حقوق بگیر'!D:D)),LOOKUP(D112,Master!D:D,Master!CD:CD)))","v":0},{"$f":"IF(D112=0,\" \",IF(ISNA(MATCH(D112,Personnel!A:A,0)),IF(ISNA(MATCH(D112,'اطلاعات افراد غیر حقوق بگیر'!A:A,0)),\"وجود ندارد\",LOOKUP(D112,'اطلاعات افراد غیر حقوق بگیر'!A:A,'اطلاعات افراد غیر حقوق بگیر'!E:E)),LOOKUP(D112,Master!D:D,Master!AH:AH)))","v":" "},{"$f":"SUMIFS(Pays!G:G,Pays!E:E,1,Pays!D:D,D112)","v":0},{"$f":"SUMIFS(Pays!G:G,Pays!E:E,2,Pays!D:D,D112)","v":0},{"$f":"SUMIFS(Pays!G:G,Pays!E:E,57,Pays!D:D,D112)","v":0},{"$f":"SUMIF(Pays!D:D,D112,Pays!G:G)","v":0},{"$f":"SUMIF(Pays!D:D,D112,Pays!G:G)/176","v":0},{"$f":"IF(M112=0,IF(ISNA(MATCH(D112,'اطلاعات افراد غیر حقوق بگیر'!A:A,0)),0,LOOKUP(D112,'اطلاعات افراد غیر حقوق بگیر'!A:A,'اطلاعات افراد غیر حقوق بگیر'!F:F)),IF(H112=31,Settings!$D$13,ROUND(M112,0)))","v":0},null,0,{"$f":"IF(ISNA(MATCH(D112,Master!D:D,0)),IF(ISNA(MATCH(D112,'اطلاعات افراد غیر حقوق بگیر'!A:A,0)),0,LOOKUP(D112,'اطلاعات افراد غیر حقوق بگیر'!A:A,'اطلاعات افراد غیر حقوق بگیر'!G:G)),LOOKUP(D112,Master!D:D,Master!J:J))","v":0},{"$error":"#N/A"},0,0,{"$f":"IF(O112>#REF!,\"اخطار ساعت اضافه کار از حداکثر بیشتر است\",\" \")","v":{"$error":"#REF!"}},{"$f":"IF(O112>#REF!,1,0)","v":{"$error":"#REF!"}}]
[110,{"$f":"IF(D113=0,\"\",Settings!$D$6)","v":""},{"$f":"IF(D113=0,\"\",LOOKUP(B113,'Rigion Code'!A:A,'Rigion Code'!B:B))","v":""},null,{"$f":"IF(D113=0,\" \",IF(ISNA(MATCH(D113,Personnel!A:A,0)),IF(ISNA(MATCH(D113,'اطلاعات افراد غیر حقوق بگیر'!A:A,0)),\"وجود ندارد\",LOOKUP(Edit!D113,'اطلاعات افراد غیر حقوق بگیر'!A:A,'اطلاعات افراد غیر حقوق بگیر'!B:B)),LOOKUP(D113,Personnel!A:A,Personnel!C:C)))","v":" "},{"$f":"IF(D113=0,\" \",IF(ISNA(MATCH(D113,Personnel!A:A,0)),IF(ISNA(MATCH(D113,'اطلاعات افراد غیر حقوق بگیر'!A:A,0)),\"وجود ندارد\",LOOKUP(D113,'اطلاعات افراد غیر حقوق بگیر'!A:A,'اطلاعات افراد غیر حقوق بگیر'!C:C)),LOOKUP(D113,Personnel!A:A,Personnel!B:B)))","v":" "},{"$f":"IF(D113=0,0,IF(ISNA(MATCH(D113,Personnel!A:A,0)),IF(ISNA(MATCH(D113,'اطلاعات افراد غیر حقوق بگیر'!A:A,0)),\"وجود ندارد\",LOOKUP(D113,'اطلاعات افراد غیر حقوق بگیر'!A:A,'اطلاعات افراد غیر حقوق بگیر'!D:D)),LOOKUP(D113,Master!D:D,Master!CD:CD)))","v":0},{"$f":"IF(D113=0,\" \",IF(ISNA(MATCH(D113,Personnel!A:A,0)),IF(ISNA(MATCH(D113,'اطلاعات افراد غیر حقوق بگیر'!A:A,0)),\"وجود ندارد\",LOOKUP(D113,'اطلاعات افراد غیر حقوق بگیر'!A:A,'اطلاعات افراد غیر حقوق بگیر'!E:E)),LOOKUP(D113,Master!D:D,Master!AH:AH)))","v":" "},{"$f":"SUMIFS(Pays!G:G,Pays!E:E,1,Pays!D:D,D113)","v":0},{"$f":"SUMIFS(Pays!G:G,Pays!E:E,2,Pays!D:D,D113)","v":0},{"$f":"SUMIFS(Pays!G:G,Pays!E:E,57,Pays!D:D,D113)","v":0},{"$f":"SUMIF(Pays!D:D,D113,Pays!G:G)","v":0},{"$f":"SUMIF(Pays!D:D,D113,Pays!G:G)/176","v":0},{"$f":"IF(M113=0,IF(ISNA(MATCH(D113,'اطلاعات افراد غیر حقوق بگیر'!A:A,0)),0,LOOKUP(D113,'اطلاعات افراد غیر حقوق بگیر'!A:A,'اطلاعات افراد غیر حقوق بگیر'!F:F)),IF(H113=31,Settings!$D$13,ROUND(M113,0)))","v":0},null,0,{"$f":"IF(ISNA(MATCH(D113,Master!D:D,0)),IF(ISNA(MATCH(D113,'اطلاعات افراد غیر حقوق بگیر'!A:A,0)),0,LOOKUP(D113,'اطلاعات افراد غیر حقوق بگیر'!A:A,'اطلاعات افراد غیر حقوق بگیر'!G:G)),LOOKUP(D113,Master!D:D,Master!J:J))","v":0},{"$error":"#N/A"},0,0,{"$f":"IF(O113>#REF!,\"اخطار ساعت اضافه کار از حداکثر بیشتر است\",\" \")","v":{"$error":"#REF!"}},{"$f":"IF(O113>#REF!,1,0)","v":{"$error":"#REF!"}}]
[111,{"$f":"IF(D114=0,\"\",Settings!$D$6)","v":""},{"$f":"IF(D114=0,\"\",LOOKUP(B114,'Rigion Code'!A:A,'Rigion Code'!B:B))","v":""},null,{"$f":"IF(D114=0,\" \",IF(ISNA(MATCH(D114,Personnel!A:A,0)),IF(ISNA(MATCH(D114,'اطلاعات افراد غیر حقوق بگیر'!A:A,0)),\"وجود ندارد\",LOOKUP(Edit!D114,'اطلاعات افراد غیر حقوق بگیر'!A:A,'اطلاعات افراد غیر حقوق بگیر'!B:B)),LOOKUP(D114,Personnel!A:A,Personnel!C:C)))","v":" "},{"$f":"IF(D114=0,\" \",IF(ISNA(MATCH(D114,Personnel!A:A,0)),IF(ISNA(MATCH(D114,'اطلاعات افراد غیر حقوق بگیر'!A:A,0)),\"وجود ندارد\",LOOKUP(D114,'اطلاعات افراد غیر حقوق بگیر'!A:A,'اطلاعات افراد غیر حقوق بگیر'!C:C)),LOOKUP(D114,Personnel!A:A,Personnel!B:B)))","v":" "},{"$f":"IF(D114=0,0,IF(ISNA(MATCH(D114,Personnel!A:A,0)),IF(ISNA(MATCH(D114,'اطلاعات افراد غیر حقوق بگیر'!A:A,0)),\"وجود ندارد\",LOOKUP(D114,'اطلاعات افراد غیر حقوق بگیر'!A:A,'اطلاعات افراد غیر حقوق بگیر'!D:D)),LOOKUP(D114,Master!D:D,Master!CD:CD)))","v":0},{"$f":"IF(D114=0,\" \",IF(ISNA(MATCH(D114,Personnel!A:A,0)),IF(ISNA(MATCH(D114,'اطلاعات افراد غیر حقوق بگیر'!A:A,0)),\"وجود ندارد\",LOOKUP(D114,'اطلاعات افراد غیر حقوق بگیر'!A:A,'اطلاعات افراد غیر حقوق بگیر'!E:E)),LOOKUP(D114,Master!D:D,Master!AH:AH)))","v":" "},{"$f":"SUMIFS(Pays!G:G,Pays!E:E,1,Pays!D:D,D114)","v":0},{"$f":"SUMIFS(Pays!G:G,Pays!E:E,2,Pays!D:D,D114)","v":0},{"$f":"SUMIFS(Pays!G:G,Pays!E:E,57,Pays!D:D,D114)","v":0},{"$f":"SUMIF(Pays!D:D,D114,Pays!G:G)","v":0},{"$f":"SUMIF(Pays!D:D,D114,Pays!G:G)/176","v":0},{"$f":"IF(M114=0,IF(ISNA(MATCH(D114,'اطلاعات افراد غیر حقوق بگیر'!A:A,0)),0,LOOKUP(D114,'اطلاعات افراد غیر حقوق بگیر'!A:A,'اطلاعات افراد غیر حقوق بگیر'!F:F)),IF(H114=31,Settings!$D$13,ROUND(M114,0)))","v":0},null,0,{"$f":"IF(ISNA(MATCH(D114,Master!D:D,0)),IF(ISNA(MATCH(D114,'اطلاعات افراد غیر حقوق بگیر'!A:A,0)),0,LOOKUP(D114,'اطلاعات افراد غیر حقوق بگیر'!A:A,'اطلاعات افراد غیر حقوق بگیر'!G:G)),LOOKUP(D114,Master!D:D,Master!J:J))","v":0},{"$error":"#N/A"},0,0,{"$f":"IF(O114>#REF!,\"اخطار ساعت اضافه کار از حداکثر بیشتر است\",\" \")","v":{"$error":"#REF!"}},{"$f":"IF(O114>#REF!,1,0)","v":{"$error":"#REF!"}}]
[112,{"$f":"IF(D115=0,\"\",Settings!$D$6)","v":""},{"$f":"IF(D115=0,\"\",LOOKUP(B115,'Rigion Code'!A:A,'Rigion Code'!B:B))","v":""},null,{"$f":"IF(D115=0,\" \",IF(ISNA(MATCH(D115,Personnel!A:A,0)),IF(ISNA(MATCH(D115,'اطلاعات افراد غیر حقوق بگیر'!A:A,0)),\"وجود ندارد\",LOOKUP(Edit!D115,'اطلاعات افراد غیر حقوق بگیر'!A:A,'اطلاعات افراد غیر حقوق بگیر'!B:B)),LOOKUP(D115,Personnel!A:A,Personnel!C:C)))","v":" "},{"$f":"IF(D115=0,\" \",IF(ISNA(MATCH(D115,Personnel!A:A,0)),IF(ISNA(MATCH(D115,'اطلاعات افراد غیر حقوق بگیر'!A:A,0)),\"وجود ندارد\",LOOKUP(D115,'اطلاعات افراد غیر حقوق بگیر'!A:A,'اطلاعات افراد غیر حقوق بگیر'!C:C)),LOOKUP(D115,Personnel!A:A,Personnel!B:B)))","v":" "},{"$f":"IF(D115=0,0,IF(ISNA(MATCH(D115,Personnel!A:A,0)),IF(ISNA(MATCH(D115,'اطلاعات افراد غیر حقوق بگیر'!A:A,0)),\"وجود ندارد\",LOOKUP(D115,'اطلاعات افراد غیر حقوق بگیر'!A:A,'اطلاعات افراد غیر حقوق بگیر'!D:D)),LOOKUP(D115,Master!D:D,Master!CD:CD)))","v":0},{"$f":"IF(D115=0,\" \",IF(ISNA(MATCH(D115,Personnel!A:A,0)),IF(ISNA(MATCH(D115,'اطلاعات افراد غیر حقوق بگیر'!A:A,0)),\"وجود ندارد\",LOOKUP(D115,'اطلاعات افراد غیر حقوق بگیر'!A:A,'اطلاعات افراد غیر حقوق بگیر'!E:E)),LOOKUP(D115,Master!D:D,Master!AH:AH)))","v":" "},{"$f":"SUMIFS(Pays!G:G,Pays!E:E,1,Pays!D:D,D115)","v":0},{"$f":"SUMIFS(Pays!G:G,Pays!E:E,2,Pays!D:D,D115)","v":0},{"$f":"SUMIFS(Pays!G:G,Pays!E:E,57,Pays!D:D,D115)","v":0},{"$f":"SUMIF(Pays!D:D,D115,Pays!G:G)","v":0},{"$f":"SUMIF(Pays!D:D,D115,Pays!G:G)/176","v":0},{"$f":"IF(M115=0,IF(ISNA(MATCH(D115,'اطلاعات افراد غیر حقوق بگیر'!A:A,0)),0,LOOKUP(D115,'اطلاعات افراد غیر حقوق بگیر'!A:A,'اطلاعات افراد غیر حقوق بگیر'!F:F)),IF(H115=31,Settings!$D$13,ROUND(M115,0)))","v":0},null,0,{"$f":"IF(ISNA(MATCH(D115,Master!D:D,0)),IF(ISNA(MATCH(D115,'اطلاعات افراد غیر حقوق بگیر'!A:A,0)),0,LOOKUP(D115,'اطلاعات افراد غیر حقوق بگیر'!A:A,'اطلاعات افراد غیر حقوق بگیر'!G:G)),LOOKUP(D115,Master!D:D,Master!J:J))","v":0},{"$error":"#N/A"},0,0,{"$f":"IF(O115>#REF!,\"اخطار ساعت اضافه کار از حداکثر بیشتر است\",\" \")","v":{"$error":"#REF!"}},{"$f":"IF(O115>#REF!,1,0)","v":{"$error":"#REF!"}}]
[113,{"$f":"IF(D116=0,\"\",Settings!$D$6)","v":""},{"$f":"IF(D116=0,\"\",LOOKUP(B116,'Rigion Code'!A:A,'Rigion Code'!B:B))","v":""},null,{"$f":"IF(D116=0,\" \",IF(ISNA(MATCH(D116,Personnel!A:A,0)),IF(ISNA(MATCH(D116,'اطلاعات افراد غیر حقوق بگیر'!A:A,0)),\"وجود ندارد\",LOOKUP(Edit!D116,'اطلاعات افراد غیر حقوق بگیر'!A:A,'اطلاعات افراد غیر حقوق بگیر'!B:B)),LOOKUP(D116,Personnel!A:A,Personnel!C:C)))","v":" "},{"$f":"IF(D116=0,\" \",IF(ISNA(MATCH(D116,Personnel!A:A,0)),IF(ISNA(MATCH(D116,'اطلاعات افراد غیر حقوق بگیر'!A:A,0)),\"وجود ندارد\",LOOKUP(D116,'اطلاعات افراد غیر حقوق بگیر'!A:A,'اطلاعات افراد غیر حقوق بگیر'!C:C)),LOOKUP(D116,Personnel!A:A,Personnel!B:B)))","v":" "},{"$f":"IF(D116=0,0,IF(ISNA(MATCH(D116,Personnel!A:A,0)),IF(ISNA(MATCH(D116,'اطلاعات افراد غیر حقوق بگیر'!A:A,0)),\"وجود ندارد\",LOOKUP(D116,'اطلاعات افراد غیر حقوق بگیر'!A:A,'اطلاعات افراد غیر حقوق بگیر'!D:D)),LOOKUP(D116,Master!D:D,Master!CD:CD)))","v":0},{"$f":"IF(D116=0,\" \",IF(ISNA(MATCH(D116,Personnel!A:A,0)),IF(ISNA(MATCH(D116,'اطلاعات افراد غیر حقوق بگیر'!A:A,0)),\"وجود ندارد\",LOOKUP(D116,'اطلاعات افراد غیر حقوق بگیر'!A:A,'اطلاعات افراد غیر حقوق بگیر'!E:E)),LOOKUP(D116,Master!D:D,Master!AH:AH)))","v":" "},{"$f":"SUMIFS(Pays!G:G,Pays!E:E,1,Pays!D:D,D116)","v":0},{"$f":"SUMIFS(Pays!G:G,Pays!E:E,2,Pays!D:D,D116)","v":0},{"$f":"SUMIFS(Pays!G:G,Pays!E:E,57,Pays!D:D,D116)","v":0},{"$f":"SUMIF(Pays!D:D,D116,Pays!G:G)","v":0},{"$f":"SUMIF(Pays!D:D,D116,Pays!G:G)/176","v":0},{"$f":"IF(M116=0,IF(ISNA(MATCH(D116,'اطلاعات افراد غیر حقوق بگیر'!A:A,0)),0,LOOKUP(D116,'اطلاعات افراد غیر حقوق بگیر'!A:A,'اطلاعات افراد غیر حقوق بگیر'!F:F)),IF(H116=31,Settings!$D$13,ROUND(M116,0)))","v":0},null,0,{"$f":"IF(ISNA(MATCH(D116,Master!D:D,0)),IF(ISNA(MATCH(D116,'اطلاعات افراد غیر حقوق بگیر'!A:A,0)),0,LOOKUP(D116,'اطلاعات افراد غیر حقوق بگیر'!A:A,'اطلاعات افراد غیر حقوق بگیر'!G:G)),LOOKUP(D116,Master!D:D,Master!J:J))","v":0},{"$error":"#N/A"},0,0,{"$f":"IF(O116>#REF!,\"اخطار ساعت اضافه کار از حداکثر بیشتر است\",\" \")","v":{"$error":"#REF!"}},{"$f":"IF(O116>#REF!,1,0)","v":{"$error":"#REF!"}}]
[114,{"$f":"IF(D117=0,\"\",Settings!$D$6)","v":""},{"$f":"IF(D117=0,\"\",LOOKUP(B117,'Rigion Code'!A:A,'Rigion Code'!B:B))","v":""},null,{"$f":"IF(D117=0,\" \",IF(ISNA(MATCH(D117,Personnel!A:A,0)),IF(ISNA(MATCH(D117,'اطلاعات افراد غیر حقوق بگیر'!A:A,0)),\"وجود ندارد\",LOOKUP(Edit!D117,'اطلاعات افراد غیر حقوق بگیر'!A:A,'اطلاعات افراد غیر حقوق بگیر'!B:B)),LOOKUP(D117,Personnel!A:A,Personnel!C:C)))","v":" "},{"$f":"IF(D117=0,\" \",IF(ISNA(MATCH(D117,Personnel!A:A,0)),IF(ISNA(MATCH(D117,'اطلاعات افراد غیر حقوق بگیر'!A:A,0)),\"وجود ندارد\",LOOKUP(D117,'اطلاعات افراد غیر حقوق بگیر'!A:A,'اطلاعات افراد غیر حقوق بگیر'!C:C)),LOOKUP(D117,Personnel!A:A,Personnel!B:B)))","v":" "},{"$f":"IF(D117=0,0,IF(ISNA(MATCH(D117,Personnel!A:A,0)),IF(ISNA(MATCH(D117,'اطلاعات افراد غیر حقوق بگیر'!A:A,0)),\"وجود ندارد\",LOOKUP(D117,'اطلاعات افراد غیر حقوق بگیر'!A:A,'اطلاعات افراد غیر حقوق بگیر'!D:D)),LOOKUP(D117,Master!D:D,Master!CD:CD)))","v":0},{"$f":"IF(D117=0,\" \",IF(ISNA(MATCH(D117,Personnel!A:A,0)),IF(ISNA(MATCH(D117,'اطلاعات افراد غیر حقوق بگیر'!A:A,0)),\"وجود ندارد\",LOOKUP(D117,'اطلاعات افراد غیر حقوق بگیر'!A:A,'اطلاعات افراد غیر حقوق بگیر'!E:E)),LOOKUP(D117,Master!D:D,Master!AH:AH)))","v":" "},{"$f":"SUMIFS(Pays!G:G,Pays!E:E,1,Pays!D:D,D117)","v":0},{"$f":"SUMIFS(Pays!G:G,Pays!E:E,2,Pays!D:D,D117)","v":0},{"$f":"SUMIFS(Pays!G:G,Pays!E:E,57,Pays!D:D,D117)","v":0},{"$f":"SUMIF(Pays!D:D,D117,Pays!G:G)","v":0},{"$f":"SUMIF(Pays!D:D,D117,Pays!G:G)/176","v":0},{"$f":"IF(M117=0,IF(ISNA(MATCH(D117,'اطلاعات افراد غیر حقوق بگیر'!A:A,0)),0,LOOKUP(D117,'اطلاعات افراد غیر حقوق بگیر'!A:A,'اطلاعات افراد غیر حقوق بگیر'!F:F)),IF(H117=31,Settings!$D$13,ROUND(M117,0)))","v":0},null,0,{"$f":"IF(ISNA(MATCH(D117,Master!D:D,0)),IF(ISNA(MATCH(D117,'اطلاعات افراد غیر حقوق بگیر'!A:A,0)),0,LOOKUP(D117,'اطلاعات افراد غیر حقوق بگیر'!A:A,'اطلاعات افراد غیر حقوق بگیر'!G:G)),LOOKUP(D117,Master!D:D,Master!J:J))","v":0},{"$error":"#N/A"},0,0,{"$f":"IF(O117>#REF!,\"اخطار ساعت اضافه کار از حداکثر بیشتر است\",\" \")","v":{"$error":"#REF!"}},{"$f":"IF(O117>#REF!,1,0)","v":{"$error":"#REF!"}}]
[115,{"$f":"IF(D118=0,\"\",Settings!$D$6)","v":""},{"$f":"IF(D118=0,\"\",LOOKUP(B118,'Rigion Code'!A:A,'Rigion Code'!B:B))","v":""},null,{"$f":"IF(D118=0,\" \",IF(ISNA(MATCH(D118,Personnel!A:A,0)),IF(ISNA(MATCH(D118,'اطلاعات افراد غیر حقوق بگیر'!A:A,0)),\"وجود ندارد\",LOOKUP(Edit!D118,'اطلاعات افراد غیر حقوق بگیر'!A:A,'اطلاعات افراد غیر حقوق بگیر'!B:B)),LOOKUP(D118,Personnel!A:A,Personnel!C:C)))","v":" "},{"$f":"IF(D118=0,\" \",IF(ISNA(MATCH(D118,Personnel!A:A,0)),IF(ISNA(MATCH(D118,'اطلاعات افراد غیر حقوق بگیر'!A:A,0)),\"وجود ندارد\",LOOKUP(D118,'اطلاعات افراد غیر حقوق بگیر'!A:A,'اطلاعات افراد غیر حقوق بگیر'!C:C)),LOOKUP(D118,Personnel!A:A,Personnel!B:B)))","v":" "},{"$f":"IF(D118=0,0,IF(ISNA(MATCH(D118,Personnel!A:A,0)),IF(ISNA(MATCH(D118,'اطلاعات افراد غیر حقوق بگیر'!A:A,0)),\"وجود ندارد\",LOOKUP(D118,'اطلاعات افراد غیر حقوق بگیر'!A:A,'اطلاعات افراد غیر حقوق بگیر'!D:D)),LOOKUP(D118,Master!D:D,Master!CD:CD)))","v":0},{"$f":"IF(D118=0,\" \",IF(ISNA(MATCH(D118,Personnel!A:A,0)),IF(ISNA(MATCH(D118,'اطلاعات افراد غیر حقوق بگیر'!A:A,0)),\"وجود ندارد\",LOOKUP(D118,'اطلاعات افراد غیر حقوق بگیر'!A:A,'اطلاعات افراد غیر حقوق بگیر'!E:E)),LOOKUP(D118,Master!D:D,Master!AH:AH)))","v":" "},{"$f":"SUMIFS(Pays!G:G,Pays!E:E,1,Pays!D:D,D118)","v":0},{"$f":"SUMIFS(Pays!G:G,Pays!E:E,2,Pays!D:D,D118)","v":0},{"$f":"SUMIFS(Pays!G:G,Pays!E:E,57,Pays!D:D,D118)","v":0},{"$f":"SUMIF(Pays!D:D,D118,Pays!G:G)","v":0},{"$f":"SUMIF(Pays!D:D,D118,Pays!G:G)/176","v":0},{"$f":"IF(M118=0,IF(ISNA(MATCH(D118,'اطلاعات افراد غیر حقوق بگیر'!A:A,0)),0,LOOKUP(D118,'اطلاعات افراد غیر حقوق بگیر'!A:A,'اطلاعات افراد غیر حقوق بگیر'!F:F)),IF(H118=31,Settings!$D$13,ROUND(M118,0)))","v":0},null,0,{"$f":"IF(ISNA(MATCH(D118,Master!D:D,0)),IF(ISNA(MATCH(D118,'اطلاعات افراد غیر حقوق بگیر'!A:A,0)),0,LOOKUP(D118,'اطلاعات افراد غیر حقوق بگیر'!A:A,'اطلاعات افراد غیر حقوق بگیر'!G:G)),LOOKUP(D118,Master!D:D,Master!J:J))","v":0},{"$error":"#N/A"},0,0,{"$f":"IF(O118>#REF!,\"اخطار ساعت اضافه کار از حداکثر بیشتر است\",\" \")","v":{"$error":"#REF!"}},{"$f":"IF(O118>#REF!,1,0)","v":{"$error":"#REF!"}}]
[116,{"$f":"IF(D119=0,\"\",Settings!$D$6)","v":""},{"$f":"IF(D119=0,\"\",LOOKUP(B119,'Rigion Code'!A:A,'Rigion Code'!B:B))","v":""},null,{"$f":"IF(D119=0,\" \",IF(ISNA(MATCH(D119,Personnel!A:A,0)),IF(ISNA(MATCH(D119,'اطلاعات افراد غیر حقوق بگیر'!A:A,0)),\"وجود ندارد\",LOOKUP(Edit!D119,'اطلاعات افراد غیر حقوق بگیر'!A:A,'اطلاعات افراد غیر حقوق بگیر'!B:B)),LOOKUP(D119,Personnel!A:A,Personnel!C:C)))","v":" "},{"$f":"IF(D119=0,\" \",IF(ISNA(MATCH(D119,Personnel!A:A,0)),IF(ISNA(MATCH(D119,'اطلاعات افراد غیر حقوق بگیر'!A:A,0)),\"وجود ندارد\",LOOKUP(D119,'اطلاعات افراد غیر حقوق بگیر'!A:A,'اطلاعات افراد غیر حقوق بگیر'!C:C)),LOOKUP(D119,Personnel!A:A,Personnel!B:B)))","v":" "},{"$f":"IF(D119=0,0,IF(ISNA(MATCH(D119,Personnel!A:A,0)),IF(ISNA(MATCH(D119,'اطلاعات افراد غیر حقوق بگیر'!A:A,0)),\"وجود ندارد\",LOOKUP(D119,'اطلاعات افراد غیر حقوق بگیر'!A:A,'اطلاعات افراد غیر حقوق بگیر'!D:D)),LOOKUP(D119,Master!D:D,Master!CD:CD)))","v":0},{"$f":"IF(D119=0,\" \",IF(ISNA(MATCH(D119,Personnel!A:A,0)),IF(ISNA(MATCH(D119,'اطلاعات افراد غیر حقوق بگیر'!A:A,0)),\"وجود ندارد\",LOOKUP(D119,'اطلاعات افراد غیر حقوق بگیر'!A:A,'اطلاعات افراد غیر حقوق بگیر'!E:E)),LOOKUP(D119,Master!D:D,Master!AH:AH)))","v":" "},{"$f":"SUMIFS(Pays!G:G,Pays!E:E,1,Pays!D:D,D119)","v":0},{"$f":"SUMIFS(Pays!G:G,Pays!E:E,2,Pays!D:D,D119)","v":0},{"$f":"SUMIFS(Pays!G:G,Pays!E:E,57,Pays!D:D,D119)","v":0},{"$f":"SUMIF(Pays!D:D,D119,Pays!G:G)","v":0},{"$f":"SUMIF(Pays!D:D,D119,Pays!G:G)/176","v":0},{"$f":"IF(M119=0,IF(ISNA(MATCH(D119,'اطلاعات افراد غیر حقوق بگیر'!A:A,0)),0,LOOKUP(D119,'اطلاعات افراد غیر حقوق بگیر'!A:A,'اطلاعات افراد غیر حقوق بگیر'!F:F)),IF(H119=31,Settings!$D$13,ROUND(M119,0)))","v":0},null,0,{"$f":"IF(ISNA(MATCH(D119,Master!D:D,0)),IF(ISNA(MATCH(D119,'اطلاعات افراد غیر حقوق بگیر'!A:A,0)),0,LOOKUP(D119,'اطلاعات افراد غیر حقوق بگیر'!A:A,'اطلاعات افراد غیر حقوق بگیر'!G:G)),LOOKUP(D119,Master!D:D,Master!J:J))","v":0},{"$error":"#N/A"},0,0,{"$f":"IF(O119>#REF!,\"اخطار ساعت اضافه کار از حداکثر بیشتر است\",\" \")","v":{"$error":"#REF!"}},{"$f":"IF(O119>#REF!,1,0)","v":{"$error":"#REF!"}}]
[117,{"$f":"IF(D120=0,\"\",Settings!$D$6)","v":""},{"$f":"IF(D120=0,\"\",LOOKUP(B120,'Rigion Code'!A:A,'Rigion Code'!B:B))","v":""},null,{"$f":"IF(D120=0,\" \",IF(ISNA(MATCH(D120,Personnel!A:A,0)),IF(ISNA(MATCH(D120,'اطلاعات افراد غیر حقوق بگیر'!A:A,0)),\"وجود ندارد\",LOOKUP(Edit!D120,'اطلاعات افراد غیر حقوق بگیر'!A:A,'اطلاعات افراد غیر حقوق بگیر'!B:B)),LOOKUP(D120,Personnel!A:A,Personnel!C:C)))","v":" "},{"$f":"IF(D120=0,\" \",IF(ISNA(MATCH(D120,Personnel!A:A,0)),IF(ISNA(MATCH(D120,'اطلاعات افراد غیر حقوق بگیر'!A:A,0)),\"وجود ندارد\",LOOKUP(D120,'اطلاعات افراد غیر حقوق بگیر'!A:A,'اطلاعات افراد غیر حقوق بگیر'!C:C)),LOOKUP(D120,Personnel!A:A,Personnel!B:B)))","v":" "},{"$f":"IF(D120=0,0,IF(ISNA(MATCH(D120,Personnel!A:A,0)),IF(ISNA(MATCH(D120,'اطلاعات افراد غیر حقوق بگیر'!A:A,0)),\"وجود ندارد\",LOOKUP(D120,'اطلاعات افراد غیر حقوق بگیر'!A:A,'اطلاعات افراد غیر حقوق بگیر'!D:D)),LOOKUP(D120,Master!D:D,Master!CD:CD)))","v":0},{"$f":"IF(D120=0,\" \",IF(ISNA(MATCH(D120,Personnel!A:A,0)),IF(ISNA(MATCH(D120,'اطلاعات افراد غیر حقوق بگیر'!A:A,0)),\"وجود ندارد\",LOOKUP(D120,'اطلاعات افراد غیر حقوق بگیر'!A:A,'اطلاعات افراد غیر حقوق بگیر'!E:E)),LOOKUP(D120,Master!D:D,Master!AH:AH)))","v":" "},{"$f":"SUMIFS(Pays!G:G,Pays!E:E,1,Pays!D:D,D120)","v":0},{"$f":"SUMIFS(Pays!G:G,Pays!E:E,2,Pays!D:D,D120)","v":0},{"$f":"SUMIFS(Pays!G:G,Pays!E:E,57,Pays!D:D,D120)","v":0},{"$f":"SUMIF(Pays!D:D,D120,Pays!G:G)","v":0},{"$f":"SUMIF(Pays!D:D,D120,Pays!G:G)/176","v":0},{"$f":"IF(M120=0,IF(ISNA(MATCH(D120,'اطلاعات افراد غیر حقوق بگیر'!A:A,0)),0,LOOKUP(D120,'اطلاعات افراد غیر حقوق بگیر'!A:A,'اطلاعات افراد غیر حقوق بگیر'!F:F)),IF(H120=31,Settings!$D$13,ROUND(M120,0)))","v":0},null,0,{"$f":"IF(ISNA(MATCH(D120,Master!D:D,0)),IF(ISNA(MATCH(D120,'اطلاعات افراد غیر حقوق بگیر'!A:A,0)),0,LOOKUP(D120,'اطلاعات افراد غیر حقوق بگیر'!A:A,'اطلاعات افراد غیر حقوق بگیر'!G:G)),LOOKUP(D120,Master!D:D,Master!J:J))","v":0},{"$error":"#N/A"},0,0,{"$f":"IF(O120>#REF!,\"اخطار ساعت اضافه کار از حداکثر بیشتر است\",\" \")","v":{"$error":"#REF!"}},{"$f":"IF(O120>#REF!,1,0)","v":{"$error":"#REF!"}}]
[118,{"$f":"IF(D121=0,\"\",Settings!$D$6)","v":""},{"$f":"IF(D121=0,\"\",LOOKUP(B121,'Rigion Code'!A:A,'Rigion Code'!B:B))","v":""},null,{"$f":"IF(D121=0,\" \",IF(ISNA(MATCH(D121,Personnel!A:A,0)),IF(ISNA(MATCH(D121,'اطلاعات افراد غیر حقوق بگیر'!A:A,0)),\"وجود ندارد\",LOOKUP(Edit!D121,'اطلاعات افراد غیر حقوق بگیر'!A:A,'اطلاعات افراد غیر حقوق بگیر'!B:B)),LOOKUP(D121,Personnel!A:A,Personnel!C:C)))","v":" "},{"$f":"IF(D121=0,\" \",IF(ISNA(MATCH(D121,Personnel!A:A,0)),IF(ISNA(MATCH(D121,'اطلاعات افراد غیر حقوق بگیر'!A:A,0)),\"وجود ندارد\",LOOKUP(D121,'اطلاعات افراد غیر حقوق بگیر'!A:A,'اطلاعات افراد غیر حقوق بگیر'!C:C)),LOOKUP(D121,Personnel!A:A,Personnel!B:B)))","v":" "},{"$f":"IF(D121=0,0,IF(ISNA(MATCH(D121,Personnel!A:A,0)),IF(ISNA(MATCH(D121,'اطلاعات افراد غیر حقوق بگیر'!A:A,0)),\"وجود ندارد\",LOOKUP(D121,'اطلاعات افراد غیر حقوق بگیر'!A:A,'اطلاعات افراد غیر حقوق بگیر'!D:D)),LOOKUP(D121,Master!D:D,Master!CD:CD)))","v":0},{"$f":"IF(D121=0,\" \",IF(ISNA(MATCH(D121,Personnel!A:A,0)),IF(ISNA(MATCH(D121,'اطلاعات افراد غیر حقوق بگیر'!A:A,0)),\"وجود ندارد\",LOOKUP(D121,'اطلاعات افراد غیر حقوق بگیر'!A:A,'اطلاعات افراد غیر حقوق بگیر'!E:E)),LOOKUP(D121,Master!D:D,Master!AH:AH)))","v":" "},{"$f":"SUMIFS(Pays!G:G,Pays!E:E,1,Pays!D:D,D121)","v":0},{"$f":"SUMIFS(Pays!G:G,Pays!E:E,2,Pays!D:D,D121)","v":0},{"$f":"SUMIFS(Pays!G:G,Pays!E:E,57,Pays!D:D,D121)","v":0},{"$f":"SUMIF(Pays!D:D,D121,Pays!G:G)","v":0},{"$f":"SUMIF(Pays!D:D,D121,Pays!G:G)/176","v":0},{"$f":"IF(M121=0,IF(ISNA(MATCH(D121,'اطلاعات افراد غیر حقوق بگیر'!A:A,0)),0,LOOKUP(D121,'اطلاعات افراد غیر حقوق بگیر'!A:A,'اطلاعات افراد غیر حقوق بگیر'!F:F)),IF(H121=31,Settings!$D$13,ROUND(M121,0)))","v":0},null,0,{"$f":"IF(ISNA(MATCH(D121,Master!D:D,0)),IF(ISNA(MATCH(D121,'اطلاعات افراد غیر حقوق بگیر'!A:A,0)),0,LOOKUP(D121,'اطلاعات افراد غیر حقوق بگیر'!A:A,'اطلاعات افراد غیر حقوق بگیر'!G:G)),LOOKUP(D121,Master!D:D,Master!J:J))","v":0},{"$error":"#N/A"},0,0,{"$f":"IF(O121>#REF!,\"اخطار ساعت اضافه کار از حداکثر بیشتر است\",\" \")","v":{"$error":"#REF!"}},{"$f":"IF(O121>#REF!,1,0)","v":{"$error":"#REF!"}}]
[119,{"$f":"IF(D122=0,\"\",Settings!$D$6)","v":""},{"$f":"IF(D122=0,\"\",LOOKUP(B122,'Rigion Code'!A:A,'Rigion Code'!B:B))","v":""},null,{"$f":"IF(D122=0,\" \",IF(ISNA(MATCH(D122,Personnel!A:A,0)),IF(ISNA(MATCH(D122,'اطلاعات افراد غیر حقوق بگیر'!A:A,0)),\"وجود ندارد\",LOOKUP(Edit!D122,'اطلاعات افراد غیر حقوق بگیر'!A:A,'اطلاعات افراد غیر حقوق بگیر'!B:B)),LOOKUP(D122,Personnel!A:A,Personnel!C:C)))","v":" "},{"$f":"IF(D122=0,\" \",IF(ISNA(MATCH(D122,Personnel!A:A,0)),IF(ISNA(MATCH(D122,'اطلاعات افراد غیر حقوق بگیر'!A:A,0)),\"وجود ندارد\",LOOKUP(D122,'اطلاعات افراد غیر حقوق بگیر'!A:A,'اطلاعات افراد غیر حقوق بگیر'!C:C)),LOOKUP(D122,Personnel!A:A,Personnel!B:B)))","v":" "},{"$f":"IF(D122=0,0,IF(ISNA(MATCH(D122,Personnel!A:A,0)),IF(ISNA(MATCH(D122,'اطلاعات افراد غیر حقوق بگیر'!A:A,0)),\"وجود ندارد\",LOOKUP(D122,'اطلاعات افراد غیر حقوق بگیر'!A:A,'اطلاعات افراد غیر حقوق بگیر'!D:D)),LOOKUP(D122,Master!D:D,Master!CD:CD)))","v":0},{"$f":"IF(D122=0,\" \",IF(ISNA(MATCH(D122,Personnel!A:A,0)),IF(ISNA(MATCH(D122,'اطلاعات افراد غیر حقوق بگیر'!A:A,0)),\"وجود ندارد\",LOOKUP(D122,'اطلاعات افراد غیر حقوق بگیر'!A:A,'اطلاعات افراد غیر حقوق بگیر'!E:E)),LOOKUP(D122,Master!D:D,Master!AH:AH)))","v":" "},{"$f":"SUMIFS(Pays!G:G,Pays!E:E,1,Pays!D:D,D122)","v":0},{"$f":"SUMIFS(Pays!G:G,Pays!E:E,2,Pays!D:D,D122)","v":0},{"$f":"SUMIFS(Pays!G:G,Pays!E:E,57,Pays!D:D,D122)","v":0},{"$f":"SUMIF(Pays!D:D,D122,Pays!G:G)","v":0},{"$f":"SUMIF(Pays!D:D,D122,Pays!G:G)/176","v":0},{"$f":"IF(M122=0,IF(ISNA(MATCH(D122,'اطلاعات افراد غیر حقوق بگیر'!A:A,0)),0,LOOKUP(D122,'اطلاعات افراد غیر حقوق بگیر'!A:A,'اطلاعات افراد غیر حقوق بگیر'!F:F)),IF(H122=31,Settings!$D$13,ROUND(M122,0)))","v":0},null,0,{"$f":"IF(ISNA(MATCH(D122,Master!D:D,0)),IF(ISNA(MATCH(D122,'اطلاعات افراد غیر حقوق بگیر'!A:A,0)),0,LOOKUP(D122,'اطلاعات افراد غیر حقوق بگیر'!A:A,'اطلاعات افراد غیر حقوق بگیر'!G:G)),LOOKUP(D122,Master!D:D,Master!J:J))","v":0},{"$error":"#N/A"},0,0,{"$f":"IF(O122>#REF!,\"اخطار ساعت اضافه کار از حداکثر بیشتر است\",\" \")","v":{"$error":"#REF!"}},{"$f":"IF(O122>#REF!,1,0)","v":{"$error":"#REF!"}}]
[120,{"$f":"IF(D123=0,\"\",Settings!$D$6)","v":""},{"$f":"IF(D123=0,\"\",LOOKUP(B123,'Rigion Code'!A:A,'Rigion Code'!B:B))","v":""},null,{"$f":"IF(D123=0,\" \",IF(ISNA(MATCH(D123,Personnel!A:A,0)),IF(ISNA(MATCH(D123,'اطلاعات افراد غیر حقوق بگیر'!A:A,0)),\"وجود ندارد\",LOOKUP(Edit!D123,'اطلاعات افراد غیر حقوق بگیر'!A:A,'اطلاعات افراد غیر حقوق بگیر'!B:B)),LOOKUP(D123,Personnel!A:A,Personnel!C:C)))","v":" "},{"$f":"IF(D123=0,\" \",IF(ISNA(MATCH(D123,Personnel!A:A,0)),IF(ISNA(MATCH(D123,'اطلاعات افراد غیر حقوق بگیر'!A:A,0)),\"وجود ندارد\",LOOKUP(D123,'اطلاعات افراد غیر حقوق بگیر'!A:A,'اطلاعات افراد غیر حقوق بگیر'!C:C)),LOOKUP(D123,Personnel!A:A,Personnel!B:B)))","v":" "},{"$f":"IF(D123=0,0,IF(ISNA(MATCH(D123,Personnel!A:A,0)),IF(ISNA(MATCH(D123,'اطلاعات افراد غیر حقوق بگیر'!A:A,0)),\"وجود ندارد\",LOOKUP(D123,'اطلاعات افراد غیر حقوق بگیر'!A:A,'اطلاعات افراد غیر حقوق بگیر'!D:D)),LOOKUP(D123,Master!D:D,Master!CD:CD)))","v":0},{"$f":"IF(D123=0,\" \",IF(ISNA(MATCH(D123,Personnel!A:A,0)),IF(ISNA(MATCH(D123,'اطلاعات افراد غیر حقوق بگیر'!A:A,0)),\"وجود ندارد\",LOOKUP(D123,'اطلاعات افراد غیر حقوق بگیر'!A:A,'اطلاعات افراد غیر حقوق بگیر'!E:E)),LOOKUP(D123,Master!D:D,Master!AH:AH)))","v":" "},{"$f":"SUMIFS(Pays!G:G,Pays!E:E,1,Pays!D:D,D123)","v":0},{"$f":"SUMIFS(Pays!G:G,Pays!E:E,2,Pays!D:D,D123)","v":0},{"$f":"SUMIFS(Pays!G:G,Pays!E:E,57,Pays!D:D,D123)","v":0},{"$f":"SUMIF(Pays!D:D,D123,Pays!G:G)","v":0},{"$f":"SUMIF(Pays!D:D,D123,Pays!G:G)/176","v":0},{"$f":"IF(M123=0,IF(ISNA(MATCH(D123,'اطلاعات افراد غیر حقوق بگیر'!A:A,0)),0,LOOKUP(D123,'اطلاعات افراد غیر حقوق بگیر'!A:A,'اطلاعات افراد غیر حقوق بگیر'!F:F)),IF(H123=31,Settings!$D$13,ROUND(M123,0)))","v":0},null,0,{"$f":"IF(ISNA(MATCH(D123,Master!D:D,0)),IF(ISNA(MATCH(D123,'اطلاعات افراد غیر حقوق بگیر'!A:A,0)),0,LOOKUP(D123,'اطلاعات افراد غیر حقوق بگیر'!A:A,'اطلاعات افراد غیر حقوق بگیر'!G:G)),LOOKUP(D123,Master!D:D,Master!J:J))","v":0},{"$error":"#N/A"},0,0,{"$f":"IF(O123>#REF!,\"اخطار ساعت اضافه کار از حداکثر بیشتر است\",\" \")","v":{"$error":"#REF!"}},{"$f":"IF(O123>#REF!,1,0)","v":{"$error":"#REF!"}}]
[121,{"$f":"IF(D124=0,\"\",Settings!$D$6)","v":""},{"$f":"IF(D124=0,\"\",LOOKUP(B124,'Rigion Code'!A:A,'Rigion Code'!B:B))","v":""},null,{"$f":"IF(D124=0,\" \",IF(ISNA(MATCH(D124,Personnel!A:A,0)),IF(ISNA(MATCH(D124,'اطلاعات افراد غیر حقوق بگیر'!A:A,0)),\"وجود ندارد\",LOOKUP(Edit!D124,'اطلاعات افراد غیر حقوق بگیر'!A:A,'اطلاعات افراد غیر حقوق بگیر'!B:B)),LOOKUP(D124,Personnel!A:A,Personnel!C:C)))","v":" "},{"$f":"IF(D124=0,\" \",IF(ISNA(MATCH(D124,Personnel!A:A,0)),IF(ISNA(MATCH(D124,'اطلاعات افراد غیر حقوق بگیر'!A:A,0)),\"وجود ندارد\",LOOKUP(D124,'اطلاعات افراد غیر حقوق بگیر'!A:A,'اطلاعات افراد غیر حقوق بگیر'!C:C)),LOOKUP(D124,Personnel!A:A,Personnel!B:B)))","v":" "},{"$f":"IF(D124=0,0,IF(ISNA(MATCH(D124,Personnel!A:A,0)),IF(ISNA(MATCH(D124,'اطلاعات افراد غیر حقوق بگیر'!A:A,0)),\"وجود ندارد\",LOOKUP(D124,'اطلاعات افراد غیر حقوق بگیر'!A:A,'اطلاعات افراد غیر حقوق بگیر'!D:D)),LOOKUP(D124,Master!D:D,Master!CD:CD)))","v":0},{"$f":"IF(D124=0,\" \",IF(ISNA(MATCH(D124,Personnel!A:A,0)),IF(ISNA(MATCH(D124,'اطلاعات افراد غیر حقوق بگیر'!A:A,0)),\"وجود ندارد\",LOOKUP(D124,'اطلاعات افراد غیر حقوق بگیر'!A:A,'اطلاعات افراد غیر حقوق بگیر'!E:E)),LOOKUP(D124,Master!D:D,Master!AH:AH)))","v":" "},{"$f":"SUMIFS(Pays!G:G,Pays!E:E,1,Pays!D:D,D124)","v":0},{"$f":"SUMIFS(Pays!G:G,Pays!E:E,2,Pays!D:D,D124)","v":0},{"$f":"SUMIFS(Pays!G:G,Pays!E:E,57,Pays!D:D,D124)","v":0},{"$f":"SUMIF(Pays!D:D,D124,Pays!G:G)","v":0},{"$f":"SUMIF(Pays!D:D,D124,Pays!G:G)/176","v":0},{"$f":"IF(M124=0,IF(ISNA(MATCH(D124,'اطلاعات افراد غیر حقوق بگیر'!A:A,0)),0,LOOKUP(D124,'اطلاعات افراد غیر حقوق بگیر'!A:A,'اطلاعات افراد غیر حقوق بگیر'!F:F)),IF(H124=31,Settings!$D$13,ROUND(M124,0)))","v":0},null,0,{"$f":"IF(ISNA(MATCH(D124,Master!D:D,0)),IF(ISNA(MATCH(D124,'اطلاعات افراد غیر حقوق بگیر'!A:A,0)),0,LOOKUP(D124,'اطلاعات افراد غیر حقوق بگیر'!A:A,'اطلاعات افراد غیر حقوق بگیر'!G:G)),LOOKUP(D124,Master!D:D,Master!J:J))","v":0},{"$error":"#N/A"},0,0,{"$f":"IF(O124>#REF!,\"اخطار ساعت اضافه کار از حداکثر بیشتر است\",\" \")","v":{"$error":"#REF!"}},{"$f":"IF(O124>#REF!,1,0)","v":{"$error":"#REF!"}}]
[122,{"$f":"IF(D125=0,\"\",Settings!$D$6)","v":""},{"$f":"IF(D125=0,\"\",LOOKUP(B125,'Rigion Code'!A:A,'Rigion Code'!B:B))","v":""},null,{"$f":"IF(D125=0,\" \",IF(ISNA(MATCH(D125,Personnel!A:A,0)),IF(ISNA(MATCH(D125,'اطلاعات افراد غیر حقوق بگیر'!A:A,0)),\"وجود ندارد\",LOOKUP(Edit!D125,'اطلاعات افراد غیر حقوق بگیر'!A:A,'اطلاعات افراد غیر حقوق بگیر'!B:B)),LOOKUP(D125,Personnel!A:A,Personnel!C:C)))","v":" "},{"$f":"IF(D125=0,\" \",IF(ISNA(MATCH(D125,Personnel!A:A,0)),IF(ISNA(MATCH(D125,'اطلاعات افراد غیر حقوق بگیر'!A:A,0)),\"وجود ندارد\",LOOKUP(D125,'اطلاعات افراد غیر حقوق بگیر'!A:A,'اطلاعات افراد غیر حقوق بگیر'!C:C)),LOOKUP(D125,Personnel!A:A,Personnel!B:B)))","v":" "},{"$f":"IF(D125=0,0,IF(ISNA(MATCH(D125,Personnel!A:A,0)),IF(ISNA(MATCH(D125,'اطلاعات افراد غیر حقوق بگیر'!A:A,0)),\"وجود ندارد\",LOOKUP(D125,'اطلاعات افراد غیر حقوق بگیر'!A:A,'اطلاعات افراد غیر حقوق بگیر'!D:D)),LOOKUP(D125,Master!D:D,Master!CD:CD)))","v":0},{"$f":"IF(D125=0,\" \",IF(ISNA(MATCH(D125,Personnel!A:A,0)),IF(ISNA(MATCH(D125,'اطلاعات افراد غیر حقوق بگیر'!A:A,0)),\"وجود ندارد\",LOOKUP(D125,'اطلاعات افراد غیر حقوق بگیر'!A:A,'اطلاعات افراد غیر حقوق بگیر'!E:E)),LOOKUP(D125,Master!D:D,Master!AH:AH)))","v":" "},{"$f":"SUMIFS(Pays!G:G,Pays!E:E,1,Pays!D:D,D125)","v":0},{"$f":"SUMIFS(Pays!G:G,Pays!E:E,2,Pays!D:D,D125)","v":0},{"$f":"SUMIFS(Pays!G:G,Pays!E:E,57,Pays!D:D,D125)","v":0},{"$f":"SUMIF(Pays!D:D,D125,Pays!G:G)","v":0},{"$f":"SUMIF(Pays!D:D,D125,Pays!G:G)/176","v":0},{"$f":"IF(M125=0,IF(ISNA(MATCH(D125,'اطلاعات افراد غیر حقوق بگیر'!A:A,0)),0,LOOKUP(D125,'اطلاعات افراد غیر حقوق بگیر'!A:A,'اطلاعات افراد غیر حقوق بگیر'!F:F)),IF(H125=31,Settings!$D$13,ROUND(M125,0)))","v":0},null,0,{"$f":"IF(ISNA(MATCH(D125,Master!D:D,0)),IF(ISNA(MATCH(D125,'اطلاعات افراد غیر حقوق بگیر'!A:A,0)),0,LOOKUP(D125,'اطلاعات افراد غیر حقوق بگیر'!A:A,'اطلاعات افراد غیر حقوق بگیر'!G:G)),LOOKUP(D125,Master!D:D,Master!J:J))","v":0},{"$error":"#N/A"},0,0,{"$f":"IF(O125>#REF!,\"اخطار ساعت اضافه کار از حداکثر بیشتر است\",\" \")","v":{"$error":"#REF!"}},{"$f":"IF(O125>#REF!,1,0)","v":{"$error":"#REF!"}}]
[123,{"$f":"IF(D126=0,\"\",Settings!$D$6)","v":""},{"$f":"IF(D126=0,\"\",LOOKUP(B126,'Rigion Code'!A:A,'Rigion Code'!B:B))","v":""},null,{"$f":"IF(D126=0,\" \",IF(ISNA(MATCH(D126,Personnel!A:A,0)),IF(ISNA(MATCH(D126,'اطلاعات افراد غیر حقوق بگیر'!A:A,0)),\"وجود ندارد\",LOOKUP(Edit!D126,'اطلاعات افراد غیر حقوق بگیر'!A:A,'اطلاعات افراد غیر حقوق بگیر'!B:B)),LOOKUP(D126,Personnel!A:A,Personnel!C:C)))","v":" "},{"$f":"IF(D126=0,\" \",IF(ISNA(MATCH(D126,Personnel!A:A,0)),IF(ISNA(MATCH(D126,'اطلاعات افراد غیر حقوق بگیر'!A:A,0)),\"وجود ندارد\",LOOKUP(D126,'اطلاعات افراد غیر حقوق بگیر'!A:A,'اطلاعات افراد غیر حقوق بگیر'!C:C)),LOOKUP(D126,Personnel!A:A,Personnel!B:B)))","v":" "},{"$f":"IF(D126=0,0,IF(ISNA(MATCH(D126,Personnel!A:A,0)),IF(ISNA(MATCH(D126,'اطلاعات افراد غیر حقوق بگیر'!A:A,0)),\"وجود ندارد\",LOOKUP(D126,'اطلاعات افراد غیر حقوق بگیر'!A:A,'اطلاعات افراد غیر حقوق بگیر'!D:D)),LOOKUP(D126,Master!D:D,Master!CD:CD)))","v":0},{"$f":"IF(D126=0,\" \",IF(ISNA(MATCH(D126,Personnel!A:A,0)),IF(ISNA(MATCH(D126,'اطلاعات افراد غیر حقوق بگیر'!A:A,0)),\"وجود ندارد\",LOOKUP(D126,'اطلاعات افراد غیر حقوق بگیر'!A:A,'اطلاعات افراد غیر حقوق بگیر'!E:E)),LOOKUP(D126,Master!D:D,Master!AH:AH)))","v":" "},{"$f":"SUMIFS(Pays!G:G,Pays!E:E,1,Pays!D:D,D126)","v":0},{"$f":"SUMIFS(Pays!G:G,Pays!E:E,2,Pays!D:D,D126)","v":0},{"$f":"SUMIFS(Pays!G:G,Pays!E:E,57,Pays!D:D,D126)","v":0},{"$f":"SUMIF(Pays!D:D,D126,Pays!G:G)","v":0},{"$f":"SUMIF(Pays!D:D,D126,Pays!G:G)/176","v":0},{"$f":"IF(M126=0,IF(ISNA(MATCH(D126,'اطلاعات افراد غیر حقوق بگیر'!A:A,0)),0,LOOKUP(D126,'اطلاعات افراد غیر حقوق بگیر'!A:A,'اطلاعات افراد غیر حقوق بگیر'!F:F)),IF(H126=31,Settings!$D$13,ROUND(M126,0)))","v":0},null,0,{"$f":"IF(ISNA(MATCH(D126,Master!D:D,0)),IF(ISNA(MATCH(D126,'اطلاعات افراد غیر حقوق بگیر'!A:A,0)),0,LOOKUP(D126,'اطلاعات افراد غیر حقوق بگیر'!A:A,'اطلاعات افراد غیر حقوق بگیر'!G:G)),LOOKUP(D126,Master!D:D,Master!J:J))","v":0},{"$error":"#N/A"},0,0,{"$f":"IF(O126>#REF!,\"اخطار ساعت اضافه کار از حداکثر بیشتر است\",\" \")","v":{"$error":"#REF!"}},{"$f":"IF(O126>#REF!,1,0)","v":{"$error":"#REF!"}}]
[124,{"$f":"IF(D127=0,\"\",Settings!$D$6)","v":""},{"$f":"IF(D127=0,\"\",LOOKUP(B127,'Rigion Code'!A:A,'Rigion Code'!B:B))","v":""},null,{"$f":"IF(D127=0,\" \",IF(ISNA(MATCH(D127,Personnel!A:A,0)),IF(ISNA(MATCH(D127,'اطلاعات افراد غیر حقوق بگیر'!A:A,0)),\"وجود ندارد\",LOOKUP(Edit!D127,'اطلاعات افراد غیر حقوق بگیر'!A:A,'اطلاعات افراد غیر حقوق بگیر'!B:B)),LOOKUP(D127,Personnel!A:A,Personnel!C:C)))","v":" "},{"$f":"IF(D127=0,\" \",IF(ISNA(MATCH(D127,Personnel!A:A,0)),IF(ISNA(MATCH(D127,'اطلاعات افراد غیر حقوق بگیر'!A:A,0)),\"وجود ندارد\",LOOKUP(D127,'اطلاعات افراد غیر حقوق بگیر'!A:A,'اطلاعات افراد غیر حقوق بگیر'!C:C)),LOOKUP(D127,Personnel!A:A,Personnel!B:B)))","v":" "},{"$f":"IF(D127=0,0,IF(ISNA(MATCH(D127,Personnel!A:A,0)),IF(ISNA(MATCH(D127,'اطلاعات افراد غیر حقوق بگیر'!A:A,0)),\"وجود ندارد\",LOOKUP(D127,'اطلاعات افراد غیر حقوق بگیر'!A:A,'اطلاعات افراد غیر حقوق بگیر'!D:D)),LOOKUP(D127,Master!D:D,Master!CD:CD)))","v":0},{"$f":"IF(D127=0,\" \",IF(ISNA(MATCH(D127,Personnel!A:A,0)),IF(ISNA(MATCH(D127,'اطلاعات افراد غیر حقوق بگیر'!A:A,0)),\"وجود ندارد\",LOOKUP(D127,'اطلاعات افراد غیر حقوق بگیر'!A:A,'اطلاعات افراد غیر حقوق بگیر'!E:E)),LOOKUP(D127,Master!D:D,Master!AH:AH)))","v":" "},{"$f":"SUMIFS(Pays!G:G,Pays!E:E,1,Pays!D:D,D127)","v":0},{"$f":"SUMIFS(Pays!G:G,Pays!E:E,2,Pays!D:D,D127)","v":0},{"$f":"SUMIFS(Pays!G:G,Pays!E:E,57,Pays!D:D,D127)","v":0},{"$f":"SUMIF(Pays!D:D,D127,Pays!G:G)","v":0},{"$f":"SUMIF(Pays!D:D,D127,Pays!G:G)/176","v":0},{"$f":"IF(M127=0,IF(ISNA(MATCH(D127,'اطلاعات افراد غیر حقوق بگیر'!A:A,0)),0,LOOKUP(D127,'اطلاعات افراد غیر حقوق بگیر'!A:A,'اطلاعات افراد غیر حقوق بگیر'!F:F)),IF(H127=31,Settings!$D$13,ROUND(M127,0)))","v":0},null,0,{"$f":"IF(ISNA(MATCH(D127,Master!D:D,0)),IF(ISNA(MATCH(D127,'اطلاعات افراد غیر حقوق بگیر'!A:A,0)),0,LOOKUP(D127,'اطلاعات افراد غیر حقوق بگیر'!A:A,'اطلاعات افراد غیر حقوق بگیر'!G:G)),LOOKUP(D127,Master!D:D,Master!J:J))","v":0},{"$error":"#N/A"},0,0,{"$f":"IF(O127>#REF!,\"اخطار ساعت اضافه کار از حداکثر بیشتر است\",\" \")","v":{"$error":"#REF!"}},{"$f":"IF(O127>#REF!,1,0)","v":{"$error":"#REF!"}}]
[125,{"$f":"IF(D128=0,\"\",Settings!$D$6)","v":""},{"$f":"IF(D128=0,\"\",LOOKUP(B128,'Rigion Code'!A:A,'Rigion Code'!B:B))","v":""},null,{"$f":"IF(D128=0,\" \",IF(ISNA(MATCH(D128,Personnel!A:A,0)),IF(ISNA(MATCH(D128,'اطلاعات افراد غیر حقوق بگیر'!A:A,0)),\"وجود ندارد\",LOOKUP(Edit!D128,'اطلاعات افراد غیر حقوق بگیر'!A:A,'اطلاعات افراد غیر حقوق بگیر'!B:B)),LOOKUP(D128,Personnel!A:A,Personnel!C:C)))","v":" "},{"$f":"IF(D128=0,\" \",IF(ISNA(MATCH(D128,Personnel!A:A,0)),IF(ISNA(MATCH(D128,'اطلاعات افراد غیر حقوق بگیر'!A:A,0)),\"وجود ندارد\",LOOKUP(D128,'اطلاعات افراد غیر حقوق بگیر'!A:A,'اطلاعات افراد غیر حقوق بگیر'!C:C)),LOOKUP(D128,Personnel!A:A,Personnel!B:B)))","v":" "},{"$f":"IF(D128=0,0,IF(ISNA(MATCH(D128,Personnel!A:A,0)),IF(ISNA(MATCH(D128,'اطلاعات افراد غیر حقوق بگیر'!A:A,0)),\"وجود ندارد\",LOOKUP(D128,'اطلاعات افراد غیر حقوق بگیر'!A:A,'اطلاعات افراد غیر حقوق بگیر'!D:D)),LOOKUP(D128,Master!D:D,Master!CD:CD)))","v":0},{"$f":"IF(D128=0,\" \",IF(ISNA(MATCH(D128,Personnel!A:A,0)),IF(ISNA(MATCH(D128,'اطلاعات افراد غیر حقوق بگیر'!A:A,0)),\"وجود ندارد\",LOOKUP(D128,'اطلاعات افراد غیر حقوق بگیر'!A:A,'اطلاعات افراد غیر حقوق بگیر'!E:E)),LOOKUP(D128,Master!D:D,Master!AH:AH)))","v":" "},{"$f":"SUMIFS(Pays!G:G,Pays!E:E,1,Pays!D:D,D128)","v":0},{"$f":"SUMIFS(Pays!G:G,Pays!E:E,2,Pays!D:D,D128)","v":0},{"$f":"SUMIFS(Pays!G:G,Pays!E:E,57,Pays!D:D,D128)","v":0},{"$f":"SUMIF(Pays!D:D,D128,Pays!G:G)","v":0},{"$f":"SUMIF(Pays!D:D,D128,Pays!G:G)/176","v":0},{"$f":"IF(M128=0,IF(ISNA(MATCH(D128,'اطلاعات افراد غیر حقوق بگیر'!A:A,0)),0,LOOKUP(D128,'اطلاعات افراد غیر حقوق بگیر'!A:A,'اطلاعات افراد غیر حقوق بگیر'!F:F)),IF(H128=31,Settings!$D$13,ROUND(M128,0)))","v":0},null,0,{"$f":"IF(ISNA(MATCH(D128,Master!D:D,0)),IF(ISNA(MATCH(D128,'اطلاعات افراد غیر حقوق بگیر'!A:A,0)),0,LOOKUP(D128,'اطلاعات افراد غیر حقوق بگیر'!A:A,'اطلاعات افراد غیر حقوق بگیر'!G:G)),LOOKUP(D128,Master!D:D,Master!J:J))","v":0},{"$error":"#N/A"},0,0,{"$f":"IF(O128>#REF!,\"اخطار ساعت اضافه کار از حداکثر بیشتر است\",\" \")","v":{"$error":"#REF!"}},{"$f":"IF(O128>#REF!,1,0)","v":{"$error":"#REF!"}}]
[126,{"$f":"IF(D129=0,\"\",Settings!$D$6)","v":""},{"$f":"IF(D129=0,\"\",LOOKUP(B129,'Rigion Code'!A:A,'Rigion Code'!B:B))","v":""},null,{"$f":"IF(D129=0,\" \",IF(ISNA(MATCH(D129,Personnel!A:A,0)),IF(ISNA(MATCH(D129,'اطلاعات افراد غیر حقوق بگیر'!A:A,0)),\"وجود ندارد\",LOOKUP(Edit!D129,'اطلاعات افراد غیر حقوق بگیر'!A:A,'اطلاعات افراد غیر حقوق بگیر'!B:B)),LOOKUP(D129,Personnel!A:A,Personnel!C:C)))","v":" "},{"$f":"IF(D129=0,\" \",IF(ISNA(MATCH(D129,Personnel!A:A,0)),IF(ISNA(MATCH(D129,'اطلاعات افراد غیر حقوق بگیر'!A:A,0)),\"وجود ندارد\",LOOKUP(D129,'اطلاعات افراد غیر حقوق بگیر'!A:A,'اطلاعات افراد غیر حقوق بگیر'!C:C)),LOOKUP(D129,Personnel!A:A,Personnel!B:B)))","v":" "},{"$f":"IF(D129=0,0,IF(ISNA(MATCH(D129,Personnel!A:A,0)),IF(ISNA(MATCH(D129,'اطلاعات افراد غیر حقوق بگیر'!A:A,0)),\"وجود ندارد\",LOOKUP(D129,'اطلاعات افراد غیر حقوق بگیر'!A:A,'اطلاعات افراد غیر حقوق بگیر'!D:D)),LOOKUP(D129,Master!D:D,Master!CD:CD)))","v":0},{"$f":"IF(D129=0,\" \",IF(ISNA(MATCH(D129,Personnel!A:A,0)),IF(ISNA(MATCH(D129,'اطلاعات افراد غیر حقوق بگیر'!A:A,0)),\"وجود ندارد\",LOOKUP(D129,'اطلاعات افراد غیر حقوق بگیر'!A:A,'اطلاعات افراد غیر حقوق بگیر'!E:E)),LOOKUP(D129,Master!D:D,Master!AH:AH)))","v":" "},{"$f":"SUMIFS(Pays!G:G,Pays!E:E,1,Pays!D:D,D129)","v":0},{"$f":"SUMIFS(Pays!G:G,Pays!E:E,2,Pays!D:D,D129)","v":0},{"$f":"SUMIFS(Pays!G:G,Pays!E:E,57,Pays!D:D,D129)","v":0},{"$f":"SUMIF(Pays!D:D,D129,Pays!G:G)","v":0},{"$f":"SUMIF(Pays!D:D,D129,Pays!G:G)/176","v":0},{"$f":"IF(M129=0,IF(ISNA(MATCH(D129,'اطلاعات افراد غیر حقوق بگیر'!A:A,0)),0,LOOKUP(D129,'اطلاعات افراد غیر حقوق بگیر'!A:A,'اطلاعات افراد غیر حقوق بگیر'!F:F)),IF(H129=31,Settings!$D$13,ROUND(M129,0)))","v":0},null,0,{"$f":"IF(ISNA(MATCH(D129,Master!D:D,0)),IF(ISNA(MATCH(D129,'اطلاعات افراد غیر حقوق بگیر'!A:A,0)),0,LOOKUP(D129,'اطلاعات افراد غیر حقوق بگیر'!A:A,'اطلاعات افراد غیر حقوق بگیر'!G:G)),LOOKUP(D129,Master!D:D,Master!J:J))","v":0},{"$error":"#N/A"},0,0,{"$f":"IF(O129>#REF!,\"اخطار ساعت اضافه کار از حداکثر بیشتر است\",\" \")","v":{"$error":"#REF!"}},{"$f":"IF(O129>#REF!,1,0)","v":{"$error":"#REF!"}}]
[127,{"$f":"IF(D130=0,\"\",Settings!$D$6)","v":""},{"$f":"IF(D130=0,\"\",LOOKUP(B130,'Rigion Code'!A:A,'Rigion Code'!B:B))","v":""},null,{"$f":"IF(D130=0,\" \",IF(ISNA(MATCH(D130,Personnel!A:A,0)),IF(ISNA(MATCH(D130,'اطلاعات افراد غیر حقوق بگیر'!A:A,0)),\"وجود ندارد\",LOOKUP(Edit!D130,'اطلاعات افراد غیر حقوق بگیر'!A:A,'اطلاعات افراد غیر حقوق بگیر'!B:B)),LOOKUP(D130,Personnel!A:A,Personnel!C:C)))","v":" "},{"$f":"IF(D130=0,\" \",IF(ISNA(MATCH(D130,Personnel!A:A,0)),IF(ISNA(MATCH(D130,'اطلاعات افراد غیر حقوق بگیر'!A:A,0)),\"وجود ندارد\",LOOKUP(D130,'اطلاعات افراد غیر حقوق بگیر'!A:A,'اطلاعات افراد غیر حقوق بگیر'!C:C)),LOOKUP(D130,Personnel!A:A,Personnel!B:B)))","v":" "},{"$f":"IF(D130=0,0,IF(ISNA(MATCH(D130,Personnel!A:A,0)),IF(ISNA(MATCH(D130,'اطلاعات افراد غیر حقوق بگیر'!A:A,0)),\"وجود ندارد\",LOOKUP(D130,'اطلاعات افراد غیر حقوق بگیر'!A:A,'اطلاعات افراد غیر حقوق بگیر'!D:D)),LOOKUP(D130,Master!D:D,Master!CD:CD)))","v":0},{"$f":"IF(D130=0,\" \",IF(ISNA(MATCH(D130,Personnel!A:A,0)),IF(ISNA(MATCH(D130,'اطلاعات افراد غیر حقوق بگیر'!A:A,0)),\"وجود ندارد\",LOOKUP(D130,'اطلاعات افراد غیر حقوق بگیر'!A:A,'اطلاعات افراد غیر حقوق بگیر'!E:E)),LOOKUP(D130,Master!D:D,Master!AH:AH)))","v":" "},{"$f":"SUMIFS(Pays!G:G,Pays!E:E,1,Pays!D:D,D130)","v":0},{"$f":"SUMIFS(Pays!G:G,Pays!E:E,2,Pays!D:D,D130)","v":0},{"$f":"SUMIFS(Pays!G:G,Pays!E:E,57,Pays!D:D,D130)","v":0},{"$f":"SUMIF(Pays!D:D,D130,Pays!G:G)","v":0},{"$f":"SUMIF(Pays!D:D,D130,Pays!G:G)/176","v":0},{"$f":"IF(M130=0,IF(ISNA(MATCH(D130,'اطلاعات افراد غیر حقوق بگیر'!A:A,0)),0,LOOKUP(D130,'اطلاعات افراد غیر حقوق بگیر'!A:A,'اطلاعات افراد غیر حقوق بگیر'!F:F)),IF(H130=31,Settings!$D$13,ROUND(M130,0)))","v":0},null,0,{"$f":"IF(ISNA(MATCH(D130,Master!D:D,0)),IF(ISNA(MATCH(D130,'اطلاعات افراد غیر حقوق بگیر'!A:A,0)),0,LOOKUP(D130,'اطلاعات افراد غیر حقوق بگیر'!A:A,'اطلاعات افراد غیر حقوق بگیر'!G:G)),LOOKUP(D130,Master!D:D,Master!J:J))","v":0},{"$error":"#N/A"},0,0,{"$f":"IF(O130>#REF!,\"اخطار ساعت اضافه کار از حداکثر بیشتر است\",\" \")","v":{"$error":"#REF!"}},{"$f":"IF(O130>#REF!,1,0)","v":{"$error":"#REF!"}}]
[128,{"$f":"IF(D131=0,\"\",Settings!$D$6)","v":""},{"$f":"IF(D131=0,\"\",LOOKUP(B131,'Rigion Code'!A:A,'Rigion Code'!B:B))","v":""},null,{"$f":"IF(D131=0,\" \",IF(ISNA(MATCH(D131,Personnel!A:A,0)),IF(ISNA(MATCH(D131,'اطلاعات افراد غیر حقوق بگیر'!A:A,0)),\"وجود ندارد\",LOOKUP(Edit!D131,'اطلاعات افراد غیر حقوق بگیر'!A:A,'اطلاعات افراد غیر حقوق بگیر'!B:B)),LOOKUP(D131,Personnel!A:A,Personnel!C:C)))","v":" "},{"$f":"IF(D131=0,\" \",IF(ISNA(MATCH(D131,Personnel!A:A,0)),IF(ISNA(MATCH(D131,'اطلاعات افراد غیر حقوق بگیر'!A:A,0)),\"وجود ندارد\",LOOKUP(D131,'اطلاعات افراد غیر حقوق بگیر'!A:A,'اطلاعات افراد غیر حقوق بگیر'!C:C)),LOOKUP(D131,Personnel!A:A,Personnel!B:B)))","v":" "},{"$f":"IF(D131=0,0,IF(ISNA(MATCH(D131,Personnel!A:A,0)),IF(ISNA(MATCH(D131,'اطلاعات افراد غیر حقوق بگیر'!A:A,0)),\"وجود ندارد\",LOOKUP(D131,'اطلاعات افراد غیر حقوق بگیر'!A:A,'اطلاعات افراد غیر حقوق بگیر'!D:D)),LOOKUP(D131,Master!D:D,Master!CD:CD)))","v":0},{"$f":"IF(D131=0,\" \",IF(ISNA(MATCH(D131,Personnel!A:A,0)),IF(ISNA(MATCH(D131,'اطلاعات افراد غیر حقوق بگیر'!A:A,0)),\"وجود ندارد\",LOOKUP(D131,'اطلاعات افراد غیر حقوق بگیر'!A:A,'اطلاعات افراد غیر حقوق بگیر'!E:E)),LOOKUP(D131,Master!D:D,Master!AH:AH)))","v":" "},{"$f":"SUMIFS(Pays!G:G,Pays!E:E,1,Pays!D:D,D131)","v":0},{"$f":"SUMIFS(Pays!G:G,Pays!E:E,2,Pays!D:D,D131)","v":0},{"$f":"SUMIFS(Pays!G:G,Pays!E:E,57,Pays!D:D,D131)","v":0},{"$f":"SUMIF(Pays!D:D,D131,Pays!G:G)","v":0},{"$f":"SUMIF(Pays!D:D,D131,Pays!G:G)/176","v":0},{"$f":"IF(M131=0,IF(ISNA(MATCH(D131,'اطلاعات افراد غیر حقوق بگیر'!A:A,0)),0,LOOKUP(D131,'اطلاعات افراد غیر حقوق بگیر'!A:A,'اطلاعات افراد غیر حقوق بگیر'!F:F)),IF(H131=31,Settings!$D$13,ROUND(M131,0)))","v":0},null,0,{"$f":"IF(ISNA(MATCH(D131,Master!D:D,0)),IF(ISNA(MATCH(D131,'اطلاعات افراد غیر حقوق بگیر'!A:A,0)),0,LOOKUP(D131,'اطلاعات افراد غیر حقوق بگیر'!A:A,'اطلاعات افراد غیر حقوق بگیر'!G:G)),LOOKUP(D131,Master!D:D,Master!J:J))","v":0},{"$error":"#N/A"},0,0,{"$f":"IF(O131>#REF!,\"اخطار ساعت اضافه کار از حداکثر بیشتر است\",\" \")","v":{"$error":"#REF!"}},{"$f":"IF(O131>#REF!,1,0)","v":{"$error":"#REF!"}}]
[129,{"$f":"IF(D132=0,\"\",Settings!$D$6)","v":""},{"$f":"IF(D132=0,\"\",LOOKUP(B132,'Rigion Code'!A:A,'Rigion Code'!B:B))","v":""},null,{"$f":"IF(D132=0,\" \",IF(ISNA(MATCH(D132,Personnel!A:A,0)),IF(ISNA(MATCH(D132,'اطلاعات افراد غیر حقوق بگیر'!A:A,0)),\"وجود ندارد\",LOOKUP(Edit!D132,'اطلاعات افراد غیر حقوق بگیر'!A:A,'اطلاعات افراد غیر حقوق بگیر'!B:B)),LOOKUP(D132,Personnel!A:A,Personnel!C:C)))","v":" "},{"$f":"IF(D132=0,\" \",IF(ISNA(MATCH(D132,Personnel!A:A,0)),IF(ISNA(MATCH(D132,'اطلاعات افراد غیر حقوق بگیر'!A:A,0)),\"وجود ندارد\",LOOKUP(D132,'اطلاعات افراد غیر حقوق بگیر'!A:A,'اطلاعات افراد غیر حقوق بگیر'!C:C)),LOOKUP(D132,Personnel!A:A,Personnel!B:B)))","v":" "},{"$f":"IF(D132=0,0,IF(ISNA(MATCH(D132,Personnel!A:A,0)),IF(ISNA(MATCH(D132,'اطلاعات افراد غیر حقوق بگیر'!A:A,0)),\"وجود ندارد\",LOOKUP(D132,'اطلاعات افراد غیر حقوق بگیر'!A:A,'اطلاعات افراد غیر حقوق بگیر'!D:D)),LOOKUP(D132,Master!D:D,Master!CD:CD)))","v":0},{"$f":"IF(D132=0,\" \",IF(ISNA(MATCH(D132,Personnel!A:A,0)),IF(ISNA(MATCH(D132,'اطلاعات افراد غیر حقوق بگیر'!A:A,0)),\"وجود ندارد\",LOOKUP(D132,'اطلاعات افراد غیر حقوق بگیر'!A:A,'اطلاعات افراد غیر حقوق بگیر'!E:E)),LOOKUP(D132,Master!D:D,Master!AH:AH)))","v":" "},{"$f":"SUMIFS(Pays!G:G,Pays!E:E,1,Pays!D:D,D132)","v":0},{"$f":"SUMIFS(Pays!G:G,Pays!E:E,2,Pays!D:D,D132)","v":0},{"$f":"SUMIFS(Pays!G:G,Pays!E:E,57,Pays!D:D,D132)","v":0},{"$f":"SUMIF(Pays!D:D,D132,Pays!G:G)","v":0},{"$f":"SUMIF(Pays!D:D,D132,Pays!G:G)/176","v":0},{"$f":"IF(M132=0,IF(ISNA(MATCH(D132,'اطلاعات افراد غیر حقوق بگیر'!A:A,0)),0,LOOKUP(D132,'اطلاعات افراد غیر حقوق بگیر'!A:A,'اطلاعات افراد غیر حقوق بگیر'!F:F)),IF(H132=31,Settings!$D$13,ROUND(M132,0)))","v":0},null,{"$f":"N132*O132","v":0},{"$f":"IF(ISNA(MATCH(D132,Master!D:D,0)),IF(ISNA(MATCH(D132,'اطلاعات افراد غیر حقوق بگیر'!A:A,0)),0,LOOKUP(D132,'اطلاعات افراد غیر حقوق بگیر'!A:A,'اطلاعات افراد غیر حقوق بگیر'!G:G)),LOOKUP(D132,Master!D:D,Master!J:J))","v":0},{"$error":"#N/A"},0,0,{"$f":"IF(O132>#REF!,\"اخطار ساعت اضافه کار از حداکثر بیشتر است\",\" \")","v":{"$error":"#REF!"}},{"$f":"IF(O132>#REF!,1,0)","v":{"$error":"#REF!"}}]
[130,{"$f":"IF(D133=0,\"\",Settings!$D$6)","v":""},{"$f":"IF(D133=0,\"\",LOOKUP(B133,'Rigion Code'!A:A,'Rigion Code'!B:B))","v":""},null,{"$f":"IF(D133=0,\" \",IF(ISNA(MATCH(D133,Personnel!A:A,0)),IF(ISNA(MATCH(D133,'اطلاعات افراد غیر حقوق بگیر'!A:A,0)),\"وجود ندارد\",LOOKUP(Edit!D133,'اطلاعات افراد غیر حقوق بگیر'!A:A,'اطلاعات افراد غیر حقوق بگیر'!B:B)),LOOKUP(D133,Personnel!A:A,Personnel!C:C)))","v":" "},{"$f":"IF(D133=0,\" \",IF(ISNA(MATCH(D133,Personnel!A:A,0)),IF(ISNA(MATCH(D133,'اطلاعات افراد غیر حقوق بگیر'!A:A,0)),\"وجود ندارد\",LOOKUP(D133,'اطلاعات افراد غیر حقوق بگیر'!A:A,'اطلاعات افراد غیر حقوق بگیر'!C:C)),LOOKUP(D133,Personnel!A:A,Personnel!B:B)))","v":" "},{"$f":"IF(D133=0,0,IF(ISNA(MATCH(D133,Personnel!A:A,0)),IF(ISNA(MATCH(D133,'اطلاعات افراد غیر حقوق بگیر'!A:A,0)),\"وجود ندارد\",LOOKUP(D133,'اطلاعات افراد غیر حقوق بگیر'!A:A,'اطلاعات افراد غیر حقوق بگیر'!D:D)),LOOKUP(D133,Master!D:D,Master!CD:CD)))","v":0},{"$f":"IF(D133=0,\" \",IF(ISNA(MATCH(D133,Personnel!A:A,0)),IF(ISNA(MATCH(D133,'اطلاعات افراد غیر حقوق بگیر'!A:A,0)),\"وجود ندارد\",LOOKUP(D133,'اطلاعات افراد غیر حقوق بگیر'!A:A,'اطلاعات افراد غیر حقوق بگیر'!E:E)),LOOKUP(D133,Master!D:D,Master!AH:AH)))","v":" "},{"$f":"SUMIFS(Pays!G:G,Pays!E:E,1,Pays!D:D,D133)","v":0},{"$f":"SUMIFS(Pays!G:G,Pays!E:E,2,Pays!D:D,D133)","v":0},{"$f":"SUMIFS(Pays!G:G,Pays!E:E,57,Pays!D:D,D133)","v":0},{"$f":"SUMIF(Pays!D:D,D133,Pays!G:G)","v":0},{"$f":"SUMIF(Pays!D:D,D133,Pays!G:G)/176","v":0},{"$f":"IF(M133=0,IF(ISNA(MATCH(D133,'اطلاعات افراد غیر حقوق بگیر'!A:A,0)),0,LOOKUP(D133,'اطلاعات افراد غیر حقوق بگیر'!A:A,'اطلاعات افراد غیر حقوق بگیر'!F:F)),IF(H133=31,Settings!$D$13,ROUND(M133,0)))","v":0},null,0,{"$f":"IF(ISNA(MATCH(D133,Master!D:D,0)),IF(ISNA(MATCH(D133,'اطلاعات افراد غیر حقوق بگیر'!A:A,0)),0,LOOKUP(D133,'اطلاعات افراد غیر حقوق بگیر'!A:A,'اطلاعات افراد غیر حقوق بگیر'!G:G)),LOOKUP(D133,Master!D:D,Master!J:J))","v":0},{"$f":"LOOKUP(Q133,$W$4:$W$12,$X$4:$X$12)","v":{"$error":"#N/A"}},{"$f":"IF(P133=0,0,ROUND(P133*R133/100,0))","v":0},{"$f":"P133-S133","v":0},{"$f":"IF(O133>#REF!,\"اخطار ساعت اضافه کار از حداکثر بیشتر است\",\" \")","v":{"$error":"#REF!"}},{"$f":"IF(O133>#REF!,1,0)","v":{"$error":"#REF!"}}]
[{"$f":"A133+1","v":131},{"$f":"IF(D134=0,\"\",Settings!$D$6)","v":""},{"$f":"IF(D134=0,\"\",LOOKUP(B134,'Rigion Code'!A:A,'Rigion Code'!B:B))","v":""},null,{"$f":"IF(D134=0,\" \",IF(ISNA(MATCH(D134,Personnel!A:A,0)),IF(ISNA(MATCH(D134,'اطلاعات افراد غیر حقوق بگیر'!A:A,0)),\"وجود ندارد\",LOOKUP(Edit!D134,'اطلاعات افراد غیر حقوق بگیر'!A:A,'اطلاعات افراد غیر حقوق بگیر'!B:B)),LOOKUP(D134,Personnel!A:A,Personnel!C:C)))","v":" "},{"$f":"IF(D134=0,\" \",IF(ISNA(MATCH(D134,Personnel!A:A,0)),IF(ISNA(MATCH(D134,'اطلاعات افراد غیر حقوق بگیر'!A:A,0)),\"وجود ندارد\",LOOKUP(D134,'اطلاعات افراد غیر حقوق بگیر'!A:A,'اطلاعات افراد غیر حقوق بگیر'!C:C)),LOOKUP(D134,Personnel!A:A,Personnel!B:B)))","v":" "},{"$f":"IF(D134=0,0,IF(ISNA(MATCH(D134,Personnel!A:A,0)),IF(ISNA(MATCH(D134,'اطلاعات افراد غیر حقوق بگیر'!A:A,0)),\"وجود ندارد\",LOOKUP(D134,'اطلاعات افراد غیر حقوق بگیر'!A:A,'اطلاعات افراد غیر حقوق بگیر'!D:D)),LOOKUP(D134,Master!D:D,Master!CD:CD)))","v":0},{"$f":"IF(D134=0,\" \",IF(ISNA(MATCH(D134,Personnel!A:A,0)),IF(ISNA(MATCH(D134,'اطلاعات افراد غیر حقوق بگیر'!A:A,0)),\"وجود ندارد\",LOOKUP(D134,'اطلاعات افراد غیر حقوق بگیر'!A:A,'اطلاعات افراد غیر حقوق بگیر'!E:E)),LOOKUP(D134,Master!D:D,Master!AH:AH)))","v":" "},{"$f":"SUMIFS(Pays!G:G,Pays!E:E,1,Pays!D:D,D134)","v":0},{"$f":"SUMIFS(Pays!G:G,Pays!E:E,2,Pays!D:D,D134)","v":0},{"$f":"SUMIFS(Pays!G:G,Pays!E:E,57,Pays!D:D,D134)","v":0},{"$f":"SUMIF(Pays!D:D,D134,Pays!G:G)","v":0},{"$f":"SUMIF(Pays!D:D,D134,Pays!G:G)/176","v":0},{"$f":"IF(M134=0,IF(ISNA(MATCH(D134,'اطلاعات افراد غیر حقوق بگیر'!A:A,0)),0,LOOKUP(D134,'اطلاعات افراد غیر حقوق بگیر'!A:A,'اطلاعات افراد غیر حقوق بگیر'!F:F)),IF(H134=31,Settings!$D$13,ROUND(M134,0)))","v":0},null,0,{"$f":"IF(ISNA(MATCH(D134,Master!D:D,0)),IF(ISNA(MATCH(D134,'اطلاعات افراد غیر حقوق بگیر'!A:A,0)),0,LOOKUP(D134,'اطلاعات افراد غیر حقوق بگیر'!A:A,'اطلاعات افراد غیر حقوق بگیر'!G:G)),LOOKUP(D134,Master!D:D,Master!J:J))","v":0},{"$error":"#N/A"},0,0,{"$f":"IF(O134>#REF!,\"اخطار ساعت اضافه کار از حداکثر بیشتر است\",\" \")","v":{"$error":"#REF!"}},{"$f":"IF(O134>#REF!,1,0)","v":{"$error":"#REF!"}}]
[132,{"$f":"IF(D135=0,\"\",Settings!$D$6)","v":""},{"$f":"IF(D135=0,\"\",LOOKUP(B135,'Rigion Code'!A:A,'Rigion Code'!B:B))","v":""},null,{"$f":"IF(D135=0,\" \",IF(ISNA(MATCH(D135,Personnel!A:A,0)),IF(ISNA(MATCH(D135,'اطلاعات افراد غیر حقوق بگیر'!A:A,0)),\"وجود ندارد\",LOOKUP(Edit!D135,'اطلاعات افراد غیر حقوق بگیر'!A:A,'اطلاعات افراد غیر حقوق بگیر'!B:B)),LOOKUP(D135,Personnel!A:A,Personnel!C:C)))","v":" "},{"$f":"IF(D135=0,\" \",IF(ISNA(MATCH(D135,Personnel!A:A,0)),IF(ISNA(MATCH(D135,'اطلاعات افراد غیر حقوق بگیر'!A:A,0)),\"وجود ندارد\",LOOKUP(D135,'اطلاعات افراد غیر حقوق بگیر'!A:A,'اطلاعات افراد غیر حقوق بگیر'!C:C)),LOOKUP(D135,Personnel!A:A,Personnel!B:B)))","v":" "},{"$f":"IF(D135=0,0,IF(ISNA(MATCH(D135,Personnel!A:A,0)),IF(ISNA(MATCH(D135,'اطلاعات افراد غیر حقوق بگیر'!A:A,0)),\"وجود ندارد\",LOOKUP(D135,'اطلاعات افراد غیر حقوق بگیر'!A:A,'اطلاعات افراد غیر حقوق بگیر'!D:D)),LOOKUP(D135,Master!D:D,Master!CD:CD)))","v":0},{"$f":"IF(D135=0,\" \",IF(ISNA(MATCH(D135,Personnel!A:A,0)),IF(ISNA(MATCH(D135,'اطلاعات افراد غیر حقوق بگیر'!A:A,0)),\"وجود ندارد\",LOOKUP(D135,'اطلاعات افراد غیر حقوق بگیر'!A:A,'اطلاعات افراد غیر حقوق بگیر'!E:E)),LOOKUP(D135,Master!D:D,Master!AH:AH)))","v":" "},{"$f":"SUMIFS(Pays!G:G,Pays!E:E,1,Pays!D:D,D135)","v":0},{"$f":"SUMIFS(Pays!G:G,Pays!E:E,2,Pays!D:D,D135)","v":0},{"$f":"SUMIFS(Pays!G:G,Pays!E:E,57,Pays!D:D,D135)","v":0},{"$f":"SUMIF(Pays!D:D,D135,Pays!G:G)","v":0},{"$f":"SUMIF(Pays!D:D,D135,Pays!G:G)/176","v":0},{"$f":"IF(M135=0,IF(ISNA(MATCH(D135,'اطلاعات افراد غیر حقوق بگیر'!A:A,0)),0,LOOKUP(D135,'اطلاعات افراد غیر حقوق بگیر'!A:A,'اطلاعات افراد غیر حقوق بگیر'!F:F)),IF(H135=31,Settings!$D$13,ROUND(M135,0)))","v":0},null,0,{"$f":"IF(ISNA(MATCH(D135,Master!D:D,0)),IF(ISNA(MATCH(D135,'اطلاعات افراد غیر حقوق بگیر'!A:A,0)),0,LOOKUP(D135,'اطلاعات افراد غیر حقوق بگیر'!A:A,'اطلاعات افراد غیر حقوق بگیر'!G:G)),LOOKUP(D135,Master!D:D,Master!J:J))","v":0},{"$error":"#N/A"},0,0,{"$f":"IF(O135>#REF!,\"اخطار ساعت اضافه کار از حداکثر بیشتر است\",\" \")","v":{"$error":"#REF!"}},{"$f":"IF(O135>#REF!,1,0)","v":{"$error":"#REF!"}}]
[133,{"$f":"IF(D136=0,\"\",Settings!$D$6)","v":""},{"$f":"IF(D136=0,\"\",LOOKUP(B136,'Rigion Code'!A:A,'Rigion Code'!B:B))","v":""},null,{"$f":"IF(D136=0,\" \",IF(ISNA(MATCH(D136,Personnel!A:A,0)),IF(ISNA(MATCH(D136,'اطلاعات افراد غیر حقوق بگیر'!A:A,0)),\"وجود ندارد\",LOOKUP(Edit!D136,'اطلاعات افراد غیر حقوق بگیر'!A:A,'اطلاعات افراد غیر حقوق بگیر'!B:B)),LOOKUP(D136,Personnel!A:A,Personnel!C:C)))","v":" "},{"$f":"IF(D136=0,\" \",IF(ISNA(MATCH(D136,Personnel!A:A,0)),IF(ISNA(MATCH(D136,'اطلاعات افراد غیر حقوق بگیر'!A:A,0)),\"وجود ندارد\",LOOKUP(D136,'اطلاعات افراد غیر حقوق بگیر'!A:A,'اطلاعات افراد غیر حقوق بگیر'!C:C)),LOOKUP(D136,Personnel!A:A,Personnel!B:B)))","v":" "},{"$f":"IF(D136=0,0,IF(ISNA(MATCH(D136,Personnel!A:A,0)),IF(ISNA(MATCH(D136,'اطلاعات افراد غیر حقوق بگیر'!A:A,0)),\"وجود ندارد\",LOOKUP(D136,'اطلاعات افراد غیر حقوق بگیر'!A:A,'اطلاعات افراد غیر حقوق بگیر'!D:D)),LOOKUP(D136,Master!D:D,Master!CD:CD)))","v":0},{"$f":"IF(D136=0,\" \",IF(ISNA(MATCH(D136,Personnel!A:A,0)),IF(ISNA(MATCH(D136,'اطلاعات افراد غیر حقوق بگیر'!A:A,0)),\"وجود ندارد\",LOOKUP(D136,'اطلاعات افراد غیر حقوق بگیر'!A:A,'اطلاعات افراد غیر حقوق بگیر'!E:E)),LOOKUP(D136,Master!D:D,Master!AH:AH)))","v":" "},{"$f":"SUMIFS(Pays!G:G,Pays!E:E,1,Pays!D:D,D136)","v":0},{"$f":"SUMIFS(Pays!G:G,Pays!E:E,2,Pays!D:D,D136)","v":0},{"$f":"SUMIFS(Pays!G:G,Pays!E:E,57,Pays!D:D,D136)","v":0},{"$f":"SUMIF(Pays!D:D,D136,Pays!G:G)","v":0},{"$f":"SUMIF(Pays!D:D,D136,Pays!G:G)/176","v":0},{"$f":"IF(M136=0,IF(ISNA(MATCH(D136,'اطلاعات افراد غیر حقوق بگیر'!A:A,0)),0,LOOKUP(D136,'اطلاعات افراد غیر حقوق بگیر'!A:A,'اطلاعات افراد غیر حقوق بگیر'!F:F)),IF(H136=31,Settings!$D$13,ROUND(M136,0)))","v":0},null,0,{"$f":"IF(ISNA(MATCH(D136,Master!D:D,0)),IF(ISNA(MATCH(D136,'اطلاعات افراد غیر حقوق بگیر'!A:A,0)),0,LOOKUP(D136,'اطلاعات افراد غیر حقوق بگیر'!A:A,'اطلاعات افراد غیر حقوق بگیر'!G:G)),LOOKUP(D136,Master!D:D,Master!J:J))","v":0},{"$error":"#N/A"},0,0,{"$f":"IF(O136>#REF!,\"اخطار ساعت اضافه کار از حداکثر بیشتر است\",\" \")","v":{"$error":"#REF!"}},{"$f":"IF(O136>#REF!,1,0)","v":{"$error":"#REF!"}}]
[134,{"$f":"IF(D137=0,\"\",Settings!$D$6)","v":""},{"$f":"IF(D137=0,\"\",LOOKUP(B137,'Rigion Code'!A:A,'Rigion Code'!B:B))","v":""},null,{"$f":"IF(D137=0,\" \",IF(ISNA(MATCH(D137,Personnel!A:A,0)),IF(ISNA(MATCH(D137,'اطلاعات افراد غیر حقوق بگیر'!A:A,0)),\"وجود ندارد\",LOOKUP(Edit!D137,'اطلاعات افراد غیر حقوق بگیر'!A:A,'اطلاعات افراد غیر حقوق بگیر'!B:B)),LOOKUP(D137,Personnel!A:A,Personnel!C:C)))","v":" "},{"$f":"IF(D137=0,\" \",IF(ISNA(MATCH(D137,Personnel!A:A,0)),IF(ISNA(MATCH(D137,'اطلاعات افراد غیر حقوق بگیر'!A:A,0)),\"وجود ندارد\",LOOKUP(D137,'اطلاعات افراد غیر حقوق بگیر'!A:A,'اطلاعات افراد غیر حقوق بگیر'!C:C)),LOOKUP(D137,Personnel!A:A,Personnel!B:B)))","v":" "},{"$f":"IF(D137=0,0,IF(ISNA(MATCH(D137,Personnel!A:A,0)),IF(ISNA(MATCH(D137,'اطلاعات افراد غیر حقوق بگیر'!A:A,0)),\"وجود ندارد\",LOOKUP(D137,'اطلاعات افراد غیر حقوق بگیر'!A:A,'اطلاعات افراد غیر حقوق بگیر'!D:D)),LOOKUP(D137,Master!D:D,Master!CD:CD)))","v":0},{"$f":"IF(D137=0,\" \",IF(ISNA(MATCH(D137,Personnel!A:A,0)),IF(ISNA(MATCH(D137,'اطلاعات افراد غیر حقوق بگیر'!A:A,0)),\"وجود ندارد\",LOOKUP(D137,'اطلاعات افراد غیر حقوق بگیر'!A:A,'اطلاعات افراد غیر حقوق بگیر'!E:E)),LOOKUP(D137,Master!D:D,Master!AH:AH)))","v":" "},{"$f":"SUMIFS(Pays!G:G,Pays!E:E,1,Pays!D:D,D137)","v":0},{"$f":"SUMIFS(Pays!G:G,Pays!E:E,2,Pays!D:D,D137)","v":0},{"$f":"SUMIFS(Pays!G:G,Pays!E:E,57,Pays!D:D,D137)","v":0},{"$f":"SUMIF(Pays!D:D,D137,Pays!G:G)","v":0},{"$f":"SUMIF(Pays!D:D,D137,Pays!G:G)/176","v":0},{"$f":"IF(M137=0,IF(ISNA(MATCH(D137,'اطلاعات افراد غیر حقوق بگیر'!A:A,0)),0,LOOKUP(D137,'اطلاعات افراد غیر حقوق بگیر'!A:A,'اطلاعات افراد غیر حقوق بگیر'!F:F)),IF(H137=31,Settings!$D$13,ROUND(M137,0)))","v":0},null,0,{"$f":"IF(ISNA(MATCH(D137,Master!D:D,0)),IF(ISNA(MATCH(D137,'اطلاعات افراد غیر حقوق بگیر'!A:A,0)),0,LOOKUP(D137,'اطلاعات افراد غیر حقوق بگیر'!A:A,'اطلاعات افراد غیر حقوق بگیر'!G:G)),LOOKUP(D137,Master!D:D,Master!J:J))","v":0},{"$error":"#N/A"},0,0,{"$f":"IF(O137>#REF!,\"اخطار ساعت اضافه کار از حداکثر بیشتر است\",\" \")","v":{"$error":"#REF!"}},{"$f":"IF(O137>#REF!,1,0)","v":{"$error":"#REF!"}}]
[135,{"$f":"IF(D138=0,\"\",Settings!$D$6)","v":""},{"$f":"IF(D138=0,\"\",LOOKUP(B138,'Rigion Code'!A:A,'Rigion Code'!B:B))","v":""},null,{"$f":"IF(D138=0,\" \",IF(ISNA(MATCH(D138,Personnel!A:A,0)),IF(ISNA(MATCH(D138,'اطلاعات افراد غیر حقوق بگیر'!A:A,0)),\"وجود ندارد\",LOOKUP(Edit!D138,'اطلاعات افراد غیر حقوق بگیر'!A:A,'اطلاعات افراد غیر حقوق بگیر'!B:B)),LOOKUP(D138,Personnel!A:A,Personnel!C:C)))","v":" "},{"$f":"IF(D138=0,\" \",IF(ISNA(MATCH(D138,Personnel!A:A,0)),IF(ISNA(MATCH(D138,'اطلاعات افراد غیر حقوق بگیر'!A:A,0)),\"وجود ندارد\",LOOKUP(D138,'اطلاعات افراد غیر حقوق بگیر'!A:A,'اطلاعات افراد غیر حقوق بگیر'!C:C)),LOOKUP(D138,Personnel!A:A,Personnel!B:B)))","v":" "},{"$f":"IF(D138=0,0,IF(ISNA(MATCH(D138,Personnel!A:A,0)),IF(ISNA(MATCH(D138,'اطلاعات افراد غیر حقوق بگیر'!A:A,0)),\"وجود ندارد\",LOOKUP(D138,'اطلاعات افراد غیر حقوق بگیر'!A:A,'اطلاعات افراد غیر حقوق بگیر'!D:D)),LOOKUP(D138,Master!D:D,Master!CD:CD)))","v":0},{"$f":"IF(D138=0,\" \",IF(ISNA(MATCH(D138,Personnel!A:A,0)),IF(ISNA(MATCH(D138,'اطلاعات افراد غیر حقوق بگیر'!A:A,0)),\"وجود ندارد\",LOOKUP(D138,'اطلاعات افراد غیر حقوق بگیر'!A:A,'اطلاعات افراد غیر حقوق بگیر'!E:E)),LOOKUP(D138,Master!D:D,Master!AH:AH)))","v":" "},{"$f":"SUMIFS(Pays!G:G,Pays!E:E,1,Pays!D:D,D138)","v":0},{"$f":"SUMIFS(Pays!G:G,Pays!E:E,2,Pays!D:D,D138)","v":0},{"$f":"SUMIFS(Pays!G:G,Pays!E:E,57,Pays!D:D,D138)","v":0},{"$f":"SUMIF(Pays!D:D,D138,Pays!G:G)","v":0},{"$f":"SUMIF(Pays!D:D,D138,Pays!G:G)/176","v":0},{"$f":"IF(M138=0,IF(ISNA(MATCH(D138,'اطلاعات افراد غیر حقوق بگیر'!A:A,0)),0,LOOKUP(D138,'اطلاعات افراد غیر حقوق بگیر'!A:A,'اطلاعات افراد غیر حقوق بگیر'!F:F)),IF(H138=31,Settings!$D$13,ROUND(M138,0)))","v":0},null,0,{"$f":"IF(ISNA(MATCH(D138,Master!D:D,0)),IF(ISNA(MATCH(D138,'اطلاعات افراد غیر حقوق بگیر'!A:A,0)),0,LOOKUP(D138,'اطلاعات افراد غیر حقوق بگیر'!A:A,'اطلاعات افراد غیر حقوق بگیر'!G:G)),LOOKUP(D138,Master!D:D,Master!J:J))","v":0},{"$error":"#N/A"},0,0,{"$f":"IF(O138>#REF!,\"اخطار ساعت اضافه کار از حداکثر بیشتر است\",\" \")","v":{"$error":"#REF!"}},{"$f":"IF(O138>#REF!,1,0)","v":{"$error":"#REF!"}}]
[136,{"$f":"IF(D139=0,\"\",Settings!$D$6)","v":""},{"$f":"IF(D139=0,\"\",LOOKUP(B139,'Rigion Code'!A:A,'Rigion Code'!B:B))","v":""},null,{"$f":"IF(D139=0,\" \",IF(ISNA(MATCH(D139,Personnel!A:A,0)),IF(ISNA(MATCH(D139,'اطلاعات افراد غیر حقوق بگیر'!A:A,0)),\"وجود ندارد\",LOOKUP(Edit!D139,'اطلاعات افراد غیر حقوق بگیر'!A:A,'اطلاعات افراد غیر حقوق بگیر'!B:B)),LOOKUP(D139,Personnel!A:A,Personnel!C:C)))","v":" "},{"$f":"IF(D139=0,\" \",IF(ISNA(MATCH(D139,Personnel!A:A,0)),IF(ISNA(MATCH(D139,'اطلاعات افراد غیر حقوق بگیر'!A:A,0)),\"وجود ندارد\",LOOKUP(D139,'اطلاعات افراد غیر حقوق بگیر'!A:A,'اطلاعات افراد غیر حقوق بگیر'!C:C)),LOOKUP(D139,Personnel!A:A,Personnel!B:B)))","v":" "},{"$f":"IF(D139=0,0,IF(ISNA(MATCH(D139,Personnel!A:A,0)),IF(ISNA(MATCH(D139,'اطلاعات افراد غیر حقوق بگیر'!A:A,0)),\"وجود ندارد\",LOOKUP(D139,'اطلاعات افراد غیر حقوق بگیر'!A:A,'اطلاعات افراد غیر حقوق بگیر'!D:D)),LOOKUP(D139,Master!D:D,Master!CD:CD)))","v":0},{"$f":"IF(D139=0,\" \",IF(ISNA(MATCH(D139,Personnel!A:A,0)),IF(ISNA(MATCH(D139,'اطلاعات افراد غیر حقوق بگیر'!A:A,0)),\"وجود ندارد\",LOOKUP(D139,'اطلاعات افراد غیر حقوق بگیر'!A:A,'اطلاعات افراد غیر حقوق بگیر'!E:E)),LOOKUP(D139,Master!D:D,Master!AH:AH)))","v":" "},{"$f":"SUMIFS(Pays!G:G,Pays!E:E,1,Pays!D:D,D139)","v":0},{"$f":"SUMIFS(Pays!G:G,Pays!E:E,2,Pays!D:D,D139)","v":0},{"$f":"SUMIFS(Pays!G:G,Pays!E:E,57,Pays!D:D,D139)","v":0},{"$f":"SUMIF(Pays!D:D,D139,Pays!G:G)","v":0},{"$f":"SUMIF(Pays!D:D,D139,Pays!G:G)/176","v":0},{"$f":"IF(M139=0,IF(ISNA(MATCH(D139,'اطلاعات افراد غیر حقوق بگیر'!A:A,0)),0,LOOKUP(D139,'اطلاعات افراد غیر حقوق بگیر'!A:A,'اطلاعات افراد غیر حقوق بگیر'!F:F)),IF(H139=31,Settings!$D$13,ROUND(M139,0)))","v":0},null,0,{"$f":"IF(ISNA(MATCH(D139,Master!D:D,0)),IF(ISNA(MATCH(D139,'اطلاعات افراد غیر حقوق بگیر'!A:A,0)),0,LOOKUP(D139,'اطلاعات افراد غیر حقوق بگیر'!A:A,'اطلاعات افراد غیر حقوق بگیر'!G:G)),LOOKUP(D139,Master!D:D,Master!J:J))","v":0},{"$error":"#N/A"},0,0,{"$f":"IF(O139>#REF!,\"اخطار ساعت اضافه کار از حداکثر بیشتر است\",\" \")","v":{"$error":"#REF!"}},{"$f":"IF(O139>#REF!,1,0)","v":{"$error":"#REF!"}}]
[137,{"$f":"IF(D140=0,\"\",Settings!$D$6)","v":""},{"$f":"IF(D140=0,\"\",LOOKUP(B140,'Rigion Code'!A:A,'Rigion Code'!B:B))","v":""},null,{"$f":"IF(D140=0,\" \",IF(ISNA(MATCH(D140,Personnel!A:A,0)),IF(ISNA(MATCH(D140,'اطلاعات افراد غیر حقوق بگیر'!A:A,0)),\"وجود ندارد\",LOOKUP(Edit!D140,'اطلاعات افراد غیر حقوق بگیر'!A:A,'اطلاعات افراد غیر حقوق بگیر'!B:B)),LOOKUP(D140,Personnel!A:A,Personnel!C:C)))","v":" "},{"$f":"IF(D140=0,\" \",IF(ISNA(MATCH(D140,Personnel!A:A,0)),IF(ISNA(MATCH(D140,'اطلاعات افراد غیر حقوق بگیر'!A:A,0)),\"وجود ندارد\",LOOKUP(D140,'اطلاعات افراد غیر حقوق بگیر'!A:A,'اطلاعات افراد غیر حقوق بگیر'!C:C)),LOOKUP(D140,Personnel!A:A,Personnel!B:B)))","v":" "},{"$f":"IF(D140=0,0,IF(ISNA(MATCH(D140,Personnel!A:A,0)),IF(ISNA(MATCH(D140,'اطلاعات افراد غیر حقوق بگیر'!A:A,0)),\"وجود ندارد\",LOOKUP(D140,'اطلاعات افراد غیر حقوق بگیر'!A:A,'اطلاعات افراد غیر حقوق بگیر'!D:D)),LOOKUP(D140,Master!D:D,Master!CD:CD)))","v":0},{"$f":"IF(D140=0,\" \",IF(ISNA(MATCH(D140,Personnel!A:A,0)),IF(ISNA(MATCH(D140,'اطلاعات افراد غیر حقوق بگیر'!A:A,0)),\"وجود ندارد\",LOOKUP(D140,'اطلاعات افراد غیر حقوق بگیر'!A:A,'اطلاعات افراد غیر حقوق بگیر'!E:E)),LOOKUP(D140,Master!D:D,Master!AH:AH)))","v":" "},{"$f":"SUMIFS(Pays!G:G,Pays!E:E,1,Pays!D:D,D140)","v":0},{"$f":"SUMIFS(Pays!G:G,Pays!E:E,2,Pays!D:D,D140)","v":0},{"$f":"SUMIFS(Pays!G:G,Pays!E:E,57,Pays!D:D,D140)","v":0},{"$f":"SUMIF(Pays!D:D,D140,Pays!G:G)","v":0},{"$f":"SUMIF(Pays!D:D,D140,Pays!G:G)/176","v":0},{"$f":"IF(M140=0,IF(ISNA(MATCH(D140,'اطلاعات افراد غیر حقوق بگیر'!A:A,0)),0,LOOKUP(D140,'اطلاعات افراد غیر حقوق بگیر'!A:A,'اطلاعات افراد غیر حقوق بگیر'!F:F)),IF(H140=31,Settings!$D$13,ROUND(M140,0)))","v":0},null,0,{"$f":"IF(ISNA(MATCH(D140,Master!D:D,0)),IF(ISNA(MATCH(D140,'اطلاعات افراد غیر حقوق بگیر'!A:A,0)),0,LOOKUP(D140,'اطلاعات افراد غیر حقوق بگیر'!A:A,'اطلاعات افراد غیر حقوق بگیر'!G:G)),LOOKUP(D140,Master!D:D,Master!J:J))","v":0},{"$error":"#N/A"},0,0,{"$f":"IF(O140>#REF!,\"اخطار ساعت اضافه کار از حداکثر بیشتر است\",\" \")","v":{"$error":"#REF!"}},{"$f":"IF(O140>#REF!,1,0)","v":{"$error":"#REF!"}}]
[138,{"$f":"IF(D141=0,\"\",Settings!$D$6)","v":""},{"$f":"IF(D141=0,\"\",LOOKUP(B141,'Rigion Code'!A:A,'Rigion Code'!B:B))","v":""},null,{"$f":"IF(D141=0,\" \",IF(ISNA(MATCH(D141,Personnel!A:A,0)),IF(ISNA(MATCH(D141,'اطلاعات افراد غیر حقوق بگیر'!A:A,0)),\"وجود ندارد\",LOOKUP(Edit!D141,'اطلاعات افراد غیر حقوق بگیر'!A:A,'اطلاعات افراد غیر حقوق بگیر'!B:B)),LOOKUP(D141,Personnel!A:A,Personnel!C:C)))","v":" "},{"$f":"IF(D141=0,\" \",IF(ISNA(MATCH(D141,Personnel!A:A,0)),IF(ISNA(MATCH(D141,'اطلاعات افراد غیر حقوق بگیر'!A:A,0)),\"وجود ندارد\",LOOKUP(D141,'اطلاعات افراد غیر حقوق بگیر'!A:A,'اطلاعات افراد غیر حقوق بگیر'!C:C)),LOOKUP(D141,Personnel!A:A,Personnel!B:B)))","v":" "},{"$f":"IF(D141=0,0,IF(ISNA(MATCH(D141,Personnel!A:A,0)),IF(ISNA(MATCH(D141,'اطلاعات افراد غیر حقوق بگیر'!A:A,0)),\"وجود ندارد\",LOOKUP(D141,'اطلاعات افراد غیر حقوق بگیر'!A:A,'اطلاعات افراد غیر حقوق بگیر'!D:D)),LOOKUP(D141,Master!D:D,Master!CD:CD)))","v":0},{"$f":"IF(D141=0,\" \",IF(ISNA(MATCH(D141,Personnel!A:A,0)),IF(ISNA(MATCH(D141,'اطلاعات افراد غیر حقوق بگیر'!A:A,0)),\"وجود ندارد\",LOOKUP(D141,'اطلاعات افراد غیر حقوق بگیر'!A:A,'اطلاعات افراد غیر حقوق بگیر'!E:E)),LOOKUP(D141,Master!D:D,Master!AH:AH)))","v":" "},{"$f":"SUMIFS(Pays!G:G,Pays!E:E,1,Pays!D:D,D141)","v":0},{"$f":"SUMIFS(Pays!G:G,Pays!E:E,2,Pays!D:D,D141)","v":0},{"$f":"SUMIFS(Pays!G:G,Pays!E:E,57,Pays!D:D,D141)","v":0},{"$f":"SUMIF(Pays!D:D,D141,Pays!G:G)","v":0},{"$f":"SUMIF(Pays!D:D,D141,Pays!G:G)/176","v":0},{"$f":"IF(M141=0,IF(ISNA(MATCH(D141,'اطلاعات افراد غیر حقوق بگیر'!A:A,0)),0,LOOKUP(D141,'اطلاعات افراد غیر حقوق بگیر'!A:A,'اطلاعات افراد غیر حقوق بگیر'!F:F)),IF(H141=31,Settings!$D$13,ROUND(M141,0)))","v":0},null,0,{"$f":"IF(ISNA(MATCH(D141,Master!D:D,0)),IF(ISNA(MATCH(D141,'اطلاعات افراد غیر حقوق بگیر'!A:A,0)),0,LOOKUP(D141,'اطلاعات افراد غیر حقوق بگیر'!A:A,'اطلاعات افراد غیر حقوق بگیر'!G:G)),LOOKUP(D141,Master!D:D,Master!J:J))","v":0},{"$error":"#N/A"},0,0,{"$f":"IF(O141>#REF!,\"اخطار ساعت اضافه کار از حداکثر بیشتر است\",\" \")","v":{"$error":"#REF!"}},{"$f":"IF(O141>#REF!,1,0)","v":{"$error":"#REF!"}}]
[139,{"$f":"IF(D142=0,\"\",Settings!$D$6)","v":""},{"$f":"IF(D142=0,\"\",LOOKUP(B142,'Rigion Code'!A:A,'Rigion Code'!B:B))","v":""},null,{"$f":"IF(D142=0,\" \",IF(ISNA(MATCH(D142,Personnel!A:A,0)),IF(ISNA(MATCH(D142,'اطلاعات افراد غیر حقوق بگیر'!A:A,0)),\"وجود ندارد\",LOOKUP(Edit!D142,'اطلاعات افراد غیر حقوق بگیر'!A:A,'اطلاعات افراد غیر حقوق بگیر'!B:B)),LOOKUP(D142,Personnel!A:A,Personnel!C:C)))","v":" "},{"$f":"IF(D142=0,\" \",IF(ISNA(MATCH(D142,Personnel!A:A,0)),IF(ISNA(MATCH(D142,'اطلاعات افراد غیر حقوق بگیر'!A:A,0)),\"وجود ندارد\",LOOKUP(D142,'اطلاعات افراد غیر حقوق بگیر'!A:A,'اطلاعات افراد غیر حقوق بگیر'!C:C)),LOOKUP(D142,Personnel!A:A,Personnel!B:B)))","v":" "},{"$f":"IF(D142=0,0,IF(ISNA(MATCH(D142,Personnel!A:A,0)),IF(ISNA(MATCH(D142,'اطلاعات افراد غیر حقوق بگیر'!A:A,0)),\"وجود ندارد\",LOOKUP(D142,'اطلاعات افراد غیر حقوق بگیر'!A:A,'اطلاعات افراد غیر حقوق بگیر'!D:D)),LOOKUP(D142,Master!D:D,Master!CD:CD)))","v":0},{"$f":"IF(D142=0,\" \",IF(ISNA(MATCH(D142,Personnel!A:A,0)),IF(ISNA(MATCH(D142,'اطلاعات افراد غیر حقوق بگیر'!A:A,0)),\"وجود ندارد\",LOOKUP(D142,'اطلاعات افراد غیر حقوق بگیر'!A:A,'اطلاعات افراد غیر حقوق بگیر'!E:E)),LOOKUP(D142,Master!D:D,Master!AH:AH)))","v":" "},{"$f":"SUMIFS(Pays!G:G,Pays!E:E,1,Pays!D:D,D142)","v":0},{"$f":"SUMIFS(Pays!G:G,Pays!E:E,2,Pays!D:D,D142)","v":0},{"$f":"SUMIFS(Pays!G:G,Pays!E:E,57,Pays!D:D,D142)","v":0},{"$f":"SUMIF(Pays!D:D,D142,Pays!G:G)","v":0},{"$f":"SUMIF(Pays!D:D,D142,Pays!G:G)/176","v":0},{"$f":"IF(M142=0,IF(ISNA(MATCH(D142,'اطلاعات افراد غیر حقوق بگیر'!A:A,0)),0,LOOKUP(D142,'اطلاعات افراد غیر حقوق بگیر'!A:A,'اطلاعات افراد غیر حقوق بگیر'!F:F)),IF(H142=31,Settings!$D$13,ROUND(M142,0)))","v":0},null,0,{"$f":"IF(ISNA(MATCH(D142,Master!D:D,0)),IF(ISNA(MATCH(D142,'اطلاعات افراد غیر حقوق بگیر'!A:A,0)),0,LOOKUP(D142,'اطلاعات افراد غیر حقوق بگیر'!A:A,'اطلاعات افراد غیر حقوق بگیر'!G:G)),LOOKUP(D142,Master!D:D,Master!J:J))","v":0},{"$error":"#N/A"},0,0,{"$f":"IF(O142>#REF!,\"اخطار ساعت اضافه کار از حداکثر بیشتر است\",\" \")","v":{"$error":"#REF!"}},{"$f":"IF(O142>#REF!,1,0)","v":{"$error":"#REF!"}}]
[140,{"$f":"IF(D143=0,\"\",Settings!$D$6)","v":""},{"$f":"IF(D143=0,\"\",LOOKUP(B143,'Rigion Code'!A:A,'Rigion Code'!B:B))","v":""},null,{"$f":"IF(D143=0,\" \",IF(ISNA(MATCH(D143,Personnel!A:A,0)),IF(ISNA(MATCH(D143,'اطلاعات افراد غیر حقوق بگیر'!A:A,0)),\"وجود ندارد\",LOOKUP(Edit!D143,'اطلاعات افراد غیر حقوق بگیر'!A:A,'اطلاعات افراد غیر حقوق بگیر'!B:B)),LOOKUP(D143,Personnel!A:A,Personnel!C:C)))","v":" "},{"$f":"IF(D143=0,\" \",IF(ISNA(MATCH(D143,Personnel!A:A,0)),IF(ISNA(MATCH(D143,'اطلاعات افراد غیر حقوق بگیر'!A:A,0)),\"وجود ندارد\",LOOKUP(D143,'اطلاعات افراد غیر حقوق بگیر'!A:A,'اطلاعات افراد غیر حقوق بگیر'!C:C)),LOOKUP(D143,Personnel!A:A,Personnel!B:B)))","v":" "},{"$f":"IF(D143=0,0,IF(ISNA(MATCH(D143,Personnel!A:A,0)),IF(ISNA(MATCH(D143,'اطلاعات افراد غیر حقوق بگیر'!A:A,0)),\"وجود ندارد\",LOOKUP(D143,'اطلاعات افراد غیر حقوق بگیر'!A:A,'اطلاعات افراد غیر حقوق بگیر'!D:D)),LOOKUP(D143,Master!D:D,Master!CD:CD)))","v":0},{"$f":"IF(D143=0,\" \",IF(ISNA(MATCH(D143,Personnel!A:A,0)),IF(ISNA(MATCH(D143,'اطلاعات افراد غیر حقوق بگیر'!A:A,0)),\"وجود ندارد\",LOOKUP(D143,'اطلاعات افراد غیر حقوق بگیر'!A:A,'اطلاعات افراد غیر حقوق بگیر'!E:E)),LOOKUP(D143,Master!D:D,Master!AH:AH)))","v":" "},{"$f":"SUMIFS(Pays!G:G,Pays!E:E,1,Pays!D:D,D143)","v":0},{"$f":"SUMIFS(Pays!G:G,Pays!E:E,2,Pays!D:D,D143)","v":0},{"$f":"SUMIFS(Pays!G:G,Pays!E:E,57,Pays!D:D,D143)","v":0},{"$f":"SUMIF(Pays!D:D,D143,Pays!G:G)","v":0},{"$f":"SUMIF(Pays!D:D,D143,Pays!G:G)/176","v":0},{"$f":"IF(M143=0,IF(ISNA(MATCH(D143,'اطلاعات افراد غیر حقوق بگیر'!A:A,0)),0,LOOKUP(D143,'اطلاعات افراد غیر حقوق بگیر'!A:A,'اطلاعات افراد غیر حقوق بگیر'!F:F)),IF(H143=31,Settings!$D$13,ROUND(M143,0)))","v":0},null,0,{"$f":"IF(ISNA(MATCH(D143,Master!D:D,0)),IF(ISNA(MATCH(D143,'اطلاعات افراد غیر حقوق بگیر'!A:A,0)),0,LOOKUP(D143,'اطلاعات افراد غیر حقوق بگیر'!A:A,'اطلاعات افراد غیر حقوق بگیر'!G:G)),LOOKUP(D143,Master!D:D,Master!J:J))","v":0},{"$error":"#N/A"},0,0,{"$f":"IF(O143>#REF!,\"اخطار ساعت اضافه کار از حداکثر بیشتر است\",\" \")","v":{"$error":"#REF!"}},{"$f":"IF(O143>#REF!,1,0)","v":{"$error":"#REF!"}}]
[141,{"$f":"IF(D144=0,\"\",Settings!$D$6)","v":""},{"$f":"IF(D144=0,\"\",LOOKUP(B144,'Rigion Code'!A:A,'Rigion Code'!B:B))","v":""},null,{"$f":"IF(D144=0,\" \",IF(ISNA(MATCH(D144,Personnel!A:A,0)),IF(ISNA(MATCH(D144,'اطلاعات افراد غیر حقوق بگیر'!A:A,0)),\"وجود ندارد\",LOOKUP(Edit!D144,'اطلاعات افراد غیر حقوق بگیر'!A:A,'اطلاعات افراد غیر حقوق بگیر'!B:B)),LOOKUP(D144,Personnel!A:A,Personnel!C:C)))","v":" "},{"$f":"IF(D144=0,\" \",IF(ISNA(MATCH(D144,Personnel!A:A,0)),IF(ISNA(MATCH(D144,'اطلاعات افراد غیر حقوق بگیر'!A:A,0)),\"وجود ندارد\",LOOKUP(D144,'اطلاعات افراد غیر حقوق بگیر'!A:A,'اطلاعات افراد غیر حقوق بگیر'!C:C)),LOOKUP(D144,Personnel!A:A,Personnel!B:B)))","v":" "},{"$f":"IF(D144=0,0,IF(ISNA(MATCH(D144,Personnel!A:A,0)),IF(ISNA(MATCH(D144,'اطلاعات افراد غیر حقوق بگیر'!A:A,0)),\"وجود ندارد\",LOOKUP(D144,'اطلاعات افراد غیر حقوق بگیر'!A:A,'اطلاعات افراد غیر حقوق بگیر'!D:D)),LOOKUP(D144,Master!D:D,Master!CD:CD)))","v":0},{"$f":"IF(D144=0,\" \",IF(ISNA(MATCH(D144,Personnel!A:A,0)),IF(ISNA(MATCH(D144,'اطلاعات افراد غیر حقوق بگیر'!A:A,0)),\"وجود ندارد\",LOOKUP(D144,'اطلاعات افراد غیر حقوق بگیر'!A:A,'اطلاعات افراد غیر حقوق بگیر'!E:E)),LOOKUP(D144,Master!D:D,Master!AH:AH)))","v":" "},{"$f":"SUMIFS(Pays!G:G,Pays!E:E,1,Pays!D:D,D144)","v":0},{"$f":"SUMIFS(Pays!G:G,Pays!E:E,2,Pays!D:D,D144)","v":0},{"$f":"SUMIFS(Pays!G:G,Pays!E:E,57,Pays!D:D,D144)","v":0},{"$f":"SUMIF(Pays!D:D,D144,Pays!G:G)","v":0},{"$f":"SUMIF(Pays!D:D,D144,Pays!G:G)/176","v":0},{"$f":"IF(M144=0,IF(ISNA(MATCH(D144,'اطلاعات افراد غیر حقوق بگیر'!A:A,0)),0,LOOKUP(D144,'اطلاعات افراد غیر حقوق بگیر'!A:A,'اطلاعات افراد غیر حقوق بگیر'!F:F)),IF(H144=31,Settings!$D$13,ROUND(M144,0)))","v":0},null,0,{"$f":"IF(ISNA(MATCH(D144,Master!D:D,0)),IF(ISNA(MATCH(D144,'اطلاعات افراد غیر حقوق بگیر'!A:A,0)),0,LOOKUP(D144,'اطلاعات افراد غیر حقوق بگیر'!A:A,'اطلاعات افراد غیر حقوق بگیر'!G:G)),LOOKUP(D144,Master!D:D,Master!J:J))","v":0},{"$error":"#N/A"},0,0,{"$f":"IF(O144>#REF!,\"اخطار ساعت اضافه کار از حداکثر بیشتر است\",\" \")","v":{"$error":"#REF!"}},{"$f":"IF(O144>#REF!,1,0)","v":{"$error":"#REF!"}}]
[142,{"$f":"IF(D145=0,\"\",Settings!$D$6)","v":""},{"$f":"IF(D145=0,\"\",LOOKUP(B145,'Rigion Code'!A:A,'Rigion Code'!B:B))","v":""},null,{"$f":"IF(D145=0,\" \",IF(ISNA(MATCH(D145,Personnel!A:A,0)),IF(ISNA(MATCH(D145,'اطلاعات افراد غیر حقوق بگیر'!A:A,0)),\"وجود ندارد\",LOOKUP(Edit!D145,'اطلاعات افراد غیر حقوق بگیر'!A:A,'اطلاعات افراد غیر حقوق بگیر'!B:B)),LOOKUP(D145,Personnel!A:A,Personnel!C:C)))","v":" "},{"$f":"IF(D145=0,\" \",IF(ISNA(MATCH(D145,Personnel!A:A,0)),IF(ISNA(MATCH(D145,'اطلاعات افراد غیر حقوق بگیر'!A:A,0)),\"وجود ندارد\",LOOKUP(D145,'اطلاعات افراد غیر حقوق بگیر'!A:A,'اطلاعات افراد غیر حقوق بگیر'!C:C)),LOOKUP(D145,Personnel!A:A,Personnel!B:B)))","v":" "},{"$f":"IF(D145=0,0,IF(ISNA(MATCH(D145,Personnel!A:A,0)),IF(ISNA(MATCH(D145,'اطلاعات افراد غیر حقوق بگیر'!A:A,0)),\"وجود ندارد\",LOOKUP(D145,'اطلاعات افراد غیر حقوق بگیر'!A:A,'اطلاعات افراد غیر حقوق بگیر'!D:D)),LOOKUP(D145,Master!D:D,Master!CD:CD)))","v":0},{"$f":"IF(D145=0,\" \",IF(ISNA(MATCH(D145,Personnel!A:A,0)),IF(ISNA(MATCH(D145,'اطلاعات افراد غیر حقوق بگیر'!A:A,0)),\"وجود ندارد\",LOOKUP(D145,'اطلاعات افراد غیر حقوق بگیر'!A:A,'اطلاعات افراد غیر حقوق بگیر'!E:E)),LOOKUP(D145,Master!D:D,Master!AH:AH)))","v":" "},{"$f":"SUMIFS(Pays!G:G,Pays!E:E,1,Pays!D:D,D145)","v":0},{"$f":"SUMIFS(Pays!G:G,Pays!E:E,2,Pays!D:D,D145)","v":0},{"$f":"SUMIFS(Pays!G:G,Pays!E:E,57,Pays!D:D,D145)","v":0},{"$f":"SUMIF(Pays!D:D,D145,Pays!G:G)","v":0},{"$f":"SUMIF(Pays!D:D,D145,Pays!G:G)/176","v":0},{"$f":"IF(M145=0,IF(ISNA(MATCH(D145,'اطلاعات افراد غیر حقوق بگیر'!A:A,0)),0,LOOKUP(D145,'اطلاعات افراد غیر حقوق بگیر'!A:A,'اطلاعات افراد غیر حقوق بگیر'!F:F)),IF(H145=31,Settings!$D$13,ROUND(M145,0)))","v":0},null,0,{"$f":"IF(ISNA(MATCH(D145,Master!D:D,0)),IF(ISNA(MATCH(D145,'اطلاعات افراد غیر حقوق بگیر'!A:A,0)),0,LOOKUP(D145,'اطلاعات افراد غیر حقوق بگیر'!A:A,'اطلاعات افراد غیر حقوق بگیر'!G:G)),LOOKUP(D145,Master!D:D,Master!J:J))","v":0},{"$error":"#N/A"},0,0,{"$f":"IF(O145>#REF!,\"اخطار ساعت اضافه کار از حداکثر بیشتر است\",\" \")","v":{"$error":"#REF!"}},{"$f":"IF(O145>#REF!,1,0)","v":{"$error":"#REF!"}}]
[143,{"$f":"IF(D146=0,\"\",Settings!$D$6)","v":""},{"$f":"IF(D146=0,\"\",LOOKUP(B146,'Rigion Code'!A:A,'Rigion Code'!B:B))","v":""},null,{"$f":"IF(D146=0,\" \",IF(ISNA(MATCH(D146,Personnel!A:A,0)),IF(ISNA(MATCH(D146,'اطلاعات افراد غیر حقوق بگیر'!A:A,0)),\"وجود ندارد\",LOOKUP(Edit!D146,'اطلاعات افراد غیر حقوق بگیر'!A:A,'اطلاعات افراد غیر حقوق بگیر'!B:B)),LOOKUP(D146,Personnel!A:A,Personnel!C:C)))","v":" "},{"$f":"IF(D146=0,\" \",IF(ISNA(MATCH(D146,Personnel!A:A,0)),IF(ISNA(MATCH(D146,'اطلاعات افراد غیر حقوق بگیر'!A:A,0)),\"وجود ندارد\",LOOKUP(D146,'اطلاعات افراد غیر حقوق بگیر'!A:A,'اطلاعات افراد غیر حقوق بگیر'!C:C)),LOOKUP(D146,Personnel!A:A,Personnel!B:B)))","v":" "},{"$f":"IF(D146=0,0,IF(ISNA(MATCH(D146,Personnel!A:A,0)),IF(ISNA(MATCH(D146,'اطلاعات افراد غیر حقوق بگیر'!A:A,0)),\"وجود ندارد\",LOOKUP(D146,'اطلاعات افراد غیر حقوق بگیر'!A:A,'اطلاعات افراد غیر حقوق بگیر'!D:D)),LOOKUP(D146,Master!D:D,Master!CD:CD)))","v":0},{"$f":"IF(D146=0,\" \",IF(ISNA(MATCH(D146,Personnel!A:A,0)),IF(ISNA(MATCH(D146,'اطلاعات افراد غیر حقوق بگیر'!A:A,0)),\"وجود ندارد\",LOOKUP(D146,'اطلاعات افراد غیر حقوق بگیر'!A:A,'اطلاعات افراد غیر حقوق بگیر'!E:E)),LOOKUP(D146,Master!D:D,Master!AH:AH)))","v":" "},{"$f":"SUMIFS(Pays!G:G,Pays!E:E,1,Pays!D:D,D146)","v":0},{"$f":"SUMIFS(Pays!G:G,Pays!E:E,2,Pays!D:D,D146)","v":0},{"$f":"SUMIFS(Pays!G:G,Pays!E:E,57,Pays!D:D,D146)","v":0},{"$f":"SUMIF(Pays!D:D,D146,Pays!G:G)","v":0},{"$f":"SUMIF(Pays!D:D,D146,Pays!G:G)/176","v":0},{"$f":"IF(M146=0,IF(ISNA(MATCH(D146,'اطلاعات افراد غیر حقوق بگیر'!A:A,0)),0,LOOKUP(D146,'اطلاعات افراد غیر حقوق بگیر'!A:A,'اطلاعات افراد غیر حقوق بگیر'!F:F)),IF(H146=31,Settings!$D$13,ROUND(M146,0)))","v":0},null,0,{"$f":"IF(ISNA(MATCH(D146,Master!D:D,0)),IF(ISNA(MATCH(D146,'اطلاعات افراد غیر حقوق بگیر'!A:A,0)),0,LOOKUP(D146,'اطلاعات افراد غیر حقوق بگیر'!A:A,'اطلاعات افراد غیر حقوق بگیر'!G:G)),LOOKUP(D146,Master!D:D,Master!J:J))","v":0},{"$error":"#N/A"},0,0,{"$f":"IF(O146>#REF!,\"اخطار ساعت اضافه کار از حداکثر بیشتر است\",\" \")","v":{"$error":"#REF!"}},{"$f":"IF(O146>#REF!,1,0)","v":{"$error":"#REF!"}}]
[144,{"$f":"IF(D147=0,\"\",Settings!$D$6)","v":""},{"$f":"IF(D147=0,\"\",LOOKUP(B147,'Rigion Code'!A:A,'Rigion Code'!B:B))","v":""},null,{"$f":"IF(D147=0,\" \",IF(ISNA(MATCH(D147,Personnel!A:A,0)),IF(ISNA(MATCH(D147,'اطلاعات افراد غیر حقوق بگیر'!A:A,0)),\"وجود ندارد\",LOOKUP(Edit!D147,'اطلاعات افراد غیر حقوق بگیر'!A:A,'اطلاعات افراد غیر حقوق بگیر'!B:B)),LOOKUP(D147,Personnel!A:A,Personnel!C:C)))","v":" "},{"$f":"IF(D147=0,\" \",IF(ISNA(MATCH(D147,Personnel!A:A,0)),IF(ISNA(MATCH(D147,'اطلاعات افراد غیر حقوق بگیر'!A:A,0)),\"وجود ندارد\",LOOKUP(D147,'اطلاعات افراد غیر حقوق بگیر'!A:A,'اطلاعات افراد غیر حقوق بگیر'!C:C)),LOOKUP(D147,Personnel!A:A,Personnel!B:B)))","v":" "},{"$f":"IF(D147=0,0,IF(ISNA(MATCH(D147,Personnel!A:A,0)),IF(ISNA(MATCH(D147,'اطلاعات افراد غیر حقوق بگیر'!A:A,0)),\"وجود ندارد\",LOOKUP(D147,'اطلاعات افراد غیر حقوق بگیر'!A:A,'اطلاعات افراد غیر حقوق بگیر'!D:D)),LOOKUP(D147,Master!D:D,Master!CD:CD)))","v":0},{"$f":"IF(D147=0,\" \",IF(ISNA(MATCH(D147,Personnel!A:A,0)),IF(ISNA(MATCH(D147,'اطلاعات افراد غیر حقوق بگیر'!A:A,0)),\"وجود ندارد\",LOOKUP(D147,'اطلاعات افراد غیر حقوق بگیر'!A:A,'اطلاعات افراد غیر حقوق بگیر'!E:E)),LOOKUP(D147,Master!D:D,Master!AH:AH)))","v":" "},{"$f":"SUMIFS(Pays!G:G,Pays!E:E,1,Pays!D:D,D147)","v":0},{"$f":"SUMIFS(Pays!G:G,Pays!E:E,2,Pays!D:D,D147)","v":0},{"$f":"SUMIFS(Pays!G:G,Pays!E:E,57,Pays!D:D,D147)","v":0},{"$f":"SUMIF(Pays!D:D,D147,Pays!G:G)","v":0},{"$f":"SUMIF(Pays!D:D,D147,Pays!G:G)/176","v":0},{"$f":"IF(M147=0,IF(ISNA(MATCH(D147,'اطلاعات افراد غیر حقوق بگیر'!A:A,0)),0,LOOKUP(D147,'اطلاعات افراد غیر حقوق بگیر'!A:A,'اطلاعات افراد غیر حقوق بگیر'!F:F)),IF(H147=31,Settings!$D$13,ROUND(M147,0)))","v":0},null,0,{"$f":"IF(ISNA(MATCH(D147,Master!D:D,0)),IF(ISNA(MATCH(D147,'اطلاعات افراد غیر حقوق بگیر'!A:A,0)),0,LOOKUP(D147,'اطلاعات افراد غیر حقوق بگیر'!A:A,'اطلاعات افراد غیر حقوق بگیر'!G:G)),LOOKUP(D147,Master!D:D,Master!J:J))","v":0},{"$error":"#N/A"},0,0,{"$f":"IF(O147>#REF!,\"اخطار ساعت اضافه کار از حداکثر بیشتر است\",\" \")","v":{"$error":"#REF!"}},{"$f":"IF(O147>#REF!,1,0)","v":{"$error":"#REF!"}}]
[145,{"$f":"IF(D148=0,\"\",Settings!$D$6)","v":""},{"$f":"IF(D148=0,\"\",LOOKUP(B148,'Rigion Code'!A:A,'Rigion Code'!B:B))","v":""},null,{"$f":"IF(D148=0,\" \",IF(ISNA(MATCH(D148,Personnel!A:A,0)),IF(ISNA(MATCH(D148,'اطلاعات افراد غیر حقوق بگیر'!A:A,0)),\"وجود ندارد\",LOOKUP(Edit!D148,'اطلاعات افراد غیر حقوق بگیر'!A:A,'اطلاعات افراد غیر حقوق بگیر'!B:B)),LOOKUP(D148,Personnel!A:A,Personnel!C:C)))","v":" "},{"$f":"IF(D148=0,\" \",IF(ISNA(MATCH(D148,Personnel!A:A,0)),IF(ISNA(MATCH(D148,'اطلاعات افراد غیر حقوق بگیر'!A:A,0)),\"وجود ندارد\",LOOKUP(D148,'اطلاعات افراد غیر حقوق بگیر'!A:A,'اطلاعات افراد غیر حقوق بگیر'!C:C)),LOOKUP(D148,Personnel!A:A,Personnel!B:B)))","v":" "},{"$f":"IF(D148=0,0,IF(ISNA(MATCH(D148,Personnel!A:A,0)),IF(ISNA(MATCH(D148,'اطلاعات افراد غیر حقوق بگیر'!A:A,0)),\"وجود ندارد\",LOOKUP(D148,'اطلاعات افراد غیر حقوق بگیر'!A:A,'اطلاعات افراد غیر حقوق بگیر'!D:D)),LOOKUP(D148,Master!D:D,Master!CD:CD)))","v":0},{"$f":"IF(D148=0,\" \",IF(ISNA(MATCH(D148,Personnel!A:A,0)),IF(ISNA(MATCH(D148,'اطلاعات افراد غیر حقوق بگیر'!A:A,0)),\"وجود ندارد\",LOOKUP(D148,'اطلاعات افراد غیر حقوق بگیر'!A:A,'اطلاعات افراد غیر حقوق بگیر'!E:E)),LOOKUP(D148,Master!D:D,Master!AH:AH)))","v":" "},{"$f":"SUMIFS(Pays!G:G,Pays!E:E,1,Pays!D:D,D148)","v":0},{"$f":"SUMIFS(Pays!G:G,Pays!E:E,2,Pays!D:D,D148)","v":0},{"$f":"SUMIFS(Pays!G:G,Pays!E:E,57,Pays!D:D,D148)","v":0},{"$f":"SUMIF(Pays!D:D,D148,Pays!G:G)","v":0},{"$f":"SUMIF(Pays!D:D,D148,Pays!G:G)/176","v":0},{"$f":"IF(M148=0,IF(ISNA(MATCH(D148,'اطلاعات افراد غیر حقوق بگیر'!A:A,0)),0,LOOKUP(D148,'اطلاعات افراد غیر حقوق بگیر'!A:A,'اطلاعات افراد غیر حقوق بگیر'!F:F)),IF(H148=31,Settings!$D$13,ROUND(M148,0)))","v":0},null,0,{"$f":"IF(ISNA(MATCH(D148,Master!D:D,0)),IF(ISNA(MATCH(D148,'اطلاعات افراد غیر حقوق بگیر'!A:A,0)),0,LOOKUP(D148,'اطلاعات افراد غیر حقوق بگیر'!A:A,'اطلاعات افراد غیر حقوق بگیر'!G:G)),LOOKUP(D148,Master!D:D,Master!J:J))","v":0},{"$error":"#N/A"},0,0,{"$f":"IF(O148>#REF!,\"اخطار ساعت اضافه کار از حداکثر بیشتر است\",\" \")","v":{"$error":"#REF!"}},{"$f":"IF(O148>#REF!,1,0)","v":{"$error":"#REF!"}}]
[146,{"$f":"IF(D149=0,\"\",Settings!$D$6)","v":""},{"$f":"IF(D149=0,\"\",LOOKUP(B149,'Rigion Code'!A:A,'Rigion Code'!B:B))","v":""},null,{"$f":"IF(D149=0,\" \",IF(ISNA(MATCH(D149,Personnel!A:A,0)),IF(ISNA(MATCH(D149,'اطلاعات افراد غیر حقوق بگیر'!A:A,0)),\"وجود ندارد\",LOOKUP(Edit!D149,'اطلاعات افراد غیر حقوق بگیر'!A:A,'اطلاعات افراد غیر حقوق بگیر'!B:B)),LOOKUP(D149,Personnel!A:A,Personnel!C:C)))","v":" "},{"$f":"IF(D149=0,\" \",IF(ISNA(MATCH(D149,Personnel!A:A,0)),IF(ISNA(MATCH(D149,'اطلاعات افراد غیر حقوق بگیر'!A:A,0)),\"وجود ندارد\",LOOKUP(D149,'اطلاعات افراد غیر حقوق بگیر'!A:A,'اطلاعات افراد غیر حقوق بگیر'!C:C)),LOOKUP(D149,Personnel!A:A,Personnel!B:B)))","v":" "},{"$f":"IF(D149=0,0,IF(ISNA(MATCH(D149,Personnel!A:A,0)),IF(ISNA(MATCH(D149,'اطلاعات افراد غیر حقوق بگیر'!A:A,0)),\"وجود ندارد\",LOOKUP(D149,'اطلاعات افراد غیر حقوق بگیر'!A:A,'اطلاعات افراد غیر حقوق بگیر'!D:D)),LOOKUP(D149,Master!D:D,Master!CD:CD)))","v":0},{"$f":"IF(D149=0,\" \",IF(ISNA(MATCH(D149,Personnel!A:A,0)),IF(ISNA(MATCH(D149,'اطلاعات افراد غیر حقوق بگیر'!A:A,0)),\"وجود ندارد\",LOOKUP(D149,'اطلاعات افراد غیر حقوق بگیر'!A:A,'اطلاعات افراد غیر حقوق بگیر'!E:E)),LOOKUP(D149,Master!D:D,Master!AH:AH)))","v":" "},{"$f":"SUMIFS(Pays!G:G,Pays!E:E,1,Pays!D:D,D149)","v":0},{"$f":"SUMIFS(Pays!G:G,Pays!E:E,2,Pays!D:D,D149)","v":0},{"$f":"SUMIFS(Pays!G:G,Pays!E:E,57,Pays!D:D,D149)","v":0},{"$f":"SUMIF(Pays!D:D,D149,Pays!G:G)","v":0},{"$f":"SUMIF(Pays!D:D,D149,Pays!G:G)/176","v":0},{"$f":"IF(M149=0,IF(ISNA(MATCH(D149,'اطلاعات افراد غیر حقوق بگیر'!A:A,0)),0,LOOKUP(D149,'اطلاعات افراد غیر حقوق بگیر'!A:A,'اطلاعات افراد غیر حقوق بگیر'!F:F)),IF(H149=31,Settings!$D$13,ROUND(M149,0)))","v":0},null,0,{"$f":"IF(ISNA(MATCH(D149,Master!D:D,0)),IF(ISNA(MATCH(D149,'اطلاعات افراد غیر حقوق بگیر'!A:A,0)),0,LOOKUP(D149,'اطلاعات افراد غیر حقوق بگیر'!A:A,'اطلاعات افراد غیر حقوق بگیر'!G:G)),LOOKUP(D149,Master!D:D,Master!J:J))","v":0},{"$error":"#N/A"},0,0,{"$f":"IF(O149>#REF!,\"اخطار ساعت اضافه کار از حداکثر بیشتر است\",\" \")","v":{"$error":"#REF!"}},{"$f":"IF(O149>#REF!,1,0)","v":{"$error":"#REF!"}}]
[147,{"$f":"IF(D150=0,\"\",Settings!$D$6)","v":""},{"$f":"IF(D150=0,\"\",LOOKUP(B150,'Rigion Code'!A:A,'Rigion Code'!B:B))","v":""},null,{"$f":"IF(D150=0,\" \",IF(ISNA(MATCH(D150,Personnel!A:A,0)),IF(ISNA(MATCH(D150,'اطلاعات افراد غیر حقوق بگیر'!A:A,0)),\"وجود ندارد\",LOOKUP(Edit!D150,'اطلاعات افراد غیر حقوق بگیر'!A:A,'اطلاعات افراد غیر حقوق بگیر'!B:B)),LOOKUP(D150,Personnel!A:A,Personnel!C:C)))","v":" "},{"$f":"IF(D150=0,\" \",IF(ISNA(MATCH(D150,Personnel!A:A,0)),IF(ISNA(MATCH(D150,'اطلاعات افراد غیر حقوق بگیر'!A:A,0)),\"وجود ندارد\",LOOKUP(D150,'اطلاعات افراد غیر حقوق بگیر'!A:A,'اطلاعات افراد غیر حقوق بگیر'!C:C)),LOOKUP(D150,Personnel!A:A,Personnel!B:B)))","v":" "},{"$f":"IF(D150=0,0,IF(ISNA(MATCH(D150,Personnel!A:A,0)),IF(ISNA(MATCH(D150,'اطلاعات افراد غیر حقوق بگیر'!A:A,0)),\"وجود ندارد\",LOOKUP(D150,'اطلاعات افراد غیر حقوق بگیر'!A:A,'اطلاعات افراد غیر حقوق بگیر'!D:D)),LOOKUP(D150,Master!D:D,Master!CD:CD)))","v":0},{"$f":"IF(D150=0,\" \",IF(ISNA(MATCH(D150,Personnel!A:A,0)),IF(ISNA(MATCH(D150,'اطلاعات افراد غیر حقوق بگیر'!A:A,0)),\"وجود ندارد\",LOOKUP(D150,'اطلاعات افراد غیر حقوق بگیر'!A:A,'اطلاعات افراد غیر حقوق بگیر'!E:E)),LOOKUP(D150,Master!D:D,Master!AH:AH)))","v":" "},{"$f":"SUMIFS(Pays!G:G,Pays!E:E,1,Pays!D:D,D150)","v":0},{"$f":"SUMIFS(Pays!G:G,Pays!E:E,2,Pays!D:D,D150)","v":0},{"$f":"SUMIFS(Pays!G:G,Pays!E:E,57,Pays!D:D,D150)","v":0},{"$f":"SUMIF(Pays!D:D,D150,Pays!G:G)","v":0},{"$f":"SUMIF(Pays!D:D,D150,Pays!G:G)/176","v":0},{"$f":"IF(M150=0,IF(ISNA(MATCH(D150,'اطلاعات افراد غیر حقوق بگیر'!A:A,0)),0,LOOKUP(D150,'اطلاعات افراد غیر حقوق بگیر'!A:A,'اطلاعات افراد غیر حقوق بگیر'!F:F)),IF(H150=31,Settings!$D$13,ROUND(M150,0)))","v":0},null,0,{"$f":"IF(ISNA(MATCH(D150,Master!D:D,0)),IF(ISNA(MATCH(D150,'اطلاعات افراد غیر حقوق بگیر'!A:A,0)),0,LOOKUP(D150,'اطلاعات افراد غیر حقوق بگیر'!A:A,'اطلاعات افراد غیر حقوق بگیر'!G:G)),LOOKUP(D150,Master!D:D,Master!J:J))","v":0},{"$error":"#N/A"},0,0,{"$f":"IF(O150>#REF!,\"اخطار ساعت اضافه کار از حداکثر بیشتر است\",\" \")","v":{"$error":"#REF!"}},{"$f":"IF(O150>#REF!,1,0)","v":{"$error":"#REF!"}}]
[148,{"$f":"IF(D151=0,\"\",Settings!$D$6)","v":""},{"$f":"IF(D151=0,\"\",LOOKUP(B151,'Rigion Code'!A:A,'Rigion Code'!B:B))","v":""},null,{"$f":"IF(D151=0,\" \",IF(ISNA(MATCH(D151,Personnel!A:A,0)),IF(ISNA(MATCH(D151,'اطلاعات افراد غیر حقوق بگیر'!A:A,0)),\"وجود ندارد\",LOOKUP(Edit!D151,'اطلاعات افراد غیر حقوق بگیر'!A:A,'اطلاعات افراد غیر حقوق بگیر'!B:B)),LOOKUP(D151,Personnel!A:A,Personnel!C:C)))","v":" "},{"$f":"IF(D151=0,\" \",IF(ISNA(MATCH(D151,Personnel!A:A,0)),IF(ISNA(MATCH(D151,'اطلاعات افراد غیر حقوق بگیر'!A:A,0)),\"وجود ندارد\",LOOKUP(D151,'اطلاعات افراد غیر حقوق بگیر'!A:A,'اطلاعات افراد غیر حقوق بگیر'!C:C)),LOOKUP(D151,Personnel!A:A,Personnel!B:B)))","v":" "},{"$f":"IF(D151=0,0,IF(ISNA(MATCH(D151,Personnel!A:A,0)),IF(ISNA(MATCH(D151,'اطلاعات افراد غیر حقوق بگیر'!A:A,0)),\"وجود ندارد\",LOOKUP(D151,'اطلاعات افراد غیر حقوق بگیر'!A:A,'اطلاعات افراد غیر حقوق بگیر'!D:D)),LOOKUP(D151,Master!D:D,Master!CD:CD)))","v":0},{"$f":"IF(D151=0,\" \",IF(ISNA(MATCH(D151,Personnel!A:A,0)),IF(ISNA(MATCH(D151,'اطلاعات افراد غیر حقوق بگیر'!A:A,0)),\"وجود ندارد\",LOOKUP(D151,'اطلاعات افراد غیر حقوق بگیر'!A:A,'اطلاعات افراد غیر حقوق بگیر'!E:E)),LOOKUP(D151,Master!D:D,Master!AH:AH)))","v":" "},{"$f":"SUMIFS(Pays!G:G,Pays!E:E,1,Pays!D:D,D151)","v":0},{"$f":"SUMIFS(Pays!G:G,Pays!E:E,2,Pays!D:D,D151)","v":0},{"$f":"SUMIFS(Pays!G:G,Pays!E:E,57,Pays!D:D,D151)","v":0},{"$f":"SUMIF(Pays!D:D,D151,Pays!G:G)","v":0},{"$f":"SUMIF(Pays!D:D,D151,Pays!G:G)/176","v":0},{"$f":"IF(M151=0,IF(ISNA(MATCH(D151,'اطلاعات افراد غیر حقوق بگیر'!A:A,0)),0,LOOKUP(D151,'اطلاعات افراد غیر حقوق بگیر'!A:A,'اطلاعات افراد غیر حقوق بگیر'!F:F)),IF(H151=31,Settings!$D$13,ROUND(M151,0)))","v":0},null,0,{"$f":"IF(ISNA(MATCH(D151,Master!D:D,0)),IF(ISNA(MATCH(D151,'اطلاعات افراد غیر حقوق بگیر'!A:A,0)),0,LOOKUP(D151,'اطلاعات افراد غیر حقوق بگیر'!A:A,'اطلاعات افراد غیر حقوق بگیر'!G:G)),LOOKUP(D151,Master!D:D,Master!J:J))","v":0},{"$error":"#N/A"},0,0,{"$f":"IF(O151>#REF!,\"اخطار ساعت اضافه کار از حداکثر بیشتر است\",\" \")","v":{"$error":"#REF!"}},{"$f":"IF(O151>#REF!,1,0)","v":{"$error":"#REF!"}}]
[149,{"$f":"IF(D152=0,\"\",Settings!$D$6)","v":""},{"$f":"IF(D152=0,\"\",LOOKUP(B152,'Rigion Code'!A:A,'Rigion Code'!B:B))","v":""},null,{"$f":"IF(D152=0,\" \",IF(ISNA(MATCH(D152,Personnel!A:A,0)),IF(ISNA(MATCH(D152,'اطلاعات افراد غیر حقوق بگیر'!A:A,0)),\"وجود ندارد\",LOOKUP(Edit!D152,'اطلاعات افراد غیر حقوق بگیر'!A:A,'اطلاعات افراد غیر حقوق بگیر'!B:B)),LOOKUP(D152,Personnel!A:A,Personnel!C:C)))","v":" "},{"$f":"IF(D152=0,\" \",IF(ISNA(MATCH(D152,Personnel!A:A,0)),IF(ISNA(MATCH(D152,'اطلاعات افراد غیر حقوق بگیر'!A:A,0)),\"وجود ندارد\",LOOKUP(D152,'اطلاعات افراد غیر حقوق بگیر'!A:A,'اطلاعات افراد غیر حقوق بگیر'!C:C)),LOOKUP(D152,Personnel!A:A,Personnel!B:B)))","v":" "},{"$f":"IF(D152=0,0,IF(ISNA(MATCH(D152,Personnel!A:A,0)),IF(ISNA(MATCH(D152,'اطلاعات افراد غیر حقوق بگیر'!A:A,0)),\"وجود ندارد\",LOOKUP(D152,'اطلاعات افراد غیر حقوق بگیر'!A:A,'اطلاعات افراد غیر حقوق بگیر'!D:D)),LOOKUP(D152,Master!D:D,Master!CD:CD)))","v":0},{"$f":"IF(D152=0,\" \",IF(ISNA(MATCH(D152,Personnel!A:A,0)),IF(ISNA(MATCH(D152,'اطلاعات افراد غیر حقوق بگیر'!A:A,0)),\"وجود ندارد\",LOOKUP(D152,'اطلاعات افراد غیر حقوق بگیر'!A:A,'اطلاعات افراد غیر حقوق بگیر'!E:E)),LOOKUP(D152,Master!D:D,Master!AH:AH)))","v":" "},{"$f":"SUMIFS(Pays!G:G,Pays!E:E,1,Pays!D:D,D152)","v":0},{"$f":"SUMIFS(Pays!G:G,Pays!E:E,2,Pays!D:D,D152)","v":0},{"$f":"SUMIFS(Pays!G:G,Pays!E:E,57,Pays!D:D,D152)","v":0},{"$f":"SUMIF(Pays!D:D,D152,Pays!G:G)","v":0},{"$f":"SUMIF(Pays!D:D,D152,Pays!G:G)/176","v":0},{"$f":"IF(M152=0,IF(ISNA(MATCH(D152,'اطلاعات افراد غیر حقوق بگیر'!A:A,0)),0,LOOKUP(D152,'اطلاعات افراد غیر حقوق بگیر'!A:A,'اطلاعات افراد غیر حقوق بگیر'!F:F)),IF(H152=31,Settings!$D$13,ROUND(M152,0)))","v":0},null,0,{"$f":"IF(ISNA(MATCH(D152,Master!D:D,0)),IF(ISNA(MATCH(D152,'اطلاعات افراد غیر حقوق بگیر'!A:A,0)),0,LOOKUP(D152,'اطلاعات افراد غیر حقوق بگیر'!A:A,'اطلاعات افراد غیر حقوق بگیر'!G:G)),LOOKUP(D152,Master!D:D,Master!J:J))","v":0},{"$error":"#N/A"},0,0,{"$f":"IF(O152>#REF!,\"اخطار ساعت اضافه کار از حداکثر بیشتر است\",\" \")","v":{"$error":"#REF!"}},{"$f":"IF(O152>#REF!,1,0)","v":{"$error":"#REF!"}}]
[150,{"$f":"IF(D153=0,\"\",Settings!$D$6)","v":""},{"$f":"IF(D153=0,\"\",LOOKUP(B153,'Rigion Code'!A:A,'Rigion Code'!B:B))","v":""},null,{"$f":"IF(D153=0,\" \",IF(ISNA(MATCH(D153,Personnel!A:A,0)),IF(ISNA(MATCH(D153,'اطلاعات افراد غیر حقوق بگیر'!A:A,0)),\"وجود ندارد\",LOOKUP(Edit!D153,'اطلاعات افراد غیر حقوق بگیر'!A:A,'اطلاعات افراد غیر حقوق بگیر'!B:B)),LOOKUP(D153,Personnel!A:A,Personnel!C:C)))","v":" "},{"$f":"IF(D153=0,\" \",IF(ISNA(MATCH(D153,Personnel!A:A,0)),IF(ISNA(MATCH(D153,'اطلاعات افراد غیر حقوق بگیر'!A:A,0)),\"وجود ندارد\",LOOKUP(D153,'اطلاعات افراد غیر حقوق بگیر'!A:A,'اطلاعات افراد غیر حقوق بگیر'!C:C)),LOOKUP(D153,Personnel!A:A,Personnel!B:B)))","v":" "},{"$f":"IF(D153=0,0,IF(ISNA(MATCH(D153,Personnel!A:A,0)),IF(ISNA(MATCH(D153,'اطلاعات افراد غیر حقوق بگیر'!A:A,0)),\"وجود ندارد\",LOOKUP(D153,'اطلاعات افراد غیر حقوق بگیر'!A:A,'اطلاعات افراد غیر حقوق بگیر'!D:D)),LOOKUP(D153,Master!D:D,Master!CD:CD)))","v":0},{"$f":"IF(D153=0,\" \",IF(ISNA(MATCH(D153,Personnel!A:A,0)),IF(ISNA(MATCH(D153,'اطلاعات افراد غیر حقوق بگیر'!A:A,0)),\"وجود ندارد\",LOOKUP(D153,'اطلاعات افراد غیر حقوق بگیر'!A:A,'اطلاعات افراد غیر حقوق بگیر'!E:E)),LOOKUP(D153,Master!D:D,Master!AH:AH)))","v":" "},{"$f":"SUMIFS(Pays!G:G,Pays!E:E,1,Pays!D:D,D153)","v":0},{"$f":"SUMIFS(Pays!G:G,Pays!E:E,2,Pays!D:D,D153)","v":0},{"$f":"SUMIFS(Pays!G:G,Pays!E:E,57,Pays!D:D,D153)","v":0},{"$f":"SUMIF(Pays!D:D,D153,Pays!G:G)","v":0},{"$f":"SUMIF(Pays!D:D,D153,Pays!G:G)/176","v":0},{"$f":"IF(M153=0,IF(ISNA(MATCH(D153,'اطلاعات افراد غیر حقوق بگیر'!A:A,0)),0,LOOKUP(D153,'اطلاعات افراد غیر حقوق بگیر'!A:A,'اطلاعات افراد غیر حقوق بگیر'!F:F)),IF(H153=31,Settings!$D$13,ROUND(M153,0)))","v":0},null,0,{"$f":"IF(ISNA(MATCH(D153,Master!D:D,0)),IF(ISNA(MATCH(D153,'اطلاعات افراد غیر حقوق بگیر'!A:A,0)),0,LOOKUP(D153,'اطلاعات افراد غیر حقوق بگیر'!A:A,'اطلاعات افراد غیر حقوق بگیر'!G:G)),LOOKUP(D153,Master!D:D,Master!J:J))","v":0},{"$error":"#N/A"},0,0,{"$f":"IF(O153>#REF!,\"اخطار ساعت اضافه کار از حداکثر بیشتر است\",\" \")","v":{"$error":"#REF!"}},{"$f":"IF(O153>#REF!,1,0)","v":{"$error":"#REF!"}}]
[151,{"$f":"IF(D154=0,\"\",Settings!$D$6)","v":""},{"$f":"IF(D154=0,\"\",LOOKUP(B154,'Rigion Code'!A:A,'Rigion Code'!B:B))","v":""},null,{"$f":"IF(D154=0,\" \",IF(ISNA(MATCH(D154,Personnel!A:A,0)),IF(ISNA(MATCH(D154,'اطلاعات افراد غیر حقوق بگیر'!A:A,0)),\"وجود ندارد\",LOOKUP(Edit!D154,'اطلاعات افراد غیر حقوق بگیر'!A:A,'اطلاعات افراد غیر حقوق بگیر'!B:B)),LOOKUP(D154,Personnel!A:A,Personnel!C:C)))","v":" "},{"$f":"IF(D154=0,\" \",IF(ISNA(MATCH(D154,Personnel!A:A,0)),IF(ISNA(MATCH(D154,'اطلاعات افراد غیر حقوق بگیر'!A:A,0)),\"وجود ندارد\",LOOKUP(D154,'اطلاعات افراد غیر حقوق بگیر'!A:A,'اطلاعات افراد غیر حقوق بگیر'!C:C)),LOOKUP(D154,Personnel!A:A,Personnel!B:B)))","v":" "},{"$f":"IF(D154=0,0,IF(ISNA(MATCH(D154,Personnel!A:A,0)),IF(ISNA(MATCH(D154,'اطلاعات افراد غیر حقوق بگیر'!A:A,0)),\"وجود ندارد\",LOOKUP(D154,'اطلاعات افراد غیر حقوق بگیر'!A:A,'اطلاعات افراد غیر حقوق بگیر'!D:D)),LOOKUP(D154,Master!D:D,Master!CD:CD)))","v":0},{"$f":"IF(D154=0,\" \",IF(ISNA(MATCH(D154,Personnel!A:A,0)),IF(ISNA(MATCH(D154,'اطلاعات افراد غیر حقوق بگیر'!A:A,0)),\"وجود ندارد\",LOOKUP(D154,'اطلاعات افراد غیر حقوق بگیر'!A:A,'اطلاعات افراد غیر حقوق بگیر'!E:E)),LOOKUP(D154,Master!D:D,Master!AH:AH)))","v":" "},{"$f":"SUMIFS(Pays!G:G,Pays!E:E,1,Pays!D:D,D154)","v":0},{"$f":"SUMIFS(Pays!G:G,Pays!E:E,2,Pays!D:D,D154)","v":0},{"$f":"SUMIFS(Pays!G:G,Pays!E:E,57,Pays!D:D,D154)","v":0},{"$f":"SUMIF(Pays!D:D,D154,Pays!G:G)","v":0},{"$f":"SUMIF(Pays!D:D,D154,Pays!G:G)/176","v":0},{"$f":"IF(M154=0,IF(ISNA(MATCH(D154,'اطلاعات افراد غیر حقوق بگیر'!A:A,0)),0,LOOKUP(D154,'اطلاعات افراد غیر حقوق بگیر'!A:A,'اطلاعات افراد غیر حقوق بگیر'!F:F)),IF(H154=31,Settings!$D$13,ROUND(M154,0)))","v":0},null,0,{"$f":"IF(ISNA(MATCH(D154,Master!D:D,0)),IF(ISNA(MATCH(D154,'اطلاعات افراد غیر حقوق بگیر'!A:A,0)),0,LOOKUP(D154,'اطلاعات افراد غیر حقوق بگیر'!A:A,'اطلاعات افراد غیر حقوق بگیر'!G:G)),LOOKUP(D154,Master!D:D,Master!J:J))","v":0},{"$error":"#N/A"},0,0,{"$f":"IF(O154>#REF!,\"اخطار ساعت اضافه کار از حداکثر بیشتر است\",\" \")","v":{"$error":"#REF!"}},{"$f":"IF(O154>#REF!,1,0)","v":{"$error":"#REF!"}}]
[152,{"$f":"IF(D155=0,\"\",Settings!$D$6)","v":""},{"$f":"IF(D155=0,\"\",LOOKUP(B155,'Rigion Code'!A:A,'Rigion Code'!B:B))","v":""},null,{"$f":"IF(D155=0,\" \",IF(ISNA(MATCH(D155,Personnel!A:A,0)),IF(ISNA(MATCH(D155,'اطلاعات افراد غیر حقوق بگیر'!A:A,0)),\"وجود ندارد\",LOOKUP(Edit!D155,'اطلاعات افراد غیر حقوق بگیر'!A:A,'اطلاعات افراد غیر حقوق بگیر'!B:B)),LOOKUP(D155,Personnel!A:A,Personnel!C:C)))","v":" "},{"$f":"IF(D155=0,\" \",IF(ISNA(MATCH(D155,Personnel!A:A,0)),IF(ISNA(MATCH(D155,'اطلاعات افراد غیر حقوق بگیر'!A:A,0)),\"وجود ندارد\",LOOKUP(D155,'اطلاعات افراد غیر حقوق بگیر'!A:A,'اطلاعات افراد غیر حقوق بگیر'!C:C)),LOOKUP(D155,Personnel!A:A,Personnel!B:B)))","v":" "},{"$f":"IF(D155=0,0,IF(ISNA(MATCH(D155,Personnel!A:A,0)),IF(ISNA(MATCH(D155,'اطلاعات افراد غیر حقوق بگیر'!A:A,0)),\"وجود ندارد\",LOOKUP(D155,'اطلاعات افراد غیر حقوق بگیر'!A:A,'اطلاعات افراد غیر حقوق بگیر'!D:D)),LOOKUP(D155,Master!D:D,Master!CD:CD)))","v":0},{"$f":"IF(D155=0,\" \",IF(ISNA(MATCH(D155,Personnel!A:A,0)),IF(ISNA(MATCH(D155,'اطلاعات افراد غیر حقوق بگیر'!A:A,0)),\"وجود ندارد\",LOOKUP(D155,'اطلاعات افراد غیر حقوق بگیر'!A:A,'اطلاعات افراد غیر حقوق بگیر'!E:E)),LOOKUP(D155,Master!D:D,Master!AH:AH)))","v":" "},{"$f":"SUMIFS(Pays!G:G,Pays!E:E,1,Pays!D:D,D155)","v":0},{"$f":"SUMIFS(Pays!G:G,Pays!E:E,2,Pays!D:D,D155)","v":0},{"$f":"SUMIFS(Pays!G:G,Pays!E:E,57,Pays!D:D,D155)","v":0},{"$f":"SUMIF(Pays!D:D,D155,Pays!G:G)","v":0},{"$f":"SUMIF(Pays!D:D,D155,Pays!G:G)/176","v":0},{"$f":"IF(M155=0,IF(ISNA(MATCH(D155,'اطلاعات افراد غیر حقوق بگیر'!A:A,0)),0,LOOKUP(D155,'اطلاعات افراد غیر حقوق بگیر'!A:A,'اطلاعات افراد غیر حقوق بگیر'!F:F)),IF(H155=31,Settings!$D$13,ROUND(M155,0)))","v":0},null,0,{"$f":"IF(ISNA(MATCH(D155,Master!D:D,0)),IF(ISNA(MATCH(D155,'اطلاعات افراد غیر حقوق بگیر'!A:A,0)),0,LOOKUP(D155,'اطلاعات افراد غیر حقوق بگیر'!A:A,'اطلاعات افراد غیر حقوق بگیر'!G:G)),LOOKUP(D155,Master!D:D,Master!J:J))","v":0},{"$error":"#N/A"},0,0,{"$f":"IF(O155>#REF!,\"اخطار ساعت اضافه کار از حداکثر بیشتر است\",\" \")","v":{"$error":"#REF!"}},{"$f":"IF(O155>#REF!,1,0)","v":{"$error":"#REF!"}}]
[153,{"$f":"IF(D156=0,\"\",Settings!$D$6)","v":""},{"$f":"IF(D156=0,\"\",LOOKUP(B156,'Rigion Code'!A:A,'Rigion Code'!B:B))","v":""},null,{"$f":"IF(D156=0,\" \",IF(ISNA(MATCH(D156,Personnel!A:A,0)),IF(ISNA(MATCH(D156,'اطلاعات افراد غیر حقوق بگیر'!A:A,0)),\"وجود ندارد\",LOOKUP(Edit!D156,'اطلاعات افراد غیر حقوق بگیر'!A:A,'اطلاعات افراد غیر حقوق بگیر'!B:B)),LOOKUP(D156,Personnel!A:A,Personnel!C:C)))","v":" "},{"$f":"IF(D156=0,\" \",IF(ISNA(MATCH(D156,Personnel!A:A,0)),IF(ISNA(MATCH(D156,'اطلاعات افراد غیر حقوق بگیر'!A:A,0)),\"وجود ندارد\",LOOKUP(D156,'اطلاعات افراد غیر حقوق بگیر'!A:A,'اطلاعات افراد غیر حقوق بگیر'!C:C)),LOOKUP(D156,Personnel!A:A,Personnel!B:B)))","v":" "},{"$f":"IF(D156=0,0,IF(ISNA(MATCH(D156,Personnel!A:A,0)),IF(ISNA(MATCH(D156,'اطلاعات افراد غیر حقوق بگیر'!A:A,0)),\"وجود ندارد\",LOOKUP(D156,'اطلاعات افراد غیر حقوق بگیر'!A:A,'اطلاعات افراد غیر حقوق بگیر'!D:D)),LOOKUP(D156,Master!D:D,Master!CD:CD)))","v":0},{"$f":"IF(D156=0,\" \",IF(ISNA(MATCH(D156,Personnel!A:A,0)),IF(ISNA(MATCH(D156,'اطلاعات افراد غیر حقوق بگیر'!A:A,0)),\"وجود ندارد\",LOOKUP(D156,'اطلاعات افراد غیر حقوق بگیر'!A:A,'اطلاعات افراد غیر حقوق بگیر'!E:E)),LOOKUP(D156,Master!D:D,Master!AH:AH)))","v":" "},{"$f":"SUMIFS(Pays!G:G,Pays!E:E,1,Pays!D:D,D156)","v":0},{"$f":"SUMIFS(Pays!G:G,Pays!E:E,2,Pays!D:D,D156)","v":0},{"$f":"SUMIFS(Pays!G:G,Pays!E:E,57,Pays!D:D,D156)","v":0},{"$f":"SUMIF(Pays!D:D,D156,Pays!G:G)","v":0},{"$f":"SUMIF(Pays!D:D,D156,Pays!G:G)/176","v":0},{"$f":"IF(M156=0,IF(ISNA(MATCH(D156,'اطلاعات افراد غیر حقوق بگیر'!A:A,0)),0,LOOKUP(D156,'اطلاعات افراد غیر حقوق بگیر'!A:A,'اطلاعات افراد غیر حقوق بگیر'!F:F)),IF(H156=31,Settings!$D$13,ROUND(M156,0)))","v":0},null,0,{"$f":"IF(ISNA(MATCH(D156,Master!D:D,0)),IF(ISNA(MATCH(D156,'اطلاعات افراد غیر حقوق بگیر'!A:A,0)),0,LOOKUP(D156,'اطلاعات افراد غیر حقوق بگیر'!A:A,'اطلاعات افراد غیر حقوق بگیر'!G:G)),LOOKUP(D156,Master!D:D,Master!J:J))","v":0},{"$error":"#N/A"},0,0,{"$f":"IF(O156>#REF!,\"اخطار ساعت اضافه کار از حداکثر بیشتر است\",\" \")","v":{"$error":"#REF!"}},{"$f":"IF(O156>#REF!,1,0)","v":{"$error":"#REF!"}}]
[154,{"$f":"IF(D157=0,\"\",Settings!$D$6)","v":""},{"$f":"IF(D157=0,\"\",LOOKUP(B157,'Rigion Code'!A:A,'Rigion Code'!B:B))","v":""},null,{"$f":"IF(D157=0,\" \",IF(ISNA(MATCH(D157,Personnel!A:A,0)),IF(ISNA(MATCH(D157,'اطلاعات افراد غیر حقوق بگیر'!A:A,0)),\"وجود ندارد\",LOOKUP(Edit!D157,'اطلاعات افراد غیر حقوق بگیر'!A:A,'اطلاعات افراد غیر حقوق بگیر'!B:B)),LOOKUP(D157,Personnel!A:A,Personnel!C:C)))","v":" "},{"$f":"IF(D157=0,\" \",IF(ISNA(MATCH(D157,Personnel!A:A,0)),IF(ISNA(MATCH(D157,'اطلاعات افراد غیر حقوق بگیر'!A:A,0)),\"وجود ندارد\",LOOKUP(D157,'اطلاعات افراد غیر حقوق بگیر'!A:A,'اطلاعات افراد غیر حقوق بگیر'!C:C)),LOOKUP(D157,Personnel!A:A,Personnel!B:B)))","v":" "},{"$f":"IF(D157=0,0,IF(ISNA(MATCH(D157,Personnel!A:A,0)),IF(ISNA(MATCH(D157,'اطلاعات افراد غیر حقوق بگیر'!A:A,0)),\"وجود ندارد\",LOOKUP(D157,'اطلاعات افراد غیر حقوق بگیر'!A:A,'اطلاعات افراد غیر حقوق بگیر'!D:D)),LOOKUP(D157,Master!D:D,Master!CD:CD)))","v":0},{"$f":"IF(D157=0,\" \",IF(ISNA(MATCH(D157,Personnel!A:A,0)),IF(ISNA(MATCH(D157,'اطلاعات افراد غیر حقوق بگیر'!A:A,0)),\"وجود ندارد\",LOOKUP(D157,'اطلاعات افراد غیر حقوق بگیر'!A:A,'اطلاعات افراد غیر حقوق بگیر'!E:E)),LOOKUP(D157,Master!D:D,Master!AH:AH)))","v":" "},{"$f":"SUMIFS(Pays!G:G,Pays!E:E,1,Pays!D:D,D157)","v":0},{"$f":"SUMIFS(Pays!G:G,Pays!E:E,2,Pays!D:D,D157)","v":0},{"$f":"SUMIFS(Pays!G:G,Pays!E:E,57,Pays!D:D,D157)","v":0},{"$f":"SUMIF(Pays!D:D,D157,Pays!G:G)","v":0},{"$f":"SUMIF(Pays!D:D,D157,Pays!G:G)/176","v":0},{"$f":"IF(M157=0,IF(ISNA(MATCH(D157,'اطلاعات افراد غیر حقوق بگیر'!A:A,0)),0,LOOKUP(D157,'اطلاعات افراد غیر حقوق بگیر'!A:A,'اطلاعات افراد غیر حقوق بگیر'!F:F)),IF(H157=31,Settings!$D$13,ROUND(M157,0)))","v":0},null,0,{"$f":"IF(ISNA(MATCH(D157,Master!D:D,0)),IF(ISNA(MATCH(D157,'اطلاعات افراد غیر حقوق بگیر'!A:A,0)),0,LOOKUP(D157,'اطلاعات افراد غیر حقوق بگیر'!A:A,'اطلاعات افراد غیر حقوق بگیر'!G:G)),LOOKUP(D157,Master!D:D,Master!J:J))","v":0},{"$error":"#N/A"},0,0,{"$f":"IF(O157>#REF!,\"اخطار ساعت اضافه کار از حداکثر بیشتر است\",\" \")","v":{"$error":"#REF!"}},{"$f":"IF(O157>#REF!,1,0)","v":{"$error":"#REF!"}}]
[155,{"$f":"IF(D158=0,\"\",Settings!$D$6)","v":""},{"$f":"IF(D158=0,\"\",LOOKUP(B158,'Rigion Code'!A:A,'Rigion Code'!B:B))","v":""},null,{"$f":"IF(D158=0,\" \",IF(ISNA(MATCH(D158,Personnel!A:A,0)),IF(ISNA(MATCH(D158,'اطلاعات افراد غیر حقوق بگیر'!A:A,0)),\"وجود ندارد\",LOOKUP(Edit!D158,'اطلاعات افراد غیر حقوق بگیر'!A:A,'اطلاعات افراد غیر حقوق بگیر'!B:B)),LOOKUP(D158,Personnel!A:A,Personnel!C:C)))","v":" "},{"$f":"IF(D158=0,\" \",IF(ISNA(MATCH(D158,Personnel!A:A,0)),IF(ISNA(MATCH(D158,'اطلاعات افراد غیر حقوق بگیر'!A:A,0)),\"وجود ندارد\",LOOKUP(D158,'اطلاعات افراد غیر حقوق بگیر'!A:A,'اطلاعات افراد غیر حقوق بگیر'!C:C)),LOOKUP(D158,Personnel!A:A,Personnel!B:B)))","v":" "},{"$f":"IF(D158=0,0,IF(ISNA(MATCH(D158,Personnel!A:A,0)),IF(ISNA(MATCH(D158,'اطلاعات افراد غیر حقوق بگیر'!A:A,0)),\"وجود ندارد\",LOOKUP(D158,'اطلاعات افراد غیر حقوق بگیر'!A:A,'اطلاعات افراد غیر حقوق بگیر'!D:D)),LOOKUP(D158,Master!D:D,Master!CD:CD)))","v":0},{"$f":"IF(D158=0,\" \",IF(ISNA(MATCH(D158,Personnel!A:A,0)),IF(ISNA(MATCH(D158,'اطلاعات افراد غیر حقوق بگیر'!A:A,0)),\"وجود ندارد\",LOOKUP(D158,'اطلاعات افراد غیر حقوق بگیر'!A:A,'اطلاعات افراد غیر حقوق بگیر'!E:E)),LOOKUP(D158,Master!D:D,Master!AH:AH)))","v":" "},{"$f":"SUMIFS(Pays!G:G,Pays!E:E,1,Pays!D:D,D158)","v":0},{"$f":"SUMIFS(Pays!G:G,Pays!E:E,2,Pays!D:D,D158)","v":0},{"$f":"SUMIFS(Pays!G:G,Pays!E:E,57,Pays!D:D,D158)","v":0},{"$f":"SUMIF(Pays!D:D,D158,Pays!G:G)","v":0},{"$f":"SUMIF(Pays!D:D,D158,Pays!G:G)/176","v":0},{"$f":"IF(M158=0,IF(ISNA(MATCH(D158,'اطلاعات افراد غیر حقوق بگیر'!A:A,0)),0,LOOKUP(D158,'اطلاعات افراد غیر حقوق بگیر'!A:A,'اطلاعات افراد غیر حقوق بگیر'!F:F)),IF(H158=31,Settings!$D$13,ROUND(M158,0)))","v":0},null,0,{"$f":"IF(ISNA(MATCH(D158,Master!D:D,0)),IF(ISNA(MATCH(D158,'اطلاعات افراد غیر حقوق بگیر'!A:A,0)),0,LOOKUP(D158,'اطلاعات افراد غیر حقوق بگیر'!A:A,'اطلاعات افراد غیر حقوق بگیر'!G:G)),LOOKUP(D158,Master!D:D,Master!J:J))","v":0},{"$error":"#N/A"},0,0,{"$f":"IF(O158>#REF!,\"اخطار ساعت اضافه کار از حداکثر بیشتر است\",\" \")","v":{"$error":"#REF!"}},{"$f":"IF(O158>#REF!,1,0)","v":{"$error":"#REF!"}}]
[156,{"$f":"IF(D159=0,\"\",Settings!$D$6)","v":""},{"$f":"IF(D159=0,\"\",LOOKUP(B159,'Rigion Code'!A:A,'Rigion Code'!B:B))","v":""},null,{"$f":"IF(D159=0,\" \",IF(ISNA(MATCH(D159,Personnel!A:A,0)),IF(ISNA(MATCH(D159,'اطلاعات افراد غیر حقوق بگیر'!A:A,0)),\"وجود ندارد\",LOOKUP(Edit!D159,'اطلاعات افراد غیر حقوق بگیر'!A:A,'اطلاعات افراد غیر حقوق بگیر'!B:B)),LOOKUP(D159,Personnel!A:A,Personnel!C:C)))","v":" "},{"$f":"IF(D159=0,\" \",IF(ISNA(MATCH(D159,Personnel!A:A,0)),IF(ISNA(MATCH(D159,'اطلاعات افراد غیر حقوق بگیر'!A:A,0)),\"وجود ندارد\",LOOKUP(D159,'اطلاعات افراد غیر حقوق بگیر'!A:A,'اطلاعات افراد غیر حقوق بگیر'!C:C)),LOOKUP(D159,Personnel!A:A,Personnel!B:B)))","v":" "},{"$f":"IF(D159=0,0,IF(ISNA(MATCH(D159,Personnel!A:A,0)),IF(ISNA(MATCH(D159,'اطلاعات افراد غیر حقوق بگیر'!A:A,0)),\"وجود ندارد\",LOOKUP(D159,'اطلاعات افراد غیر حقوق بگیر'!A:A,'اطلاعات افراد غیر حقوق بگیر'!D:D)),LOOKUP(D159,Master!D:D,Master!CD:CD)))","v":0},{"$f":"IF(D159=0,\" \",IF(ISNA(MATCH(D159,Personnel!A:A,0)),IF(ISNA(MATCH(D159,'اطلاعات افراد غیر حقوق بگیر'!A:A,0)),\"وجود ندارد\",LOOKUP(D159,'اطلاعات افراد غیر حقوق بگیر'!A:A,'اطلاعات افراد غیر حقوق بگیر'!E:E)),LOOKUP(D159,Master!D:D,Master!AH:AH)))","v":" "},{"$f":"SUMIFS(Pays!G:G,Pays!E:E,1,Pays!D:D,D159)","v":0},{"$f":"SUMIFS(Pays!G:G,Pays!E:E,2,Pays!D:D,D159)","v":0},{"$f":"SUMIFS(Pays!G:G,Pays!E:E,57,Pays!D:D,D159)","v":0},{"$f":"SUMIF(Pays!D:D,D159,Pays!G:G)","v":0},{"$f":"SUMIF(Pays!D:D,D159,Pays!G:G)/176","v":0},{"$f":"IF(M159=0,IF(ISNA(MATCH(D159,'اطلاعات افراد غیر حقوق بگیر'!A:A,0)),0,LOOKUP(D159,'اطلاعات افراد غیر حقوق بگیر'!A:A,'اطلاعات افراد غیر حقوق بگیر'!F:F)),IF(H159=31,Settings!$D$13,ROUND(M159,0)))","v":0},null,0,{"$f":"IF(ISNA(MATCH(D159,Master!D:D,0)),IF(ISNA(MATCH(D159,'اطلاعات افراد غیر حقوق بگیر'!A:A,0)),0,LOOKUP(D159,'اطلاعات افراد غیر حقوق بگیر'!A:A,'اطلاعات افراد غیر حقوق بگیر'!G:G)),LOOKUP(D159,Master!D:D,Master!J:J))","v":0},{"$error":"#N/A"},0,0,{"$f":"IF(O159>#REF!,\"اخطار ساعت اضافه کار از حداکثر بیشتر است\",\" \")","v":{"$error":"#REF!"}},{"$f":"IF(O159>#REF!,1,0)","v":{"$error":"#REF!"}}]
[157,{"$f":"IF(D160=0,\"\",Settings!$D$6)","v":""},{"$f":"IF(D160=0,\"\",LOOKUP(B160,'Rigion Code'!A:A,'Rigion Code'!B:B))","v":""},null,{"$f":"IF(D160=0,\" \",IF(ISNA(MATCH(D160,Personnel!A:A,0)),IF(ISNA(MATCH(D160,'اطلاعات افراد غیر حقوق بگیر'!A:A,0)),\"وجود ندارد\",LOOKUP(Edit!D160,'اطلاعات افراد غیر حقوق بگیر'!A:A,'اطلاعات افراد غیر حقوق بگیر'!B:B)),LOOKUP(D160,Personnel!A:A,Personnel!C:C)))","v":" "},{"$f":"IF(D160=0,\" \",IF(ISNA(MATCH(D160,Personnel!A:A,0)),IF(ISNA(MATCH(D160,'اطلاعات افراد غیر حقوق بگیر'!A:A,0)),\"وجود ندارد\",LOOKUP(D160,'اطلاعات افراد غیر حقوق بگیر'!A:A,'اطلاعات افراد غیر حقوق بگیر'!C:C)),LOOKUP(D160,Personnel!A:A,Personnel!B:B)))","v":" "},{"$f":"IF(D160=0,0,IF(ISNA(MATCH(D160,Personnel!A:A,0)),IF(ISNA(MATCH(D160,'اطلاعات افراد غیر حقوق بگیر'!A:A,0)),\"وجود ندارد\",LOOKUP(D160,'اطلاعات افراد غیر حقوق بگیر'!A:A,'اطلاعات افراد غیر حقوق بگیر'!D:D)),LOOKUP(D160,Master!D:D,Master!CD:CD)))","v":0},{"$f":"IF(D160=0,\" \",IF(ISNA(MATCH(D160,Personnel!A:A,0)),IF(ISNA(MATCH(D160,'اطلاعات افراد غیر حقوق بگیر'!A:A,0)),\"وجود ندارد\",LOOKUP(D160,'اطلاعات افراد غیر حقوق بگیر'!A:A,'اطلاعات افراد غیر حقوق بگیر'!E:E)),LOOKUP(D160,Master!D:D,Master!AH:AH)))","v":" "},{"$f":"SUMIFS(Pays!G:G,Pays!E:E,1,Pays!D:D,D160)","v":0},{"$f":"SUMIFS(Pays!G:G,Pays!E:E,2,Pays!D:D,D160)","v":0},{"$f":"SUMIFS(Pays!G:G,Pays!E:E,57,Pays!D:D,D160)","v":0},{"$f":"SUMIF(Pays!D:D,D160,Pays!G:G)","v":0},{"$f":"SUMIF(Pays!D:D,D160,Pays!G:G)/176","v":0},{"$f":"IF(M160=0,IF(ISNA(MATCH(D160,'اطلاعات افراد غیر حقوق بگیر'!A:A,0)),0,LOOKUP(D160,'اطلاعات افراد غیر حقوق بگیر'!A:A,'اطلاعات افراد غیر حقوق بگیر'!F:F)),IF(H160=31,Settings!$D$13,ROUND(M160,0)))","v":0},null,0,{"$f":"IF(ISNA(MATCH(D160,Master!D:D,0)),IF(ISNA(MATCH(D160,'اطلاعات افراد غیر حقوق بگیر'!A:A,0)),0,LOOKUP(D160,'اطلاعات افراد غیر حقوق بگیر'!A:A,'اطلاعات افراد غیر حقوق بگیر'!G:G)),LOOKUP(D160,Master!D:D,Master!J:J))","v":0},{"$error":"#N/A"},0,0,{"$f":"IF(O160>#REF!,\"اخطار ساعت اضافه کار از حداکثر بیشتر است\",\" \")","v":{"$error":"#REF!"}},{"$f":"IF(O160>#REF!,1,0)","v":{"$error":"#REF!"}}]
[158,{"$f":"IF(D161=0,\"\",Settings!$D$6)","v":""},{"$f":"IF(D161=0,\"\",LOOKUP(B161,'Rigion Code'!A:A,'Rigion Code'!B:B))","v":""},null,{"$f":"IF(D161=0,\" \",IF(ISNA(MATCH(D161,Personnel!A:A,0)),IF(ISNA(MATCH(D161,'اطلاعات افراد غیر حقوق بگیر'!A:A,0)),\"وجود ندارد\",LOOKUP(Edit!D161,'اطلاعات افراد غیر حقوق بگیر'!A:A,'اطلاعات افراد غیر حقوق بگیر'!B:B)),LOOKUP(D161,Personnel!A:A,Personnel!C:C)))","v":" "},{"$f":"IF(D161=0,\" \",IF(ISNA(MATCH(D161,Personnel!A:A,0)),IF(ISNA(MATCH(D161,'اطلاعات افراد غیر حقوق بگیر'!A:A,0)),\"وجود ندارد\",LOOKUP(D161,'اطلاعات افراد غیر حقوق بگیر'!A:A,'اطلاعات افراد غیر حقوق بگیر'!C:C)),LOOKUP(D161,Personnel!A:A,Personnel!B:B)))","v":" "},{"$f":"IF(D161=0,0,IF(ISNA(MATCH(D161,Personnel!A:A,0)),IF(ISNA(MATCH(D161,'اطلاعات افراد غیر حقوق بگیر'!A:A,0)),\"وجود ندارد\",LOOKUP(D161,'اطلاعات افراد غیر حقوق بگیر'!A:A,'اطلاعات افراد غیر حقوق بگیر'!D:D)),LOOKUP(D161,Master!D:D,Master!CD:CD)))","v":0},{"$f":"IF(D161=0,\" \",IF(ISNA(MATCH(D161,Personnel!A:A,0)),IF(ISNA(MATCH(D161,'اطلاعات افراد غیر حقوق بگیر'!A:A,0)),\"وجود ندارد\",LOOKUP(D161,'اطلاعات افراد غیر حقوق بگیر'!A:A,'اطلاعات افراد غیر حقوق بگیر'!E:E)),LOOKUP(D161,Master!D:D,Master!AH:AH)))","v":" "},{"$f":"SUMIFS(Pays!G:G,Pays!E:E,1,Pays!D:D,D161)","v":0},{"$f":"SUMIFS(Pays!G:G,Pays!E:E,2,Pays!D:D,D161)","v":0},{"$f":"SUMIFS(Pays!G:G,Pays!E:E,57,Pays!D:D,D161)","v":0},{"$f":"SUMIF(Pays!D:D,D161,Pays!G:G)","v":0},{"$f":"SUMIF(Pays!D:D,D161,Pays!G:G)/176","v":0},{"$f":"IF(M161=0,IF(ISNA(MATCH(D161,'اطلاعات افراد غیر حقوق بگیر'!A:A,0)),0,LOOKUP(D161,'اطلاعات افراد غیر حقوق بگیر'!A:A,'اطلاعات افراد غیر حقوق بگیر'!F:F)),IF(H161=31,Settings!$D$13,ROUND(M161,0)))","v":0},null,0,{"$f":"IF(ISNA(MATCH(D161,Master!D:D,0)),IF(ISNA(MATCH(D161,'اطلاعات افراد غیر حقوق بگیر'!A:A,0)),0,LOOKUP(D161,'اطلاعات افراد غیر حقوق بگیر'!A:A,'اطلاعات افراد غیر حقوق بگیر'!G:G)),LOOKUP(D161,Master!D:D,Master!J:J))","v":0},{"$error":"#N/A"},0,0,{"$f":"IF(O161>#REF!,\"اخطار ساعت اضافه کار از حداکثر بیشتر است\",\" \")","v":{"$error":"#REF!"}},{"$f":"IF(O161>#REF!,1,0)","v":{"$error":"#REF!"}}]
[159,{"$f":"IF(D162=0,\"\",Settings!$D$6)","v":""},{"$f":"IF(D162=0,\"\",LOOKUP(B162,'Rigion Code'!A:A,'Rigion Code'!B:B))","v":""},null,{"$f":"IF(D162=0,\" \",IF(ISNA(MATCH(D162,Personnel!A:A,0)),IF(ISNA(MATCH(D162,'اطلاعات افراد غیر حقوق بگیر'!A:A,0)),\"وجود ندارد\",LOOKUP(Edit!D162,'اطلاعات افراد غیر حقوق بگیر'!A:A,'اطلاعات افراد غیر حقوق بگیر'!B:B)),LOOKUP(D162,Personnel!A:A,Personnel!C:C)))","v":" "},{"$f":"IF(D162=0,\" \",IF(ISNA(MATCH(D162,Personnel!A:A,0)),IF(ISNA(MATCH(D162,'اطلاعات افراد غیر حقوق بگیر'!A:A,0)),\"وجود ندارد\",LOOKUP(D162,'اطلاعات افراد غیر حقوق بگیر'!A:A,'اطلاعات افراد غیر حقوق بگیر'!C:C)),LOOKUP(D162,Personnel!A:A,Personnel!B:B)))","v":" "},{"$f":"IF(D162=0,0,IF(ISNA(MATCH(D162,Personnel!A:A,0)),IF(ISNA(MATCH(D162,'اطلاعات افراد غیر حقوق بگیر'!A:A,0)),\"وجود ندارد\",LOOKUP(D162,'اطلاعات افراد غیر حقوق بگیر'!A:A,'اطلاعات افراد غیر حقوق بگیر'!D:D)),LOOKUP(D162,Master!D:D,Master!CD:CD)))","v":0},{"$f":"IF(D162=0,\" \",IF(ISNA(MATCH(D162,Personnel!A:A,0)),IF(ISNA(MATCH(D162,'اطلاعات افراد غیر حقوق بگیر'!A:A,0)),\"وجود ندارد\",LOOKUP(D162,'اطلاعات افراد غیر حقوق بگیر'!A:A,'اطلاعات افراد غیر حقوق بگیر'!E:E)),LOOKUP(D162,Master!D:D,Master!AH:AH)))","v":" "},{"$f":"SUMIFS(Pays!G:G,Pays!E:E,1,Pays!D:D,D162)","v":0},{"$f":"SUMIFS(Pays!G:G,Pays!E:E,2,Pays!D:D,D162)","v":0},{"$f":"SUMIFS(Pays!G:G,Pays!E:E,57,Pays!D:D,D162)","v":0},{"$f":"SUMIF(Pays!D:D,D162,Pays!G:G)","v":0},{"$f":"SUMIF(Pays!D:D,D162,Pays!G:G)/176","v":0},{"$f":"IF(M162=0,IF(ISNA(MATCH(D162,'اطلاعات افراد غیر حقوق بگیر'!A:A,0)),0,LOOKUP(D162,'اطلاعات افراد غیر حقوق بگیر'!A:A,'اطلاعات افراد غیر حقوق بگیر'!F:F)),IF(H162=31,Settings!$D$13,ROUND(M162,0)))","v":0},null,0,{"$f":"IF(ISNA(MATCH(D162,Master!D:D,0)),IF(ISNA(MATCH(D162,'اطلاعات افراد غیر حقوق بگیر'!A:A,0)),0,LOOKUP(D162,'اطلاعات افراد غیر حقوق بگیر'!A:A,'اطلاعات افراد غیر حقوق بگیر'!G:G)),LOOKUP(D162,Master!D:D,Master!J:J))","v":0},{"$error":"#N/A"},0,0,{"$f":"IF(O162>#REF!,\"اخطار ساعت اضافه کار از حداکثر بیشتر است\",\" \")","v":{"$error":"#REF!"}},{"$f":"IF(O162>#REF!,1,0)","v":{"$error":"#REF!"}}]
[160,{"$f":"IF(D163=0,\"\",Settings!$D$6)","v":""},{"$f":"IF(D163=0,\"\",LOOKUP(B163,'Rigion Code'!A:A,'Rigion Code'!B:B))","v":""},null,{"$f":"IF(D163=0,\" \",IF(ISNA(MATCH(D163,Personnel!A:A,0)),IF(ISNA(MATCH(D163,'اطلاعات افراد غیر حقوق بگیر'!A:A,0)),\"وجود ندارد\",LOOKUP(Edit!D163,'اطلاعات افراد غیر حقوق بگیر'!A:A,'اطلاعات افراد غیر حقوق بگیر'!B:B)),LOOKUP(D163,Personnel!A:A,Personnel!C:C)))","v":" "},{"$f":"IF(D163=0,\" \",IF(ISNA(MATCH(D163,Personnel!A:A,0)),IF(ISNA(MATCH(D163,'اطلاعات افراد غیر حقوق بگیر'!A:A,0)),\"وجود ندارد\",LOOKUP(D163,'اطلاعات افراد غیر حقوق بگیر'!A:A,'اطلاعات افراد غیر حقوق بگیر'!C:C)),LOOKUP(D163,Personnel!A:A,Personnel!B:B)))","v":" "},{"$f":"IF(D163=0,0,IF(ISNA(MATCH(D163,Personnel!A:A,0)),IF(ISNA(MATCH(D163,'اطلاعات افراد غیر حقوق بگیر'!A:A,0)),\"وجود ندارد\",LOOKUP(D163,'اطلاعات افراد غیر حقوق بگیر'!A:A,'اطلاعات افراد غیر حقوق بگیر'!D:D)),LOOKUP(D163,Master!D:D,Master!CD:CD)))","v":0},{"$f":"IF(D163=0,\" \",IF(ISNA(MATCH(D163,Personnel!A:A,0)),IF(ISNA(MATCH(D163,'اطلاعات افراد غیر حقوق بگیر'!A:A,0)),\"وجود ندارد\",LOOKUP(D163,'اطلاعات افراد غیر حقوق بگیر'!A:A,'اطلاعات افراد غیر حقوق بگیر'!E:E)),LOOKUP(D163,Master!D:D,Master!AH:AH)))","v":" "},{"$f":"SUMIFS(Pays!G:G,Pays!E:E,1,Pays!D:D,D163)","v":0},{"$f":"SUMIFS(Pays!G:G,Pays!E:E,2,Pays!D:D,D163)","v":0},{"$f":"SUMIFS(Pays!G:G,Pays!E:E,57,Pays!D:D,D163)","v":0},{"$f":"SUMIF(Pays!D:D,D163,Pays!G:G)","v":0},{"$f":"SUMIF(Pays!D:D,D163,Pays!G:G)/176","v":0},{"$f":"IF(M163=0,IF(ISNA(MATCH(D163,'اطلاعات افراد غیر حقوق بگیر'!A:A,0)),0,LOOKUP(D163,'اطلاعات افراد غیر حقوق بگیر'!A:A,'اطلاعات افراد غیر حقوق بگیر'!F:F)),IF(H163=31,Settings!$D$13,ROUND(M163,0)))","v":0},null,0,{"$f":"IF(ISNA(MATCH(D163,Master!D:D,0)),IF(ISNA(MATCH(D163,'اطلاعات افراد غیر حقوق بگیر'!A:A,0)),0,LOOKUP(D163,'اطلاعات افراد غیر حقوق بگیر'!A:A,'اطلاعات افراد غیر حقوق بگیر'!G:G)),LOOKUP(D163,Master!D:D,Master!J:J))","v":0},{"$error":"#N/A"},0,0,{"$f":"IF(O163>#REF!,\"اخطار ساعت اضافه کار از حداکثر بیشتر است\",\" \")","v":{"$error":"#REF!"}},{"$f":"IF(O163>#REF!,1,0)","v":{"$error":"#REF!"}}]
[161,{"$f":"IF(D164=0,\"\",Settings!$D$6)","v":""},{"$f":"IF(D164=0,\"\",LOOKUP(B164,'Rigion Code'!A:A,'Rigion Code'!B:B))","v":""},null,{"$f":"IF(D164=0,\" \",IF(ISNA(MATCH(D164,Personnel!A:A,0)),IF(ISNA(MATCH(D164,'اطلاعات افراد غیر حقوق بگیر'!A:A,0)),\"وجود ندارد\",LOOKUP(Edit!D164,'اطلاعات افراد غیر حقوق بگیر'!A:A,'اطلاعات افراد غیر حقوق بگیر'!B:B)),LOOKUP(D164,Personnel!A:A,Personnel!C:C)))","v":" "},{"$f":"IF(D164=0,\" \",IF(ISNA(MATCH(D164,Personnel!A:A,0)),IF(ISNA(MATCH(D164,'اطلاعات افراد غیر حقوق بگیر'!A:A,0)),\"وجود ندارد\",LOOKUP(D164,'اطلاعات افراد غیر حقوق بگیر'!A:A,'اطلاعات افراد غیر حقوق بگیر'!C:C)),LOOKUP(D164,Personnel!A:A,Personnel!B:B)))","v":" "},{"$f":"IF(D164=0,0,IF(ISNA(MATCH(D164,Personnel!A:A,0)),IF(ISNA(MATCH(D164,'اطلاعات افراد غیر حقوق بگیر'!A:A,0)),\"وجود ندارد\",LOOKUP(D164,'اطلاعات افراد غیر حقوق بگیر'!A:A,'اطلاعات افراد غیر حقوق بگیر'!D:D)),LOOKUP(D164,Master!D:D,Master!CD:CD)))","v":0},{"$f":"IF(D164=0,\" \",IF(ISNA(MATCH(D164,Personnel!A:A,0)),IF(ISNA(MATCH(D164,'اطلاعات افراد غیر حقوق بگیر'!A:A,0)),\"وجود ندارد\",LOOKUP(D164,'اطلاعات افراد غیر حقوق بگیر'!A:A,'اطلاعات افراد غیر حقوق بگیر'!E:E)),LOOKUP(D164,Master!D:D,Master!AH:AH)))","v":" "},{"$f":"SUMIFS(Pays!G:G,Pays!E:E,1,Pays!D:D,D164)","v":0},{"$f":"SUMIFS(Pays!G:G,Pays!E:E,2,Pays!D:D,D164)","v":0},{"$f":"SUMIFS(Pays!G:G,Pays!E:E,57,Pays!D:D,D164)","v":0},{"$f":"SUMIF(Pays!D:D,D164,Pays!G:G)","v":0},{"$f":"SUMIF(Pays!D:D,D164,Pays!G:G)/176","v":0},{"$f":"IF(M164=0,IF(ISNA(MATCH(D164,'اطلاعات افراد غیر حقوق بگیر'!A:A,0)),0,LOOKUP(D164,'اطلاعات افراد غیر حقوق بگیر'!A:A,'اطلاعات افراد غیر حقوق بگیر'!F:F)),IF(H164=31,Settings!$D$13,ROUND(M164,0)))","v":0},null,0,{"$f":"IF(ISNA(MATCH(D164,Master!D:D,0)),IF(ISNA(MATCH(D164,'اطلاعات افراد غیر حقوق بگیر'!A:A,0)),0,LOOKUP(D164,'اطلاعات افراد غیر حقوق بگیر'!A:A,'اطلاعات افراد غیر حقوق بگیر'!G:G)),LOOKUP(D164,Master!D:D,Master!J:J))","v":0},{"$error":"#N/A"},0,0,{"$f":"IF(O164>#REF!,\"اخطار ساعت اضافه کار از حداکثر بیشتر است\",\" \")","v":{"$error":"#REF!"}},{"$f":"IF(O164>#REF!,1,0)","v":{"$error":"#REF!"}}]
[162,{"$f":"IF(D165=0,\"\",Settings!$D$6)","v":""},{"$f":"IF(D165=0,\"\",LOOKUP(B165,'Rigion Code'!A:A,'Rigion Code'!B:B))","v":""},null,{"$f":"IF(D165=0,\" \",IF(ISNA(MATCH(D165,Personnel!A:A,0)),IF(ISNA(MATCH(D165,'اطلاعات افراد غیر حقوق بگیر'!A:A,0)),\"وجود ندارد\",LOOKUP(Edit!D165,'اطلاعات افراد غیر حقوق بگیر'!A:A,'اطلاعات افراد غیر حقوق بگیر'!B:B)),LOOKUP(D165,Personnel!A:A,Personnel!C:C)))","v":" "},{"$f":"IF(D165=0,\" \",IF(ISNA(MATCH(D165,Personnel!A:A,0)),IF(ISNA(MATCH(D165,'اطلاعات افراد غیر حقوق بگیر'!A:A,0)),\"وجود ندارد\",LOOKUP(D165,'اطلاعات افراد غیر حقوق بگیر'!A:A,'اطلاعات افراد غیر حقوق بگیر'!C:C)),LOOKUP(D165,Personnel!A:A,Personnel!B:B)))","v":" "},{"$f":"IF(D165=0,0,IF(ISNA(MATCH(D165,Personnel!A:A,0)),IF(ISNA(MATCH(D165,'اطلاعات افراد غیر حقوق بگیر'!A:A,0)),\"وجود ندارد\",LOOKUP(D165,'اطلاعات افراد غیر حقوق بگیر'!A:A,'اطلاعات افراد غیر حقوق بگیر'!D:D)),LOOKUP(D165,Master!D:D,Master!CD:CD)))","v":0},{"$f":"IF(D165=0,\" \",IF(ISNA(MATCH(D165,Personnel!A:A,0)),IF(ISNA(MATCH(D165,'اطلاعات افراد غیر حقوق بگیر'!A:A,0)),\"وجود ندارد\",LOOKUP(D165,'اطلاعات افراد غیر حقوق بگیر'!A:A,'اطلاعات افراد غیر حقوق بگیر'!E:E)),LOOKUP(D165,Master!D:D,Master!AH:AH)))","v":" "},{"$f":"SUMIFS(Pays!G:G,Pays!E:E,1,Pays!D:D,D165)","v":0},{"$f":"SUMIFS(Pays!G:G,Pays!E:E,2,Pays!D:D,D165)","v":0},{"$f":"SUMIFS(Pays!G:G,Pays!E:E,57,Pays!D:D,D165)","v":0},{"$f":"SUMIF(Pays!D:D,D165,Pays!G:G)","v":0},{"$f":"SUMIF(Pays!D:D,D165,Pays!G:G)/176","v":0},{"$f":"IF(M165=0,IF(ISNA(MATCH(D165,'اطلاعات افراد غیر حقوق بگیر'!A:A,0)),0,LOOKUP(D165,'اطلاعات افراد غیر حقوق بگیر'!A:A,'اطلاعات افراد غیر حقوق بگیر'!F:F)),IF(H165=31,Settings!$D$13,ROUND(M165,0)))","v":0},null,0,{"$f":"IF(ISNA(MATCH(D165,Master!D:D,0)),IF(ISNA(MATCH(D165,'اطلاعات افراد غیر حقوق بگیر'!A:A,0)),0,LOOKUP(D165,'اطلاعات افراد غیر حقوق بگیر'!A:A,'اطلاعات افراد غیر حقوق بگیر'!G:G)),LOOKUP(D165,Master!D:D,Master!J:J))","v":0},{"$error":"#N/A"},0,0,{"$f":"IF(O165>#REF!,\"اخطار ساعت اضافه کار از حداکثر بیشتر است\",\" \")","v":{"$error":"#REF!"}},{"$f":"IF(O165>#REF!,1,0)","v":{"$error":"#REF!"}}]
[163,{"$f":"IF(D166=0,\"\",Settings!$D$6)","v":""},{"$f":"IF(D166=0,\"\",LOOKUP(B166,'Rigion Code'!A:A,'Rigion Code'!B:B))","v":""},null,{"$f":"IF(D166=0,\" \",IF(ISNA(MATCH(D166,Personnel!A:A,0)),IF(ISNA(MATCH(D166,'اطلاعات افراد غیر حقوق بگیر'!A:A,0)),\"وجود ندارد\",LOOKUP(Edit!D166,'اطلاعات افراد غیر حقوق بگیر'!A:A,'اطلاعات افراد غیر حقوق بگیر'!B:B)),LOOKUP(D166,Personnel!A:A,Personnel!C:C)))","v":" "},{"$f":"IF(D166=0,\" \",IF(ISNA(MATCH(D166,Personnel!A:A,0)),IF(ISNA(MATCH(D166,'اطلاعات افراد غیر حقوق بگیر'!A:A,0)),\"وجود ندارد\",LOOKUP(D166,'اطلاعات افراد غیر حقوق بگیر'!A:A,'اطلاعات افراد غیر حقوق بگیر'!C:C)),LOOKUP(D166,Personnel!A:A,Personnel!B:B)))","v":" "},{"$f":"IF(D166=0,0,IF(ISNA(MATCH(D166,Personnel!A:A,0)),IF(ISNA(MATCH(D166,'اطلاعات افراد غیر حقوق بگیر'!A:A,0)),\"وجود ندارد\",LOOKUP(D166,'اطلاعات افراد غیر حقوق بگیر'!A:A,'اطلاعات افراد غیر حقوق بگیر'!D:D)),LOOKUP(D166,Master!D:D,Master!CD:CD)))","v":0},{"$f":"IF(D166=0,\" \",IF(ISNA(MATCH(D166,Personnel!A:A,0)),IF(ISNA(MATCH(D166,'اطلاعات افراد غیر حقوق بگیر'!A:A,0)),\"وجود ندارد\",LOOKUP(D166,'اطلاعات افراد غیر حقوق بگیر'!A:A,'اطلاعات افراد غیر حقوق بگیر'!E:E)),LOOKUP(D166,Master!D:D,Master!AH:AH)))","v":" "},{"$f":"SUMIFS(Pays!G:G,Pays!E:E,1,Pays!D:D,D166)","v":0},{"$f":"SUMIFS(Pays!G:G,Pays!E:E,2,Pays!D:D,D166)","v":0},{"$f":"SUMIFS(Pays!G:G,Pays!E:E,57,Pays!D:D,D166)","v":0},{"$f":"SUMIF(Pays!D:D,D166,Pays!G:G)","v":0},{"$f":"SUMIF(Pays!D:D,D166,Pays!G:G)/176","v":0},{"$f":"IF(M166=0,IF(ISNA(MATCH(D166,'اطلاعات افراد غیر حقوق بگیر'!A:A,0)),0,LOOKUP(D166,'اطلاعات افراد غیر حقوق بگیر'!A:A,'اطلاعات افراد غیر حقوق بگیر'!F:F)),IF(H166=31,Settings!$D$13,ROUND(M166,0)))","v":0},null,0,{"$f":"IF(ISNA(MATCH(D166,Master!D:D,0)),IF(ISNA(MATCH(D166,'اطلاعات افراد غیر حقوق بگیر'!A:A,0)),0,LOOKUP(D166,'اطلاعات افراد غیر حقوق بگیر'!A:A,'اطلاعات افراد غیر حقوق بگیر'!G:G)),LOOKUP(D166,Master!D:D,Master!J:J))","v":0},{"$error":"#N/A"},0,0,{"$f":"IF(O166>#REF!,\"اخطار ساعت اضافه کار از حداکثر بیشتر است\",\" \")","v":{"$error":"#REF!"}},{"$f":"IF(O166>#REF!,1,0)","v":{"$error":"#REF!"}}]
[164,{"$f":"IF(D167=0,\"\",Settings!$D$6)","v":""},{"$f":"IF(D167=0,\"\",LOOKUP(B167,'Rigion Code'!A:A,'Rigion Code'!B:B))","v":""},null,{"$f":"IF(D167=0,\" \",IF(ISNA(MATCH(D167,Personnel!A:A,0)),IF(ISNA(MATCH(D167,'اطلاعات افراد غیر حقوق بگیر'!A:A,0)),\"وجود ندارد\",LOOKUP(Edit!D167,'اطلاعات افراد غیر حقوق بگیر'!A:A,'اطلاعات افراد غیر حقوق بگیر'!B:B)),LOOKUP(D167,Personnel!A:A,Personnel!C:C)))","v":" "},{"$f":"IF(D167=0,\" \",IF(ISNA(MATCH(D167,Personnel!A:A,0)),IF(ISNA(MATCH(D167,'اطلاعات افراد غیر حقوق بگیر'!A:A,0)),\"وجود ندارد\",LOOKUP(D167,'اطلاعات افراد غیر حقوق بگیر'!A:A,'اطلاعات افراد غیر حقوق بگیر'!C:C)),LOOKUP(D167,Personnel!A:A,Personnel!B:B)))","v":" "},{"$f":"IF(D167=0,0,IF(ISNA(MATCH(D167,Personnel!A:A,0)),IF(ISNA(MATCH(D167,'اطلاعات افراد غیر حقوق بگیر'!A:A,0)),\"وجود ندارد\",LOOKUP(D167,'اطلاعات افراد غیر حقوق بگیر'!A:A,'اطلاعات افراد غیر حقوق بگیر'!D:D)),LOOKUP(D167,Master!D:D,Master!CD:CD)))","v":0},{"$f":"IF(D167=0,\" \",IF(ISNA(MATCH(D167,Personnel!A:A,0)),IF(ISNA(MATCH(D167,'اطلاعات افراد غیر حقوق بگیر'!A:A,0)),\"وجود ندارد\",LOOKUP(D167,'اطلاعات افراد غیر حقوق بگیر'!A:A,'اطلاعات افراد غیر حقوق بگیر'!E:E)),LOOKUP(D167,Master!D:D,Master!AH:AH)))","v":" "},{"$f":"SUMIFS(Pays!G:G,Pays!E:E,1,Pays!D:D,D167)","v":0},{"$f":"SUMIFS(Pays!G:G,Pays!E:E,2,Pays!D:D,D167)","v":0},{"$f":"SUMIFS(Pays!G:G,Pays!E:E,57,Pays!D:D,D167)","v":0},{"$f":"SUMIF(Pays!D:D,D167,Pays!G:G)","v":0},{"$f":"SUMIF(Pays!D:D,D167,Pays!G:G)/176","v":0},{"$f":"IF(M167=0,IF(ISNA(MATCH(D167,'اطلاعات افراد غیر حقوق بگیر'!A:A,0)),0,LOOKUP(D167,'اطلاعات افراد غیر حقوق بگیر'!A:A,'اطلاعات افراد غیر حقوق بگیر'!F:F)),IF(H167=31,Settings!$D$13,ROUND(M167,0)))","v":0},null,0,{"$f":"IF(ISNA(MATCH(D167,Master!D:D,0)),IF(ISNA(MATCH(D167,'اطلاعات افراد غیر حقوق بگیر'!A:A,0)),0,LOOKUP(D167,'اطلاعات افراد غیر حقوق بگیر'!A:A,'اطلاعات افراد غیر حقوق بگیر'!G:G)),LOOKUP(D167,Master!D:D,Master!J:J))","v":0},{"$error":"#N/A"},0,0,{"$f":"IF(O167>#REF!,\"اخطار ساعت اضافه کار از حداکثر بیشتر است\",\" \")","v":{"$error":"#REF!"}},{"$f":"IF(O167>#REF!,1,0)","v":{"$error":"#REF!"}}]
[165,{"$f":"IF(D168=0,\"\",Settings!$D$6)","v":""},{"$f":"IF(D168=0,\"\",LOOKUP(B168,'Rigion Code'!A:A,'Rigion Code'!B:B))","v":""},null,{"$f":"IF(D168=0,\" \",IF(ISNA(MATCH(D168,Personnel!A:A,0)),IF(ISNA(MATCH(D168,'اطلاعات افراد غیر حقوق بگیر'!A:A,0)),\"وجود ندارد\",LOOKUP(Edit!D168,'اطلاعات افراد غیر حقوق بگیر'!A:A,'اطلاعات افراد غیر حقوق بگیر'!B:B)),LOOKUP(D168,Personnel!A:A,Personnel!C:C)))","v":" "},{"$f":"IF(D168=0,\" \",IF(ISNA(MATCH(D168,Personnel!A:A,0)),IF(ISNA(MATCH(D168,'اطلاعات افراد غیر حقوق بگیر'!A:A,0)),\"وجود ندارد\",LOOKUP(D168,'اطلاعات افراد غیر حقوق بگیر'!A:A,'اطلاعات افراد غیر حقوق بگیر'!C:C)),LOOKUP(D168,Personnel!A:A,Personnel!B:B)))","v":" "},{"$f":"IF(D168=0,0,IF(ISNA(MATCH(D168,Personnel!A:A,0)),IF(ISNA(MATCH(D168,'اطلاعات افراد غیر حقوق بگیر'!A:A,0)),\"وجود ندارد\",LOOKUP(D168,'اطلاعات افراد غیر حقوق بگیر'!A:A,'اطلاعات افراد غیر حقوق بگیر'!D:D)),LOOKUP(D168,Master!D:D,Master!CD:CD)))","v":0},{"$f":"IF(D168=0,\" \",IF(ISNA(MATCH(D168,Personnel!A:A,0)),IF(ISNA(MATCH(D168,'اطلاعات افراد غیر حقوق بگیر'!A:A,0)),\"وجود ندارد\",LOOKUP(D168,'اطلاعات افراد غیر حقوق بگیر'!A:A,'اطلاعات افراد غیر حقوق بگیر'!E:E)),LOOKUP(D168,Master!D:D,Master!AH:AH)))","v":" "},{"$f":"SUMIFS(Pays!G:G,Pays!E:E,1,Pays!D:D,D168)","v":0},{"$f":"SUMIFS(Pays!G:G,Pays!E:E,2,Pays!D:D,D168)","v":0},{"$f":"SUMIFS(Pays!G:G,Pays!E:E,57,Pays!D:D,D168)","v":0},{"$f":"SUMIF(Pays!D:D,D168,Pays!G:G)","v":0},{"$f":"SUMIF(Pays!D:D,D168,Pays!G:G)/176","v":0},{"$f":"IF(M168=0,IF(ISNA(MATCH(D168,'اطلاعات افراد غیر حقوق بگیر'!A:A,0)),0,LOOKUP(D168,'اطلاعات افراد غیر حقوق بگیر'!A:A,'اطلاعات افراد غیر حقوق بگیر'!F:F)),IF(H168=31,Settings!$D$13,ROUND(M168,0)))","v":0},null,0,{"$f":"IF(ISNA(MATCH(D168,Master!D:D,0)),IF(ISNA(MATCH(D168,'اطلاعات افراد غیر حقوق بگیر'!A:A,0)),0,LOOKUP(D168,'اطلاعات افراد غیر حقوق بگیر'!A:A,'اطلاعات افراد غیر حقوق بگیر'!G:G)),LOOKUP(D168,Master!D:D,Master!J:J))","v":0},{"$error":"#N/A"},0,0,{"$f":"IF(O168>#REF!,\"اخطار ساعت اضافه کار از حداکثر بیشتر است\",\" \")","v":{"$error":"#REF!"}},{"$f":"IF(O168>#REF!,1,0)","v":{"$error":"#REF!"}}]
[166,{"$f":"IF(D169=0,\"\",Settings!$D$6)","v":""},{"$f":"IF(D169=0,\"\",LOOKUP(B169,'Rigion Code'!A:A,'Rigion Code'!B:B))","v":""},null,{"$f":"IF(D169=0,\" \",IF(ISNA(MATCH(D169,Personnel!A:A,0)),IF(ISNA(MATCH(D169,'اطلاعات افراد غیر حقوق بگیر'!A:A,0)),\"وجود ندارد\",LOOKUP(Edit!D169,'اطلاعات افراد غیر حقوق بگیر'!A:A,'اطلاعات افراد غیر حقوق بگیر'!B:B)),LOOKUP(D169,Personnel!A:A,Personnel!C:C)))","v":" "},{"$f":"IF(D169=0,\" \",IF(ISNA(MATCH(D169,Personnel!A:A,0)),IF(ISNA(MATCH(D169,'اطلاعات افراد غیر حقوق بگیر'!A:A,0)),\"وجود ندارد\",LOOKUP(D169,'اطلاعات افراد غیر حقوق بگیر'!A:A,'اطلاعات افراد غیر حقوق بگیر'!C:C)),LOOKUP(D169,Personnel!A:A,Personnel!B:B)))","v":" "},{"$f":"IF(D169=0,0,IF(ISNA(MATCH(D169,Personnel!A:A,0)),IF(ISNA(MATCH(D169,'اطلاعات افراد غیر حقوق بگیر'!A:A,0)),\"وجود ندارد\",LOOKUP(D169,'اطلاعات افراد غیر حقوق بگیر'!A:A,'اطلاعات افراد غیر حقوق بگیر'!D:D)),LOOKUP(D169,Master!D:D,Master!CD:CD)))","v":0},{"$f":"IF(D169=0,\" \",IF(ISNA(MATCH(D169,Personnel!A:A,0)),IF(ISNA(MATCH(D169,'اطلاعات افراد غیر حقوق بگیر'!A:A,0)),\"وجود ندارد\",LOOKUP(D169,'اطلاعات افراد غیر حقوق بگیر'!A:A,'اطلاعات افراد غیر حقوق بگیر'!E:E)),LOOKUP(D169,Master!D:D,Master!AH:AH)))","v":" "},{"$f":"SUMIFS(Pays!G:G,Pays!E:E,1,Pays!D:D,D169)","v":0},{"$f":"SUMIFS(Pays!G:G,Pays!E:E,2,Pays!D:D,D169)","v":0},{"$f":"SUMIFS(Pays!G:G,Pays!E:E,57,Pays!D:D,D169)","v":0},{"$f":"SUMIF(Pays!D:D,D169,Pays!G:G)","v":0},{"$f":"SUMIF(Pays!D:D,D169,Pays!G:G)/176","v":0},{"$f":"IF(M169=0,IF(ISNA(MATCH(D169,'اطلاعات افراد غیر حقوق بگیر'!A:A,0)),0,LOOKUP(D169,'اطلاعات افراد غیر حقوق بگیر'!A:A,'اطلاعات افراد غیر حقوق بگیر'!F:F)),IF(H169=31,Settings!$D$13,ROUND(M169,0)))","v":0},null,0,{"$f":"IF(ISNA(MATCH(D169,Master!D:D,0)),IF(ISNA(MATCH(D169,'اطلاعات افراد غیر حقوق بگیر'!A:A,0)),0,LOOKUP(D169,'اطلاعات افراد غیر حقوق بگیر'!A:A,'اطلاعات افراد غیر حقوق بگیر'!G:G)),LOOKUP(D169,Master!D:D,Master!J:J))","v":0},{"$error":"#N/A"},0,0,{"$f":"IF(O169>#REF!,\"اخطار ساعت اضافه کار از حداکثر بیشتر است\",\" \")","v":{"$error":"#REF!"}},{"$f":"IF(O169>#REF!,1,0)","v":{"$error":"#REF!"}}]
[167,{"$f":"IF(D170=0,\"\",Settings!$D$6)","v":""},{"$f":"IF(D170=0,\"\",LOOKUP(B170,'Rigion Code'!A:A,'Rigion Code'!B:B))","v":""},null,{"$f":"IF(D170=0,\" \",IF(ISNA(MATCH(D170,Personnel!A:A,0)),IF(ISNA(MATCH(D170,'اطلاعات افراد غیر حقوق بگیر'!A:A,0)),\"وجود ندارد\",LOOKUP(Edit!D170,'اطلاعات افراد غیر حقوق بگیر'!A:A,'اطلاعات افراد غیر حقوق بگیر'!B:B)),LOOKUP(D170,Personnel!A:A,Personnel!C:C)))","v":" "},{"$f":"IF(D170=0,\" \",IF(ISNA(MATCH(D170,Personnel!A:A,0)),IF(ISNA(MATCH(D170,'اطلاعات افراد غیر حقوق بگیر'!A:A,0)),\"وجود ندارد\",LOOKUP(D170,'اطلاعات افراد غیر حقوق بگیر'!A:A,'اطلاعات افراد غیر حقوق بگیر'!C:C)),LOOKUP(D170,Personnel!A:A,Personnel!B:B)))","v":" "},{"$f":"IF(D170=0,0,IF(ISNA(MATCH(D170,Personnel!A:A,0)),IF(ISNA(MATCH(D170,'اطلاعات افراد غیر حقوق بگیر'!A:A,0)),\"وجود ندارد\",LOOKUP(D170,'اطلاعات افراد غیر حقوق بگیر'!A:A,'اطلاعات افراد غیر حقوق بگیر'!D:D)),LOOKUP(D170,Master!D:D,Master!CD:CD)))","v":0},{"$f":"IF(D170=0,\" \",IF(ISNA(MATCH(D170,Personnel!A:A,0)),IF(ISNA(MATCH(D170,'اطلاعات افراد غیر حقوق بگیر'!A:A,0)),\"وجود ندارد\",LOOKUP(D170,'اطلاعات افراد غیر حقوق بگیر'!A:A,'اطلاعات افراد غیر حقوق بگیر'!E:E)),LOOKUP(D170,Master!D:D,Master!AH:AH)))","v":" "},{"$f":"SUMIFS(Pays!G:G,Pays!E:E,1,Pays!D:D,D170)","v":0},{"$f":"SUMIFS(Pays!G:G,Pays!E:E,2,Pays!D:D,D170)","v":0},{"$f":"SUMIFS(Pays!G:G,Pays!E:E,57,Pays!D:D,D170)","v":0},{"$f":"SUMIF(Pays!D:D,D170,Pays!G:G)","v":0},{"$f":"SUMIF(Pays!D:D,D170,Pays!G:G)/176","v":0},{"$f":"IF(M170=0,IF(ISNA(MATCH(D170,'اطلاعات افراد غیر حقوق بگیر'!A:A,0)),0,LOOKUP(D170,'اطلاعات افراد غیر حقوق بگیر'!A:A,'اطلاعات افراد غیر حقوق بگیر'!F:F)),IF(H170=31,Settings!$D$13,ROUND(M170,0)))","v":0},null,0,{"$f":"IF(ISNA(MATCH(D170,Master!D:D,0)),IF(ISNA(MATCH(D170,'اطلاعات افراد غیر حقوق بگیر'!A:A,0)),0,LOOKUP(D170,'اطلاعات افراد غیر حقوق بگیر'!A:A,'اطلاعات افراد غیر حقوق بگیر'!G:G)),LOOKUP(D170,Master!D:D,Master!J:J))","v":0},{"$error":"#N/A"},0,0,{"$f":"IF(O170>#REF!,\"اخطار ساعت اضافه کار از حداکثر بیشتر است\",\" \")","v":{"$error":"#REF!"}},{"$f":"IF(O170>#REF!,1,0)","v":{"$error":"#REF!"}}]
[168,{"$f":"IF(D171=0,\"\",Settings!$D$6)","v":""},{"$f":"IF(D171=0,\"\",LOOKUP(B171,'Rigion Code'!A:A,'Rigion Code'!B:B))","v":""},null,{"$f":"IF(D171=0,\" \",IF(ISNA(MATCH(D171,Personnel!A:A,0)),IF(ISNA(MATCH(D171,'اطلاعات افراد غیر حقوق بگیر'!A:A,0)),\"وجود ندارد\",LOOKUP(Edit!D171,'اطلاعات افراد غیر حقوق بگیر'!A:A,'اطلاعات افراد غیر حقوق بگیر'!B:B)),LOOKUP(D171,Personnel!A:A,Personnel!C:C)))","v":" "},{"$f":"IF(D171=0,\" \",IF(ISNA(MATCH(D171,Personnel!A:A,0)),IF(ISNA(MATCH(D171,'اطلاعات افراد غیر حقوق بگیر'!A:A,0)),\"وجود ندارد\",LOOKUP(D171,'اطلاعات افراد غیر حقوق بگیر'!A:A,'اطلاعات افراد غیر حقوق بگیر'!C:C)),LOOKUP(D171,Personnel!A:A,Personnel!B:B)))","v":" "},{"$f":"IF(D171=0,0,IF(ISNA(MATCH(D171,Personnel!A:A,0)),IF(ISNA(MATCH(D171,'اطلاعات افراد غیر حقوق بگیر'!A:A,0)),\"وجود ندارد\",LOOKUP(D171,'اطلاعات افراد غیر حقوق بگیر'!A:A,'اطلاعات افراد غیر حقوق بگیر'!D:D)),LOOKUP(D171,Master!D:D,Master!CD:CD)))","v":0},{"$f":"IF(D171=0,\" \",IF(ISNA(MATCH(D171,Personnel!A:A,0)),IF(ISNA(MATCH(D171,'اطلاعات افراد غیر حقوق بگیر'!A:A,0)),\"وجود ندارد\",LOOKUP(D171,'اطلاعات افراد غیر حقوق بگیر'!A:A,'اطلاعات افراد غیر حقوق بگیر'!E:E)),LOOKUP(D171,Master!D:D,Master!AH:AH)))","v":" "},{"$f":"SUMIFS(Pays!G:G,Pays!E:E,1,Pays!D:D,D171)","v":0},{"$f":"SUMIFS(Pays!G:G,Pays!E:E,2,Pays!D:D,D171)","v":0},{"$f":"SUMIFS(Pays!G:G,Pays!E:E,57,Pays!D:D,D171)","v":0},{"$f":"SUMIF(Pays!D:D,D171,Pays!G:G)","v":0},{"$f":"SUMIF(Pays!D:D,D171,Pays!G:G)/176","v":0},{"$f":"IF(M171=0,IF(ISNA(MATCH(D171,'اطلاعات افراد غیر حقوق بگیر'!A:A,0)),0,LOOKUP(D171,'اطلاعات افراد غیر حقوق بگیر'!A:A,'اطلاعات افراد غیر حقوق بگیر'!F:F)),IF(H171=31,Settings!$D$13,ROUND(M171,0)))","v":0},null,0,{"$f":"IF(ISNA(MATCH(D171,Master!D:D,0)),IF(ISNA(MATCH(D171,'اطلاعات افراد غیر حقوق بگیر'!A:A,0)),0,LOOKUP(D171,'اطلاعات افراد غیر حقوق بگیر'!A:A,'اطلاعات افراد غیر حقوق بگیر'!G:G)),LOOKUP(D171,Master!D:D,Master!J:J))","v":0},{"$error":"#N/A"},0,0,{"$f":"IF(O171>#REF!,\"اخطار ساعت اضافه کار از حداکثر بیشتر است\",\" \")","v":{"$error":"#REF!"}},{"$f":"IF(O171>#REF!,1,0)","v":{"$error":"#REF!"}}]
[169,{"$f":"IF(D172=0,\"\",Settings!$D$6)","v":""},{"$f":"IF(D172=0,\"\",LOOKUP(B172,'Rigion Code'!A:A,'Rigion Code'!B:B))","v":""},null,{"$f":"IF(D172=0,\" \",IF(ISNA(MATCH(D172,Personnel!A:A,0)),IF(ISNA(MATCH(D172,'اطلاعات افراد غیر حقوق بگیر'!A:A,0)),\"وجود ندارد\",LOOKUP(Edit!D172,'اطلاعات افراد غیر حقوق بگیر'!A:A,'اطلاعات افراد غیر حقوق بگیر'!B:B)),LOOKUP(D172,Personnel!A:A,Personnel!C:C)))","v":" "},{"$f":"IF(D172=0,\" \",IF(ISNA(MATCH(D172,Personnel!A:A,0)),IF(ISNA(MATCH(D172,'اطلاعات افراد غیر حقوق بگیر'!A:A,0)),\"وجود ندارد\",LOOKUP(D172,'اطلاعات افراد غیر حقوق بگیر'!A:A,'اطلاعات افراد غیر حقوق بگیر'!C:C)),LOOKUP(D172,Personnel!A:A,Personnel!B:B)))","v":" "},{"$f":"IF(D172=0,0,IF(ISNA(MATCH(D172,Personnel!A:A,0)),IF(ISNA(MATCH(D172,'اطلاعات افراد غیر حقوق بگیر'!A:A,0)),\"وجود ندارد\",LOOKUP(D172,'اطلاعات افراد غیر حقوق بگیر'!A:A,'اطلاعات افراد غیر حقوق بگیر'!D:D)),LOOKUP(D172,Master!D:D,Master!CD:CD)))","v":0},{"$f":"IF(D172=0,\" \",IF(ISNA(MATCH(D172,Personnel!A:A,0)),IF(ISNA(MATCH(D172,'اطلاعات افراد غیر حقوق بگیر'!A:A,0)),\"وجود ندارد\",LOOKUP(D172,'اطلاعات افراد غیر حقوق بگیر'!A:A,'اطلاعات افراد غیر حقوق بگیر'!E:E)),LOOKUP(D172,Master!D:D,Master!AH:AH)))","v":" "},{"$f":"SUMIFS(Pays!G:G,Pays!E:E,1,Pays!D:D,D172)","v":0},{"$f":"SUMIFS(Pays!G:G,Pays!E:E,2,Pays!D:D,D172)","v":0},{"$f":"SUMIFS(Pays!G:G,Pays!E:E,57,Pays!D:D,D172)","v":0},{"$f":"SUMIF(Pays!D:D,D172,Pays!G:G)","v":0},{"$f":"SUMIF(Pays!D:D,D172,Pays!G:G)/176","v":0},{"$f":"IF(M172=0,IF(ISNA(MATCH(D172,'اطلاعات افراد غیر حقوق بگیر'!A:A,0)),0,LOOKUP(D172,'اطلاعات افراد غیر حقوق بگیر'!A:A,'اطلاعات افراد غیر حقوق بگیر'!F:F)),IF(H172=31,Settings!$D$13,ROUND(M172,0)))","v":0},null,0,{"$f":"IF(ISNA(MATCH(D172,Master!D:D,0)),IF(ISNA(MATCH(D172,'اطلاعات افراد غیر حقوق بگیر'!A:A,0)),0,LOOKUP(D172,'اطلاعات افراد غیر حقوق بگیر'!A:A,'اطلاعات افراد غیر حقوق بگیر'!G:G)),LOOKUP(D172,Master!D:D,Master!J:J))","v":0},{"$error":"#N/A"},0,0,{"$f":"IF(O172>#REF!,\"اخطار ساعت اضافه کار از حداکثر بیشتر است\",\" \")","v":{"$error":"#REF!"}},{"$f":"IF(O172>#REF!,1,0)","v":{"$error":"#REF!"}}]
[170,{"$f":"IF(D173=0,\"\",Settings!$D$6)","v":""},{"$f":"IF(D173=0,\"\",LOOKUP(B173,'Rigion Code'!A:A,'Rigion Code'!B:B))","v":""},null,{"$f":"IF(D173=0,\" \",IF(ISNA(MATCH(D173,Personnel!A:A,0)),IF(ISNA(MATCH(D173,'اطلاعات افراد غیر حقوق بگیر'!A:A,0)),\"وجود ندارد\",LOOKUP(Edit!D173,'اطلاعات افراد غیر حقوق بگیر'!A:A,'اطلاعات افراد غیر حقوق بگیر'!B:B)),LOOKUP(D173,Personnel!A:A,Personnel!C:C)))","v":" "},{"$f":"IF(D173=0,\" \",IF(ISNA(MATCH(D173,Personnel!A:A,0)),IF(ISNA(MATCH(D173,'اطلاعات افراد غیر حقوق بگیر'!A:A,0)),\"وجود ندارد\",LOOKUP(D173,'اطلاعات افراد غیر حقوق بگیر'!A:A,'اطلاعات افراد غیر حقوق بگیر'!C:C)),LOOKUP(D173,Personnel!A:A,Personnel!B:B)))","v":" "},{"$f":"IF(D173=0,0,IF(ISNA(MATCH(D173,Personnel!A:A,0)),IF(ISNA(MATCH(D173,'اطلاعات افراد غیر حقوق بگیر'!A:A,0)),\"وجود ندارد\",LOOKUP(D173,'اطلاعات افراد غیر حقوق بگیر'!A:A,'اطلاعات افراد غیر حقوق بگیر'!D:D)),LOOKUP(D173,Master!D:D,Master!CD:CD)))","v":0},{"$f":"IF(D173=0,\" \",IF(ISNA(MATCH(D173,Personnel!A:A,0)),IF(ISNA(MATCH(D173,'اطلاعات افراد غیر حقوق بگیر'!A:A,0)),\"وجود ندارد\",LOOKUP(D173,'اطلاعات افراد غیر حقوق بگیر'!A:A,'اطلاعات افراد غیر حقوق بگیر'!E:E)),LOOKUP(D173,Master!D:D,Master!AH:AH)))","v":" "},{"$f":"SUMIFS(Pays!G:G,Pays!E:E,1,Pays!D:D,D173)","v":0},{"$f":"SUMIFS(Pays!G:G,Pays!E:E,2,Pays!D:D,D173)","v":0},{"$f":"SUMIFS(Pays!G:G,Pays!E:E,57,Pays!D:D,D173)","v":0},{"$f":"SUMIF(Pays!D:D,D173,Pays!G:G)","v":0},{"$f":"SUMIF(Pays!D:D,D173,Pays!G:G)/176","v":0},{"$f":"IF(M173=0,IF(ISNA(MATCH(D173,'اطلاعات افراد غیر حقوق بگیر'!A:A,0)),0,LOOKUP(D173,'اطلاعات افراد غیر حقوق بگیر'!A:A,'اطلاعات افراد غیر حقوق بگیر'!F:F)),IF(H173=31,Settings!$D$13,ROUND(M173,0)))","v":0},null,0,{"$f":"IF(ISNA(MATCH(D173,Master!D:D,0)),IF(ISNA(MATCH(D173,'اطلاعات افراد غیر حقوق بگیر'!A:A,0)),0,LOOKUP(D173,'اطلاعات افراد غیر حقوق بگیر'!A:A,'اطلاعات افراد غیر حقوق بگیر'!G:G)),LOOKUP(D173,Master!D:D,Master!J:J))","v":0},{"$error":"#N/A"},0,0,{"$f":"IF(O173>#REF!,\"اخطار ساعت اضافه کار از حداکثر بیشتر است\",\" \")","v":{"$error":"#REF!"}},{"$f":"IF(O173>#REF!,1,0)","v":{"$error":"#REF!"}}]
[171,{"$f":"IF(D174=0,\"\",Settings!$D$6)","v":""},{"$f":"IF(D174=0,\"\",LOOKUP(B174,'Rigion Code'!A:A,'Rigion Code'!B:B))","v":""},null,{"$f":"IF(D174=0,\" \",IF(ISNA(MATCH(D174,Personnel!A:A,0)),IF(ISNA(MATCH(D174,'اطلاعات افراد غیر حقوق بگیر'!A:A,0)),\"وجود ندارد\",LOOKUP(Edit!D174,'اطلاعات افراد غیر حقوق بگیر'!A:A,'اطلاعات افراد غیر حقوق بگیر'!B:B)),LOOKUP(D174,Personnel!A:A,Personnel!C:C)))","v":" "},{"$f":"IF(D174=0,\" \",IF(ISNA(MATCH(D174,Personnel!A:A,0)),IF(ISNA(MATCH(D174,'اطلاعات افراد غیر حقوق بگیر'!A:A,0)),\"وجود ندارد\",LOOKUP(D174,'اطلاعات افراد غیر حقوق بگیر'!A:A,'اطلاعات افراد غیر حقوق بگیر'!C:C)),LOOKUP(D174,Personnel!A:A,Personnel!B:B)))","v":" "},{"$f":"IF(D174=0,0,IF(ISNA(MATCH(D174,Personnel!A:A,0)),IF(ISNA(MATCH(D174,'اطلاعات افراد غیر حقوق بگیر'!A:A,0)),\"وجود ندارد\",LOOKUP(D174,'اطلاعات افراد غیر حقوق بگیر'!A:A,'اطلاعات افراد غیر حقوق بگیر'!D:D)),LOOKUP(D174,Master!D:D,Master!CD:CD)))","v":0},{"$f":"IF(D174=0,\" \",IF(ISNA(MATCH(D174,Personnel!A:A,0)),IF(ISNA(MATCH(D174,'اطلاعات افراد غیر حقوق بگیر'!A:A,0)),\"وجود ندارد\",LOOKUP(D174,'اطلاعات افراد غیر حقوق بگیر'!A:A,'اطلاعات افراد غیر حقوق بگیر'!E:E)),LOOKUP(D174,Master!D:D,Master!AH:AH)))","v":" "},{"$f":"SUMIFS(Pays!G:G,Pays!E:E,1,Pays!D:D,D174)","v":0},{"$f":"SUMIFS(Pays!G:G,Pays!E:E,2,Pays!D:D,D174)","v":0},{"$f":"SUMIFS(Pays!G:G,Pays!E:E,57,Pays!D:D,D174)","v":0},{"$f":"SUMIF(Pays!D:D,D174,Pays!G:G)","v":0},{"$f":"SUMIF(Pays!D:D,D174,Pays!G:G)/176","v":0},{"$f":"IF(M174=0,IF(ISNA(MATCH(D174,'اطلاعات افراد غیر حقوق بگیر'!A:A,0)),0,LOOKUP(D174,'اطلاعات افراد غیر حقوق بگیر'!A:A,'اطلاعات افراد غیر حقوق بگیر'!F:F)),IF(H174=31,Settings!$D$13,ROUND(M174,0)))","v":0},null,0,{"$f":"IF(ISNA(MATCH(D174,Master!D:D,0)),IF(ISNA(MATCH(D174,'اطلاعات افراد غیر حقوق بگیر'!A:A,0)),0,LOOKUP(D174,'اطلاعات افراد غیر حقوق بگیر'!A:A,'اطلاعات افراد غیر حقوق بگیر'!G:G)),LOOKUP(D174,Master!D:D,Master!J:J))","v":0},{"$error":"#N/A"},0,0,{"$f":"IF(O174>#REF!,\"اخطار ساعت اضافه کار از حداکثر بیشتر است\",\" \")","v":{"$error":"#REF!"}},{"$f":"IF(O174>#REF!,1,0)","v":{"$error":"#REF!"}}]
[172,{"$f":"IF(D175=0,\"\",Settings!$D$6)","v":""},{"$f":"IF(D175=0,\"\",LOOKUP(B175,'Rigion Code'!A:A,'Rigion Code'!B:B))","v":""},null,{"$f":"IF(D175=0,\" \",IF(ISNA(MATCH(D175,Personnel!A:A,0)),IF(ISNA(MATCH(D175,'اطلاعات افراد غیر حقوق بگیر'!A:A,0)),\"وجود ندارد\",LOOKUP(Edit!D175,'اطلاعات افراد غیر حقوق بگیر'!A:A,'اطلاعات افراد غیر حقوق بگیر'!B:B)),LOOKUP(D175,Personnel!A:A,Personnel!C:C)))","v":" "},{"$f":"IF(D175=0,\" \",IF(ISNA(MATCH(D175,Personnel!A:A,0)),IF(ISNA(MATCH(D175,'اطلاعات افراد غیر حقوق بگیر'!A:A,0)),\"وجود ندارد\",LOOKUP(D175,'اطلاعات افراد غیر حقوق بگیر'!A:A,'اطلاعات افراد غیر حقوق بگیر'!C:C)),LOOKUP(D175,Personnel!A:A,Personnel!B:B)))","v":" "},{"$f":"IF(D175=0,0,IF(ISNA(MATCH(D175,Personnel!A:A,0)),IF(ISNA(MATCH(D175,'اطلاعات افراد غیر حقوق بگیر'!A:A,0)),\"وجود ندارد\",LOOKUP(D175,'اطلاعات افراد غیر حقوق بگیر'!A:A,'اطلاعات افراد غیر حقوق بگیر'!D:D)),LOOKUP(D175,Master!D:D,Master!CD:CD)))","v":0},{"$f":"IF(D175=0,\" \",IF(ISNA(MATCH(D175,Personnel!A:A,0)),IF(ISNA(MATCH(D175,'اطلاعات افراد غیر حقوق بگیر'!A:A,0)),\"وجود ندارد\",LOOKUP(D175,'اطلاعات افراد غیر حقوق بگیر'!A:A,'اطلاعات افراد غیر حقوق بگیر'!E:E)),LOOKUP(D175,Master!D:D,Master!AH:AH)))","v":" "},{"$f":"SUMIFS(Pays!G:G,Pays!E:E,1,Pays!D:D,D175)","v":0},{"$f":"SUMIFS(Pays!G:G,Pays!E:E,2,Pays!D:D,D175)","v":0},{"$f":"SUMIFS(Pays!G:G,Pays!E:E,57,Pays!D:D,D175)","v":0},{"$f":"SUMIF(Pays!D:D,D175,Pays!G:G)","v":0},{"$f":"SUMIF(Pays!D:D,D175,Pays!G:G)/176","v":0},{"$f":"IF(M175=0,IF(ISNA(MATCH(D175,'اطلاعات افراد غیر حقوق بگیر'!A:A,0)),0,LOOKUP(D175,'اطلاعات افراد غیر حقوق بگیر'!A:A,'اطلاعات افراد غیر حقوق بگیر'!F:F)),IF(H175=31,Settings!$D$13,ROUND(M175,0)))","v":0},null,0,{"$f":"IF(ISNA(MATCH(D175,Master!D:D,0)),IF(ISNA(MATCH(D175,'اطلاعات افراد غیر حقوق بگیر'!A:A,0)),0,LOOKUP(D175,'اطلاعات افراد غیر حقوق بگیر'!A:A,'اطلاعات افراد غیر حقوق بگیر'!G:G)),LOOKUP(D175,Master!D:D,Master!J:J))","v":0},{"$error":"#N/A"},0,0,{"$f":"IF(O175>#REF!,\"اخطار ساعت اضافه کار از حداکثر بیشتر است\",\" \")","v":{"$error":"#REF!"}},{"$f":"IF(O175>#REF!,1,0)","v":{"$error":"#REF!"}}]
[173,{"$f":"IF(D176=0,\"\",Settings!$D$6)","v":""},{"$f":"IF(D176=0,\"\",LOOKUP(B176,'Rigion Code'!A:A,'Rigion Code'!B:B))","v":""},null,{"$f":"IF(D176=0,\" \",IF(ISNA(MATCH(D176,Personnel!A:A,0)),IF(ISNA(MATCH(D176,'اطلاعات افراد غیر حقوق بگیر'!A:A,0)),\"وجود ندارد\",LOOKUP(Edit!D176,'اطلاعات افراد غیر حقوق بگیر'!A:A,'اطلاعات افراد غیر حقوق بگیر'!B:B)),LOOKUP(D176,Personnel!A:A,Personnel!C:C)))","v":" "},{"$f":"IF(D176=0,\" \",IF(ISNA(MATCH(D176,Personnel!A:A,0)),IF(ISNA(MATCH(D176,'اطلاعات افراد غیر حقوق بگیر'!A:A,0)),\"وجود ندارد\",LOOKUP(D176,'اطلاعات افراد غیر حقوق بگیر'!A:A,'اطلاعات افراد غیر حقوق بگیر'!C:C)),LOOKUP(D176,Personnel!A:A,Personnel!B:B)))","v":" "},{"$f":"IF(D176=0,0,IF(ISNA(MATCH(D176,Personnel!A:A,0)),IF(ISNA(MATCH(D176,'اطلاعات افراد غیر حقوق بگیر'!A:A,0)),\"وجود ندارد\",LOOKUP(D176,'اطلاعات افراد غیر حقوق بگیر'!A:A,'اطلاعات افراد غیر حقوق بگیر'!D:D)),LOOKUP(D176,Master!D:D,Master!CD:CD)))","v":0},{"$f":"IF(D176=0,\" \",IF(ISNA(MATCH(D176,Personnel!A:A,0)),IF(ISNA(MATCH(D176,'اطلاعات افراد غیر حقوق بگیر'!A:A,0)),\"وجود ندارد\",LOOKUP(D176,'اطلاعات افراد غیر حقوق بگیر'!A:A,'اطلاعات افراد غیر حقوق بگیر'!E:E)),LOOKUP(D176,Master!D:D,Master!AH:AH)))","v":" "},{"$f":"SUMIFS(Pays!G:G,Pays!E:E,1,Pays!D:D,D176)","v":0},{"$f":"SUMIFS(Pays!G:G,Pays!E:E,2,Pays!D:D,D176)","v":0},{"$f":"SUMIFS(Pays!G:G,Pays!E:E,57,Pays!D:D,D176)","v":0},{"$f":"SUMIF(Pays!D:D,D176,Pays!G:G)","v":0},{"$f":"SUMIF(Pays!D:D,D176,Pays!G:G)/176","v":0},{"$f":"IF(M176=0,IF(ISNA(MATCH(D176,'اطلاعات افراد غیر حقوق بگیر'!A:A,0)),0,LOOKUP(D176,'اطلاعات افراد غیر حقوق بگیر'!A:A,'اطلاعات افراد غیر حقوق بگیر'!F:F)),IF(H176=31,Settings!$D$13,ROUND(M176,0)))","v":0},null,0,{"$f":"IF(ISNA(MATCH(D176,Master!D:D,0)),IF(ISNA(MATCH(D176,'اطلاعات افراد غیر حقوق بگیر'!A:A,0)),0,LOOKUP(D176,'اطلاعات افراد غیر حقوق بگیر'!A:A,'اطلاعات افراد غیر حقوق بگیر'!G:G)),LOOKUP(D176,Master!D:D,Master!J:J))","v":0},{"$error":"#N/A"},0,0,{"$f":"IF(O176>#REF!,\"اخطار ساعت اضافه کار از حداکثر بیشتر است\",\" \")","v":{"$error":"#REF!"}},{"$f":"IF(O176>#REF!,1,0)","v":{"$error":"#REF!"}}]
[174,{"$f":"IF(D177=0,\"\",Settings!$D$6)","v":""},{"$f":"IF(D177=0,\"\",LOOKUP(B177,'Rigion Code'!A:A,'Rigion Code'!B:B))","v":""},null,{"$f":"IF(D177=0,\" \",IF(ISNA(MATCH(D177,Personnel!A:A,0)),IF(ISNA(MATCH(D177,'اطلاعات افراد غیر حقوق بگیر'!A:A,0)),\"وجود ندارد\",LOOKUP(Edit!D177,'اطلاعات افراد غیر حقوق بگیر'!A:A,'اطلاعات افراد غیر حقوق بگیر'!B:B)),LOOKUP(D177,Personnel!A:A,Personnel!C:C)))","v":" "},{"$f":"IF(D177=0,\" \",IF(ISNA(MATCH(D177,Personnel!A:A,0)),IF(ISNA(MATCH(D177,'اطلاعات افراد غیر حقوق بگیر'!A:A,0)),\"وجود ندارد\",LOOKUP(D177,'اطلاعات افراد غیر حقوق بگیر'!A:A,'اطلاعات افراد غیر حقوق بگیر'!C:C)),LOOKUP(D177,Personnel!A:A,Personnel!B:B)))","v":" "},{"$f":"IF(D177=0,0,IF(ISNA(MATCH(D177,Personnel!A:A,0)),IF(ISNA(MATCH(D177,'اطلاعات افراد غیر حقوق بگیر'!A:A,0)),\"وجود ندارد\",LOOKUP(D177,'اطلاعات افراد غیر حقوق بگیر'!A:A,'اطلاعات افراد غیر حقوق بگیر'!D:D)),LOOKUP(D177,Master!D:D,Master!CD:CD)))","v":0},{"$f":"IF(D177=0,\" \",IF(ISNA(MATCH(D177,Personnel!A:A,0)),IF(ISNA(MATCH(D177,'اطلاعات افراد غیر حقوق بگیر'!A:A,0)),\"وجود ندارد\",LOOKUP(D177,'اطلاعات افراد غیر حقوق بگیر'!A:A,'اطلاعات افراد غیر حقوق بگیر'!E:E)),LOOKUP(D177,Master!D:D,Master!AH:AH)))","v":" "},{"$f":"SUMIFS(Pays!G:G,Pays!E:E,1,Pays!D:D,D177)","v":0},{"$f":"SUMIFS(Pays!G:G,Pays!E:E,2,Pays!D:D,D177)","v":0},{"$f":"SUMIFS(Pays!G:G,Pays!E:E,57,Pays!D:D,D177)","v":0},{"$f":"SUMIF(Pays!D:D,D177,Pays!G:G)","v":0},{"$f":"SUMIF(Pays!D:D,D177,Pays!G:G)/176","v":0},{"$f":"IF(M177=0,IF(ISNA(MATCH(D177,'اطلاعات افراد غیر حقوق بگیر'!A:A,0)),0,LOOKUP(D177,'اطلاعات افراد غیر حقوق بگیر'!A:A,'اطلاعات افراد غیر حقوق بگیر'!F:F)),IF(H177=31,Settings!$D$13,ROUND(M177,0)))","v":0},null,0,{"$f":"IF(ISNA(MATCH(D177,Master!D:D,0)),IF(ISNA(MATCH(D177,'اطلاعات افراد غیر حقوق بگیر'!A:A,0)),0,LOOKUP(D177,'اطلاعات افراد غیر حقوق بگیر'!A:A,'اطلاعات افراد غیر حقوق بگیر'!G:G)),LOOKUP(D177,Master!D:D,Master!J:J))","v":0},{"$error":"#N/A"},0,0,{"$f":"IF(O177>#REF!,\"اخطار ساعت اضافه کار از حداکثر بیشتر است\",\" \")","v":{"$error":"#REF!"}},{"$f":"IF(O177>#REF!,1,0)","v":{"$error":"#REF!"}}]
[175,{"$f":"IF(D178=0,\"\",Settings!$D$6)","v":""},{"$f":"IF(D178=0,\"\",LOOKUP(B178,'Rigion Code'!A:A,'Rigion Code'!B:B))","v":""},null,{"$f":"IF(D178=0,\" \",IF(ISNA(MATCH(D178,Personnel!A:A,0)),IF(ISNA(MATCH(D178,'اطلاعات افراد غیر حقوق بگیر'!A:A,0)),\"وجود ندارد\",LOOKUP(Edit!D178,'اطلاعات افراد غیر حقوق بگیر'!A:A,'اطلاعات افراد غیر حقوق بگیر'!B:B)),LOOKUP(D178,Personnel!A:A,Personnel!C:C)))","v":" "},{"$f":"IF(D178=0,\" \",IF(ISNA(MATCH(D178,Personnel!A:A,0)),IF(ISNA(MATCH(D178,'اطلاعات افراد غیر حقوق بگیر'!A:A,0)),\"وجود ندارد\",LOOKUP(D178,'اطلاعات افراد غیر حقوق بگیر'!A:A,'اطلاعات افراد غیر حقوق بگیر'!C:C)),LOOKUP(D178,Personnel!A:A,Personnel!B:B)))","v":" "},{"$f":"IF(D178=0,0,IF(ISNA(MATCH(D178,Personnel!A:A,0)),IF(ISNA(MATCH(D178,'اطلاعات افراد غیر حقوق بگیر'!A:A,0)),\"وجود ندارد\",LOOKUP(D178,'اطلاعات افراد غیر حقوق بگیر'!A:A,'اطلاعات افراد غیر حقوق بگیر'!D:D)),LOOKUP(D178,Master!D:D,Master!CD:CD)))","v":0},{"$f":"IF(D178=0,\" \",IF(ISNA(MATCH(D178,Personnel!A:A,0)),IF(ISNA(MATCH(D178,'اطلاعات افراد غیر حقوق بگیر'!A:A,0)),\"وجود ندارد\",LOOKUP(D178,'اطلاعات افراد غیر حقوق بگیر'!A:A,'اطلاعات افراد غیر حقوق بگیر'!E:E)),LOOKUP(D178,Master!D:D,Master!AH:AH)))","v":" "},{"$f":"SUMIFS(Pays!G:G,Pays!E:E,1,Pays!D:D,D178)","v":0},{"$f":"SUMIFS(Pays!G:G,Pays!E:E,2,Pays!D:D,D178)","v":0},{"$f":"SUMIFS(Pays!G:G,Pays!E:E,57,Pays!D:D,D178)","v":0},{"$f":"SUMIF(Pays!D:D,D178,Pays!G:G)","v":0},{"$f":"SUMIF(Pays!D:D,D178,Pays!G:G)/176","v":0},{"$f":"IF(M178=0,IF(ISNA(MATCH(D178,'اطلاعات افراد غیر حقوق بگیر'!A:A,0)),0,LOOKUP(D178,'اطلاعات افراد غیر حقوق بگیر'!A:A,'اطلاعات افراد غیر حقوق بگیر'!F:F)),IF(H178=31,Settings!$D$13,ROUND(M178,0)))","v":0},null,0,{"$f":"IF(ISNA(MATCH(D178,Master!D:D,0)),IF(ISNA(MATCH(D178,'اطلاعات افراد غیر حقوق بگیر'!A:A,0)),0,LOOKUP(D178,'اطلاعات افراد غیر حقوق بگیر'!A:A,'اطلاعات افراد غیر حقوق بگیر'!G:G)),LOOKUP(D178,Master!D:D,Master!J:J))","v":0},{"$error":"#N/A"},0,0,{"$f":"IF(O178>#REF!,\"اخطار ساعت اضافه کار از حداکثر بیشتر است\",\" \")","v":{"$error":"#REF!"}},{"$f":"IF(O178>#REF!,1,0)","v":{"$error":"#REF!"}}]
[176,{"$f":"IF(D179=0,\"\",Settings!$D$6)","v":""},{"$f":"IF(D179=0,\"\",LOOKUP(B179,'Rigion Code'!A:A,'Rigion Code'!B:B))","v":""},null,{"$f":"IF(D179=0,\" \",IF(ISNA(MATCH(D179,Personnel!A:A,0)),IF(ISNA(MATCH(D179,'اطلاعات افراد غیر حقوق بگیر'!A:A,0)),\"وجود ندارد\",LOOKUP(Edit!D179,'اطلاعات افراد غیر حقوق بگیر'!A:A,'اطلاعات افراد غیر حقوق بگیر'!B:B)),LOOKUP(D179,Personnel!A:A,Personnel!C:C)))","v":" "},{"$f":"IF(D179=0,\" \",IF(ISNA(MATCH(D179,Personnel!A:A,0)),IF(ISNA(MATCH(D179,'اطلاعات افراد غیر حقوق بگیر'!A:A,0)),\"وجود ندارد\",LOOKUP(D179,'اطلاعات افراد غیر حقوق بگیر'!A:A,'اطلاعات افراد غیر حقوق بگیر'!C:C)),LOOKUP(D179,Personnel!A:A,Personnel!B:B)))","v":" "},{"$f":"IF(D179=0,0,IF(ISNA(MATCH(D179,Personnel!A:A,0)),IF(ISNA(MATCH(D179,'اطلاعات افراد غیر حقوق بگیر'!A:A,0)),\"وجود ندارد\",LOOKUP(D179,'اطلاعات افراد غیر حقوق بگیر'!A:A,'اطلاعات افراد غیر حقوق بگیر'!D:D)),LOOKUP(D179,Master!D:D,Master!CD:CD)))","v":0},{"$f":"IF(D179=0,\" \",IF(ISNA(MATCH(D179,Personnel!A:A,0)),IF(ISNA(MATCH(D179,'اطلاعات افراد غیر حقوق بگیر'!A:A,0)),\"وجود ندارد\",LOOKUP(D179,'اطلاعات افراد غیر حقوق بگیر'!A:A,'اطلاعات افراد غیر حقوق بگیر'!E:E)),LOOKUP(D179,Master!D:D,Master!AH:AH)))","v":" "},{"$f":"SUMIFS(Pays!G:G,Pays!E:E,1,Pays!D:D,D179)","v":0},{"$f":"SUMIFS(Pays!G:G,Pays!E:E,2,Pays!D:D,D179)","v":0},{"$f":"SUMIFS(Pays!G:G,Pays!E:E,57,Pays!D:D,D179)","v":0},{"$f":"SUMIF(Pays!D:D,D179,Pays!G:G)","v":0},{"$f":"SUMIF(Pays!D:D,D179,Pays!G:G)/176","v":0},{"$f":"IF(M179=0,IF(ISNA(MATCH(D179,'اطلاعات افراد غیر حقوق بگیر'!A:A,0)),0,LOOKUP(D179,'اطلاعات افراد غیر حقوق بگیر'!A:A,'اطلاعات افراد غیر حقوق بگیر'!F:F)),IF(H179=31,Settings!$D$13,ROUND(M179,0)))","v":0},null,0,{"$f":"IF(ISNA(MATCH(D179,Master!D:D,0)),IF(ISNA(MATCH(D179,'اطلاعات افراد غیر حقوق بگیر'!A:A,0)),0,LOOKUP(D179,'اطلاعات افراد غیر حقوق بگیر'!A:A,'اطلاعات افراد غیر حقوق بگیر'!G:G)),LOOKUP(D179,Master!D:D,Master!J:J))","v":0},{"$error":"#N/A"},0,0,{"$f":"IF(O179>#REF!,\"اخطار ساعت اضافه کار از حداکثر بیشتر است\",\" \")","v":{"$error":"#REF!"}},{"$f":"IF(O179>#REF!,1,0)","v":{"$error":"#REF!"}}]
[177,{"$f":"IF(D180=0,\"\",Settings!$D$6)","v":""},{"$f":"IF(D180=0,\"\",LOOKUP(B180,'Rigion Code'!A:A,'Rigion Code'!B:B))","v":""},null,{"$f":"IF(D180=0,\" \",IF(ISNA(MATCH(D180,Personnel!A:A,0)),IF(ISNA(MATCH(D180,'اطلاعات افراد غیر حقوق بگیر'!A:A,0)),\"وجود ندارد\",LOOKUP(Edit!D180,'اطلاعات افراد غیر حقوق بگیر'!A:A,'اطلاعات افراد غیر حقوق بگیر'!B:B)),LOOKUP(D180,Personnel!A:A,Personnel!C:C)))","v":" "},{"$f":"IF(D180=0,\" \",IF(ISNA(MATCH(D180,Personnel!A:A,0)),IF(ISNA(MATCH(D180,'اطلاعات افراد غیر حقوق بگیر'!A:A,0)),\"وجود ندارد\",LOOKUP(D180,'اطلاعات افراد غیر حقوق بگیر'!A:A,'اطلاعات افراد غیر حقوق بگیر'!C:C)),LOOKUP(D180,Personnel!A:A,Personnel!B:B)))","v":" "},{"$f":"IF(D180=0,0,IF(ISNA(MATCH(D180,Personnel!A:A,0)),IF(ISNA(MATCH(D180,'اطلاعات افراد غیر حقوق بگیر'!A:A,0)),\"وجود ندارد\",LOOKUP(D180,'اطلاعات افراد غیر حقوق بگیر'!A:A,'اطلاعات افراد غیر حقوق بگیر'!D:D)),LOOKUP(D180,Master!D:D,Master!CD:CD)))","v":0},{"$f":"IF(D180=0,\" \",IF(ISNA(MATCH(D180,Personnel!A:A,0)),IF(ISNA(MATCH(D180,'اطلاعات افراد غیر حقوق بگیر'!A:A,0)),\"وجود ندارد\",LOOKUP(D180,'اطلاعات افراد غیر حقوق بگیر'!A:A,'اطلاعات افراد غیر حقوق بگیر'!E:E)),LOOKUP(D180,Master!D:D,Master!AH:AH)))","v":" "},{"$f":"SUMIFS(Pays!G:G,Pays!E:E,1,Pays!D:D,D180)","v":0},{"$f":"SUMIFS(Pays!G:G,Pays!E:E,2,Pays!D:D,D180)","v":0},{"$f":"SUMIFS(Pays!G:G,Pays!E:E,57,Pays!D:D,D180)","v":0},{"$f":"SUMIF(Pays!D:D,D180,Pays!G:G)","v":0},{"$f":"SUMIF(Pays!D:D,D180,Pays!G:G)/176","v":0},{"$f":"IF(M180=0,IF(ISNA(MATCH(D180,'اطلاعات افراد غیر حقوق بگیر'!A:A,0)),0,LOOKUP(D180,'اطلاعات افراد غیر حقوق بگیر'!A:A,'اطلاعات افراد غیر حقوق بگیر'!F:F)),IF(H180=31,Settings!$D$13,ROUND(M180,0)))","v":0},null,0,{"$f":"IF(ISNA(MATCH(D180,Master!D:D,0)),IF(ISNA(MATCH(D180,'اطلاعات افراد غیر حقوق بگیر'!A:A,0)),0,LOOKUP(D180,'اطلاعات افراد غیر حقوق بگیر'!A:A,'اطلاعات افراد غیر حقوق بگیر'!G:G)),LOOKUP(D180,Master!D:D,Master!J:J))","v":0},{"$error":"#N/A"},0,0,{"$f":"IF(O180>#REF!,\"اخطار ساعت اضافه کار از حداکثر بیشتر است\",\" \")","v":{"$error":"#REF!"}},{"$f":"IF(O180>#REF!,1,0)","v":{"$error":"#REF!"}}]
[178,{"$f":"IF(D181=0,\"\",Settings!$D$6)","v":""},{"$f":"IF(D181=0,\"\",LOOKUP(B181,'Rigion Code'!A:A,'Rigion Code'!B:B))","v":""},null,{"$f":"IF(D181=0,\" \",IF(ISNA(MATCH(D181,Personnel!A:A,0)),IF(ISNA(MATCH(D181,'اطلاعات افراد غیر حقوق بگیر'!A:A,0)),\"وجود ندارد\",LOOKUP(Edit!D181,'اطلاعات افراد غیر حقوق بگیر'!A:A,'اطلاعات افراد غیر حقوق بگیر'!B:B)),LOOKUP(D181,Personnel!A:A,Personnel!C:C)))","v":" "},{"$f":"IF(D181=0,\" \",IF(ISNA(MATCH(D181,Personnel!A:A,0)),IF(ISNA(MATCH(D181,'اطلاعات افراد غیر حقوق بگیر'!A:A,0)),\"وجود ندارد\",LOOKUP(D181,'اطلاعات افراد غیر حقوق بگیر'!A:A,'اطلاعات افراد غیر حقوق بگیر'!C:C)),LOOKUP(D181,Personnel!A:A,Personnel!B:B)))","v":" "},{"$f":"IF(D181=0,0,IF(ISNA(MATCH(D181,Personnel!A:A,0)),IF(ISNA(MATCH(D181,'اطلاعات افراد غیر حقوق بگیر'!A:A,0)),\"وجود ندارد\",LOOKUP(D181,'اطلاعات افراد غیر حقوق بگیر'!A:A,'اطلاعات افراد غیر حقوق بگیر'!D:D)),LOOKUP(D181,Master!D:D,Master!CD:CD)))","v":0},{"$f":"IF(D181=0,\" \",IF(ISNA(MATCH(D181,Personnel!A:A,0)),IF(ISNA(MATCH(D181,'اطلاعات افراد غیر حقوق بگیر'!A:A,0)),\"وجود ندارد\",LOOKUP(D181,'اطلاعات افراد غیر حقوق بگیر'!A:A,'اطلاعات افراد غیر حقوق بگیر'!E:E)),LOOKUP(D181,Master!D:D,Master!AH:AH)))","v":" "},{"$f":"SUMIFS(Pays!G:G,Pays!E:E,1,Pays!D:D,D181)","v":0},{"$f":"SUMIFS(Pays!G:G,Pays!E:E,2,Pays!D:D,D181)","v":0},{"$f":"SUMIFS(Pays!G:G,Pays!E:E,57,Pays!D:D,D181)","v":0},{"$f":"SUMIF(Pays!D:D,D181,Pays!G:G)","v":0},{"$f":"SUMIF(Pays!D:D,D181,Pays!G:G)/176","v":0},{"$f":"IF(M181=0,IF(ISNA(MATCH(D181,'اطلاعات افراد غیر حقوق بگیر'!A:A,0)),0,LOOKUP(D181,'اطلاعات افراد غیر حقوق بگیر'!A:A,'اطلاعات افراد غیر حقوق بگیر'!F:F)),IF(H181=31,Settings!$D$13,ROUND(M181,0)))","v":0},null,0,{"$f":"IF(ISNA(MATCH(D181,Master!D:D,0)),IF(ISNA(MATCH(D181,'اطلاعات افراد غیر حقوق بگیر'!A:A,0)),0,LOOKUP(D181,'اطلاعات افراد غیر حقوق بگیر'!A:A,'اطلاعات افراد غیر حقوق بگیر'!G:G)),LOOKUP(D181,Master!D:D,Master!J:J))","v":0},{"$error":"#N/A"},0,0,{"$f":"IF(O181>#REF!,\"اخطار ساعت اضافه کار از حداکثر بیشتر است\",\" \")","v":{"$error":"#REF!"}},{"$f":"IF(O181>#REF!,1,0)","v":{"$error":"#REF!"}}]
[179,{"$f":"IF(D182=0,\"\",Settings!$D$6)","v":""},{"$f":"IF(D182=0,\"\",LOOKUP(B182,'Rigion Code'!A:A,'Rigion Code'!B:B))","v":""},null,{"$f":"IF(D182=0,\" \",IF(ISNA(MATCH(D182,Personnel!A:A,0)),IF(ISNA(MATCH(D182,'اطلاعات افراد غیر حقوق بگیر'!A:A,0)),\"وجود ندارد\",LOOKUP(Edit!D182,'اطلاعات افراد غیر حقوق بگیر'!A:A,'اطلاعات افراد غیر حقوق بگیر'!B:B)),LOOKUP(D182,Personnel!A:A,Personnel!C:C)))","v":" "},{"$f":"IF(D182=0,\" \",IF(ISNA(MATCH(D182,Personnel!A:A,0)),IF(ISNA(MATCH(D182,'اطلاعات افراد غیر حقوق بگیر'!A:A,0)),\"وجود ندارد\",LOOKUP(D182,'اطلاعات افراد غیر حقوق بگیر'!A:A,'اطلاعات افراد غیر حقوق بگیر'!C:C)),LOOKUP(D182,Personnel!A:A,Personnel!B:B)))","v":" "},{"$f":"IF(D182=0,0,IF(ISNA(MATCH(D182,Personnel!A:A,0)),IF(ISNA(MATCH(D182,'اطلاعات افراد غیر حقوق بگیر'!A:A,0)),\"وجود ندارد\",LOOKUP(D182,'اطلاعات افراد غیر حقوق بگیر'!A:A,'اطلاعات افراد غیر حقوق بگیر'!D:D)),LOOKUP(D182,Master!D:D,Master!CD:CD)))","v":0},{"$f":"IF(D182=0,\" \",IF(ISNA(MATCH(D182,Personnel!A:A,0)),IF(ISNA(MATCH(D182,'اطلاعات افراد غیر حقوق بگیر'!A:A,0)),\"وجود ندارد\",LOOKUP(D182,'اطلاعات افراد غیر حقوق بگیر'!A:A,'اطلاعات افراد غیر حقوق بگیر'!E:E)),LOOKUP(D182,Master!D:D,Master!AH:AH)))","v":" "},{"$f":"SUMIFS(Pays!G:G,Pays!E:E,1,Pays!D:D,D182)","v":0},{"$f":"SUMIFS(Pays!G:G,Pays!E:E,2,Pays!D:D,D182)","v":0},{"$f":"SUMIFS(Pays!G:G,Pays!E:E,57,Pays!D:D,D182)","v":0},{"$f":"SUMIF(Pays!D:D,D182,Pays!G:G)","v":0},{"$f":"SUMIF(Pays!D:D,D182,Pays!G:G)/176","v":0},{"$f":"IF(M182=0,IF(ISNA(MATCH(D182,'اطلاعات افراد غیر حقوق بگیر'!A:A,0)),0,LOOKUP(D182,'اطلاعات افراد غیر حقوق بگیر'!A:A,'اطلاعات افراد غیر حقوق بگیر'!F:F)),IF(H182=31,Settings!$D$13,ROUND(M182,0)))","v":0},null,0,{"$f":"IF(ISNA(MATCH(D182,Master!D:D,0)),IF(ISNA(MATCH(D182,'اطلاعات افراد غیر حقوق بگیر'!A:A,0)),0,LOOKUP(D182,'اطلاعات افراد غیر حقوق بگیر'!A:A,'اطلاعات افراد غیر حقوق بگیر'!G:G)),LOOKUP(D182,Master!D:D,Master!J:J))","v":0},{"$error":"#N/A"},0,0,{"$f":"IF(O182>#REF!,\"اخطار ساعت اضافه کار از حداکثر بیشتر است\",\" \")","v":{"$error":"#REF!"}},{"$f":"IF(O182>#REF!,1,0)","v":{"$error":"#REF!"}}]
[180,{"$f":"IF(D183=0,\"\",Settings!$D$6)","v":""},{"$f":"IF(D183=0,\"\",LOOKUP(B183,'Rigion Code'!A:A,'Rigion Code'!B:B))","v":""},null,{"$f":"IF(D183=0,\" \",IF(ISNA(MATCH(D183,Personnel!A:A,0)),IF(ISNA(MATCH(D183,'اطلاعات افراد غیر حقوق بگیر'!A:A,0)),\"وجود ندارد\",LOOKUP(Edit!D183,'اطلاعات افراد غیر حقوق بگیر'!A:A,'اطلاعات افراد غیر حقوق بگیر'!B:B)),LOOKUP(D183,Personnel!A:A,Personnel!C:C)))","v":" "},{"$f":"IF(D183=0,\" \",IF(ISNA(MATCH(D183,Personnel!A:A,0)),IF(ISNA(MATCH(D183,'اطلاعات افراد غیر حقوق بگیر'!A:A,0)),\"وجود ندارد\",LOOKUP(D183,'اطلاعات افراد غیر حقوق بگیر'!A:A,'اطلاعات افراد غیر حقوق بگیر'!C:C)),LOOKUP(D183,Personnel!A:A,Personnel!B:B)))","v":" "},{"$f":"IF(D183=0,0,IF(ISNA(MATCH(D183,Personnel!A:A,0)),IF(ISNA(MATCH(D183,'اطلاعات افراد غیر حقوق بگیر'!A:A,0)),\"وجود ندارد\",LOOKUP(D183,'اطلاعات افراد غیر حقوق بگیر'!A:A,'اطلاعات افراد غیر حقوق بگیر'!D:D)),LOOKUP(D183,Master!D:D,Master!CD:CD)))","v":0},{"$f":"IF(D183=0,\" \",IF(ISNA(MATCH(D183,Personnel!A:A,0)),IF(ISNA(MATCH(D183,'اطلاعات افراد غیر حقوق بگیر'!A:A,0)),\"وجود ندارد\",LOOKUP(D183,'اطلاعات افراد غیر حقوق بگیر'!A:A,'اطلاعات افراد غیر حقوق بگیر'!E:E)),LOOKUP(D183,Master!D:D,Master!AH:AH)))","v":" "},{"$f":"SUMIFS(Pays!G:G,Pays!E:E,1,Pays!D:D,D183)","v":0},{"$f":"SUMIFS(Pays!G:G,Pays!E:E,2,Pays!D:D,D183)","v":0},{"$f":"SUMIFS(Pays!G:G,Pays!E:E,57,Pays!D:D,D183)","v":0},{"$f":"SUMIF(Pays!D:D,D183,Pays!G:G)","v":0},{"$f":"SUMIF(Pays!D:D,D183,Pays!G:G)/176","v":0},{"$f":"IF(M183=0,IF(ISNA(MATCH(D183,'اطلاعات افراد غیر حقوق بگیر'!A:A,0)),0,LOOKUP(D183,'اطلاعات افراد غیر حقوق بگیر'!A:A,'اطلاعات افراد غیر حقوق بگیر'!F:F)),IF(H183=31,Settings!$D$13,ROUND(M183,0)))","v":0},null,0,{"$f":"IF(ISNA(MATCH(D183,Master!D:D,0)),IF(ISNA(MATCH(D183,'اطلاعات افراد غیر حقوق بگیر'!A:A,0)),0,LOOKUP(D183,'اطلاعات افراد غیر حقوق بگیر'!A:A,'اطلاعات افراد غیر حقوق بگیر'!G:G)),LOOKUP(D183,Master!D:D,Master!J:J))","v":0},{"$error":"#N/A"},0,0,{"$f":"IF(O183>#REF!,\"اخطار ساعت اضافه کار از حداکثر بیشتر است\",\" \")","v":{"$error":"#REF!"}},{"$f":"IF(O183>#REF!,1,0)","v":{"$error":"#REF!"}}]
[181,{"$f":"IF(D184=0,\"\",Settings!$D$6)","v":""},{"$f":"IF(D184=0,\"\",LOOKUP(B184,'Rigion Code'!A:A,'Rigion Code'!B:B))","v":""},null,{"$f":"IF(D184=0,\" \",IF(ISNA(MATCH(D184,Personnel!A:A,0)),IF(ISNA(MATCH(D184,'اطلاعات افراد غیر حقوق بگیر'!A:A,0)),\"وجود ندارد\",LOOKUP(Edit!D184,'اطلاعات افراد غیر حقوق بگیر'!A:A,'اطلاعات افراد غیر حقوق بگیر'!B:B)),LOOKUP(D184,Personnel!A:A,Personnel!C:C)))","v":" "},{"$f":"IF(D184=0,\" \",IF(ISNA(MATCH(D184,Personnel!A:A,0)),IF(ISNA(MATCH(D184,'اطلاعات افراد غیر حقوق بگیر'!A:A,0)),\"وجود ندارد\",LOOKUP(D184,'اطلاعات افراد غیر حقوق بگیر'!A:A,'اطلاعات افراد غیر حقوق بگیر'!C:C)),LOOKUP(D184,Personnel!A:A,Personnel!B:B)))","v":" "},{"$f":"IF(D184=0,0,IF(ISNA(MATCH(D184,Personnel!A:A,0)),IF(ISNA(MATCH(D184,'اطلاعات افراد غیر حقوق بگیر'!A:A,0)),\"وجود ندارد\",LOOKUP(D184,'اطلاعات افراد غیر حقوق بگیر'!A:A,'اطلاعات افراد غیر حقوق بگیر'!D:D)),LOOKUP(D184,Master!D:D,Master!CD:CD)))","v":0},{"$f":"IF(D184=0,\" \",IF(ISNA(MATCH(D184,Personnel!A:A,0)),IF(ISNA(MATCH(D184,'اطلاعات افراد غیر حقوق بگیر'!A:A,0)),\"وجود ندارد\",LOOKUP(D184,'اطلاعات افراد غیر حقوق بگیر'!A:A,'اطلاعات افراد غیر حقوق بگیر'!E:E)),LOOKUP(D184,Master!D:D,Master!AH:AH)))","v":" "},{"$f":"SUMIFS(Pays!G:G,Pays!E:E,1,Pays!D:D,D184)","v":0},{"$f":"SUMIFS(Pays!G:G,Pays!E:E,2,Pays!D:D,D184)","v":0},{"$f":"SUMIFS(Pays!G:G,Pays!E:E,57,Pays!D:D,D184)","v":0},{"$f":"SUMIF(Pays!D:D,D184,Pays!G:G)","v":0},{"$f":"SUMIF(Pays!D:D,D184,Pays!G:G)/176","v":0},{"$f":"IF(M184=0,IF(ISNA(MATCH(D184,'اطلاعات افراد غیر حقوق بگیر'!A:A,0)),0,LOOKUP(D184,'اطلاعات افراد غیر حقوق بگیر'!A:A,'اطلاعات افراد غیر حقوق بگیر'!F:F)),IF(H184=31,Settings!$D$13,ROUND(M184,0)))","v":0},null,0,{"$f":"IF(ISNA(MATCH(D184,Master!D:D,0)),IF(ISNA(MATCH(D184,'اطلاعات افراد غیر حقوق بگیر'!A:A,0)),0,LOOKUP(D184,'اطلاعات افراد غیر حقوق بگیر'!A:A,'اطلاعات افراد غیر حقوق بگیر'!G:G)),LOOKUP(D184,Master!D:D,Master!J:J))","v":0},{"$error":"#N/A"},0,0,{"$f":"IF(O184>#REF!,\"اخطار ساعت اضافه کار از حداکثر بیشتر است\",\" \")","v":{"$error":"#REF!"}},{"$f":"IF(O184>#REF!,1,0)","v":{"$error":"#REF!"}}]
[182,{"$f":"IF(D185=0,\"\",Settings!$D$6)","v":""},{"$f":"IF(D185=0,\"\",LOOKUP(B185,'Rigion Code'!A:A,'Rigion Code'!B:B))","v":""},null,{"$f":"IF(D185=0,\" \",IF(ISNA(MATCH(D185,Personnel!A:A,0)),IF(ISNA(MATCH(D185,'اطلاعات افراد غیر حقوق بگیر'!A:A,0)),\"وجود ندارد\",LOOKUP(Edit!D185,'اطلاعات افراد غیر حقوق بگیر'!A:A,'اطلاعات افراد غیر حقوق بگیر'!B:B)),LOOKUP(D185,Personnel!A:A,Personnel!C:C)))","v":" "},{"$f":"IF(D185=0,\" \",IF(ISNA(MATCH(D185,Personnel!A:A,0)),IF(ISNA(MATCH(D185,'اطلاعات افراد غیر حقوق بگیر'!A:A,0)),\"وجود ندارد\",LOOKUP(D185,'اطلاعات افراد غیر حقوق بگیر'!A:A,'اطلاعات افراد غیر حقوق بگیر'!C:C)),LOOKUP(D185,Personnel!A:A,Personnel!B:B)))","v":" "},{"$f":"IF(D185=0,0,IF(ISNA(MATCH(D185,Personnel!A:A,0)),IF(ISNA(MATCH(D185,'اطلاعات افراد غیر حقوق بگیر'!A:A,0)),\"وجود ندارد\",LOOKUP(D185,'اطلاعات افراد غیر حقوق بگیر'!A:A,'اطلاعات افراد غیر حقوق بگیر'!D:D)),LOOKUP(D185,Master!D:D,Master!CD:CD)))","v":0},{"$f":"IF(D185=0,\" \",IF(ISNA(MATCH(D185,Personnel!A:A,0)),IF(ISNA(MATCH(D185,'اطلاعات افراد غیر حقوق بگیر'!A:A,0)),\"وجود ندارد\",LOOKUP(D185,'اطلاعات افراد غیر حقوق بگیر'!A:A,'اطلاعات افراد غیر حقوق بگیر'!E:E)),LOOKUP(D185,Master!D:D,Master!AH:AH)))","v":" "},{"$f":"SUMIFS(Pays!G:G,Pays!E:E,1,Pays!D:D,D185)","v":0},{"$f":"SUMIFS(Pays!G:G,Pays!E:E,2,Pays!D:D,D185)","v":0},{"$f":"SUMIFS(Pays!G:G,Pays!E:E,57,Pays!D:D,D185)","v":0},{"$f":"SUMIF(Pays!D:D,D185,Pays!G:G)","v":0},{"$f":"SUMIF(Pays!D:D,D185,Pays!G:G)/176","v":0},{"$f":"IF(M185=0,IF(ISNA(MATCH(D185,'اطلاعات افراد غیر حقوق بگیر'!A:A,0)),0,LOOKUP(D185,'اطلاعات افراد غیر حقوق بگیر'!A:A,'اطلاعات افراد غیر حقوق بگیر'!F:F)),IF(H185=31,Settings!$D$13,ROUND(M185,0)))","v":0},null,0,{"$f":"IF(ISNA(MATCH(D185,Master!D:D,0)),IF(ISNA(MATCH(D185,'اطلاعات افراد غیر حقوق بگیر'!A:A,0)),0,LOOKUP(D185,'اطلاعات افراد غیر حقوق بگیر'!A:A,'اطلاعات افراد غیر حقوق بگیر'!G:G)),LOOKUP(D185,Master!D:D,Master!J:J))","v":0},{"$error":"#N/A"},0,0,{"$f":"IF(O185>#REF!,\"اخطار ساعت اضافه کار از حداکثر بیشتر است\",\" \")","v":{"$error":"#REF!"}},{"$f":"IF(O185>#REF!,1,0)","v":{"$error":"#REF!"}}]
[183,{"$f":"IF(D186=0,\"\",Settings!$D$6)","v":""},{"$f":"IF(D186=0,\"\",LOOKUP(B186,'Rigion Code'!A:A,'Rigion Code'!B:B))","v":""},null,{"$f":"IF(D186=0,\" \",IF(ISNA(MATCH(D186,Personnel!A:A,0)),IF(ISNA(MATCH(D186,'اطلاعات افراد غیر حقوق بگیر'!A:A,0)),\"وجود ندارد\",LOOKUP(Edit!D186,'اطلاعات افراد غیر حقوق بگیر'!A:A,'اطلاعات افراد غیر حقوق بگیر'!B:B)),LOOKUP(D186,Personnel!A:A,Personnel!C:C)))","v":" "},{"$f":"IF(D186=0,\" \",IF(ISNA(MATCH(D186,Personnel!A:A,0)),IF(ISNA(MATCH(D186,'اطلاعات افراد غیر حقوق بگیر'!A:A,0)),\"وجود ندارد\",LOOKUP(D186,'اطلاعات افراد غیر حقوق بگیر'!A:A,'اطلاعات افراد غیر حقوق بگیر'!C:C)),LOOKUP(D186,Personnel!A:A,Personnel!B:B)))","v":" "},{"$f":"IF(D186=0,0,IF(ISNA(MATCH(D186,Personnel!A:A,0)),IF(ISNA(MATCH(D186,'اطلاعات افراد غیر حقوق بگیر'!A:A,0)),\"وجود ندارد\",LOOKUP(D186,'اطلاعات افراد غیر حقوق بگیر'!A:A,'اطلاعات افراد غیر حقوق بگیر'!D:D)),LOOKUP(D186,Master!D:D,Master!CD:CD)))","v":0},{"$f":"IF(D186=0,\" \",IF(ISNA(MATCH(D186,Personnel!A:A,0)),IF(ISNA(MATCH(D186,'اطلاعات افراد غیر حقوق بگیر'!A:A,0)),\"وجود ندارد\",LOOKUP(D186,'اطلاعات افراد غیر حقوق بگیر'!A:A,'اطلاعات افراد غیر حقوق بگیر'!E:E)),LOOKUP(D186,Master!D:D,Master!AH:AH)))","v":" "},{"$f":"SUMIFS(Pays!G:G,Pays!E:E,1,Pays!D:D,D186)","v":0},{"$f":"SUMIFS(Pays!G:G,Pays!E:E,2,Pays!D:D,D186)","v":0},{"$f":"SUMIFS(Pays!G:G,Pays!E:E,57,Pays!D:D,D186)","v":0},{"$f":"SUMIF(Pays!D:D,D186,Pays!G:G)","v":0},{"$f":"SUMIF(Pays!D:D,D186,Pays!G:G)/176","v":0},{"$f":"IF(M186=0,IF(ISNA(MATCH(D186,'اطلاعات افراد غیر حقوق بگیر'!A:A,0)),0,LOOKUP(D186,'اطلاعات افراد غیر حقوق بگیر'!A:A,'اطلاعات افراد غیر حقوق بگیر'!F:F)),IF(H186=31,Settings!$D$13,ROUND(M186,0)))","v":0},null,0,{"$f":"IF(ISNA(MATCH(D186,Master!D:D,0)),IF(ISNA(MATCH(D186,'اطلاعات افراد غیر حقوق بگیر'!A:A,0)),0,LOOKUP(D186,'اطلاعات افراد غیر حقوق بگیر'!A:A,'اطلاعات افراد غیر حقوق بگیر'!G:G)),LOOKUP(D186,Master!D:D,Master!J:J))","v":0},{"$error":"#N/A"},0,0,{"$f":"IF(O186>#REF!,\"اخطار ساعت اضافه کار از حداکثر بیشتر است\",\" \")","v":{"$error":"#REF!"}},{"$f":"IF(O186>#REF!,1,0)","v":{"$error":"#REF!"}}]
[184,{"$f":"IF(D187=0,\"\",Settings!$D$6)","v":""},{"$f":"IF(D187=0,\"\",LOOKUP(B187,'Rigion Code'!A:A,'Rigion Code'!B:B))","v":""},null,{"$f":"IF(D187=0,\" \",IF(ISNA(MATCH(D187,Personnel!A:A,0)),IF(ISNA(MATCH(D187,'اطلاعات افراد غیر حقوق بگیر'!A:A,0)),\"وجود ندارد\",LOOKUP(Edit!D187,'اطلاعات افراد غیر حقوق بگیر'!A:A,'اطلاعات افراد غیر حقوق بگیر'!B:B)),LOOKUP(D187,Personnel!A:A,Personnel!C:C)))","v":" "},{"$f":"IF(D187=0,\" \",IF(ISNA(MATCH(D187,Personnel!A:A,0)),IF(ISNA(MATCH(D187,'اطلاعات افراد غیر حقوق بگیر'!A:A,0)),\"وجود ندارد\",LOOKUP(D187,'اطلاعات افراد غیر حقوق بگیر'!A:A,'اطلاعات افراد غیر حقوق بگیر'!C:C)),LOOKUP(D187,Personnel!A:A,Personnel!B:B)))","v":" "},{"$f":"IF(D187=0,0,IF(ISNA(MATCH(D187,Personnel!A:A,0)),IF(ISNA(MATCH(D187,'اطلاعات افراد غیر حقوق بگیر'!A:A,0)),\"وجود ندارد\",LOOKUP(D187,'اطلاعات افراد غیر حقوق بگیر'!A:A,'اطلاعات افراد غیر حقوق بگیر'!D:D)),LOOKUP(D187,Master!D:D,Master!CD:CD)))","v":0},{"$f":"IF(D187=0,\" \",IF(ISNA(MATCH(D187,Personnel!A:A,0)),IF(ISNA(MATCH(D187,'اطلاعات افراد غیر حقوق بگیر'!A:A,0)),\"وجود ندارد\",LOOKUP(D187,'اطلاعات افراد غیر حقوق بگیر'!A:A,'اطلاعات افراد غیر حقوق بگیر'!E:E)),LOOKUP(D187,Master!D:D,Master!AH:AH)))","v":" "},{"$f":"SUMIFS(Pays!G:G,Pays!E:E,1,Pays!D:D,D187)","v":0},{"$f":"SUMIFS(Pays!G:G,Pays!E:E,2,Pays!D:D,D187)","v":0},{"$f":"SUMIFS(Pays!G:G,Pays!E:E,57,Pays!D:D,D187)","v":0},{"$f":"SUMIF(Pays!D:D,D187,Pays!G:G)","v":0},{"$f":"SUMIF(Pays!D:D,D187,Pays!G:G)/176","v":0},{"$f":"IF(M187=0,IF(ISNA(MATCH(D187,'اطلاعات افراد غیر حقوق بگیر'!A:A,0)),0,LOOKUP(D187,'اطلاعات افراد غیر حقوق بگیر'!A:A,'اطلاعات افراد غیر حقوق بگیر'!F:F)),IF(H187=31,Settings!$D$13,ROUND(M187,0)))","v":0},null,0,{"$f":"IF(ISNA(MATCH(D187,Master!D:D,0)),IF(ISNA(MATCH(D187,'اطلاعات افراد غیر حقوق بگیر'!A:A,0)),0,LOOKUP(D187,'اطلاعات افراد غیر حقوق بگیر'!A:A,'اطلاعات افراد غیر حقوق بگیر'!G:G)),LOOKUP(D187,Master!D:D,Master!J:J))","v":0},{"$error":"#N/A"},0,0,{"$f":"IF(O187>#REF!,\"اخطار ساعت اضافه کار از حداکثر بیشتر است\",\" \")","v":{"$error":"#REF!"}},{"$f":"IF(O187>#REF!,1,0)","v":{"$error":"#REF!"}}]
[185,{"$f":"IF(D188=0,\"\",Settings!$D$6)","v":""},{"$f":"IF(D188=0,\"\",LOOKUP(B188,'Rigion Code'!A:A,'Rigion Code'!B:B))","v":""},null,{"$f":"IF(D188=0,\" \",IF(ISNA(MATCH(D188,Personnel!A:A,0)),IF(ISNA(MATCH(D188,'اطلاعات افراد غیر حقوق بگیر'!A:A,0)),\"وجود ندارد\",LOOKUP(Edit!D188,'اطلاعات افراد غیر حقوق بگیر'!A:A,'اطلاعات افراد غیر حقوق بگیر'!B:B)),LOOKUP(D188,Personnel!A:A,Personnel!C:C)))","v":" "},{"$f":"IF(D188=0,\" \",IF(ISNA(MATCH(D188,Personnel!A:A,0)),IF(ISNA(MATCH(D188,'اطلاعات افراد غیر حقوق بگیر'!A:A,0)),\"وجود ندارد\",LOOKUP(D188,'اطلاعات افراد غیر حقوق بگیر'!A:A,'اطلاعات افراد غیر حقوق بگیر'!C:C)),LOOKUP(D188,Personnel!A:A,Personnel!B:B)))","v":" "},{"$f":"IF(D188=0,0,IF(ISNA(MATCH(D188,Personnel!A:A,0)),IF(ISNA(MATCH(D188,'اطلاعات افراد غیر حقوق بگیر'!A:A,0)),\"وجود ندارد\",LOOKUP(D188,'اطلاعات افراد غیر حقوق بگیر'!A:A,'اطلاعات افراد غیر حقوق بگیر'!D:D)),LOOKUP(D188,Master!D:D,Master!CD:CD)))","v":0},{"$f":"IF(D188=0,\" \",IF(ISNA(MATCH(D188,Personnel!A:A,0)),IF(ISNA(MATCH(D188,'اطلاعات افراد غیر حقوق بگیر'!A:A,0)),\"وجود ندارد\",LOOKUP(D188,'اطلاعات افراد غیر حقوق بگیر'!A:A,'اطلاعات افراد غیر حقوق بگیر'!E:E)),LOOKUP(D188,Master!D:D,Master!AH:AH)))","v":" "},{"$f":"SUMIFS(Pays!G:G,Pays!E:E,1,Pays!D:D,D188)","v":0},{"$f":"SUMIFS(Pays!G:G,Pays!E:E,2,Pays!D:D,D188)","v":0},{"$f":"SUMIFS(Pays!G:G,Pays!E:E,57,Pays!D:D,D188)","v":0},{"$f":"SUMIF(Pays!D:D,D188,Pays!G:G)","v":0},{"$f":"SUMIF(Pays!D:D,D188,Pays!G:G)/176","v":0},{"$f":"IF(M188=0,IF(ISNA(MATCH(D188,'اطلاعات افراد غیر حقوق بگیر'!A:A,0)),0,LOOKUP(D188,'اطلاعات افراد غیر حقوق بگیر'!A:A,'اطلاعات افراد غیر حقوق بگیر'!F:F)),IF(H188=31,Settings!$D$13,ROUND(M188,0)))","v":0},null,0,{"$f":"IF(ISNA(MATCH(D188,Master!D:D,0)),IF(ISNA(MATCH(D188,'اطلاعات افراد غیر حقوق بگیر'!A:A,0)),0,LOOKUP(D188,'اطلاعات افراد غیر حقوق بگیر'!A:A,'اطلاعات افراد غیر حقوق بگیر'!G:G)),LOOKUP(D188,Master!D:D,Master!J:J))","v":0},{"$error":"#N/A"},0,0,{"$f":"IF(O188>#REF!,\"اخطار ساعت اضافه کار از حداکثر بیشتر است\",\" \")","v":{"$error":"#REF!"}},{"$f":"IF(O188>#REF!,1,0)","v":{"$error":"#REF!"}}]
[186,{"$f":"IF(D189=0,\"\",Settings!$D$6)","v":""},{"$f":"IF(D189=0,\"\",LOOKUP(B189,'Rigion Code'!A:A,'Rigion Code'!B:B))","v":""},null,{"$f":"IF(D189=0,\" \",IF(ISNA(MATCH(D189,Personnel!A:A,0)),IF(ISNA(MATCH(D189,'اطلاعات افراد غیر حقوق بگیر'!A:A,0)),\"وجود ندارد\",LOOKUP(Edit!D189,'اطلاعات افراد غیر حقوق بگیر'!A:A,'اطلاعات افراد غیر حقوق بگیر'!B:B)),LOOKUP(D189,Personnel!A:A,Personnel!C:C)))","v":" "},{"$f":"IF(D189=0,\" \",IF(ISNA(MATCH(D189,Personnel!A:A,0)),IF(ISNA(MATCH(D189,'اطلاعات افراد غیر حقوق بگیر'!A:A,0)),\"وجود ندارد\",LOOKUP(D189,'اطلاعات افراد غیر حقوق بگیر'!A:A,'اطلاعات افراد غیر حقوق بگیر'!C:C)),LOOKUP(D189,Personnel!A:A,Personnel!B:B)))","v":" "},{"$f":"IF(D189=0,0,IF(ISNA(MATCH(D189,Personnel!A:A,0)),IF(ISNA(MATCH(D189,'اطلاعات افراد غیر حقوق بگیر'!A:A,0)),\"وجود ندارد\",LOOKUP(D189,'اطلاعات افراد غیر حقوق بگیر'!A:A,'اطلاعات افراد غیر حقوق بگیر'!D:D)),LOOKUP(D189,Master!D:D,Master!CD:CD)))","v":0},{"$f":"IF(D189=0,\" \",IF(ISNA(MATCH(D189,Personnel!A:A,0)),IF(ISNA(MATCH(D189,'اطلاعات افراد غیر حقوق بگیر'!A:A,0)),\"وجود ندارد\",LOOKUP(D189,'اطلاعات افراد غیر حقوق بگیر'!A:A,'اطلاعات افراد غیر حقوق بگیر'!E:E)),LOOKUP(D189,Master!D:D,Master!AH:AH)))","v":" "},{"$f":"SUMIFS(Pays!G:G,Pays!E:E,1,Pays!D:D,D189)","v":0},{"$f":"SUMIFS(Pays!G:G,Pays!E:E,2,Pays!D:D,D189)","v":0},{"$f":"SUMIFS(Pays!G:G,Pays!E:E,57,Pays!D:D,D189)","v":0},{"$f":"SUMIF(Pays!D:D,D189,Pays!G:G)","v":0},{"$f":"SUMIF(Pays!D:D,D189,Pays!G:G)/176","v":0},{"$f":"IF(M189=0,IF(ISNA(MATCH(D189,'اطلاعات افراد غیر حقوق بگیر'!A:A,0)),0,LOOKUP(D189,'اطلاعات افراد غیر حقوق بگیر'!A:A,'اطلاعات افراد غیر حقوق بگیر'!F:F)),IF(H189=31,Settings!$D$13,ROUND(M189,0)))","v":0},null,0,{"$f":"IF(ISNA(MATCH(D189,Master!D:D,0)),IF(ISNA(MATCH(D189,'اطلاعات افراد غیر حقوق بگیر'!A:A,0)),0,LOOKUP(D189,'اطلاعات افراد غیر حقوق بگیر'!A:A,'اطلاعات افراد غیر حقوق بگیر'!G:G)),LOOKUP(D189,Master!D:D,Master!J:J))","v":0},{"$error":"#N/A"},0,0,{"$f":"IF(O189>#REF!,\"اخطار ساعت اضافه کار از حداکثر بیشتر است\",\" \")","v":{"$error":"#REF!"}},{"$f":"IF(O189>#REF!,1,0)","v":{"$error":"#REF!"}}]
[187,{"$f":"IF(D190=0,\"\",Settings!$D$6)","v":""},{"$f":"IF(D190=0,\"\",LOOKUP(B190,'Rigion Code'!A:A,'Rigion Code'!B:B))","v":""},null,{"$f":"IF(D190=0,\" \",IF(ISNA(MATCH(D190,Personnel!A:A,0)),IF(ISNA(MATCH(D190,'اطلاعات افراد غیر حقوق بگیر'!A:A,0)),\"وجود ندارد\",LOOKUP(Edit!D190,'اطلاعات افراد غیر حقوق بگیر'!A:A,'اطلاعات افراد غیر حقوق بگیر'!B:B)),LOOKUP(D190,Personnel!A:A,Personnel!C:C)))","v":" "},{"$f":"IF(D190=0,\" \",IF(ISNA(MATCH(D190,Personnel!A:A,0)),IF(ISNA(MATCH(D190,'اطلاعات افراد غیر حقوق بگیر'!A:A,0)),\"وجود ندارد\",LOOKUP(D190,'اطلاعات افراد غیر حقوق بگیر'!A:A,'اطلاعات افراد غیر حقوق بگیر'!C:C)),LOOKUP(D190,Personnel!A:A,Personnel!B:B)))","v":" "},{"$f":"IF(D190=0,0,IF(ISNA(MATCH(D190,Personnel!A:A,0)),IF(ISNA(MATCH(D190,'اطلاعات افراد غیر حقوق بگیر'!A:A,0)),\"وجود ندارد\",LOOKUP(D190,'اطلاعات افراد غیر حقوق بگیر'!A:A,'اطلاعات افراد غیر حقوق بگیر'!D:D)),LOOKUP(D190,Master!D:D,Master!CD:CD)))","v":0},{"$f":"IF(D190=0,\" \",IF(ISNA(MATCH(D190,Personnel!A:A,0)),IF(ISNA(MATCH(D190,'اطلاعات افراد غیر حقوق بگیر'!A:A,0)),\"وجود ندارد\",LOOKUP(D190,'اطلاعات افراد غیر حقوق بگیر'!A:A,'اطلاعات افراد غیر حقوق بگیر'!E:E)),LOOKUP(D190,Master!D:D,Master!AH:AH)))","v":" "},{"$f":"SUMIFS(Pays!G:G,Pays!E:E,1,Pays!D:D,D190)","v":0},{"$f":"SUMIFS(Pays!G:G,Pays!E:E,2,Pays!D:D,D190)","v":0},{"$f":"SUMIFS(Pays!G:G,Pays!E:E,57,Pays!D:D,D190)","v":0},{"$f":"SUMIF(Pays!D:D,D190,Pays!G:G)","v":0},{"$f":"SUMIF(Pays!D:D,D190,Pays!G:G)/176","v":0},{"$f":"IF(M190=0,IF(ISNA(MATCH(D190,'اطلاعات افراد غیر حقوق بگیر'!A:A,0)),0,LOOKUP(D190,'اطلاعات افراد غیر حقوق بگیر'!A:A,'اطلاعات افراد غیر حقوق بگیر'!F:F)),IF(H190=31,Settings!$D$13,ROUND(M190,0)))","v":0},null,0,{"$f":"IF(ISNA(MATCH(D190,Master!D:D,0)),IF(ISNA(MATCH(D190,'اطلاعات افراد غیر حقوق بگیر'!A:A,0)),0,LOOKUP(D190,'اطلاعات افراد غیر حقوق بگیر'!A:A,'اطلاعات افراد غیر حقوق بگیر'!G:G)),LOOKUP(D190,Master!D:D,Master!J:J))","v":0},{"$error":"#N/A"},0,0,{"$f":"IF(O190>#REF!,\"اخطار ساعت اضافه کار از حداکثر بیشتر است\",\" \")","v":{"$error":"#REF!"}},{"$f":"IF(O190>#REF!,1,0)","v":{"$error":"#REF!"}}]
[188,{"$f":"IF(D191=0,\"\",Settings!$D$6)","v":""},{"$f":"IF(D191=0,\"\",LOOKUP(B191,'Rigion Code'!A:A,'Rigion Code'!B:B))","v":""},null,{"$f":"IF(D191=0,\" \",IF(ISNA(MATCH(D191,Personnel!A:A,0)),IF(ISNA(MATCH(D191,'اطلاعات افراد غیر حقوق بگیر'!A:A,0)),\"وجود ندارد\",LOOKUP(Edit!D191,'اطلاعات افراد غیر حقوق بگیر'!A:A,'اطلاعات افراد غیر حقوق بگیر'!B:B)),LOOKUP(D191,Personnel!A:A,Personnel!C:C)))","v":" "},{"$f":"IF(D191=0,\" \",IF(ISNA(MATCH(D191,Personnel!A:A,0)),IF(ISNA(MATCH(D191,'اطلاعات افراد غیر حقوق بگیر'!A:A,0)),\"وجود ندارد\",LOOKUP(D191,'اطلاعات افراد غیر حقوق بگیر'!A:A,'اطلاعات افراد غیر حقوق بگیر'!C:C)),LOOKUP(D191,Personnel!A:A,Personnel!B:B)))","v":" "},{"$f":"IF(D191=0,0,IF(ISNA(MATCH(D191,Personnel!A:A,0)),IF(ISNA(MATCH(D191,'اطلاعات افراد غیر حقوق بگیر'!A:A,0)),\"وجود ندارد\",LOOKUP(D191,'اطلاعات افراد غیر حقوق بگیر'!A:A,'اطلاعات افراد غیر حقوق بگیر'!D:D)),LOOKUP(D191,Master!D:D,Master!CD:CD)))","v":0},{"$f":"IF(D191=0,\" \",IF(ISNA(MATCH(D191,Personnel!A:A,0)),IF(ISNA(MATCH(D191,'اطلاعات افراد غیر حقوق بگیر'!A:A,0)),\"وجود ندارد\",LOOKUP(D191,'اطلاعات افراد غیر حقوق بگیر'!A:A,'اطلاعات افراد غیر حقوق بگیر'!E:E)),LOOKUP(D191,Master!D:D,Master!AH:AH)))","v":" "},{"$f":"SUMIFS(Pays!G:G,Pays!E:E,1,Pays!D:D,D191)","v":0},{"$f":"SUMIFS(Pays!G:G,Pays!E:E,2,Pays!D:D,D191)","v":0},{"$f":"SUMIFS(Pays!G:G,Pays!E:E,57,Pays!D:D,D191)","v":0},{"$f":"SUMIF(Pays!D:D,D191,Pays!G:G)","v":0},{"$f":"SUMIF(Pays!D:D,D191,Pays!G:G)/176","v":0},{"$f":"IF(M191=0,IF(ISNA(MATCH(D191,'اطلاعات افراد غیر حقوق بگیر'!A:A,0)),0,LOOKUP(D191,'اطلاعات افراد غیر حقوق بگیر'!A:A,'اطلاعات افراد غیر حقوق بگیر'!F:F)),IF(H191=31,Settings!$D$13,ROUND(M191,0)))","v":0},null,0,{"$f":"IF(ISNA(MATCH(D191,Master!D:D,0)),IF(ISNA(MATCH(D191,'اطلاعات افراد غیر حقوق بگیر'!A:A,0)),0,LOOKUP(D191,'اطلاعات افراد غیر حقوق بگیر'!A:A,'اطلاعات افراد غیر حقوق بگیر'!G:G)),LOOKUP(D191,Master!D:D,Master!J:J))","v":0},{"$error":"#N/A"},0,0,{"$f":"IF(O191>#REF!,\"اخطار ساعت اضافه کار از حداکثر بیشتر است\",\" \")","v":{"$error":"#REF!"}},{"$f":"IF(O191>#REF!,1,0)","v":{"$error":"#REF!"}}]
[189,{"$f":"IF(D192=0,\"\",Settings!$D$6)","v":""},{"$f":"IF(D192=0,\"\",LOOKUP(B192,'Rigion Code'!A:A,'Rigion Code'!B:B))","v":""},null,{"$f":"IF(D192=0,\" \",IF(ISNA(MATCH(D192,Personnel!A:A,0)),IF(ISNA(MATCH(D192,'اطلاعات افراد غیر حقوق بگیر'!A:A,0)),\"وجود ندارد\",LOOKUP(Edit!D192,'اطلاعات افراد غیر حقوق بگیر'!A:A,'اطلاعات افراد غیر حقوق بگیر'!B:B)),LOOKUP(D192,Personnel!A:A,Personnel!C:C)))","v":" "},{"$f":"IF(D192=0,\" \",IF(ISNA(MATCH(D192,Personnel!A:A,0)),IF(ISNA(MATCH(D192,'اطلاعات افراد غیر حقوق بگیر'!A:A,0)),\"وجود ندارد\",LOOKUP(D192,'اطلاعات افراد غیر حقوق بگیر'!A:A,'اطلاعات افراد غیر حقوق بگیر'!C:C)),LOOKUP(D192,Personnel!A:A,Personnel!B:B)))","v":" "},{"$f":"IF(D192=0,0,IF(ISNA(MATCH(D192,Personnel!A:A,0)),IF(ISNA(MATCH(D192,'اطلاعات افراد غیر حقوق بگیر'!A:A,0)),\"وجود ندارد\",LOOKUP(D192,'اطلاعات افراد غیر حقوق بگیر'!A:A,'اطلاعات افراد غیر حقوق بگیر'!D:D)),LOOKUP(D192,Master!D:D,Master!CD:CD)))","v":0},{"$f":"IF(D192=0,\" \",IF(ISNA(MATCH(D192,Personnel!A:A,0)),IF(ISNA(MATCH(D192,'اطلاعات افراد غیر حقوق بگیر'!A:A,0)),\"وجود ندارد\",LOOKUP(D192,'اطلاعات افراد غیر حقوق بگیر'!A:A,'اطلاعات افراد غیر حقوق بگیر'!E:E)),LOOKUP(D192,Master!D:D,Master!AH:AH)))","v":" "},{"$f":"SUMIFS(Pays!G:G,Pays!E:E,1,Pays!D:D,D192)","v":0},{"$f":"SUMIFS(Pays!G:G,Pays!E:E,2,Pays!D:D,D192)","v":0},{"$f":"SUMIFS(Pays!G:G,Pays!E:E,57,Pays!D:D,D192)","v":0},{"$f":"SUMIF(Pays!D:D,D192,Pays!G:G)","v":0},{"$f":"SUMIF(Pays!D:D,D192,Pays!G:G)/176","v":0},{"$f":"IF(M192=0,IF(ISNA(MATCH(D192,'اطلاعات افراد غیر حقوق بگیر'!A:A,0)),0,LOOKUP(D192,'اطلاعات افراد غیر حقوق بگیر'!A:A,'اطلاعات افراد غیر حقوق بگیر'!F:F)),IF(H192=31,Settings!$D$13,ROUND(M192,0)))","v":0},null,0,{"$f":"IF(ISNA(MATCH(D192,Master!D:D,0)),IF(ISNA(MATCH(D192,'اطلاعات افراد غیر حقوق بگیر'!A:A,0)),0,LOOKUP(D192,'اطلاعات افراد غیر حقوق بگیر'!A:A,'اطلاعات افراد غیر حقوق بگیر'!G:G)),LOOKUP(D192,Master!D:D,Master!J:J))","v":0},{"$error":"#N/A"},0,0,{"$f":"IF(O192>#REF!,\"اخطار ساعت اضافه کار از حداکثر بیشتر است\",\" \")","v":{"$error":"#REF!"}},{"$f":"IF(O192>#REF!,1,0)","v":{"$error":"#REF!"}}]
[190,{"$f":"IF(D193=0,\"\",Settings!$D$6)","v":""},{"$f":"IF(D193=0,\"\",LOOKUP(B193,'Rigion Code'!A:A,'Rigion Code'!B:B))","v":""},null,{"$f":"IF(D193=0,\" \",IF(ISNA(MATCH(D193,Personnel!A:A,0)),IF(ISNA(MATCH(D193,'اطلاعات افراد غیر حقوق بگیر'!A:A,0)),\"وجود ندارد\",LOOKUP(Edit!D193,'اطلاعات افراد غیر حقوق بگیر'!A:A,'اطلاعات افراد غیر حقوق بگیر'!B:B)),LOOKUP(D193,Personnel!A:A,Personnel!C:C)))","v":" "},{"$f":"IF(D193=0,\" \",IF(ISNA(MATCH(D193,Personnel!A:A,0)),IF(ISNA(MATCH(D193,'اطلاعات افراد غیر حقوق بگیر'!A:A,0)),\"وجود ندارد\",LOOKUP(D193,'اطلاعات افراد غیر حقوق بگیر'!A:A,'اطلاعات افراد غیر حقوق بگیر'!C:C)),LOOKUP(D193,Personnel!A:A,Personnel!B:B)))","v":" "},{"$f":"IF(D193=0,0,IF(ISNA(MATCH(D193,Personnel!A:A,0)),IF(ISNA(MATCH(D193,'اطلاعات افراد غیر حقوق بگیر'!A:A,0)),\"وجود ندارد\",LOOKUP(D193,'اطلاعات افراد غیر حقوق بگیر'!A:A,'اطلاعات افراد غیر حقوق بگیر'!D:D)),LOOKUP(D193,Master!D:D,Master!CD:CD)))","v":0},{"$f":"IF(D193=0,\" \",IF(ISNA(MATCH(D193,Personnel!A:A,0)),IF(ISNA(MATCH(D193,'اطلاعات افراد غیر حقوق بگیر'!A:A,0)),\"وجود ندارد\",LOOKUP(D193,'اطلاعات افراد غیر حقوق بگیر'!A:A,'اطلاعات افراد غیر حقوق بگیر'!E:E)),LOOKUP(D193,Master!D:D,Master!AH:AH)))","v":" "},{"$f":"SUMIFS(Pays!G:G,Pays!E:E,1,Pays!D:D,D193)","v":0},{"$f":"SUMIFS(Pays!G:G,Pays!E:E,2,Pays!D:D,D193)","v":0},{"$f":"SUMIFS(Pays!G:G,Pays!E:E,57,Pays!D:D,D193)","v":0},{"$f":"SUMIF(Pays!D:D,D193,Pays!G:G)","v":0},{"$f":"SUMIF(Pays!D:D,D193,Pays!G:G)/176","v":0},{"$f":"IF(M193=0,IF(ISNA(MATCH(D193,'اطلاعات افراد غیر حقوق بگیر'!A:A,0)),0,LOOKUP(D193,'اطلاعات افراد غیر حقوق بگیر'!A:A,'اطلاعات افراد غیر حقوق بگیر'!F:F)),IF(H193=31,Settings!$D$13,ROUND(M193,0)))","v":0},null,0,{"$f":"IF(ISNA(MATCH(D193,Master!D:D,0)),IF(ISNA(MATCH(D193,'اطلاعات افراد غیر حقوق بگیر'!A:A,0)),0,LOOKUP(D193,'اطلاعات افراد غیر حقوق بگیر'!A:A,'اطلاعات افراد غیر حقوق بگیر'!G:G)),LOOKUP(D193,Master!D:D,Master!J:J))","v":0},{"$error":"#N/A"},0,0,{"$f":"IF(O193>#REF!,\"اخطار ساعت اضافه کار از حداکثر بیشتر است\",\" \")","v":{"$error":"#REF!"}},{"$f":"IF(O193>#REF!,1,0)","v":{"$error":"#REF!"}}]
[191,{"$f":"IF(D194=0,\"\",Settings!$D$6)","v":""},{"$f":"IF(D194=0,\"\",LOOKUP(B194,'Rigion Code'!A:A,'Rigion Code'!B:B))","v":""},null,{"$f":"IF(D194=0,\" \",IF(ISNA(MATCH(D194,Personnel!A:A,0)),IF(ISNA(MATCH(D194,'اطلاعات افراد غیر حقوق بگیر'!A:A,0)),\"وجود ندارد\",LOOKUP(Edit!D194,'اطلاعات افراد غیر حقوق بگیر'!A:A,'اطلاعات افراد غیر حقوق بگیر'!B:B)),LOOKUP(D194,Personnel!A:A,Personnel!C:C)))","v":" "},{"$f":"IF(D194=0,\" \",IF(ISNA(MATCH(D194,Personnel!A:A,0)),IF(ISNA(MATCH(D194,'اطلاعات افراد غیر حقوق بگیر'!A:A,0)),\"وجود ندارد\",LOOKUP(D194,'اطلاعات افراد غیر حقوق بگیر'!A:A,'اطلاعات افراد غیر حقوق بگیر'!C:C)),LOOKUP(D194,Personnel!A:A,Personnel!B:B)))","v":" "},{"$f":"IF(D194=0,0,IF(ISNA(MATCH(D194,Personnel!A:A,0)),IF(ISNA(MATCH(D194,'اطلاعات افراد غیر حقوق بگیر'!A:A,0)),\"وجود ندارد\",LOOKUP(D194,'اطلاعات افراد غیر حقوق بگیر'!A:A,'اطلاعات افراد غیر حقوق بگیر'!D:D)),LOOKUP(D194,Master!D:D,Master!CD:CD)))","v":0},{"$f":"IF(D194=0,\" \",IF(ISNA(MATCH(D194,Personnel!A:A,0)),IF(ISNA(MATCH(D194,'اطلاعات افراد غیر حقوق بگیر'!A:A,0)),\"وجود ندارد\",LOOKUP(D194,'اطلاعات افراد غیر حقوق بگیر'!A:A,'اطلاعات افراد غیر حقوق بگیر'!E:E)),LOOKUP(D194,Master!D:D,Master!AH:AH)))","v":" "},{"$f":"SUMIFS(Pays!G:G,Pays!E:E,1,Pays!D:D,D194)","v":0},{"$f":"SUMIFS(Pays!G:G,Pays!E:E,2,Pays!D:D,D194)","v":0},{"$f":"SUMIFS(Pays!G:G,Pays!E:E,57,Pays!D:D,D194)","v":0},{"$f":"SUMIF(Pays!D:D,D194,Pays!G:G)","v":0},{"$f":"SUMIF(Pays!D:D,D194,Pays!G:G)/176","v":0},{"$f":"IF(M194=0,IF(ISNA(MATCH(D194,'اطلاعات افراد غیر حقوق بگیر'!A:A,0)),0,LOOKUP(D194,'اطلاعات افراد غیر حقوق بگیر'!A:A,'اطلاعات افراد غیر حقوق بگیر'!F:F)),IF(H194=31,Settings!$D$13,ROUND(M194,0)))","v":0},null,0,{"$f":"IF(ISNA(MATCH(D194,Master!D:D,0)),IF(ISNA(MATCH(D194,'اطلاعات افراد غیر حقوق بگیر'!A:A,0)),0,LOOKUP(D194,'اطلاعات افراد غیر حقوق بگیر'!A:A,'اطلاعات افراد غیر حقوق بگیر'!G:G)),LOOKUP(D194,Master!D:D,Master!J:J))","v":0},{"$error":"#N/A"},0,0,{"$f":"IF(O194>#REF!,\"اخطار ساعت اضافه کار از حداکثر بیشتر است\",\" \")","v":{"$error":"#REF!"}},{"$f":"IF(O194>#REF!,1,0)","v":{"$error":"#REF!"}}]
[192,{"$f":"IF(D195=0,\"\",Settings!$D$6)","v":""},{"$f":"IF(D195=0,\"\",LOOKUP(B195,'Rigion Code'!A:A,'Rigion Code'!B:B))","v":""},null,{"$f":"IF(D195=0,\" \",IF(ISNA(MATCH(D195,Personnel!A:A,0)),IF(ISNA(MATCH(D195,'اطلاعات افراد غیر حقوق بگیر'!A:A,0)),\"وجود ندارد\",LOOKUP(Edit!D195,'اطلاعات افراد غیر حقوق بگیر'!A:A,'اطلاعات افراد غیر حقوق بگیر'!B:B)),LOOKUP(D195,Personnel!A:A,Personnel!C:C)))","v":" "},{"$f":"IF(D195=0,\" \",IF(ISNA(MATCH(D195,Personnel!A:A,0)),IF(ISNA(MATCH(D195,'اطلاعات افراد غیر حقوق بگیر'!A:A,0)),\"وجود ندارد\",LOOKUP(D195,'اطلاعات افراد غیر حقوق بگیر'!A:A,'اطلاعات افراد غیر حقوق بگیر'!C:C)),LOOKUP(D195,Personnel!A:A,Personnel!B:B)))","v":" "},{"$f":"IF(D195=0,0,IF(ISNA(MATCH(D195,Personnel!A:A,0)),IF(ISNA(MATCH(D195,'اطلاعات افراد غیر حقوق بگیر'!A:A,0)),\"وجود ندارد\",LOOKUP(D195,'اطلاعات افراد غیر حقوق بگیر'!A:A,'اطلاعات افراد غیر حقوق بگیر'!D:D)),LOOKUP(D195,Master!D:D,Master!CD:CD)))","v":0},{"$f":"IF(D195=0,\" \",IF(ISNA(MATCH(D195,Personnel!A:A,0)),IF(ISNA(MATCH(D195,'اطلاعات افراد غیر حقوق بگیر'!A:A,0)),\"وجود ندارد\",LOOKUP(D195,'اطلاعات افراد غیر حقوق بگیر'!A:A,'اطلاعات افراد غیر حقوق بگیر'!E:E)),LOOKUP(D195,Master!D:D,Master!AH:AH)))","v":" "},{"$f":"SUMIFS(Pays!G:G,Pays!E:E,1,Pays!D:D,D195)","v":0},{"$f":"SUMIFS(Pays!G:G,Pays!E:E,2,Pays!D:D,D195)","v":0},{"$f":"SUMIFS(Pays!G:G,Pays!E:E,57,Pays!D:D,D195)","v":0},{"$f":"SUMIF(Pays!D:D,D195,Pays!G:G)","v":0},{"$f":"SUMIF(Pays!D:D,D195,Pays!G:G)/176","v":0},{"$f":"IF(M195=0,IF(ISNA(MATCH(D195,'اطلاعات افراد غیر حقوق بگیر'!A:A,0)),0,LOOKUP(D195,'اطلاعات افراد غیر حقوق بگیر'!A:A,'اطلاعات افراد غیر حقوق بگیر'!F:F)),IF(H195=31,Settings!$D$13,ROUND(M195,0)))","v":0},null,0,{"$f":"IF(ISNA(MATCH(D195,Master!D:D,0)),IF(ISNA(MATCH(D195,'اطلاعات افراد غیر حقوق بگیر'!A:A,0)),0,LOOKUP(D195,'اطلاعات افراد غیر حقوق بگیر'!A:A,'اطلاعات افراد غیر حقوق بگیر'!G:G)),LOOKUP(D195,Master!D:D,Master!J:J))","v":0},{"$error":"#N/A"},0,0,{"$f":"IF(O195>#REF!,\"اخطار ساعت اضافه کار از حداکثر بیشتر است\",\" \")","v":{"$error":"#REF!"}},{"$f":"IF(O195>#REF!,1,0)","v":{"$error":"#REF!"}}]
[193,{"$f":"IF(D196=0,\"\",Settings!$D$6)","v":""},{"$f":"IF(D196=0,\"\",LOOKUP(B196,'Rigion Code'!A:A,'Rigion Code'!B:B))","v":""},null,{"$f":"IF(D196=0,\" \",IF(ISNA(MATCH(D196,Personnel!A:A,0)),IF(ISNA(MATCH(D196,'اطلاعات افراد غیر حقوق بگیر'!A:A,0)),\"وجود ندارد\",LOOKUP(Edit!D196,'اطلاعات افراد غیر حقوق بگیر'!A:A,'اطلاعات افراد غیر حقوق بگیر'!B:B)),LOOKUP(D196,Personnel!A:A,Personnel!C:C)))","v":" "},{"$f":"IF(D196=0,\" \",IF(ISNA(MATCH(D196,Personnel!A:A,0)),IF(ISNA(MATCH(D196,'اطلاعات افراد غیر حقوق بگیر'!A:A,0)),\"وجود ندارد\",LOOKUP(D196,'اطلاعات افراد غیر حقوق بگیر'!A:A,'اطلاعات افراد غیر حقوق بگیر'!C:C)),LOOKUP(D196,Personnel!A:A,Personnel!B:B)))","v":" "},{"$f":"IF(D196=0,0,IF(ISNA(MATCH(D196,Personnel!A:A,0)),IF(ISNA(MATCH(D196,'اطلاعات افراد غیر حقوق بگیر'!A:A,0)),\"وجود ندارد\",LOOKUP(D196,'اطلاعات افراد غیر حقوق بگیر'!A:A,'اطلاعات افراد غیر حقوق بگیر'!D:D)),LOOKUP(D196,Master!D:D,Master!CD:CD)))","v":0},{"$f":"IF(D196=0,\" \",IF(ISNA(MATCH(D196,Personnel!A:A,0)),IF(ISNA(MATCH(D196,'اطلاعات افراد غیر حقوق بگیر'!A:A,0)),\"وجود ندارد\",LOOKUP(D196,'اطلاعات افراد غیر حقوق بگیر'!A:A,'اطلاعات افراد غیر حقوق بگیر'!E:E)),LOOKUP(D196,Master!D:D,Master!AH:AH)))","v":" "},{"$f":"SUMIFS(Pays!G:G,Pays!E:E,1,Pays!D:D,D196)","v":0},{"$f":"SUMIFS(Pays!G:G,Pays!E:E,2,Pays!D:D,D196)","v":0},{"$f":"SUMIFS(Pays!G:G,Pays!E:E,57,Pays!D:D,D196)","v":0},{"$f":"SUMIF(Pays!D:D,D196,Pays!G:G)","v":0},{"$f":"SUMIF(Pays!D:D,D196,Pays!G:G)/176","v":0},{"$f":"IF(M196=0,IF(ISNA(MATCH(D196,'اطلاعات افراد غیر حقوق بگیر'!A:A,0)),0,LOOKUP(D196,'اطلاعات افراد غیر حقوق بگیر'!A:A,'اطلاعات افراد غیر حقوق بگیر'!F:F)),IF(H196=31,Settings!$D$13,ROUND(M196,0)))","v":0},null,{"$f":"N196*O196","v":0},{"$f":"IF(ISNA(MATCH(D196,Master!D:D,0)),IF(ISNA(MATCH(D196,'اطلاعات افراد غیر حقوق بگیر'!A:A,0)),0,LOOKUP(D196,'اطلاعات افراد غیر حقوق بگیر'!A:A,'اطلاعات افراد غیر حقوق بگیر'!G:G)),LOOKUP(D196,Master!D:D,Master!J:J))","v":0},{"$error":"#N/A"},0,0,{"$f":"IF(O196>#REF!,\"اخطار ساعت اضافه کار از حداکثر بیشتر است\",\" \")","v":{"$error":"#REF!"}},{"$f":"IF(O196>#REF!,1,0)","v":{"$error":"#REF!"}}]
[194,{"$f":"IF(D197=0,\"\",Settings!$D$6)","v":""},{"$f":"IF(D197=0,\"\",LOOKUP(B197,'Rigion Code'!A:A,'Rigion Code'!B:B))","v":""},null,{"$f":"IF(D197=0,\" \",IF(ISNA(MATCH(D197,Personnel!A:A,0)),IF(ISNA(MATCH(D197,'اطلاعات افراد غیر حقوق بگیر'!A:A,0)),\"وجود ندارد\",LOOKUP(Edit!D197,'اطلاعات افراد غیر حقوق بگیر'!A:A,'اطلاعات افراد غیر حقوق بگیر'!B:B)),LOOKUP(D197,Personnel!A:A,Personnel!C:C)))","v":" "},{"$f":"IF(D197=0,\" \",IF(ISNA(MATCH(D197,Personnel!A:A,0)),IF(ISNA(MATCH(D197,'اطلاعات افراد غیر حقوق بگیر'!A:A,0)),\"وجود ندارد\",LOOKUP(D197,'اطلاعات افراد غیر حقوق بگیر'!A:A,'اطلاعات افراد غیر حقوق بگیر'!C:C)),LOOKUP(D197,Personnel!A:A,Personnel!B:B)))","v":" "},{"$f":"IF(D197=0,0,IF(ISNA(MATCH(D197,Personnel!A:A,0)),IF(ISNA(MATCH(D197,'اطلاعات افراد غیر حقوق بگیر'!A:A,0)),\"وجود ندارد\",LOOKUP(D197,'اطلاعات افراد غیر حقوق بگیر'!A:A,'اطلاعات افراد غیر حقوق بگیر'!D:D)),LOOKUP(D197,Master!D:D,Master!CD:CD)))","v":0},{"$f":"IF(D197=0,\" \",IF(ISNA(MATCH(D197,Personnel!A:A,0)),IF(ISNA(MATCH(D197,'اطلاعات افراد غیر حقوق بگیر'!A:A,0)),\"وجود ندارد\",LOOKUP(D197,'اطلاعات افراد غیر حقوق بگیر'!A:A,'اطلاعات افراد غیر حقوق بگیر'!E:E)),LOOKUP(D197,Master!D:D,Master!AH:AH)))","v":" "},{"$f":"SUMIFS(Pays!G:G,Pays!E:E,1,Pays!D:D,D197)","v":0},{"$f":"SUMIFS(Pays!G:G,Pays!E:E,2,Pays!D:D,D197)","v":0},{"$f":"SUMIFS(Pays!G:G,Pays!E:E,57,Pays!D:D,D197)","v":0},{"$f":"SUMIF(Pays!D:D,D197,Pays!G:G)","v":0},{"$f":"SUMIF(Pays!D:D,D197,Pays!G:G)/176","v":0},{"$f":"IF(M197=0,IF(ISNA(MATCH(D197,'اطلاعات افراد غیر حقوق بگیر'!A:A,0)),0,LOOKUP(D197,'اطلاعات افراد غیر حقوق بگیر'!A:A,'اطلاعات افراد غیر حقوق بگیر'!F:F)),IF(H197=31,Settings!$D$13,ROUND(M197,0)))","v":0},null,0,{"$f":"IF(ISNA(MATCH(D197,Master!D:D,0)),IF(ISNA(MATCH(D197,'اطلاعات افراد غیر حقوق بگیر'!A:A,0)),0,LOOKUP(D197,'اطلاعات افراد غیر حقوق بگیر'!A:A,'اطلاعات افراد غیر حقوق بگیر'!G:G)),LOOKUP(D197,Master!D:D,Master!J:J))","v":0},{"$f":"LOOKUP(Q197,$W$4:$W$12,$X$4:$X$12)","v":{"$error":"#N/A"}},{"$f":"IF(P197=0,0,ROUND(P197*R197/100,0))","v":0},{"$f":"P197-S197","v":0},{"$f":"IF(O197>#REF!,\"اخطار ساعت اضافه کار از حداکثر بیشتر است\",\" \")","v":{"$error":"#REF!"}},{"$f":"IF(O197>#REF!,1,0)","v":{"$error":"#REF!"}}]
[{"$f":"A197+1","v":195},{"$f":"IF(D198=0,\"\",Settings!$D$6)","v":""},{"$f":"IF(D198=0,\"\",LOOKUP(B198,'Rigion Code'!A:A,'Rigion Code'!B:B))","v":""},null,{"$f":"IF(D198=0,\" \",IF(ISNA(MATCH(D198,Personnel!A:A,0)),IF(ISNA(MATCH(D198,'اطلاعات افراد غیر حقوق بگیر'!A:A,0)),\"وجود ندارد\",LOOKUP(Edit!D198,'اطلاعات افراد غیر حقوق بگیر'!A:A,'اطلاعات افراد غیر حقوق بگیر'!B:B)),LOOKUP(D198,Personnel!A:A,Personnel!C:C)))","v":" "},{"$f":"IF(D198=0,\" \",IF(ISNA(MATCH(D198,Personnel!A:A,0)),IF(ISNA(MATCH(D198,'اطلاعات افراد غیر حقوق بگیر'!A:A,0)),\"وجود ندارد\",LOOKUP(D198,'اطلاعات افراد غیر حقوق بگیر'!A:A,'اطلاعات افراد غیر حقوق بگیر'!C:C)),LOOKUP(D198,Personnel!A:A,Personnel!B:B)))","v":" "},{"$f":"IF(D198=0,0,IF(ISNA(MATCH(D198,Personnel!A:A,0)),IF(ISNA(MATCH(D198,'اطلاعات افراد غیر حقوق بگیر'!A:A,0)),\"وجود ندارد\",LOOKUP(D198,'اطلاعات افراد غیر حقوق بگیر'!A:A,'اطلاعات افراد غیر حقوق بگیر'!D:D)),LOOKUP(D198,Master!D:D,Master!CD:CD)))","v":0},{"$f":"IF(D198=0,\" \",IF(ISNA(MATCH(D198,Personnel!A:A,0)),IF(ISNA(MATCH(D198,'اطلاعات افراد غیر حقوق بگیر'!A:A,0)),\"وجود ندارد\",LOOKUP(D198,'اطلاعات افراد غیر حقوق بگیر'!A:A,'اطلاعات افراد غیر حقوق بگیر'!E:E)),LOOKUP(D198,Master!D:D,Master!AH:AH)))","v":" "},{"$f":"SUMIFS(Pays!G:G,Pays!E:E,1,Pays!D:D,D198)","v":0},{"$f":"SUMIFS(Pays!G:G,Pays!E:E,2,Pays!D:D,D198)","v":0},{"$f":"SUMIFS(Pays!G:G,Pays!E:E,57,Pays!D:D,D198)","v":0},{"$f":"SUMIF(Pays!D:D,D198,Pays!G:G)","v":0},{"$f":"SUMIF(Pays!D:D,D198,Pays!G:G)/176","v":0},{"$f":"IF(M198=0,IF(ISNA(MATCH(D198,'اطلاعات افراد غیر حقوق بگیر'!A:A,0)),0,LOOKUP(D198,'اطلاعات افراد غیر حقوق بگیر'!A:A,'اطلاعات افراد غیر حقوق بگیر'!F:F)),IF(H198=31,Settings!$D$13,ROUND(M198,0)))","v":0},null,0,{"$f":"IF(ISNA(MATCH(D198,Master!D:D,0)),IF(ISNA(MATCH(D198,'اطلاعات افراد غیر حقوق بگیر'!A:A,0)),0,LOOKUP(D198,'اطلاعات افراد غیر حقوق بگیر'!A:A,'اطلاعات افراد غیر حقوق بگیر'!G:G)),LOOKUP(D198,Master!D:D,Master!J:J))","v":0},{"$error":"#N/A"},0,0,{"$f":"IF(O198>#REF!,\"اخطار ساعت اضافه کار از حداکثر بیشتر است\",\" \")","v":{"$error":"#REF!"}},{"$f":"IF(O198>#REF!,1,0)","v":{"$error":"#REF!"}}]
[196,{"$f":"IF(D199=0,\"\",Settings!$D$6)","v":""},{"$f":"IF(D199=0,\"\",LOOKUP(B199,'Rigion Code'!A:A,'Rigion Code'!B:B))","v":""},null,{"$f":"IF(D199=0,\" \",IF(ISNA(MATCH(D199,Personnel!A:A,0)),IF(ISNA(MATCH(D199,'اطلاعات افراد غیر حقوق بگیر'!A:A,0)),\"وجود ندارد\",LOOKUP(Edit!D199,'اطلاعات افراد غیر حقوق بگیر'!A:A,'اطلاعات افراد غیر حقوق بگیر'!B:B)),LOOKUP(D199,Personnel!A:A,Personnel!C:C)))","v":" "},{"$f":"IF(D199=0,\" \",IF(ISNA(MATCH(D199,Personnel!A:A,0)),IF(ISNA(MATCH(D199,'اطلاعات افراد غیر حقوق بگیر'!A:A,0)),\"وجود ندارد\",LOOKUP(D199,'اطلاعات افراد غیر حقوق بگیر'!A:A,'اطلاعات افراد غیر حقوق بگیر'!C:C)),LOOKUP(D199,Personnel!A:A,Personnel!B:B)))","v":" "},{"$f":"IF(D199=0,0,IF(ISNA(MATCH(D199,Personnel!A:A,0)),IF(ISNA(MATCH(D199,'اطلاعات افراد غیر حقوق بگیر'!A:A,0)),\"وجود ندارد\",LOOKUP(D199,'اطلاعات افراد غیر حقوق بگیر'!A:A,'اطلاعات افراد غیر حقوق بگیر'!D:D)),LOOKUP(D199,Master!D:D,Master!CD:CD)))","v":0},{"$f":"IF(D199=0,\" \",IF(ISNA(MATCH(D199,Personnel!A:A,0)),IF(ISNA(MATCH(D199,'اطلاعات افراد غیر حقوق بگیر'!A:A,0)),\"وجود ندارد\",LOOKUP(D199,'اطلاعات افراد غیر حقوق بگیر'!A:A,'اطلاعات افراد غیر حقوق بگیر'!E:E)),LOOKUP(D199,Master!D:D,Master!AH:AH)))","v":" "},{"$f":"SUMIFS(Pays!G:G,Pays!E:E,1,Pays!D:D,D199)","v":0},{"$f":"SUMIFS(Pays!G:G,Pays!E:E,2,Pays!D:D,D199)","v":0},{"$f":"SUMIFS(Pays!G:G,Pays!E:E,57,Pays!D:D,D199)","v":0},{"$f":"SUMIF(Pays!D:D,D199,Pays!G:G)","v":0},{"$f":"SUMIF(Pays!D:D,D199,Pays!G:G)/176","v":0},{"$f":"IF(M199=0,IF(ISNA(MATCH(D199,'اطلاعات افراد غیر حقوق بگیر'!A:A,0)),0,LOOKUP(D199,'اطلاعات افراد غیر حقوق بگیر'!A:A,'اطلاعات افراد غیر حقوق بگیر'!F:F)),IF(H199=31,Settings!$D$13,ROUND(M199,0)))","v":0},null,0,{"$f":"IF(ISNA(MATCH(D199,Master!D:D,0)),IF(ISNA(MATCH(D199,'اطلاعات افراد غیر حقوق بگیر'!A:A,0)),0,LOOKUP(D199,'اطلاعات افراد غیر حقوق بگیر'!A:A,'اطلاعات افراد غیر حقوق بگیر'!G:G)),LOOKUP(D199,Master!D:D,Master!J:J))","v":0},{"$error":"#N/A"},0,0,{"$f":"IF(O199>#REF!,\"اخطار ساعت اضافه کار از حداکثر بیشتر است\",\" \")","v":{"$error":"#REF!"}},{"$f":"IF(O199>#REF!,1,0)","v":{"$error":"#REF!"}}]
[197,{"$f":"IF(D200=0,\"\",Settings!$D$6)","v":""},{"$f":"IF(D200=0,\"\",LOOKUP(B200,'Rigion Code'!A:A,'Rigion Code'!B:B))","v":""},null,{"$f":"IF(D200=0,\" \",IF(ISNA(MATCH(D200,Personnel!A:A,0)),IF(ISNA(MATCH(D200,'اطلاعات افراد غیر حقوق بگیر'!A:A,0)),\"وجود ندارد\",LOOKUP(Edit!D200,'اطلاعات افراد غیر حقوق بگیر'!A:A,'اطلاعات افراد غیر حقوق بگیر'!B:B)),LOOKUP(D200,Personnel!A:A,Personnel!C:C)))","v":" "},{"$f":"IF(D200=0,\" \",IF(ISNA(MATCH(D200,Personnel!A:A,0)),IF(ISNA(MATCH(D200,'اطلاعات افراد غیر حقوق بگیر'!A:A,0)),\"وجود ندارد\",LOOKUP(D200,'اطلاعات افراد غیر حقوق بگیر'!A:A,'اطلاعات افراد غیر حقوق بگیر'!C:C)),LOOKUP(D200,Personnel!A:A,Personnel!B:B)))","v":" "},{"$f":"IF(D200=0,0,IF(ISNA(MATCH(D200,Personnel!A:A,0)),IF(ISNA(MATCH(D200,'اطلاعات افراد غیر حقوق بگیر'!A:A,0)),\"وجود ندارد\",LOOKUP(D200,'اطلاعات افراد غیر حقوق بگیر'!A:A,'اطلاعات افراد غیر حقوق بگیر'!D:D)),LOOKUP(D200,Master!D:D,Master!CD:CD)))","v":0},{"$f":"IF(D200=0,\" \",IF(ISNA(MATCH(D200,Personnel!A:A,0)),IF(ISNA(MATCH(D200,'اطلاعات افراد غیر حقوق بگیر'!A:A,0)),\"وجود ندارد\",LOOKUP(D200,'اطلاعات افراد غیر حقوق بگیر'!A:A,'اطلاعات افراد غیر حقوق بگیر'!E:E)),LOOKUP(D200,Master!D:D,Master!AH:AH)))","v":" "},{"$f":"SUMIFS(Pays!G:G,Pays!E:E,1,Pays!D:D,D200)","v":0},{"$f":"SUMIFS(Pays!G:G,Pays!E:E,2,Pays!D:D,D200)","v":0},{"$f":"SUMIFS(Pays!G:G,Pays!E:E,57,Pays!D:D,D200)","v":0},{"$f":"SUMIF(Pays!D:D,D200,Pays!G:G)","v":0},{"$f":"SUMIF(Pays!D:D,D200,Pays!G:G)/176","v":0},{"$f":"IF(M200=0,IF(ISNA(MATCH(D200,'اطلاعات افراد غیر حقوق بگیر'!A:A,0)),0,LOOKUP(D200,'اطلاعات افراد غیر حقوق بگیر'!A:A,'اطلاعات افراد غیر حقوق بگیر'!F:F)),IF(H200=31,Settings!$D$13,ROUND(M200,0)))","v":0},null,0,{"$f":"IF(ISNA(MATCH(D200,Master!D:D,0)),IF(ISNA(MATCH(D200,'اطلاعات افراد غیر حقوق بگیر'!A:A,0)),0,LOOKUP(D200,'اطلاعات افراد غیر حقوق بگیر'!A:A,'اطلاعات افراد غیر حقوق بگیر'!G:G)),LOOKUP(D200,Master!D:D,Master!J:J))","v":0},{"$error":"#N/A"},0,0,{"$f":"IF(O200>#REF!,\"اخطار ساعت اضافه کار از حداکثر بیشتر است\",\" \")","v":{"$error":"#REF!"}},{"$f":"IF(O200>#REF!,1,0)","v":{"$error":"#REF!"}}]
[198,{"$f":"IF(D201=0,\"\",Settings!$D$6)","v":""},{"$f":"IF(D201=0,\"\",LOOKUP(B201,'Rigion Code'!A:A,'Rigion Code'!B:B))","v":""},null,{"$f":"IF(D201=0,\" \",IF(ISNA(MATCH(D201,Personnel!A:A,0)),IF(ISNA(MATCH(D201,'اطلاعات افراد غیر حقوق بگیر'!A:A,0)),\"وجود ندارد\",LOOKUP(Edit!D201,'اطلاعات افراد غیر حقوق بگیر'!A:A,'اطلاعات افراد غیر حقوق بگیر'!B:B)),LOOKUP(D201,Personnel!A:A,Personnel!C:C)))","v":" "},{"$f":"IF(D201=0,\" \",IF(ISNA(MATCH(D201,Personnel!A:A,0)),IF(ISNA(MATCH(D201,'اطلاعات افراد غیر حقوق بگیر'!A:A,0)),\"وجود ندارد\",LOOKUP(D201,'اطلاعات افراد غیر حقوق بگیر'!A:A,'اطلاعات افراد غیر حقوق بگیر'!C:C)),LOOKUP(D201,Personnel!A:A,Personnel!B:B)))","v":" "},{"$f":"IF(D201=0,0,IF(ISNA(MATCH(D201,Personnel!A:A,0)),IF(ISNA(MATCH(D201,'اطلاعات افراد غیر حقوق بگیر'!A:A,0)),\"وجود ندارد\",LOOKUP(D201,'اطلاعات افراد غیر حقوق بگیر'!A:A,'اطلاعات افراد غیر حقوق بگیر'!D:D)),LOOKUP(D201,Master!D:D,Master!CD:CD)))","v":0},{"$f":"IF(D201=0,\" \",IF(ISNA(MATCH(D201,Personnel!A:A,0)),IF(ISNA(MATCH(D201,'اطلاعات افراد غیر حقوق بگیر'!A:A,0)),\"وجود ندارد\",LOOKUP(D201,'اطلاعات افراد غیر حقوق بگیر'!A:A,'اطلاعات افراد غیر حقوق بگیر'!E:E)),LOOKUP(D201,Master!D:D,Master!AH:AH)))","v":" "},{"$f":"SUMIFS(Pays!G:G,Pays!E:E,1,Pays!D:D,D201)","v":0},{"$f":"SUMIFS(Pays!G:G,Pays!E:E,2,Pays!D:D,D201)","v":0},{"$f":"SUMIFS(Pays!G:G,Pays!E:E,57,Pays!D:D,D201)","v":0},{"$f":"SUMIF(Pays!D:D,D201,Pays!G:G)","v":0},{"$f":"SUMIF(Pays!D:D,D201,Pays!G:G)/176","v":0},{"$f":"IF(M201=0,IF(ISNA(MATCH(D201,'اطلاعات افراد غیر حقوق بگیر'!A:A,0)),0,LOOKUP(D201,'اطلاعات افراد غیر حقوق بگیر'!A:A,'اطلاعات افراد غیر حقوق بگیر'!F:F)),IF(H201=31,Settings!$D$13,ROUND(M201,0)))","v":0},null,0,{"$f":"IF(ISNA(MATCH(D201,Master!D:D,0)),IF(ISNA(MATCH(D201,'اطلاعات افراد غیر حقوق بگیر'!A:A,0)),0,LOOKUP(D201,'اطلاعات افراد غیر حقوق بگیر'!A:A,'اطلاعات افراد غیر حقوق بگیر'!G:G)),LOOKUP(D201,Master!D:D,Master!J:J))","v":0},{"$error":"#N/A"},0,0,{"$f":"IF(O201>#REF!,\"اخطار ساعت اضافه کار از حداکثر بیشتر است\",\" \")","v":{"$error":"#REF!"}},{"$f":"IF(O201>#REF!,1,0)","v":{"$error":"#REF!"}}]
[199,{"$f":"IF(D202=0,\"\",Settings!$D$6)","v":""},{"$f":"IF(D202=0,\"\",LOOKUP(B202,'Rigion Code'!A:A,'Rigion Code'!B:B))","v":""},null,{"$f":"IF(D202=0,\" \",IF(ISNA(MATCH(D202,Personnel!A:A,0)),IF(ISNA(MATCH(D202,'اطلاعات افراد غیر حقوق بگیر'!A:A,0)),\"وجود ندارد\",LOOKUP(Edit!D202,'اطلاعات افراد غیر حقوق بگیر'!A:A,'اطلاعات افراد غیر حقوق بگیر'!B:B)),LOOKUP(D202,Personnel!A:A,Personnel!C:C)))","v":" "},{"$f":"IF(D202=0,\" \",IF(ISNA(MATCH(D202,Personnel!A:A,0)),IF(ISNA(MATCH(D202,'اطلاعات افراد غیر حقوق بگیر'!A:A,0)),\"وجود ندارد\",LOOKUP(D202,'اطلاعات افراد غیر حقوق بگیر'!A:A,'اطلاعات افراد غیر حقوق بگیر'!C:C)),LOOKUP(D202,Personnel!A:A,Personnel!B:B)))","v":" "},{"$f":"IF(D202=0,0,IF(ISNA(MATCH(D202,Personnel!A:A,0)),IF(ISNA(MATCH(D202,'اطلاعات افراد غیر حقوق بگیر'!A:A,0)),\"وجود ندارد\",LOOKUP(D202,'اطلاعات افراد غیر حقوق بگیر'!A:A,'اطلاعات افراد غیر حقوق بگیر'!D:D)),LOOKUP(D202,Master!D:D,Master!CD:CD)))","v":0},{"$f":"IF(D202=0,\" \",IF(ISNA(MATCH(D202,Personnel!A:A,0)),IF(ISNA(MATCH(D202,'اطلاعات افراد غیر حقوق بگیر'!A:A,0)),\"وجود ندارد\",LOOKUP(D202,'اطلاعات افراد غیر حقوق بگیر'!A:A,'اطلاعات افراد غیر حقوق بگیر'!E:E)),LOOKUP(D202,Master!D:D,Master!AH:AH)))","v":" "},{"$f":"SUMIFS(Pays!G:G,Pays!E:E,1,Pays!D:D,D202)","v":0},{"$f":"SUMIFS(Pays!G:G,Pays!E:E,2,Pays!D:D,D202)","v":0},{"$f":"SUMIFS(Pays!G:G,Pays!E:E,57,Pays!D:D,D202)","v":0},{"$f":"SUMIF(Pays!D:D,D202,Pays!G:G)","v":0},{"$f":"SUMIF(Pays!D:D,D202,Pays!G:G)/176","v":0},{"$f":"IF(M202=0,IF(ISNA(MATCH(D202,'اطلاعات افراد غیر حقوق بگیر'!A:A,0)),0,LOOKUP(D202,'اطلاعات افراد غیر حقوق بگیر'!A:A,'اطلاعات افراد غیر حقوق بگیر'!F:F)),IF(H202=31,Settings!$D$13,ROUND(M202,0)))","v":0},null,0,{"$f":"IF(ISNA(MATCH(D202,Master!D:D,0)),IF(ISNA(MATCH(D202,'اطلاعات افراد غیر حقوق بگیر'!A:A,0)),0,LOOKUP(D202,'اطلاعات افراد غیر حقوق بگیر'!A:A,'اطلاعات افراد غیر حقوق بگیر'!G:G)),LOOKUP(D202,Master!D:D,Master!J:J))","v":0},{"$error":"#N/A"},0,0,{"$f":"IF(O202>#REF!,\"اخطار ساعت اضافه کار از حداکثر بیشتر است\",\" \")","v":{"$error":"#REF!"}},{"$f":"IF(O202>#REF!,1,0)","v":{"$error":"#REF!"}}]
[200,{"$f":"IF(D203=0,\"\",Settings!$D$6)","v":""},{"$f":"IF(D203=0,\"\",LOOKUP(B203,'Rigion Code'!A:A,'Rigion Code'!B:B))","v":""},null,{"$f":"IF(D203=0,\" \",IF(ISNA(MATCH(D203,Personnel!A:A,0)),IF(ISNA(MATCH(D203,'اطلاعات افراد غیر حقوق بگیر'!A:A,0)),\"وجود ندارد\",LOOKUP(Edit!D203,'اطلاعات افراد غیر حقوق بگیر'!A:A,'اطلاعات افراد غیر حقوق بگیر'!B:B)),LOOKUP(D203,Personnel!A:A,Personnel!C:C)))","v":" "},{"$f":"IF(D203=0,\" \",IF(ISNA(MATCH(D203,Personnel!A:A,0)),IF(ISNA(MATCH(D203,'اطلاعات افراد غیر حقوق بگیر'!A:A,0)),\"وجود ندارد\",LOOKUP(D203,'اطلاعات افراد غیر حقوق بگیر'!A:A,'اطلاعات افراد غیر حقوق بگیر'!C:C)),LOOKUP(D203,Personnel!A:A,Personnel!B:B)))","v":" "},{"$f":"IF(D203=0,0,IF(ISNA(MATCH(D203,Personnel!A:A,0)),IF(ISNA(MATCH(D203,'اطلاعات افراد غیر حقوق بگیر'!A:A,0)),\"وجود ندارد\",LOOKUP(D203,'اطلاعات افراد غیر حقوق بگیر'!A:A,'اطلاعات افراد غیر حقوق بگیر'!D:D)),LOOKUP(D203,Master!D:D,Master!CD:CD)))","v":0},{"$f":"IF(D203=0,\" \",IF(ISNA(MATCH(D203,Personnel!A:A,0)),IF(ISNA(MATCH(D203,'اطلاعات افراد غیر حقوق بگیر'!A:A,0)),\"وجود ندارد\",LOOKUP(D203,'اطلاعات افراد غیر حقوق بگیر'!A:A,'اطلاعات افراد غیر حقوق بگیر'!E:E)),LOOKUP(D203,Master!D:D,Master!AH:AH)))","v":" "},{"$f":"SUMIFS(Pays!G:G,Pays!E:E,1,Pays!D:D,D203)","v":0},{"$f":"SUMIFS(Pays!G:G,Pays!E:E,2,Pays!D:D,D203)","v":0},{"$f":"SUMIFS(Pays!G:G,Pays!E:E,57,Pays!D:D,D203)","v":0},{"$f":"SUMIF(Pays!D:D,D203,Pays!G:G)","v":0},{"$f":"SUMIF(Pays!D:D,D203,Pays!G:G)/176","v":0},{"$f":"IF(M203=0,IF(ISNA(MATCH(D203,'اطلاعات افراد غیر حقوق بگیر'!A:A,0)),0,LOOKUP(D203,'اطلاعات افراد غیر حقوق بگیر'!A:A,'اطلاعات افراد غیر حقوق بگیر'!F:F)),IF(H203=31,Settings!$D$13,ROUND(M203,0)))","v":0},null,0,{"$f":"IF(ISNA(MATCH(D203,Master!D:D,0)),IF(ISNA(MATCH(D203,'اطلاعات افراد غیر حقوق بگیر'!A:A,0)),0,LOOKUP(D203,'اطلاعات افراد غیر حقوق بگیر'!A:A,'اطلاعات افراد غیر حقوق بگیر'!G:G)),LOOKUP(D203,Master!D:D,Master!J:J))","v":0},{"$error":"#N/A"},0,0,{"$f":"IF(O203>#REF!,\"اخطار ساعت اضافه کار از حداکثر بیشتر است\",\" \")","v":{"$error":"#REF!"}},{"$f":"IF(O203>#REF!,1,0)","v":{"$error":"#REF!"}}]
[201,{"$f":"IF(D204=0,\"\",Settings!$D$6)","v":""},{"$f":"IF(D204=0,\"\",LOOKUP(B204,'Rigion Code'!A:A,'Rigion Code'!B:B))","v":""},null,{"$f":"IF(D204=0,\" \",IF(ISNA(MATCH(D204,Personnel!A:A,0)),IF(ISNA(MATCH(D204,'اطلاعات افراد غیر حقوق بگیر'!A:A,0)),\"وجود ندارد\",LOOKUP(Edit!D204,'اطلاعات افراد غیر حقوق بگیر'!A:A,'اطلاعات افراد غیر حقوق بگیر'!B:B)),LOOKUP(D204,Personnel!A:A,Personnel!C:C)))","v":" "},{"$f":"IF(D204=0,\" \",IF(ISNA(MATCH(D204,Personnel!A:A,0)),IF(ISNA(MATCH(D204,'اطلاعات افراد غیر حقوق بگیر'!A:A,0)),\"وجود ندارد\",LOOKUP(D204,'اطلاعات افراد غیر حقوق بگیر'!A:A,'اطلاعات افراد غیر حقوق بگیر'!C:C)),LOOKUP(D204,Personnel!A:A,Personnel!B:B)))","v":" "},{"$f":"IF(D204=0,0,IF(ISNA(MATCH(D204,Personnel!A:A,0)),IF(ISNA(MATCH(D204,'اطلاعات افراد غیر حقوق بگیر'!A:A,0)),\"وجود ندارد\",LOOKUP(D204,'اطلاعات افراد غیر حقوق بگیر'!A:A,'اطلاعات افراد غیر حقوق بگیر'!D:D)),LOOKUP(D204,Master!D:D,Master!CD:CD)))","v":0},{"$f":"IF(D204=0,\" \",IF(ISNA(MATCH(D204,Personnel!A:A,0)),IF(ISNA(MATCH(D204,'اطلاعات افراد غیر حقوق بگیر'!A:A,0)),\"وجود ندارد\",LOOKUP(D204,'اطلاعات افراد غیر حقوق بگیر'!A:A,'اطلاعات افراد غیر حقوق بگیر'!E:E)),LOOKUP(D204,Master!D:D,Master!AH:AH)))","v":" "},{"$f":"SUMIFS(Pays!G:G,Pays!E:E,1,Pays!D:D,D204)","v":0},{"$f":"SUMIFS(Pays!G:G,Pays!E:E,2,Pays!D:D,D204)","v":0},{"$f":"SUMIFS(Pays!G:G,Pays!E:E,57,Pays!D:D,D204)","v":0},{"$f":"SUMIF(Pays!D:D,D204,Pays!G:G)","v":0},{"$f":"SUMIF(Pays!D:D,D204,Pays!G:G)/176","v":0},{"$f":"IF(M204=0,IF(ISNA(MATCH(D204,'اطلاعات افراد غیر حقوق بگیر'!A:A,0)),0,LOOKUP(D204,'اطلاعات افراد غیر حقوق بگیر'!A:A,'اطلاعات افراد غیر حقوق بگیر'!F:F)),IF(H204=31,Settings!$D$13,ROUND(M204,0)))","v":0},null,0,{"$f":"IF(ISNA(MATCH(D204,Master!D:D,0)),IF(ISNA(MATCH(D204,'اطلاعات افراد غیر حقوق بگیر'!A:A,0)),0,LOOKUP(D204,'اطلاعات افراد غیر حقوق بگیر'!A:A,'اطلاعات افراد غیر حقوق بگیر'!G:G)),LOOKUP(D204,Master!D:D,Master!J:J))","v":0},{"$error":"#N/A"},0,0,{"$f":"IF(O204>#REF!,\"اخطار ساعت اضافه کار از حداکثر بیشتر است\",\" \")","v":{"$error":"#REF!"}},{"$f":"IF(O204>#REF!,1,0)","v":{"$error":"#REF!"}}]
[202,{"$f":"IF(D205=0,\"\",Settings!$D$6)","v":""},{"$f":"IF(D205=0,\"\",LOOKUP(B205,'Rigion Code'!A:A,'Rigion Code'!B:B))","v":""},null,{"$f":"IF(D205=0,\" \",IF(ISNA(MATCH(D205,Personnel!A:A,0)),IF(ISNA(MATCH(D205,'اطلاعات افراد غیر حقوق بگیر'!A:A,0)),\"وجود ندارد\",LOOKUP(Edit!D205,'اطلاعات افراد غیر حقوق بگیر'!A:A,'اطلاعات افراد غیر حقوق بگیر'!B:B)),LOOKUP(D205,Personnel!A:A,Personnel!C:C)))","v":" "},{"$f":"IF(D205=0,\" \",IF(ISNA(MATCH(D205,Personnel!A:A,0)),IF(ISNA(MATCH(D205,'اطلاعات افراد غیر حقوق بگیر'!A:A,0)),\"وجود ندارد\",LOOKUP(D205,'اطلاعات افراد غیر حقوق بگیر'!A:A,'اطلاعات افراد غیر حقوق بگیر'!C:C)),LOOKUP(D205,Personnel!A:A,Personnel!B:B)))","v":" "},{"$f":"IF(D205=0,0,IF(ISNA(MATCH(D205,Personnel!A:A,0)),IF(ISNA(MATCH(D205,'اطلاعات افراد غیر حقوق بگیر'!A:A,0)),\"وجود ندارد\",LOOKUP(D205,'اطلاعات افراد غیر حقوق بگیر'!A:A,'اطلاعات افراد غیر حقوق بگیر'!D:D)),LOOKUP(D205,Master!D:D,Master!CD:CD)))","v":0},{"$f":"IF(D205=0,\" \",IF(ISNA(MATCH(D205,Personnel!A:A,0)),IF(ISNA(MATCH(D205,'اطلاعات افراد غیر حقوق بگیر'!A:A,0)),\"وجود ندارد\",LOOKUP(D205,'اطلاعات افراد غیر حقوق بگیر'!A:A,'اطلاعات افراد غیر حقوق بگیر'!E:E)),LOOKUP(D205,Master!D:D,Master!AH:AH)))","v":" "},{"$f":"SUMIFS(Pays!G:G,Pays!E:E,1,Pays!D:D,D205)","v":0},{"$f":"SUMIFS(Pays!G:G,Pays!E:E,2,Pays!D:D,D205)","v":0},{"$f":"SUMIFS(Pays!G:G,Pays!E:E,57,Pays!D:D,D205)","v":0},{"$f":"SUMIF(Pays!D:D,D205,Pays!G:G)","v":0},{"$f":"SUMIF(Pays!D:D,D205,Pays!G:G)/176","v":0},{"$f":"IF(M205=0,IF(ISNA(MATCH(D205,'اطلاعات افراد غیر حقوق بگیر'!A:A,0)),0,LOOKUP(D205,'اطلاعات افراد غیر حقوق بگیر'!A:A,'اطلاعات افراد غیر حقوق بگیر'!F:F)),IF(H205=31,Settings!$D$13,ROUND(M205,0)))","v":0},null,0,{"$f":"IF(ISNA(MATCH(D205,Master!D:D,0)),IF(ISNA(MATCH(D205,'اطلاعات افراد غیر حقوق بگیر'!A:A,0)),0,LOOKUP(D205,'اطلاعات افراد غیر حقوق بگیر'!A:A,'اطلاعات افراد غیر حقوق بگیر'!G:G)),LOOKUP(D205,Master!D:D,Master!J:J))","v":0},{"$error":"#N/A"},0,0,{"$f":"IF(O205>#REF!,\"اخطار ساعت اضافه کار از حداکثر بیشتر است\",\" \")","v":{"$error":"#REF!"}},{"$f":"IF(O205>#REF!,1,0)","v":{"$error":"#REF!"}}]
[203,{"$f":"IF(D206=0,\"\",Settings!$D$6)","v":""},{"$f":"IF(D206=0,\"\",LOOKUP(B206,'Rigion Code'!A:A,'Rigion Code'!B:B))","v":""},null,{"$f":"IF(D206=0,\" \",IF(ISNA(MATCH(D206,Personnel!A:A,0)),IF(ISNA(MATCH(D206,'اطلاعات افراد غیر حقوق بگیر'!A:A,0)),\"وجود ندارد\",LOOKUP(Edit!D206,'اطلاعات افراد غیر حقوق بگیر'!A:A,'اطلاعات افراد غیر حقوق بگیر'!B:B)),LOOKUP(D206,Personnel!A:A,Personnel!C:C)))","v":" "},{"$f":"IF(D206=0,\" \",IF(ISNA(MATCH(D206,Personnel!A:A,0)),IF(ISNA(MATCH(D206,'اطلاعات افراد غیر حقوق بگیر'!A:A,0)),\"وجود ندارد\",LOOKUP(D206,'اطلاعات افراد غیر حقوق بگیر'!A:A,'اطلاعات افراد غیر حقوق بگیر'!C:C)),LOOKUP(D206,Personnel!A:A,Personnel!B:B)))","v":" "},{"$f":"IF(D206=0,0,IF(ISNA(MATCH(D206,Personnel!A:A,0)),IF(ISNA(MATCH(D206,'اطلاعات افراد غیر حقوق بگیر'!A:A,0)),\"وجود ندارد\",LOOKUP(D206,'اطلاعات افراد غیر حقوق بگیر'!A:A,'اطلاعات افراد غیر حقوق بگیر'!D:D)),LOOKUP(D206,Master!D:D,Master!CD:CD)))","v":0},{"$f":"IF(D206=0,\" \",IF(ISNA(MATCH(D206,Personnel!A:A,0)),IF(ISNA(MATCH(D206,'اطلاعات افراد غیر حقوق بگیر'!A:A,0)),\"وجود ندارد\",LOOKUP(D206,'اطلاعات افراد غیر حقوق بگیر'!A:A,'اطلاعات افراد غیر حقوق بگیر'!E:E)),LOOKUP(D206,Master!D:D,Master!AH:AH)))","v":" "},{"$f":"SUMIFS(Pays!G:G,Pays!E:E,1,Pays!D:D,D206)","v":0},{"$f":"SUMIFS(Pays!G:G,Pays!E:E,2,Pays!D:D,D206)","v":0},{"$f":"SUMIFS(Pays!G:G,Pays!E:E,57,Pays!D:D,D206)","v":0},{"$f":"SUMIF(Pays!D:D,D206,Pays!G:G)","v":0},{"$f":"SUMIF(Pays!D:D,D206,Pays!G:G)/176","v":0},{"$f":"IF(M206=0,IF(ISNA(MATCH(D206,'اطلاعات افراد غیر حقوق بگیر'!A:A,0)),0,LOOKUP(D206,'اطلاعات افراد غیر حقوق بگیر'!A:A,'اطلاعات افراد غیر حقوق بگیر'!F:F)),IF(H206=31,Settings!$D$13,ROUND(M206,0)))","v":0},null,0,{"$f":"IF(ISNA(MATCH(D206,Master!D:D,0)),IF(ISNA(MATCH(D206,'اطلاعات افراد غیر حقوق بگیر'!A:A,0)),0,LOOKUP(D206,'اطلاعات افراد غیر حقوق بگیر'!A:A,'اطلاعات افراد غیر حقوق بگیر'!G:G)),LOOKUP(D206,Master!D:D,Master!J:J))","v":0},{"$error":"#N/A"},0,0,{"$f":"IF(O206>#REF!,\"اخطار ساعت اضافه کار از حداکثر بیشتر است\",\" \")","v":{"$error":"#REF!"}},{"$f":"IF(O206>#REF!,1,0)","v":{"$error":"#REF!"}}]
[204,{"$f":"IF(D207=0,\"\",Settings!$D$6)","v":""},{"$f":"IF(D207=0,\"\",LOOKUP(B207,'Rigion Code'!A:A,'Rigion Code'!B:B))","v":""},null,{"$f":"IF(D207=0,\" \",IF(ISNA(MATCH(D207,Personnel!A:A,0)),IF(ISNA(MATCH(D207,'اطلاعات افراد غیر حقوق بگیر'!A:A,0)),\"وجود ندارد\",LOOKUP(Edit!D207,'اطلاعات افراد غیر حقوق بگیر'!A:A,'اطلاعات افراد غیر حقوق بگیر'!B:B)),LOOKUP(D207,Personnel!A:A,Personnel!C:C)))","v":" "},{"$f":"IF(D207=0,\" \",IF(ISNA(MATCH(D207,Personnel!A:A,0)),IF(ISNA(MATCH(D207,'اطلاعات افراد غیر حقوق بگیر'!A:A,0)),\"وجود ندارد\",LOOKUP(D207,'اطلاعات افراد غیر حقوق بگیر'!A:A,'اطلاعات افراد غیر حقوق بگیر'!C:C)),LOOKUP(D207,Personnel!A:A,Personnel!B:B)))","v":" "},{"$f":"IF(D207=0,0,IF(ISNA(MATCH(D207,Personnel!A:A,0)),IF(ISNA(MATCH(D207,'اطلاعات افراد غیر حقوق بگیر'!A:A,0)),\"وجود ندارد\",LOOKUP(D207,'اطلاعات افراد غیر حقوق بگیر'!A:A,'اطلاعات افراد غیر حقوق بگیر'!D:D)),LOOKUP(D207,Master!D:D,Master!CD:CD)))","v":0},{"$f":"IF(D207=0,\" \",IF(ISNA(MATCH(D207,Personnel!A:A,0)),IF(ISNA(MATCH(D207,'اطلاعات افراد غیر حقوق بگیر'!A:A,0)),\"وجود ندارد\",LOOKUP(D207,'اطلاعات افراد غیر حقوق بگیر'!A:A,'اطلاعات افراد غیر حقوق بگیر'!E:E)),LOOKUP(D207,Master!D:D,Master!AH:AH)))","v":" "},{"$f":"SUMIFS(Pays!G:G,Pays!E:E,1,Pays!D:D,D207)","v":0},{"$f":"SUMIFS(Pays!G:G,Pays!E:E,2,Pays!D:D,D207)","v":0},{"$f":"SUMIFS(Pays!G:G,Pays!E:E,57,Pays!D:D,D207)","v":0},{"$f":"SUMIF(Pays!D:D,D207,Pays!G:G)","v":0},{"$f":"SUMIF(Pays!D:D,D207,Pays!G:G)/176","v":0},{"$f":"IF(M207=0,IF(ISNA(MATCH(D207,'اطلاعات افراد غیر حقوق بگیر'!A:A,0)),0,LOOKUP(D207,'اطلاعات افراد غیر حقوق بگیر'!A:A,'اطلاعات افراد غیر حقوق بگیر'!F:F)),IF(H207=31,Settings!$D$13,ROUND(M207,0)))","v":0},null,0,{"$f":"IF(ISNA(MATCH(D207,Master!D:D,0)),IF(ISNA(MATCH(D207,'اطلاعات افراد غیر حقوق بگیر'!A:A,0)),0,LOOKUP(D207,'اطلاعات افراد غیر حقوق بگیر'!A:A,'اطلاعات افراد غیر حقوق بگیر'!G:G)),LOOKUP(D207,Master!D:D,Master!J:J))","v":0},{"$error":"#N/A"},0,0,{"$f":"IF(O207>#REF!,\"اخطار ساعت اضافه کار از حداکثر بیشتر است\",\" \")","v":{"$error":"#REF!"}},{"$f":"IF(O207>#REF!,1,0)","v":{"$error":"#REF!"}}]
[205,{"$f":"IF(D208=0,\"\",Settings!$D$6)","v":""},{"$f":"IF(D208=0,\"\",LOOKUP(B208,'Rigion Code'!A:A,'Rigion Code'!B:B))","v":""},null,{"$f":"IF(D208=0,\" \",IF(ISNA(MATCH(D208,Personnel!A:A,0)),IF(ISNA(MATCH(D208,'اطلاعات افراد غیر حقوق بگیر'!A:A,0)),\"وجود ندارد\",LOOKUP(Edit!D208,'اطلاعات افراد غیر حقوق بگیر'!A:A,'اطلاعات افراد غیر حقوق بگیر'!B:B)),LOOKUP(D208,Personnel!A:A,Personnel!C:C)))","v":" "},{"$f":"IF(D208=0,\" \",IF(ISNA(MATCH(D208,Personnel!A:A,0)),IF(ISNA(MATCH(D208,'اطلاعات افراد غیر حقوق بگیر'!A:A,0)),\"وجود ندارد\",LOOKUP(D208,'اطلاعات افراد غیر حقوق بگیر'!A:A,'اطلاعات افراد غیر حقوق بگیر'!C:C)),LOOKUP(D208,Personnel!A:A,Personnel!B:B)))","v":" "},{"$f":"IF(D208=0,0,IF(ISNA(MATCH(D208,Personnel!A:A,0)),IF(ISNA(MATCH(D208,'اطلاعات افراد غیر حقوق بگیر'!A:A,0)),\"وجود ندارد\",LOOKUP(D208,'اطلاعات افراد غیر حقوق بگیر'!A:A,'اطلاعات افراد غیر حقوق بگیر'!D:D)),LOOKUP(D208,Master!D:D,Master!CD:CD)))","v":0},{"$f":"IF(D208=0,\" \",IF(ISNA(MATCH(D208,Personnel!A:A,0)),IF(ISNA(MATCH(D208,'اطلاعات افراد غیر حقوق بگیر'!A:A,0)),\"وجود ندارد\",LOOKUP(D208,'اطلاعات افراد غیر حقوق بگیر'!A:A,'اطلاعات افراد غیر حقوق بگیر'!E:E)),LOOKUP(D208,Master!D:D,Master!AH:AH)))","v":" "},{"$f":"SUMIFS(Pays!G:G,Pays!E:E,1,Pays!D:D,D208)","v":0},{"$f":"SUMIFS(Pays!G:G,Pays!E:E,2,Pays!D:D,D208)","v":0},{"$f":"SUMIFS(Pays!G:G,Pays!E:E,57,Pays!D:D,D208)","v":0},{"$f":"SUMIF(Pays!D:D,D208,Pays!G:G)","v":0},{"$f":"SUMIF(Pays!D:D,D208,Pays!G:G)/176","v":0},{"$f":"IF(M208=0,IF(ISNA(MATCH(D208,'اطلاعات افراد غیر حقوق بگیر'!A:A,0)),0,LOOKUP(D208,'اطلاعات افراد غیر حقوق بگیر'!A:A,'اطلاعات افراد غیر حقوق بگیر'!F:F)),IF(H208=31,Settings!$D$13,ROUND(M208,0)))","v":0},null,0,{"$f":"IF(ISNA(MATCH(D208,Master!D:D,0)),IF(ISNA(MATCH(D208,'اطلاعات افراد غیر حقوق بگیر'!A:A,0)),0,LOOKUP(D208,'اطلاعات افراد غیر حقوق بگیر'!A:A,'اطلاعات افراد غیر حقوق بگیر'!G:G)),LOOKUP(D208,Master!D:D,Master!J:J))","v":0},{"$error":"#N/A"},0,0,{"$f":"IF(O208>#REF!,\"اخطار ساعت اضافه کار از حداکثر بیشتر است\",\" \")","v":{"$error":"#REF!"}},{"$f":"IF(O208>#REF!,1,0)","v":{"$error":"#REF!"}}]
[206,{"$f":"IF(D209=0,\"\",Settings!$D$6)","v":""},{"$f":"IF(D209=0,\"\",LOOKUP(B209,'Rigion Code'!A:A,'Rigion Code'!B:B))","v":""},null,{"$f":"IF(D209=0,\" \",IF(ISNA(MATCH(D209,Personnel!A:A,0)),IF(ISNA(MATCH(D209,'اطلاعات افراد غیر حقوق بگیر'!A:A,0)),\"وجود ندارد\",LOOKUP(Edit!D209,'اطلاعات افراد غیر حقوق بگیر'!A:A,'اطلاعات افراد غیر حقوق بگیر'!B:B)),LOOKUP(D209,Personnel!A:A,Personnel!C:C)))","v":" "},{"$f":"IF(D209=0,\" \",IF(ISNA(MATCH(D209,Personnel!A:A,0)),IF(ISNA(MATCH(D209,'اطلاعات افراد غیر حقوق بگیر'!A:A,0)),\"وجود ندارد\",LOOKUP(D209,'اطلاعات افراد غیر حقوق بگیر'!A:A,'اطلاعات افراد غیر حقوق بگیر'!C:C)),LOOKUP(D209,Personnel!A:A,Personnel!B:B)))","v":" "},{"$f":"IF(D209=0,0,IF(ISNA(MATCH(D209,Personnel!A:A,0)),IF(ISNA(MATCH(D209,'اطلاعات افراد غیر حقوق بگیر'!A:A,0)),\"وجود ندارد\",LOOKUP(D209,'اطلاعات افراد غیر حقوق بگیر'!A:A,'اطلاعات افراد غیر حقوق بگیر'!D:D)),LOOKUP(D209,Master!D:D,Master!CD:CD)))","v":0},{"$f":"IF(D209=0,\" \",IF(ISNA(MATCH(D209,Personnel!A:A,0)),IF(ISNA(MATCH(D209,'اطلاعات افراد غیر حقوق بگیر'!A:A,0)),\"وجود ندارد\",LOOKUP(D209,'اطلاعات افراد غیر حقوق بگیر'!A:A,'اطلاعات افراد غیر حقوق بگیر'!E:E)),LOOKUP(D209,Master!D:D,Master!AH:AH)))","v":" "},{"$f":"SUMIFS(Pays!G:G,Pays!E:E,1,Pays!D:D,D209)","v":0},{"$f":"SUMIFS(Pays!G:G,Pays!E:E,2,Pays!D:D,D209)","v":0},{"$f":"SUMIFS(Pays!G:G,Pays!E:E,57,Pays!D:D,D209)","v":0},{"$f":"SUMIF(Pays!D:D,D209,Pays!G:G)","v":0},{"$f":"SUMIF(Pays!D:D,D209,Pays!G:G)/176","v":0},{"$f":"IF(M209=0,IF(ISNA(MATCH(D209,'اطلاعات افراد غیر حقوق بگیر'!A:A,0)),0,LOOKUP(D209,'اطلاعات افراد غیر حقوق بگیر'!A:A,'اطلاعات افراد غیر حقوق بگیر'!F:F)),IF(H209=31,Settings!$D$13,ROUND(M209,0)))","v":0},null,0,{"$f":"IF(ISNA(MATCH(D209,Master!D:D,0)),IF(ISNA(MATCH(D209,'اطلاعات افراد غیر حقوق بگیر'!A:A,0)),0,LOOKUP(D209,'اطلاعات افراد غیر حقوق بگیر'!A:A,'اطلاعات افراد غیر حقوق بگیر'!G:G)),LOOKUP(D209,Master!D:D,Master!J:J))","v":0},{"$error":"#N/A"},0,0,{"$f":"IF(O209>#REF!,\"اخطار ساعت اضافه کار از حداکثر بیشتر است\",\" \")","v":{"$error":"#REF!"}},{"$f":"IF(O209>#REF!,1,0)","v":{"$error":"#REF!"}}]
[207,{"$f":"IF(D210=0,\"\",Settings!$D$6)","v":""},{"$f":"IF(D210=0,\"\",LOOKUP(B210,'Rigion Code'!A:A,'Rigion Code'!B:B))","v":""},null,{"$f":"IF(D210=0,\" \",IF(ISNA(MATCH(D210,Personnel!A:A,0)),IF(ISNA(MATCH(D210,'اطلاعات افراد غیر حقوق بگیر'!A:A,0)),\"وجود ندارد\",LOOKUP(Edit!D210,'اطلاعات افراد غیر حقوق بگیر'!A:A,'اطلاعات افراد غیر حقوق بگیر'!B:B)),LOOKUP(D210,Personnel!A:A,Personnel!C:C)))","v":" "},{"$f":"IF(D210=0,\" \",IF(ISNA(MATCH(D210,Personnel!A:A,0)),IF(ISNA(MATCH(D210,'اطلاعات افراد غیر حقوق بگیر'!A:A,0)),\"وجود ندارد\",LOOKUP(D210,'اطلاعات افراد غیر حقوق بگیر'!A:A,'اطلاعات افراد غیر حقوق بگیر'!C:C)),LOOKUP(D210,Personnel!A:A,Personnel!B:B)))","v":" "},{"$f":"IF(D210=0,0,IF(ISNA(MATCH(D210,Personnel!A:A,0)),IF(ISNA(MATCH(D210,'اطلاعات افراد غیر حقوق بگیر'!A:A,0)),\"وجود ندارد\",LOOKUP(D210,'اطلاعات افراد غیر حقوق بگیر'!A:A,'اطلاعات افراد غیر حقوق بگیر'!D:D)),LOOKUP(D210,Master!D:D,Master!CD:CD)))","v":0},{"$f":"IF(D210=0,\" \",IF(ISNA(MATCH(D210,Personnel!A:A,0)),IF(ISNA(MATCH(D210,'اطلاعات افراد غیر حقوق بگیر'!A:A,0)),\"وجود ندارد\",LOOKUP(D210,'اطلاعات افراد غیر حقوق بگیر'!A:A,'اطلاعات افراد غیر حقوق بگیر'!E:E)),LOOKUP(D210,Master!D:D,Master!AH:AH)))","v":" "},{"$f":"SUMIFS(Pays!G:G,Pays!E:E,1,Pays!D:D,D210)","v":0},{"$f":"SUMIFS(Pays!G:G,Pays!E:E,2,Pays!D:D,D210)","v":0},{"$f":"SUMIFS(Pays!G:G,Pays!E:E,57,Pays!D:D,D210)","v":0},{"$f":"SUMIF(Pays!D:D,D210,Pays!G:G)","v":0},{"$f":"SUMIF(Pays!D:D,D210,Pays!G:G)/176","v":0},{"$f":"IF(M210=0,IF(ISNA(MATCH(D210,'اطلاعات افراد غیر حقوق بگیر'!A:A,0)),0,LOOKUP(D210,'اطلاعات افراد غیر حقوق بگیر'!A:A,'اطلاعات افراد غیر حقوق بگیر'!F:F)),IF(H210=31,Settings!$D$13,ROUND(M210,0)))","v":0},null,0,{"$f":"IF(ISNA(MATCH(D210,Master!D:D,0)),IF(ISNA(MATCH(D210,'اطلاعات افراد غیر حقوق بگیر'!A:A,0)),0,LOOKUP(D210,'اطلاعات افراد غیر حقوق بگیر'!A:A,'اطلاعات افراد غیر حقوق بگیر'!G:G)),LOOKUP(D210,Master!D:D,Master!J:J))","v":0},{"$error":"#N/A"},0,0,{"$f":"IF(O210>#REF!,\"اخطار ساعت اضافه کار از حداکثر بیشتر است\",\" \")","v":{"$error":"#REF!"}},{"$f":"IF(O210>#REF!,1,0)","v":{"$error":"#REF!"}}]
[208,{"$f":"IF(D211=0,\"\",Settings!$D$6)","v":""},{"$f":"IF(D211=0,\"\",LOOKUP(B211,'Rigion Code'!A:A,'Rigion Code'!B:B))","v":""},null,{"$f":"IF(D211=0,\" \",IF(ISNA(MATCH(D211,Personnel!A:A,0)),IF(ISNA(MATCH(D211,'اطلاعات افراد غیر حقوق بگیر'!A:A,0)),\"وجود ندارد\",LOOKUP(Edit!D211,'اطلاعات افراد غیر حقوق بگیر'!A:A,'اطلاعات افراد غیر حقوق بگیر'!B:B)),LOOKUP(D211,Personnel!A:A,Personnel!C:C)))","v":" "},{"$f":"IF(D211=0,\" \",IF(ISNA(MATCH(D211,Personnel!A:A,0)),IF(ISNA(MATCH(D211,'اطلاعات افراد غیر حقوق بگیر'!A:A,0)),\"وجود ندارد\",LOOKUP(D211,'اطلاعات افراد غیر حقوق بگیر'!A:A,'اطلاعات افراد غیر حقوق بگیر'!C:C)),LOOKUP(D211,Personnel!A:A,Personnel!B:B)))","v":" "},{"$f":"IF(D211=0,0,IF(ISNA(MATCH(D211,Personnel!A:A,0)),IF(ISNA(MATCH(D211,'اطلاعات افراد غیر حقوق بگیر'!A:A,0)),\"وجود ندارد\",LOOKUP(D211,'اطلاعات افراد غیر حقوق بگیر'!A:A,'اطلاعات افراد غیر حقوق بگیر'!D:D)),LOOKUP(D211,Master!D:D,Master!CD:CD)))","v":0},{"$f":"IF(D211=0,\" \",IF(ISNA(MATCH(D211,Personnel!A:A,0)),IF(ISNA(MATCH(D211,'اطلاعات افراد غیر حقوق بگیر'!A:A,0)),\"وجود ندارد\",LOOKUP(D211,'اطلاعات افراد غیر حقوق بگیر'!A:A,'اطلاعات افراد غیر حقوق بگیر'!E:E)),LOOKUP(D211,Master!D:D,Master!AH:AH)))","v":" "},{"$f":"SUMIFS(Pays!G:G,Pays!E:E,1,Pays!D:D,D211)","v":0},{"$f":"SUMIFS(Pays!G:G,Pays!E:E,2,Pays!D:D,D211)","v":0},{"$f":"SUMIFS(Pays!G:G,Pays!E:E,57,Pays!D:D,D211)","v":0},{"$f":"SUMIF(Pays!D:D,D211,Pays!G:G)","v":0},{"$f":"SUMIF(Pays!D:D,D211,Pays!G:G)/176","v":0},{"$f":"IF(M211=0,IF(ISNA(MATCH(D211,'اطلاعات افراد غیر حقوق بگیر'!A:A,0)),0,LOOKUP(D211,'اطلاعات افراد غیر حقوق بگیر'!A:A,'اطلاعات افراد غیر حقوق بگیر'!F:F)),IF(H211=31,Settings!$D$13,ROUND(M211,0)))","v":0},null,0,{"$f":"IF(ISNA(MATCH(D211,Master!D:D,0)),IF(ISNA(MATCH(D211,'اطلاعات افراد غیر حقوق بگیر'!A:A,0)),0,LOOKUP(D211,'اطلاعات افراد غیر حقوق بگیر'!A:A,'اطلاعات افراد غیر حقوق بگیر'!G:G)),LOOKUP(D211,Master!D:D,Master!J:J))","v":0},{"$error":"#N/A"},0,0,{"$f":"IF(O211>#REF!,\"اخطار ساعت اضافه کار از حداکثر بیشتر است\",\" \")","v":{"$error":"#REF!"}},{"$f":"IF(O211>#REF!,1,0)","v":{"$error":"#REF!"}}]
[209,{"$f":"IF(D212=0,\"\",Settings!$D$6)","v":""},{"$f":"IF(D212=0,\"\",LOOKUP(B212,'Rigion Code'!A:A,'Rigion Code'!B:B))","v":""},null,{"$f":"IF(D212=0,\" \",IF(ISNA(MATCH(D212,Personnel!A:A,0)),IF(ISNA(MATCH(D212,'اطلاعات افراد غیر حقوق بگیر'!A:A,0)),\"وجود ندارد\",LOOKUP(Edit!D212,'اطلاعات افراد غیر حقوق بگیر'!A:A,'اطلاعات افراد غیر حقوق بگیر'!B:B)),LOOKUP(D212,Personnel!A:A,Personnel!C:C)))","v":" "},{"$f":"IF(D212=0,\" \",IF(ISNA(MATCH(D212,Personnel!A:A,0)),IF(ISNA(MATCH(D212,'اطلاعات افراد غیر حقوق بگیر'!A:A,0)),\"وجود ندارد\",LOOKUP(D212,'اطلاعات افراد غیر حقوق بگیر'!A:A,'اطلاعات افراد غیر حقوق بگیر'!C:C)),LOOKUP(D212,Personnel!A:A,Personnel!B:B)))","v":" "},{"$f":"IF(D212=0,0,IF(ISNA(MATCH(D212,Personnel!A:A,0)),IF(ISNA(MATCH(D212,'اطلاعات افراد غیر حقوق بگیر'!A:A,0)),\"وجود ندارد\",LOOKUP(D212,'اطلاعات افراد غیر حقوق بگیر'!A:A,'اطلاعات افراد غیر حقوق بگیر'!D:D)),LOOKUP(D212,Master!D:D,Master!CD:CD)))","v":0},{"$f":"IF(D212=0,\" \",IF(ISNA(MATCH(D212,Personnel!A:A,0)),IF(ISNA(MATCH(D212,'اطلاعات افراد غیر حقوق بگیر'!A:A,0)),\"وجود ندارد\",LOOKUP(D212,'اطلاعات افراد غیر حقوق بگیر'!A:A,'اطلاعات افراد غیر حقوق بگیر'!E:E)),LOOKUP(D212,Master!D:D,Master!AH:AH)))","v":" "},{"$f":"SUMIFS(Pays!G:G,Pays!E:E,1,Pays!D:D,D212)","v":0},{"$f":"SUMIFS(Pays!G:G,Pays!E:E,2,Pays!D:D,D212)","v":0},{"$f":"SUMIFS(Pays!G:G,Pays!E:E,57,Pays!D:D,D212)","v":0},{"$f":"SUMIF(Pays!D:D,D212,Pays!G:G)","v":0},{"$f":"SUMIF(Pays!D:D,D212,Pays!G:G)/176","v":0},{"$f":"IF(M212=0,IF(ISNA(MATCH(D212,'اطلاعات افراد غیر حقوق بگیر'!A:A,0)),0,LOOKUP(D212,'اطلاعات افراد غیر حقوق بگیر'!A:A,'اطلاعات افراد غیر حقوق بگیر'!F:F)),IF(H212=31,Settings!$D$13,ROUND(M212,0)))","v":0},null,0,{"$f":"IF(ISNA(MATCH(D212,Master!D:D,0)),IF(ISNA(MATCH(D212,'اطلاعات افراد غیر حقوق بگیر'!A:A,0)),0,LOOKUP(D212,'اطلاعات افراد غیر حقوق بگیر'!A:A,'اطلاعات افراد غیر حقوق بگیر'!G:G)),LOOKUP(D212,Master!D:D,Master!J:J))","v":0},{"$error":"#N/A"},0,0,{"$f":"IF(O212>#REF!,\"اخطار ساعت اضافه کار از حداکثر بیشتر است\",\" \")","v":{"$error":"#REF!"}},{"$f":"IF(O212>#REF!,1,0)","v":{"$error":"#REF!"}}]
[210,{"$f":"IF(D213=0,\"\",Settings!$D$6)","v":""},{"$f":"IF(D213=0,\"\",LOOKUP(B213,'Rigion Code'!A:A,'Rigion Code'!B:B))","v":""},null,{"$f":"IF(D213=0,\" \",IF(ISNA(MATCH(D213,Personnel!A:A,0)),IF(ISNA(MATCH(D213,'اطلاعات افراد غیر حقوق بگیر'!A:A,0)),\"وجود ندارد\",LOOKUP(Edit!D213,'اطلاعات افراد غیر حقوق بگیر'!A:A,'اطلاعات افراد غیر حقوق بگیر'!B:B)),LOOKUP(D213,Personnel!A:A,Personnel!C:C)))","v":" "},{"$f":"IF(D213=0,\" \",IF(ISNA(MATCH(D213,Personnel!A:A,0)),IF(ISNA(MATCH(D213,'اطلاعات افراد غیر حقوق بگیر'!A:A,0)),\"وجود ندارد\",LOOKUP(D213,'اطلاعات افراد غیر حقوق بگیر'!A:A,'اطلاعات افراد غیر حقوق بگیر'!C:C)),LOOKUP(D213,Personnel!A:A,Personnel!B:B)))","v":" "},{"$f":"IF(D213=0,0,IF(ISNA(MATCH(D213,Personnel!A:A,0)),IF(ISNA(MATCH(D213,'اطلاعات افراد غیر حقوق بگیر'!A:A,0)),\"وجود ندارد\",LOOKUP(D213,'اطلاعات افراد غیر حقوق بگیر'!A:A,'اطلاعات افراد غیر حقوق بگیر'!D:D)),LOOKUP(D213,Master!D:D,Master!CD:CD)))","v":0},{"$f":"IF(D213=0,\" \",IF(ISNA(MATCH(D213,Personnel!A:A,0)),IF(ISNA(MATCH(D213,'اطلاعات افراد غیر حقوق بگیر'!A:A,0)),\"وجود ندارد\",LOOKUP(D213,'اطلاعات افراد غیر حقوق بگیر'!A:A,'اطلاعات افراد غیر حقوق بگیر'!E:E)),LOOKUP(D213,Master!D:D,Master!AH:AH)))","v":" "},{"$f":"SUMIFS(Pays!G:G,Pays!E:E,1,Pays!D:D,D213)","v":0},{"$f":"SUMIFS(Pays!G:G,Pays!E:E,2,Pays!D:D,D213)","v":0},{"$f":"SUMIFS(Pays!G:G,Pays!E:E,57,Pays!D:D,D213)","v":0},{"$f":"SUMIF(Pays!D:D,D213,Pays!G:G)","v":0},{"$f":"SUMIF(Pays!D:D,D213,Pays!G:G)/176","v":0},{"$f":"IF(M213=0,IF(ISNA(MATCH(D213,'اطلاعات افراد غیر حقوق بگیر'!A:A,0)),0,LOOKUP(D213,'اطلاعات افراد غیر حقوق بگیر'!A:A,'اطلاعات افراد غیر حقوق بگیر'!F:F)),IF(H213=31,Settings!$D$13,ROUND(M213,0)))","v":0},null,0,{"$f":"IF(ISNA(MATCH(D213,Master!D:D,0)),IF(ISNA(MATCH(D213,'اطلاعات افراد غیر حقوق بگیر'!A:A,0)),0,LOOKUP(D213,'اطلاعات افراد غیر حقوق بگیر'!A:A,'اطلاعات افراد غیر حقوق بگیر'!G:G)),LOOKUP(D213,Master!D:D,Master!J:J))","v":0},{"$error":"#N/A"},0,0,{"$f":"IF(O213>#REF!,\"اخطار ساعت اضافه کار از حداکثر بیشتر است\",\" \")","v":{"$error":"#REF!"}},{"$f":"IF(O213>#REF!,1,0)","v":{"$error":"#REF!"}}]
[211,{"$f":"IF(D214=0,\"\",Settings!$D$6)","v":""},{"$f":"IF(D214=0,\"\",LOOKUP(B214,'Rigion Code'!A:A,'Rigion Code'!B:B))","v":""},null,{"$f":"IF(D214=0,\" \",IF(ISNA(MATCH(D214,Personnel!A:A,0)),IF(ISNA(MATCH(D214,'اطلاعات افراد غیر حقوق بگیر'!A:A,0)),\"وجود ندارد\",LOOKUP(Edit!D214,'اطلاعات افراد غیر حقوق بگیر'!A:A,'اطلاعات افراد غیر حقوق بگیر'!B:B)),LOOKUP(D214,Personnel!A:A,Personnel!C:C)))","v":" "},{"$f":"IF(D214=0,\" \",IF(ISNA(MATCH(D214,Personnel!A:A,0)),IF(ISNA(MATCH(D214,'اطلاعات افراد غیر حقوق بگیر'!A:A,0)),\"وجود ندارد\",LOOKUP(D214,'اطلاعات افراد غیر حقوق بگیر'!A:A,'اطلاعات افراد غیر حقوق بگیر'!C:C)),LOOKUP(D214,Personnel!A:A,Personnel!B:B)))","v":" "},{"$f":"IF(D214=0,0,IF(ISNA(MATCH(D214,Personnel!A:A,0)),IF(ISNA(MATCH(D214,'اطلاعات افراد غیر حقوق بگیر'!A:A,0)),\"وجود ندارد\",LOOKUP(D214,'اطلاعات افراد غیر حقوق بگیر'!A:A,'اطلاعات افراد غیر حقوق بگیر'!D:D)),LOOKUP(D214,Master!D:D,Master!CD:CD)))","v":0},{"$f":"IF(D214=0,\" \",IF(ISNA(MATCH(D214,Personnel!A:A,0)),IF(ISNA(MATCH(D214,'اطلاعات افراد غیر حقوق بگیر'!A:A,0)),\"وجود ندارد\",LOOKUP(D214,'اطلاعات افراد غیر حقوق بگیر'!A:A,'اطلاعات افراد غیر حقوق بگیر'!E:E)),LOOKUP(D214,Master!D:D,Master!AH:AH)))","v":" "},{"$f":"SUMIFS(Pays!G:G,Pays!E:E,1,Pays!D:D,D214)","v":0},{"$f":"SUMIFS(Pays!G:G,Pays!E:E,2,Pays!D:D,D214)","v":0},{"$f":"SUMIFS(Pays!G:G,Pays!E:E,57,Pays!D:D,D214)","v":0},{"$f":"SUMIF(Pays!D:D,D214,Pays!G:G)","v":0},{"$f":"SUMIF(Pays!D:D,D214,Pays!G:G)/176","v":0},{"$f":"IF(M214=0,IF(ISNA(MATCH(D214,'اطلاعات افراد غیر حقوق بگیر'!A:A,0)),0,LOOKUP(D214,'اطلاعات افراد غیر حقوق بگیر'!A:A,'اطلاعات افراد غیر حقوق بگیر'!F:F)),IF(H214=31,Settings!$D$13,ROUND(M214,0)))","v":0},null,0,{"$f":"IF(ISNA(MATCH(D214,Master!D:D,0)),IF(ISNA(MATCH(D214,'اطلاعات افراد غیر حقوق بگیر'!A:A,0)),0,LOOKUP(D214,'اطلاعات افراد غیر حقوق بگیر'!A:A,'اطلاعات افراد غیر حقوق بگیر'!G:G)),LOOKUP(D214,Master!D:D,Master!J:J))","v":0},{"$error":"#N/A"},0,0,{"$f":"IF(O214>#REF!,\"اخطار ساعت اضافه کار از حداکثر بیشتر است\",\" \")","v":{"$error":"#REF!"}},{"$f":"IF(O214>#REF!,1,0)","v":{"$error":"#REF!"}}]
[212,{"$f":"IF(D215=0,\"\",Settings!$D$6)","v":""},{"$f":"IF(D215=0,\"\",LOOKUP(B215,'Rigion Code'!A:A,'Rigion Code'!B:B))","v":""},null,{"$f":"IF(D215=0,\" \",IF(ISNA(MATCH(D215,Personnel!A:A,0)),IF(ISNA(MATCH(D215,'اطلاعات افراد غیر حقوق بگیر'!A:A,0)),\"وجود ندارد\",LOOKUP(Edit!D215,'اطلاعات افراد غیر حقوق بگیر'!A:A,'اطلاعات افراد غیر حقوق بگیر'!B:B)),LOOKUP(D215,Personnel!A:A,Personnel!C:C)))","v":" "},{"$f":"IF(D215=0,\" \",IF(ISNA(MATCH(D215,Personnel!A:A,0)),IF(ISNA(MATCH(D215,'اطلاعات افراد غیر حقوق بگیر'!A:A,0)),\"وجود ندارد\",LOOKUP(D215,'اطلاعات افراد غیر حقوق بگیر'!A:A,'اطلاعات افراد غیر حقوق بگیر'!C:C)),LOOKUP(D215,Personnel!A:A,Personnel!B:B)))","v":" "},{"$f":"IF(D215=0,0,IF(ISNA(MATCH(D215,Personnel!A:A,0)),IF(ISNA(MATCH(D215,'اطلاعات افراد غیر حقوق بگیر'!A:A,0)),\"وجود ندارد\",LOOKUP(D215,'اطلاعات افراد غیر حقوق بگیر'!A:A,'اطلاعات افراد غیر حقوق بگیر'!D:D)),LOOKUP(D215,Master!D:D,Master!CD:CD)))","v":0},{"$f":"IF(D215=0,\" \",IF(ISNA(MATCH(D215,Personnel!A:A,0)),IF(ISNA(MATCH(D215,'اطلاعات افراد غیر حقوق بگیر'!A:A,0)),\"وجود ندارد\",LOOKUP(D215,'اطلاعات افراد غیر حقوق بگیر'!A:A,'اطلاعات افراد غیر حقوق بگیر'!E:E)),LOOKUP(D215,Master!D:D,Master!AH:AH)))","v":" "},{"$f":"SUMIFS(Pays!G:G,Pays!E:E,1,Pays!D:D,D215)","v":0},{"$f":"SUMIFS(Pays!G:G,Pays!E:E,2,Pays!D:D,D215)","v":0},{"$f":"SUMIFS(Pays!G:G,Pays!E:E,57,Pays!D:D,D215)","v":0},{"$f":"SUMIF(Pays!D:D,D215,Pays!G:G)","v":0},{"$f":"SUMIF(Pays!D:D,D215,Pays!G:G)/176","v":0},{"$f":"IF(M215=0,IF(ISNA(MATCH(D215,'اطلاعات افراد غیر حقوق بگیر'!A:A,0)),0,LOOKUP(D215,'اطلاعات افراد غیر حقوق بگیر'!A:A,'اطلاعات افراد غیر حقوق بگیر'!F:F)),IF(H215=31,Settings!$D$13,ROUND(M215,0)))","v":0},null,0,{"$f":"IF(ISNA(MATCH(D215,Master!D:D,0)),IF(ISNA(MATCH(D215,'اطلاعات افراد غیر حقوق بگیر'!A:A,0)),0,LOOKUP(D215,'اطلاعات افراد غیر حقوق بگیر'!A:A,'اطلاعات افراد غیر حقوق بگیر'!G:G)),LOOKUP(D215,Master!D:D,Master!J:J))","v":0},{"$error":"#N/A"},0,0,{"$f":"IF(O215>#REF!,\"اخطار ساعت اضافه کار از حداکثر بیشتر است\",\" \")","v":{"$error":"#REF!"}},{"$f":"IF(O215>#REF!,1,0)","v":{"$error":"#REF!"}}]
[213,{"$f":"IF(D216=0,\"\",Settings!$D$6)","v":""},{"$f":"IF(D216=0,\"\",LOOKUP(B216,'Rigion Code'!A:A,'Rigion Code'!B:B))","v":""},null,{"$f":"IF(D216=0,\" \",IF(ISNA(MATCH(D216,Personnel!A:A,0)),IF(ISNA(MATCH(D216,'اطلاعات افراد غیر حقوق بگیر'!A:A,0)),\"وجود ندارد\",LOOKUP(Edit!D216,'اطلاعات افراد غیر حقوق بگیر'!A:A,'اطلاعات افراد غیر حقوق بگیر'!B:B)),LOOKUP(D216,Personnel!A:A,Personnel!C:C)))","v":" "},{"$f":"IF(D216=0,\" \",IF(ISNA(MATCH(D216,Personnel!A:A,0)),IF(ISNA(MATCH(D216,'اطلاعات افراد غیر حقوق بگیر'!A:A,0)),\"وجود ندارد\",LOOKUP(D216,'اطلاعات افراد غیر حقوق بگیر'!A:A,'اطلاعات افراد غیر حقوق بگیر'!C:C)),LOOKUP(D216,Personnel!A:A,Personnel!B:B)))","v":" "},{"$f":"IF(D216=0,0,IF(ISNA(MATCH(D216,Personnel!A:A,0)),IF(ISNA(MATCH(D216,'اطلاعات افراد غیر حقوق بگیر'!A:A,0)),\"وجود ندارد\",LOOKUP(D216,'اطلاعات افراد غیر حقوق بگیر'!A:A,'اطلاعات افراد غیر حقوق بگیر'!D:D)),LOOKUP(D216,Master!D:D,Master!CD:CD)))","v":0},{"$f":"IF(D216=0,\" \",IF(ISNA(MATCH(D216,Personnel!A:A,0)),IF(ISNA(MATCH(D216,'اطلاعات افراد غیر حقوق بگیر'!A:A,0)),\"وجود ندارد\",LOOKUP(D216,'اطلاعات افراد غیر حقوق بگیر'!A:A,'اطلاعات افراد غیر حقوق بگیر'!E:E)),LOOKUP(D216,Master!D:D,Master!AH:AH)))","v":" "},{"$f":"SUMIFS(Pays!G:G,Pays!E:E,1,Pays!D:D,D216)","v":0},{"$f":"SUMIFS(Pays!G:G,Pays!E:E,2,Pays!D:D,D216)","v":0},{"$f":"SUMIFS(Pays!G:G,Pays!E:E,57,Pays!D:D,D216)","v":0},{"$f":"SUMIF(Pays!D:D,D216,Pays!G:G)","v":0},{"$f":"SUMIF(Pays!D:D,D216,Pays!G:G)/176","v":0},{"$f":"IF(M216=0,IF(ISNA(MATCH(D216,'اطلاعات افراد غیر حقوق بگیر'!A:A,0)),0,LOOKUP(D216,'اطلاعات افراد غیر حقوق بگیر'!A:A,'اطلاعات افراد غیر حقوق بگیر'!F:F)),IF(H216=31,Settings!$D$13,ROUND(M216,0)))","v":0},null,0,{"$f":"IF(ISNA(MATCH(D216,Master!D:D,0)),IF(ISNA(MATCH(D216,'اطلاعات افراد غیر حقوق بگیر'!A:A,0)),0,LOOKUP(D216,'اطلاعات افراد غیر حقوق بگیر'!A:A,'اطلاعات افراد غیر حقوق بگیر'!G:G)),LOOKUP(D216,Master!D:D,Master!J:J))","v":0},{"$error":"#N/A"},0,0,{"$f":"IF(O216>#REF!,\"اخطار ساعت اضافه کار از حداکثر بیشتر است\",\" \")","v":{"$error":"#REF!"}},{"$f":"IF(O216>#REF!,1,0)","v":{"$error":"#REF!"}}]
[214,{"$f":"IF(D217=0,\"\",Settings!$D$6)","v":""},{"$f":"IF(D217=0,\"\",LOOKUP(B217,'Rigion Code'!A:A,'Rigion Code'!B:B))","v":""},null,{"$f":"IF(D217=0,\" \",IF(ISNA(MATCH(D217,Personnel!A:A,0)),IF(ISNA(MATCH(D217,'اطلاعات افراد غیر حقوق بگیر'!A:A,0)),\"وجود ندارد\",LOOKUP(Edit!D217,'اطلاعات افراد غیر حقوق بگیر'!A:A,'اطلاعات افراد غیر حقوق بگیر'!B:B)),LOOKUP(D217,Personnel!A:A,Personnel!C:C)))","v":" "},{"$f":"IF(D217=0,\" \",IF(ISNA(MATCH(D217,Personnel!A:A,0)),IF(ISNA(MATCH(D217,'اطلاعات افراد غیر حقوق بگیر'!A:A,0)),\"وجود ندارد\",LOOKUP(D217,'اطلاعات افراد غیر حقوق بگیر'!A:A,'اطلاعات افراد غیر حقوق بگیر'!C:C)),LOOKUP(D217,Personnel!A:A,Personnel!B:B)))","v":" "},{"$f":"IF(D217=0,0,IF(ISNA(MATCH(D217,Personnel!A:A,0)),IF(ISNA(MATCH(D217,'اطلاعات افراد غیر حقوق بگیر'!A:A,0)),\"وجود ندارد\",LOOKUP(D217,'اطلاعات افراد غیر حقوق بگیر'!A:A,'اطلاعات افراد غیر حقوق بگیر'!D:D)),LOOKUP(D217,Master!D:D,Master!CD:CD)))","v":0},{"$f":"IF(D217=0,\" \",IF(ISNA(MATCH(D217,Personnel!A:A,0)),IF(ISNA(MATCH(D217,'اطلاعات افراد غیر حقوق بگیر'!A:A,0)),\"وجود ندارد\",LOOKUP(D217,'اطلاعات افراد غیر حقوق بگیر'!A:A,'اطلاعات افراد غیر حقوق بگیر'!E:E)),LOOKUP(D217,Master!D:D,Master!AH:AH)))","v":" "},{"$f":"SUMIFS(Pays!G:G,Pays!E:E,1,Pays!D:D,D217)","v":0},{"$f":"SUMIFS(Pays!G:G,Pays!E:E,2,Pays!D:D,D217)","v":0},{"$f":"SUMIFS(Pays!G:G,Pays!E:E,57,Pays!D:D,D217)","v":0},{"$f":"SUMIF(Pays!D:D,D217,Pays!G:G)","v":0},{"$f":"SUMIF(Pays!D:D,D217,Pays!G:G)/176","v":0},{"$f":"IF(M217=0,IF(ISNA(MATCH(D217,'اطلاعات افراد غیر حقوق بگیر'!A:A,0)),0,LOOKUP(D217,'اطلاعات افراد غیر حقوق بگیر'!A:A,'اطلاعات افراد غیر حقوق بگیر'!F:F)),IF(H217=31,Settings!$D$13,ROUND(M217,0)))","v":0},null,0,{"$f":"IF(ISNA(MATCH(D217,Master!D:D,0)),IF(ISNA(MATCH(D217,'اطلاعات افراد غیر حقوق بگیر'!A:A,0)),0,LOOKUP(D217,'اطلاعات افراد غیر حقوق بگیر'!A:A,'اطلاعات افراد غیر حقوق بگیر'!G:G)),LOOKUP(D217,Master!D:D,Master!J:J))","v":0},{"$error":"#N/A"},0,0,{"$f":"IF(O217>#REF!,\"اخطار ساعت اضافه کار از حداکثر بیشتر است\",\" \")","v":{"$error":"#REF!"}},{"$f":"IF(O217>#REF!,1,0)","v":{"$error":"#REF!"}}]
[215,{"$f":"IF(D218=0,\"\",Settings!$D$6)","v":""},{"$f":"IF(D218=0,\"\",LOOKUP(B218,'Rigion Code'!A:A,'Rigion Code'!B:B))","v":""},null,{"$f":"IF(D218=0,\" \",IF(ISNA(MATCH(D218,Personnel!A:A,0)),IF(ISNA(MATCH(D218,'اطلاعات افراد غیر حقوق بگیر'!A:A,0)),\"وجود ندارد\",LOOKUP(Edit!D218,'اطلاعات افراد غیر حقوق بگیر'!A:A,'اطلاعات افراد غیر حقوق بگیر'!B:B)),LOOKUP(D218,Personnel!A:A,Personnel!C:C)))","v":" "},{"$f":"IF(D218=0,\" \",IF(ISNA(MATCH(D218,Personnel!A:A,0)),IF(ISNA(MATCH(D218,'اطلاعات افراد غیر حقوق بگیر'!A:A,0)),\"وجود ندارد\",LOOKUP(D218,'اطلاعات افراد غیر حقوق بگیر'!A:A,'اطلاعات افراد غیر حقوق بگیر'!C:C)),LOOKUP(D218,Personnel!A:A,Personnel!B:B)))","v":" "},{"$f":"IF(D218=0,0,IF(ISNA(MATCH(D218,Personnel!A:A,0)),IF(ISNA(MATCH(D218,'اطلاعات افراد غیر حقوق بگیر'!A:A,0)),\"وجود ندارد\",LOOKUP(D218,'اطلاعات افراد غیر حقوق بگیر'!A:A,'اطلاعات افراد غیر حقوق بگیر'!D:D)),LOOKUP(D218,Master!D:D,Master!CD:CD)))","v":0},{"$f":"IF(D218=0,\" \",IF(ISNA(MATCH(D218,Personnel!A:A,0)),IF(ISNA(MATCH(D218,'اطلاعات افراد غیر حقوق بگیر'!A:A,0)),\"وجود ندارد\",LOOKUP(D218,'اطلاعات افراد غیر حقوق بگیر'!A:A,'اطلاعات افراد غیر حقوق بگیر'!E:E)),LOOKUP(D218,Master!D:D,Master!AH:AH)))","v":" "},{"$f":"SUMIFS(Pays!G:G,Pays!E:E,1,Pays!D:D,D218)","v":0},{"$f":"SUMIFS(Pays!G:G,Pays!E:E,2,Pays!D:D,D218)","v":0},{"$f":"SUMIFS(Pays!G:G,Pays!E:E,57,Pays!D:D,D218)","v":0},{"$f":"SUMIF(Pays!D:D,D218,Pays!G:G)","v":0},{"$f":"SUMIF(Pays!D:D,D218,Pays!G:G)/176","v":0},{"$f":"IF(M218=0,IF(ISNA(MATCH(D218,'اطلاعات افراد غیر حقوق بگیر'!A:A,0)),0,LOOKUP(D218,'اطلاعات افراد غیر حقوق بگیر'!A:A,'اطلاعات افراد غیر حقوق بگیر'!F:F)),IF(H218=31,Settings!$D$13,ROUND(M218,0)))","v":0},null,0,{"$f":"IF(ISNA(MATCH(D218,Master!D:D,0)),IF(ISNA(MATCH(D218,'اطلاعات افراد غیر حقوق بگیر'!A:A,0)),0,LOOKUP(D218,'اطلاعات افراد غیر حقوق بگیر'!A:A,'اطلاعات افراد غیر حقوق بگیر'!G:G)),LOOKUP(D218,Master!D:D,Master!J:J))","v":0},{"$error":"#N/A"},0,0,{"$f":"IF(O218>#REF!,\"اخطار ساعت اضافه کار از حداکثر بیشتر است\",\" \")","v":{"$error":"#REF!"}},{"$f":"IF(O218>#REF!,1,0)","v":{"$error":"#REF!"}}]
[216,{"$f":"IF(D219=0,\"\",Settings!$D$6)","v":""},{"$f":"IF(D219=0,\"\",LOOKUP(B219,'Rigion Code'!A:A,'Rigion Code'!B:B))","v":""},null,{"$f":"IF(D219=0,\" \",IF(ISNA(MATCH(D219,Personnel!A:A,0)),IF(ISNA(MATCH(D219,'اطلاعات افراد غیر حقوق بگیر'!A:A,0)),\"وجود ندارد\",LOOKUP(Edit!D219,'اطلاعات افراد غیر حقوق بگیر'!A:A,'اطلاعات افراد غیر حقوق بگیر'!B:B)),LOOKUP(D219,Personnel!A:A,Personnel!C:C)))","v":" "},{"$f":"IF(D219=0,\" \",IF(ISNA(MATCH(D219,Personnel!A:A,0)),IF(ISNA(MATCH(D219,'اطلاعات افراد غیر حقوق بگیر'!A:A,0)),\"وجود ندارد\",LOOKUP(D219,'اطلاعات افراد غیر حقوق بگیر'!A:A,'اطلاعات افراد غیر حقوق بگیر'!C:C)),LOOKUP(D219,Personnel!A:A,Personnel!B:B)))","v":" "},{"$f":"IF(D219=0,0,IF(ISNA(MATCH(D219,Personnel!A:A,0)),IF(ISNA(MATCH(D219,'اطلاعات افراد غیر حقوق بگیر'!A:A,0)),\"وجود ندارد\",LOOKUP(D219,'اطلاعات افراد غیر حقوق بگیر'!A:A,'اطلاعات افراد غیر حقوق بگیر'!D:D)),LOOKUP(D219,Master!D:D,Master!CD:CD)))","v":0},{"$f":"IF(D219=0,\" \",IF(ISNA(MATCH(D219,Personnel!A:A,0)),IF(ISNA(MATCH(D219,'اطلاعات افراد غیر حقوق بگیر'!A:A,0)),\"وجود ندارد\",LOOKUP(D219,'اطلاعات افراد غیر حقوق بگیر'!A:A,'اطلاعات افراد غیر حقوق بگیر'!E:E)),LOOKUP(D219,Master!D:D,Master!AH:AH)))","v":" "},{"$f":"SUMIFS(Pays!G:G,Pays!E:E,1,Pays!D:D,D219)","v":0},{"$f":"SUMIFS(Pays!G:G,Pays!E:E,2,Pays!D:D,D219)","v":0},{"$f":"SUMIFS(Pays!G:G,Pays!E:E,57,Pays!D:D,D219)","v":0},{"$f":"SUMIF(Pays!D:D,D219,Pays!G:G)","v":0},{"$f":"SUMIF(Pays!D:D,D219,Pays!G:G)/176","v":0},{"$f":"IF(M219=0,IF(ISNA(MATCH(D219,'اطلاعات افراد غیر حقوق بگیر'!A:A,0)),0,LOOKUP(D219,'اطلاعات افراد غیر حقوق بگیر'!A:A,'اطلاعات افراد غیر حقوق بگیر'!F:F)),IF(H219=31,Settings!$D$13,ROUND(M219,0)))","v":0},null,0,{"$f":"IF(ISNA(MATCH(D219,Master!D:D,0)),IF(ISNA(MATCH(D219,'اطلاعات افراد غیر حقوق بگیر'!A:A,0)),0,LOOKUP(D219,'اطلاعات افراد غیر حقوق بگیر'!A:A,'اطلاعات افراد غیر حقوق بگیر'!G:G)),LOOKUP(D219,Master!D:D,Master!J:J))","v":0},{"$error":"#N/A"},0,0,{"$f":"IF(O219>#REF!,\"اخطار ساعت اضافه کار از حداکثر بیشتر است\",\" \")","v":{"$error":"#REF!"}},{"$f":"IF(O219>#REF!,1,0)","v":{"$error":"#REF!"}}]
[217,{"$f":"IF(D220=0,\"\",Settings!$D$6)","v":""},{"$f":"IF(D220=0,\"\",LOOKUP(B220,'Rigion Code'!A:A,'Rigion Code'!B:B))","v":""},null,{"$f":"IF(D220=0,\" \",IF(ISNA(MATCH(D220,Personnel!A:A,0)),IF(ISNA(MATCH(D220,'اطلاعات افراد غیر حقوق بگیر'!A:A,0)),\"وجود ندارد\",LOOKUP(Edit!D220,'اطلاعات افراد غیر حقوق بگیر'!A:A,'اطلاعات افراد غیر حقوق بگیر'!B:B)),LOOKUP(D220,Personnel!A:A,Personnel!C:C)))","v":" "},{"$f":"IF(D220=0,\" \",IF(ISNA(MATCH(D220,Personnel!A:A,0)),IF(ISNA(MATCH(D220,'اطلاعات افراد غیر حقوق بگیر'!A:A,0)),\"وجود ندارد\",LOOKUP(D220,'اطلاعات افراد غیر حقوق بگیر'!A:A,'اطلاعات افراد غیر حقوق بگیر'!C:C)),LOOKUP(D220,Personnel!A:A,Personnel!B:B)))","v":" "},{"$f":"IF(D220=0,0,IF(ISNA(MATCH(D220,Personnel!A:A,0)),IF(ISNA(MATCH(D220,'اطلاعات افراد غیر حقوق بگیر'!A:A,0)),\"وجود ندارد\",LOOKUP(D220,'اطلاعات افراد غیر حقوق بگیر'!A:A,'اطلاعات افراد غیر حقوق بگیر'!D:D)),LOOKUP(D220,Master!D:D,Master!CD:CD)))","v":0},{"$f":"IF(D220=0,\" \",IF(ISNA(MATCH(D220,Personnel!A:A,0)),IF(ISNA(MATCH(D220,'اطلاعات افراد غیر حقوق بگیر'!A:A,0)),\"وجود ندارد\",LOOKUP(D220,'اطلاعات افراد غیر حقوق بگیر'!A:A,'اطلاعات افراد غیر حقوق بگیر'!E:E)),LOOKUP(D220,Master!D:D,Master!AH:AH)))","v":" "},{"$f":"SUMIFS(Pays!G:G,Pays!E:E,1,Pays!D:D,D220)","v":0},{"$f":"SUMIFS(Pays!G:G,Pays!E:E,2,Pays!D:D,D220)","v":0},{"$f":"SUMIFS(Pays!G:G,Pays!E:E,57,Pays!D:D,D220)","v":0},{"$f":"SUMIF(Pays!D:D,D220,Pays!G:G)","v":0},{"$f":"SUMIF(Pays!D:D,D220,Pays!G:G)/176","v":0},{"$f":"IF(M220=0,IF(ISNA(MATCH(D220,'اطلاعات افراد غیر حقوق بگیر'!A:A,0)),0,LOOKUP(D220,'اطلاعات افراد غیر حقوق بگیر'!A:A,'اطلاعات افراد غیر حقوق بگیر'!F:F)),IF(H220=31,Settings!$D$13,ROUND(M220,0)))","v":0},null,0,{"$f":"IF(ISNA(MATCH(D220,Master!D:D,0)),IF(ISNA(MATCH(D220,'اطلاعات افراد غیر حقوق بگیر'!A:A,0)),0,LOOKUP(D220,'اطلاعات افراد غیر حقوق بگیر'!A:A,'اطلاعات افراد غیر حقوق بگیر'!G:G)),LOOKUP(D220,Master!D:D,Master!J:J))","v":0},{"$error":"#N/A"},0,0,{"$f":"IF(O220>#REF!,\"اخطار ساعت اضافه کار از حداکثر بیشتر است\",\" \")","v":{"$error":"#REF!"}},{"$f":"IF(O220>#REF!,1,0)","v":{"$error":"#REF!"}}]
[218,{"$f":"IF(D221=0,\"\",Settings!$D$6)","v":""},{"$f":"IF(D221=0,\"\",LOOKUP(B221,'Rigion Code'!A:A,'Rigion Code'!B:B))","v":""},null,{"$f":"IF(D221=0,\" \",IF(ISNA(MATCH(D221,Personnel!A:A,0)),IF(ISNA(MATCH(D221,'اطلاعات افراد غیر حقوق بگیر'!A:A,0)),\"وجود ندارد\",LOOKUP(Edit!D221,'اطلاعات افراد غیر حقوق بگیر'!A:A,'اطلاعات افراد غیر حقوق بگیر'!B:B)),LOOKUP(D221,Personnel!A:A,Personnel!C:C)))","v":" "},{"$f":"IF(D221=0,\" \",IF(ISNA(MATCH(D221,Personnel!A:A,0)),IF(ISNA(MATCH(D221,'اطلاعات افراد غیر حقوق بگیر'!A:A,0)),\"وجود ندارد\",LOOKUP(D221,'اطلاعات افراد غیر حقوق بگیر'!A:A,'اطلاعات افراد غیر حقوق بگیر'!C:C)),LOOKUP(D221,Personnel!A:A,Personnel!B:B)))","v":" "},{"$f":"IF(D221=0,0,IF(ISNA(MATCH(D221,Personnel!A:A,0)),IF(ISNA(MATCH(D221,'اطلاعات افراد غیر حقوق بگیر'!A:A,0)),\"وجود ندارد\",LOOKUP(D221,'اطلاعات افراد غیر حقوق بگیر'!A:A,'اطلاعات افراد غیر حقوق بگیر'!D:D)),LOOKUP(D221,Master!D:D,Master!CD:CD)))","v":0},{"$f":"IF(D221=0,\" \",IF(ISNA(MATCH(D221,Personnel!A:A,0)),IF(ISNA(MATCH(D221,'اطلاعات افراد غیر حقوق بگیر'!A:A,0)),\"وجود ندارد\",LOOKUP(D221,'اطلاعات افراد غیر حقوق بگیر'!A:A,'اطلاعات افراد غیر حقوق بگیر'!E:E)),LOOKUP(D221,Master!D:D,Master!AH:AH)))","v":" "},{"$f":"SUMIFS(Pays!G:G,Pays!E:E,1,Pays!D:D,D221)","v":0},{"$f":"SUMIFS(Pays!G:G,Pays!E:E,2,Pays!D:D,D221)","v":0},{"$f":"SUMIFS(Pays!G:G,Pays!E:E,57,Pays!D:D,D221)","v":0},{"$f":"SUMIF(Pays!D:D,D221,Pays!G:G)","v":0},{"$f":"SUMIF(Pays!D:D,D221,Pays!G:G)/176","v":0},{"$f":"IF(M221=0,IF(ISNA(MATCH(D221,'اطلاعات افراد غیر حقوق بگیر'!A:A,0)),0,LOOKUP(D221,'اطلاعات افراد غیر حقوق بگیر'!A:A,'اطلاعات افراد غیر حقوق بگیر'!F:F)),IF(H221=31,Settings!$D$13,ROUND(M221,0)))","v":0},null,0,{"$f":"IF(ISNA(MATCH(D221,Master!D:D,0)),IF(ISNA(MATCH(D221,'اطلاعات افراد غیر حقوق بگیر'!A:A,0)),0,LOOKUP(D221,'اطلاعات افراد غیر حقوق بگیر'!A:A,'اطلاعات افراد غیر حقوق بگیر'!G:G)),LOOKUP(D221,Master!D:D,Master!J:J))","v":0},{"$error":"#N/A"},0,0,{"$f":"IF(O221>#REF!,\"اخطار ساعت اضافه کار از حداکثر بیشتر است\",\" \")","v":{"$error":"#REF!"}},{"$f":"IF(O221>#REF!,1,0)","v":{"$error":"#REF!"}}]
[219,{"$f":"IF(D222=0,\"\",Settings!$D$6)","v":""},{"$f":"IF(D222=0,\"\",LOOKUP(B222,'Rigion Code'!A:A,'Rigion Code'!B:B))","v":""},null,{"$f":"IF(D222=0,\" \",IF(ISNA(MATCH(D222,Personnel!A:A,0)),IF(ISNA(MATCH(D222,'اطلاعات افراد غیر حقوق بگیر'!A:A,0)),\"وجود ندارد\",LOOKUP(Edit!D222,'اطلاعات افراد غیر حقوق بگیر'!A:A,'اطلاعات افراد غیر حقوق بگیر'!B:B)),LOOKUP(D222,Personnel!A:A,Personnel!C:C)))","v":" "},{"$f":"IF(D222=0,\" \",IF(ISNA(MATCH(D222,Personnel!A:A,0)),IF(ISNA(MATCH(D222,'اطلاعات افراد غیر حقوق بگیر'!A:A,0)),\"وجود ندارد\",LOOKUP(D222,'اطلاعات افراد غیر حقوق بگیر'!A:A,'اطلاعات افراد غیر حقوق بگیر'!C:C)),LOOKUP(D222,Personnel!A:A,Personnel!B:B)))","v":" "},{"$f":"IF(D222=0,0,IF(ISNA(MATCH(D222,Personnel!A:A,0)),IF(ISNA(MATCH(D222,'اطلاعات افراد غیر حقوق بگیر'!A:A,0)),\"وجود ندارد\",LOOKUP(D222,'اطلاعات افراد غیر حقوق بگیر'!A:A,'اطلاعات افراد غیر حقوق بگیر'!D:D)),LOOKUP(D222,Master!D:D,Master!CD:CD)))","v":0},{"$f":"IF(D222=0,\" \",IF(ISNA(MATCH(D222,Personnel!A:A,0)),IF(ISNA(MATCH(D222,'اطلاعات افراد غیر حقوق بگیر'!A:A,0)),\"وجود ندارد\",LOOKUP(D222,'اطلاعات افراد غیر حقوق بگیر'!A:A,'اطلاعات افراد غیر حقوق بگیر'!E:E)),LOOKUP(D222,Master!D:D,Master!AH:AH)))","v":" "},{"$f":"SUMIFS(Pays!G:G,Pays!E:E,1,Pays!D:D,D222)","v":0},{"$f":"SUMIFS(Pays!G:G,Pays!E:E,2,Pays!D:D,D222)","v":0},{"$f":"SUMIFS(Pays!G:G,Pays!E:E,57,Pays!D:D,D222)","v":0},{"$f":"SUMIF(Pays!D:D,D222,Pays!G:G)","v":0},{"$f":"SUMIF(Pays!D:D,D222,Pays!G:G)/176","v":0},{"$f":"IF(M222=0,IF(ISNA(MATCH(D222,'اطلاعات افراد غیر حقوق بگیر'!A:A,0)),0,LOOKUP(D222,'اطلاعات افراد غیر حقوق بگیر'!A:A,'اطلاعات افراد غیر حقوق بگیر'!F:F)),IF(H222=31,Settings!$D$13,ROUND(M222,0)))","v":0},null,0,{"$f":"IF(ISNA(MATCH(D222,Master!D:D,0)),IF(ISNA(MATCH(D222,'اطلاعات افراد غیر حقوق بگیر'!A:A,0)),0,LOOKUP(D222,'اطلاعات افراد غیر حقوق بگیر'!A:A,'اطلاعات افراد غیر حقوق بگیر'!G:G)),LOOKUP(D222,Master!D:D,Master!J:J))","v":0},{"$error":"#N/A"},0,0,{"$f":"IF(O222>#REF!,\"اخطار ساعت اضافه کار از حداکثر بیشتر است\",\" \")","v":{"$error":"#REF!"}},{"$f":"IF(O222>#REF!,1,0)","v":{"$error":"#REF!"}}]
[220,{"$f":"IF(D223=0,\"\",Settings!$D$6)","v":""},{"$f":"IF(D223=0,\"\",LOOKUP(B223,'Rigion Code'!A:A,'Rigion Code'!B:B))","v":""},null,{"$f":"IF(D223=0,\" \",IF(ISNA(MATCH(D223,Personnel!A:A,0)),IF(ISNA(MATCH(D223,'اطلاعات افراد غیر حقوق بگیر'!A:A,0)),\"وجود ندارد\",LOOKUP(Edit!D223,'اطلاعات افراد غیر حقوق بگیر'!A:A,'اطلاعات افراد غیر حقوق بگیر'!B:B)),LOOKUP(D223,Personnel!A:A,Personnel!C:C)))","v":" "},{"$f":"IF(D223=0,\" \",IF(ISNA(MATCH(D223,Personnel!A:A,0)),IF(ISNA(MATCH(D223,'اطلاعات افراد غیر حقوق بگیر'!A:A,0)),\"وجود ندارد\",LOOKUP(D223,'اطلاعات افراد غیر حقوق بگیر'!A:A,'اطلاعات افراد غیر حقوق بگیر'!C:C)),LOOKUP(D223,Personnel!A:A,Personnel!B:B)))","v":" "},{"$f":"IF(D223=0,0,IF(ISNA(MATCH(D223,Personnel!A:A,0)),IF(ISNA(MATCH(D223,'اطلاعات افراد غیر حقوق بگیر'!A:A,0)),\"وجود ندارد\",LOOKUP(D223,'اطلاعات افراد غیر حقوق بگیر'!A:A,'اطلاعات افراد غیر حقوق بگیر'!D:D)),LOOKUP(D223,Master!D:D,Master!CD:CD)))","v":0},{"$f":"IF(D223=0,\" \",IF(ISNA(MATCH(D223,Personnel!A:A,0)),IF(ISNA(MATCH(D223,'اطلاعات افراد غیر حقوق بگیر'!A:A,0)),\"وجود ندارد\",LOOKUP(D223,'اطلاعات افراد غیر حقوق بگیر'!A:A,'اطلاعات افراد غیر حقوق بگیر'!E:E)),LOOKUP(D223,Master!D:D,Master!AH:AH)))","v":" "},{"$f":"SUMIFS(Pays!G:G,Pays!E:E,1,Pays!D:D,D223)","v":0},{"$f":"SUMIFS(Pays!G:G,Pays!E:E,2,Pays!D:D,D223)","v":0},{"$f":"SUMIFS(Pays!G:G,Pays!E:E,57,Pays!D:D,D223)","v":0},{"$f":"SUMIF(Pays!D:D,D223,Pays!G:G)","v":0},{"$f":"SUMIF(Pays!D:D,D223,Pays!G:G)/176","v":0},{"$f":"IF(M223=0,IF(ISNA(MATCH(D223,'اطلاعات افراد غیر حقوق بگیر'!A:A,0)),0,LOOKUP(D223,'اطلاعات افراد غیر حقوق بگیر'!A:A,'اطلاعات افراد غیر حقوق بگیر'!F:F)),IF(H223=31,Settings!$D$13,ROUND(M223,0)))","v":0},null,0,{"$f":"IF(ISNA(MATCH(D223,Master!D:D,0)),IF(ISNA(MATCH(D223,'اطلاعات افراد غیر حقوق بگیر'!A:A,0)),0,LOOKUP(D223,'اطلاعات افراد غیر حقوق بگیر'!A:A,'اطلاعات افراد غیر حقوق بگیر'!G:G)),LOOKUP(D223,Master!D:D,Master!J:J))","v":0},{"$error":"#N/A"},0,0,{"$f":"IF(O223>#REF!,\"اخطار ساعت اضافه کار از حداکثر بیشتر است\",\" \")","v":{"$error":"#REF!"}},{"$f":"IF(O223>#REF!,1,0)","v":{"$error":"#REF!"}}]
[221,{"$f":"IF(D224=0,\"\",Settings!$D$6)","v":""},{"$f":"IF(D224=0,\"\",LOOKUP(B224,'Rigion Code'!A:A,'Rigion Code'!B:B))","v":""},null,{"$f":"IF(D224=0,\" \",IF(ISNA(MATCH(D224,Personnel!A:A,0)),IF(ISNA(MATCH(D224,'اطلاعات افراد غیر حقوق بگیر'!A:A,0)),\"وجود ندارد\",LOOKUP(Edit!D224,'اطلاعات افراد غیر حقوق بگیر'!A:A,'اطلاعات افراد غیر حقوق بگیر'!B:B)),LOOKUP(D224,Personnel!A:A,Personnel!C:C)))","v":" "},{"$f":"IF(D224=0,\" \",IF(ISNA(MATCH(D224,Personnel!A:A,0)),IF(ISNA(MATCH(D224,'اطلاعات افراد غیر حقوق بگیر'!A:A,0)),\"وجود ندارد\",LOOKUP(D224,'اطلاعات افراد غیر حقوق بگیر'!A:A,'اطلاعات افراد غیر حقوق بگیر'!C:C)),LOOKUP(D224,Personnel!A:A,Personnel!B:B)))","v":" "},{"$f":"IF(D224=0,0,IF(ISNA(MATCH(D224,Personnel!A:A,0)),IF(ISNA(MATCH(D224,'اطلاعات افراد غیر حقوق بگیر'!A:A,0)),\"وجود ندارد\",LOOKUP(D224,'اطلاعات افراد غیر حقوق بگیر'!A:A,'اطلاعات افراد غیر حقوق بگیر'!D:D)),LOOKUP(D224,Master!D:D,Master!CD:CD)))","v":0},{"$f":"IF(D224=0,\" \",IF(ISNA(MATCH(D224,Personnel!A:A,0)),IF(ISNA(MATCH(D224,'اطلاعات افراد غیر حقوق بگیر'!A:A,0)),\"وجود ندارد\",LOOKUP(D224,'اطلاعات افراد غیر حقوق بگیر'!A:A,'اطلاعات افراد غیر حقوق بگیر'!E:E)),LOOKUP(D224,Master!D:D,Master!AH:AH)))","v":" "},{"$f":"SUMIFS(Pays!G:G,Pays!E:E,1,Pays!D:D,D224)","v":0},{"$f":"SUMIFS(Pays!G:G,Pays!E:E,2,Pays!D:D,D224)","v":0},{"$f":"SUMIFS(Pays!G:G,Pays!E:E,57,Pays!D:D,D224)","v":0},{"$f":"SUMIF(Pays!D:D,D224,Pays!G:G)","v":0},{"$f":"SUMIF(Pays!D:D,D224,Pays!G:G)/176","v":0},{"$f":"IF(M224=0,IF(ISNA(MATCH(D224,'اطلاعات افراد غیر حقوق بگیر'!A:A,0)),0,LOOKUP(D224,'اطلاعات افراد غیر حقوق بگیر'!A:A,'اطلاعات افراد غیر حقوق بگیر'!F:F)),IF(H224=31,Settings!$D$13,ROUND(M224,0)))","v":0},null,0,{"$f":"IF(ISNA(MATCH(D224,Master!D:D,0)),IF(ISNA(MATCH(D224,'اطلاعات افراد غیر حقوق بگیر'!A:A,0)),0,LOOKUP(D224,'اطلاعات افراد غیر حقوق بگیر'!A:A,'اطلاعات افراد غیر حقوق بگیر'!G:G)),LOOKUP(D224,Master!D:D,Master!J:J))","v":0},{"$error":"#N/A"},0,0,{"$f":"IF(O224>#REF!,\"اخطار ساعت اضافه کار از حداکثر بیشتر است\",\" \")","v":{"$error":"#REF!"}},{"$f":"IF(O224>#REF!,1,0)","v":{"$error":"#REF!"}}]
[222,{"$f":"IF(D225=0,\"\",Settings!$D$6)","v":""},{"$f":"IF(D225=0,\"\",LOOKUP(B225,'Rigion Code'!A:A,'Rigion Code'!B:B))","v":""},null,{"$f":"IF(D225=0,\" \",IF(ISNA(MATCH(D225,Personnel!A:A,0)),IF(ISNA(MATCH(D225,'اطلاعات افراد غیر حقوق بگیر'!A:A,0)),\"وجود ندارد\",LOOKUP(Edit!D225,'اطلاعات افراد غیر حقوق بگیر'!A:A,'اطلاعات افراد غیر حقوق بگیر'!B:B)),LOOKUP(D225,Personnel!A:A,Personnel!C:C)))","v":" "},{"$f":"IF(D225=0,\" \",IF(ISNA(MATCH(D225,Personnel!A:A,0)),IF(ISNA(MATCH(D225,'اطلاعات افراد غیر حقوق بگیر'!A:A,0)),\"وجود ندارد\",LOOKUP(D225,'اطلاعات افراد غیر حقوق بگیر'!A:A,'اطلاعات افراد غیر حقوق بگیر'!C:C)),LOOKUP(D225,Personnel!A:A,Personnel!B:B)))","v":" "},{"$f":"IF(D225=0,0,IF(ISNA(MATCH(D225,Personnel!A:A,0)),IF(ISNA(MATCH(D225,'اطلاعات افراد غیر حقوق بگیر'!A:A,0)),\"وجود ندارد\",LOOKUP(D225,'اطلاعات افراد غیر حقوق بگیر'!A:A,'اطلاعات افراد غیر حقوق بگیر'!D:D)),LOOKUP(D225,Master!D:D,Master!CD:CD)))","v":0},{"$f":"IF(D225=0,\" \",IF(ISNA(MATCH(D225,Personnel!A:A,0)),IF(ISNA(MATCH(D225,'اطلاعات افراد غیر حقوق بگیر'!A:A,0)),\"وجود ندارد\",LOOKUP(D225,'اطلاعات افراد غیر حقوق بگیر'!A:A,'اطلاعات افراد غیر حقوق بگیر'!E:E)),LOOKUP(D225,Master!D:D,Master!AH:AH)))","v":" "},{"$f":"SUMIFS(Pays!G:G,Pays!E:E,1,Pays!D:D,D225)","v":0},{"$f":"SUMIFS(Pays!G:G,Pays!E:E,2,Pays!D:D,D225)","v":0},{"$f":"SUMIFS(Pays!G:G,Pays!E:E,57,Pays!D:D,D225)","v":0},{"$f":"SUMIF(Pays!D:D,D225,Pays!G:G)","v":0},{"$f":"SUMIF(Pays!D:D,D225,Pays!G:G)/176","v":0},{"$f":"IF(M225=0,IF(ISNA(MATCH(D225,'اطلاعات افراد غیر حقوق بگیر'!A:A,0)),0,LOOKUP(D225,'اطلاعات افراد غیر حقوق بگیر'!A:A,'اطلاعات افراد غیر حقوق بگیر'!F:F)),IF(H225=31,Settings!$D$13,ROUND(M225,0)))","v":0},null,0,{"$f":"IF(ISNA(MATCH(D225,Master!D:D,0)),IF(ISNA(MATCH(D225,'اطلاعات افراد غیر حقوق بگیر'!A:A,0)),0,LOOKUP(D225,'اطلاعات افراد غیر حقوق بگیر'!A:A,'اطلاعات افراد غیر حقوق بگیر'!G:G)),LOOKUP(D225,Master!D:D,Master!J:J))","v":0},{"$error":"#N/A"},0,0,{"$f":"IF(O225>#REF!,\"اخطار ساعت اضافه کار از حداکثر بیشتر است\",\" \")","v":{"$error":"#REF!"}},{"$f":"IF(O225>#REF!,1,0)","v":{"$error":"#REF!"}}]
[223,{"$f":"IF(D226=0,\"\",Settings!$D$6)","v":""},{"$f":"IF(D226=0,\"\",LOOKUP(B226,'Rigion Code'!A:A,'Rigion Code'!B:B))","v":""},null,{"$f":"IF(D226=0,\" \",IF(ISNA(MATCH(D226,Personnel!A:A,0)),IF(ISNA(MATCH(D226,'اطلاعات افراد غیر حقوق بگیر'!A:A,0)),\"وجود ندارد\",LOOKUP(Edit!D226,'اطلاعات افراد غیر حقوق بگیر'!A:A,'اطلاعات افراد غیر حقوق بگیر'!B:B)),LOOKUP(D226,Personnel!A:A,Personnel!C:C)))","v":" "},{"$f":"IF(D226=0,\" \",IF(ISNA(MATCH(D226,Personnel!A:A,0)),IF(ISNA(MATCH(D226,'اطلاعات افراد غیر حقوق بگیر'!A:A,0)),\"وجود ندارد\",LOOKUP(D226,'اطلاعات افراد غیر حقوق بگیر'!A:A,'اطلاعات افراد غیر حقوق بگیر'!C:C)),LOOKUP(D226,Personnel!A:A,Personnel!B:B)))","v":" "},{"$f":"IF(D226=0,0,IF(ISNA(MATCH(D226,Personnel!A:A,0)),IF(ISNA(MATCH(D226,'اطلاعات افراد غیر حقوق بگیر'!A:A,0)),\"وجود ندارد\",LOOKUP(D226,'اطلاعات افراد غیر حقوق بگیر'!A:A,'اطلاعات افراد غیر حقوق بگیر'!D:D)),LOOKUP(D226,Master!D:D,Master!CD:CD)))","v":0},{"$f":"IF(D226=0,\" \",IF(ISNA(MATCH(D226,Personnel!A:A,0)),IF(ISNA(MATCH(D226,'اطلاعات افراد غیر حقوق بگیر'!A:A,0)),\"وجود ندارد\",LOOKUP(D226,'اطلاعات افراد غیر حقوق بگیر'!A:A,'اطلاعات افراد غیر حقوق بگیر'!E:E)),LOOKUP(D226,Master!D:D,Master!AH:AH)))","v":" "},{"$f":"SUMIFS(Pays!G:G,Pays!E:E,1,Pays!D:D,D226)","v":0},{"$f":"SUMIFS(Pays!G:G,Pays!E:E,2,Pays!D:D,D226)","v":0},{"$f":"SUMIFS(Pays!G:G,Pays!E:E,57,Pays!D:D,D226)","v":0},{"$f":"SUMIF(Pays!D:D,D226,Pays!G:G)","v":0},{"$f":"SUMIF(Pays!D:D,D226,Pays!G:G)/176","v":0},{"$f":"IF(M226=0,IF(ISNA(MATCH(D226,'اطلاعات افراد غیر حقوق بگیر'!A:A,0)),0,LOOKUP(D226,'اطلاعات افراد غیر حقوق بگیر'!A:A,'اطلاعات افراد غیر حقوق بگیر'!F:F)),IF(H226=31,Settings!$D$13,ROUND(M226,0)))","v":0},null,0,{"$f":"IF(ISNA(MATCH(D226,Master!D:D,0)),IF(ISNA(MATCH(D226,'اطلاعات افراد غیر حقوق بگیر'!A:A,0)),0,LOOKUP(D226,'اطلاعات افراد غیر حقوق بگیر'!A:A,'اطلاعات افراد غیر حقوق بگیر'!G:G)),LOOKUP(D226,Master!D:D,Master!J:J))","v":0},{"$error":"#N/A"},0,0,{"$f":"IF(O226>#REF!,\"اخطار ساعت اضافه کار از حداکثر بیشتر است\",\" \")","v":{"$error":"#REF!"}},{"$f":"IF(O226>#REF!,1,0)","v":{"$error":"#REF!"}}]
[224,{"$f":"IF(D227=0,\"\",Settings!$D$6)","v":""},{"$f":"IF(D227=0,\"\",LOOKUP(B227,'Rigion Code'!A:A,'Rigion Code'!B:B))","v":""},null,{"$f":"IF(D227=0,\" \",IF(ISNA(MATCH(D227,Personnel!A:A,0)),IF(ISNA(MATCH(D227,'اطلاعات افراد غیر حقوق بگیر'!A:A,0)),\"وجود ندارد\",LOOKUP(Edit!D227,'اطلاعات افراد غیر حقوق بگیر'!A:A,'اطلاعات افراد غیر حقوق بگیر'!B:B)),LOOKUP(D227,Personnel!A:A,Personnel!C:C)))","v":" "},{"$f":"IF(D227=0,\" \",IF(ISNA(MATCH(D227,Personnel!A:A,0)),IF(ISNA(MATCH(D227,'اطلاعات افراد غیر حقوق بگیر'!A:A,0)),\"وجود ندارد\",LOOKUP(D227,'اطلاعات افراد غیر حقوق بگیر'!A:A,'اطلاعات افراد غیر حقوق بگیر'!C:C)),LOOKUP(D227,Personnel!A:A,Personnel!B:B)))","v":" "},{"$f":"IF(D227=0,0,IF(ISNA(MATCH(D227,Personnel!A:A,0)),IF(ISNA(MATCH(D227,'اطلاعات افراد غیر حقوق بگیر'!A:A,0)),\"وجود ندارد\",LOOKUP(D227,'اطلاعات افراد غیر حقوق بگیر'!A:A,'اطلاعات افراد غیر حقوق بگیر'!D:D)),LOOKUP(D227,Master!D:D,Master!CD:CD)))","v":0},{"$f":"IF(D227=0,\" \",IF(ISNA(MATCH(D227,Personnel!A:A,0)),IF(ISNA(MATCH(D227,'اطلاعات افراد غیر حقوق بگیر'!A:A,0)),\"وجود ندارد\",LOOKUP(D227,'اطلاعات افراد غیر حقوق بگیر'!A:A,'اطلاعات افراد غیر حقوق بگیر'!E:E)),LOOKUP(D227,Master!D:D,Master!AH:AH)))","v":" "},{"$f":"SUMIFS(Pays!G:G,Pays!E:E,1,Pays!D:D,D227)","v":0},{"$f":"SUMIFS(Pays!G:G,Pays!E:E,2,Pays!D:D,D227)","v":0},{"$f":"SUMIFS(Pays!G:G,Pays!E:E,57,Pays!D:D,D227)","v":0},{"$f":"SUMIF(Pays!D:D,D227,Pays!G:G)","v":0},{"$f":"SUMIF(Pays!D:D,D227,Pays!G:G)/176","v":0},{"$f":"IF(M227=0,IF(ISNA(MATCH(D227,'اطلاعات افراد غیر حقوق بگیر'!A:A,0)),0,LOOKUP(D227,'اطلاعات افراد غیر حقوق بگیر'!A:A,'اطلاعات افراد غیر حقوق بگیر'!F:F)),IF(H227=31,Settings!$D$13,ROUND(M227,0)))","v":0},null,0,{"$f":"IF(ISNA(MATCH(D227,Master!D:D,0)),IF(ISNA(MATCH(D227,'اطلاعات افراد غیر حقوق بگیر'!A:A,0)),0,LOOKUP(D227,'اطلاعات افراد غیر حقوق بگیر'!A:A,'اطلاعات افراد غیر حقوق بگیر'!G:G)),LOOKUP(D227,Master!D:D,Master!J:J))","v":0},{"$error":"#N/A"},0,0,{"$f":"IF(O227>#REF!,\"اخطار ساعت اضافه کار از حداکثر بیشتر است\",\" \")","v":{"$error":"#REF!"}},{"$f":"IF(O227>#REF!,1,0)","v":{"$error":"#REF!"}}]
[225,{"$f":"IF(D228=0,\"\",Settings!$D$6)","v":""},{"$f":"IF(D228=0,\"\",LOOKUP(B228,'Rigion Code'!A:A,'Rigion Code'!B:B))","v":""},null,{"$f":"IF(D228=0,\" \",IF(ISNA(MATCH(D228,Personnel!A:A,0)),IF(ISNA(MATCH(D228,'اطلاعات افراد غیر حقوق بگیر'!A:A,0)),\"وجود ندارد\",LOOKUP(Edit!D228,'اطلاعات افراد غیر حقوق بگیر'!A:A,'اطلاعات افراد غیر حقوق بگیر'!B:B)),LOOKUP(D228,Personnel!A:A,Personnel!C:C)))","v":" "},{"$f":"IF(D228=0,\" \",IF(ISNA(MATCH(D228,Personnel!A:A,0)),IF(ISNA(MATCH(D228,'اطلاعات افراد غیر حقوق بگیر'!A:A,0)),\"وجود ندارد\",LOOKUP(D228,'اطلاعات افراد غیر حقوق بگیر'!A:A,'اطلاعات افراد غیر حقوق بگیر'!C:C)),LOOKUP(D228,Personnel!A:A,Personnel!B:B)))","v":" "},{"$f":"IF(D228=0,0,IF(ISNA(MATCH(D228,Personnel!A:A,0)),IF(ISNA(MATCH(D228,'اطلاعات افراد غیر حقوق بگیر'!A:A,0)),\"وجود ندارد\",LOOKUP(D228,'اطلاعات افراد غیر حقوق بگیر'!A:A,'اطلاعات افراد غیر حقوق بگیر'!D:D)),LOOKUP(D228,Master!D:D,Master!CD:CD)))","v":0},{"$f":"IF(D228=0,\" \",IF(ISNA(MATCH(D228,Personnel!A:A,0)),IF(ISNA(MATCH(D228,'اطلاعات افراد غیر حقوق بگیر'!A:A,0)),\"وجود ندارد\",LOOKUP(D228,'اطلاعات افراد غیر حقوق بگیر'!A:A,'اطلاعات افراد غیر حقوق بگیر'!E:E)),LOOKUP(D228,Master!D:D,Master!AH:AH)))","v":" "},{"$f":"SUMIFS(Pays!G:G,Pays!E:E,1,Pays!D:D,D228)","v":0},{"$f":"SUMIFS(Pays!G:G,Pays!E:E,2,Pays!D:D,D228)","v":0},{"$f":"SUMIFS(Pays!G:G,Pays!E:E,57,Pays!D:D,D228)","v":0},{"$f":"SUMIF(Pays!D:D,D228,Pays!G:G)","v":0},{"$f":"SUMIF(Pays!D:D,D228,Pays!G:G)/176","v":0},{"$f":"IF(M228=0,IF(ISNA(MATCH(D228,'اطلاعات افراد غیر حقوق بگیر'!A:A,0)),0,LOOKUP(D228,'اطلاعات افراد غیر حقوق بگیر'!A:A,'اطلاعات افراد غیر حقوق بگیر'!F:F)),IF(H228=31,Settings!$D$13,ROUND(M228,0)))","v":0},null,0,{"$f":"IF(ISNA(MATCH(D228,Master!D:D,0)),IF(ISNA(MATCH(D228,'اطلاعات افراد غیر حقوق بگیر'!A:A,0)),0,LOOKUP(D228,'اطلاعات افراد غیر حقوق بگیر'!A:A,'اطلاعات افراد غیر حقوق بگیر'!G:G)),LOOKUP(D228,Master!D:D,Master!J:J))","v":0},{"$error":"#N/A"},0,0,{"$f":"IF(O228>#REF!,\"اخطار ساعت اضافه کار از حداکثر بیشتر است\",\" \")","v":{"$error":"#REF!"}},{"$f":"IF(O228>#REF!,1,0)","v":{"$error":"#REF!"}}]
[226,{"$f":"IF(D229=0,\"\",Settings!$D$6)","v":""},{"$f":"IF(D229=0,\"\",LOOKUP(B229,'Rigion Code'!A:A,'Rigion Code'!B:B))","v":""},null,{"$f":"IF(D229=0,\" \",IF(ISNA(MATCH(D229,Personnel!A:A,0)),IF(ISNA(MATCH(D229,'اطلاعات افراد غیر حقوق بگیر'!A:A,0)),\"وجود ندارد\",LOOKUP(Edit!D229,'اطلاعات افراد غیر حقوق بگیر'!A:A,'اطلاعات افراد غیر حقوق بگیر'!B:B)),LOOKUP(D229,Personnel!A:A,Personnel!C:C)))","v":" "},{"$f":"IF(D229=0,\" \",IF(ISNA(MATCH(D229,Personnel!A:A,0)),IF(ISNA(MATCH(D229,'اطلاعات افراد غیر حقوق بگیر'!A:A,0)),\"وجود ندارد\",LOOKUP(D229,'اطلاعات افراد غیر حقوق بگیر'!A:A,'اطلاعات افراد غیر حقوق بگیر'!C:C)),LOOKUP(D229,Personnel!A:A,Personnel!B:B)))","v":" "},{"$f":"IF(D229=0,0,IF(ISNA(MATCH(D229,Personnel!A:A,0)),IF(ISNA(MATCH(D229,'اطلاعات افراد غیر حقوق بگیر'!A:A,0)),\"وجود ندارد\",LOOKUP(D229,'اطلاعات افراد غیر حقوق بگیر'!A:A,'اطلاعات افراد غیر حقوق بگیر'!D:D)),LOOKUP(D229,Master!D:D,Master!CD:CD)))","v":0},{"$f":"IF(D229=0,\" \",IF(ISNA(MATCH(D229,Personnel!A:A,0)),IF(ISNA(MATCH(D229,'اطلاعات افراد غیر حقوق بگیر'!A:A,0)),\"وجود ندارد\",LOOKUP(D229,'اطلاعات افراد غیر حقوق بگیر'!A:A,'اطلاعات افراد غیر حقوق بگیر'!E:E)),LOOKUP(D229,Master!D:D,Master!AH:AH)))","v":" "},{"$f":"SUMIFS(Pays!G:G,Pays!E:E,1,Pays!D:D,D229)","v":0},{"$f":"SUMIFS(Pays!G:G,Pays!E:E,2,Pays!D:D,D229)","v":0},{"$f":"SUMIFS(Pays!G:G,Pays!E:E,57,Pays!D:D,D229)","v":0},{"$f":"SUMIF(Pays!D:D,D229,Pays!G:G)","v":0},{"$f":"SUMIF(Pays!D:D,D229,Pays!G:G)/176","v":0},{"$f":"IF(M229=0,IF(ISNA(MATCH(D229,'اطلاعات افراد غیر حقوق بگیر'!A:A,0)),0,LOOKUP(D229,'اطلاعات افراد غیر حقوق بگیر'!A:A,'اطلاعات افراد غیر حقوق بگیر'!F:F)),IF(H229=31,Settings!$D$13,ROUND(M229,0)))","v":0},null,0,{"$f":"IF(ISNA(MATCH(D229,Master!D:D,0)),IF(ISNA(MATCH(D229,'اطلاعات افراد غیر حقوق بگیر'!A:A,0)),0,LOOKUP(D229,'اطلاعات افراد غیر حقوق بگیر'!A:A,'اطلاعات افراد غیر حقوق بگیر'!G:G)),LOOKUP(D229,Master!D:D,Master!J:J))","v":0},{"$error":"#N/A"},0,0,{"$f":"IF(O229>#REF!,\"اخطار ساعت اضافه کار از حداکثر بیشتر است\",\" \")","v":{"$error":"#REF!"}},{"$f":"IF(O229>#REF!,1,0)","v":{"$error":"#REF!"}}]
[227,{"$f":"IF(D230=0,\"\",Settings!$D$6)","v":""},{"$f":"IF(D230=0,\"\",LOOKUP(B230,'Rigion Code'!A:A,'Rigion Code'!B:B))","v":""},null,{"$f":"IF(D230=0,\" \",IF(ISNA(MATCH(D230,Personnel!A:A,0)),IF(ISNA(MATCH(D230,'اطلاعات افراد غیر حقوق بگیر'!A:A,0)),\"وجود ندارد\",LOOKUP(Edit!D230,'اطلاعات افراد غیر حقوق بگیر'!A:A,'اطلاعات افراد غیر حقوق بگیر'!B:B)),LOOKUP(D230,Personnel!A:A,Personnel!C:C)))","v":" "},{"$f":"IF(D230=0,\" \",IF(ISNA(MATCH(D230,Personnel!A:A,0)),IF(ISNA(MATCH(D230,'اطلاعات افراد غیر حقوق بگیر'!A:A,0)),\"وجود ندارد\",LOOKUP(D230,'اطلاعات افراد غیر حقوق بگیر'!A:A,'اطلاعات افراد غیر حقوق بگیر'!C:C)),LOOKUP(D230,Personnel!A:A,Personnel!B:B)))","v":" "},{"$f":"IF(D230=0,0,IF(ISNA(MATCH(D230,Personnel!A:A,0)),IF(ISNA(MATCH(D230,'اطلاعات افراد غیر حقوق بگیر'!A:A,0)),\"وجود ندارد\",LOOKUP(D230,'اطلاعات افراد غیر حقوق بگیر'!A:A,'اطلاعات افراد غیر حقوق بگیر'!D:D)),LOOKUP(D230,Master!D:D,Master!CD:CD)))","v":0},{"$f":"IF(D230=0,\" \",IF(ISNA(MATCH(D230,Personnel!A:A,0)),IF(ISNA(MATCH(D230,'اطلاعات افراد غیر حقوق بگیر'!A:A,0)),\"وجود ندارد\",LOOKUP(D230,'اطلاعات افراد غیر حقوق بگیر'!A:A,'اطلاعات افراد غیر حقوق بگیر'!E:E)),LOOKUP(D230,Master!D:D,Master!AH:AH)))","v":" "},{"$f":"SUMIFS(Pays!G:G,Pays!E:E,1,Pays!D:D,D230)","v":0},{"$f":"SUMIFS(Pays!G:G,Pays!E:E,2,Pays!D:D,D230)","v":0},{"$f":"SUMIFS(Pays!G:G,Pays!E:E,57,Pays!D:D,D230)","v":0},{"$f":"SUMIF(Pays!D:D,D230,Pays!G:G)","v":0},{"$f":"SUMIF(Pays!D:D,D230,Pays!G:G)/176","v":0},{"$f":"IF(M230=0,IF(ISNA(MATCH(D230,'اطلاعات افراد غیر حقوق بگیر'!A:A,0)),0,LOOKUP(D230,'اطلاعات افراد غیر حقوق بگیر'!A:A,'اطلاعات افراد غیر حقوق بگیر'!F:F)),IF(H230=31,Settings!$D$13,ROUND(M230,0)))","v":0},null,0,{"$f":"IF(ISNA(MATCH(D230,Master!D:D,0)),IF(ISNA(MATCH(D230,'اطلاعات افراد غیر حقوق بگیر'!A:A,0)),0,LOOKUP(D230,'اطلاعات افراد غیر حقوق بگیر'!A:A,'اطلاعات افراد غیر حقوق بگیر'!G:G)),LOOKUP(D230,Master!D:D,Master!J:J))","v":0},{"$error":"#N/A"},0,0,{"$f":"IF(O230>#REF!,\"اخطار ساعت اضافه کار از حداکثر بیشتر است\",\" \")","v":{"$error":"#REF!"}},{"$f":"IF(O230>#REF!,1,0)","v":{"$error":"#REF!"}}]
[228,{"$f":"IF(D231=0,\"\",Settings!$D$6)","v":""},{"$f":"IF(D231=0,\"\",LOOKUP(B231,'Rigion Code'!A:A,'Rigion Code'!B:B))","v":""},null,{"$f":"IF(D231=0,\" \",IF(ISNA(MATCH(D231,Personnel!A:A,0)),IF(ISNA(MATCH(D231,'اطلاعات افراد غیر حقوق بگیر'!A:A,0)),\"وجود ندارد\",LOOKUP(Edit!D231,'اطلاعات افراد غیر حقوق بگیر'!A:A,'اطلاعات افراد غیر حقوق بگیر'!B:B)),LOOKUP(D231,Personnel!A:A,Personnel!C:C)))","v":" "},{"$f":"IF(D231=0,\" \",IF(ISNA(MATCH(D231,Personnel!A:A,0)),IF(ISNA(MATCH(D231,'اطلاعات افراد غیر حقوق بگیر'!A:A,0)),\"وجود ندارد\",LOOKUP(D231,'اطلاعات افراد غیر حقوق بگیر'!A:A,'اطلاعات افراد غیر حقوق بگیر'!C:C)),LOOKUP(D231,Personnel!A:A,Personnel!B:B)))","v":" "},{"$f":"IF(D231=0,0,IF(ISNA(MATCH(D231,Personnel!A:A,0)),IF(ISNA(MATCH(D231,'اطلاعات افراد غیر حقوق بگیر'!A:A,0)),\"وجود ندارد\",LOOKUP(D231,'اطلاعات افراد غیر حقوق بگیر'!A:A,'اطلاعات افراد غیر حقوق بگیر'!D:D)),LOOKUP(D231,Master!D:D,Master!CD:CD)))","v":0},{"$f":"IF(D231=0,\" \",IF(ISNA(MATCH(D231,Personnel!A:A,0)),IF(ISNA(MATCH(D231,'اطلاعات افراد غیر حقوق بگیر'!A:A,0)),\"وجود ندارد\",LOOKUP(D231,'اطلاعات افراد غیر حقوق بگیر'!A:A,'اطلاعات افراد غیر حقوق بگیر'!E:E)),LOOKUP(D231,Master!D:D,Master!AH:AH)))","v":" "},{"$f":"SUMIFS(Pays!G:G,Pays!E:E,1,Pays!D:D,D231)","v":0},{"$f":"SUMIFS(Pays!G:G,Pays!E:E,2,Pays!D:D,D231)","v":0},{"$f":"SUMIFS(Pays!G:G,Pays!E:E,57,Pays!D:D,D231)","v":0},{"$f":"SUMIF(Pays!D:D,D231,Pays!G:G)","v":0},{"$f":"SUMIF(Pays!D:D,D231,Pays!G:G)/176","v":0},{"$f":"IF(M231=0,IF(ISNA(MATCH(D231,'اطلاعات افراد غیر حقوق بگیر'!A:A,0)),0,LOOKUP(D231,'اطلاعات افراد غیر حقوق بگیر'!A:A,'اطلاعات افراد غیر حقوق بگیر'!F:F)),IF(H231=31,Settings!$D$13,ROUND(M231,0)))","v":0},null,0,{"$f":"IF(ISNA(MATCH(D231,Master!D:D,0)),IF(ISNA(MATCH(D231,'اطلاعات افراد غیر حقوق بگیر'!A:A,0)),0,LOOKUP(D231,'اطلاعات افراد غیر حقوق بگیر'!A:A,'اطلاعات افراد غیر حقوق بگیر'!G:G)),LOOKUP(D231,Master!D:D,Master!J:J))","v":0},{"$error":"#N/A"},0,0,{"$f":"IF(O231>#REF!,\"اخطار ساعت اضافه کار از حداکثر بیشتر است\",\" \")","v":{"$error":"#REF!"}},{"$f":"IF(O231>#REF!,1,0)","v":{"$error":"#REF!"}}]
[229,{"$f":"IF(D232=0,\"\",Settings!$D$6)","v":""},{"$f":"IF(D232=0,\"\",LOOKUP(B232,'Rigion Code'!A:A,'Rigion Code'!B:B))","v":""},null,{"$f":"IF(D232=0,\" \",IF(ISNA(MATCH(D232,Personnel!A:A,0)),IF(ISNA(MATCH(D232,'اطلاعات افراد غیر حقوق بگیر'!A:A,0)),\"وجود ندارد\",LOOKUP(Edit!D232,'اطلاعات افراد غیر حقوق بگیر'!A:A,'اطلاعات افراد غیر حقوق بگیر'!B:B)),LOOKUP(D232,Personnel!A:A,Personnel!C:C)))","v":" "},{"$f":"IF(D232=0,\" \",IF(ISNA(MATCH(D232,Personnel!A:A,0)),IF(ISNA(MATCH(D232,'اطلاعات افراد غیر حقوق بگیر'!A:A,0)),\"وجود ندارد\",LOOKUP(D232,'اطلاعات افراد غیر حقوق بگیر'!A:A,'اطلاعات افراد غیر حقوق بگیر'!C:C)),LOOKUP(D232,Personnel!A:A,Personnel!B:B)))","v":" "},{"$f":"IF(D232=0,0,IF(ISNA(MATCH(D232,Personnel!A:A,0)),IF(ISNA(MATCH(D232,'اطلاعات افراد غیر حقوق بگیر'!A:A,0)),\"وجود ندارد\",LOOKUP(D232,'اطلاعات افراد غیر حقوق بگیر'!A:A,'اطلاعات افراد غیر حقوق بگیر'!D:D)),LOOKUP(D232,Master!D:D,Master!CD:CD)))","v":0},{"$f":"IF(D232=0,\" \",IF(ISNA(MATCH(D232,Personnel!A:A,0)),IF(ISNA(MATCH(D232,'اطلاعات افراد غیر حقوق بگیر'!A:A,0)),\"وجود ندارد\",LOOKUP(D232,'اطلاعات افراد غیر حقوق بگیر'!A:A,'اطلاعات افراد غیر حقوق بگیر'!E:E)),LOOKUP(D232,Master!D:D,Master!AH:AH)))","v":" "},{"$f":"SUMIFS(Pays!G:G,Pays!E:E,1,Pays!D:D,D232)","v":0},{"$f":"SUMIFS(Pays!G:G,Pays!E:E,2,Pays!D:D,D232)","v":0},{"$f":"SUMIFS(Pays!G:G,Pays!E:E,57,Pays!D:D,D232)","v":0},{"$f":"SUMIF(Pays!D:D,D232,Pays!G:G)","v":0},{"$f":"SUMIF(Pays!D:D,D232,Pays!G:G)/176","v":0},{"$f":"IF(M232=0,IF(ISNA(MATCH(D232,'اطلاعات افراد غیر حقوق بگیر'!A:A,0)),0,LOOKUP(D232,'اطلاعات افراد غیر حقوق بگیر'!A:A,'اطلاعات افراد غیر حقوق بگیر'!F:F)),IF(H232=31,Settings!$D$13,ROUND(M232,0)))","v":0},null,0,{"$f":"IF(ISNA(MATCH(D232,Master!D:D,0)),IF(ISNA(MATCH(D232,'اطلاعات افراد غیر حقوق بگیر'!A:A,0)),0,LOOKUP(D232,'اطلاعات افراد غیر حقوق بگیر'!A:A,'اطلاعات افراد غیر حقوق بگیر'!G:G)),LOOKUP(D232,Master!D:D,Master!J:J))","v":0},{"$error":"#N/A"},0,0,{"$f":"IF(O232>#REF!,\"اخطار ساعت اضافه کار از حداکثر بیشتر است\",\" \")","v":{"$error":"#REF!"}},{"$f":"IF(O232>#REF!,1,0)","v":{"$error":"#REF!"}}]
[230,{"$f":"IF(D233=0,\"\",Settings!$D$6)","v":""},{"$f":"IF(D233=0,\"\",LOOKUP(B233,'Rigion Code'!A:A,'Rigion Code'!B:B))","v":""},null,{"$f":"IF(D233=0,\" \",IF(ISNA(MATCH(D233,Personnel!A:A,0)),IF(ISNA(MATCH(D233,'اطلاعات افراد غیر حقوق بگیر'!A:A,0)),\"وجود ندارد\",LOOKUP(Edit!D233,'اطلاعات افراد غیر حقوق بگیر'!A:A,'اطلاعات افراد غیر حقوق بگیر'!B:B)),LOOKUP(D233,Personnel!A:A,Personnel!C:C)))","v":" "},{"$f":"IF(D233=0,\" \",IF(ISNA(MATCH(D233,Personnel!A:A,0)),IF(ISNA(MATCH(D233,'اطلاعات افراد غیر حقوق بگیر'!A:A,0)),\"وجود ندارد\",LOOKUP(D233,'اطلاعات افراد غیر حقوق بگیر'!A:A,'اطلاعات افراد غیر حقوق بگیر'!C:C)),LOOKUP(D233,Personnel!A:A,Personnel!B:B)))","v":" "},{"$f":"IF(D233=0,0,IF(ISNA(MATCH(D233,Personnel!A:A,0)),IF(ISNA(MATCH(D233,'اطلاعات افراد غیر حقوق بگیر'!A:A,0)),\"وجود ندارد\",LOOKUP(D233,'اطلاعات افراد غیر حقوق بگیر'!A:A,'اطلاعات افراد غیر حقوق بگیر'!D:D)),LOOKUP(D233,Master!D:D,Master!CD:CD)))","v":0},{"$f":"IF(D233=0,\" \",IF(ISNA(MATCH(D233,Personnel!A:A,0)),IF(ISNA(MATCH(D233,'اطلاعات افراد غیر حقوق بگیر'!A:A,0)),\"وجود ندارد\",LOOKUP(D233,'اطلاعات افراد غیر حقوق بگیر'!A:A,'اطلاعات افراد غیر حقوق بگیر'!E:E)),LOOKUP(D233,Master!D:D,Master!AH:AH)))","v":" "},{"$f":"SUMIFS(Pays!G:G,Pays!E:E,1,Pays!D:D,D233)","v":0},{"$f":"SUMIFS(Pays!G:G,Pays!E:E,2,Pays!D:D,D233)","v":0},{"$f":"SUMIFS(Pays!G:G,Pays!E:E,57,Pays!D:D,D233)","v":0},{"$f":"SUMIF(Pays!D:D,D233,Pays!G:G)","v":0},{"$f":"SUMIF(Pays!D:D,D233,Pays!G:G)/176","v":0},{"$f":"IF(M233=0,IF(ISNA(MATCH(D233,'اطلاعات افراد غیر حقوق بگیر'!A:A,0)),0,LOOKUP(D233,'اطلاعات افراد غیر حقوق بگیر'!A:A,'اطلاعات افراد غیر حقوق بگیر'!F:F)),IF(H233=31,Settings!$D$13,ROUND(M233,0)))","v":0},null,0,{"$f":"IF(ISNA(MATCH(D233,Master!D:D,0)),IF(ISNA(MATCH(D233,'اطلاعات افراد غیر حقوق بگیر'!A:A,0)),0,LOOKUP(D233,'اطلاعات افراد غیر حقوق بگیر'!A:A,'اطلاعات افراد غیر حقوق بگیر'!G:G)),LOOKUP(D233,Master!D:D,Master!J:J))","v":0},{"$error":"#N/A"},0,0,{"$f":"IF(O233>#REF!,\"اخطار ساعت اضافه کار از حداکثر بیشتر است\",\" \")","v":{"$error":"#REF!"}},{"$f":"IF(O233>#REF!,1,0)","v":{"$error":"#REF!"}}]
[231,{"$f":"IF(D234=0,\"\",Settings!$D$6)","v":""},{"$f":"IF(D234=0,\"\",LOOKUP(B234,'Rigion Code'!A:A,'Rigion Code'!B:B))","v":""},null,{"$f":"IF(D234=0,\" \",IF(ISNA(MATCH(D234,Personnel!A:A,0)),IF(ISNA(MATCH(D234,'اطلاعات افراد غیر حقوق بگیر'!A:A,0)),\"وجود ندارد\",LOOKUP(Edit!D234,'اطلاعات افراد غیر حقوق بگیر'!A:A,'اطلاعات افراد غیر حقوق بگیر'!B:B)),LOOKUP(D234,Personnel!A:A,Personnel!C:C)))","v":" "},{"$f":"IF(D234=0,\" \",IF(ISNA(MATCH(D234,Personnel!A:A,0)),IF(ISNA(MATCH(D234,'اطلاعات افراد غیر حقوق بگیر'!A:A,0)),\"وجود ندارد\",LOOKUP(D234,'اطلاعات افراد غیر حقوق بگیر'!A:A,'اطلاعات افراد غیر حقوق بگیر'!C:C)),LOOKUP(D234,Personnel!A:A,Personnel!B:B)))","v":" "},{"$f":"IF(D234=0,0,IF(ISNA(MATCH(D234,Personnel!A:A,0)),IF(ISNA(MATCH(D234,'اطلاعات افراد غیر حقوق بگیر'!A:A,0)),\"وجود ندارد\",LOOKUP(D234,'اطلاعات افراد غیر حقوق بگیر'!A:A,'اطلاعات افراد غیر حقوق بگیر'!D:D)),LOOKUP(D234,Master!D:D,Master!CD:CD)))","v":0},{"$f":"IF(D234=0,\" \",IF(ISNA(MATCH(D234,Personnel!A:A,0)),IF(ISNA(MATCH(D234,'اطلاعات افراد غیر حقوق بگیر'!A:A,0)),\"وجود ندارد\",LOOKUP(D234,'اطلاعات افراد غیر حقوق بگیر'!A:A,'اطلاعات افراد غیر حقوق بگیر'!E:E)),LOOKUP(D234,Master!D:D,Master!AH:AH)))","v":" "},{"$f":"SUMIFS(Pays!G:G,Pays!E:E,1,Pays!D:D,D234)","v":0},{"$f":"SUMIFS(Pays!G:G,Pays!E:E,2,Pays!D:D,D234)","v":0},{"$f":"SUMIFS(Pays!G:G,Pays!E:E,57,Pays!D:D,D234)","v":0},{"$f":"SUMIF(Pays!D:D,D234,Pays!G:G)","v":0},{"$f":"SUMIF(Pays!D:D,D234,Pays!G:G)/176","v":0},{"$f":"IF(M234=0,IF(ISNA(MATCH(D234,'اطلاعات افراد غیر حقوق بگیر'!A:A,0)),0,LOOKUP(D234,'اطلاعات افراد غیر حقوق بگیر'!A:A,'اطلاعات افراد غیر حقوق بگیر'!F:F)),IF(H234=31,Settings!$D$13,ROUND(M234,0)))","v":0},null,0,{"$f":"IF(ISNA(MATCH(D234,Master!D:D,0)),IF(ISNA(MATCH(D234,'اطلاعات افراد غیر حقوق بگیر'!A:A,0)),0,LOOKUP(D234,'اطلاعات افراد غیر حقوق بگیر'!A:A,'اطلاعات افراد غیر حقوق بگیر'!G:G)),LOOKUP(D234,Master!D:D,Master!J:J))","v":0},{"$error":"#N/A"},0,0,{"$f":"IF(O234>#REF!,\"اخطار ساعت اضافه کار از حداکثر بیشتر است\",\" \")","v":{"$error":"#REF!"}},{"$f":"IF(O234>#REF!,1,0)","v":{"$error":"#REF!"}}]
[232,{"$f":"IF(D235=0,\"\",Settings!$D$6)","v":""},{"$f":"IF(D235=0,\"\",LOOKUP(B235,'Rigion Code'!A:A,'Rigion Code'!B:B))","v":""},null,{"$f":"IF(D235=0,\" \",IF(ISNA(MATCH(D235,Personnel!A:A,0)),IF(ISNA(MATCH(D235,'اطلاعات افراد غیر حقوق بگیر'!A:A,0)),\"وجود ندارد\",LOOKUP(Edit!D235,'اطلاعات افراد غیر حقوق بگیر'!A:A,'اطلاعات افراد غیر حقوق بگیر'!B:B)),LOOKUP(D235,Personnel!A:A,Personnel!C:C)))","v":" "},{"$f":"IF(D235=0,\" \",IF(ISNA(MATCH(D235,Personnel!A:A,0)),IF(ISNA(MATCH(D235,'اطلاعات افراد غیر حقوق بگیر'!A:A,0)),\"وجود ندارد\",LOOKUP(D235,'اطلاعات افراد غیر حقوق بگیر'!A:A,'اطلاعات افراد غیر حقوق بگیر'!C:C)),LOOKUP(D235,Personnel!A:A,Personnel!B:B)))","v":" "},{"$f":"IF(D235=0,0,IF(ISNA(MATCH(D235,Personnel!A:A,0)),IF(ISNA(MATCH(D235,'اطلاعات افراد غیر حقوق بگیر'!A:A,0)),\"وجود ندارد\",LOOKUP(D235,'اطلاعات افراد غیر حقوق بگیر'!A:A,'اطلاعات افراد غیر حقوق بگیر'!D:D)),LOOKUP(D235,Master!D:D,Master!CD:CD)))","v":0},{"$f":"IF(D235=0,\" \",IF(ISNA(MATCH(D235,Personnel!A:A,0)),IF(ISNA(MATCH(D235,'اطلاعات افراد غیر حقوق بگیر'!A:A,0)),\"وجود ندارد\",LOOKUP(D235,'اطلاعات افراد غیر حقوق بگیر'!A:A,'اطلاعات افراد غیر حقوق بگیر'!E:E)),LOOKUP(D235,Master!D:D,Master!AH:AH)))","v":" "},{"$f":"SUMIFS(Pays!G:G,Pays!E:E,1,Pays!D:D,D235)","v":0},{"$f":"SUMIFS(Pays!G:G,Pays!E:E,2,Pays!D:D,D235)","v":0},{"$f":"SUMIFS(Pays!G:G,Pays!E:E,57,Pays!D:D,D235)","v":0},{"$f":"SUMIF(Pays!D:D,D235,Pays!G:G)","v":0},{"$f":"SUMIF(Pays!D:D,D235,Pays!G:G)/176","v":0},{"$f":"IF(M235=0,IF(ISNA(MATCH(D235,'اطلاعات افراد غیر حقوق بگیر'!A:A,0)),0,LOOKUP(D235,'اطلاعات افراد غیر حقوق بگیر'!A:A,'اطلاعات افراد غیر حقوق بگیر'!F:F)),IF(H235=31,Settings!$D$13,ROUND(M235,0)))","v":0},null,0,{"$f":"IF(ISNA(MATCH(D235,Master!D:D,0)),IF(ISNA(MATCH(D235,'اطلاعات افراد غیر حقوق بگیر'!A:A,0)),0,LOOKUP(D235,'اطلاعات افراد غیر حقوق بگیر'!A:A,'اطلاعات افراد غیر حقوق بگیر'!G:G)),LOOKUP(D235,Master!D:D,Master!J:J))","v":0},{"$error":"#N/A"},0,0,{"$f":"IF(O235>#REF!,\"اخطار ساعت اضافه کار از حداکثر بیشتر است\",\" \")","v":{"$error":"#REF!"}},{"$f":"IF(O235>#REF!,1,0)","v":{"$error":"#REF!"}}]
[233,{"$f":"IF(D236=0,\"\",Settings!$D$6)","v":""},{"$f":"IF(D236=0,\"\",LOOKUP(B236,'Rigion Code'!A:A,'Rigion Code'!B:B))","v":""},null,{"$f":"IF(D236=0,\" \",IF(ISNA(MATCH(D236,Personnel!A:A,0)),IF(ISNA(MATCH(D236,'اطلاعات افراد غیر حقوق بگیر'!A:A,0)),\"وجود ندارد\",LOOKUP(Edit!D236,'اطلاعات افراد غیر حقوق بگیر'!A:A,'اطلاعات افراد غیر حقوق بگیر'!B:B)),LOOKUP(D236,Personnel!A:A,Personnel!C:C)))","v":" "},{"$f":"IF(D236=0,\" \",IF(ISNA(MATCH(D236,Personnel!A:A,0)),IF(ISNA(MATCH(D236,'اطلاعات افراد غیر حقوق بگیر'!A:A,0)),\"وجود ندارد\",LOOKUP(D236,'اطلاعات افراد غیر حقوق بگیر'!A:A,'اطلاعات افراد غیر حقوق بگیر'!C:C)),LOOKUP(D236,Personnel!A:A,Personnel!B:B)))","v":" "},{"$f":"IF(D236=0,0,IF(ISNA(MATCH(D236,Personnel!A:A,0)),IF(ISNA(MATCH(D236,'اطلاعات افراد غیر حقوق بگیر'!A:A,0)),\"وجود ندارد\",LOOKUP(D236,'اطلاعات افراد غیر حقوق بگیر'!A:A,'اطلاعات افراد غیر حقوق بگیر'!D:D)),LOOKUP(D236,Master!D:D,Master!CD:CD)))","v":0},{"$f":"IF(D236=0,\" \",IF(ISNA(MATCH(D236,Personnel!A:A,0)),IF(ISNA(MATCH(D236,'اطلاعات افراد غیر حقوق بگیر'!A:A,0)),\"وجود ندارد\",LOOKUP(D236,'اطلاعات افراد غیر حقوق بگیر'!A:A,'اطلاعات افراد غیر حقوق بگیر'!E:E)),LOOKUP(D236,Master!D:D,Master!AH:AH)))","v":" "},{"$f":"SUMIFS(Pays!G:G,Pays!E:E,1,Pays!D:D,D236)","v":0},{"$f":"SUMIFS(Pays!G:G,Pays!E:E,2,Pays!D:D,D236)","v":0},{"$f":"SUMIFS(Pays!G:G,Pays!E:E,57,Pays!D:D,D236)","v":0},{"$f":"SUMIF(Pays!D:D,D236,Pays!G:G)","v":0},{"$f":"SUMIF(Pays!D:D,D236,Pays!G:G)/176","v":0},{"$f":"IF(M236=0,IF(ISNA(MATCH(D236,'اطلاعات افراد غیر حقوق بگیر'!A:A,0)),0,LOOKUP(D236,'اطلاعات افراد غیر حقوق بگیر'!A:A,'اطلاعات افراد غیر حقوق بگیر'!F:F)),IF(H236=31,Settings!$D$13,ROUND(M236,0)))","v":0},null,0,{"$f":"IF(ISNA(MATCH(D236,Master!D:D,0)),IF(ISNA(MATCH(D236,'اطلاعات افراد غیر حقوق بگیر'!A:A,0)),0,LOOKUP(D236,'اطلاعات افراد غیر حقوق بگیر'!A:A,'اطلاعات افراد غیر حقوق بگیر'!G:G)),LOOKUP(D236,Master!D:D,Master!J:J))","v":0},{"$error":"#N/A"},0,0,{"$f":"IF(O236>#REF!,\"اخطار ساعت اضافه کار از حداکثر بیشتر است\",\" \")","v":{"$error":"#REF!"}},{"$f":"IF(O236>#REF!,1,0)","v":{"$error":"#REF!"}}]
[234,{"$f":"IF(D237=0,\"\",Settings!$D$6)","v":""},{"$f":"IF(D237=0,\"\",LOOKUP(B237,'Rigion Code'!A:A,'Rigion Code'!B:B))","v":""},null,{"$f":"IF(D237=0,\" \",IF(ISNA(MATCH(D237,Personnel!A:A,0)),IF(ISNA(MATCH(D237,'اطلاعات افراد غیر حقوق بگیر'!A:A,0)),\"وجود ندارد\",LOOKUP(Edit!D237,'اطلاعات افراد غیر حقوق بگیر'!A:A,'اطلاعات افراد غیر حقوق بگیر'!B:B)),LOOKUP(D237,Personnel!A:A,Personnel!C:C)))","v":" "},{"$f":"IF(D237=0,\" \",IF(ISNA(MATCH(D237,Personnel!A:A,0)),IF(ISNA(MATCH(D237,'اطلاعات افراد غیر حقوق بگیر'!A:A,0)),\"وجود ندارد\",LOOKUP(D237,'اطلاعات افراد غیر حقوق بگیر'!A:A,'اطلاعات افراد غیر حقوق بگیر'!C:C)),LOOKUP(D237,Personnel!A:A,Personnel!B:B)))","v":" "},{"$f":"IF(D237=0,0,IF(ISNA(MATCH(D237,Personnel!A:A,0)),IF(ISNA(MATCH(D237,'اطلاعات افراد غیر حقوق بگیر'!A:A,0)),\"وجود ندارد\",LOOKUP(D237,'اطلاعات افراد غیر حقوق بگیر'!A:A,'اطلاعات افراد غیر حقوق بگیر'!D:D)),LOOKUP(D237,Master!D:D,Master!CD:CD)))","v":0},{"$f":"IF(D237=0,\" \",IF(ISNA(MATCH(D237,Personnel!A:A,0)),IF(ISNA(MATCH(D237,'اطلاعات افراد غیر حقوق بگیر'!A:A,0)),\"وجود ندارد\",LOOKUP(D237,'اطلاعات افراد غیر حقوق بگیر'!A:A,'اطلاعات افراد غیر حقوق بگیر'!E:E)),LOOKUP(D237,Master!D:D,Master!AH:AH)))","v":" "},{"$f":"SUMIFS(Pays!G:G,Pays!E:E,1,Pays!D:D,D237)","v":0},{"$f":"SUMIFS(Pays!G:G,Pays!E:E,2,Pays!D:D,D237)","v":0},{"$f":"SUMIFS(Pays!G:G,Pays!E:E,57,Pays!D:D,D237)","v":0},{"$f":"SUMIF(Pays!D:D,D237,Pays!G:G)","v":0},{"$f":"SUMIF(Pays!D:D,D237,Pays!G:G)/176","v":0},{"$f":"IF(M237=0,IF(ISNA(MATCH(D237,'اطلاعات افراد غیر حقوق بگیر'!A:A,0)),0,LOOKUP(D237,'اطلاعات افراد غیر حقوق بگیر'!A:A,'اطلاعات افراد غیر حقوق بگیر'!F:F)),IF(H237=31,Settings!$D$13,ROUND(M237,0)))","v":0},null,0,{"$f":"IF(ISNA(MATCH(D237,Master!D:D,0)),IF(ISNA(MATCH(D237,'اطلاعات افراد غیر حقوق بگیر'!A:A,0)),0,LOOKUP(D237,'اطلاعات افراد غیر حقوق بگیر'!A:A,'اطلاعات افراد غیر حقوق بگیر'!G:G)),LOOKUP(D237,Master!D:D,Master!J:J))","v":0},{"$error":"#N/A"},0,0,{"$f":"IF(O237>#REF!,\"اخطار ساعت اضافه کار از حداکثر بیشتر است\",\" \")","v":{"$error":"#REF!"}},{"$f":"IF(O237>#REF!,1,0)","v":{"$error":"#REF!"}}]
[235,{"$f":"IF(D238=0,\"\",Settings!$D$6)","v":""},{"$f":"IF(D238=0,\"\",LOOKUP(B238,'Rigion Code'!A:A,'Rigion Code'!B:B))","v":""},null,{"$f":"IF(D238=0,\" \",IF(ISNA(MATCH(D238,Personnel!A:A,0)),IF(ISNA(MATCH(D238,'اطلاعات افراد غیر حقوق بگیر'!A:A,0)),\"وجود ندارد\",LOOKUP(Edit!D238,'اطلاعات افراد غیر حقوق بگیر'!A:A,'اطلاعات افراد غیر حقوق بگیر'!B:B)),LOOKUP(D238,Personnel!A:A,Personnel!C:C)))","v":" "},{"$f":"IF(D238=0,\" \",IF(ISNA(MATCH(D238,Personnel!A:A,0)),IF(ISNA(MATCH(D238,'اطلاعات افراد غیر حقوق بگیر'!A:A,0)),\"وجود ندارد\",LOOKUP(D238,'اطلاعات افراد غیر حقوق بگیر'!A:A,'اطلاعات افراد غیر حقوق بگیر'!C:C)),LOOKUP(D238,Personnel!A:A,Personnel!B:B)))","v":" "},{"$f":"IF(D238=0,0,IF(ISNA(MATCH(D238,Personnel!A:A,0)),IF(ISNA(MATCH(D238,'اطلاعات افراد غیر حقوق بگیر'!A:A,0)),\"وجود ندارد\",LOOKUP(D238,'اطلاعات افراد غیر حقوق بگیر'!A:A,'اطلاعات افراد غیر حقوق بگیر'!D:D)),LOOKUP(D238,Master!D:D,Master!CD:CD)))","v":0},{"$f":"IF(D238=0,\" \",IF(ISNA(MATCH(D238,Personnel!A:A,0)),IF(ISNA(MATCH(D238,'اطلاعات افراد غیر حقوق بگیر'!A:A,0)),\"وجود ندارد\",LOOKUP(D238,'اطلاعات افراد غیر حقوق بگیر'!A:A,'اطلاعات افراد غیر حقوق بگیر'!E:E)),LOOKUP(D238,Master!D:D,Master!AH:AH)))","v":" "},{"$f":"SUMIFS(Pays!G:G,Pays!E:E,1,Pays!D:D,D238)","v":0},{"$f":"SUMIFS(Pays!G:G,Pays!E:E,2,Pays!D:D,D238)","v":0},{"$f":"SUMIFS(Pays!G:G,Pays!E:E,57,Pays!D:D,D238)","v":0},{"$f":"SUMIF(Pays!D:D,D238,Pays!G:G)","v":0},{"$f":"SUMIF(Pays!D:D,D238,Pays!G:G)/176","v":0},{"$f":"IF(M238=0,IF(ISNA(MATCH(D238,'اطلاعات افراد غیر حقوق بگیر'!A:A,0)),0,LOOKUP(D238,'اطلاعات افراد غیر حقوق بگیر'!A:A,'اطلاعات افراد غیر حقوق بگیر'!F:F)),IF(H238=31,Settings!$D$13,ROUND(M238,0)))","v":0},null,0,{"$f":"IF(ISNA(MATCH(D238,Master!D:D,0)),IF(ISNA(MATCH(D238,'اطلاعات افراد غیر حقوق بگیر'!A:A,0)),0,LOOKUP(D238,'اطلاعات افراد غیر حقوق بگیر'!A:A,'اطلاعات افراد غیر حقوق بگیر'!G:G)),LOOKUP(D238,Master!D:D,Master!J:J))","v":0},{"$error":"#N/A"},0,0,{"$f":"IF(O238>#REF!,\"اخطار ساعت اضافه کار از حداکثر بیشتر است\",\" \")","v":{"$error":"#REF!"}},{"$f":"IF(O238>#REF!,1,0)","v":{"$error":"#REF!"}}]
[236,{"$f":"IF(D239=0,\"\",Settings!$D$6)","v":""},{"$f":"IF(D239=0,\"\",LOOKUP(B239,'Rigion Code'!A:A,'Rigion Code'!B:B))","v":""},null,{"$f":"IF(D239=0,\" \",IF(ISNA(MATCH(D239,Personnel!A:A,0)),IF(ISNA(MATCH(D239,'اطلاعات افراد غیر حقوق بگیر'!A:A,0)),\"وجود ندارد\",LOOKUP(Edit!D239,'اطلاعات افراد غیر حقوق بگیر'!A:A,'اطلاعات افراد غیر حقوق بگیر'!B:B)),LOOKUP(D239,Personnel!A:A,Personnel!C:C)))","v":" "},{"$f":"IF(D239=0,\" \",IF(ISNA(MATCH(D239,Personnel!A:A,0)),IF(ISNA(MATCH(D239,'اطلاعات افراد غیر حقوق بگیر'!A:A,0)),\"وجود ندارد\",LOOKUP(D239,'اطلاعات افراد غیر حقوق بگیر'!A:A,'اطلاعات افراد غیر حقوق بگیر'!C:C)),LOOKUP(D239,Personnel!A:A,Personnel!B:B)))","v":" "},{"$f":"IF(D239=0,0,IF(ISNA(MATCH(D239,Personnel!A:A,0)),IF(ISNA(MATCH(D239,'اطلاعات افراد غیر حقوق بگیر'!A:A,0)),\"وجود ندارد\",LOOKUP(D239,'اطلاعات افراد غیر حقوق بگیر'!A:A,'اطلاعات افراد غیر حقوق بگیر'!D:D)),LOOKUP(D239,Master!D:D,Master!CD:CD)))","v":0},{"$f":"IF(D239=0,\" \",IF(ISNA(MATCH(D239,Personnel!A:A,0)),IF(ISNA(MATCH(D239,'اطلاعات افراد غیر حقوق بگیر'!A:A,0)),\"وجود ندارد\",LOOKUP(D239,'اطلاعات افراد غیر حقوق بگیر'!A:A,'اطلاعات افراد غیر حقوق بگیر'!E:E)),LOOKUP(D239,Master!D:D,Master!AH:AH)))","v":" "},{"$f":"SUMIFS(Pays!G:G,Pays!E:E,1,Pays!D:D,D239)","v":0},{"$f":"SUMIFS(Pays!G:G,Pays!E:E,2,Pays!D:D,D239)","v":0},{"$f":"SUMIFS(Pays!G:G,Pays!E:E,57,Pays!D:D,D239)","v":0},{"$f":"SUMIF(Pays!D:D,D239,Pays!G:G)","v":0},{"$f":"SUMIF(Pays!D:D,D239,Pays!G:G)/176","v":0},{"$f":"IF(M239=0,IF(ISNA(MATCH(D239,'اطلاعات افراد غیر حقوق بگیر'!A:A,0)),0,LOOKUP(D239,'اطلاعات افراد غیر حقوق بگیر'!A:A,'اطلاعات افراد غیر حقوق بگیر'!F:F)),IF(H239=31,Settings!$D$13,ROUND(M239,0)))","v":0},null,0,{"$f":"IF(ISNA(MATCH(D239,Master!D:D,0)),IF(ISNA(MATCH(D239,'اطلاعات افراد غیر حقوق بگیر'!A:A,0)),0,LOOKUP(D239,'اطلاعات افراد غیر حقوق بگیر'!A:A,'اطلاعات افراد غیر حقوق بگیر'!G:G)),LOOKUP(D239,Master!D:D,Master!J:J))","v":0},{"$error":"#N/A"},0,0,{"$f":"IF(O239>#REF!,\"اخطار ساعت اضافه کار از حداکثر بیشتر است\",\" \")","v":{"$error":"#REF!"}},{"$f":"IF(O239>#REF!,1,0)","v":{"$error":"#REF!"}}]
[237,{"$f":"IF(D240=0,\"\",Settings!$D$6)","v":""},{"$f":"IF(D240=0,\"\",LOOKUP(B240,'Rigion Code'!A:A,'Rigion Code'!B:B))","v":""},null,{"$f":"IF(D240=0,\" \",IF(ISNA(MATCH(D240,Personnel!A:A,0)),IF(ISNA(MATCH(D240,'اطلاعات افراد غیر حقوق بگیر'!A:A,0)),\"وجود ندارد\",LOOKUP(Edit!D240,'اطلاعات افراد غیر حقوق بگیر'!A:A,'اطلاعات افراد غیر حقوق بگیر'!B:B)),LOOKUP(D240,Personnel!A:A,Personnel!C:C)))","v":" "},{"$f":"IF(D240=0,\" \",IF(ISNA(MATCH(D240,Personnel!A:A,0)),IF(ISNA(MATCH(D240,'اطلاعات افراد غیر حقوق بگیر'!A:A,0)),\"وجود ندارد\",LOOKUP(D240,'اطلاعات افراد غیر حقوق بگیر'!A:A,'اطلاعات افراد غیر حقوق بگیر'!C:C)),LOOKUP(D240,Personnel!A:A,Personnel!B:B)))","v":" "},{"$f":"IF(D240=0,0,IF(ISNA(MATCH(D240,Personnel!A:A,0)),IF(ISNA(MATCH(D240,'اطلاعات افراد غیر حقوق بگیر'!A:A,0)),\"وجود ندارد\",LOOKUP(D240,'اطلاعات افراد غیر حقوق بگیر'!A:A,'اطلاعات افراد غیر حقوق بگیر'!D:D)),LOOKUP(D240,Master!D:D,Master!CD:CD)))","v":0},{"$f":"IF(D240=0,\" \",IF(ISNA(MATCH(D240,Personnel!A:A,0)),IF(ISNA(MATCH(D240,'اطلاعات افراد غیر حقوق بگیر'!A:A,0)),\"وجود ندارد\",LOOKUP(D240,'اطلاعات افراد غیر حقوق بگیر'!A:A,'اطلاعات افراد غیر حقوق بگیر'!E:E)),LOOKUP(D240,Master!D:D,Master!AH:AH)))","v":" "},{"$f":"SUMIFS(Pays!G:G,Pays!E:E,1,Pays!D:D,D240)","v":0},{"$f":"SUMIFS(Pays!G:G,Pays!E:E,2,Pays!D:D,D240)","v":0},{"$f":"SUMIFS(Pays!G:G,Pays!E:E,57,Pays!D:D,D240)","v":0},{"$f":"SUMIF(Pays!D:D,D240,Pays!G:G)","v":0},{"$f":"SUMIF(Pays!D:D,D240,Pays!G:G)/176","v":0},{"$f":"IF(M240=0,IF(ISNA(MATCH(D240,'اطلاعات افراد غیر حقوق بگیر'!A:A,0)),0,LOOKUP(D240,'اطلاعات افراد غیر حقوق بگیر'!A:A,'اطلاعات افراد غیر حقوق بگیر'!F:F)),IF(H240=31,Settings!$D$13,ROUND(M240,0)))","v":0},null,0,{"$f":"IF(ISNA(MATCH(D240,Master!D:D,0)),IF(ISNA(MATCH(D240,'اطلاعات افراد غیر حقوق بگیر'!A:A,0)),0,LOOKUP(D240,'اطلاعات افراد غیر حقوق بگیر'!A:A,'اطلاعات افراد غیر حقوق بگیر'!G:G)),LOOKUP(D240,Master!D:D,Master!J:J))","v":0},{"$error":"#N/A"},0,0,{"$f":"IF(O240>#REF!,\"اخطار ساعت اضافه کار از حداکثر بیشتر است\",\" \")","v":{"$error":"#REF!"}},{"$f":"IF(O240>#REF!,1,0)","v":{"$error":"#REF!"}}]
[238,{"$f":"IF(D241=0,\"\",Settings!$D$6)","v":""},{"$f":"IF(D241=0,\"\",LOOKUP(B241,'Rigion Code'!A:A,'Rigion Code'!B:B))","v":""},null,{"$f":"IF(D241=0,\" \",IF(ISNA(MATCH(D241,Personnel!A:A,0)),IF(ISNA(MATCH(D241,'اطلاعات افراد غیر حقوق بگیر'!A:A,0)),\"وجود ندارد\",LOOKUP(Edit!D241,'اطلاعات افراد غیر حقوق بگیر'!A:A,'اطلاعات افراد غیر حقوق بگیر'!B:B)),LOOKUP(D241,Personnel!A:A,Personnel!C:C)))","v":" "},{"$f":"IF(D241=0,\" \",IF(ISNA(MATCH(D241,Personnel!A:A,0)),IF(ISNA(MATCH(D241,'اطلاعات افراد غیر حقوق بگیر'!A:A,0)),\"وجود ندارد\",LOOKUP(D241,'اطلاعات افراد غیر حقوق بگیر'!A:A,'اطلاعات افراد غیر حقوق بگیر'!C:C)),LOOKUP(D241,Personnel!A:A,Personnel!B:B)))","v":" "},{"$f":"IF(D241=0,0,IF(ISNA(MATCH(D241,Personnel!A:A,0)),IF(ISNA(MATCH(D241,'اطلاعات افراد غیر حقوق بگیر'!A:A,0)),\"وجود ندارد\",LOOKUP(D241,'اطلاعات افراد غیر حقوق بگیر'!A:A,'اطلاعات افراد غیر حقوق بگیر'!D:D)),LOOKUP(D241,Master!D:D,Master!CD:CD)))","v":0},{"$f":"IF(D241=0,\" \",IF(ISNA(MATCH(D241,Personnel!A:A,0)),IF(ISNA(MATCH(D241,'اطلاعات افراد غیر حقوق بگیر'!A:A,0)),\"وجود ندارد\",LOOKUP(D241,'اطلاعات افراد غیر حقوق بگیر'!A:A,'اطلاعات افراد غیر حقوق بگیر'!E:E)),LOOKUP(D241,Master!D:D,Master!AH:AH)))","v":" "},{"$f":"SUMIFS(Pays!G:G,Pays!E:E,1,Pays!D:D,D241)","v":0},{"$f":"SUMIFS(Pays!G:G,Pays!E:E,2,Pays!D:D,D241)","v":0},{"$f":"SUMIFS(Pays!G:G,Pays!E:E,57,Pays!D:D,D241)","v":0},{"$f":"SUMIF(Pays!D:D,D241,Pays!G:G)","v":0},{"$f":"SUMIF(Pays!D:D,D241,Pays!G:G)/176","v":0},{"$f":"IF(M241=0,IF(ISNA(MATCH(D241,'اطلاعات افراد غیر حقوق بگیر'!A:A,0)),0,LOOKUP(D241,'اطلاعات افراد غیر حقوق بگیر'!A:A,'اطلاعات افراد غیر حقوق بگیر'!F:F)),IF(H241=31,Settings!$D$13,ROUND(M241,0)))","v":0},null,0,{"$f":"IF(ISNA(MATCH(D241,Master!D:D,0)),IF(ISNA(MATCH(D241,'اطلاعات افراد غیر حقوق بگیر'!A:A,0)),0,LOOKUP(D241,'اطلاعات افراد غیر حقوق بگیر'!A:A,'اطلاعات افراد غیر حقوق بگیر'!G:G)),LOOKUP(D241,Master!D:D,Master!J:J))","v":0},{"$error":"#N/A"},0,0,{"$f":"IF(O241>#REF!,\"اخطار ساعت اضافه کار از حداکثر بیشتر است\",\" \")","v":{"$error":"#REF!"}},{"$f":"IF(O241>#REF!,1,0)","v":{"$error":"#REF!"}}]
[239,{"$f":"IF(D242=0,\"\",Settings!$D$6)","v":""},{"$f":"IF(D242=0,\"\",LOOKUP(B242,'Rigion Code'!A:A,'Rigion Code'!B:B))","v":""},null,{"$f":"IF(D242=0,\" \",IF(ISNA(MATCH(D242,Personnel!A:A,0)),IF(ISNA(MATCH(D242,'اطلاعات افراد غیر حقوق بگیر'!A:A,0)),\"وجود ندارد\",LOOKUP(Edit!D242,'اطلاعات افراد غیر حقوق بگیر'!A:A,'اطلاعات افراد غیر حقوق بگیر'!B:B)),LOOKUP(D242,Personnel!A:A,Personnel!C:C)))","v":" "},{"$f":"IF(D242=0,\" \",IF(ISNA(MATCH(D242,Personnel!A:A,0)),IF(ISNA(MATCH(D242,'اطلاعات افراد غیر حقوق بگیر'!A:A,0)),\"وجود ندارد\",LOOKUP(D242,'اطلاعات افراد غیر حقوق بگیر'!A:A,'اطلاعات افراد غیر حقوق بگیر'!C:C)),LOOKUP(D242,Personnel!A:A,Personnel!B:B)))","v":" "},{"$f":"IF(D242=0,0,IF(ISNA(MATCH(D242,Personnel!A:A,0)),IF(ISNA(MATCH(D242,'اطلاعات افراد غیر حقوق بگیر'!A:A,0)),\"وجود ندارد\",LOOKUP(D242,'اطلاعات افراد غیر حقوق بگیر'!A:A,'اطلاعات افراد غیر حقوق بگیر'!D:D)),LOOKUP(D242,Master!D:D,Master!CD:CD)))","v":0},{"$f":"IF(D242=0,\" \",IF(ISNA(MATCH(D242,Personnel!A:A,0)),IF(ISNA(MATCH(D242,'اطلاعات افراد غیر حقوق بگیر'!A:A,0)),\"وجود ندارد\",LOOKUP(D242,'اطلاعات افراد غیر حقوق بگیر'!A:A,'اطلاعات افراد غیر حقوق بگیر'!E:E)),LOOKUP(D242,Master!D:D,Master!AH:AH)))","v":" "},{"$f":"SUMIFS(Pays!G:G,Pays!E:E,1,Pays!D:D,D242)","v":0},{"$f":"SUMIFS(Pays!G:G,Pays!E:E,2,Pays!D:D,D242)","v":0},{"$f":"SUMIFS(Pays!G:G,Pays!E:E,57,Pays!D:D,D242)","v":0},{"$f":"SUMIF(Pays!D:D,D242,Pays!G:G)","v":0},{"$f":"SUMIF(Pays!D:D,D242,Pays!G:G)/176","v":0},{"$f":"IF(M242=0,IF(ISNA(MATCH(D242,'اطلاعات افراد غیر حقوق بگیر'!A:A,0)),0,LOOKUP(D242,'اطلاعات افراد غیر حقوق بگیر'!A:A,'اطلاعات افراد غیر حقوق بگیر'!F:F)),IF(H242=31,Settings!$D$13,ROUND(M242,0)))","v":0},null,0,{"$f":"IF(ISNA(MATCH(D242,Master!D:D,0)),IF(ISNA(MATCH(D242,'اطلاعات افراد غیر حقوق بگیر'!A:A,0)),0,LOOKUP(D242,'اطلاعات افراد غیر حقوق بگیر'!A:A,'اطلاعات افراد غیر حقوق بگیر'!G:G)),LOOKUP(D242,Master!D:D,Master!J:J))","v":0},{"$error":"#N/A"},0,0,{"$f":"IF(O242>#REF!,\"اخطار ساعت اضافه کار از حداکثر بیشتر است\",\" \")","v":{"$error":"#REF!"}},{"$f":"IF(O242>#REF!,1,0)","v":{"$error":"#REF!"}}]
[240,{"$f":"IF(D243=0,\"\",Settings!$D$6)","v":""},{"$f":"IF(D243=0,\"\",LOOKUP(B243,'Rigion Code'!A:A,'Rigion Code'!B:B))","v":""},null,{"$f":"IF(D243=0,\" \",IF(ISNA(MATCH(D243,Personnel!A:A,0)),IF(ISNA(MATCH(D243,'اطلاعات افراد غیر حقوق بگیر'!A:A,0)),\"وجود ندارد\",LOOKUP(Edit!D243,'اطلاعات افراد غیر حقوق بگیر'!A:A,'اطلاعات افراد غیر حقوق بگیر'!B:B)),LOOKUP(D243,Personnel!A:A,Personnel!C:C)))","v":" "},{"$f":"IF(D243=0,\" \",IF(ISNA(MATCH(D243,Personnel!A:A,0)),IF(ISNA(MATCH(D243,'اطلاعات افراد غیر حقوق بگیر'!A:A,0)),\"وجود ندارد\",LOOKUP(D243,'اطلاعات افراد غیر حقوق بگیر'!A:A,'اطلاعات افراد غیر حقوق بگیر'!C:C)),LOOKUP(D243,Personnel!A:A,Personnel!B:B)))","v":" "},{"$f":"IF(D243=0,0,IF(ISNA(MATCH(D243,Personnel!A:A,0)),IF(ISNA(MATCH(D243,'اطلاعات افراد غیر حقوق بگیر'!A:A,0)),\"وجود ندارد\",LOOKUP(D243,'اطلاعات افراد غیر حقوق بگیر'!A:A,'اطلاعات افراد غیر حقوق بگیر'!D:D)),LOOKUP(D243,Master!D:D,Master!CD:CD)))","v":0},{"$f":"IF(D243=0,\" \",IF(ISNA(MATCH(D243,Personnel!A:A,0)),IF(ISNA(MATCH(D243,'اطلاعات افراد غیر حقوق بگیر'!A:A,0)),\"وجود ندارد\",LOOKUP(D243,'اطلاعات افراد غیر حقوق بگیر'!A:A,'اطلاعات افراد غیر حقوق بگیر'!E:E)),LOOKUP(D243,Master!D:D,Master!AH:AH)))","v":" "},{"$f":"SUMIFS(Pays!G:G,Pays!E:E,1,Pays!D:D,D243)","v":0},{"$f":"SUMIFS(Pays!G:G,Pays!E:E,2,Pays!D:D,D243)","v":0},{"$f":"SUMIFS(Pays!G:G,Pays!E:E,57,Pays!D:D,D243)","v":0},{"$f":"SUMIF(Pays!D:D,D243,Pays!G:G)","v":0},{"$f":"SUMIF(Pays!D:D,D243,Pays!G:G)/176","v":0},{"$f":"IF(M243=0,IF(ISNA(MATCH(D243,'اطلاعات افراد غیر حقوق بگیر'!A:A,0)),0,LOOKUP(D243,'اطلاعات افراد غیر حقوق بگیر'!A:A,'اطلاعات افراد غیر حقوق بگیر'!F:F)),IF(H243=31,Settings!$D$13,ROUND(M243,0)))","v":0},null,0,{"$f":"IF(ISNA(MATCH(D243,Master!D:D,0)),IF(ISNA(MATCH(D243,'اطلاعات افراد غیر حقوق بگیر'!A:A,0)),0,LOOKUP(D243,'اطلاعات افراد غیر حقوق بگیر'!A:A,'اطلاعات افراد غیر حقوق بگیر'!G:G)),LOOKUP(D243,Master!D:D,Master!J:J))","v":0},{"$error":"#N/A"},0,0,{"$f":"IF(O243>#REF!,\"اخطار ساعت اضافه کار از حداکثر بیشتر است\",\" \")","v":{"$error":"#REF!"}},{"$f":"IF(O243>#REF!,1,0)","v":{"$error":"#REF!"}}]
[241,{"$f":"IF(D244=0,\"\",Settings!$D$6)","v":""},{"$f":"IF(D244=0,\"\",LOOKUP(B244,'Rigion Code'!A:A,'Rigion Code'!B:B))","v":""},null,{"$f":"IF(D244=0,\" \",IF(ISNA(MATCH(D244,Personnel!A:A,0)),IF(ISNA(MATCH(D244,'اطلاعات افراد غیر حقوق بگیر'!A:A,0)),\"وجود ندارد\",LOOKUP(Edit!D244,'اطلاعات افراد غیر حقوق بگیر'!A:A,'اطلاعات افراد غیر حقوق بگیر'!B:B)),LOOKUP(D244,Personnel!A:A,Personnel!C:C)))","v":" "},{"$f":"IF(D244=0,\" \",IF(ISNA(MATCH(D244,Personnel!A:A,0)),IF(ISNA(MATCH(D244,'اطلاعات افراد غیر حقوق بگیر'!A:A,0)),\"وجود ندارد\",LOOKUP(D244,'اطلاعات افراد غیر حقوق بگیر'!A:A,'اطلاعات افراد غیر حقوق بگیر'!C:C)),LOOKUP(D244,Personnel!A:A,Personnel!B:B)))","v":" "},{"$f":"IF(D244=0,0,IF(ISNA(MATCH(D244,Personnel!A:A,0)),IF(ISNA(MATCH(D244,'اطلاعات افراد غیر حقوق بگیر'!A:A,0)),\"وجود ندارد\",LOOKUP(D244,'اطلاعات افراد غیر حقوق بگیر'!A:A,'اطلاعات افراد غیر حقوق بگیر'!D:D)),LOOKUP(D244,Master!D:D,Master!CD:CD)))","v":0},{"$f":"IF(D244=0,\" \",IF(ISNA(MATCH(D244,Personnel!A:A,0)),IF(ISNA(MATCH(D244,'اطلاعات افراد غیر حقوق بگیر'!A:A,0)),\"وجود ندارد\",LOOKUP(D244,'اطلاعات افراد غیر حقوق بگیر'!A:A,'اطلاعات افراد غیر حقوق بگیر'!E:E)),LOOKUP(D244,Master!D:D,Master!AH:AH)))","v":" "},{"$f":"SUMIFS(Pays!G:G,Pays!E:E,1,Pays!D:D,D244)","v":0},{"$f":"SUMIFS(Pays!G:G,Pays!E:E,2,Pays!D:D,D244)","v":0},{"$f":"SUMIFS(Pays!G:G,Pays!E:E,57,Pays!D:D,D244)","v":0},{"$f":"SUMIF(Pays!D:D,D244,Pays!G:G)","v":0},{"$f":"SUMIF(Pays!D:D,D244,Pays!G:G)/176","v":0},{"$f":"IF(M244=0,IF(ISNA(MATCH(D244,'اطلاعات افراد غیر حقوق بگیر'!A:A,0)),0,LOOKUP(D244,'اطلاعات افراد غیر حقوق بگیر'!A:A,'اطلاعات افراد غیر حقوق بگیر'!F:F)),IF(H244=31,Settings!$D$13,ROUND(M244,0)))","v":0},null,0,{"$f":"IF(ISNA(MATCH(D244,Master!D:D,0)),IF(ISNA(MATCH(D244,'اطلاعات افراد غیر حقوق بگیر'!A:A,0)),0,LOOKUP(D244,'اطلاعات افراد غیر حقوق بگیر'!A:A,'اطلاعات افراد غیر حقوق بگیر'!G:G)),LOOKUP(D244,Master!D:D,Master!J:J))","v":0},{"$error":"#N/A"},0,0,{"$f":"IF(O244>#REF!,\"اخطار ساعت اضافه کار از حداکثر بیشتر است\",\" \")","v":{"$error":"#REF!"}},{"$f":"IF(O244>#REF!,1,0)","v":{"$error":"#REF!"}}]
[242,{"$f":"IF(D245=0,\"\",Settings!$D$6)","v":""},{"$f":"IF(D245=0,\"\",LOOKUP(B245,'Rigion Code'!A:A,'Rigion Code'!B:B))","v":""},null,{"$f":"IF(D245=0,\" \",IF(ISNA(MATCH(D245,Personnel!A:A,0)),IF(ISNA(MATCH(D245,'اطلاعات افراد غیر حقوق بگیر'!A:A,0)),\"وجود ندارد\",LOOKUP(Edit!D245,'اطلاعات افراد غیر حقوق بگیر'!A:A,'اطلاعات افراد غیر حقوق بگیر'!B:B)),LOOKUP(D245,Personnel!A:A,Personnel!C:C)))","v":" "},{"$f":"IF(D245=0,\" \",IF(ISNA(MATCH(D245,Personnel!A:A,0)),IF(ISNA(MATCH(D245,'اطلاعات افراد غیر حقوق بگیر'!A:A,0)),\"وجود ندارد\",LOOKUP(D245,'اطلاعات افراد غیر حقوق بگیر'!A:A,'اطلاعات افراد غیر حقوق بگیر'!C:C)),LOOKUP(D245,Personnel!A:A,Personnel!B:B)))","v":" "},{"$f":"IF(D245=0,0,IF(ISNA(MATCH(D245,Personnel!A:A,0)),IF(ISNA(MATCH(D245,'اطلاعات افراد غیر حقوق بگیر'!A:A,0)),\"وجود ندارد\",LOOKUP(D245,'اطلاعات افراد غیر حقوق بگیر'!A:A,'اطلاعات افراد غیر حقوق بگیر'!D:D)),LOOKUP(D245,Master!D:D,Master!CD:CD)))","v":0},{"$f":"IF(D245=0,\" \",IF(ISNA(MATCH(D245,Personnel!A:A,0)),IF(ISNA(MATCH(D245,'اطلاعات افراد غیر حقوق بگیر'!A:A,0)),\"وجود ندارد\",LOOKUP(D245,'اطلاعات افراد غیر حقوق بگیر'!A:A,'اطلاعات افراد غیر حقوق بگیر'!E:E)),LOOKUP(D245,Master!D:D,Master!AH:AH)))","v":" "},{"$f":"SUMIFS(Pays!G:G,Pays!E:E,1,Pays!D:D,D245)","v":0},{"$f":"SUMIFS(Pays!G:G,Pays!E:E,2,Pays!D:D,D245)","v":0},{"$f":"SUMIFS(Pays!G:G,Pays!E:E,57,Pays!D:D,D245)","v":0},{"$f":"SUMIF(Pays!D:D,D245,Pays!G:G)","v":0},{"$f":"SUMIF(Pays!D:D,D245,Pays!G:G)/176","v":0},{"$f":"IF(M245=0,IF(ISNA(MATCH(D245,'اطلاعات افراد غیر حقوق بگیر'!A:A,0)),0,LOOKUP(D245,'اطلاعات افراد غیر حقوق بگیر'!A:A,'اطلاعات افراد غیر حقوق بگیر'!F:F)),IF(H245=31,Settings!$D$13,ROUND(M245,0)))","v":0},null,0,{"$f":"IF(ISNA(MATCH(D245,Master!D:D,0)),IF(ISNA(MATCH(D245,'اطلاعات افراد غیر حقوق بگیر'!A:A,0)),0,LOOKUP(D245,'اطلاعات افراد غیر حقوق بگیر'!A:A,'اطلاعات افراد غیر حقوق بگیر'!G:G)),LOOKUP(D245,Master!D:D,Master!J:J))","v":0},{"$error":"#N/A"},0,0,{"$f":"IF(O245>#REF!,\"اخطار ساعت اضافه کار از حداکثر بیشتر است\",\" \")","v":{"$error":"#REF!"}},{"$f":"IF(O245>#REF!,1,0)","v":{"$error":"#REF!"}}]
[243,{"$f":"IF(D246=0,\"\",Settings!$D$6)","v":""},{"$f":"IF(D246=0,\"\",LOOKUP(B246,'Rigion Code'!A:A,'Rigion Code'!B:B))","v":""},null,{"$f":"IF(D246=0,\" \",IF(ISNA(MATCH(D246,Personnel!A:A,0)),IF(ISNA(MATCH(D246,'اطلاعات افراد غیر حقوق بگیر'!A:A,0)),\"وجود ندارد\",LOOKUP(Edit!D246,'اطلاعات افراد غیر حقوق بگیر'!A:A,'اطلاعات افراد غیر حقوق بگیر'!B:B)),LOOKUP(D246,Personnel!A:A,Personnel!C:C)))","v":" "},{"$f":"IF(D246=0,\" \",IF(ISNA(MATCH(D246,Personnel!A:A,0)),IF(ISNA(MATCH(D246,'اطلاعات افراد غیر حقوق بگیر'!A:A,0)),\"وجود ندارد\",LOOKUP(D246,'اطلاعات افراد غیر حقوق بگیر'!A:A,'اطلاعات افراد غیر حقوق بگیر'!C:C)),LOOKUP(D246,Personnel!A:A,Personnel!B:B)))","v":" "},{"$f":"IF(D246=0,0,IF(ISNA(MATCH(D246,Personnel!A:A,0)),IF(ISNA(MATCH(D246,'اطلاعات افراد غیر حقوق بگیر'!A:A,0)),\"وجود ندارد\",LOOKUP(D246,'اطلاعات افراد غیر حقوق بگیر'!A:A,'اطلاعات افراد غیر حقوق بگیر'!D:D)),LOOKUP(D246,Master!D:D,Master!CD:CD)))","v":0},{"$f":"IF(D246=0,\" \",IF(ISNA(MATCH(D246,Personnel!A:A,0)),IF(ISNA(MATCH(D246,'اطلاعات افراد غیر حقوق بگیر'!A:A,0)),\"وجود ندارد\",LOOKUP(D246,'اطلاعات افراد غیر حقوق بگیر'!A:A,'اطلاعات افراد غیر حقوق بگیر'!E:E)),LOOKUP(D246,Master!D:D,Master!AH:AH)))","v":" "},{"$f":"SUMIFS(Pays!G:G,Pays!E:E,1,Pays!D:D,D246)","v":0},{"$f":"SUMIFS(Pays!G:G,Pays!E:E,2,Pays!D:D,D246)","v":0},{"$f":"SUMIFS(Pays!G:G,Pays!E:E,57,Pays!D:D,D246)","v":0},{"$f":"SUMIF(Pays!D:D,D246,Pays!G:G)","v":0},{"$f":"SUMIF(Pays!D:D,D246,Pays!G:G)/176","v":0},{"$f":"IF(M246=0,IF(ISNA(MATCH(D246,'اطلاعات افراد غیر حقوق بگیر'!A:A,0)),0,LOOKUP(D246,'اطلاعات افراد غیر حقوق بگیر'!A:A,'اطلاعات افراد غیر حقوق بگیر'!F:F)),IF(H246=31,Settings!$D$13,ROUND(M246,0)))","v":0},null,0,{"$f":"IF(ISNA(MATCH(D246,Master!D:D,0)),IF(ISNA(MATCH(D246,'اطلاعات افراد غیر حقوق بگیر'!A:A,0)),0,LOOKUP(D246,'اطلاعات افراد غیر حقوق بگیر'!A:A,'اطلاعات افراد غیر حقوق بگیر'!G:G)),LOOKUP(D246,Master!D:D,Master!J:J))","v":0},{"$error":"#N/A"},0,0,{"$f":"IF(O246>#REF!,\"اخطار ساعت اضافه کار از حداکثر بیشتر است\",\" \")","v":{"$error":"#REF!"}},{"$f":"IF(O246>#REF!,1,0)","v":{"$error":"#REF!"}}]
[244,{"$f":"IF(D247=0,\"\",Settings!$D$6)","v":""},{"$f":"IF(D247=0,\"\",LOOKUP(B247,'Rigion Code'!A:A,'Rigion Code'!B:B))","v":""},null,{"$f":"IF(D247=0,\" \",IF(ISNA(MATCH(D247,Personnel!A:A,0)),IF(ISNA(MATCH(D247,'اطلاعات افراد غیر حقوق بگیر'!A:A,0)),\"وجود ندارد\",LOOKUP(Edit!D247,'اطلاعات افراد غیر حقوق بگیر'!A:A,'اطلاعات افراد غیر حقوق بگیر'!B:B)),LOOKUP(D247,Personnel!A:A,Personnel!C:C)))","v":" "},{"$f":"IF(D247=0,\" \",IF(ISNA(MATCH(D247,Personnel!A:A,0)),IF(ISNA(MATCH(D247,'اطلاعات افراد غیر حقوق بگیر'!A:A,0)),\"وجود ندارد\",LOOKUP(D247,'اطلاعات افراد غیر حقوق بگیر'!A:A,'اطلاعات افراد غیر حقوق بگیر'!C:C)),LOOKUP(D247,Personnel!A:A,Personnel!B:B)))","v":" "},{"$f":"IF(D247=0,0,IF(ISNA(MATCH(D247,Personnel!A:A,0)),IF(ISNA(MATCH(D247,'اطلاعات افراد غیر حقوق بگیر'!A:A,0)),\"وجود ندارد\",LOOKUP(D247,'اطلاعات افراد غیر حقوق بگیر'!A:A,'اطلاعات افراد غیر حقوق بگیر'!D:D)),LOOKUP(D247,Master!D:D,Master!CD:CD)))","v":0},{"$f":"IF(D247=0,\" \",IF(ISNA(MATCH(D247,Personnel!A:A,0)),IF(ISNA(MATCH(D247,'اطلاعات افراد غیر حقوق بگیر'!A:A,0)),\"وجود ندارد\",LOOKUP(D247,'اطلاعات افراد غیر حقوق بگیر'!A:A,'اطلاعات افراد غیر حقوق بگیر'!E:E)),LOOKUP(D247,Master!D:D,Master!AH:AH)))","v":" "},{"$f":"SUMIFS(Pays!G:G,Pays!E:E,1,Pays!D:D,D247)","v":0},{"$f":"SUMIFS(Pays!G:G,Pays!E:E,2,Pays!D:D,D247)","v":0},{"$f":"SUMIFS(Pays!G:G,Pays!E:E,57,Pays!D:D,D247)","v":0},{"$f":"SUMIF(Pays!D:D,D247,Pays!G:G)","v":0},{"$f":"SUMIF(Pays!D:D,D247,Pays!G:G)/176","v":0},{"$f":"IF(M247=0,IF(ISNA(MATCH(D247,'اطلاعات افراد غیر حقوق بگیر'!A:A,0)),0,LOOKUP(D247,'اطلاعات افراد غیر حقوق بگیر'!A:A,'اطلاعات افراد غیر حقوق بگیر'!F:F)),IF(H247=31,Settings!$D$13,ROUND(M247,0)))","v":0},null,0,{"$f":"IF(ISNA(MATCH(D247,Master!D:D,0)),IF(ISNA(MATCH(D247,'اطلاعات افراد غیر حقوق بگیر'!A:A,0)),0,LOOKUP(D247,'اطلاعات افراد غیر حقوق بگیر'!A:A,'اطلاعات افراد غیر حقوق بگیر'!G:G)),LOOKUP(D247,Master!D:D,Master!J:J))","v":0},{"$error":"#N/A"},0,0,{"$f":"IF(O247>#REF!,\"اخطار ساعت اضافه کار از حداکثر بیشتر است\",\" \")","v":{"$error":"#REF!"}},{"$f":"IF(O247>#REF!,1,0)","v":{"$error":"#REF!"}}]
[245,{"$f":"IF(D248=0,\"\",Settings!$D$6)","v":""},{"$f":"IF(D248=0,\"\",LOOKUP(B248,'Rigion Code'!A:A,'Rigion Code'!B:B))","v":""},null,{"$f":"IF(D248=0,\" \",IF(ISNA(MATCH(D248,Personnel!A:A,0)),IF(ISNA(MATCH(D248,'اطلاعات افراد غیر حقوق بگیر'!A:A,0)),\"وجود ندارد\",LOOKUP(Edit!D248,'اطلاعات افراد غیر حقوق بگیر'!A:A,'اطلاعات افراد غیر حقوق بگیر'!B:B)),LOOKUP(D248,Personnel!A:A,Personnel!C:C)))","v":" "},{"$f":"IF(D248=0,\" \",IF(ISNA(MATCH(D248,Personnel!A:A,0)),IF(ISNA(MATCH(D248,'اطلاعات افراد غیر حقوق بگیر'!A:A,0)),\"وجود ندارد\",LOOKUP(D248,'اطلاعات افراد غیر حقوق بگیر'!A:A,'اطلاعات افراد غیر حقوق بگیر'!C:C)),LOOKUP(D248,Personnel!A:A,Personnel!B:B)))","v":" "},{"$f":"IF(D248=0,0,IF(ISNA(MATCH(D248,Personnel!A:A,0)),IF(ISNA(MATCH(D248,'اطلاعات افراد غیر حقوق بگیر'!A:A,0)),\"وجود ندارد\",LOOKUP(D248,'اطلاعات افراد غیر حقوق بگیر'!A:A,'اطلاعات افراد غیر حقوق بگیر'!D:D)),LOOKUP(D248,Master!D:D,Master!CD:CD)))","v":0},{"$f":"IF(D248=0,\" \",IF(ISNA(MATCH(D248,Personnel!A:A,0)),IF(ISNA(MATCH(D248,'اطلاعات افراد غیر حقوق بگیر'!A:A,0)),\"وجود ندارد\",LOOKUP(D248,'اطلاعات افراد غیر حقوق بگیر'!A:A,'اطلاعات افراد غیر حقوق بگیر'!E:E)),LOOKUP(D248,Master!D:D,Master!AH:AH)))","v":" "},{"$f":"SUMIFS(Pays!G:G,Pays!E:E,1,Pays!D:D,D248)","v":0},{"$f":"SUMIFS(Pays!G:G,Pays!E:E,2,Pays!D:D,D248)","v":0},{"$f":"SUMIFS(Pays!G:G,Pays!E:E,57,Pays!D:D,D248)","v":0},{"$f":"SUMIF(Pays!D:D,D248,Pays!G:G)","v":0},{"$f":"SUMIF(Pays!D:D,D248,Pays!G:G)/176","v":0},{"$f":"IF(M248=0,IF(ISNA(MATCH(D248,'اطلاعات افراد غیر حقوق بگیر'!A:A,0)),0,LOOKUP(D248,'اطلاعات افراد غیر حقوق بگیر'!A:A,'اطلاعات افراد غیر حقوق بگیر'!F:F)),IF(H248=31,Settings!$D$13,ROUND(M248,0)))","v":0},null,0,{"$f":"IF(ISNA(MATCH(D248,Master!D:D,0)),IF(ISNA(MATCH(D248,'اطلاعات افراد غیر حقوق بگیر'!A:A,0)),0,LOOKUP(D248,'اطلاعات افراد غیر حقوق بگیر'!A:A,'اطلاعات افراد غیر حقوق بگیر'!G:G)),LOOKUP(D248,Master!D:D,Master!J:J))","v":0},{"$error":"#N/A"},0,0,{"$f":"IF(O248>#REF!,\"اخطار ساعت اضافه کار از حداکثر بیشتر است\",\" \")","v":{"$error":"#REF!"}},{"$f":"IF(O248>#REF!,1,0)","v":{"$error":"#REF!"}}]
[246,{"$f":"IF(D249=0,\"\",Settings!$D$6)","v":""},{"$f":"IF(D249=0,\"\",LOOKUP(B249,'Rigion Code'!A:A,'Rigion Code'!B:B))","v":""},null,{"$f":"IF(D249=0,\" \",IF(ISNA(MATCH(D249,Personnel!A:A,0)),IF(ISNA(MATCH(D249,'اطلاعات افراد غیر حقوق بگیر'!A:A,0)),\"وجود ندارد\",LOOKUP(Edit!D249,'اطلاعات افراد غیر حقوق بگیر'!A:A,'اطلاعات افراد غیر حقوق بگیر'!B:B)),LOOKUP(D249,Personnel!A:A,Personnel!C:C)))","v":" "},{"$f":"IF(D249=0,\" \",IF(ISNA(MATCH(D249,Personnel!A:A,0)),IF(ISNA(MATCH(D249,'اطلاعات افراد غیر حقوق بگیر'!A:A,0)),\"وجود ندارد\",LOOKUP(D249,'اطلاعات افراد غیر حقوق بگیر'!A:A,'اطلاعات افراد غیر حقوق بگیر'!C:C)),LOOKUP(D249,Personnel!A:A,Personnel!B:B)))","v":" "},{"$f":"IF(D249=0,0,IF(ISNA(MATCH(D249,Personnel!A:A,0)),IF(ISNA(MATCH(D249,'اطلاعات افراد غیر حقوق بگیر'!A:A,0)),\"وجود ندارد\",LOOKUP(D249,'اطلاعات افراد غیر حقوق بگیر'!A:A,'اطلاعات افراد غیر حقوق بگیر'!D:D)),LOOKUP(D249,Master!D:D,Master!CD:CD)))","v":0},{"$f":"IF(D249=0,\" \",IF(ISNA(MATCH(D249,Personnel!A:A,0)),IF(ISNA(MATCH(D249,'اطلاعات افراد غیر حقوق بگیر'!A:A,0)),\"وجود ندارد\",LOOKUP(D249,'اطلاعات افراد غیر حقوق بگیر'!A:A,'اطلاعات افراد غیر حقوق بگیر'!E:E)),LOOKUP(D249,Master!D:D,Master!AH:AH)))","v":" "},{"$f":"SUMIFS(Pays!G:G,Pays!E:E,1,Pays!D:D,D249)","v":0},{"$f":"SUMIFS(Pays!G:G,Pays!E:E,2,Pays!D:D,D249)","v":0},{"$f":"SUMIFS(Pays!G:G,Pays!E:E,57,Pays!D:D,D249)","v":0},{"$f":"SUMIF(Pays!D:D,D249,Pays!G:G)","v":0},{"$f":"SUMIF(Pays!D:D,D249,Pays!G:G)/176","v":0},{"$f":"IF(M249=0,IF(ISNA(MATCH(D249,'اطلاعات افراد غیر حقوق بگیر'!A:A,0)),0,LOOKUP(D249,'اطلاعات افراد غیر حقوق بگیر'!A:A,'اطلاعات افراد غیر حقوق بگیر'!F:F)),IF(H249=31,Settings!$D$13,ROUND(M249,0)))","v":0},null,0,{"$f":"IF(ISNA(MATCH(D249,Master!D:D,0)),IF(ISNA(MATCH(D249,'اطلاعات افراد غیر حقوق بگیر'!A:A,0)),0,LOOKUP(D249,'اطلاعات افراد غیر حقوق بگیر'!A:A,'اطلاعات افراد غیر حقوق بگیر'!G:G)),LOOKUP(D249,Master!D:D,Master!J:J))","v":0},{"$error":"#N/A"},0,0,{"$f":"IF(O249>#REF!,\"اخطار ساعت اضافه کار از حداکثر بیشتر است\",\" \")","v":{"$error":"#REF!"}},{"$f":"IF(O249>#REF!,1,0)","v":{"$error":"#REF!"}}]
[247,{"$f":"IF(D250=0,\"\",Settings!$D$6)","v":""},{"$f":"IF(D250=0,\"\",LOOKUP(B250,'Rigion Code'!A:A,'Rigion Code'!B:B))","v":""},null,{"$f":"IF(D250=0,\" \",IF(ISNA(MATCH(D250,Personnel!A:A,0)),IF(ISNA(MATCH(D250,'اطلاعات افراد غیر حقوق بگیر'!A:A,0)),\"وجود ندارد\",LOOKUP(Edit!D250,'اطلاعات افراد غیر حقوق بگیر'!A:A,'اطلاعات افراد غیر حقوق بگیر'!B:B)),LOOKUP(D250,Personnel!A:A,Personnel!C:C)))","v":" "},{"$f":"IF(D250=0,\" \",IF(ISNA(MATCH(D250,Personnel!A:A,0)),IF(ISNA(MATCH(D250,'اطلاعات افراد غیر حقوق بگیر'!A:A,0)),\"وجود ندارد\",LOOKUP(D250,'اطلاعات افراد غیر حقوق بگیر'!A:A,'اطلاعات افراد غیر حقوق بگیر'!C:C)),LOOKUP(D250,Personnel!A:A,Personnel!B:B)))","v":" "},{"$f":"IF(D250=0,0,IF(ISNA(MATCH(D250,Personnel!A:A,0)),IF(ISNA(MATCH(D250,'اطلاعات افراد غیر حقوق بگیر'!A:A,0)),\"وجود ندارد\",LOOKUP(D250,'اطلاعات افراد غیر حقوق بگیر'!A:A,'اطلاعات افراد غیر حقوق بگیر'!D:D)),LOOKUP(D250,Master!D:D,Master!CD:CD)))","v":0},{"$f":"IF(D250=0,\" \",IF(ISNA(MATCH(D250,Personnel!A:A,0)),IF(ISNA(MATCH(D250,'اطلاعات افراد غیر حقوق بگیر'!A:A,0)),\"وجود ندارد\",LOOKUP(D250,'اطلاعات افراد غیر حقوق بگیر'!A:A,'اطلاعات افراد غیر حقوق بگیر'!E:E)),LOOKUP(D250,Master!D:D,Master!AH:AH)))","v":" "},{"$f":"SUMIFS(Pays!G:G,Pays!E:E,1,Pays!D:D,D250)","v":0},{"$f":"SUMIFS(Pays!G:G,Pays!E:E,2,Pays!D:D,D250)","v":0},{"$f":"SUMIFS(Pays!G:G,Pays!E:E,57,Pays!D:D,D250)","v":0},{"$f":"SUMIF(Pays!D:D,D250,Pays!G:G)","v":0},{"$f":"SUMIF(Pays!D:D,D250,Pays!G:G)/176","v":0},{"$f":"IF(M250=0,IF(ISNA(MATCH(D250,'اطلاعات افراد غیر حقوق بگیر'!A:A,0)),0,LOOKUP(D250,'اطلاعات افراد غیر حقوق بگیر'!A:A,'اطلاعات افراد غیر حقوق بگیر'!F:F)),IF(H250=31,Settings!$D$13,ROUND(M250,0)))","v":0},null,0,{"$f":"IF(ISNA(MATCH(D250,Master!D:D,0)),IF(ISNA(MATCH(D250,'اطلاعات افراد غیر حقوق بگیر'!A:A,0)),0,LOOKUP(D250,'اطلاعات افراد غیر حقوق بگیر'!A:A,'اطلاعات افراد غیر حقوق بگیر'!G:G)),LOOKUP(D250,Master!D:D,Master!J:J))","v":0},{"$error":"#N/A"},0,0,{"$f":"IF(O250>#REF!,\"اخطار ساعت اضافه کار از حداکثر بیشتر است\",\" \")","v":{"$error":"#REF!"}},{"$f":"IF(O250>#REF!,1,0)","v":{"$error":"#REF!"}}]
[248,{"$f":"IF(D251=0,\"\",Settings!$D$6)","v":""},{"$f":"IF(D251=0,\"\",LOOKUP(B251,'Rigion Code'!A:A,'Rigion Code'!B:B))","v":""},null,{"$f":"IF(D251=0,\" \",IF(ISNA(MATCH(D251,Personnel!A:A,0)),IF(ISNA(MATCH(D251,'اطلاعات افراد غیر حقوق بگیر'!A:A,0)),\"وجود ندارد\",LOOKUP(Edit!D251,'اطلاعات افراد غیر حقوق بگیر'!A:A,'اطلاعات افراد غیر حقوق بگیر'!B:B)),LOOKUP(D251,Personnel!A:A,Personnel!C:C)))","v":" "},{"$f":"IF(D251=0,\" \",IF(ISNA(MATCH(D251,Personnel!A:A,0)),IF(ISNA(MATCH(D251,'اطلاعات افراد غیر حقوق بگیر'!A:A,0)),\"وجود ندارد\",LOOKUP(D251,'اطلاعات افراد غیر حقوق بگیر'!A:A,'اطلاعات افراد غیر حقوق بگیر'!C:C)),LOOKUP(D251,Personnel!A:A,Personnel!B:B)))","v":" "},{"$f":"IF(D251=0,0,IF(ISNA(MATCH(D251,Personnel!A:A,0)),IF(ISNA(MATCH(D251,'اطلاعات افراد غیر حقوق بگیر'!A:A,0)),\"وجود ندارد\",LOOKUP(D251,'اطلاعات افراد غیر حقوق بگیر'!A:A,'اطلاعات افراد غیر حقوق بگیر'!D:D)),LOOKUP(D251,Master!D:D,Master!CD:CD)))","v":0},{"$f":"IF(D251=0,\" \",IF(ISNA(MATCH(D251,Personnel!A:A,0)),IF(ISNA(MATCH(D251,'اطلاعات افراد غیر حقوق بگیر'!A:A,0)),\"وجود ندارد\",LOOKUP(D251,'اطلاعات افراد غیر حقوق بگیر'!A:A,'اطلاعات افراد غیر حقوق بگیر'!E:E)),LOOKUP(D251,Master!D:D,Master!AH:AH)))","v":" "},{"$f":"SUMIFS(Pays!G:G,Pays!E:E,1,Pays!D:D,D251)","v":0},{"$f":"SUMIFS(Pays!G:G,Pays!E:E,2,Pays!D:D,D251)","v":0},{"$f":"SUMIFS(Pays!G:G,Pays!E:E,57,Pays!D:D,D251)","v":0},{"$f":"SUMIF(Pays!D:D,D251,Pays!G:G)","v":0},{"$f":"SUMIF(Pays!D:D,D251,Pays!G:G)/176","v":0},{"$f":"IF(M251=0,IF(ISNA(MATCH(D251,'اطلاعات افراد غیر حقوق بگیر'!A:A,0)),0,LOOKUP(D251,'اطلاعات افراد غیر حقوق بگیر'!A:A,'اطلاعات افراد غیر حقوق بگیر'!F:F)),IF(H251=31,Settings!$D$13,ROUND(M251,0)))","v":0},null,0,{"$f":"IF(ISNA(MATCH(D251,Master!D:D,0)),IF(ISNA(MATCH(D251,'اطلاعات افراد غیر حقوق بگیر'!A:A,0)),0,LOOKUP(D251,'اطلاعات افراد غیر حقوق بگیر'!A:A,'اطلاعات افراد غیر حقوق بگیر'!G:G)),LOOKUP(D251,Master!D:D,Master!J:J))","v":0},{"$error":"#N/A"},0,0,{"$f":"IF(O251>#REF!,\"اخطار ساعت اضافه کار از حداکثر بیشتر است\",\" \")","v":{"$error":"#REF!"}},{"$f":"IF(O251>#REF!,1,0)","v":{"$error":"#REF!"}}]
[249,{"$f":"IF(D252=0,\"\",Settings!$D$6)","v":""},{"$f":"IF(D252=0,\"\",LOOKUP(B252,'Rigion Code'!A:A,'Rigion Code'!B:B))","v":""},null,{"$f":"IF(D252=0,\" \",IF(ISNA(MATCH(D252,Personnel!A:A,0)),IF(ISNA(MATCH(D252,'اطلاعات افراد غیر حقوق بگیر'!A:A,0)),\"وجود ندارد\",LOOKUP(Edit!D252,'اطلاعات افراد غیر حقوق بگیر'!A:A,'اطلاعات افراد غیر حقوق بگیر'!B:B)),LOOKUP(D252,Personnel!A:A,Personnel!C:C)))","v":" "},{"$f":"IF(D252=0,\" \",IF(ISNA(MATCH(D252,Personnel!A:A,0)),IF(ISNA(MATCH(D252,'اطلاعات افراد غیر حقوق بگیر'!A:A,0)),\"وجود ندارد\",LOOKUP(D252,'اطلاعات افراد غیر حقوق بگیر'!A:A,'اطلاعات افراد غیر حقوق بگیر'!C:C)),LOOKUP(D252,Personnel!A:A,Personnel!B:B)))","v":" "},{"$f":"IF(D252=0,0,IF(ISNA(MATCH(D252,Personnel!A:A,0)),IF(ISNA(MATCH(D252,'اطلاعات افراد غیر حقوق بگیر'!A:A,0)),\"وجود ندارد\",LOOKUP(D252,'اطلاعات افراد غیر حقوق بگیر'!A:A,'اطلاعات افراد غیر حقوق بگیر'!D:D)),LOOKUP(D252,Master!D:D,Master!CD:CD)))","v":0},{"$f":"IF(D252=0,\" \",IF(ISNA(MATCH(D252,Personnel!A:A,0)),IF(ISNA(MATCH(D252,'اطلاعات افراد غیر حقوق بگیر'!A:A,0)),\"وجود ندارد\",LOOKUP(D252,'اطلاعات افراد غیر حقوق بگیر'!A:A,'اطلاعات افراد غیر حقوق بگیر'!E:E)),LOOKUP(D252,Master!D:D,Master!AH:AH)))","v":" "},{"$f":"SUMIFS(Pays!G:G,Pays!E:E,1,Pays!D:D,D252)","v":0},{"$f":"SUMIFS(Pays!G:G,Pays!E:E,2,Pays!D:D,D252)","v":0},{"$f":"SUMIFS(Pays!G:G,Pays!E:E,57,Pays!D:D,D252)","v":0},{"$f":"SUMIF(Pays!D:D,D252,Pays!G:G)","v":0},{"$f":"SUMIF(Pays!D:D,D252,Pays!G:G)/176","v":0},{"$f":"IF(M252=0,IF(ISNA(MATCH(D252,'اطلاعات افراد غیر حقوق بگیر'!A:A,0)),0,LOOKUP(D252,'اطلاعات افراد غیر حقوق بگیر'!A:A,'اطلاعات افراد غیر حقوق بگیر'!F:F)),IF(H252=31,Settings!$D$13,ROUND(M252,0)))","v":0},null,0,{"$f":"IF(ISNA(MATCH(D252,Master!D:D,0)),IF(ISNA(MATCH(D252,'اطلاعات افراد غیر حقوق بگیر'!A:A,0)),0,LOOKUP(D252,'اطلاعات افراد غیر حقوق بگیر'!A:A,'اطلاعات افراد غیر حقوق بگیر'!G:G)),LOOKUP(D252,Master!D:D,Master!J:J))","v":0},{"$error":"#N/A"},0,0,{"$f":"IF(O252>#REF!,\"اخطار ساعت اضافه کار از حداکثر بیشتر است\",\" \")","v":{"$error":"#REF!"}},{"$f":"IF(O252>#REF!,1,0)","v":{"$error":"#REF!"}}]
[250,{"$f":"IF(D253=0,\"\",Settings!$D$6)","v":""},{"$f":"IF(D253=0,\"\",LOOKUP(B253,'Rigion Code'!A:A,'Rigion Code'!B:B))","v":""},null,{"$f":"IF(D253=0,\" \",IF(ISNA(MATCH(D253,Personnel!A:A,0)),IF(ISNA(MATCH(D253,'اطلاعات افراد غیر حقوق بگیر'!A:A,0)),\"وجود ندارد\",LOOKUP(Edit!D253,'اطلاعات افراد غیر حقوق بگیر'!A:A,'اطلاعات افراد غیر حقوق بگیر'!B:B)),LOOKUP(D253,Personnel!A:A,Personnel!C:C)))","v":" "},{"$f":"IF(D253=0,\" \",IF(ISNA(MATCH(D253,Personnel!A:A,0)),IF(ISNA(MATCH(D253,'اطلاعات افراد غیر حقوق بگیر'!A:A,0)),\"وجود ندارد\",LOOKUP(D253,'اطلاعات افراد غیر حقوق بگیر'!A:A,'اطلاعات افراد غیر حقوق بگیر'!C:C)),LOOKUP(D253,Personnel!A:A,Personnel!B:B)))","v":" "},{"$f":"IF(D253=0,0,IF(ISNA(MATCH(D253,Personnel!A:A,0)),IF(ISNA(MATCH(D253,'اطلاعات افراد غیر حقوق بگیر'!A:A,0)),\"وجود ندارد\",LOOKUP(D253,'اطلاعات افراد غیر حقوق بگیر'!A:A,'اطلاعات افراد غیر حقوق بگیر'!D:D)),LOOKUP(D253,Master!D:D,Master!CD:CD)))","v":0},{"$f":"IF(D253=0,\" \",IF(ISNA(MATCH(D253,Personnel!A:A,0)),IF(ISNA(MATCH(D253,'اطلاعات افراد غیر حقوق بگیر'!A:A,0)),\"وجود ندارد\",LOOKUP(D253,'اطلاعات افراد غیر حقوق بگیر'!A:A,'اطلاعات افراد غیر حقوق بگیر'!E:E)),LOOKUP(D253,Master!D:D,Master!AH:AH)))","v":" "},{"$f":"SUMIFS(Pays!G:G,Pays!E:E,1,Pays!D:D,D253)","v":0},{"$f":"SUMIFS(Pays!G:G,Pays!E:E,2,Pays!D:D,D253)","v":0},{"$f":"SUMIFS(Pays!G:G,Pays!E:E,57,Pays!D:D,D253)","v":0},{"$f":"SUMIF(Pays!D:D,D253,Pays!G:G)","v":0},{"$f":"SUMIF(Pays!D:D,D253,Pays!G:G)/176","v":0},{"$f":"IF(M253=0,IF(ISNA(MATCH(D253,'اطلاعات افراد غیر حقوق بگیر'!A:A,0)),0,LOOKUP(D253,'اطلاعات افراد غیر حقوق بگیر'!A:A,'اطلاعات افراد غیر حقوق بگیر'!F:F)),IF(H253=31,Settings!$D$13,ROUND(M253,0)))","v":0},null,0,{"$f":"IF(ISNA(MATCH(D253,Master!D:D,0)),IF(ISNA(MATCH(D253,'اطلاعات افراد غیر حقوق بگیر'!A:A,0)),0,LOOKUP(D253,'اطلاعات افراد غیر حقوق بگیر'!A:A,'اطلاعات افراد غیر حقوق بگیر'!G:G)),LOOKUP(D253,Master!D:D,Master!J:J))","v":0},{"$error":"#N/A"},0,0,{"$f":"IF(O253>#REF!,\"اخطار ساعت اضافه کار از حداکثر بیشتر است\",\" \")","v":{"$error":"#REF!"}},{"$f":"IF(O253>#REF!,1,0)","v":{"$error":"#REF!"}}]
[251,{"$f":"IF(D254=0,\"\",Settings!$D$6)","v":""},{"$f":"IF(D254=0,\"\",LOOKUP(B254,'Rigion Code'!A:A,'Rigion Code'!B:B))","v":""},null,{"$f":"IF(D254=0,\" \",IF(ISNA(MATCH(D254,Personnel!A:A,0)),IF(ISNA(MATCH(D254,'اطلاعات افراد غیر حقوق بگیر'!A:A,0)),\"وجود ندارد\",LOOKUP(Edit!D254,'اطلاعات افراد غیر حقوق بگیر'!A:A,'اطلاعات افراد غیر حقوق بگیر'!B:B)),LOOKUP(D254,Personnel!A:A,Personnel!C:C)))","v":" "},{"$f":"IF(D254=0,\" \",IF(ISNA(MATCH(D254,Personnel!A:A,0)),IF(ISNA(MATCH(D254,'اطلاعات افراد غیر حقوق بگیر'!A:A,0)),\"وجود ندارد\",LOOKUP(D254,'اطلاعات افراد غیر حقوق بگیر'!A:A,'اطلاعات افراد غیر حقوق بگیر'!C:C)),LOOKUP(D254,Personnel!A:A,Personnel!B:B)))","v":" "},{"$f":"IF(D254=0,0,IF(ISNA(MATCH(D254,Personnel!A:A,0)),IF(ISNA(MATCH(D254,'اطلاعات افراد غیر حقوق بگیر'!A:A,0)),\"وجود ندارد\",LOOKUP(D254,'اطلاعات افراد غیر حقوق بگیر'!A:A,'اطلاعات افراد غیر حقوق بگیر'!D:D)),LOOKUP(D254,Master!D:D,Master!CD:CD)))","v":0},{"$f":"IF(D254=0,\" \",IF(ISNA(MATCH(D254,Personnel!A:A,0)),IF(ISNA(MATCH(D254,'اطلاعات افراد غیر حقوق بگیر'!A:A,0)),\"وجود ندارد\",LOOKUP(D254,'اطلاعات افراد غیر حقوق بگیر'!A:A,'اطلاعات افراد غیر حقوق بگیر'!E:E)),LOOKUP(D254,Master!D:D,Master!AH:AH)))","v":" "},{"$f":"SUMIFS(Pays!G:G,Pays!E:E,1,Pays!D:D,D254)","v":0},{"$f":"SUMIFS(Pays!G:G,Pays!E:E,2,Pays!D:D,D254)","v":0},{"$f":"SUMIFS(Pays!G:G,Pays!E:E,57,Pays!D:D,D254)","v":0},{"$f":"SUMIF(Pays!D:D,D254,Pays!G:G)","v":0},{"$f":"SUMIF(Pays!D:D,D254,Pays!G:G)/176","v":0},{"$f":"IF(M254=0,IF(ISNA(MATCH(D254,'اطلاعات افراد غیر حقوق بگیر'!A:A,0)),0,LOOKUP(D254,'اطلاعات افراد غیر حقوق بگیر'!A:A,'اطلاعات افراد غیر حقوق بگیر'!F:F)),IF(H254=31,Settings!$D$13,ROUND(M254,0)))","v":0},null,0,{"$f":"IF(ISNA(MATCH(D254,Master!D:D,0)),IF(ISNA(MATCH(D254,'اطلاعات افراد غیر حقوق بگیر'!A:A,0)),0,LOOKUP(D254,'اطلاعات افراد غیر حقوق بگیر'!A:A,'اطلاعات افراد غیر حقوق بگیر'!G:G)),LOOKUP(D254,Master!D:D,Master!J:J))","v":0},{"$error":"#N/A"},0,0,{"$f":"IF(O254>#REF!,\"اخطار ساعت اضافه کار از حداکثر بیشتر است\",\" \")","v":{"$error":"#REF!"}},{"$f":"IF(O254>#REF!,1,0)","v":{"$error":"#REF!"}}]
[252,{"$f":"IF(D255=0,\"\",Settings!$D$6)","v":""},{"$f":"IF(D255=0,\"\",LOOKUP(B255,'Rigion Code'!A:A,'Rigion Code'!B:B))","v":""},null,{"$f":"IF(D255=0,\" \",IF(ISNA(MATCH(D255,Personnel!A:A,0)),IF(ISNA(MATCH(D255,'اطلاعات افراد غیر حقوق بگیر'!A:A,0)),\"وجود ندارد\",LOOKUP(Edit!D255,'اطلاعات افراد غیر حقوق بگیر'!A:A,'اطلاعات افراد غیر حقوق بگیر'!B:B)),LOOKUP(D255,Personnel!A:A,Personnel!C:C)))","v":" "},{"$f":"IF(D255=0,\" \",IF(ISNA(MATCH(D255,Personnel!A:A,0)),IF(ISNA(MATCH(D255,'اطلاعات افراد غیر حقوق بگیر'!A:A,0)),\"وجود ندارد\",LOOKUP(D255,'اطلاعات افراد غیر حقوق بگیر'!A:A,'اطلاعات افراد غیر حقوق بگیر'!C:C)),LOOKUP(D255,Personnel!A:A,Personnel!B:B)))","v":" "},{"$f":"IF(D255=0,0,IF(ISNA(MATCH(D255,Personnel!A:A,0)),IF(ISNA(MATCH(D255,'اطلاعات افراد غیر حقوق بگیر'!A:A,0)),\"وجود ندارد\",LOOKUP(D255,'اطلاعات افراد غیر حقوق بگیر'!A:A,'اطلاعات افراد غیر حقوق بگیر'!D:D)),LOOKUP(D255,Master!D:D,Master!CD:CD)))","v":0},{"$f":"IF(D255=0,\" \",IF(ISNA(MATCH(D255,Personnel!A:A,0)),IF(ISNA(MATCH(D255,'اطلاعات افراد غیر حقوق بگیر'!A:A,0)),\"وجود ندارد\",LOOKUP(D255,'اطلاعات افراد غیر حقوق بگیر'!A:A,'اطلاعات افراد غیر حقوق بگیر'!E:E)),LOOKUP(D255,Master!D:D,Master!AH:AH)))","v":" "},{"$f":"SUMIFS(Pays!G:G,Pays!E:E,1,Pays!D:D,D255)","v":0},{"$f":"SUMIFS(Pays!G:G,Pays!E:E,2,Pays!D:D,D255)","v":0},{"$f":"SUMIFS(Pays!G:G,Pays!E:E,57,Pays!D:D,D255)","v":0},{"$f":"SUMIF(Pays!D:D,D255,Pays!G:G)","v":0},{"$f":"SUMIF(Pays!D:D,D255,Pays!G:G)/176","v":0},{"$f":"IF(M255=0,IF(ISNA(MATCH(D255,'اطلاعات افراد غیر حقوق بگیر'!A:A,0)),0,LOOKUP(D255,'اطلاعات افراد غیر حقوق بگیر'!A:A,'اطلاعات افراد غیر حقوق بگیر'!F:F)),IF(H255=31,Settings!$D$13,ROUND(M255,0)))","v":0},null,0,{"$f":"IF(ISNA(MATCH(D255,Master!D:D,0)),IF(ISNA(MATCH(D255,'اطلاعات افراد غیر حقوق بگیر'!A:A,0)),0,LOOKUP(D255,'اطلاعات افراد غیر حقوق بگیر'!A:A,'اطلاعات افراد غیر حقوق بگیر'!G:G)),LOOKUP(D255,Master!D:D,Master!J:J))","v":0},{"$error":"#N/A"},0,0,{"$f":"IF(O255>#REF!,\"اخطار ساعت اضافه کار از حداکثر بیشتر است\",\" \")","v":{"$error":"#REF!"}},{"$f":"IF(O255>#REF!,1,0)","v":{"$error":"#REF!"}}]
[253,{"$f":"IF(D256=0,\"\",Settings!$D$6)","v":""},{"$f":"IF(D256=0,\"\",LOOKUP(B256,'Rigion Code'!A:A,'Rigion Code'!B:B))","v":""},null,{"$f":"IF(D256=0,\" \",IF(ISNA(MATCH(D256,Personnel!A:A,0)),IF(ISNA(MATCH(D256,'اطلاعات افراد غیر حقوق بگیر'!A:A,0)),\"وجود ندارد\",LOOKUP(Edit!D256,'اطلاعات افراد غیر حقوق بگیر'!A:A,'اطلاعات افراد غیر حقوق بگیر'!B:B)),LOOKUP(D256,Personnel!A:A,Personnel!C:C)))","v":" "},{"$f":"IF(D256=0,\" \",IF(ISNA(MATCH(D256,Personnel!A:A,0)),IF(ISNA(MATCH(D256,'اطلاعات افراد غیر حقوق بگیر'!A:A,0)),\"وجود ندارد\",LOOKUP(D256,'اطلاعات افراد غیر حقوق بگیر'!A:A,'اطلاعات افراد غیر حقوق بگیر'!C:C)),LOOKUP(D256,Personnel!A:A,Personnel!B:B)))","v":" "},{"$f":"IF(D256=0,0,IF(ISNA(MATCH(D256,Personnel!A:A,0)),IF(ISNA(MATCH(D256,'اطلاعات افراد غیر حقوق بگیر'!A:A,0)),\"وجود ندارد\",LOOKUP(D256,'اطلاعات افراد غیر حقوق بگیر'!A:A,'اطلاعات افراد غیر حقوق بگیر'!D:D)),LOOKUP(D256,Master!D:D,Master!CD:CD)))","v":0},{"$f":"IF(D256=0,\" \",IF(ISNA(MATCH(D256,Personnel!A:A,0)),IF(ISNA(MATCH(D256,'اطلاعات افراد غیر حقوق بگیر'!A:A,0)),\"وجود ندارد\",LOOKUP(D256,'اطلاعات افراد غیر حقوق بگیر'!A:A,'اطلاعات افراد غیر حقوق بگیر'!E:E)),LOOKUP(D256,Master!D:D,Master!AH:AH)))","v":" "},{"$f":"SUMIFS(Pays!G:G,Pays!E:E,1,Pays!D:D,D256)","v":0},{"$f":"SUMIFS(Pays!G:G,Pays!E:E,2,Pays!D:D,D256)","v":0},{"$f":"SUMIFS(Pays!G:G,Pays!E:E,57,Pays!D:D,D256)","v":0},{"$f":"SUMIF(Pays!D:D,D256,Pays!G:G)","v":0},{"$f":"SUMIF(Pays!D:D,D256,Pays!G:G)/176","v":0},{"$f":"IF(M256=0,IF(ISNA(MATCH(D256,'اطلاعات افراد غیر حقوق بگیر'!A:A,0)),0,LOOKUP(D256,'اطلاعات افراد غیر حقوق بگیر'!A:A,'اطلاعات افراد غیر حقوق بگیر'!F:F)),IF(H256=31,Settings!$D$13,ROUND(M256,0)))","v":0},null,0,{"$f":"IF(ISNA(MATCH(D256,Master!D:D,0)),IF(ISNA(MATCH(D256,'اطلاعات افراد غیر حقوق بگیر'!A:A,0)),0,LOOKUP(D256,'اطلاعات افراد غیر حقوق بگیر'!A:A,'اطلاعات افراد غیر حقوق بگیر'!G:G)),LOOKUP(D256,Master!D:D,Master!J:J))","v":0},{"$error":"#N/A"},0,0,{"$f":"IF(O256>#REF!,\"اخطار ساعت اضافه کار از حداکثر بیشتر است\",\" \")","v":{"$error":"#REF!"}},{"$f":"IF(O256>#REF!,1,0)","v":{"$error":"#REF!"}}]
[254,{"$f":"IF(D257=0,\"\",Settings!$D$6)","v":""},{"$f":"IF(D257=0,\"\",LOOKUP(B257,'Rigion Code'!A:A,'Rigion Code'!B:B))","v":""},null,{"$f":"IF(D257=0,\" \",IF(ISNA(MATCH(D257,Personnel!A:A,0)),IF(ISNA(MATCH(D257,'اطلاعات افراد غیر حقوق بگیر'!A:A,0)),\"وجود ندارد\",LOOKUP(Edit!D257,'اطلاعات افراد غیر حقوق بگیر'!A:A,'اطلاعات افراد غیر حقوق بگیر'!B:B)),LOOKUP(D257,Personnel!A:A,Personnel!C:C)))","v":" "},{"$f":"IF(D257=0,\" \",IF(ISNA(MATCH(D257,Personnel!A:A,0)),IF(ISNA(MATCH(D257,'اطلاعات افراد غیر حقوق بگیر'!A:A,0)),\"وجود ندارد\",LOOKUP(D257,'اطلاعات افراد غیر حقوق بگیر'!A:A,'اطلاعات افراد غیر حقوق بگیر'!C:C)),LOOKUP(D257,Personnel!A:A,Personnel!B:B)))","v":" "},{"$f":"IF(D257=0,0,IF(ISNA(MATCH(D257,Personnel!A:A,0)),IF(ISNA(MATCH(D257,'اطلاعات افراد غیر حقوق بگیر'!A:A,0)),\"وجود ندارد\",LOOKUP(D257,'اطلاعات افراد غیر حقوق بگیر'!A:A,'اطلاعات افراد غیر حقوق بگیر'!D:D)),LOOKUP(D257,Master!D:D,Master!CD:CD)))","v":0},{"$f":"IF(D257=0,\" \",IF(ISNA(MATCH(D257,Personnel!A:A,0)),IF(ISNA(MATCH(D257,'اطلاعات افراد غیر حقوق بگیر'!A:A,0)),\"وجود ندارد\",LOOKUP(D257,'اطلاعات افراد غیر حقوق بگیر'!A:A,'اطلاعات افراد غیر حقوق بگیر'!E:E)),LOOKUP(D257,Master!D:D,Master!AH:AH)))","v":" "},{"$f":"SUMIFS(Pays!G:G,Pays!E:E,1,Pays!D:D,D257)","v":0},{"$f":"SUMIFS(Pays!G:G,Pays!E:E,2,Pays!D:D,D257)","v":0},{"$f":"SUMIFS(Pays!G:G,Pays!E:E,57,Pays!D:D,D257)","v":0},{"$f":"SUMIF(Pays!D:D,D257,Pays!G:G)","v":0},{"$f":"SUMIF(Pays!D:D,D257,Pays!G:G)/176","v":0},{"$f":"IF(M257=0,IF(ISNA(MATCH(D257,'اطلاعات افراد غیر حقوق بگیر'!A:A,0)),0,LOOKUP(D257,'اطلاعات افراد غیر حقوق بگیر'!A:A,'اطلاعات افراد غیر حقوق بگیر'!F:F)),IF(H257=31,Settings!$D$13,ROUND(M257,0)))","v":0},null,0,{"$f":"IF(ISNA(MATCH(D257,Master!D:D,0)),IF(ISNA(MATCH(D257,'اطلاعات افراد غیر حقوق بگیر'!A:A,0)),0,LOOKUP(D257,'اطلاعات افراد غیر حقوق بگیر'!A:A,'اطلاعات افراد غیر حقوق بگیر'!G:G)),LOOKUP(D257,Master!D:D,Master!J:J))","v":0},{"$error":"#N/A"},0,0,{"$f":"IF(O257>#REF!,\"اخطار ساعت اضافه کار از حداکثر بیشتر است\",\" \")","v":{"$error":"#REF!"}},{"$f":"IF(O257>#REF!,1,0)","v":{"$error":"#REF!"}}]
[255,{"$f":"IF(D258=0,\"\",Settings!$D$6)","v":""},{"$f":"IF(D258=0,\"\",LOOKUP(B258,'Rigion Code'!A:A,'Rigion Code'!B:B))","v":""},null,{"$f":"IF(D258=0,\" \",IF(ISNA(MATCH(D258,Personnel!A:A,0)),IF(ISNA(MATCH(D258,'اطلاعات افراد غیر حقوق بگیر'!A:A,0)),\"وجود ندارد\",LOOKUP(Edit!D258,'اطلاعات افراد غیر حقوق بگیر'!A:A,'اطلاعات افراد غیر حقوق بگیر'!B:B)),LOOKUP(D258,Personnel!A:A,Personnel!C:C)))","v":" "},{"$f":"IF(D258=0,\" \",IF(ISNA(MATCH(D258,Personnel!A:A,0)),IF(ISNA(MATCH(D258,'اطلاعات افراد غیر حقوق بگیر'!A:A,0)),\"وجود ندارد\",LOOKUP(D258,'اطلاعات افراد غیر حقوق بگیر'!A:A,'اطلاعات افراد غیر حقوق بگیر'!C:C)),LOOKUP(D258,Personnel!A:A,Personnel!B:B)))","v":" "},{"$f":"IF(D258=0,0,IF(ISNA(MATCH(D258,Personnel!A:A,0)),IF(ISNA(MATCH(D258,'اطلاعات افراد غیر حقوق بگیر'!A:A,0)),\"وجود ندارد\",LOOKUP(D258,'اطلاعات افراد غیر حقوق بگیر'!A:A,'اطلاعات افراد غیر حقوق بگیر'!D:D)),LOOKUP(D258,Master!D:D,Master!CD:CD)))","v":0},{"$f":"IF(D258=0,\" \",IF(ISNA(MATCH(D258,Personnel!A:A,0)),IF(ISNA(MATCH(D258,'اطلاعات افراد غیر حقوق بگیر'!A:A,0)),\"وجود ندارد\",LOOKUP(D258,'اطلاعات افراد غیر حقوق بگیر'!A:A,'اطلاعات افراد غیر حقوق بگیر'!E:E)),LOOKUP(D258,Master!D:D,Master!AH:AH)))","v":" "},{"$f":"SUMIFS(Pays!G:G,Pays!E:E,1,Pays!D:D,D258)","v":0},{"$f":"SUMIFS(Pays!G:G,Pays!E:E,2,Pays!D:D,D258)","v":0},{"$f":"SUMIFS(Pays!G:G,Pays!E:E,57,Pays!D:D,D258)","v":0},{"$f":"SUMIF(Pays!D:D,D258,Pays!G:G)","v":0},{"$f":"SUMIF(Pays!D:D,D258,Pays!G:G)/176","v":0},{"$f":"IF(M258=0,IF(ISNA(MATCH(D258,'اطلاعات افراد غیر حقوق بگیر'!A:A,0)),0,LOOKUP(D258,'اطلاعات افراد غیر حقوق بگیر'!A:A,'اطلاعات افراد غیر حقوق بگیر'!F:F)),IF(H258=31,Settings!$D$13,ROUND(M258,0)))","v":0},null,0,{"$f":"IF(ISNA(MATCH(D258,Master!D:D,0)),IF(ISNA(MATCH(D258,'اطلاعات افراد غیر حقوق بگیر'!A:A,0)),0,LOOKUP(D258,'اطلاعات افراد غیر حقوق بگیر'!A:A,'اطلاعات افراد غیر حقوق بگیر'!G:G)),LOOKUP(D258,Master!D:D,Master!J:J))","v":0},{"$error":"#N/A"},0,0,{"$f":"IF(O258>#REF!,\"اخطار ساعت اضافه کار از حداکثر بیشتر است\",\" \")","v":{"$error":"#REF!"}},{"$f":"IF(O258>#REF!,1,0)","v":{"$error":"#REF!"}}]
[256,{"$f":"IF(D259=0,\"\",Settings!$D$6)","v":""},{"$f":"IF(D259=0,\"\",LOOKUP(B259,'Rigion Code'!A:A,'Rigion Code'!B:B))","v":""},null,{"$f":"IF(D259=0,\" \",IF(ISNA(MATCH(D259,Personnel!A:A,0)),IF(ISNA(MATCH(D259,'اطلاعات افراد غیر حقوق بگیر'!A:A,0)),\"وجود ندارد\",LOOKUP(Edit!D259,'اطلاعات افراد غیر حقوق بگیر'!A:A,'اطلاعات افراد غیر حقوق بگیر'!B:B)),LOOKUP(D259,Personnel!A:A,Personnel!C:C)))","v":" "},{"$f":"IF(D259=0,\" \",IF(ISNA(MATCH(D259,Personnel!A:A,0)),IF(ISNA(MATCH(D259,'اطلاعات افراد غیر حقوق بگیر'!A:A,0)),\"وجود ندارد\",LOOKUP(D259,'اطلاعات افراد غیر حقوق بگیر'!A:A,'اطلاعات افراد غیر حقوق بگیر'!C:C)),LOOKUP(D259,Personnel!A:A,Personnel!B:B)))","v":" "},{"$f":"IF(D259=0,0,IF(ISNA(MATCH(D259,Personnel!A:A,0)),IF(ISNA(MATCH(D259,'اطلاعات افراد غیر حقوق بگیر'!A:A,0)),\"وجود ندارد\",LOOKUP(D259,'اطلاعات افراد غیر حقوق بگیر'!A:A,'اطلاعات افراد غیر حقوق بگیر'!D:D)),LOOKUP(D259,Master!D:D,Master!CD:CD)))","v":0},{"$f":"IF(D259=0,\" \",IF(ISNA(MATCH(D259,Personnel!A:A,0)),IF(ISNA(MATCH(D259,'اطلاعات افراد غیر حقوق بگیر'!A:A,0)),\"وجود ندارد\",LOOKUP(D259,'اطلاعات افراد غیر حقوق بگیر'!A:A,'اطلاعات افراد غیر حقوق بگیر'!E:E)),LOOKUP(D259,Master!D:D,Master!AH:AH)))","v":" "},{"$f":"SUMIFS(Pays!G:G,Pays!E:E,1,Pays!D:D,D259)","v":0},{"$f":"SUMIFS(Pays!G:G,Pays!E:E,2,Pays!D:D,D259)","v":0},{"$f":"SUMIFS(Pays!G:G,Pays!E:E,57,Pays!D:D,D259)","v":0},{"$f":"SUMIF(Pays!D:D,D259,Pays!G:G)","v":0},{"$f":"SUMIF(Pays!D:D,D259,Pays!G:G)/176","v":0},{"$f":"IF(M259=0,IF(ISNA(MATCH(D259,'اطلاعات افراد غیر حقوق بگیر'!A:A,0)),0,LOOKUP(D259,'اطلاعات افراد غیر حقوق بگیر'!A:A,'اطلاعات افراد غیر حقوق بگیر'!F:F)),IF(H259=31,Settings!$D$13,ROUND(M259,0)))","v":0},null,0,{"$f":"IF(ISNA(MATCH(D259,Master!D:D,0)),IF(ISNA(MATCH(D259,'اطلاعات افراد غیر حقوق بگیر'!A:A,0)),0,LOOKUP(D259,'اطلاعات افراد غیر حقوق بگیر'!A:A,'اطلاعات افراد غیر حقوق بگیر'!G:G)),LOOKUP(D259,Master!D:D,Master!J:J))","v":0},{"$error":"#N/A"},0,0,{"$f":"IF(O259>#REF!,\"اخطار ساعت اضافه کار از حداکثر بیشتر است\",\" \")","v":{"$error":"#REF!"}},{"$f":"IF(O259>#REF!,1,0)","v":{"$error":"#REF!"}}]
[257,{"$f":"IF(D260=0,\"\",Settings!$D$6)","v":""},{"$f":"IF(D260=0,\"\",LOOKUP(B260,'Rigion Code'!A:A,'Rigion Code'!B:B))","v":""},null,{"$f":"IF(D260=0,\" \",IF(ISNA(MATCH(D260,Personnel!A:A,0)),IF(ISNA(MATCH(D260,'اطلاعات افراد غیر حقوق بگیر'!A:A,0)),\"وجود ندارد\",LOOKUP(Edit!D260,'اطلاعات افراد غیر حقوق بگیر'!A:A,'اطلاعات افراد غیر حقوق بگیر'!B:B)),LOOKUP(D260,Personnel!A:A,Personnel!C:C)))","v":" "},{"$f":"IF(D260=0,\" \",IF(ISNA(MATCH(D260,Personnel!A:A,0)),IF(ISNA(MATCH(D260,'اطلاعات افراد غیر حقوق بگیر'!A:A,0)),\"وجود ندارد\",LOOKUP(D260,'اطلاعات افراد غیر حقوق بگیر'!A:A,'اطلاعات افراد غیر حقوق بگیر'!C:C)),LOOKUP(D260,Personnel!A:A,Personnel!B:B)))","v":" "},{"$f":"IF(D260=0,0,IF(ISNA(MATCH(D260,Personnel!A:A,0)),IF(ISNA(MATCH(D260,'اطلاعات افراد غیر حقوق بگیر'!A:A,0)),\"وجود ندارد\",LOOKUP(D260,'اطلاعات افراد غیر حقوق بگیر'!A:A,'اطلاعات افراد غیر حقوق بگیر'!D:D)),LOOKUP(D260,Master!D:D,Master!CD:CD)))","v":0},{"$f":"IF(D260=0,\" \",IF(ISNA(MATCH(D260,Personnel!A:A,0)),IF(ISNA(MATCH(D260,'اطلاعات افراد غیر حقوق بگیر'!A:A,0)),\"وجود ندارد\",LOOKUP(D260,'اطلاعات افراد غیر حقوق بگیر'!A:A,'اطلاعات افراد غیر حقوق بگیر'!E:E)),LOOKUP(D260,Master!D:D,Master!AH:AH)))","v":" "},{"$f":"SUMIFS(Pays!G:G,Pays!E:E,1,Pays!D:D,D260)","v":0},{"$f":"SUMIFS(Pays!G:G,Pays!E:E,2,Pays!D:D,D260)","v":0},{"$f":"SUMIFS(Pays!G:G,Pays!E:E,57,Pays!D:D,D260)","v":0},{"$f":"SUMIF(Pays!D:D,D260,Pays!G:G)","v":0},{"$f":"SUMIF(Pays!D:D,D260,Pays!G:G)/176","v":0},{"$f":"IF(M260=0,IF(ISNA(MATCH(D260,'اطلاعات افراد غیر حقوق بگیر'!A:A,0)),0,LOOKUP(D260,'اطلاعات افراد غیر حقوق بگیر'!A:A,'اطلاعات افراد غیر حقوق بگیر'!F:F)),IF(H260=31,Settings!$D$13,ROUND(M260,0)))","v":0},null,{"$f":"N260*O260","v":0},{"$f":"IF(ISNA(MATCH(D260,Master!D:D,0)),IF(ISNA(MATCH(D260,'اطلاعات افراد غیر حقوق بگیر'!A:A,0)),0,LOOKUP(D260,'اطلاعات افراد غیر حقوق بگیر'!A:A,'اطلاعات افراد غیر حقوق بگیر'!G:G)),LOOKUP(D260,Master!D:D,Master!J:J))","v":0},{"$error":"#N/A"},0,0,{"$f":"IF(O260>#REF!,\"اخطار ساعت اضافه کار از حداکثر بیشتر است\",\" \")","v":{"$error":"#REF!"}},{"$f":"IF(O260>#REF!,1,0)","v":{"$error":"#REF!"}}]
[258,{"$f":"IF(D261=0,\"\",Settings!$D$6)","v":""},{"$f":"IF(D261=0,\"\",LOOKUP(B261,'Rigion Code'!A:A,'Rigion Code'!B:B))","v":""},null,{"$f":"IF(D261=0,\" \",IF(ISNA(MATCH(D261,Personnel!A:A,0)),IF(ISNA(MATCH(D261,'اطلاعات افراد غیر حقوق بگیر'!A:A,0)),\"وجود ندارد\",LOOKUP(Edit!D261,'اطلاعات افراد غیر حقوق بگیر'!A:A,'اطلاعات افراد غیر حقوق بگیر'!B:B)),LOOKUP(D261,Personnel!A:A,Personnel!C:C)))","v":" "},{"$f":"IF(D261=0,\" \",IF(ISNA(MATCH(D261,Personnel!A:A,0)),IF(ISNA(MATCH(D261,'اطلاعات افراد غیر حقوق بگیر'!A:A,0)),\"وجود ندارد\",LOOKUP(D261,'اطلاعات افراد غیر حقوق بگیر'!A:A,'اطلاعات افراد غیر حقوق بگیر'!C:C)),LOOKUP(D261,Personnel!A:A,Personnel!B:B)))","v":" "},{"$f":"IF(D261=0,0,IF(ISNA(MATCH(D261,Personnel!A:A,0)),IF(ISNA(MATCH(D261,'اطلاعات افراد غیر حقوق بگیر'!A:A,0)),\"وجود ندارد\",LOOKUP(D261,'اطلاعات افراد غیر حقوق بگیر'!A:A,'اطلاعات افراد غیر حقوق بگیر'!D:D)),LOOKUP(D261,Master!D:D,Master!CD:CD)))","v":0},{"$f":"IF(D261=0,\" \",IF(ISNA(MATCH(D261,Personnel!A:A,0)),IF(ISNA(MATCH(D261,'اطلاعات افراد غیر حقوق بگیر'!A:A,0)),\"وجود ندارد\",LOOKUP(D261,'اطلاعات افراد غیر حقوق بگیر'!A:A,'اطلاعات افراد غیر حقوق بگیر'!E:E)),LOOKUP(D261,Master!D:D,Master!AH:AH)))","v":" "},{"$f":"SUMIFS(Pays!G:G,Pays!E:E,1,Pays!D:D,D261)","v":0},{"$f":"SUMIFS(Pays!G:G,Pays!E:E,2,Pays!D:D,D261)","v":0},{"$f":"SUMIFS(Pays!G:G,Pays!E:E,57,Pays!D:D,D261)","v":0},{"$f":"SUMIF(Pays!D:D,D261,Pays!G:G)","v":0},{"$f":"SUMIF(Pays!D:D,D261,Pays!G:G)/176","v":0},{"$f":"IF(M261=0,IF(ISNA(MATCH(D261,'اطلاعات افراد غیر حقوق بگیر'!A:A,0)),0,LOOKUP(D261,'اطلاعات افراد غیر حقوق بگیر'!A:A,'اطلاعات افراد غیر حقوق بگیر'!F:F)),IF(H261=31,Settings!$D$13,ROUND(M261,0)))","v":0},null,0,{"$f":"IF(ISNA(MATCH(D261,Master!D:D,0)),IF(ISNA(MATCH(D261,'اطلاعات افراد غیر حقوق بگیر'!A:A,0)),0,LOOKUP(D261,'اطلاعات افراد غیر حقوق بگیر'!A:A,'اطلاعات افراد غیر حقوق بگیر'!G:G)),LOOKUP(D261,Master!D:D,Master!J:J))","v":0},{"$f":"LOOKUP(Q261,$W$4:$W$12,$X$4:$X$12)","v":{"$error":"#N/A"}},{"$f":"IF(P261=0,0,ROUND(P261*R261/100,0))","v":0},{"$f":"P261-S261","v":0},{"$f":"IF(O261>#REF!,\"اخطار ساعت اضافه کار از حداکثر بیشتر است\",\" \")","v":{"$error":"#REF!"}},{"$f":"IF(O261>#REF!,1,0)","v":{"$error":"#REF!"}}]
[{"$f":"A261+1","v":259},{"$f":"IF(D262=0,\"\",Settings!$D$6)","v":""},{"$f":"IF(D262=0,\"\",LOOKUP(B262,'Rigion Code'!A:A,'Rigion Code'!B:B))","v":""},null,{"$f":"IF(D262=0,\" \",IF(ISNA(MATCH(D262,Personnel!A:A,0)),IF(ISNA(MATCH(D262,'اطلاعات افراد غیر حقوق بگیر'!A:A,0)),\"وجود ندارد\",LOOKUP(Edit!D262,'اطلاعات افراد غیر حقوق بگیر'!A:A,'اطلاعات افراد غیر حقوق بگیر'!B:B)),LOOKUP(D262,Personnel!A:A,Personnel!C:C)))","v":" "},{"$f":"IF(D262=0,\" \",IF(ISNA(MATCH(D262,Personnel!A:A,0)),IF(ISNA(MATCH(D262,'اطلاعات افراد غیر حقوق بگیر'!A:A,0)),\"وجود ندارد\",LOOKUP(D262,'اطلاعات افراد غیر حقوق بگیر'!A:A,'اطلاعات افراد غیر حقوق بگیر'!C:C)),LOOKUP(D262,Personnel!A:A,Personnel!B:B)))","v":" "},{"$f":"IF(D262=0,0,IF(ISNA(MATCH(D262,Personnel!A:A,0)),IF(ISNA(MATCH(D262,'اطلاعات افراد غیر حقوق بگیر'!A:A,0)),\"وجود ندارد\",LOOKUP(D262,'اطلاعات افراد غیر حقوق بگیر'!A:A,'اطلاعات افراد غیر حقوق بگیر'!D:D)),LOOKUP(D262,Master!D:D,Master!CD:CD)))","v":0},{"$f":"IF(D262=0,\" \",IF(ISNA(MATCH(D262,Personnel!A:A,0)),IF(ISNA(MATCH(D262,'اطلاعات افراد غیر حقوق بگیر'!A:A,0)),\"وجود ندارد\",LOOKUP(D262,'اطلاعات افراد غیر حقوق بگیر'!A:A,'اطلاعات افراد غیر حقوق بگیر'!E:E)),LOOKUP(D262,Master!D:D,Master!AH:AH)))","v":" "},{"$f":"SUMIFS(Pays!G:G,Pays!E:E,1,Pays!D:D,D262)","v":0},{"$f":"SUMIFS(Pays!G:G,Pays!E:E,2,Pays!D:D,D262)","v":0},{"$f":"SUMIFS(Pays!G:G,Pays!E:E,57,Pays!D:D,D262)","v":0},{"$f":"SUMIF(Pays!D:D,D262,Pays!G:G)","v":0},{"$f":"SUMIF(Pays!D:D,D262,Pays!G:G)/176","v":0},{"$f":"IF(M262=0,IF(ISNA(MATCH(D262,'اطلاعات افراد غیر حقوق بگیر'!A:A,0)),0,LOOKUP(D262,'اطلاعات افراد غیر حقوق بگیر'!A:A,'اطلاعات افراد غیر حقوق بگیر'!F:F)),IF(H262=31,Settings!$D$13,ROUND(M262,0)))","v":0},null,0,{"$f":"IF(ISNA(MATCH(D262,Master!D:D,0)),IF(ISNA(MATCH(D262,'اطلاعات افراد غیر حقوق بگیر'!A:A,0)),0,LOOKUP(D262,'اطلاعات افراد غیر حقوق بگیر'!A:A,'اطلاعات افراد غیر حقوق بگیر'!G:G)),LOOKUP(D262,Master!D:D,Master!J:J))","v":0},{"$error":"#N/A"},0,0,{"$f":"IF(O262>#REF!,\"اخطار ساعت اضافه کار از حداکثر بیشتر است\",\" \")","v":{"$error":"#REF!"}},{"$f":"IF(O262>#REF!,1,0)","v":{"$error":"#REF!"}}]
[260,{"$f":"IF(D263=0,\"\",Settings!$D$6)","v":""},{"$f":"IF(D263=0,\"\",LOOKUP(B263,'Rigion Code'!A:A,'Rigion Code'!B:B))","v":""},null,{"$f":"IF(D263=0,\" \",IF(ISNA(MATCH(D263,Personnel!A:A,0)),IF(ISNA(MATCH(D263,'اطلاعات افراد غیر حقوق بگیر'!A:A,0)),\"وجود ندارد\",LOOKUP(Edit!D263,'اطلاعات افراد غیر حقوق بگیر'!A:A,'اطلاعات افراد غیر حقوق بگیر'!B:B)),LOOKUP(D263,Personnel!A:A,Personnel!C:C)))","v":" "},{"$f":"IF(D263=0,\" \",IF(ISNA(MATCH(D263,Personnel!A:A,0)),IF(ISNA(MATCH(D263,'اطلاعات افراد غیر حقوق بگیر'!A:A,0)),\"وجود ندارد\",LOOKUP(D263,'اطلاعات افراد غیر حقوق بگیر'!A:A,'اطلاعات افراد غیر حقوق بگیر'!C:C)),LOOKUP(D263,Personnel!A:A,Personnel!B:B)))","v":" "},{"$f":"IF(D263=0,0,IF(ISNA(MATCH(D263,Personnel!A:A,0)),IF(ISNA(MATCH(D263,'اطلاعات افراد غیر حقوق بگیر'!A:A,0)),\"وجود ندارد\",LOOKUP(D263,'اطلاعات افراد غیر حقوق بگیر'!A:A,'اطلاعات افراد غیر حقوق بگیر'!D:D)),LOOKUP(D263,Master!D:D,Master!CD:CD)))","v":0},{"$f":"IF(D263=0,\" \",IF(ISNA(MATCH(D263,Personnel!A:A,0)),IF(ISNA(MATCH(D263,'اطلاعات افراد غیر حقوق بگیر'!A:A,0)),\"وجود ندارد\",LOOKUP(D263,'اطلاعات افراد غیر حقوق بگیر'!A:A,'اطلاعات افراد غیر حقوق بگیر'!E:E)),LOOKUP(D263,Master!D:D,Master!AH:AH)))","v":" "},{"$f":"SUMIFS(Pays!G:G,Pays!E:E,1,Pays!D:D,D263)","v":0},{"$f":"SUMIFS(Pays!G:G,Pays!E:E,2,Pays!D:D,D263)","v":0},{"$f":"SUMIFS(Pays!G:G,Pays!E:E,57,Pays!D:D,D263)","v":0},{"$f":"SUMIF(Pays!D:D,D263,Pays!G:G)","v":0},{"$f":"SUMIF(Pays!D:D,D263,Pays!G:G)/176","v":0},{"$f":"IF(M263=0,IF(ISNA(MATCH(D263,'اطلاعات افراد غیر حقوق بگیر'!A:A,0)),0,LOOKUP(D263,'اطلاعات افراد غیر حقوق بگیر'!A:A,'اطلاعات افراد غیر حقوق بگیر'!F:F)),IF(H263=31,Settings!$D$13,ROUND(M263,0)))","v":0},null,0,{"$f":"IF(ISNA(MATCH(D263,Master!D:D,0)),IF(ISNA(MATCH(D263,'اطلاعات افراد غیر حقوق بگیر'!A:A,0)),0,LOOKUP(D263,'اطلاعات افراد غیر حقوق بگیر'!A:A,'اطلاعات افراد غیر حقوق بگیر'!G:G)),LOOKUP(D263,Master!D:D,Master!J:J))","v":0},{"$error":"#N/A"},0,0,{"$f":"IF(O263>#REF!,\"اخطار ساعت اضافه کار از حداکثر بیشتر است\",\" \")","v":{"$error":"#REF!"}},{"$f":"IF(O263>#REF!,1,0)","v":{"$error":"#REF!"}}]
[261,{"$f":"IF(D264=0,\"\",Settings!$D$6)","v":""},{"$f":"IF(D264=0,\"\",LOOKUP(B264,'Rigion Code'!A:A,'Rigion Code'!B:B))","v":""},null,{"$f":"IF(D264=0,\" \",IF(ISNA(MATCH(D264,Personnel!A:A,0)),IF(ISNA(MATCH(D264,'اطلاعات افراد غیر حقوق بگیر'!A:A,0)),\"وجود ندارد\",LOOKUP(Edit!D264,'اطلاعات افراد غیر حقوق بگیر'!A:A,'اطلاعات افراد غیر حقوق بگیر'!B:B)),LOOKUP(D264,Personnel!A:A,Personnel!C:C)))","v":" "},{"$f":"IF(D264=0,\" \",IF(ISNA(MATCH(D264,Personnel!A:A,0)),IF(ISNA(MATCH(D264,'اطلاعات افراد غیر حقوق بگیر'!A:A,0)),\"وجود ندارد\",LOOKUP(D264,'اطلاعات افراد غیر حقوق بگیر'!A:A,'اطلاعات افراد غیر حقوق بگیر'!C:C)),LOOKUP(D264,Personnel!A:A,Personnel!B:B)))","v":" "},{"$f":"IF(D264=0,0,IF(ISNA(MATCH(D264,Personnel!A:A,0)),IF(ISNA(MATCH(D264,'اطلاعات افراد غیر حقوق بگیر'!A:A,0)),\"وجود ندارد\",LOOKUP(D264,'اطلاعات افراد غیر حقوق بگیر'!A:A,'اطلاعات افراد غیر حقوق بگیر'!D:D)),LOOKUP(D264,Master!D:D,Master!CD:CD)))","v":0},{"$f":"IF(D264=0,\" \",IF(ISNA(MATCH(D264,Personnel!A:A,0)),IF(ISNA(MATCH(D264,'اطلاعات افراد غیر حقوق بگیر'!A:A,0)),\"وجود ندارد\",LOOKUP(D264,'اطلاعات افراد غیر حقوق بگیر'!A:A,'اطلاعات افراد غیر حقوق بگیر'!E:E)),LOOKUP(D264,Master!D:D,Master!AH:AH)))","v":" "},{"$f":"SUMIFS(Pays!G:G,Pays!E:E,1,Pays!D:D,D264)","v":0},{"$f":"SUMIFS(Pays!G:G,Pays!E:E,2,Pays!D:D,D264)","v":0},{"$f":"SUMIFS(Pays!G:G,Pays!E:E,57,Pays!D:D,D264)","v":0},{"$f":"SUMIF(Pays!D:D,D264,Pays!G:G)","v":0},{"$f":"SUMIF(Pays!D:D,D264,Pays!G:G)/176","v":0},{"$f":"IF(M264=0,IF(ISNA(MATCH(D264,'اطلاعات افراد غیر حقوق بگیر'!A:A,0)),0,LOOKUP(D264,'اطلاعات افراد غیر حقوق بگیر'!A:A,'اطلاعات افراد غیر حقوق بگیر'!F:F)),IF(H264=31,Settings!$D$13,ROUND(M264,0)))","v":0},null,0,{"$f":"IF(ISNA(MATCH(D264,Master!D:D,0)),IF(ISNA(MATCH(D264,'اطلاعات افراد غیر حقوق بگیر'!A:A,0)),0,LOOKUP(D264,'اطلاعات افراد غیر حقوق بگیر'!A:A,'اطلاعات افراد غیر حقوق بگیر'!G:G)),LOOKUP(D264,Master!D:D,Master!J:J))","v":0},{"$error":"#N/A"},0,0,{"$f":"IF(O264>#REF!,\"اخطار ساعت اضافه کار از حداکثر بیشتر است\",\" \")","v":{"$error":"#REF!"}},{"$f":"IF(O264>#REF!,1,0)","v":{"$error":"#REF!"}}]
[262,{"$f":"IF(D265=0,\"\",Settings!$D$6)","v":""},{"$f":"IF(D265=0,\"\",LOOKUP(B265,'Rigion Code'!A:A,'Rigion Code'!B:B))","v":""},null,{"$f":"IF(D265=0,\" \",IF(ISNA(MATCH(D265,Personnel!A:A,0)),IF(ISNA(MATCH(D265,'اطلاعات افراد غیر حقوق بگیر'!A:A,0)),\"وجود ندارد\",LOOKUP(Edit!D265,'اطلاعات افراد غیر حقوق بگیر'!A:A,'اطلاعات افراد غیر حقوق بگیر'!B:B)),LOOKUP(D265,Personnel!A:A,Personnel!C:C)))","v":" "},{"$f":"IF(D265=0,\" \",IF(ISNA(MATCH(D265,Personnel!A:A,0)),IF(ISNA(MATCH(D265,'اطلاعات افراد غیر حقوق بگیر'!A:A,0)),\"وجود ندارد\",LOOKUP(D265,'اطلاعات افراد غیر حقوق بگیر'!A:A,'اطلاعات افراد غیر حقوق بگیر'!C:C)),LOOKUP(D265,Personnel!A:A,Personnel!B:B)))","v":" "},{"$f":"IF(D265=0,0,IF(ISNA(MATCH(D265,Personnel!A:A,0)),IF(ISNA(MATCH(D265,'اطلاعات افراد غیر حقوق بگیر'!A:A,0)),\"وجود ندارد\",LOOKUP(D265,'اطلاعات افراد غیر حقوق بگیر'!A:A,'اطلاعات افراد غیر حقوق بگیر'!D:D)),LOOKUP(D265,Master!D:D,Master!CD:CD)))","v":0},{"$f":"IF(D265=0,\" \",IF(ISNA(MATCH(D265,Personnel!A:A,0)),IF(ISNA(MATCH(D265,'اطلاعات افراد غیر حقوق بگیر'!A:A,0)),\"وجود ندارد\",LOOKUP(D265,'اطلاعات افراد غیر حقوق بگیر'!A:A,'اطلاعات افراد غیر حقوق بگیر'!E:E)),LOOKUP(D265,Master!D:D,Master!AH:AH)))","v":" "},{"$f":"SUMIFS(Pays!G:G,Pays!E:E,1,Pays!D:D,D265)","v":0},{"$f":"SUMIFS(Pays!G:G,Pays!E:E,2,Pays!D:D,D265)","v":0},{"$f":"SUMIFS(Pays!G:G,Pays!E:E,57,Pays!D:D,D265)","v":0},{"$f":"SUMIF(Pays!D:D,D265,Pays!G:G)","v":0},{"$f":"SUMIF(Pays!D:D,D265,Pays!G:G)/176","v":0},{"$f":"IF(M265=0,IF(ISNA(MATCH(D265,'اطلاعات افراد غیر حقوق بگیر'!A:A,0)),0,LOOKUP(D265,'اطلاعات افراد غیر حقوق بگیر'!A:A,'اطلاعات افراد غیر حقوق بگیر'!F:F)),IF(H265=31,Settings!$D$13,ROUND(M265,0)))","v":0},null,0,{"$f":"IF(ISNA(MATCH(D265,Master!D:D,0)),IF(ISNA(MATCH(D265,'اطلاعات افراد غیر حقوق بگیر'!A:A,0)),0,LOOKUP(D265,'اطلاعات افراد غیر حقوق بگیر'!A:A,'اطلاعات افراد غیر حقوق بگیر'!G:G)),LOOKUP(D265,Master!D:D,Master!J:J))","v":0},{"$error":"#N/A"},0,0,{"$f":"IF(O265>#REF!,\"اخطار ساعت اضافه کار از حداکثر بیشتر است\",\" \")","v":{"$error":"#REF!"}},{"$f":"IF(O265>#REF!,1,0)","v":{"$error":"#REF!"}}]
[263,{"$f":"IF(D266=0,\"\",Settings!$D$6)","v":""},{"$f":"IF(D266=0,\"\",LOOKUP(B266,'Rigion Code'!A:A,'Rigion Code'!B:B))","v":""},null,{"$f":"IF(D266=0,\" \",IF(ISNA(MATCH(D266,Personnel!A:A,0)),IF(ISNA(MATCH(D266,'اطلاعات افراد غیر حقوق بگیر'!A:A,0)),\"وجود ندارد\",LOOKUP(Edit!D266,'اطلاعات افراد غیر حقوق بگیر'!A:A,'اطلاعات افراد غیر حقوق بگیر'!B:B)),LOOKUP(D266,Personnel!A:A,Personnel!C:C)))","v":" "},{"$f":"IF(D266=0,\" \",IF(ISNA(MATCH(D266,Personnel!A:A,0)),IF(ISNA(MATCH(D266,'اطلاعات افراد غیر حقوق بگیر'!A:A,0)),\"وجود ندارد\",LOOKUP(D266,'اطلاعات افراد غیر حقوق بگیر'!A:A,'اطلاعات افراد غیر حقوق بگیر'!C:C)),LOOKUP(D266,Personnel!A:A,Personnel!B:B)))","v":" "},{"$f":"IF(D266=0,0,IF(ISNA(MATCH(D266,Personnel!A:A,0)),IF(ISNA(MATCH(D266,'اطلاعات افراد غیر حقوق بگیر'!A:A,0)),\"وجود ندارد\",LOOKUP(D266,'اطلاعات افراد غیر حقوق بگیر'!A:A,'اطلاعات افراد غیر حقوق بگیر'!D:D)),LOOKUP(D266,Master!D:D,Master!CD:CD)))","v":0},{"$f":"IF(D266=0,\" \",IF(ISNA(MATCH(D266,Personnel!A:A,0)),IF(ISNA(MATCH(D266,'اطلاعات افراد غیر حقوق بگیر'!A:A,0)),\"وجود ندارد\",LOOKUP(D266,'اطلاعات افراد غیر حقوق بگیر'!A:A,'اطلاعات افراد غیر حقوق بگیر'!E:E)),LOOKUP(D266,Master!D:D,Master!AH:AH)))","v":" "},{"$f":"SUMIFS(Pays!G:G,Pays!E:E,1,Pays!D:D,D266)","v":0},{"$f":"SUMIFS(Pays!G:G,Pays!E:E,2,Pays!D:D,D266)","v":0},{"$f":"SUMIFS(Pays!G:G,Pays!E:E,57,Pays!D:D,D266)","v":0},{"$f":"SUMIF(Pays!D:D,D266,Pays!G:G)","v":0},{"$f":"SUMIF(Pays!D:D,D266,Pays!G:G)/176","v":0},{"$f":"IF(M266=0,IF(ISNA(MATCH(D266,'اطلاعات افراد غیر حقوق بگیر'!A:A,0)),0,LOOKUP(D266,'اطلاعات افراد غیر حقوق بگیر'!A:A,'اطلاعات افراد غیر حقوق بگیر'!F:F)),IF(H266=31,Settings!$D$13,ROUND(M266,0)))","v":0},null,0,{"$f":"IF(ISNA(MATCH(D266,Master!D:D,0)),IF(ISNA(MATCH(D266,'اطلاعات افراد غیر حقوق بگیر'!A:A,0)),0,LOOKUP(D266,'اطلاعات افراد غیر حقوق بگیر'!A:A,'اطلاعات افراد غیر حقوق بگیر'!G:G)),LOOKUP(D266,Master!D:D,Master!J:J))","v":0},{"$error":"#N/A"},0,0,{"$f":"IF(O266>#REF!,\"اخطار ساعت اضافه کار از حداکثر بیشتر است\",\" \")","v":{"$error":"#REF!"}},{"$f":"IF(O266>#REF!,1,0)","v":{"$error":"#REF!"}}]
[264,{"$f":"IF(D267=0,\"\",Settings!$D$6)","v":""},{"$f":"IF(D267=0,\"\",LOOKUP(B267,'Rigion Code'!A:A,'Rigion Code'!B:B))","v":""},null,{"$f":"IF(D267=0,\" \",IF(ISNA(MATCH(D267,Personnel!A:A,0)),IF(ISNA(MATCH(D267,'اطلاعات افراد غیر حقوق بگیر'!A:A,0)),\"وجود ندارد\",LOOKUP(Edit!D267,'اطلاعات افراد غیر حقوق بگیر'!A:A,'اطلاعات افراد غیر حقوق بگیر'!B:B)),LOOKUP(D267,Personnel!A:A,Personnel!C:C)))","v":" "},{"$f":"IF(D267=0,\" \",IF(ISNA(MATCH(D267,Personnel!A:A,0)),IF(ISNA(MATCH(D267,'اطلاعات افراد غیر حقوق بگیر'!A:A,0)),\"وجود ندارد\",LOOKUP(D267,'اطلاعات افراد غیر حقوق بگیر'!A:A,'اطلاعات افراد غیر حقوق بگیر'!C:C)),LOOKUP(D267,Personnel!A:A,Personnel!B:B)))","v":" "},{"$f":"IF(D267=0,0,IF(ISNA(MATCH(D267,Personnel!A:A,0)),IF(ISNA(MATCH(D267,'اطلاعات افراد غیر حقوق بگیر'!A:A,0)),\"وجود ندارد\",LOOKUP(D267,'اطلاعات افراد غیر حقوق بگیر'!A:A,'اطلاعات افراد غیر حقوق بگیر'!D:D)),LOOKUP(D267,Master!D:D,Master!CD:CD)))","v":0},{"$f":"IF(D267=0,\" \",IF(ISNA(MATCH(D267,Personnel!A:A,0)),IF(ISNA(MATCH(D267,'اطلاعات افراد غیر حقوق بگیر'!A:A,0)),\"وجود ندارد\",LOOKUP(D267,'اطلاعات افراد غیر حقوق بگیر'!A:A,'اطلاعات افراد غیر حقوق بگیر'!E:E)),LOOKUP(D267,Master!D:D,Master!AH:AH)))","v":" "},{"$f":"SUMIFS(Pays!G:G,Pays!E:E,1,Pays!D:D,D267)","v":0},{"$f":"SUMIFS(Pays!G:G,Pays!E:E,2,Pays!D:D,D267)","v":0},{"$f":"SUMIFS(Pays!G:G,Pays!E:E,57,Pays!D:D,D267)","v":0},{"$f":"SUMIF(Pays!D:D,D267,Pays!G:G)","v":0},{"$f":"SUMIF(Pays!D:D,D267,Pays!G:G)/176","v":0},{"$f":"IF(M267=0,IF(ISNA(MATCH(D267,'اطلاعات افراد غیر حقوق بگیر'!A:A,0)),0,LOOKUP(D267,'اطلاعات افراد غیر حقوق بگیر'!A:A,'اطلاعات افراد غیر حقوق بگیر'!F:F)),IF(H267=31,Settings!$D$13,ROUND(M267,0)))","v":0},null,0,{"$f":"IF(ISNA(MATCH(D267,Master!D:D,0)),IF(ISNA(MATCH(D267,'اطلاعات افراد غیر حقوق بگیر'!A:A,0)),0,LOOKUP(D267,'اطلاعات افراد غیر حقوق بگیر'!A:A,'اطلاعات افراد غیر حقوق بگیر'!G:G)),LOOKUP(D267,Master!D:D,Master!J:J))","v":0},{"$error":"#N/A"},0,0,{"$f":"IF(O267>#REF!,\"اخطار ساعت اضافه کار از حداکثر بیشتر است\",\" \")","v":{"$error":"#REF!"}},{"$f":"IF(O267>#REF!,1,0)","v":{"$error":"#REF!"}}]
[265,{"$f":"IF(D268=0,\"\",Settings!$D$6)","v":""},{"$f":"IF(D268=0,\"\",LOOKUP(B268,'Rigion Code'!A:A,'Rigion Code'!B:B))","v":""},null,{"$f":"IF(D268=0,\" \",IF(ISNA(MATCH(D268,Personnel!A:A,0)),IF(ISNA(MATCH(D268,'اطلاعات افراد غیر حقوق بگیر'!A:A,0)),\"وجود ندارد\",LOOKUP(Edit!D268,'اطلاعات افراد غیر حقوق بگیر'!A:A,'اطلاعات افراد غیر حقوق بگیر'!B:B)),LOOKUP(D268,Personnel!A:A,Personnel!C:C)))","v":" "},{"$f":"IF(D268=0,\" \",IF(ISNA(MATCH(D268,Personnel!A:A,0)),IF(ISNA(MATCH(D268,'اطلاعات افراد غیر حقوق بگیر'!A:A,0)),\"وجود ندارد\",LOOKUP(D268,'اطلاعات افراد غیر حقوق بگیر'!A:A,'اطلاعات افراد غیر حقوق بگیر'!C:C)),LOOKUP(D268,Personnel!A:A,Personnel!B:B)))","v":" "},{"$f":"IF(D268=0,0,IF(ISNA(MATCH(D268,Personnel!A:A,0)),IF(ISNA(MATCH(D268,'اطلاعات افراد غیر حقوق بگیر'!A:A,0)),\"وجود ندارد\",LOOKUP(D268,'اطلاعات افراد غیر حقوق بگیر'!A:A,'اطلاعات افراد غیر حقوق بگیر'!D:D)),LOOKUP(D268,Master!D:D,Master!CD:CD)))","v":0},{"$f":"IF(D268=0,\" \",IF(ISNA(MATCH(D268,Personnel!A:A,0)),IF(ISNA(MATCH(D268,'اطلاعات افراد غیر حقوق بگیر'!A:A,0)),\"وجود ندارد\",LOOKUP(D268,'اطلاعات افراد غیر حقوق بگیر'!A:A,'اطلاعات افراد غیر حقوق بگیر'!E:E)),LOOKUP(D268,Master!D:D,Master!AH:AH)))","v":" "},{"$f":"SUMIFS(Pays!G:G,Pays!E:E,1,Pays!D:D,D268)","v":0},{"$f":"SUMIFS(Pays!G:G,Pays!E:E,2,Pays!D:D,D268)","v":0},{"$f":"SUMIFS(Pays!G:G,Pays!E:E,57,Pays!D:D,D268)","v":0},{"$f":"SUMIF(Pays!D:D,D268,Pays!G:G)","v":0},{"$f":"SUMIF(Pays!D:D,D268,Pays!G:G)/176","v":0},{"$f":"IF(M268=0,IF(ISNA(MATCH(D268,'اطلاعات افراد غیر حقوق بگیر'!A:A,0)),0,LOOKUP(D268,'اطلاعات افراد غیر حقوق بگیر'!A:A,'اطلاعات افراد غیر حقوق بگیر'!F:F)),IF(H268=31,Settings!$D$13,ROUND(M268,0)))","v":0},null,0,{"$f":"IF(ISNA(MATCH(D268,Master!D:D,0)),IF(ISNA(MATCH(D268,'اطلاعات افراد غیر حقوق بگیر'!A:A,0)),0,LOOKUP(D268,'اطلاعات افراد غیر حقوق بگیر'!A:A,'اطلاعات افراد غیر حقوق بگیر'!G:G)),LOOKUP(D268,Master!D:D,Master!J:J))","v":0},{"$error":"#N/A"},0,0,{"$f":"IF(O268>#REF!,\"اخطار ساعت اضافه کار از حداکثر بیشتر است\",\" \")","v":{"$error":"#REF!"}},{"$f":"IF(O268>#REF!,1,0)","v":{"$error":"#REF!"}}]
[266,{"$f":"IF(D269=0,\"\",Settings!$D$6)","v":""},{"$f":"IF(D269=0,\"\",LOOKUP(B269,'Rigion Code'!A:A,'Rigion Code'!B:B))","v":""},null,{"$f":"IF(D269=0,\" \",IF(ISNA(MATCH(D269,Personnel!A:A,0)),IF(ISNA(MATCH(D269,'اطلاعات افراد غیر حقوق بگیر'!A:A,0)),\"وجود ندارد\",LOOKUP(Edit!D269,'اطلاعات افراد غیر حقوق بگیر'!A:A,'اطلاعات افراد غیر حقوق بگیر'!B:B)),LOOKUP(D269,Personnel!A:A,Personnel!C:C)))","v":" "},{"$f":"IF(D269=0,\" \",IF(ISNA(MATCH(D269,Personnel!A:A,0)),IF(ISNA(MATCH(D269,'اطلاعات افراد غیر حقوق بگیر'!A:A,0)),\"وجود ندارد\",LOOKUP(D269,'اطلاعات افراد غیر حقوق بگیر'!A:A,'اطلاعات افراد غیر حقوق بگیر'!C:C)),LOOKUP(D269,Personnel!A:A,Personnel!B:B)))","v":" "},{"$f":"IF(D269=0,0,IF(ISNA(MATCH(D269,Personnel!A:A,0)),IF(ISNA(MATCH(D269,'اطلاعات افراد غیر حقوق بگیر'!A:A,0)),\"وجود ندارد\",LOOKUP(D269,'اطلاعات افراد غیر حقوق بگیر'!A:A,'اطلاعات افراد غیر حقوق بگیر'!D:D)),LOOKUP(D269,Master!D:D,Master!CD:CD)))","v":0},{"$f":"IF(D269=0,\" \",IF(ISNA(MATCH(D269,Personnel!A:A,0)),IF(ISNA(MATCH(D269,'اطلاعات افراد غیر حقوق بگیر'!A:A,0)),\"وجود ندارد\",LOOKUP(D269,'اطلاعات افراد غیر حقوق بگیر'!A:A,'اطلاعات افراد غیر حقوق بگیر'!E:E)),LOOKUP(D269,Master!D:D,Master!AH:AH)))","v":" "},{"$f":"SUMIFS(Pays!G:G,Pays!E:E,1,Pays!D:D,D269)","v":0},{"$f":"SUMIFS(Pays!G:G,Pays!E:E,2,Pays!D:D,D269)","v":0},{"$f":"SUMIFS(Pays!G:G,Pays!E:E,57,Pays!D:D,D269)","v":0},{"$f":"SUMIF(Pays!D:D,D269,Pays!G:G)","v":0},{"$f":"SUMIF(Pays!D:D,D269,Pays!G:G)/176","v":0},{"$f":"IF(M269=0,IF(ISNA(MATCH(D269,'اطلاعات افراد غیر حقوق بگیر'!A:A,0)),0,LOOKUP(D269,'اطلاعات افراد غیر حقوق بگیر'!A:A,'اطلاعات افراد غیر حقوق بگیر'!F:F)),IF(H269=31,Settings!$D$13,ROUND(M269,0)))","v":0},null,0,{"$f":"IF(ISNA(MATCH(D269,Master!D:D,0)),IF(ISNA(MATCH(D269,'اطلاعات افراد غیر حقوق بگیر'!A:A,0)),0,LOOKUP(D269,'اطلاعات افراد غیر حقوق بگیر'!A:A,'اطلاعات افراد غیر حقوق بگیر'!G:G)),LOOKUP(D269,Master!D:D,Master!J:J))","v":0},{"$error":"#N/A"},0,0,{"$f":"IF(O269>#REF!,\"اخطار ساعت اضافه کار از حداکثر بیشتر است\",\" \")","v":{"$error":"#REF!"}},{"$f":"IF(O269>#REF!,1,0)","v":{"$error":"#REF!"}}]
[267,{"$f":"IF(D270=0,\"\",Settings!$D$6)","v":""},{"$f":"IF(D270=0,\"\",LOOKUP(B270,'Rigion Code'!A:A,'Rigion Code'!B:B))","v":""},null,{"$f":"IF(D270=0,\" \",IF(ISNA(MATCH(D270,Personnel!A:A,0)),IF(ISNA(MATCH(D270,'اطلاعات افراد غیر حقوق بگیر'!A:A,0)),\"وجود ندارد\",LOOKUP(Edit!D270,'اطلاعات افراد غیر حقوق بگیر'!A:A,'اطلاعات افراد غیر حقوق بگیر'!B:B)),LOOKUP(D270,Personnel!A:A,Personnel!C:C)))","v":" "},{"$f":"IF(D270=0,\" \",IF(ISNA(MATCH(D270,Personnel!A:A,0)),IF(ISNA(MATCH(D270,'اطلاعات افراد غیر حقوق بگیر'!A:A,0)),\"وجود ندارد\",LOOKUP(D270,'اطلاعات افراد غیر حقوق بگیر'!A:A,'اطلاعات افراد غیر حقوق بگیر'!C:C)),LOOKUP(D270,Personnel!A:A,Personnel!B:B)))","v":" "},{"$f":"IF(D270=0,0,IF(ISNA(MATCH(D270,Personnel!A:A,0)),IF(ISNA(MATCH(D270,'اطلاعات افراد غیر حقوق بگیر'!A:A,0)),\"وجود ندارد\",LOOKUP(D270,'اطلاعات افراد غیر حقوق بگیر'!A:A,'اطلاعات افراد غیر حقوق بگیر'!D:D)),LOOKUP(D270,Master!D:D,Master!CD:CD)))","v":0},{"$f":"IF(D270=0,\" \",IF(ISNA(MATCH(D270,Personnel!A:A,0)),IF(ISNA(MATCH(D270,'اطلاعات افراد غیر حقوق بگیر'!A:A,0)),\"وجود ندارد\",LOOKUP(D270,'اطلاعات افراد غیر حقوق بگیر'!A:A,'اطلاعات افراد غیر حقوق بگیر'!E:E)),LOOKUP(D270,Master!D:D,Master!AH:AH)))","v":" "},{"$f":"SUMIFS(Pays!G:G,Pays!E:E,1,Pays!D:D,D270)","v":0},{"$f":"SUMIFS(Pays!G:G,Pays!E:E,2,Pays!D:D,D270)","v":0},{"$f":"SUMIFS(Pays!G:G,Pays!E:E,57,Pays!D:D,D270)","v":0},{"$f":"SUMIF(Pays!D:D,D270,Pays!G:G)","v":0},{"$f":"SUMIF(Pays!D:D,D270,Pays!G:G)/176","v":0},{"$f":"IF(M270=0,IF(ISNA(MATCH(D270,'اطلاعات افراد غیر حقوق بگیر'!A:A,0)),0,LOOKUP(D270,'اطلاعات افراد غیر حقوق بگیر'!A:A,'اطلاعات افراد غیر حقوق بگیر'!F:F)),IF(H270=31,Settings!$D$13,ROUND(M270,0)))","v":0},null,0,{"$f":"IF(ISNA(MATCH(D270,Master!D:D,0)),IF(ISNA(MATCH(D270,'اطلاعات افراد غیر حقوق بگیر'!A:A,0)),0,LOOKUP(D270,'اطلاعات افراد غیر حقوق بگیر'!A:A,'اطلاعات افراد غیر حقوق بگیر'!G:G)),LOOKUP(D270,Master!D:D,Master!J:J))","v":0},{"$error":"#N/A"},0,0,{"$f":"IF(O270>#REF!,\"اخطار ساعت اضافه کار از حداکثر بیشتر است\",\" \")","v":{"$error":"#REF!"}},{"$f":"IF(O270>#REF!,1,0)","v":{"$error":"#REF!"}}]
[268,{"$f":"IF(D271=0,\"\",Settings!$D$6)","v":""},{"$f":"IF(D271=0,\"\",LOOKUP(B271,'Rigion Code'!A:A,'Rigion Code'!B:B))","v":""},null,{"$f":"IF(D271=0,\" \",IF(ISNA(MATCH(D271,Personnel!A:A,0)),IF(ISNA(MATCH(D271,'اطلاعات افراد غیر حقوق بگیر'!A:A,0)),\"وجود ندارد\",LOOKUP(Edit!D271,'اطلاعات افراد غیر حقوق بگیر'!A:A,'اطلاعات افراد غیر حقوق بگیر'!B:B)),LOOKUP(D271,Personnel!A:A,Personnel!C:C)))","v":" "},{"$f":"IF(D271=0,\" \",IF(ISNA(MATCH(D271,Personnel!A:A,0)),IF(ISNA(MATCH(D271,'اطلاعات افراد غیر حقوق بگیر'!A:A,0)),\"وجود ندارد\",LOOKUP(D271,'اطلاعات افراد غیر حقوق بگیر'!A:A,'اطلاعات افراد غیر حقوق بگیر'!C:C)),LOOKUP(D271,Personnel!A:A,Personnel!B:B)))","v":" "},{"$f":"IF(D271=0,0,IF(ISNA(MATCH(D271,Personnel!A:A,0)),IF(ISNA(MATCH(D271,'اطلاعات افراد غیر حقوق بگیر'!A:A,0)),\"وجود ندارد\",LOOKUP(D271,'اطلاعات افراد غیر حقوق بگیر'!A:A,'اطلاعات افراد غیر حقوق بگیر'!D:D)),LOOKUP(D271,Master!D:D,Master!CD:CD)))","v":0},{"$f":"IF(D271=0,\" \",IF(ISNA(MATCH(D271,Personnel!A:A,0)),IF(ISNA(MATCH(D271,'اطلاعات افراد غیر حقوق بگیر'!A:A,0)),\"وجود ندارد\",LOOKUP(D271,'اطلاعات افراد غیر حقوق بگیر'!A:A,'اطلاعات افراد غیر حقوق بگیر'!E:E)),LOOKUP(D271,Master!D:D,Master!AH:AH)))","v":" "},{"$f":"SUMIFS(Pays!G:G,Pays!E:E,1,Pays!D:D,D271)","v":0},{"$f":"SUMIFS(Pays!G:G,Pays!E:E,2,Pays!D:D,D271)","v":0},{"$f":"SUMIFS(Pays!G:G,Pays!E:E,57,Pays!D:D,D271)","v":0},{"$f":"SUMIF(Pays!D:D,D271,Pays!G:G)","v":0},{"$f":"SUMIF(Pays!D:D,D271,Pays!G:G)/176","v":0},{"$f":"IF(M271=0,IF(ISNA(MATCH(D271,'اطلاعات افراد غیر حقوق بگیر'!A:A,0)),0,LOOKUP(D271,'اطلاعات افراد غیر حقوق بگیر'!A:A,'اطلاعات افراد غیر حقوق بگیر'!F:F)),IF(H271=31,Settings!$D$13,ROUND(M271,0)))","v":0},null,0,{"$f":"IF(ISNA(MATCH(D271,Master!D:D,0)),IF(ISNA(MATCH(D271,'اطلاعات افراد غیر حقوق بگیر'!A:A,0)),0,LOOKUP(D271,'اطلاعات افراد غیر حقوق بگیر'!A:A,'اطلاعات افراد غیر حقوق بگیر'!G:G)),LOOKUP(D271,Master!D:D,Master!J:J))","v":0},{"$error":"#N/A"},0,0,{"$f":"IF(O271>#REF!,\"اخطار ساعت اضافه کار از حداکثر بیشتر است\",\" \")","v":{"$error":"#REF!"}},{"$f":"IF(O271>#REF!,1,0)","v":{"$error":"#REF!"}}]
[269,{"$f":"IF(D272=0,\"\",Settings!$D$6)","v":""},{"$f":"IF(D272=0,\"\",LOOKUP(B272,'Rigion Code'!A:A,'Rigion Code'!B:B))","v":""},null,{"$f":"IF(D272=0,\" \",IF(ISNA(MATCH(D272,Personnel!A:A,0)),IF(ISNA(MATCH(D272,'اطلاعات افراد غیر حقوق بگیر'!A:A,0)),\"وجود ندارد\",LOOKUP(Edit!D272,'اطلاعات افراد غیر حقوق بگیر'!A:A,'اطلاعات افراد غیر حقوق بگیر'!B:B)),LOOKUP(D272,Personnel!A:A,Personnel!C:C)))","v":" "},{"$f":"IF(D272=0,\" \",IF(ISNA(MATCH(D272,Personnel!A:A,0)),IF(ISNA(MATCH(D272,'اطلاعات افراد غیر حقوق بگیر'!A:A,0)),\"وجود ندارد\",LOOKUP(D272,'اطلاعات افراد غیر حقوق بگیر'!A:A,'اطلاعات افراد غیر حقوق بگیر'!C:C)),LOOKUP(D272,Personnel!A:A,Personnel!B:B)))","v":" "},{"$f":"IF(D272=0,0,IF(ISNA(MATCH(D272,Personnel!A:A,0)),IF(ISNA(MATCH(D272,'اطلاعات افراد غیر حقوق بگیر'!A:A,0)),\"وجود ندارد\",LOOKUP(D272,'اطلاعات افراد غیر حقوق بگیر'!A:A,'اطلاعات افراد غیر حقوق بگیر'!D:D)),LOOKUP(D272,Master!D:D,Master!CD:CD)))","v":0},{"$f":"IF(D272=0,\" \",IF(ISNA(MATCH(D272,Personnel!A:A,0)),IF(ISNA(MATCH(D272,'اطلاعات افراد غیر حقوق بگیر'!A:A,0)),\"وجود ندارد\",LOOKUP(D272,'اطلاعات افراد غیر حقوق بگیر'!A:A,'اطلاعات افراد غیر حقوق بگیر'!E:E)),LOOKUP(D272,Master!D:D,Master!AH:AH)))","v":" "},{"$f":"SUMIFS(Pays!G:G,Pays!E:E,1,Pays!D:D,D272)","v":0},{"$f":"SUMIFS(Pays!G:G,Pays!E:E,2,Pays!D:D,D272)","v":0},{"$f":"SUMIFS(Pays!G:G,Pays!E:E,57,Pays!D:D,D272)","v":0},{"$f":"SUMIF(Pays!D:D,D272,Pays!G:G)","v":0},{"$f":"SUMIF(Pays!D:D,D272,Pays!G:G)/176","v":0},{"$f":"IF(M272=0,IF(ISNA(MATCH(D272,'اطلاعات افراد غیر حقوق بگیر'!A:A,0)),0,LOOKUP(D272,'اطلاعات افراد غیر حقوق بگیر'!A:A,'اطلاعات افراد غیر حقوق بگیر'!F:F)),IF(H272=31,Settings!$D$13,ROUND(M272,0)))","v":0},null,0,{"$f":"IF(ISNA(MATCH(D272,Master!D:D,0)),IF(ISNA(MATCH(D272,'اطلاعات افراد غیر حقوق بگیر'!A:A,0)),0,LOOKUP(D272,'اطلاعات افراد غیر حقوق بگیر'!A:A,'اطلاعات افراد غیر حقوق بگیر'!G:G)),LOOKUP(D272,Master!D:D,Master!J:J))","v":0},{"$error":"#N/A"},0,0,{"$f":"IF(O272>#REF!,\"اخطار ساعت اضافه کار از حداکثر بیشتر است\",\" \")","v":{"$error":"#REF!"}},{"$f":"IF(O272>#REF!,1,0)","v":{"$error":"#REF!"}}]
[270,{"$f":"IF(D273=0,\"\",Settings!$D$6)","v":""},{"$f":"IF(D273=0,\"\",LOOKUP(B273,'Rigion Code'!A:A,'Rigion Code'!B:B))","v":""},null,{"$f":"IF(D273=0,\" \",IF(ISNA(MATCH(D273,Personnel!A:A,0)),IF(ISNA(MATCH(D273,'اطلاعات افراد غیر حقوق بگیر'!A:A,0)),\"وجود ندارد\",LOOKUP(Edit!D273,'اطلاعات افراد غیر حقوق بگیر'!A:A,'اطلاعات افراد غیر حقوق بگیر'!B:B)),LOOKUP(D273,Personnel!A:A,Personnel!C:C)))","v":" "},{"$f":"IF(D273=0,\" \",IF(ISNA(MATCH(D273,Personnel!A:A,0)),IF(ISNA(MATCH(D273,'اطلاعات افراد غیر حقوق بگیر'!A:A,0)),\"وجود ندارد\",LOOKUP(D273,'اطلاعات افراد غیر حقوق بگیر'!A:A,'اطلاعات افراد غیر حقوق بگیر'!C:C)),LOOKUP(D273,Personnel!A:A,Personnel!B:B)))","v":" "},{"$f":"IF(D273=0,0,IF(ISNA(MATCH(D273,Personnel!A:A,0)),IF(ISNA(MATCH(D273,'اطلاعات افراد غیر حقوق بگیر'!A:A,0)),\"وجود ندارد\",LOOKUP(D273,'اطلاعات افراد غیر حقوق بگیر'!A:A,'اطلاعات افراد غیر حقوق بگیر'!D:D)),LOOKUP(D273,Master!D:D,Master!CD:CD)))","v":0},{"$f":"IF(D273=0,\" \",IF(ISNA(MATCH(D273,Personnel!A:A,0)),IF(ISNA(MATCH(D273,'اطلاعات افراد غیر حقوق بگیر'!A:A,0)),\"وجود ندارد\",LOOKUP(D273,'اطلاعات افراد غیر حقوق بگیر'!A:A,'اطلاعات افراد غیر حقوق بگیر'!E:E)),LOOKUP(D273,Master!D:D,Master!AH:AH)))","v":" "},{"$f":"SUMIFS(Pays!G:G,Pays!E:E,1,Pays!D:D,D273)","v":0},{"$f":"SUMIFS(Pays!G:G,Pays!E:E,2,Pays!D:D,D273)","v":0},{"$f":"SUMIFS(Pays!G:G,Pays!E:E,57,Pays!D:D,D273)","v":0},{"$f":"SUMIF(Pays!D:D,D273,Pays!G:G)","v":0},{"$f":"SUMIF(Pays!D:D,D273,Pays!G:G)/176","v":0},{"$f":"IF(M273=0,IF(ISNA(MATCH(D273,'اطلاعات افراد غیر حقوق بگیر'!A:A,0)),0,LOOKUP(D273,'اطلاعات افراد غیر حقوق بگیر'!A:A,'اطلاعات افراد غیر حقوق بگیر'!F:F)),IF(H273=31,Settings!$D$13,ROUND(M273,0)))","v":0},null,0,{"$f":"IF(ISNA(MATCH(D273,Master!D:D,0)),IF(ISNA(MATCH(D273,'اطلاعات افراد غیر حقوق بگیر'!A:A,0)),0,LOOKUP(D273,'اطلاعات افراد غیر حقوق بگیر'!A:A,'اطلاعات افراد غیر حقوق بگیر'!G:G)),LOOKUP(D273,Master!D:D,Master!J:J))","v":0},{"$error":"#N/A"},0,0,{"$f":"IF(O273>#REF!,\"اخطار ساعت اضافه کار از حداکثر بیشتر است\",\" \")","v":{"$error":"#REF!"}},{"$f":"IF(O273>#REF!,1,0)","v":{"$error":"#REF!"}}]
[271,{"$f":"IF(D274=0,\"\",Settings!$D$6)","v":""},{"$f":"IF(D274=0,\"\",LOOKUP(B274,'Rigion Code'!A:A,'Rigion Code'!B:B))","v":""},null,{"$f":"IF(D274=0,\" \",IF(ISNA(MATCH(D274,Personnel!A:A,0)),IF(ISNA(MATCH(D274,'اطلاعات افراد غیر حقوق بگیر'!A:A,0)),\"وجود ندارد\",LOOKUP(Edit!D274,'اطلاعات افراد غیر حقوق بگیر'!A:A,'اطلاعات افراد غیر حقوق بگیر'!B:B)),LOOKUP(D274,Personnel!A:A,Personnel!C:C)))","v":" "},{"$f":"IF(D274=0,\" \",IF(ISNA(MATCH(D274,Personnel!A:A,0)),IF(ISNA(MATCH(D274,'اطلاعات افراد غیر حقوق بگیر'!A:A,0)),\"وجود ندارد\",LOOKUP(D274,'اطلاعات افراد غیر حقوق بگیر'!A:A,'اطلاعات افراد غیر حقوق بگیر'!C:C)),LOOKUP(D274,Personnel!A:A,Personnel!B:B)))","v":" "},{"$f":"IF(D274=0,0,IF(ISNA(MATCH(D274,Personnel!A:A,0)),IF(ISNA(MATCH(D274,'اطلاعات افراد غیر حقوق بگیر'!A:A,0)),\"وجود ندارد\",LOOKUP(D274,'اطلاعات افراد غیر حقوق بگیر'!A:A,'اطلاعات افراد غیر حقوق بگیر'!D:D)),LOOKUP(D274,Master!D:D,Master!CD:CD)))","v":0},{"$f":"IF(D274=0,\" \",IF(ISNA(MATCH(D274,Personnel!A:A,0)),IF(ISNA(MATCH(D274,'اطلاعات افراد غیر حقوق بگیر'!A:A,0)),\"وجود ندارد\",LOOKUP(D274,'اطلاعات افراد غیر حقوق بگیر'!A:A,'اطلاعات افراد غیر حقوق بگیر'!E:E)),LOOKUP(D274,Master!D:D,Master!AH:AH)))","v":" "},{"$f":"SUMIFS(Pays!G:G,Pays!E:E,1,Pays!D:D,D274)","v":0},{"$f":"SUMIFS(Pays!G:G,Pays!E:E,2,Pays!D:D,D274)","v":0},{"$f":"SUMIFS(Pays!G:G,Pays!E:E,57,Pays!D:D,D274)","v":0},{"$f":"SUMIF(Pays!D:D,D274,Pays!G:G)","v":0},{"$f":"SUMIF(Pays!D:D,D274,Pays!G:G)/176","v":0},{"$f":"IF(M274=0,IF(ISNA(MATCH(D274,'اطلاعات افراد غیر حقوق بگیر'!A:A,0)),0,LOOKUP(D274,'اطلاعات افراد غیر حقوق بگیر'!A:A,'اطلاعات افراد غیر حقوق بگیر'!F:F)),IF(H274=31,Settings!$D$13,ROUND(M274,0)))","v":0},null,0,{"$f":"IF(ISNA(MATCH(D274,Master!D:D,0)),IF(ISNA(MATCH(D274,'اطلاعات افراد غیر حقوق بگیر'!A:A,0)),0,LOOKUP(D274,'اطلاعات افراد غیر حقوق بگیر'!A:A,'اطلاعات افراد غیر حقوق بگیر'!G:G)),LOOKUP(D274,Master!D:D,Master!J:J))","v":0},{"$error":"#N/A"},0,0,{"$f":"IF(O274>#REF!,\"اخطار ساعت اضافه کار از حداکثر بیشتر است\",\" \")","v":{"$error":"#REF!"}},{"$f":"IF(O274>#REF!,1,0)","v":{"$error":"#REF!"}}]
[272,{"$f":"IF(D275=0,\"\",Settings!$D$6)","v":""},{"$f":"IF(D275=0,\"\",LOOKUP(B275,'Rigion Code'!A:A,'Rigion Code'!B:B))","v":""},null,{"$f":"IF(D275=0,\" \",IF(ISNA(MATCH(D275,Personnel!A:A,0)),IF(ISNA(MATCH(D275,'اطلاعات افراد غیر حقوق بگیر'!A:A,0)),\"وجود ندارد\",LOOKUP(Edit!D275,'اطلاعات افراد غیر حقوق بگیر'!A:A,'اطلاعات افراد غیر حقوق بگیر'!B:B)),LOOKUP(D275,Personnel!A:A,Personnel!C:C)))","v":" "},{"$f":"IF(D275=0,\" \",IF(ISNA(MATCH(D275,Personnel!A:A,0)),IF(ISNA(MATCH(D275,'اطلاعات افراد غیر حقوق بگیر'!A:A,0)),\"وجود ندارد\",LOOKUP(D275,'اطلاعات افراد غیر حقوق بگیر'!A:A,'اطلاعات افراد غیر حقوق بگیر'!C:C)),LOOKUP(D275,Personnel!A:A,Personnel!B:B)))","v":" "},{"$f":"IF(D275=0,0,IF(ISNA(MATCH(D275,Personnel!A:A,0)),IF(ISNA(MATCH(D275,'اطلاعات افراد غیر حقوق بگیر'!A:A,0)),\"وجود ندارد\",LOOKUP(D275,'اطلاعات افراد غیر حقوق بگیر'!A:A,'اطلاعات افراد غیر حقوق بگیر'!D:D)),LOOKUP(D275,Master!D:D,Master!CD:CD)))","v":0},{"$f":"IF(D275=0,\" \",IF(ISNA(MATCH(D275,Personnel!A:A,0)),IF(ISNA(MATCH(D275,'اطلاعات افراد غیر حقوق بگیر'!A:A,0)),\"وجود ندارد\",LOOKUP(D275,'اطلاعات افراد غیر حقوق بگیر'!A:A,'اطلاعات افراد غیر حقوق بگیر'!E:E)),LOOKUP(D275,Master!D:D,Master!AH:AH)))","v":" "},{"$f":"SUMIFS(Pays!G:G,Pays!E:E,1,Pays!D:D,D275)","v":0},{"$f":"SUMIFS(Pays!G:G,Pays!E:E,2,Pays!D:D,D275)","v":0},{"$f":"SUMIFS(Pays!G:G,Pays!E:E,57,Pays!D:D,D275)","v":0},{"$f":"SUMIF(Pays!D:D,D275,Pays!G:G)","v":0},{"$f":"SUMIF(Pays!D:D,D275,Pays!G:G)/176","v":0},{"$f":"IF(M275=0,IF(ISNA(MATCH(D275,'اطلاعات افراد غیر حقوق بگیر'!A:A,0)),0,LOOKUP(D275,'اطلاعات افراد غیر حقوق بگیر'!A:A,'اطلاعات افراد غیر حقوق بگیر'!F:F)),IF(H275=31,Settings!$D$13,ROUND(M275,0)))","v":0},null,0,{"$f":"IF(ISNA(MATCH(D275,Master!D:D,0)),IF(ISNA(MATCH(D275,'اطلاعات افراد غیر حقوق بگیر'!A:A,0)),0,LOOKUP(D275,'اطلاعات افراد غیر حقوق بگیر'!A:A,'اطلاعات افراد غیر حقوق بگیر'!G:G)),LOOKUP(D275,Master!D:D,Master!J:J))","v":0},{"$error":"#N/A"},0,0,{"$f":"IF(O275>#REF!,\"اخطار ساعت اضافه کار از حداکثر بیشتر است\",\" \")","v":{"$error":"#REF!"}},{"$f":"IF(O275>#REF!,1,0)","v":{"$error":"#REF!"}}]
[273,{"$f":"IF(D276=0,\"\",Settings!$D$6)","v":""},{"$f":"IF(D276=0,\"\",LOOKUP(B276,'Rigion Code'!A:A,'Rigion Code'!B:B))","v":""},null,{"$f":"IF(D276=0,\" \",IF(ISNA(MATCH(D276,Personnel!A:A,0)),IF(ISNA(MATCH(D276,'اطلاعات افراد غیر حقوق بگیر'!A:A,0)),\"وجود ندارد\",LOOKUP(Edit!D276,'اطلاعات افراد غیر حقوق بگیر'!A:A,'اطلاعات افراد غیر حقوق بگیر'!B:B)),LOOKUP(D276,Personnel!A:A,Personnel!C:C)))","v":" "},{"$f":"IF(D276=0,\" \",IF(ISNA(MATCH(D276,Personnel!A:A,0)),IF(ISNA(MATCH(D276,'اطلاعات افراد غیر حقوق بگیر'!A:A,0)),\"وجود ندارد\",LOOKUP(D276,'اطلاعات افراد غیر حقوق بگیر'!A:A,'اطلاعات افراد غیر حقوق بگیر'!C:C)),LOOKUP(D276,Personnel!A:A,Personnel!B:B)))","v":" "},{"$f":"IF(D276=0,0,IF(ISNA(MATCH(D276,Personnel!A:A,0)),IF(ISNA(MATCH(D276,'اطلاعات افراد غیر حقوق بگیر'!A:A,0)),\"وجود ندارد\",LOOKUP(D276,'اطلاعات افراد غیر حقوق بگیر'!A:A,'اطلاعات افراد غیر حقوق بگیر'!D:D)),LOOKUP(D276,Master!D:D,Master!CD:CD)))","v":0},{"$f":"IF(D276=0,\" \",IF(ISNA(MATCH(D276,Personnel!A:A,0)),IF(ISNA(MATCH(D276,'اطلاعات افراد غیر حقوق بگیر'!A:A,0)),\"وجود ندارد\",LOOKUP(D276,'اطلاعات افراد غیر حقوق بگیر'!A:A,'اطلاعات افراد غیر حقوق بگیر'!E:E)),LOOKUP(D276,Master!D:D,Master!AH:AH)))","v":" "},{"$f":"SUMIFS(Pays!G:G,Pays!E:E,1,Pays!D:D,D276)","v":0},{"$f":"SUMIFS(Pays!G:G,Pays!E:E,2,Pays!D:D,D276)","v":0},{"$f":"SUMIFS(Pays!G:G,Pays!E:E,57,Pays!D:D,D276)","v":0},{"$f":"SUMIF(Pays!D:D,D276,Pays!G:G)","v":0},{"$f":"SUMIF(Pays!D:D,D276,Pays!G:G)/176","v":0},{"$f":"IF(M276=0,IF(ISNA(MATCH(D276,'اطلاعات افراد غیر حقوق بگیر'!A:A,0)),0,LOOKUP(D276,'اطلاعات افراد غیر حقوق بگیر'!A:A,'اطلاعات افراد غیر حقوق بگیر'!F:F)),IF(H276=31,Settings!$D$13,ROUND(M276,0)))","v":0},null,0,{"$f":"IF(ISNA(MATCH(D276,Master!D:D,0)),IF(ISNA(MATCH(D276,'اطلاعات افراد غیر حقوق بگیر'!A:A,0)),0,LOOKUP(D276,'اطلاعات افراد غیر حقوق بگیر'!A:A,'اطلاعات افراد غیر حقوق بگیر'!G:G)),LOOKUP(D276,Master!D:D,Master!J:J))","v":0},{"$error":"#N/A"},0,0,{"$f":"IF(O276>#REF!,\"اخطار ساعت اضافه کار از حداکثر بیشتر است\",\" \")","v":{"$error":"#REF!"}},{"$f":"IF(O276>#REF!,1,0)","v":{"$error":"#REF!"}}]
[274,{"$f":"IF(D277=0,\"\",Settings!$D$6)","v":""},{"$f":"IF(D277=0,\"\",LOOKUP(B277,'Rigion Code'!A:A,'Rigion Code'!B:B))","v":""},null,{"$f":"IF(D277=0,\" \",IF(ISNA(MATCH(D277,Personnel!A:A,0)),IF(ISNA(MATCH(D277,'اطلاعات افراد غیر حقوق بگیر'!A:A,0)),\"وجود ندارد\",LOOKUP(Edit!D277,'اطلاعات افراد غیر حقوق بگیر'!A:A,'اطلاعات افراد غیر حقوق بگیر'!B:B)),LOOKUP(D277,Personnel!A:A,Personnel!C:C)))","v":" "},{"$f":"IF(D277=0,\" \",IF(ISNA(MATCH(D277,Personnel!A:A,0)),IF(ISNA(MATCH(D277,'اطلاعات افراد غیر حقوق بگیر'!A:A,0)),\"وجود ندارد\",LOOKUP(D277,'اطلاعات افراد غیر حقوق بگیر'!A:A,'اطلاعات افراد غیر حقوق بگیر'!C:C)),LOOKUP(D277,Personnel!A:A,Personnel!B:B)))","v":" "},{"$f":"IF(D277=0,0,IF(ISNA(MATCH(D277,Personnel!A:A,0)),IF(ISNA(MATCH(D277,'اطلاعات افراد غیر حقوق بگیر'!A:A,0)),\"وجود ندارد\",LOOKUP(D277,'اطلاعات افراد غیر حقوق بگیر'!A:A,'اطلاعات افراد غیر حقوق بگیر'!D:D)),LOOKUP(D277,Master!D:D,Master!CD:CD)))","v":0},{"$f":"IF(D277=0,\" \",IF(ISNA(MATCH(D277,Personnel!A:A,0)),IF(ISNA(MATCH(D277,'اطلاعات افراد غیر حقوق بگیر'!A:A,0)),\"وجود ندارد\",LOOKUP(D277,'اطلاعات افراد غیر حقوق بگیر'!A:A,'اطلاعات افراد غیر حقوق بگیر'!E:E)),LOOKUP(D277,Master!D:D,Master!AH:AH)))","v":" "},{"$f":"SUMIFS(Pays!G:G,Pays!E:E,1,Pays!D:D,D277)","v":0},{"$f":"SUMIFS(Pays!G:G,Pays!E:E,2,Pays!D:D,D277)","v":0},{"$f":"SUMIFS(Pays!G:G,Pays!E:E,57,Pays!D:D,D277)","v":0},{"$f":"SUMIF(Pays!D:D,D277,Pays!G:G)","v":0},{"$f":"SUMIF(Pays!D:D,D277,Pays!G:G)/176","v":0},{"$f":"IF(M277=0,IF(ISNA(MATCH(D277,'اطلاعات افراد غیر حقوق بگیر'!A:A,0)),0,LOOKUP(D277,'اطلاعات افراد غیر حقوق بگیر'!A:A,'اطلاعات افراد غیر حقوق بگیر'!F:F)),IF(H277=31,Settings!$D$13,ROUND(M277,0)))","v":0},null,0,{"$f":"IF(ISNA(MATCH(D277,Master!D:D,0)),IF(ISNA(MATCH(D277,'اطلاعات افراد غیر حقوق بگیر'!A:A,0)),0,LOOKUP(D277,'اطلاعات افراد غیر حقوق بگیر'!A:A,'اطلاعات افراد غیر حقوق بگیر'!G:G)),LOOKUP(D277,Master!D:D,Master!J:J))","v":0},{"$error":"#N/A"},0,0,{"$f":"IF(O277>#REF!,\"اخطار ساعت اضافه کار از حداکثر بیشتر است\",\" \")","v":{"$error":"#REF!"}},{"$f":"IF(O277>#REF!,1,0)","v":{"$error":"#REF!"}}]
[275,{"$f":"IF(D278=0,\"\",Settings!$D$6)","v":""},{"$f":"IF(D278=0,\"\",LOOKUP(B278,'Rigion Code'!A:A,'Rigion Code'!B:B))","v":""},null,{"$f":"IF(D278=0,\" \",IF(ISNA(MATCH(D278,Personnel!A:A,0)),IF(ISNA(MATCH(D278,'اطلاعات افراد غیر حقوق بگیر'!A:A,0)),\"وجود ندارد\",LOOKUP(Edit!D278,'اطلاعات افراد غیر حقوق بگیر'!A:A,'اطلاعات افراد غیر حقوق بگیر'!B:B)),LOOKUP(D278,Personnel!A:A,Personnel!C:C)))","v":" "},{"$f":"IF(D278=0,\" \",IF(ISNA(MATCH(D278,Personnel!A:A,0)),IF(ISNA(MATCH(D278,'اطلاعات افراد غیر حقوق بگیر'!A:A,0)),\"وجود ندارد\",LOOKUP(D278,'اطلاعات افراد غیر حقوق بگیر'!A:A,'اطلاعات افراد غیر حقوق بگیر'!C:C)),LOOKUP(D278,Personnel!A:A,Personnel!B:B)))","v":" "},{"$f":"IF(D278=0,0,IF(ISNA(MATCH(D278,Personnel!A:A,0)),IF(ISNA(MATCH(D278,'اطلاعات افراد غیر حقوق بگیر'!A:A,0)),\"وجود ندارد\",LOOKUP(D278,'اطلاعات افراد غیر حقوق بگیر'!A:A,'اطلاعات افراد غیر حقوق بگیر'!D:D)),LOOKUP(D278,Master!D:D,Master!CD:CD)))","v":0},{"$f":"IF(D278=0,\" \",IF(ISNA(MATCH(D278,Personnel!A:A,0)),IF(ISNA(MATCH(D278,'اطلاعات افراد غیر حقوق بگیر'!A:A,0)),\"وجود ندارد\",LOOKUP(D278,'اطلاعات افراد غیر حقوق بگیر'!A:A,'اطلاعات افراد غیر حقوق بگیر'!E:E)),LOOKUP(D278,Master!D:D,Master!AH:AH)))","v":" "},{"$f":"SUMIFS(Pays!G:G,Pays!E:E,1,Pays!D:D,D278)","v":0},{"$f":"SUMIFS(Pays!G:G,Pays!E:E,2,Pays!D:D,D278)","v":0},{"$f":"SUMIFS(Pays!G:G,Pays!E:E,57,Pays!D:D,D278)","v":0},{"$f":"SUMIF(Pays!D:D,D278,Pays!G:G)","v":0},{"$f":"SUMIF(Pays!D:D,D278,Pays!G:G)/176","v":0},{"$f":"IF(M278=0,IF(ISNA(MATCH(D278,'اطلاعات افراد غیر حقوق بگیر'!A:A,0)),0,LOOKUP(D278,'اطلاعات افراد غیر حقوق بگیر'!A:A,'اطلاعات افراد غیر حقوق بگیر'!F:F)),IF(H278=31,Settings!$D$13,ROUND(M278,0)))","v":0},null,0,{"$f":"IF(ISNA(MATCH(D278,Master!D:D,0)),IF(ISNA(MATCH(D278,'اطلاعات افراد غیر حقوق بگیر'!A:A,0)),0,LOOKUP(D278,'اطلاعات افراد غیر حقوق بگیر'!A:A,'اطلاعات افراد غیر حقوق بگیر'!G:G)),LOOKUP(D278,Master!D:D,Master!J:J))","v":0},{"$error":"#N/A"},0,0,{"$f":"IF(O278>#REF!,\"اخطار ساعت اضافه کار از حداکثر بیشتر است\",\" \")","v":{"$error":"#REF!"}},{"$f":"IF(O278>#REF!,1,0)","v":{"$error":"#REF!"}}]
[276,{"$f":"IF(D279=0,\"\",Settings!$D$6)","v":""},{"$f":"IF(D279=0,\"\",LOOKUP(B279,'Rigion Code'!A:A,'Rigion Code'!B:B))","v":""},null,{"$f":"IF(D279=0,\" \",IF(ISNA(MATCH(D279,Personnel!A:A,0)),IF(ISNA(MATCH(D279,'اطلاعات افراد غیر حقوق بگیر'!A:A,0)),\"وجود ندارد\",LOOKUP(Edit!D279,'اطلاعات افراد غیر حقوق بگیر'!A:A,'اطلاعات افراد غیر حقوق بگیر'!B:B)),LOOKUP(D279,Personnel!A:A,Personnel!C:C)))","v":" "},{"$f":"IF(D279=0,\" \",IF(ISNA(MATCH(D279,Personnel!A:A,0)),IF(ISNA(MATCH(D279,'اطلاعات افراد غیر حقوق بگیر'!A:A,0)),\"وجود ندارد\",LOOKUP(D279,'اطلاعات افراد غیر حقوق بگیر'!A:A,'اطلاعات افراد غیر حقوق بگیر'!C:C)),LOOKUP(D279,Personnel!A:A,Personnel!B:B)))","v":" "},{"$f":"IF(D279=0,0,IF(ISNA(MATCH(D279,Personnel!A:A,0)),IF(ISNA(MATCH(D279,'اطلاعات افراد غیر حقوق بگیر'!A:A,0)),\"وجود ندارد\",LOOKUP(D279,'اطلاعات افراد غیر حقوق بگیر'!A:A,'اطلاعات افراد غیر حقوق بگیر'!D:D)),LOOKUP(D279,Master!D:D,Master!CD:CD)))","v":0},{"$f":"IF(D279=0,\" \",IF(ISNA(MATCH(D279,Personnel!A:A,0)),IF(ISNA(MATCH(D279,'اطلاعات افراد غیر حقوق بگیر'!A:A,0)),\"وجود ندارد\",LOOKUP(D279,'اطلاعات افراد غیر حقوق بگیر'!A:A,'اطلاعات افراد غیر حقوق بگیر'!E:E)),LOOKUP(D279,Master!D:D,Master!AH:AH)))","v":" "},{"$f":"SUMIFS(Pays!G:G,Pays!E:E,1,Pays!D:D,D279)","v":0},{"$f":"SUMIFS(Pays!G:G,Pays!E:E,2,Pays!D:D,D279)","v":0},{"$f":"SUMIFS(Pays!G:G,Pays!E:E,57,Pays!D:D,D279)","v":0},{"$f":"SUMIF(Pays!D:D,D279,Pays!G:G)","v":0},{"$f":"SUMIF(Pays!D:D,D279,Pays!G:G)/176","v":0},{"$f":"IF(M279=0,IF(ISNA(MATCH(D279,'اطلاعات افراد غیر حقوق بگیر'!A:A,0)),0,LOOKUP(D279,'اطلاعات افراد غیر حقوق بگیر'!A:A,'اطلاعات افراد غیر حقوق بگیر'!F:F)),IF(H279=31,Settings!$D$13,ROUND(M279,0)))","v":0},null,0,{"$f":"IF(ISNA(MATCH(D279,Master!D:D,0)),IF(ISNA(MATCH(D279,'اطلاعات افراد غیر حقوق بگیر'!A:A,0)),0,LOOKUP(D279,'اطلاعات افراد غیر حقوق بگیر'!A:A,'اطلاعات افراد غیر حقوق بگیر'!G:G)),LOOKUP(D279,Master!D:D,Master!J:J))","v":0},{"$error":"#N/A"},0,0,{"$f":"IF(O279>#REF!,\"اخطار ساعت اضافه کار از حداکثر بیشتر است\",\" \")","v":{"$error":"#REF!"}},{"$f":"IF(O279>#REF!,1,0)","v":{"$error":"#REF!"}}]
[277,{"$f":"IF(D280=0,\"\",Settings!$D$6)","v":""},{"$f":"IF(D280=0,\"\",LOOKUP(B280,'Rigion Code'!A:A,'Rigion Code'!B:B))","v":""},null,{"$f":"IF(D280=0,\" \",IF(ISNA(MATCH(D280,Personnel!A:A,0)),IF(ISNA(MATCH(D280,'اطلاعات افراد غیر حقوق بگیر'!A:A,0)),\"وجود ندارد\",LOOKUP(Edit!D280,'اطلاعات افراد غیر حقوق بگیر'!A:A,'اطلاعات افراد غیر حقوق بگیر'!B:B)),LOOKUP(D280,Personnel!A:A,Personnel!C:C)))","v":" "},{"$f":"IF(D280=0,\" \",IF(ISNA(MATCH(D280,Personnel!A:A,0)),IF(ISNA(MATCH(D280,'اطلاعات افراد غیر حقوق بگیر'!A:A,0)),\"وجود ندارد\",LOOKUP(D280,'اطلاعات افراد غیر حقوق بگیر'!A:A,'اطلاعات افراد غیر حقوق بگیر'!C:C)),LOOKUP(D280,Personnel!A:A,Personnel!B:B)))","v":" "},{"$f":"IF(D280=0,0,IF(ISNA(MATCH(D280,Personnel!A:A,0)),IF(ISNA(MATCH(D280,'اطلاعات افراد غیر حقوق بگیر'!A:A,0)),\"وجود ندارد\",LOOKUP(D280,'اطلاعات افراد غیر حقوق بگیر'!A:A,'اطلاعات افراد غیر حقوق بگیر'!D:D)),LOOKUP(D280,Master!D:D,Master!CD:CD)))","v":0},{"$f":"IF(D280=0,\" \",IF(ISNA(MATCH(D280,Personnel!A:A,0)),IF(ISNA(MATCH(D280,'اطلاعات افراد غیر حقوق بگیر'!A:A,0)),\"وجود ندارد\",LOOKUP(D280,'اطلاعات افراد غیر حقوق بگیر'!A:A,'اطلاعات افراد غیر حقوق بگیر'!E:E)),LOOKUP(D280,Master!D:D,Master!AH:AH)))","v":" "},{"$f":"SUMIFS(Pays!G:G,Pays!E:E,1,Pays!D:D,D280)","v":0},{"$f":"SUMIFS(Pays!G:G,Pays!E:E,2,Pays!D:D,D280)","v":0},{"$f":"SUMIFS(Pays!G:G,Pays!E:E,57,Pays!D:D,D280)","v":0},{"$f":"SUMIF(Pays!D:D,D280,Pays!G:G)","v":0},{"$f":"SUMIF(Pays!D:D,D280,Pays!G:G)/176","v":0},{"$f":"IF(M280=0,IF(ISNA(MATCH(D280,'اطلاعات افراد غیر حقوق بگیر'!A:A,0)),0,LOOKUP(D280,'اطلاعات افراد غیر حقوق بگیر'!A:A,'اطلاعات افراد غیر حقوق بگیر'!F:F)),IF(H280=31,Settings!$D$13,ROUND(M280,0)))","v":0},null,0,{"$f":"IF(ISNA(MATCH(D280,Master!D:D,0)),IF(ISNA(MATCH(D280,'اطلاعات افراد غیر حقوق بگیر'!A:A,0)),0,LOOKUP(D280,'اطلاعات افراد غیر حقوق بگیر'!A:A,'اطلاعات افراد غیر حقوق بگیر'!G:G)),LOOKUP(D280,Master!D:D,Master!J:J))","v":0},{"$error":"#N/A"},0,0,{"$f":"IF(O280>#REF!,\"اخطار ساعت اضافه کار از حداکثر بیشتر است\",\" \")","v":{"$error":"#REF!"}},{"$f":"IF(O280>#REF!,1,0)","v":{"$error":"#REF!"}}]
[278,{"$f":"IF(D281=0,\"\",Settings!$D$6)","v":""},{"$f":"IF(D281=0,\"\",LOOKUP(B281,'Rigion Code'!A:A,'Rigion Code'!B:B))","v":""},null,{"$f":"IF(D281=0,\" \",IF(ISNA(MATCH(D281,Personnel!A:A,0)),IF(ISNA(MATCH(D281,'اطلاعات افراد غیر حقوق بگیر'!A:A,0)),\"وجود ندارد\",LOOKUP(Edit!D281,'اطلاعات افراد غیر حقوق بگیر'!A:A,'اطلاعات افراد غیر حقوق بگیر'!B:B)),LOOKUP(D281,Personnel!A:A,Personnel!C:C)))","v":" "},{"$f":"IF(D281=0,\" \",IF(ISNA(MATCH(D281,Personnel!A:A,0)),IF(ISNA(MATCH(D281,'اطلاعات افراد غیر حقوق بگیر'!A:A,0)),\"وجود ندارد\",LOOKUP(D281,'اطلاعات افراد غیر حقوق بگیر'!A:A,'اطلاعات افراد غیر حقوق بگیر'!C:C)),LOOKUP(D281,Personnel!A:A,Personnel!B:B)))","v":" "},{"$f":"IF(D281=0,0,IF(ISNA(MATCH(D281,Personnel!A:A,0)),IF(ISNA(MATCH(D281,'اطلاعات افراد غیر حقوق بگیر'!A:A,0)),\"وجود ندارد\",LOOKUP(D281,'اطلاعات افراد غیر حقوق بگیر'!A:A,'اطلاعات افراد غیر حقوق بگیر'!D:D)),LOOKUP(D281,Master!D:D,Master!CD:CD)))","v":0},{"$f":"IF(D281=0,\" \",IF(ISNA(MATCH(D281,Personnel!A:A,0)),IF(ISNA(MATCH(D281,'اطلاعات افراد غیر حقوق بگیر'!A:A,0)),\"وجود ندارد\",LOOKUP(D281,'اطلاعات افراد غیر حقوق بگیر'!A:A,'اطلاعات افراد غیر حقوق بگیر'!E:E)),LOOKUP(D281,Master!D:D,Master!AH:AH)))","v":" "},{"$f":"SUMIFS(Pays!G:G,Pays!E:E,1,Pays!D:D,D281)","v":0},{"$f":"SUMIFS(Pays!G:G,Pays!E:E,2,Pays!D:D,D281)","v":0},{"$f":"SUMIFS(Pays!G:G,Pays!E:E,57,Pays!D:D,D281)","v":0},{"$f":"SUMIF(Pays!D:D,D281,Pays!G:G)","v":0},{"$f":"SUMIF(Pays!D:D,D281,Pays!G:G)/176","v":0},{"$f":"IF(M281=0,IF(ISNA(MATCH(D281,'اطلاعات افراد غیر حقوق بگیر'!A:A,0)),0,LOOKUP(D281,'اطلاعات افراد غیر حقوق بگیر'!A:A,'اطلاعات افراد غیر حقوق بگیر'!F:F)),IF(H281=31,Settings!$D$13,ROUND(M281,0)))","v":0},null,0,{"$f":"IF(ISNA(MATCH(D281,Master!D:D,0)),IF(ISNA(MATCH(D281,'اطلاعات افراد غیر حقوق بگیر'!A:A,0)),0,LOOKUP(D281,'اطلاعات افراد غیر حقوق بگیر'!A:A,'اطلاعات افراد غیر حقوق بگیر'!G:G)),LOOKUP(D281,Master!D:D,Master!J:J))","v":0},{"$error":"#N/A"},0,0,{"$f":"IF(O281>#REF!,\"اخطار ساعت اضافه کار از حداکثر بیشتر است\",\" \")","v":{"$error":"#REF!"}},{"$f":"IF(O281>#REF!,1,0)","v":{"$error":"#REF!"}}]
[279,{"$f":"IF(D282=0,\"\",Settings!$D$6)","v":""},{"$f":"IF(D282=0,\"\",LOOKUP(B282,'Rigion Code'!A:A,'Rigion Code'!B:B))","v":""},null,{"$f":"IF(D282=0,\" \",IF(ISNA(MATCH(D282,Personnel!A:A,0)),IF(ISNA(MATCH(D282,'اطلاعات افراد غیر حقوق بگیر'!A:A,0)),\"وجود ندارد\",LOOKUP(Edit!D282,'اطلاعات افراد غیر حقوق بگیر'!A:A,'اطلاعات افراد غیر حقوق بگیر'!B:B)),LOOKUP(D282,Personnel!A:A,Personnel!C:C)))","v":" "},{"$f":"IF(D282=0,\" \",IF(ISNA(MATCH(D282,Personnel!A:A,0)),IF(ISNA(MATCH(D282,'اطلاعات افراد غیر حقوق بگیر'!A:A,0)),\"وجود ندارد\",LOOKUP(D282,'اطلاعات افراد غیر حقوق بگیر'!A:A,'اطلاعات افراد غیر حقوق بگیر'!C:C)),LOOKUP(D282,Personnel!A:A,Personnel!B:B)))","v":" "},{"$f":"IF(D282=0,0,IF(ISNA(MATCH(D282,Personnel!A:A,0)),IF(ISNA(MATCH(D282,'اطلاعات افراد غیر حقوق بگیر'!A:A,0)),\"وجود ندارد\",LOOKUP(D282,'اطلاعات افراد غیر حقوق بگیر'!A:A,'اطلاعات افراد غیر حقوق بگیر'!D:D)),LOOKUP(D282,Master!D:D,Master!CD:CD)))","v":0},{"$f":"IF(D282=0,\" \",IF(ISNA(MATCH(D282,Personnel!A:A,0)),IF(ISNA(MATCH(D282,'اطلاعات افراد غیر حقوق بگیر'!A:A,0)),\"وجود ندارد\",LOOKUP(D282,'اطلاعات افراد غیر حقوق بگیر'!A:A,'اطلاعات افراد غیر حقوق بگیر'!E:E)),LOOKUP(D282,Master!D:D,Master!AH:AH)))","v":" "},{"$f":"SUMIFS(Pays!G:G,Pays!E:E,1,Pays!D:D,D282)","v":0},{"$f":"SUMIFS(Pays!G:G,Pays!E:E,2,Pays!D:D,D282)","v":0},{"$f":"SUMIFS(Pays!G:G,Pays!E:E,57,Pays!D:D,D282)","v":0},{"$f":"SUMIF(Pays!D:D,D282,Pays!G:G)","v":0},{"$f":"SUMIF(Pays!D:D,D282,Pays!G:G)/176","v":0},{"$f":"IF(M282=0,IF(ISNA(MATCH(D282,'اطلاعات افراد غیر حقوق بگیر'!A:A,0)),0,LOOKUP(D282,'اطلاعات افراد غیر حقوق بگیر'!A:A,'اطلاعات افراد غیر حقوق بگیر'!F:F)),IF(H282=31,Settings!$D$13,ROUND(M282,0)))","v":0},null,0,{"$f":"IF(ISNA(MATCH(D282,Master!D:D,0)),IF(ISNA(MATCH(D282,'اطلاعات افراد غیر حقوق بگیر'!A:A,0)),0,LOOKUP(D282,'اطلاعات افراد غیر حقوق بگیر'!A:A,'اطلاعات افراد غیر حقوق بگیر'!G:G)),LOOKUP(D282,Master!D:D,Master!J:J))","v":0},{"$error":"#N/A"},0,0,{"$f":"IF(O282>#REF!,\"اخطار ساعت اضافه کار از حداکثر بیشتر است\",\" \")","v":{"$error":"#REF!"}},{"$f":"IF(O282>#REF!,1,0)","v":{"$error":"#REF!"}}]
[280,{"$f":"IF(D283=0,\"\",Settings!$D$6)","v":""},{"$f":"IF(D283=0,\"\",LOOKUP(B283,'Rigion Code'!A:A,'Rigion Code'!B:B))","v":""},null,{"$f":"IF(D283=0,\" \",IF(ISNA(MATCH(D283,Personnel!A:A,0)),IF(ISNA(MATCH(D283,'اطلاعات افراد غیر حقوق بگیر'!A:A,0)),\"وجود ندارد\",LOOKUP(Edit!D283,'اطلاعات افراد غیر حقوق بگیر'!A:A,'اطلاعات افراد غیر حقوق بگیر'!B:B)),LOOKUP(D283,Personnel!A:A,Personnel!C:C)))","v":" "},{"$f":"IF(D283=0,\" \",IF(ISNA(MATCH(D283,Personnel!A:A,0)),IF(ISNA(MATCH(D283,'اطلاعات افراد غیر حقوق بگیر'!A:A,0)),\"وجود ندارد\",LOOKUP(D283,'اطلاعات افراد غیر حقوق بگیر'!A:A,'اطلاعات افراد غیر حقوق بگیر'!C:C)),LOOKUP(D283,Personnel!A:A,Personnel!B:B)))","v":" "},{"$f":"IF(D283=0,0,IF(ISNA(MATCH(D283,Personnel!A:A,0)),IF(ISNA(MATCH(D283,'اطلاعات افراد غیر حقوق بگیر'!A:A,0)),\"وجود ندارد\",LOOKUP(D283,'اطلاعات افراد غیر حقوق بگیر'!A:A,'اطلاعات افراد غیر حقوق بگیر'!D:D)),LOOKUP(D283,Master!D:D,Master!CD:CD)))","v":0},{"$f":"IF(D283=0,\" \",IF(ISNA(MATCH(D283,Personnel!A:A,0)),IF(ISNA(MATCH(D283,'اطلاعات افراد غیر حقوق بگیر'!A:A,0)),\"وجود ندارد\",LOOKUP(D283,'اطلاعات افراد غیر حقوق بگیر'!A:A,'اطلاعات افراد غیر حقوق بگیر'!E:E)),LOOKUP(D283,Master!D:D,Master!AH:AH)))","v":" "},{"$f":"SUMIFS(Pays!G:G,Pays!E:E,1,Pays!D:D,D283)","v":0},{"$f":"SUMIFS(Pays!G:G,Pays!E:E,2,Pays!D:D,D283)","v":0},{"$f":"SUMIFS(Pays!G:G,Pays!E:E,57,Pays!D:D,D283)","v":0},{"$f":"SUMIF(Pays!D:D,D283,Pays!G:G)","v":0},{"$f":"SUMIF(Pays!D:D,D283,Pays!G:G)/176","v":0},{"$f":"IF(M283=0,IF(ISNA(MATCH(D283,'اطلاعات افراد غیر حقوق بگیر'!A:A,0)),0,LOOKUP(D283,'اطلاعات افراد غیر حقوق بگیر'!A:A,'اطلاعات افراد غیر حقوق بگیر'!F:F)),IF(H283=31,Settings!$D$13,ROUND(M283,0)))","v":0},null,0,{"$f":"IF(ISNA(MATCH(D283,Master!D:D,0)),IF(ISNA(MATCH(D283,'اطلاعات افراد غیر حقوق بگیر'!A:A,0)),0,LOOKUP(D283,'اطلاعات افراد غیر حقوق بگیر'!A:A,'اطلاعات افراد غیر حقوق بگیر'!G:G)),LOOKUP(D283,Master!D:D,Master!J:J))","v":0},{"$error":"#N/A"},0,0,{"$f":"IF(O283>#REF!,\"اخطار ساعت اضافه کار از حداکثر بیشتر است\",\" \")","v":{"$error":"#REF!"}},{"$f":"IF(O283>#REF!,1,0)","v":{"$error":"#REF!"}}]
[281,{"$f":"IF(D284=0,\"\",Settings!$D$6)","v":""},{"$f":"IF(D284=0,\"\",LOOKUP(B284,'Rigion Code'!A:A,'Rigion Code'!B:B))","v":""},null,{"$f":"IF(D284=0,\" \",IF(ISNA(MATCH(D284,Personnel!A:A,0)),IF(ISNA(MATCH(D284,'اطلاعات افراد غیر حقوق بگیر'!A:A,0)),\"وجود ندارد\",LOOKUP(Edit!D284,'اطلاعات افراد غیر حقوق بگیر'!A:A,'اطلاعات افراد غیر حقوق بگیر'!B:B)),LOOKUP(D284,Personnel!A:A,Personnel!C:C)))","v":" "},{"$f":"IF(D284=0,\" \",IF(ISNA(MATCH(D284,Personnel!A:A,0)),IF(ISNA(MATCH(D284,'اطلاعات افراد غیر حقوق بگیر'!A:A,0)),\"وجود ندارد\",LOOKUP(D284,'اطلاعات افراد غیر حقوق بگیر'!A:A,'اطلاعات افراد غیر حقوق بگیر'!C:C)),LOOKUP(D284,Personnel!A:A,Personnel!B:B)))","v":" "},{"$f":"IF(D284=0,0,IF(ISNA(MATCH(D284,Personnel!A:A,0)),IF(ISNA(MATCH(D284,'اطلاعات افراد غیر حقوق بگیر'!A:A,0)),\"وجود ندارد\",LOOKUP(D284,'اطلاعات افراد غیر حقوق بگیر'!A:A,'اطلاعات افراد غیر حقوق بگیر'!D:D)),LOOKUP(D284,Master!D:D,Master!CD:CD)))","v":0},{"$f":"IF(D284=0,\" \",IF(ISNA(MATCH(D284,Personnel!A:A,0)),IF(ISNA(MATCH(D284,'اطلاعات افراد غیر حقوق بگیر'!A:A,0)),\"وجود ندارد\",LOOKUP(D284,'اطلاعات افراد غیر حقوق بگیر'!A:A,'اطلاعات افراد غیر حقوق بگیر'!E:E)),LOOKUP(D284,Master!D:D,Master!AH:AH)))","v":" "},{"$f":"SUMIFS(Pays!G:G,Pays!E:E,1,Pays!D:D,D284)","v":0},{"$f":"SUMIFS(Pays!G:G,Pays!E:E,2,Pays!D:D,D284)","v":0},{"$f":"SUMIFS(Pays!G:G,Pays!E:E,57,Pays!D:D,D284)","v":0},{"$f":"SUMIF(Pays!D:D,D284,Pays!G:G)","v":0},{"$f":"SUMIF(Pays!D:D,D284,Pays!G:G)/176","v":0},{"$f":"IF(M284=0,IF(ISNA(MATCH(D284,'اطلاعات افراد غیر حقوق بگیر'!A:A,0)),0,LOOKUP(D284,'اطلاعات افراد غیر حقوق بگیر'!A:A,'اطلاعات افراد غیر حقوق بگیر'!F:F)),IF(H284=31,Settings!$D$13,ROUND(M284,0)))","v":0},null,0,{"$f":"IF(ISNA(MATCH(D284,Master!D:D,0)),IF(ISNA(MATCH(D284,'اطلاعات افراد غیر حقوق بگیر'!A:A,0)),0,LOOKUP(D284,'اطلاعات افراد غیر حقوق بگیر'!A:A,'اطلاعات افراد غیر حقوق بگیر'!G:G)),LOOKUP(D284,Master!D:D,Master!J:J))","v":0},{"$error":"#N/A"},0,0,{"$f":"IF(O284>#REF!,\"اخطار ساعت اضافه کار از حداکثر بیشتر است\",\" \")","v":{"$error":"#REF!"}},{"$f":"IF(O284>#REF!,1,0)","v":{"$error":"#REF!"}}]
[282,{"$f":"IF(D285=0,\"\",Settings!$D$6)","v":""},{"$f":"IF(D285=0,\"\",LOOKUP(B285,'Rigion Code'!A:A,'Rigion Code'!B:B))","v":""},null,{"$f":"IF(D285=0,\" \",IF(ISNA(MATCH(D285,Personnel!A:A,0)),IF(ISNA(MATCH(D285,'اطلاعات افراد غیر حقوق بگیر'!A:A,0)),\"وجود ندارد\",LOOKUP(Edit!D285,'اطلاعات افراد غیر حقوق بگیر'!A:A,'اطلاعات افراد غیر حقوق بگیر'!B:B)),LOOKUP(D285,Personnel!A:A,Personnel!C:C)))","v":" "},{"$f":"IF(D285=0,\" \",IF(ISNA(MATCH(D285,Personnel!A:A,0)),IF(ISNA(MATCH(D285,'اطلاعات افراد غیر حقوق بگیر'!A:A,0)),\"وجود ندارد\",LOOKUP(D285,'اطلاعات افراد غیر حقوق بگیر'!A:A,'اطلاعات افراد غیر حقوق بگیر'!C:C)),LOOKUP(D285,Personnel!A:A,Personnel!B:B)))","v":" "},{"$f":"IF(D285=0,0,IF(ISNA(MATCH(D285,Personnel!A:A,0)),IF(ISNA(MATCH(D285,'اطلاعات افراد غیر حقوق بگیر'!A:A,0)),\"وجود ندارد\",LOOKUP(D285,'اطلاعات افراد غیر حقوق بگیر'!A:A,'اطلاعات افراد غیر حقوق بگیر'!D:D)),LOOKUP(D285,Master!D:D,Master!CD:CD)))","v":0},{"$f":"IF(D285=0,\" \",IF(ISNA(MATCH(D285,Personnel!A:A,0)),IF(ISNA(MATCH(D285,'اطلاعات افراد غیر حقوق بگیر'!A:A,0)),\"وجود ندارد\",LOOKUP(D285,'اطلاعات افراد غیر حقوق بگیر'!A:A,'اطلاعات افراد غیر حقوق بگیر'!E:E)),LOOKUP(D285,Master!D:D,Master!AH:AH)))","v":" "},{"$f":"SUMIFS(Pays!G:G,Pays!E:E,1,Pays!D:D,D285)","v":0},{"$f":"SUMIFS(Pays!G:G,Pays!E:E,2,Pays!D:D,D285)","v":0},{"$f":"SUMIFS(Pays!G:G,Pays!E:E,57,Pays!D:D,D285)","v":0},{"$f":"SUMIF(Pays!D:D,D285,Pays!G:G)","v":0},{"$f":"SUMIF(Pays!D:D,D285,Pays!G:G)/176","v":0},{"$f":"IF(M285=0,IF(ISNA(MATCH(D285,'اطلاعات افراد غیر حقوق بگیر'!A:A,0)),0,LOOKUP(D285,'اطلاعات افراد غیر حقوق بگیر'!A:A,'اطلاعات افراد غیر حقوق بگیر'!F:F)),IF(H285=31,Settings!$D$13,ROUND(M285,0)))","v":0},null,0,{"$f":"IF(ISNA(MATCH(D285,Master!D:D,0)),IF(ISNA(MATCH(D285,'اطلاعات افراد غیر حقوق بگیر'!A:A,0)),0,LOOKUP(D285,'اطلاعات افراد غیر حقوق بگیر'!A:A,'اطلاعات افراد غیر حقوق بگیر'!G:G)),LOOKUP(D285,Master!D:D,Master!J:J))","v":0},{"$error":"#N/A"},0,0,{"$f":"IF(O285>#REF!,\"اخطار ساعت اضافه کار از حداکثر بیشتر است\",\" \")","v":{"$error":"#REF!"}},{"$f":"IF(O285>#REF!,1,0)","v":{"$error":"#REF!"}}]
[283,{"$f":"IF(D286=0,\"\",Settings!$D$6)","v":""},{"$f":"IF(D286=0,\"\",LOOKUP(B286,'Rigion Code'!A:A,'Rigion Code'!B:B))","v":""},null,{"$f":"IF(D286=0,\" \",IF(ISNA(MATCH(D286,Personnel!A:A,0)),IF(ISNA(MATCH(D286,'اطلاعات افراد غیر حقوق بگیر'!A:A,0)),\"وجود ندارد\",LOOKUP(Edit!D286,'اطلاعات افراد غیر حقوق بگیر'!A:A,'اطلاعات افراد غیر حقوق بگیر'!B:B)),LOOKUP(D286,Personnel!A:A,Personnel!C:C)))","v":" "},{"$f":"IF(D286=0,\" \",IF(ISNA(MATCH(D286,Personnel!A:A,0)),IF(ISNA(MATCH(D286,'اطلاعات افراد غیر حقوق بگیر'!A:A,0)),\"وجود ندارد\",LOOKUP(D286,'اطلاعات افراد غیر حقوق بگیر'!A:A,'اطلاعات افراد غیر حقوق بگیر'!C:C)),LOOKUP(D286,Personnel!A:A,Personnel!B:B)))","v":" "},{"$f":"IF(D286=0,0,IF(ISNA(MATCH(D286,Personnel!A:A,0)),IF(ISNA(MATCH(D286,'اطلاعات افراد غیر حقوق بگیر'!A:A,0)),\"وجود ندارد\",LOOKUP(D286,'اطلاعات افراد غیر حقوق بگیر'!A:A,'اطلاعات افراد غیر حقوق بگیر'!D:D)),LOOKUP(D286,Master!D:D,Master!CD:CD)))","v":0},{"$f":"IF(D286=0,\" \",IF(ISNA(MATCH(D286,Personnel!A:A,0)),IF(ISNA(MATCH(D286,'اطلاعات افراد غیر حقوق بگیر'!A:A,0)),\"وجود ندارد\",LOOKUP(D286,'اطلاعات افراد غیر حقوق بگیر'!A:A,'اطلاعات افراد غیر حقوق بگیر'!E:E)),LOOKUP(D286,Master!D:D,Master!AH:AH)))","v":" "},{"$f":"SUMIFS(Pays!G:G,Pays!E:E,1,Pays!D:D,D286)","v":0},{"$f":"SUMIFS(Pays!G:G,Pays!E:E,2,Pays!D:D,D286)","v":0},{"$f":"SUMIFS(Pays!G:G,Pays!E:E,57,Pays!D:D,D286)","v":0},{"$f":"SUMIF(Pays!D:D,D286,Pays!G:G)","v":0},{"$f":"SUMIF(Pays!D:D,D286,Pays!G:G)/176","v":0},{"$f":"IF(M286=0,IF(ISNA(MATCH(D286,'اطلاعات افراد غیر حقوق بگیر'!A:A,0)),0,LOOKUP(D286,'اطلاعات افراد غیر حقوق بگیر'!A:A,'اطلاعات افراد غیر حقوق بگیر'!F:F)),IF(H286=31,Settings!$D$13,ROUND(M286,0)))","v":0},null,0,{"$f":"IF(ISNA(MATCH(D286,Master!D:D,0)),IF(ISNA(MATCH(D286,'اطلاعات افراد غیر حقوق بگیر'!A:A,0)),0,LOOKUP(D286,'اطلاعات افراد غیر حقوق بگیر'!A:A,'اطلاعات افراد غیر حقوق بگیر'!G:G)),LOOKUP(D286,Master!D:D,Master!J:J))","v":0},{"$error":"#N/A"},0,0,{"$f":"IF(O286>#REF!,\"اخطار ساعت اضافه کار از حداکثر بیشتر است\",\" \")","v":{"$error":"#REF!"}},{"$f":"IF(O286>#REF!,1,0)","v":{"$error":"#REF!"}}]
[284,{"$f":"IF(D287=0,\"\",Settings!$D$6)","v":""},{"$f":"IF(D287=0,\"\",LOOKUP(B287,'Rigion Code'!A:A,'Rigion Code'!B:B))","v":""},null,{"$f":"IF(D287=0,\" \",IF(ISNA(MATCH(D287,Personnel!A:A,0)),IF(ISNA(MATCH(D287,'اطلاعات افراد غیر حقوق بگیر'!A:A,0)),\"وجود ندارد\",LOOKUP(Edit!D287,'اطلاعات افراد غیر حقوق بگیر'!A:A,'اطلاعات افراد غیر حقوق بگیر'!B:B)),LOOKUP(D287,Personnel!A:A,Personnel!C:C)))","v":" "},{"$f":"IF(D287=0,\" \",IF(ISNA(MATCH(D287,Personnel!A:A,0)),IF(ISNA(MATCH(D287,'اطلاعات افراد غیر حقوق بگیر'!A:A,0)),\"وجود ندارد\",LOOKUP(D287,'اطلاعات افراد غیر حقوق بگیر'!A:A,'اطلاعات افراد غیر حقوق بگیر'!C:C)),LOOKUP(D287,Personnel!A:A,Personnel!B:B)))","v":" "},{"$f":"IF(D287=0,0,IF(ISNA(MATCH(D287,Personnel!A:A,0)),IF(ISNA(MATCH(D287,'اطلاعات افراد غیر حقوق بگیر'!A:A,0)),\"وجود ندارد\",LOOKUP(D287,'اطلاعات افراد غیر حقوق بگیر'!A:A,'اطلاعات افراد غیر حقوق بگیر'!D:D)),LOOKUP(D287,Master!D:D,Master!CD:CD)))","v":0},{"$f":"IF(D287=0,\" \",IF(ISNA(MATCH(D287,Personnel!A:A,0)),IF(ISNA(MATCH(D287,'اطلاعات افراد غیر حقوق بگیر'!A:A,0)),\"وجود ندارد\",LOOKUP(D287,'اطلاعات افراد غیر حقوق بگیر'!A:A,'اطلاعات افراد غیر حقوق بگیر'!E:E)),LOOKUP(D287,Master!D:D,Master!AH:AH)))","v":" "},{"$f":"SUMIFS(Pays!G:G,Pays!E:E,1,Pays!D:D,D287)","v":0},{"$f":"SUMIFS(Pays!G:G,Pays!E:E,2,Pays!D:D,D287)","v":0},{"$f":"SUMIFS(Pays!G:G,Pays!E:E,57,Pays!D:D,D287)","v":0},{"$f":"SUMIF(Pays!D:D,D287,Pays!G:G)","v":0},{"$f":"SUMIF(Pays!D:D,D287,Pays!G:G)/176","v":0},{"$f":"IF(M287=0,IF(ISNA(MATCH(D287,'اطلاعات افراد غیر حقوق بگیر'!A:A,0)),0,LOOKUP(D287,'اطلاعات افراد غیر حقوق بگیر'!A:A,'اطلاعات افراد غیر حقوق بگیر'!F:F)),IF(H287=31,Settings!$D$13,ROUND(M287,0)))","v":0},null,0,{"$f":"IF(ISNA(MATCH(D287,Master!D:D,0)),IF(ISNA(MATCH(D287,'اطلاعات افراد غیر حقوق بگیر'!A:A,0)),0,LOOKUP(D287,'اطلاعات افراد غیر حقوق بگیر'!A:A,'اطلاعات افراد غیر حقوق بگیر'!G:G)),LOOKUP(D287,Master!D:D,Master!J:J))","v":0},{"$error":"#N/A"},0,0,{"$f":"IF(O287>#REF!,\"اخطار ساعت اضافه کار از حداکثر بیشتر است\",\" \")","v":{"$error":"#REF!"}},{"$f":"IF(O287>#REF!,1,0)","v":{"$error":"#REF!"}}]
[285,{"$f":"IF(D288=0,\"\",Settings!$D$6)","v":""},{"$f":"IF(D288=0,\"\",LOOKUP(B288,'Rigion Code'!A:A,'Rigion Code'!B:B))","v":""},null,{"$f":"IF(D288=0,\" \",IF(ISNA(MATCH(D288,Personnel!A:A,0)),IF(ISNA(MATCH(D288,'اطلاعات افراد غیر حقوق بگیر'!A:A,0)),\"وجود ندارد\",LOOKUP(Edit!D288,'اطلاعات افراد غیر حقوق بگیر'!A:A,'اطلاعات افراد غیر حقوق بگیر'!B:B)),LOOKUP(D288,Personnel!A:A,Personnel!C:C)))","v":" "},{"$f":"IF(D288=0,\" \",IF(ISNA(MATCH(D288,Personnel!A:A,0)),IF(ISNA(MATCH(D288,'اطلاعات افراد غیر حقوق بگیر'!A:A,0)),\"وجود ندارد\",LOOKUP(D288,'اطلاعات افراد غیر حقوق بگیر'!A:A,'اطلاعات افراد غیر حقوق بگیر'!C:C)),LOOKUP(D288,Personnel!A:A,Personnel!B:B)))","v":" "},{"$f":"IF(D288=0,0,IF(ISNA(MATCH(D288,Personnel!A:A,0)),IF(ISNA(MATCH(D288,'اطلاعات افراد غیر حقوق بگیر'!A:A,0)),\"وجود ندارد\",LOOKUP(D288,'اطلاعات افراد غیر حقوق بگیر'!A:A,'اطلاعات افراد غیر حقوق بگیر'!D:D)),LOOKUP(D288,Master!D:D,Master!CD:CD)))","v":0},{"$f":"IF(D288=0,\" \",IF(ISNA(MATCH(D288,Personnel!A:A,0)),IF(ISNA(MATCH(D288,'اطلاعات افراد غیر حقوق بگیر'!A:A,0)),\"وجود ندارد\",LOOKUP(D288,'اطلاعات افراد غیر حقوق بگیر'!A:A,'اطلاعات افراد غیر حقوق بگیر'!E:E)),LOOKUP(D288,Master!D:D,Master!AH:AH)))","v":" "},{"$f":"SUMIFS(Pays!G:G,Pays!E:E,1,Pays!D:D,D288)","v":0},{"$f":"SUMIFS(Pays!G:G,Pays!E:E,2,Pays!D:D,D288)","v":0},{"$f":"SUMIFS(Pays!G:G,Pays!E:E,57,Pays!D:D,D288)","v":0},{"$f":"SUMIF(Pays!D:D,D288,Pays!G:G)","v":0},{"$f":"SUMIF(Pays!D:D,D288,Pays!G:G)/176","v":0},{"$f":"IF(M288=0,IF(ISNA(MATCH(D288,'اطلاعات افراد غیر حقوق بگیر'!A:A,0)),0,LOOKUP(D288,'اطلاعات افراد غیر حقوق بگیر'!A:A,'اطلاعات افراد غیر حقوق بگیر'!F:F)),IF(H288=31,Settings!$D$13,ROUND(M288,0)))","v":0},null,0,{"$f":"IF(ISNA(MATCH(D288,Master!D:D,0)),IF(ISNA(MATCH(D288,'اطلاعات افراد غیر حقوق بگیر'!A:A,0)),0,LOOKUP(D288,'اطلاعات افراد غیر حقوق بگیر'!A:A,'اطلاعات افراد غیر حقوق بگیر'!G:G)),LOOKUP(D288,Master!D:D,Master!J:J))","v":0},{"$error":"#N/A"},0,0,{"$f":"IF(O288>#REF!,\"اخطار ساعت اضافه کار از حداکثر بیشتر است\",\" \")","v":{"$error":"#REF!"}},{"$f":"IF(O288>#REF!,1,0)","v":{"$error":"#REF!"}}]
[286,{"$f":"IF(D289=0,\"\",Settings!$D$6)","v":""},{"$f":"IF(D289=0,\"\",LOOKUP(B289,'Rigion Code'!A:A,'Rigion Code'!B:B))","v":""},null,{"$f":"IF(D289=0,\" \",IF(ISNA(MATCH(D289,Personnel!A:A,0)),IF(ISNA(MATCH(D289,'اطلاعات افراد غیر حقوق بگیر'!A:A,0)),\"وجود ندارد\",LOOKUP(Edit!D289,'اطلاعات افراد غیر حقوق بگیر'!A:A,'اطلاعات افراد غیر حقوق بگیر'!B:B)),LOOKUP(D289,Personnel!A:A,Personnel!C:C)))","v":" "},{"$f":"IF(D289=0,\" \",IF(ISNA(MATCH(D289,Personnel!A:A,0)),IF(ISNA(MATCH(D289,'اطلاعات افراد غیر حقوق بگیر'!A:A,0)),\"وجود ندارد\",LOOKUP(D289,'اطلاعات افراد غیر حقوق بگیر'!A:A,'اطلاعات افراد غیر حقوق بگیر'!C:C)),LOOKUP(D289,Personnel!A:A,Personnel!B:B)))","v":" "},{"$f":"IF(D289=0,0,IF(ISNA(MATCH(D289,Personnel!A:A,0)),IF(ISNA(MATCH(D289,'اطلاعات افراد غیر حقوق بگیر'!A:A,0)),\"وجود ندارد\",LOOKUP(D289,'اطلاعات افراد غیر حقوق بگیر'!A:A,'اطلاعات افراد غیر حقوق بگیر'!D:D)),LOOKUP(D289,Master!D:D,Master!CD:CD)))","v":0},{"$f":"IF(D289=0,\" \",IF(ISNA(MATCH(D289,Personnel!A:A,0)),IF(ISNA(MATCH(D289,'اطلاعات افراد غیر حقوق بگیر'!A:A,0)),\"وجود ندارد\",LOOKUP(D289,'اطلاعات افراد غیر حقوق بگیر'!A:A,'اطلاعات افراد غیر حقوق بگیر'!E:E)),LOOKUP(D289,Master!D:D,Master!AH:AH)))","v":" "},{"$f":"SUMIFS(Pays!G:G,Pays!E:E,1,Pays!D:D,D289)","v":0},{"$f":"SUMIFS(Pays!G:G,Pays!E:E,2,Pays!D:D,D289)","v":0},{"$f":"SUMIFS(Pays!G:G,Pays!E:E,57,Pays!D:D,D289)","v":0},{"$f":"SUMIF(Pays!D:D,D289,Pays!G:G)","v":0},{"$f":"SUMIF(Pays!D:D,D289,Pays!G:G)/176","v":0},{"$f":"IF(M289=0,IF(ISNA(MATCH(D289,'اطلاعات افراد غیر حقوق بگیر'!A:A,0)),0,LOOKUP(D289,'اطلاعات افراد غیر حقوق بگیر'!A:A,'اطلاعات افراد غیر حقوق بگیر'!F:F)),IF(H289=31,Settings!$D$13,ROUND(M289,0)))","v":0},null,0,{"$f":"IF(ISNA(MATCH(D289,Master!D:D,0)),IF(ISNA(MATCH(D289,'اطلاعات افراد غیر حقوق بگیر'!A:A,0)),0,LOOKUP(D289,'اطلاعات افراد غیر حقوق بگیر'!A:A,'اطلاعات افراد غیر حقوق بگیر'!G:G)),LOOKUP(D289,Master!D:D,Master!J:J))","v":0},{"$error":"#N/A"},0,0,{"$f":"IF(O289>#REF!,\"اخطار ساعت اضافه کار از حداکثر بیشتر است\",\" \")","v":{"$error":"#REF!"}},{"$f":"IF(O289>#REF!,1,0)","v":{"$error":"#REF!"}}]
[287,{"$f":"IF(D290=0,\"\",Settings!$D$6)","v":""},{"$f":"IF(D290=0,\"\",LOOKUP(B290,'Rigion Code'!A:A,'Rigion Code'!B:B))","v":""},null,{"$f":"IF(D290=0,\" \",IF(ISNA(MATCH(D290,Personnel!A:A,0)),IF(ISNA(MATCH(D290,'اطلاعات افراد غیر حقوق بگیر'!A:A,0)),\"وجود ندارد\",LOOKUP(Edit!D290,'اطلاعات افراد غیر حقوق بگیر'!A:A,'اطلاعات افراد غیر حقوق بگیر'!B:B)),LOOKUP(D290,Personnel!A:A,Personnel!C:C)))","v":" "},{"$f":"IF(D290=0,\" \",IF(ISNA(MATCH(D290,Personnel!A:A,0)),IF(ISNA(MATCH(D290,'اطلاعات افراد غیر حقوق بگیر'!A:A,0)),\"وجود ندارد\",LOOKUP(D290,'اطلاعات افراد غیر حقوق بگیر'!A:A,'اطلاعات افراد غیر حقوق بگیر'!C:C)),LOOKUP(D290,Personnel!A:A,Personnel!B:B)))","v":" "},{"$f":"IF(D290=0,0,IF(ISNA(MATCH(D290,Personnel!A:A,0)),IF(ISNA(MATCH(D290,'اطلاعات افراد غیر حقوق بگیر'!A:A,0)),\"وجود ندارد\",LOOKUP(D290,'اطلاعات افراد غیر حقوق بگیر'!A:A,'اطلاعات افراد غیر حقوق بگیر'!D:D)),LOOKUP(D290,Master!D:D,Master!CD:CD)))","v":0},{"$f":"IF(D290=0,\" \",IF(ISNA(MATCH(D290,Personnel!A:A,0)),IF(ISNA(MATCH(D290,'اطلاعات افراد غیر حقوق بگیر'!A:A,0)),\"وجود ندارد\",LOOKUP(D290,'اطلاعات افراد غیر حقوق بگیر'!A:A,'اطلاعات افراد غیر حقوق بگیر'!E:E)),LOOKUP(D290,Master!D:D,Master!AH:AH)))","v":" "},{"$f":"SUMIFS(Pays!G:G,Pays!E:E,1,Pays!D:D,D290)","v":0},{"$f":"SUMIFS(Pays!G:G,Pays!E:E,2,Pays!D:D,D290)","v":0},{"$f":"SUMIFS(Pays!G:G,Pays!E:E,57,Pays!D:D,D290)","v":0},{"$f":"SUMIF(Pays!D:D,D290,Pays!G:G)","v":0},{"$f":"SUMIF(Pays!D:D,D290,Pays!G:G)/176","v":0},{"$f":"IF(M290=0,IF(ISNA(MATCH(D290,'اطلاعات افراد غیر حقوق بگیر'!A:A,0)),0,LOOKUP(D290,'اطلاعات افراد غیر حقوق بگیر'!A:A,'اطلاعات افراد غیر حقوق بگیر'!F:F)),IF(H290=31,Settings!$D$13,ROUND(M290,0)))","v":0},null,0,{"$f":"IF(ISNA(MATCH(D290,Master!D:D,0)),IF(ISNA(MATCH(D290,'اطلاعات افراد غیر حقوق بگیر'!A:A,0)),0,LOOKUP(D290,'اطلاعات افراد غیر حقوق بگیر'!A:A,'اطلاعات افراد غیر حقوق بگیر'!G:G)),LOOKUP(D290,Master!D:D,Master!J:J))","v":0},{"$error":"#N/A"},0,0,{"$f":"IF(O290>#REF!,\"اخطار ساعت اضافه کار از حداکثر بیشتر است\",\" \")","v":{"$error":"#REF!"}},{"$f":"IF(O290>#REF!,1,0)","v":{"$error":"#REF!"}}]
[288,{"$f":"IF(D291=0,\"\",Settings!$D$6)","v":""},{"$f":"IF(D291=0,\"\",LOOKUP(B291,'Rigion Code'!A:A,'Rigion Code'!B:B))","v":""},null,{"$f":"IF(D291=0,\" \",IF(ISNA(MATCH(D291,Personnel!A:A,0)),IF(ISNA(MATCH(D291,'اطلاعات افراد غیر حقوق بگیر'!A:A,0)),\"وجود ندارد\",LOOKUP(Edit!D291,'اطلاعات افراد غیر حقوق بگیر'!A:A,'اطلاعات افراد غیر حقوق بگیر'!B:B)),LOOKUP(D291,Personnel!A:A,Personnel!C:C)))","v":" "},{"$f":"IF(D291=0,\" \",IF(ISNA(MATCH(D291,Personnel!A:A,0)),IF(ISNA(MATCH(D291,'اطلاعات افراد غیر حقوق بگیر'!A:A,0)),\"وجود ندارد\",LOOKUP(D291,'اطلاعات افراد غیر حقوق بگیر'!A:A,'اطلاعات افراد غیر حقوق بگیر'!C:C)),LOOKUP(D291,Personnel!A:A,Personnel!B:B)))","v":" "},{"$f":"IF(D291=0,0,IF(ISNA(MATCH(D291,Personnel!A:A,0)),IF(ISNA(MATCH(D291,'اطلاعات افراد غیر حقوق بگیر'!A:A,0)),\"وجود ندارد\",LOOKUP(D291,'اطلاعات افراد غیر حقوق بگیر'!A:A,'اطلاعات افراد غیر حقوق بگیر'!D:D)),LOOKUP(D291,Master!D:D,Master!CD:CD)))","v":0},{"$f":"IF(D291=0,\" \",IF(ISNA(MATCH(D291,Personnel!A:A,0)),IF(ISNA(MATCH(D291,'اطلاعات افراد غیر حقوق بگیر'!A:A,0)),\"وجود ندارد\",LOOKUP(D291,'اطلاعات افراد غیر حقوق بگیر'!A:A,'اطلاعات افراد غیر حقوق بگیر'!E:E)),LOOKUP(D291,Master!D:D,Master!AH:AH)))","v":" "},{"$f":"SUMIFS(Pays!G:G,Pays!E:E,1,Pays!D:D,D291)","v":0},{"$f":"SUMIFS(Pays!G:G,Pays!E:E,2,Pays!D:D,D291)","v":0},{"$f":"SUMIFS(Pays!G:G,Pays!E:E,57,Pays!D:D,D291)","v":0},{"$f":"SUMIF(Pays!D:D,D291,Pays!G:G)","v":0},{"$f":"SUMIF(Pays!D:D,D291,Pays!G:G)/176","v":0},{"$f":"IF(M291=0,IF(ISNA(MATCH(D291,'اطلاعات افراد غیر حقوق بگیر'!A:A,0)),0,LOOKUP(D291,'اطلاعات افراد غیر حقوق بگیر'!A:A,'اطلاعات افراد غیر حقوق بگیر'!F:F)),IF(H291=31,Settings!$D$13,ROUND(M291,0)))","v":0},null,0,{"$f":"IF(ISNA(MATCH(D291,Master!D:D,0)),IF(ISNA(MATCH(D291,'اطلاعات افراد غیر حقوق بگیر'!A:A,0)),0,LOOKUP(D291,'اطلاعات افراد غیر حقوق بگیر'!A:A,'اطلاعات افراد غیر حقوق بگیر'!G:G)),LOOKUP(D291,Master!D:D,Master!J:J))","v":0},{"$error":"#N/A"},0,0,{"$f":"IF(O291>#REF!,\"اخطار ساعت اضافه کار از حداکثر بیشتر است\",\" \")","v":{"$error":"#REF!"}},{"$f":"IF(O291>#REF!,1,0)","v":{"$error":"#REF!"}}]
[289,{"$f":"IF(D292=0,\"\",Settings!$D$6)","v":""},{"$f":"IF(D292=0,\"\",LOOKUP(B292,'Rigion Code'!A:A,'Rigion Code'!B:B))","v":""},null,{"$f":"IF(D292=0,\" \",IF(ISNA(MATCH(D292,Personnel!A:A,0)),IF(ISNA(MATCH(D292,'اطلاعات افراد غیر حقوق بگیر'!A:A,0)),\"وجود ندارد\",LOOKUP(Edit!D292,'اطلاعات افراد غیر حقوق بگیر'!A:A,'اطلاعات افراد غیر حقوق بگیر'!B:B)),LOOKUP(D292,Personnel!A:A,Personnel!C:C)))","v":" "},{"$f":"IF(D292=0,\" \",IF(ISNA(MATCH(D292,Personnel!A:A,0)),IF(ISNA(MATCH(D292,'اطلاعات افراد غیر حقوق بگیر'!A:A,0)),\"وجود ندارد\",LOOKUP(D292,'اطلاعات افراد غیر حقوق بگیر'!A:A,'اطلاعات افراد غیر حقوق بگیر'!C:C)),LOOKUP(D292,Personnel!A:A,Personnel!B:B)))","v":" "},{"$f":"IF(D292=0,0,IF(ISNA(MATCH(D292,Personnel!A:A,0)),IF(ISNA(MATCH(D292,'اطلاعات افراد غیر حقوق بگیر'!A:A,0)),\"وجود ندارد\",LOOKUP(D292,'اطلاعات افراد غیر حقوق بگیر'!A:A,'اطلاعات افراد غیر حقوق بگیر'!D:D)),LOOKUP(D292,Master!D:D,Master!CD:CD)))","v":0},{"$f":"IF(D292=0,\" \",IF(ISNA(MATCH(D292,Personnel!A:A,0)),IF(ISNA(MATCH(D292,'اطلاعات افراد غیر حقوق بگیر'!A:A,0)),\"وجود ندارد\",LOOKUP(D292,'اطلاعات افراد غیر حقوق بگیر'!A:A,'اطلاعات افراد غیر حقوق بگیر'!E:E)),LOOKUP(D292,Master!D:D,Master!AH:AH)))","v":" "},{"$f":"SUMIFS(Pays!G:G,Pays!E:E,1,Pays!D:D,D292)","v":0},{"$f":"SUMIFS(Pays!G:G,Pays!E:E,2,Pays!D:D,D292)","v":0},{"$f":"SUMIFS(Pays!G:G,Pays!E:E,57,Pays!D:D,D292)","v":0},{"$f":"SUMIF(Pays!D:D,D292,Pays!G:G)","v":0},{"$f":"SUMIF(Pays!D:D,D292,Pays!G:G)/176","v":0},{"$f":"IF(M292=0,IF(ISNA(MATCH(D292,'اطلاعات افراد غیر حقوق بگیر'!A:A,0)),0,LOOKUP(D292,'اطلاعات افراد غیر حقوق بگیر'!A:A,'اطلاعات افراد غیر حقوق بگیر'!F:F)),IF(H292=31,Settings!$D$13,ROUND(M292,0)))","v":0},null,0,{"$f":"IF(ISNA(MATCH(D292,Master!D:D,0)),IF(ISNA(MATCH(D292,'اطلاعات افراد غیر حقوق بگیر'!A:A,0)),0,LOOKUP(D292,'اطلاعات افراد غیر حقوق بگیر'!A:A,'اطلاعات افراد غیر حقوق بگیر'!G:G)),LOOKUP(D292,Master!D:D,Master!J:J))","v":0},{"$error":"#N/A"},0,0,{"$f":"IF(O292>#REF!,\"اخطار ساعت اضافه کار از حداکثر بیشتر است\",\" \")","v":{"$error":"#REF!"}},{"$f":"IF(O292>#REF!,1,0)","v":{"$error":"#REF!"}}]
[290,{"$f":"IF(D293=0,\"\",Settings!$D$6)","v":""},{"$f":"IF(D293=0,\"\",LOOKUP(B293,'Rigion Code'!A:A,'Rigion Code'!B:B))","v":""},null,{"$f":"IF(D293=0,\" \",IF(ISNA(MATCH(D293,Personnel!A:A,0)),IF(ISNA(MATCH(D293,'اطلاعات افراد غیر حقوق بگیر'!A:A,0)),\"وجود ندارد\",LOOKUP(Edit!D293,'اطلاعات افراد غیر حقوق بگیر'!A:A,'اطلاعات افراد غیر حقوق بگیر'!B:B)),LOOKUP(D293,Personnel!A:A,Personnel!C:C)))","v":" "},{"$f":"IF(D293=0,\" \",IF(ISNA(MATCH(D293,Personnel!A:A,0)),IF(ISNA(MATCH(D293,'اطلاعات افراد غیر حقوق بگیر'!A:A,0)),\"وجود ندارد\",LOOKUP(D293,'اطلاعات افراد غیر حقوق بگیر'!A:A,'اطلاعات افراد غیر حقوق بگیر'!C:C)),LOOKUP(D293,Personnel!A:A,Personnel!B:B)))","v":" "},{"$f":"IF(D293=0,0,IF(ISNA(MATCH(D293,Personnel!A:A,0)),IF(ISNA(MATCH(D293,'اطلاعات افراد غیر حقوق بگیر'!A:A,0)),\"وجود ندارد\",LOOKUP(D293,'اطلاعات افراد غیر حقوق بگیر'!A:A,'اطلاعات افراد غیر حقوق بگیر'!D:D)),LOOKUP(D293,Master!D:D,Master!CD:CD)))","v":0},{"$f":"IF(D293=0,\" \",IF(ISNA(MATCH(D293,Personnel!A:A,0)),IF(ISNA(MATCH(D293,'اطلاعات افراد غیر حقوق بگیر'!A:A,0)),\"وجود ندارد\",LOOKUP(D293,'اطلاعات افراد غیر حقوق بگیر'!A:A,'اطلاعات افراد غیر حقوق بگیر'!E:E)),LOOKUP(D293,Master!D:D,Master!AH:AH)))","v":" "},{"$f":"SUMIFS(Pays!G:G,Pays!E:E,1,Pays!D:D,D293)","v":0},{"$f":"SUMIFS(Pays!G:G,Pays!E:E,2,Pays!D:D,D293)","v":0},{"$f":"SUMIFS(Pays!G:G,Pays!E:E,57,Pays!D:D,D293)","v":0},{"$f":"SUMIF(Pays!D:D,D293,Pays!G:G)","v":0},{"$f":"SUMIF(Pays!D:D,D293,Pays!G:G)/176","v":0},{"$f":"IF(M293=0,IF(ISNA(MATCH(D293,'اطلاعات افراد غیر حقوق بگیر'!A:A,0)),0,LOOKUP(D293,'اطلاعات افراد غیر حقوق بگیر'!A:A,'اطلاعات افراد غیر حقوق بگیر'!F:F)),IF(H293=31,Settings!$D$13,ROUND(M293,0)))","v":0},null,0,{"$f":"IF(ISNA(MATCH(D293,Master!D:D,0)),IF(ISNA(MATCH(D293,'اطلاعات افراد غیر حقوق بگیر'!A:A,0)),0,LOOKUP(D293,'اطلاعات افراد غیر حقوق بگیر'!A:A,'اطلاعات افراد غیر حقوق بگیر'!G:G)),LOOKUP(D293,Master!D:D,Master!J:J))","v":0},{"$error":"#N/A"},0,0,{"$f":"IF(O293>#REF!,\"اخطار ساعت اضافه کار از حداکثر بیشتر است\",\" \")","v":{"$error":"#REF!"}},{"$f":"IF(O293>#REF!,1,0)","v":{"$error":"#REF!"}}]
[291,{"$f":"IF(D294=0,\"\",Settings!$D$6)","v":""},{"$f":"IF(D294=0,\"\",LOOKUP(B294,'Rigion Code'!A:A,'Rigion Code'!B:B))","v":""},null,{"$f":"IF(D294=0,\" \",IF(ISNA(MATCH(D294,Personnel!A:A,0)),IF(ISNA(MATCH(D294,'اطلاعات افراد غیر حقوق بگیر'!A:A,0)),\"وجود ندارد\",LOOKUP(Edit!D294,'اطلاعات افراد غیر حقوق بگیر'!A:A,'اطلاعات افراد غیر حقوق بگیر'!B:B)),LOOKUP(D294,Personnel!A:A,Personnel!C:C)))","v":" "},{"$f":"IF(D294=0,\" \",IF(ISNA(MATCH(D294,Personnel!A:A,0)),IF(ISNA(MATCH(D294,'اطلاعات افراد غیر حقوق بگیر'!A:A,0)),\"وجود ندارد\",LOOKUP(D294,'اطلاعات افراد غیر حقوق بگیر'!A:A,'اطلاعات افراد غیر حقوق بگیر'!C:C)),LOOKUP(D294,Personnel!A:A,Personnel!B:B)))","v":" "},{"$f":"IF(D294=0,0,IF(ISNA(MATCH(D294,Personnel!A:A,0)),IF(ISNA(MATCH(D294,'اطلاعات افراد غیر حقوق بگیر'!A:A,0)),\"وجود ندارد\",LOOKUP(D294,'اطلاعات افراد غیر حقوق بگیر'!A:A,'اطلاعات افراد غیر حقوق بگیر'!D:D)),LOOKUP(D294,Master!D:D,Master!CD:CD)))","v":0},{"$f":"IF(D294=0,\" \",IF(ISNA(MATCH(D294,Personnel!A:A,0)),IF(ISNA(MATCH(D294,'اطلاعات افراد غیر حقوق بگیر'!A:A,0)),\"وجود ندارد\",LOOKUP(D294,'اطلاعات افراد غیر حقوق بگیر'!A:A,'اطلاعات افراد غیر حقوق بگیر'!E:E)),LOOKUP(D294,Master!D:D,Master!AH:AH)))","v":" "},{"$f":"SUMIFS(Pays!G:G,Pays!E:E,1,Pays!D:D,D294)","v":0},{"$f":"SUMIFS(Pays!G:G,Pays!E:E,2,Pays!D:D,D294)","v":0},{"$f":"SUMIFS(Pays!G:G,Pays!E:E,57,Pays!D:D,D294)","v":0},{"$f":"SUMIF(Pays!D:D,D294,Pays!G:G)","v":0},{"$f":"SUMIF(Pays!D:D,D294,Pays!G:G)/176","v":0},{"$f":"IF(M294=0,IF(ISNA(MATCH(D294,'اطلاعات افراد غیر حقوق بگیر'!A:A,0)),0,LOOKUP(D294,'اطلاعات افراد غیر حقوق بگیر'!A:A,'اطلاعات افراد غیر حقوق بگیر'!F:F)),IF(H294=31,Settings!$D$13,ROUND(M294,0)))","v":0},null,0,{"$f":"IF(ISNA(MATCH(D294,Master!D:D,0)),IF(ISNA(MATCH(D294,'اطلاعات افراد غیر حقوق بگیر'!A:A,0)),0,LOOKUP(D294,'اطلاعات افراد غیر حقوق بگیر'!A:A,'اطلاعات افراد غیر حقوق بگیر'!G:G)),LOOKUP(D294,Master!D:D,Master!J:J))","v":0},{"$error":"#N/A"},0,0,{"$f":"IF(O294>#REF!,\"اخطار ساعت اضافه کار از حداکثر بیشتر است\",\" \")","v":{"$error":"#REF!"}},{"$f":"IF(O294>#REF!,1,0)","v":{"$error":"#REF!"}}]
[292,{"$f":"IF(D295=0,\"\",Settings!$D$6)","v":""},{"$f":"IF(D295=0,\"\",LOOKUP(B295,'Rigion Code'!A:A,'Rigion Code'!B:B))","v":""},null,{"$f":"IF(D295=0,\" \",IF(ISNA(MATCH(D295,Personnel!A:A,0)),IF(ISNA(MATCH(D295,'اطلاعات افراد غیر حقوق بگیر'!A:A,0)),\"وجود ندارد\",LOOKUP(Edit!D295,'اطلاعات افراد غیر حقوق بگیر'!A:A,'اطلاعات افراد غیر حقوق بگیر'!B:B)),LOOKUP(D295,Personnel!A:A,Personnel!C:C)))","v":" "},{"$f":"IF(D295=0,\" \",IF(ISNA(MATCH(D295,Personnel!A:A,0)),IF(ISNA(MATCH(D295,'اطلاعات افراد غیر حقوق بگیر'!A:A,0)),\"وجود ندارد\",LOOKUP(D295,'اطلاعات افراد غیر حقوق بگیر'!A:A,'اطلاعات افراد غیر حقوق بگیر'!C:C)),LOOKUP(D295,Personnel!A:A,Personnel!B:B)))","v":" "},{"$f":"IF(D295=0,0,IF(ISNA(MATCH(D295,Personnel!A:A,0)),IF(ISNA(MATCH(D295,'اطلاعات افراد غیر حقوق بگیر'!A:A,0)),\"وجود ندارد\",LOOKUP(D295,'اطلاعات افراد غیر حقوق بگیر'!A:A,'اطلاعات افراد غیر حقوق بگیر'!D:D)),LOOKUP(D295,Master!D:D,Master!CD:CD)))","v":0},{"$f":"IF(D295=0,\" \",IF(ISNA(MATCH(D295,Personnel!A:A,0)),IF(ISNA(MATCH(D295,'اطلاعات افراد غیر حقوق بگیر'!A:A,0)),\"وجود ندارد\",LOOKUP(D295,'اطلاعات افراد غیر حقوق بگیر'!A:A,'اطلاعات افراد غیر حقوق بگیر'!E:E)),LOOKUP(D295,Master!D:D,Master!AH:AH)))","v":" "},{"$f":"SUMIFS(Pays!G:G,Pays!E:E,1,Pays!D:D,D295)","v":0},{"$f":"SUMIFS(Pays!G:G,Pays!E:E,2,Pays!D:D,D295)","v":0},{"$f":"SUMIFS(Pays!G:G,Pays!E:E,57,Pays!D:D,D295)","v":0},{"$f":"SUMIF(Pays!D:D,D295,Pays!G:G)","v":0},{"$f":"SUMIF(Pays!D:D,D295,Pays!G:G)/176","v":0},{"$f":"IF(M295=0,IF(ISNA(MATCH(D295,'اطلاعات افراد غیر حقوق بگیر'!A:A,0)),0,LOOKUP(D295,'اطلاعات افراد غیر حقوق بگیر'!A:A,'اطلاعات افراد غیر حقوق بگیر'!F:F)),IF(H295=31,Settings!$D$13,ROUND(M295,0)))","v":0},null,0,{"$f":"IF(ISNA(MATCH(D295,Master!D:D,0)),IF(ISNA(MATCH(D295,'اطلاعات افراد غیر حقوق بگیر'!A:A,0)),0,LOOKUP(D295,'اطلاعات افراد غیر حقوق بگیر'!A:A,'اطلاعات افراد غیر حقوق بگیر'!G:G)),LOOKUP(D295,Master!D:D,Master!J:J))","v":0},{"$error":"#N/A"},0,0,{"$f":"IF(O295>#REF!,\"اخطار ساعت اضافه کار از حداکثر بیشتر است\",\" \")","v":{"$error":"#REF!"}},{"$f":"IF(O295>#REF!,1,0)","v":{"$error":"#REF!"}}]
[293,{"$f":"IF(D296=0,\"\",Settings!$D$6)","v":""},{"$f":"IF(D296=0,\"\",LOOKUP(B296,'Rigion Code'!A:A,'Rigion Code'!B:B))","v":""},null,{"$f":"IF(D296=0,\" \",IF(ISNA(MATCH(D296,Personnel!A:A,0)),IF(ISNA(MATCH(D296,'اطلاعات افراد غیر حقوق بگیر'!A:A,0)),\"وجود ندارد\",LOOKUP(Edit!D296,'اطلاعات افراد غیر حقوق بگیر'!A:A,'اطلاعات افراد غیر حقوق بگیر'!B:B)),LOOKUP(D296,Personnel!A:A,Personnel!C:C)))","v":" "},{"$f":"IF(D296=0,\" \",IF(ISNA(MATCH(D296,Personnel!A:A,0)),IF(ISNA(MATCH(D296,'اطلاعات افراد غیر حقوق بگیر'!A:A,0)),\"وجود ندارد\",LOOKUP(D296,'اطلاعات افراد غیر حقوق بگیر'!A:A,'اطلاعات افراد غیر حقوق بگیر'!C:C)),LOOKUP(D296,Personnel!A:A,Personnel!B:B)))","v":" "},{"$f":"IF(D296=0,0,IF(ISNA(MATCH(D296,Personnel!A:A,0)),IF(ISNA(MATCH(D296,'اطلاعات افراد غیر حقوق بگیر'!A:A,0)),\"وجود ندارد\",LOOKUP(D296,'اطلاعات افراد غیر حقوق بگیر'!A:A,'اطلاعات افراد غیر حقوق بگیر'!D:D)),LOOKUP(D296,Master!D:D,Master!CD:CD)))","v":0},{"$f":"IF(D296=0,\" \",IF(ISNA(MATCH(D296,Personnel!A:A,0)),IF(ISNA(MATCH(D296,'اطلاعات افراد غیر حقوق بگیر'!A:A,0)),\"وجود ندارد\",LOOKUP(D296,'اطلاعات افراد غیر حقوق بگیر'!A:A,'اطلاعات افراد غیر حقوق بگیر'!E:E)),LOOKUP(D296,Master!D:D,Master!AH:AH)))","v":" "},{"$f":"SUMIFS(Pays!G:G,Pays!E:E,1,Pays!D:D,D296)","v":0},{"$f":"SUMIFS(Pays!G:G,Pays!E:E,2,Pays!D:D,D296)","v":0},{"$f":"SUMIFS(Pays!G:G,Pays!E:E,57,Pays!D:D,D296)","v":0},{"$f":"SUMIF(Pays!D:D,D296,Pays!G:G)","v":0},{"$f":"SUMIF(Pays!D:D,D296,Pays!G:G)/176","v":0},{"$f":"IF(M296=0,IF(ISNA(MATCH(D296,'اطلاعات افراد غیر حقوق بگیر'!A:A,0)),0,LOOKUP(D296,'اطلاعات افراد غیر حقوق بگیر'!A:A,'اطلاعات افراد غیر حقوق بگیر'!F:F)),IF(H296=31,Settings!$D$13,ROUND(M296,0)))","v":0},null,0,{"$f":"IF(ISNA(MATCH(D296,Master!D:D,0)),IF(ISNA(MATCH(D296,'اطلاعات افراد غیر حقوق بگیر'!A:A,0)),0,LOOKUP(D296,'اطلاعات افراد غیر حقوق بگیر'!A:A,'اطلاعات افراد غیر حقوق بگیر'!G:G)),LOOKUP(D296,Master!D:D,Master!J:J))","v":0},{"$error":"#N/A"},0,0,{"$f":"IF(O296>#REF!,\"اخطار ساعت اضافه کار از حداکثر بیشتر است\",\" \")","v":{"$error":"#REF!"}},{"$f":"IF(O296>#REF!,1,0)","v":{"$error":"#REF!"}}]
[294,{"$f":"IF(D297=0,\"\",Settings!$D$6)","v":""},{"$f":"IF(D297=0,\"\",LOOKUP(B297,'Rigion Code'!A:A,'Rigion Code'!B:B))","v":""},null,{"$f":"IF(D297=0,\" \",IF(ISNA(MATCH(D297,Personnel!A:A,0)),IF(ISNA(MATCH(D297,'اطلاعات افراد غیر حقوق بگیر'!A:A,0)),\"وجود ندارد\",LOOKUP(Edit!D297,'اطلاعات افراد غیر حقوق بگیر'!A:A,'اطلاعات افراد غیر حقوق بگیر'!B:B)),LOOKUP(D297,Personnel!A:A,Personnel!C:C)))","v":" "},{"$f":"IF(D297=0,\" \",IF(ISNA(MATCH(D297,Personnel!A:A,0)),IF(ISNA(MATCH(D297,'اطلاعات افراد غیر حقوق بگیر'!A:A,0)),\"وجود ندارد\",LOOKUP(D297,'اطلاعات افراد غیر حقوق بگیر'!A:A,'اطلاعات افراد غیر حقوق بگیر'!C:C)),LOOKUP(D297,Personnel!A:A,Personnel!B:B)))","v":" "},{"$f":"IF(D297=0,0,IF(ISNA(MATCH(D297,Personnel!A:A,0)),IF(ISNA(MATCH(D297,'اطلاعات افراد غیر حقوق بگیر'!A:A,0)),\"وجود ندارد\",LOOKUP(D297,'اطلاعات افراد غیر حقوق بگیر'!A:A,'اطلاعات افراد غیر حقوق بگیر'!D:D)),LOOKUP(D297,Master!D:D,Master!CD:CD)))","v":0},{"$f":"IF(D297=0,\" \",IF(ISNA(MATCH(D297,Personnel!A:A,0)),IF(ISNA(MATCH(D297,'اطلاعات افراد غیر حقوق بگیر'!A:A,0)),\"وجود ندارد\",LOOKUP(D297,'اطلاعات افراد غیر حقوق بگیر'!A:A,'اطلاعات افراد غیر حقوق بگیر'!E:E)),LOOKUP(D297,Master!D:D,Master!AH:AH)))","v":" "},{"$f":"SUMIFS(Pays!G:G,Pays!E:E,1,Pays!D:D,D297)","v":0},{"$f":"SUMIFS(Pays!G:G,Pays!E:E,2,Pays!D:D,D297)","v":0},{"$f":"SUMIFS(Pays!G:G,Pays!E:E,57,Pays!D:D,D297)","v":0},{"$f":"SUMIF(Pays!D:D,D297,Pays!G:G)","v":0},{"$f":"SUMIF(Pays!D:D,D297,Pays!G:G)/176","v":0},{"$f":"IF(M297=0,IF(ISNA(MATCH(D297,'اطلاعات افراد غیر حقوق بگیر'!A:A,0)),0,LOOKUP(D297,'اطلاعات افراد غیر حقوق بگیر'!A:A,'اطلاعات افراد غیر حقوق بگیر'!F:F)),IF(H297=31,Settings!$D$13,ROUND(M297,0)))","v":0},null,0,{"$f":"IF(ISNA(MATCH(D297,Master!D:D,0)),IF(ISNA(MATCH(D297,'اطلاعات افراد غیر حقوق بگیر'!A:A,0)),0,LOOKUP(D297,'اطلاعات افراد غیر حقوق بگیر'!A:A,'اطلاعات افراد غیر حقوق بگیر'!G:G)),LOOKUP(D297,Master!D:D,Master!J:J))","v":0},{"$error":"#N/A"},0,0,{"$f":"IF(O297>#REF!,\"اخطار ساعت اضافه کار از حداکثر بیشتر است\",\" \")","v":{"$error":"#REF!"}},{"$f":"IF(O297>#REF!,1,0)","v":{"$error":"#REF!"}}]
[295,{"$f":"IF(D298=0,\"\",Settings!$D$6)","v":""},{"$f":"IF(D298=0,\"\",LOOKUP(B298,'Rigion Code'!A:A,'Rigion Code'!B:B))","v":""},null,{"$f":"IF(D298=0,\" \",IF(ISNA(MATCH(D298,Personnel!A:A,0)),IF(ISNA(MATCH(D298,'اطلاعات افراد غیر حقوق بگیر'!A:A,0)),\"وجود ندارد\",LOOKUP(Edit!D298,'اطلاعات افراد غیر حقوق بگیر'!A:A,'اطلاعات افراد غیر حقوق بگیر'!B:B)),LOOKUP(D298,Personnel!A:A,Personnel!C:C)))","v":" "},{"$f":"IF(D298=0,\" \",IF(ISNA(MATCH(D298,Personnel!A:A,0)),IF(ISNA(MATCH(D298,'اطلاعات افراد غیر حقوق بگیر'!A:A,0)),\"وجود ندارد\",LOOKUP(D298,'اطلاعات افراد غیر حقوق بگیر'!A:A,'اطلاعات افراد غیر حقوق بگیر'!C:C)),LOOKUP(D298,Personnel!A:A,Personnel!B:B)))","v":" "},{"$f":"IF(D298=0,0,IF(ISNA(MATCH(D298,Personnel!A:A,0)),IF(ISNA(MATCH(D298,'اطلاعات افراد غیر حقوق بگیر'!A:A,0)),\"وجود ندارد\",LOOKUP(D298,'اطلاعات افراد غیر حقوق بگیر'!A:A,'اطلاعات افراد غیر حقوق بگیر'!D:D)),LOOKUP(D298,Master!D:D,Master!CD:CD)))","v":0},{"$f":"IF(D298=0,\" \",IF(ISNA(MATCH(D298,Personnel!A:A,0)),IF(ISNA(MATCH(D298,'اطلاعات افراد غیر حقوق بگیر'!A:A,0)),\"وجود ندارد\",LOOKUP(D298,'اطلاعات افراد غیر حقوق بگیر'!A:A,'اطلاعات افراد غیر حقوق بگیر'!E:E)),LOOKUP(D298,Master!D:D,Master!AH:AH)))","v":" "},{"$f":"SUMIFS(Pays!G:G,Pays!E:E,1,Pays!D:D,D298)","v":0},{"$f":"SUMIFS(Pays!G:G,Pays!E:E,2,Pays!D:D,D298)","v":0},{"$f":"SUMIFS(Pays!G:G,Pays!E:E,57,Pays!D:D,D298)","v":0},{"$f":"SUMIF(Pays!D:D,D298,Pays!G:G)","v":0},{"$f":"SUMIF(Pays!D:D,D298,Pays!G:G)/176","v":0},{"$f":"IF(M298=0,IF(ISNA(MATCH(D298,'اطلاعات افراد غیر حقوق بگیر'!A:A,0)),0,LOOKUP(D298,'اطلاعات افراد غیر حقوق بگیر'!A:A,'اطلاعات افراد غیر حقوق بگیر'!F:F)),IF(H298=31,Settings!$D$13,ROUND(M298,0)))","v":0},null,0,{"$f":"IF(ISNA(MATCH(D298,Master!D:D,0)),IF(ISNA(MATCH(D298,'اطلاعات افراد غیر حقوق بگیر'!A:A,0)),0,LOOKUP(D298,'اطلاعات افراد غیر حقوق بگیر'!A:A,'اطلاعات افراد غیر حقوق بگیر'!G:G)),LOOKUP(D298,Master!D:D,Master!J:J))","v":0},{"$error":"#N/A"},0,0,{"$f":"IF(O298>#REF!,\"اخطار ساعت اضافه کار از حداکثر بیشتر است\",\" \")","v":{"$error":"#REF!"}},{"$f":"IF(O298>#REF!,1,0)","v":{"$error":"#REF!"}}]
[296,{"$f":"IF(D299=0,\"\",Settings!$D$6)","v":""},{"$f":"IF(D299=0,\"\",LOOKUP(B299,'Rigion Code'!A:A,'Rigion Code'!B:B))","v":""},null,{"$f":"IF(D299=0,\" \",IF(ISNA(MATCH(D299,Personnel!A:A,0)),IF(ISNA(MATCH(D299,'اطلاعات افراد غیر حقوق بگیر'!A:A,0)),\"وجود ندارد\",LOOKUP(Edit!D299,'اطلاعات افراد غیر حقوق بگیر'!A:A,'اطلاعات افراد غیر حقوق بگیر'!B:B)),LOOKUP(D299,Personnel!A:A,Personnel!C:C)))","v":" "},{"$f":"IF(D299=0,\" \",IF(ISNA(MATCH(D299,Personnel!A:A,0)),IF(ISNA(MATCH(D299,'اطلاعات افراد غیر حقوق بگیر'!A:A,0)),\"وجود ندارد\",LOOKUP(D299,'اطلاعات افراد غیر حقوق بگیر'!A:A,'اطلاعات افراد غیر حقوق بگیر'!C:C)),LOOKUP(D299,Personnel!A:A,Personnel!B:B)))","v":" "},{"$f":"IF(D299=0,0,IF(ISNA(MATCH(D299,Personnel!A:A,0)),IF(ISNA(MATCH(D299,'اطلاعات افراد غیر حقوق بگیر'!A:A,0)),\"وجود ندارد\",LOOKUP(D299,'اطلاعات افراد غیر حقوق بگیر'!A:A,'اطلاعات افراد غیر حقوق بگیر'!D:D)),LOOKUP(D299,Master!D:D,Master!CD:CD)))","v":0},{"$f":"IF(D299=0,\" \",IF(ISNA(MATCH(D299,Personnel!A:A,0)),IF(ISNA(MATCH(D299,'اطلاعات افراد غیر حقوق بگیر'!A:A,0)),\"وجود ندارد\",LOOKUP(D299,'اطلاعات افراد غیر حقوق بگیر'!A:A,'اطلاعات افراد غیر حقوق بگیر'!E:E)),LOOKUP(D299,Master!D:D,Master!AH:AH)))","v":" "},{"$f":"SUMIFS(Pays!G:G,Pays!E:E,1,Pays!D:D,D299)","v":0},{"$f":"SUMIFS(Pays!G:G,Pays!E:E,2,Pays!D:D,D299)","v":0},{"$f":"SUMIFS(Pays!G:G,Pays!E:E,57,Pays!D:D,D299)","v":0},{"$f":"SUMIF(Pays!D:D,D299,Pays!G:G)","v":0},{"$f":"SUMIF(Pays!D:D,D299,Pays!G:G)/176","v":0},{"$f":"IF(M299=0,IF(ISNA(MATCH(D299,'اطلاعات افراد غیر حقوق بگیر'!A:A,0)),0,LOOKUP(D299,'اطلاعات افراد غیر حقوق بگیر'!A:A,'اطلاعات افراد غیر حقوق بگیر'!F:F)),IF(H299=31,Settings!$D$13,ROUND(M299,0)))","v":0},null,0,{"$f":"IF(ISNA(MATCH(D299,Master!D:D,0)),IF(ISNA(MATCH(D299,'اطلاعات افراد غیر حقوق بگیر'!A:A,0)),0,LOOKUP(D299,'اطلاعات افراد غیر حقوق بگیر'!A:A,'اطلاعات افراد غیر حقوق بگیر'!G:G)),LOOKUP(D299,Master!D:D,Master!J:J))","v":0},{"$error":"#N/A"},0,0,{"$f":"IF(O299>#REF!,\"اخطار ساعت اضافه کار از حداکثر بیشتر است\",\" \")","v":{"$error":"#REF!"}},{"$f":"IF(O299>#REF!,1,0)","v":{"$error":"#REF!"}}]
[297,{"$f":"IF(D300=0,\"\",Settings!$D$6)","v":""},{"$f":"IF(D300=0,\"\",LOOKUP(B300,'Rigion Code'!A:A,'Rigion Code'!B:B))","v":""},null,{"$f":"IF(D300=0,\" \",IF(ISNA(MATCH(D300,Personnel!A:A,0)),IF(ISNA(MATCH(D300,'اطلاعات افراد غیر حقوق بگیر'!A:A,0)),\"وجود ندارد\",LOOKUP(Edit!D300,'اطلاعات افراد غیر حقوق بگیر'!A:A,'اطلاعات افراد غیر حقوق بگیر'!B:B)),LOOKUP(D300,Personnel!A:A,Personnel!C:C)))","v":" "},{"$f":"IF(D300=0,\" \",IF(ISNA(MATCH(D300,Personnel!A:A,0)),IF(ISNA(MATCH(D300,'اطلاعات افراد غیر حقوق بگیر'!A:A,0)),\"وجود ندارد\",LOOKUP(D300,'اطلاعات افراد غیر حقوق بگیر'!A:A,'اطلاعات افراد غیر حقوق بگیر'!C:C)),LOOKUP(D300,Personnel!A:A,Personnel!B:B)))","v":" "},{"$f":"IF(D300=0,0,IF(ISNA(MATCH(D300,Personnel!A:A,0)),IF(ISNA(MATCH(D300,'اطلاعات افراد غیر حقوق بگیر'!A:A,0)),\"وجود ندارد\",LOOKUP(D300,'اطلاعات افراد غیر حقوق بگیر'!A:A,'اطلاعات افراد غیر حقوق بگیر'!D:D)),LOOKUP(D300,Master!D:D,Master!CD:CD)))","v":0},{"$f":"IF(D300=0,\" \",IF(ISNA(MATCH(D300,Personnel!A:A,0)),IF(ISNA(MATCH(D300,'اطلاعات افراد غیر حقوق بگیر'!A:A,0)),\"وجود ندارد\",LOOKUP(D300,'اطلاعات افراد غیر حقوق بگیر'!A:A,'اطلاعات افراد غیر حقوق بگیر'!E:E)),LOOKUP(D300,Master!D:D,Master!AH:AH)))","v":" "},{"$f":"SUMIFS(Pays!G:G,Pays!E:E,1,Pays!D:D,D300)","v":0},{"$f":"SUMIFS(Pays!G:G,Pays!E:E,2,Pays!D:D,D300)","v":0},{"$f":"SUMIFS(Pays!G:G,Pays!E:E,57,Pays!D:D,D300)","v":0},{"$f":"SUMIF(Pays!D:D,D300,Pays!G:G)","v":0},{"$f":"SUMIF(Pays!D:D,D300,Pays!G:G)/176","v":0},{"$f":"IF(M300=0,IF(ISNA(MATCH(D300,'اطلاعات افراد غیر حقوق بگیر'!A:A,0)),0,LOOKUP(D300,'اطلاعات افراد غیر حقوق بگیر'!A:A,'اطلاعات افراد غیر حقوق بگیر'!F:F)),IF(H300=31,Settings!$D$13,ROUND(M300,0)))","v":0},null,0,{"$f":"IF(ISNA(MATCH(D300,Master!D:D,0)),IF(ISNA(MATCH(D300,'اطلاعات افراد غیر حقوق بگیر'!A:A,0)),0,LOOKUP(D300,'اطلاعات افراد غیر حقوق بگیر'!A:A,'اطلاعات افراد غیر حقوق بگیر'!G:G)),LOOKUP(D300,Master!D:D,Master!J:J))","v":0},{"$error":"#N/A"},0,0,{"$f":"IF(O300>#REF!,\"اخطار ساعت اضافه کار از حداکثر بیشتر است\",\" \")","v":{"$error":"#REF!"}},{"$f":"IF(O300>#REF!,1,0)","v":{"$error":"#REF!"}}]
[298,{"$f":"IF(D301=0,\"\",Settings!$D$6)","v":""},{"$f":"IF(D301=0,\"\",LOOKUP(B301,'Rigion Code'!A:A,'Rigion Code'!B:B))","v":""},null,{"$f":"IF(D301=0,\" \",IF(ISNA(MATCH(D301,Personnel!A:A,0)),IF(ISNA(MATCH(D301,'اطلاعات افراد غیر حقوق بگیر'!A:A,0)),\"وجود ندارد\",LOOKUP(Edit!D301,'اطلاعات افراد غیر حقوق بگیر'!A:A,'اطلاعات افراد غیر حقوق بگیر'!B:B)),LOOKUP(D301,Personnel!A:A,Personnel!C:C)))","v":" "},{"$f":"IF(D301=0,\" \",IF(ISNA(MATCH(D301,Personnel!A:A,0)),IF(ISNA(MATCH(D301,'اطلاعات افراد غیر حقوق بگیر'!A:A,0)),\"وجود ندارد\",LOOKUP(D301,'اطلاعات افراد غیر حقوق بگیر'!A:A,'اطلاعات افراد غیر حقوق بگیر'!C:C)),LOOKUP(D301,Personnel!A:A,Personnel!B:B)))","v":" "},{"$f":"IF(D301=0,0,IF(ISNA(MATCH(D301,Personnel!A:A,0)),IF(ISNA(MATCH(D301,'اطلاعات افراد غیر حقوق بگیر'!A:A,0)),\"وجود ندارد\",LOOKUP(D301,'اطلاعات افراد غیر حقوق بگیر'!A:A,'اطلاعات افراد غیر حقوق بگیر'!D:D)),LOOKUP(D301,Master!D:D,Master!CD:CD)))","v":0},{"$f":"IF(D301=0,\" \",IF(ISNA(MATCH(D301,Personnel!A:A,0)),IF(ISNA(MATCH(D301,'اطلاعات افراد غیر حقوق بگیر'!A:A,0)),\"وجود ندارد\",LOOKUP(D301,'اطلاعات افراد غیر حقوق بگیر'!A:A,'اطلاعات افراد غیر حقوق بگیر'!E:E)),LOOKUP(D301,Master!D:D,Master!AH:AH)))","v":" "},{"$f":"SUMIFS(Pays!G:G,Pays!E:E,1,Pays!D:D,D301)","v":0},{"$f":"SUMIFS(Pays!G:G,Pays!E:E,2,Pays!D:D,D301)","v":0},{"$f":"SUMIFS(Pays!G:G,Pays!E:E,57,Pays!D:D,D301)","v":0},{"$f":"SUMIF(Pays!D:D,D301,Pays!G:G)","v":0},{"$f":"SUMIF(Pays!D:D,D301,Pays!G:G)/176","v":0},{"$f":"IF(M301=0,IF(ISNA(MATCH(D301,'اطلاعات افراد غیر حقوق بگیر'!A:A,0)),0,LOOKUP(D301,'اطلاعات افراد غیر حقوق بگیر'!A:A,'اطلاعات افراد غیر حقوق بگیر'!F:F)),IF(H301=31,Settings!$D$13,ROUND(M301,0)))","v":0},null,0,{"$f":"IF(ISNA(MATCH(D301,Master!D:D,0)),IF(ISNA(MATCH(D301,'اطلاعات افراد غیر حقوق بگیر'!A:A,0)),0,LOOKUP(D301,'اطلاعات افراد غیر حقوق بگیر'!A:A,'اطلاعات افراد غیر حقوق بگیر'!G:G)),LOOKUP(D301,Master!D:D,Master!J:J))","v":0},{"$error":"#N/A"},0,0,{"$f":"IF(O301>#REF!,\"اخطار ساعت اضافه کار از حداکثر بیشتر است\",\" \")","v":{"$error":"#REF!"}},{"$f":"IF(O301>#REF!,1,0)","v":{"$error":"#REF!"}}]
[299,{"$f":"IF(D302=0,\"\",Settings!$D$6)","v":""},{"$f":"IF(D302=0,\"\",LOOKUP(B302,'Rigion Code'!A:A,'Rigion Code'!B:B))","v":""},null,{"$f":"IF(D302=0,\" \",IF(ISNA(MATCH(D302,Personnel!A:A,0)),IF(ISNA(MATCH(D302,'اطلاعات افراد غیر حقوق بگیر'!A:A,0)),\"وجود ندارد\",LOOKUP(Edit!D302,'اطلاعات افراد غیر حقوق بگیر'!A:A,'اطلاعات افراد غیر حقوق بگیر'!B:B)),LOOKUP(D302,Personnel!A:A,Personnel!C:C)))","v":" "},{"$f":"IF(D302=0,\" \",IF(ISNA(MATCH(D302,Personnel!A:A,0)),IF(ISNA(MATCH(D302,'اطلاعات افراد غیر حقوق بگیر'!A:A,0)),\"وجود ندارد\",LOOKUP(D302,'اطلاعات افراد غیر حقوق بگیر'!A:A,'اطلاعات افراد غیر حقوق بگیر'!C:C)),LOOKUP(D302,Personnel!A:A,Personnel!B:B)))","v":" "},{"$f":"IF(D302=0,0,IF(ISNA(MATCH(D302,Personnel!A:A,0)),IF(ISNA(MATCH(D302,'اطلاعات افراد غیر حقوق بگیر'!A:A,0)),\"وجود ندارد\",LOOKUP(D302,'اطلاعات افراد غیر حقوق بگیر'!A:A,'اطلاعات افراد غیر حقوق بگیر'!D:D)),LOOKUP(D302,Master!D:D,Master!CD:CD)))","v":0},{"$f":"IF(D302=0,\" \",IF(ISNA(MATCH(D302,Personnel!A:A,0)),IF(ISNA(MATCH(D302,'اطلاعات افراد غیر حقوق بگیر'!A:A,0)),\"وجود ندارد\",LOOKUP(D302,'اطلاعات افراد غیر حقوق بگیر'!A:A,'اطلاعات افراد غیر حقوق بگیر'!E:E)),LOOKUP(D302,Master!D:D,Master!AH:AH)))","v":" "},{"$f":"SUMIFS(Pays!G:G,Pays!E:E,1,Pays!D:D,D302)","v":0},{"$f":"SUMIFS(Pays!G:G,Pays!E:E,2,Pays!D:D,D302)","v":0},{"$f":"SUMIFS(Pays!G:G,Pays!E:E,57,Pays!D:D,D302)","v":0},{"$f":"SUMIF(Pays!D:D,D302,Pays!G:G)","v":0},{"$f":"SUMIF(Pays!D:D,D302,Pays!G:G)/176","v":0},{"$f":"IF(M302=0,IF(ISNA(MATCH(D302,'اطلاعات افراد غیر حقوق بگیر'!A:A,0)),0,LOOKUP(D302,'اطلاعات افراد غیر حقوق بگیر'!A:A,'اطلاعات افراد غیر حقوق بگیر'!F:F)),IF(H302=31,Settings!$D$13,ROUND(M302,0)))","v":0},null,0,{"$f":"IF(ISNA(MATCH(D302,Master!D:D,0)),IF(ISNA(MATCH(D302,'اطلاعات افراد غیر حقوق بگیر'!A:A,0)),0,LOOKUP(D302,'اطلاعات افراد غیر حقوق بگیر'!A:A,'اطلاعات افراد غیر حقوق بگیر'!G:G)),LOOKUP(D302,Master!D:D,Master!J:J))","v":0},{"$error":"#N/A"},0,0,{"$f":"IF(O302>#REF!,\"اخطار ساعت اضافه کار از حداکثر بیشتر است\",\" \")","v":{"$error":"#REF!"}},{"$f":"IF(O302>#REF!,1,0)","v":{"$error":"#REF!"}}]
[300,{"$f":"IF(D303=0,\"\",Settings!$D$6)","v":""},{"$f":"IF(D303=0,\"\",LOOKUP(B303,'Rigion Code'!A:A,'Rigion Code'!B:B))","v":""},null,{"$f":"IF(D303=0,\" \",IF(ISNA(MATCH(D303,Personnel!A:A,0)),IF(ISNA(MATCH(D303,'اطلاعات افراد غیر حقوق بگیر'!A:A,0)),\"وجود ندارد\",LOOKUP(Edit!D303,'اطلاعات افراد غیر حقوق بگیر'!A:A,'اطلاعات افراد غیر حقوق بگیر'!B:B)),LOOKUP(D303,Personnel!A:A,Personnel!C:C)))","v":" "},{"$f":"IF(D303=0,\" \",IF(ISNA(MATCH(D303,Personnel!A:A,0)),IF(ISNA(MATCH(D303,'اطلاعات افراد غیر حقوق بگیر'!A:A,0)),\"وجود ندارد\",LOOKUP(D303,'اطلاعات افراد غیر حقوق بگیر'!A:A,'اطلاعات افراد غیر حقوق بگیر'!C:C)),LOOKUP(D303,Personnel!A:A,Personnel!B:B)))","v":" "},{"$f":"IF(D303=0,0,IF(ISNA(MATCH(D303,Personnel!A:A,0)),IF(ISNA(MATCH(D303,'اطلاعات افراد غیر حقوق بگیر'!A:A,0)),\"وجود ندارد\",LOOKUP(D303,'اطلاعات افراد غیر حقوق بگیر'!A:A,'اطلاعات افراد غیر حقوق بگیر'!D:D)),LOOKUP(D303,Master!D:D,Master!CD:CD)))","v":0},{"$f":"IF(D303=0,\" \",IF(ISNA(MATCH(D303,Personnel!A:A,0)),IF(ISNA(MATCH(D303,'اطلاعات افراد غیر حقوق بگیر'!A:A,0)),\"وجود ندارد\",LOOKUP(D303,'اطلاعات افراد غیر حقوق بگیر'!A:A,'اطلاعات افراد غیر حقوق بگیر'!E:E)),LOOKUP(D303,Master!D:D,Master!AH:AH)))","v":" "},{"$f":"SUMIFS(Pays!G:G,Pays!E:E,1,Pays!D:D,D303)","v":0},{"$f":"SUMIFS(Pays!G:G,Pays!E:E,2,Pays!D:D,D303)","v":0},{"$f":"SUMIFS(Pays!G:G,Pays!E:E,57,Pays!D:D,D303)","v":0},{"$f":"SUMIF(Pays!D:D,D303,Pays!G:G)","v":0},{"$f":"SUMIF(Pays!D:D,D303,Pays!G:G)/176","v":0},{"$f":"IF(M303=0,IF(ISNA(MATCH(D303,'اطلاعات افراد غیر حقوق بگیر'!A:A,0)),0,LOOKUP(D303,'اطلاعات افراد غیر حقوق بگیر'!A:A,'اطلاعات افراد غیر حقوق بگیر'!F:F)),IF(H303=31,Settings!$D$13,ROUND(M303,0)))","v":0},null,0,{"$f":"IF(ISNA(MATCH(D303,Master!D:D,0)),IF(ISNA(MATCH(D303,'اطلاعات افراد غیر حقوق بگیر'!A:A,0)),0,LOOKUP(D303,'اطلاعات افراد غیر حقوق بگیر'!A:A,'اطلاعات افراد غیر حقوق بگیر'!G:G)),LOOKUP(D303,Master!D:D,Master!J:J))","v":0},{"$error":"#N/A"},0,0,{"$f":"IF(O303>#REF!,\"اخطار ساعت اضافه کار از حداکثر بیشتر است\",\" \")","v":{"$error":"#REF!"}},{"$f":"IF(O303>#REF!,1,0)","v":{"$error":"#REF!"}}]
[301,{"$f":"IF(D304=0,\"\",Settings!$D$6)","v":""},{"$f":"IF(D304=0,\"\",LOOKUP(B304,'Rigion Code'!A:A,'Rigion Code'!B:B))","v":""},null,{"$f":"IF(D304=0,\" \",IF(ISNA(MATCH(D304,Personnel!A:A,0)),IF(ISNA(MATCH(D304,'اطلاعات افراد غیر حقوق بگیر'!A:A,0)),\"وجود ندارد\",LOOKUP(Edit!D304,'اطلاعات افراد غیر حقوق بگیر'!A:A,'اطلاعات افراد غیر حقوق بگیر'!B:B)),LOOKUP(D304,Personnel!A:A,Personnel!C:C)))","v":" "},{"$f":"IF(D304=0,\" \",IF(ISNA(MATCH(D304,Personnel!A:A,0)),IF(ISNA(MATCH(D304,'اطلاعات افراد غیر حقوق بگیر'!A:A,0)),\"وجود ندارد\",LOOKUP(D304,'اطلاعات افراد غیر حقوق بگیر'!A:A,'اطلاعات افراد غیر حقوق بگیر'!C:C)),LOOKUP(D304,Personnel!A:A,Personnel!B:B)))","v":" "},{"$f":"IF(D304=0,0,IF(ISNA(MATCH(D304,Personnel!A:A,0)),IF(ISNA(MATCH(D304,'اطلاعات افراد غیر حقوق بگیر'!A:A,0)),\"وجود ندارد\",LOOKUP(D304,'اطلاعات افراد غیر حقوق بگیر'!A:A,'اطلاعات افراد غیر حقوق بگیر'!D:D)),LOOKUP(D304,Master!D:D,Master!CD:CD)))","v":0},{"$f":"IF(D304=0,\" \",IF(ISNA(MATCH(D304,Personnel!A:A,0)),IF(ISNA(MATCH(D304,'اطلاعات افراد غیر حقوق بگیر'!A:A,0)),\"وجود ندارد\",LOOKUP(D304,'اطلاعات افراد غیر حقوق بگیر'!A:A,'اطلاعات افراد غیر حقوق بگیر'!E:E)),LOOKUP(D304,Master!D:D,Master!AH:AH)))","v":" "},{"$f":"SUMIFS(Pays!G:G,Pays!E:E,1,Pays!D:D,D304)","v":0},{"$f":"SUMIFS(Pays!G:G,Pays!E:E,2,Pays!D:D,D304)","v":0},{"$f":"SUMIFS(Pays!G:G,Pays!E:E,57,Pays!D:D,D304)","v":0},{"$f":"SUMIF(Pays!D:D,D304,Pays!G:G)","v":0},{"$f":"SUMIF(Pays!D:D,D304,Pays!G:G)/176","v":0},{"$f":"IF(M304=0,IF(ISNA(MATCH(D304,'اطلاعات افراد غیر حقوق بگیر'!A:A,0)),0,LOOKUP(D304,'اطلاعات افراد غیر حقوق بگیر'!A:A,'اطلاعات افراد غیر حقوق بگیر'!F:F)),IF(H304=31,Settings!$D$13,ROUND(M304,0)))","v":0},null,0,{"$f":"IF(ISNA(MATCH(D304,Master!D:D,0)),IF(ISNA(MATCH(D304,'اطلاعات افراد غیر حقوق بگیر'!A:A,0)),0,LOOKUP(D304,'اطلاعات افراد غیر حقوق بگیر'!A:A,'اطلاعات افراد غیر حقوق بگیر'!G:G)),LOOKUP(D304,Master!D:D,Master!J:J))","v":0},{"$error":"#N/A"},0,0,{"$f":"IF(O304>#REF!,\"اخطار ساعت اضافه کار از حداکثر بیشتر است\",\" \")","v":{"$error":"#REF!"}},{"$f":"IF(O304>#REF!,1,0)","v":{"$error":"#REF!"}}]
[302,{"$f":"IF(D305=0,\"\",Settings!$D$6)","v":""},{"$f":"IF(D305=0,\"\",LOOKUP(B305,'Rigion Code'!A:A,'Rigion Code'!B:B))","v":""},null,{"$f":"IF(D305=0,\" \",IF(ISNA(MATCH(D305,Personnel!A:A,0)),IF(ISNA(MATCH(D305,'اطلاعات افراد غیر حقوق بگیر'!A:A,0)),\"وجود ندارد\",LOOKUP(Edit!D305,'اطلاعات افراد غیر حقوق بگیر'!A:A,'اطلاعات افراد غیر حقوق بگیر'!B:B)),LOOKUP(D305,Personnel!A:A,Personnel!C:C)))","v":" "},{"$f":"IF(D305=0,\" \",IF(ISNA(MATCH(D305,Personnel!A:A,0)),IF(ISNA(MATCH(D305,'اطلاعات افراد غیر حقوق بگیر'!A:A,0)),\"وجود ندارد\",LOOKUP(D305,'اطلاعات افراد غیر حقوق بگیر'!A:A,'اطلاعات افراد غیر حقوق بگیر'!C:C)),LOOKUP(D305,Personnel!A:A,Personnel!B:B)))","v":" "},{"$f":"IF(D305=0,0,IF(ISNA(MATCH(D305,Personnel!A:A,0)),IF(ISNA(MATCH(D305,'اطلاعات افراد غیر حقوق بگیر'!A:A,0)),\"وجود ندارد\",LOOKUP(D305,'اطلاعات افراد غیر حقوق بگیر'!A:A,'اطلاعات افراد غیر حقوق بگیر'!D:D)),LOOKUP(D305,Master!D:D,Master!CD:CD)))","v":0},{"$f":"IF(D305=0,\" \",IF(ISNA(MATCH(D305,Personnel!A:A,0)),IF(ISNA(MATCH(D305,'اطلاعات افراد غیر حقوق بگیر'!A:A,0)),\"وجود ندارد\",LOOKUP(D305,'اطلاعات افراد غیر حقوق بگیر'!A:A,'اطلاعات افراد غیر حقوق بگیر'!E:E)),LOOKUP(D305,Master!D:D,Master!AH:AH)))","v":" "},{"$f":"SUMIFS(Pays!G:G,Pays!E:E,1,Pays!D:D,D305)","v":0},{"$f":"SUMIFS(Pays!G:G,Pays!E:E,2,Pays!D:D,D305)","v":0},{"$f":"SUMIFS(Pays!G:G,Pays!E:E,57,Pays!D:D,D305)","v":0},{"$f":"SUMIF(Pays!D:D,D305,Pays!G:G)","v":0},{"$f":"SUMIF(Pays!D:D,D305,Pays!G:G)/176","v":0},{"$f":"IF(M305=0,IF(ISNA(MATCH(D305,'اطلاعات افراد غیر حقوق بگیر'!A:A,0)),0,LOOKUP(D305,'اطلاعات افراد غیر حقوق بگیر'!A:A,'اطلاعات افراد غیر حقوق بگیر'!F:F)),IF(H305=31,Settings!$D$13,ROUND(M305,0)))","v":0},null,0,{"$f":"IF(ISNA(MATCH(D305,Master!D:D,0)),IF(ISNA(MATCH(D305,'اطلاعات افراد غیر حقوق بگیر'!A:A,0)),0,LOOKUP(D305,'اطلاعات افراد غیر حقوق بگیر'!A:A,'اطلاعات افراد غیر حقوق بگیر'!G:G)),LOOKUP(D305,Master!D:D,Master!J:J))","v":0},{"$error":"#N/A"},0,0,{"$f":"IF(O305>#REF!,\"اخطار ساعت اضافه کار از حداکثر بیشتر است\",\" \")","v":{"$error":"#REF!"}},{"$f":"IF(O305>#REF!,1,0)","v":{"$error":"#REF!"}}]
[303,{"$f":"IF(D306=0,\"\",Settings!$D$6)","v":""},{"$f":"IF(D306=0,\"\",LOOKUP(B306,'Rigion Code'!A:A,'Rigion Code'!B:B))","v":""},null,{"$f":"IF(D306=0,\" \",IF(ISNA(MATCH(D306,Personnel!A:A,0)),IF(ISNA(MATCH(D306,'اطلاعات افراد غیر حقوق بگیر'!A:A,0)),\"وجود ندارد\",LOOKUP(Edit!D306,'اطلاعات افراد غیر حقوق بگیر'!A:A,'اطلاعات افراد غیر حقوق بگیر'!B:B)),LOOKUP(D306,Personnel!A:A,Personnel!C:C)))","v":" "},{"$f":"IF(D306=0,\" \",IF(ISNA(MATCH(D306,Personnel!A:A,0)),IF(ISNA(MATCH(D306,'اطلاعات افراد غیر حقوق بگیر'!A:A,0)),\"وجود ندارد\",LOOKUP(D306,'اطلاعات افراد غیر حقوق بگیر'!A:A,'اطلاعات افراد غیر حقوق بگیر'!C:C)),LOOKUP(D306,Personnel!A:A,Personnel!B:B)))","v":" "},{"$f":"IF(D306=0,0,IF(ISNA(MATCH(D306,Personnel!A:A,0)),IF(ISNA(MATCH(D306,'اطلاعات افراد غیر حقوق بگیر'!A:A,0)),\"وجود ندارد\",LOOKUP(D306,'اطلاعات افراد غیر حقوق بگیر'!A:A,'اطلاعات افراد غیر حقوق بگیر'!D:D)),LOOKUP(D306,Master!D:D,Master!CD:CD)))","v":0},{"$f":"IF(D306=0,\" \",IF(ISNA(MATCH(D306,Personnel!A:A,0)),IF(ISNA(MATCH(D306,'اطلاعات افراد غیر حقوق بگیر'!A:A,0)),\"وجود ندارد\",LOOKUP(D306,'اطلاعات افراد غیر حقوق بگیر'!A:A,'اطلاعات افراد غیر حقوق بگیر'!E:E)),LOOKUP(D306,Master!D:D,Master!AH:AH)))","v":" "},{"$f":"SUMIFS(Pays!G:G,Pays!E:E,1,Pays!D:D,D306)","v":0},{"$f":"SUMIFS(Pays!G:G,Pays!E:E,2,Pays!D:D,D306)","v":0},{"$f":"SUMIFS(Pays!G:G,Pays!E:E,57,Pays!D:D,D306)","v":0},{"$f":"SUMIF(Pays!D:D,D306,Pays!G:G)","v":0},{"$f":"SUMIF(Pays!D:D,D306,Pays!G:G)/176","v":0},{"$f":"IF(M306=0,IF(ISNA(MATCH(D306,'اطلاعات افراد غیر حقوق بگیر'!A:A,0)),0,LOOKUP(D306,'اطلاعات افراد غیر حقوق بگیر'!A:A,'اطلاعات افراد غیر حقوق بگیر'!F:F)),IF(H306=31,Settings!$D$13,ROUND(M306,0)))","v":0},null,0,{"$f":"IF(ISNA(MATCH(D306,Master!D:D,0)),IF(ISNA(MATCH(D306,'اطلاعات افراد غیر حقوق بگیر'!A:A,0)),0,LOOKUP(D306,'اطلاعات افراد غیر حقوق بگیر'!A:A,'اطلاعات افراد غیر حقوق بگیر'!G:G)),LOOKUP(D306,Master!D:D,Master!J:J))","v":0},{"$error":"#N/A"},0,0,{"$f":"IF(O306>#REF!,\"اخطار ساعت اضافه کار از حداکثر بیشتر است\",\" \")","v":{"$error":"#REF!"}},{"$f":"IF(O306>#REF!,1,0)","v":{"$error":"#REF!"}}]
[304,{"$f":"IF(D307=0,\"\",Settings!$D$6)","v":""},{"$f":"IF(D307=0,\"\",LOOKUP(B307,'Rigion Code'!A:A,'Rigion Code'!B:B))","v":""},null,{"$f":"IF(D307=0,\" \",IF(ISNA(MATCH(D307,Personnel!A:A,0)),IF(ISNA(MATCH(D307,'اطلاعات افراد غیر حقوق بگیر'!A:A,0)),\"وجود ندارد\",LOOKUP(Edit!D307,'اطلاعات افراد غیر حقوق بگیر'!A:A,'اطلاعات افراد غیر حقوق بگیر'!B:B)),LOOKUP(D307,Personnel!A:A,Personnel!C:C)))","v":" "},{"$f":"IF(D307=0,\" \",IF(ISNA(MATCH(D307,Personnel!A:A,0)),IF(ISNA(MATCH(D307,'اطلاعات افراد غیر حقوق بگیر'!A:A,0)),\"وجود ندارد\",LOOKUP(D307,'اطلاعات افراد غیر حقوق بگیر'!A:A,'اطلاعات افراد غیر حقوق بگیر'!C:C)),LOOKUP(D307,Personnel!A:A,Personnel!B:B)))","v":" "},{"$f":"IF(D307=0,0,IF(ISNA(MATCH(D307,Personnel!A:A,0)),IF(ISNA(MATCH(D307,'اطلاعات افراد غیر حقوق بگیر'!A:A,0)),\"وجود ندارد\",LOOKUP(D307,'اطلاعات افراد غیر حقوق بگیر'!A:A,'اطلاعات افراد غیر حقوق بگیر'!D:D)),LOOKUP(D307,Master!D:D,Master!CD:CD)))","v":0},{"$f":"IF(D307=0,\" \",IF(ISNA(MATCH(D307,Personnel!A:A,0)),IF(ISNA(MATCH(D307,'اطلاعات افراد غیر حقوق بگیر'!A:A,0)),\"وجود ندارد\",LOOKUP(D307,'اطلاعات افراد غیر حقوق بگیر'!A:A,'اطلاعات افراد غیر حقوق بگیر'!E:E)),LOOKUP(D307,Master!D:D,Master!AH:AH)))","v":" "},{"$f":"SUMIFS(Pays!G:G,Pays!E:E,1,Pays!D:D,D307)","v":0},{"$f":"SUMIFS(Pays!G:G,Pays!E:E,2,Pays!D:D,D307)","v":0},{"$f":"SUMIFS(Pays!G:G,Pays!E:E,57,Pays!D:D,D307)","v":0},{"$f":"SUMIF(Pays!D:D,D307,Pays!G:G)","v":0},{"$f":"SUMIF(Pays!D:D,D307,Pays!G:G)/176","v":0},{"$f":"IF(M307=0,IF(ISNA(MATCH(D307,'اطلاعات افراد غیر حقوق بگیر'!A:A,0)),0,LOOKUP(D307,'اطلاعات افراد غیر حقوق بگیر'!A:A,'اطلاعات افراد غیر حقوق بگیر'!F:F)),IF(H307=31,Settings!$D$13,ROUND(M307,0)))","v":0},null,0,{"$f":"IF(ISNA(MATCH(D307,Master!D:D,0)),IF(ISNA(MATCH(D307,'اطلاعات افراد غیر حقوق بگیر'!A:A,0)),0,LOOKUP(D307,'اطلاعات افراد غیر حقوق بگیر'!A:A,'اطلاعات افراد غیر حقوق بگیر'!G:G)),LOOKUP(D307,Master!D:D,Master!J:J))","v":0},{"$error":"#N/A"},0,0,{"$f":"IF(O307>#REF!,\"اخطار ساعت اضافه کار از حداکثر بیشتر است\",\" \")","v":{"$error":"#REF!"}},{"$f":"IF(O307>#REF!,1,0)","v":{"$error":"#REF!"}}]
[305,{"$f":"IF(D308=0,\"\",Settings!$D$6)","v":""},{"$f":"IF(D308=0,\"\",LOOKUP(B308,'Rigion Code'!A:A,'Rigion Code'!B:B))","v":""},null,{"$f":"IF(D308=0,\" \",IF(ISNA(MATCH(D308,Personnel!A:A,0)),IF(ISNA(MATCH(D308,'اطلاعات افراد غیر حقوق بگیر'!A:A,0)),\"وجود ندارد\",LOOKUP(Edit!D308,'اطلاعات افراد غیر حقوق بگیر'!A:A,'اطلاعات افراد غیر حقوق بگیر'!B:B)),LOOKUP(D308,Personnel!A:A,Personnel!C:C)))","v":" "},{"$f":"IF(D308=0,\" \",IF(ISNA(MATCH(D308,Personnel!A:A,0)),IF(ISNA(MATCH(D308,'اطلاعات افراد غیر حقوق بگیر'!A:A,0)),\"وجود ندارد\",LOOKUP(D308,'اطلاعات افراد غیر حقوق بگیر'!A:A,'اطلاعات افراد غیر حقوق بگیر'!C:C)),LOOKUP(D308,Personnel!A:A,Personnel!B:B)))","v":" "},{"$f":"IF(D308=0,0,IF(ISNA(MATCH(D308,Personnel!A:A,0)),IF(ISNA(MATCH(D308,'اطلاعات افراد غیر حقوق بگیر'!A:A,0)),\"وجود ندارد\",LOOKUP(D308,'اطلاعات افراد غیر حقوق بگیر'!A:A,'اطلاعات افراد غیر حقوق بگیر'!D:D)),LOOKUP(D308,Master!D:D,Master!CD:CD)))","v":0},{"$f":"IF(D308=0,\" \",IF(ISNA(MATCH(D308,Personnel!A:A,0)),IF(ISNA(MATCH(D308,'اطلاعات افراد غیر حقوق بگیر'!A:A,0)),\"وجود ندارد\",LOOKUP(D308,'اطلاعات افراد غیر حقوق بگیر'!A:A,'اطلاعات افراد غیر حقوق بگیر'!E:E)),LOOKUP(D308,Master!D:D,Master!AH:AH)))","v":" "},{"$f":"SUMIFS(Pays!G:G,Pays!E:E,1,Pays!D:D,D308)","v":0},{"$f":"SUMIFS(Pays!G:G,Pays!E:E,2,Pays!D:D,D308)","v":0},{"$f":"SUMIFS(Pays!G:G,Pays!E:E,57,Pays!D:D,D308)","v":0},{"$f":"SUMIF(Pays!D:D,D308,Pays!G:G)","v":0},{"$f":"SUMIF(Pays!D:D,D308,Pays!G:G)/176","v":0},{"$f":"IF(M308=0,IF(ISNA(MATCH(D308,'اطلاعات افراد غیر حقوق بگیر'!A:A,0)),0,LOOKUP(D308,'اطلاعات افراد غیر حقوق بگیر'!A:A,'اطلاعات افراد غیر حقوق بگیر'!F:F)),IF(H308=31,Settings!$D$13,ROUND(M308,0)))","v":0},null,0,{"$f":"IF(ISNA(MATCH(D308,Master!D:D,0)),IF(ISNA(MATCH(D308,'اطلاعات افراد غیر حقوق بگیر'!A:A,0)),0,LOOKUP(D308,'اطلاعات افراد غیر حقوق بگیر'!A:A,'اطلاعات افراد غیر حقوق بگیر'!G:G)),LOOKUP(D308,Master!D:D,Master!J:J))","v":0},{"$error":"#N/A"},0,0,{"$f":"IF(O308>#REF!,\"اخطار ساعت اضافه کار از حداکثر بیشتر است\",\" \")","v":{"$error":"#REF!"}},{"$f":"IF(O308>#REF!,1,0)","v":{"$error":"#REF!"}}]
[306,{"$f":"IF(D309=0,\"\",Settings!$D$6)","v":""},{"$f":"IF(D309=0,\"\",LOOKUP(B309,'Rigion Code'!A:A,'Rigion Code'!B:B))","v":""},null,{"$f":"IF(D309=0,\" \",IF(ISNA(MATCH(D309,Personnel!A:A,0)),IF(ISNA(MATCH(D309,'اطلاعات افراد غیر حقوق بگیر'!A:A,0)),\"وجود ندارد\",LOOKUP(Edit!D309,'اطلاعات افراد غیر حقوق بگیر'!A:A,'اطلاعات افراد غیر حقوق بگیر'!B:B)),LOOKUP(D309,Personnel!A:A,Personnel!C:C)))","v":" "},{"$f":"IF(D309=0,\" \",IF(ISNA(MATCH(D309,Personnel!A:A,0)),IF(ISNA(MATCH(D309,'اطلاعات افراد غیر حقوق بگیر'!A:A,0)),\"وجود ندارد\",LOOKUP(D309,'اطلاعات افراد غیر حقوق بگیر'!A:A,'اطلاعات افراد غیر حقوق بگیر'!C:C)),LOOKUP(D309,Personnel!A:A,Personnel!B:B)))","v":" "},{"$f":"IF(D309=0,0,IF(ISNA(MATCH(D309,Personnel!A:A,0)),IF(ISNA(MATCH(D309,'اطلاعات افراد غیر حقوق بگیر'!A:A,0)),\"وجود ندارد\",LOOKUP(D309,'اطلاعات افراد غیر حقوق بگیر'!A:A,'اطلاعات افراد غیر حقوق بگیر'!D:D)),LOOKUP(D309,Master!D:D,Master!CD:CD)))","v":0},{"$f":"IF(D309=0,\" \",IF(ISNA(MATCH(D309,Personnel!A:A,0)),IF(ISNA(MATCH(D309,'اطلاعات افراد غیر حقوق بگیر'!A:A,0)),\"وجود ندارد\",LOOKUP(D309,'اطلاعات افراد غیر حقوق بگیر'!A:A,'اطلاعات افراد غیر حقوق بگیر'!E:E)),LOOKUP(D309,Master!D:D,Master!AH:AH)))","v":" "},{"$f":"SUMIFS(Pays!G:G,Pays!E:E,1,Pays!D:D,D309)","v":0},{"$f":"SUMIFS(Pays!G:G,Pays!E:E,2,Pays!D:D,D309)","v":0},{"$f":"SUMIFS(Pays!G:G,Pays!E:E,57,Pays!D:D,D309)","v":0},{"$f":"SUMIF(Pays!D:D,D309,Pays!G:G)","v":0},{"$f":"SUMIF(Pays!D:D,D309,Pays!G:G)/176","v":0},{"$f":"IF(M309=0,IF(ISNA(MATCH(D309,'اطلاعات افراد غیر حقوق بگیر'!A:A,0)),0,LOOKUP(D309,'اطلاعات افراد غیر حقوق بگیر'!A:A,'اطلاعات افراد غیر حقوق بگیر'!F:F)),IF(H309=31,Settings!$D$13,ROUND(M309,0)))","v":0},null,0,{"$f":"IF(ISNA(MATCH(D309,Master!D:D,0)),IF(ISNA(MATCH(D309,'اطلاعات افراد غیر حقوق بگیر'!A:A,0)),0,LOOKUP(D309,'اطلاعات افراد غیر حقوق بگیر'!A:A,'اطلاعات افراد غیر حقوق بگیر'!G:G)),LOOKUP(D309,Master!D:D,Master!J:J))","v":0},{"$error":"#N/A"},0,0,{"$f":"IF(O309>#REF!,\"اخطار ساعت اضافه کار از حداکثر بیشتر است\",\" \")","v":{"$error":"#REF!"}},{"$f":"IF(O309>#REF!,1,0)","v":{"$error":"#REF!"}}]
[307,{"$f":"IF(D310=0,\"\",Settings!$D$6)","v":""},{"$f":"IF(D310=0,\"\",LOOKUP(B310,'Rigion Code'!A:A,'Rigion Code'!B:B))","v":""},null,{"$f":"IF(D310=0,\" \",IF(ISNA(MATCH(D310,Personnel!A:A,0)),IF(ISNA(MATCH(D310,'اطلاعات افراد غیر حقوق بگیر'!A:A,0)),\"وجود ندارد\",LOOKUP(Edit!D310,'اطلاعات افراد غیر حقوق بگیر'!A:A,'اطلاعات افراد غیر حقوق بگیر'!B:B)),LOOKUP(D310,Personnel!A:A,Personnel!C:C)))","v":" "},{"$f":"IF(D310=0,\" \",IF(ISNA(MATCH(D310,Personnel!A:A,0)),IF(ISNA(MATCH(D310,'اطلاعات افراد غیر حقوق بگیر'!A:A,0)),\"وجود ندارد\",LOOKUP(D310,'اطلاعات افراد غیر حقوق بگیر'!A:A,'اطلاعات افراد غیر حقوق بگیر'!C:C)),LOOKUP(D310,Personnel!A:A,Personnel!B:B)))","v":" "},{"$f":"IF(D310=0,0,IF(ISNA(MATCH(D310,Personnel!A:A,0)),IF(ISNA(MATCH(D310,'اطلاعات افراد غیر حقوق بگیر'!A:A,0)),\"وجود ندارد\",LOOKUP(D310,'اطلاعات افراد غیر حقوق بگیر'!A:A,'اطلاعات افراد غیر حقوق بگیر'!D:D)),LOOKUP(D310,Master!D:D,Master!CD:CD)))","v":0},{"$f":"IF(D310=0,\" \",IF(ISNA(MATCH(D310,Personnel!A:A,0)),IF(ISNA(MATCH(D310,'اطلاعات افراد غیر حقوق بگیر'!A:A,0)),\"وجود ندارد\",LOOKUP(D310,'اطلاعات افراد غیر حقوق بگیر'!A:A,'اطلاعات افراد غیر حقوق بگیر'!E:E)),LOOKUP(D310,Master!D:D,Master!AH:AH)))","v":" "},{"$f":"SUMIFS(Pays!G:G,Pays!E:E,1,Pays!D:D,D310)","v":0},{"$f":"SUMIFS(Pays!G:G,Pays!E:E,2,Pays!D:D,D310)","v":0},{"$f":"SUMIFS(Pays!G:G,Pays!E:E,57,Pays!D:D,D310)","v":0},{"$f":"SUMIF(Pays!D:D,D310,Pays!G:G)","v":0},{"$f":"SUMIF(Pays!D:D,D310,Pays!G:G)/176","v":0},{"$f":"IF(M310=0,IF(ISNA(MATCH(D310,'اطلاعات افراد غیر حقوق بگیر'!A:A,0)),0,LOOKUP(D310,'اطلاعات افراد غیر حقوق بگیر'!A:A,'اطلاعات افراد غیر حقوق بگیر'!F:F)),IF(H310=31,Settings!$D$13,ROUND(M310,0)))","v":0},null,0,{"$f":"IF(ISNA(MATCH(D310,Master!D:D,0)),IF(ISNA(MATCH(D310,'اطلاعات افراد غیر حقوق بگیر'!A:A,0)),0,LOOKUP(D310,'اطلاعات افراد غیر حقوق بگیر'!A:A,'اطلاعات افراد غیر حقوق بگیر'!G:G)),LOOKUP(D310,Master!D:D,Master!J:J))","v":0},{"$error":"#N/A"},0,0,{"$f":"IF(O310>#REF!,\"اخطار ساعت اضافه کار از حداکثر بیشتر است\",\" \")","v":{"$error":"#REF!"}},{"$f":"IF(O310>#REF!,1,0)","v":{"$error":"#REF!"}}]
[308,{"$f":"IF(D311=0,\"\",Settings!$D$6)","v":""},{"$f":"IF(D311=0,\"\",LOOKUP(B311,'Rigion Code'!A:A,'Rigion Code'!B:B))","v":""},null,{"$f":"IF(D311=0,\" \",IF(ISNA(MATCH(D311,Personnel!A:A,0)),IF(ISNA(MATCH(D311,'اطلاعات افراد غیر حقوق بگیر'!A:A,0)),\"وجود ندارد\",LOOKUP(Edit!D311,'اطلاعات افراد غیر حقوق بگیر'!A:A,'اطلاعات افراد غیر حقوق بگیر'!B:B)),LOOKUP(D311,Personnel!A:A,Personnel!C:C)))","v":" "},{"$f":"IF(D311=0,\" \",IF(ISNA(MATCH(D311,Personnel!A:A,0)),IF(ISNA(MATCH(D311,'اطلاعات افراد غیر حقوق بگیر'!A:A,0)),\"وجود ندارد\",LOOKUP(D311,'اطلاعات افراد غیر حقوق بگیر'!A:A,'اطلاعات افراد غیر حقوق بگیر'!C:C)),LOOKUP(D311,Personnel!A:A,Personnel!B:B)))","v":" "},{"$f":"IF(D311=0,0,IF(ISNA(MATCH(D311,Personnel!A:A,0)),IF(ISNA(MATCH(D311,'اطلاعات افراد غیر حقوق بگیر'!A:A,0)),\"وجود ندارد\",LOOKUP(D311,'اطلاعات افراد غیر حقوق بگیر'!A:A,'اطلاعات افراد غیر حقوق بگیر'!D:D)),LOOKUP(D311,Master!D:D,Master!CD:CD)))","v":0},{"$f":"IF(D311=0,\" \",IF(ISNA(MATCH(D311,Personnel!A:A,0)),IF(ISNA(MATCH(D311,'اطلاعات افراد غیر حقوق بگیر'!A:A,0)),\"وجود ندارد\",LOOKUP(D311,'اطلاعات افراد غیر حقوق بگیر'!A:A,'اطلاعات افراد غیر حقوق بگیر'!E:E)),LOOKUP(D311,Master!D:D,Master!AH:AH)))","v":" "},{"$f":"SUMIFS(Pays!G:G,Pays!E:E,1,Pays!D:D,D311)","v":0},{"$f":"SUMIFS(Pays!G:G,Pays!E:E,2,Pays!D:D,D311)","v":0},{"$f":"SUMIFS(Pays!G:G,Pays!E:E,57,Pays!D:D,D311)","v":0},{"$f":"SUMIF(Pays!D:D,D311,Pays!G:G)","v":0},{"$f":"SUMIF(Pays!D:D,D311,Pays!G:G)/176","v":0},{"$f":"IF(M311=0,IF(ISNA(MATCH(D311,'اطلاعات افراد غیر حقوق بگیر'!A:A,0)),0,LOOKUP(D311,'اطلاعات افراد غیر حقوق بگیر'!A:A,'اطلاعات افراد غیر حقوق بگیر'!F:F)),IF(H311=31,Settings!$D$13,ROUND(M311,0)))","v":0},null,0,{"$f":"IF(ISNA(MATCH(D311,Master!D:D,0)),IF(ISNA(MATCH(D311,'اطلاعات افراد غیر حقوق بگیر'!A:A,0)),0,LOOKUP(D311,'اطلاعات افراد غیر حقوق بگیر'!A:A,'اطلاعات افراد غیر حقوق بگیر'!G:G)),LOOKUP(D311,Master!D:D,Master!J:J))","v":0},{"$error":"#N/A"},0,0,{"$f":"IF(O311>#REF!,\"اخطار ساعت اضافه کار از حداکثر بیشتر است\",\" \")","v":{"$error":"#REF!"}},{"$f":"IF(O311>#REF!,1,0)","v":{"$error":"#REF!"}}]
[309,{"$f":"IF(D312=0,\"\",Settings!$D$6)","v":""},{"$f":"IF(D312=0,\"\",LOOKUP(B312,'Rigion Code'!A:A,'Rigion Code'!B:B))","v":""},null,{"$f":"IF(D312=0,\" \",IF(ISNA(MATCH(D312,Personnel!A:A,0)),IF(ISNA(MATCH(D312,'اطلاعات افراد غیر حقوق بگیر'!A:A,0)),\"وجود ندارد\",LOOKUP(Edit!D312,'اطلاعات افراد غیر حقوق بگیر'!A:A,'اطلاعات افراد غیر حقوق بگیر'!B:B)),LOOKUP(D312,Personnel!A:A,Personnel!C:C)))","v":" "},{"$f":"IF(D312=0,\" \",IF(ISNA(MATCH(D312,Personnel!A:A,0)),IF(ISNA(MATCH(D312,'اطلاعات افراد غیر حقوق بگیر'!A:A,0)),\"وجود ندارد\",LOOKUP(D312,'اطلاعات افراد غیر حقوق بگیر'!A:A,'اطلاعات افراد غیر حقوق بگیر'!C:C)),LOOKUP(D312,Personnel!A:A,Personnel!B:B)))","v":" "},{"$f":"IF(D312=0,0,IF(ISNA(MATCH(D312,Personnel!A:A,0)),IF(ISNA(MATCH(D312,'اطلاعات افراد غیر حقوق بگیر'!A:A,0)),\"وجود ندارد\",LOOKUP(D312,'اطلاعات افراد غیر حقوق بگیر'!A:A,'اطلاعات افراد غیر حقوق بگیر'!D:D)),LOOKUP(D312,Master!D:D,Master!CD:CD)))","v":0},{"$f":"IF(D312=0,\" \",IF(ISNA(MATCH(D312,Personnel!A:A,0)),IF(ISNA(MATCH(D312,'اطلاعات افراد غیر حقوق بگیر'!A:A,0)),\"وجود ندارد\",LOOKUP(D312,'اطلاعات افراد غیر حقوق بگیر'!A:A,'اطلاعات افراد غیر حقوق بگیر'!E:E)),LOOKUP(D312,Master!D:D,Master!AH:AH)))","v":" "},{"$f":"SUMIFS(Pays!G:G,Pays!E:E,1,Pays!D:D,D312)","v":0},{"$f":"SUMIFS(Pays!G:G,Pays!E:E,2,Pays!D:D,D312)","v":0},{"$f":"SUMIFS(Pays!G:G,Pays!E:E,57,Pays!D:D,D312)","v":0},{"$f":"SUMIF(Pays!D:D,D312,Pays!G:G)","v":0},{"$f":"SUMIF(Pays!D:D,D312,Pays!G:G)/176","v":0},{"$f":"IF(M312=0,IF(ISNA(MATCH(D312,'اطلاعات افراد غیر حقوق بگیر'!A:A,0)),0,LOOKUP(D312,'اطلاعات افراد غیر حقوق بگیر'!A:A,'اطلاعات افراد غیر حقوق بگیر'!F:F)),IF(H312=31,Settings!$D$13,ROUND(M312,0)))","v":0},null,0,{"$f":"IF(ISNA(MATCH(D312,Master!D:D,0)),IF(ISNA(MATCH(D312,'اطلاعات افراد غیر حقوق بگیر'!A:A,0)),0,LOOKUP(D312,'اطلاعات افراد غیر حقوق بگیر'!A:A,'اطلاعات افراد غیر حقوق بگیر'!G:G)),LOOKUP(D312,Master!D:D,Master!J:J))","v":0},{"$error":"#N/A"},0,0,{"$f":"IF(O312>#REF!,\"اخطار ساعت اضافه کار از حداکثر بیشتر است\",\" \")","v":{"$error":"#REF!"}},{"$f":"IF(O312>#REF!,1,0)","v":{"$error":"#REF!"}}]
[310,{"$f":"IF(D313=0,\"\",Settings!$D$6)","v":""},{"$f":"IF(D313=0,\"\",LOOKUP(B313,'Rigion Code'!A:A,'Rigion Code'!B:B))","v":""},null,{"$f":"IF(D313=0,\" \",IF(ISNA(MATCH(D313,Personnel!A:A,0)),IF(ISNA(MATCH(D313,'اطلاعات افراد غیر حقوق بگیر'!A:A,0)),\"وجود ندارد\",LOOKUP(Edit!D313,'اطلاعات افراد غیر حقوق بگیر'!A:A,'اطلاعات افراد غیر حقوق بگیر'!B:B)),LOOKUP(D313,Personnel!A:A,Personnel!C:C)))","v":" "},{"$f":"IF(D313=0,\" \",IF(ISNA(MATCH(D313,Personnel!A:A,0)),IF(ISNA(MATCH(D313,'اطلاعات افراد غیر حقوق بگیر'!A:A,0)),\"وجود ندارد\",LOOKUP(D313,'اطلاعات افراد غیر حقوق بگیر'!A:A,'اطلاعات افراد غیر حقوق بگیر'!C:C)),LOOKUP(D313,Personnel!A:A,Personnel!B:B)))","v":" "},{"$f":"IF(D313=0,0,IF(ISNA(MATCH(D313,Personnel!A:A,0)),IF(ISNA(MATCH(D313,'اطلاعات افراد غیر حقوق بگیر'!A:A,0)),\"وجود ندارد\",LOOKUP(D313,'اطلاعات افراد غیر حقوق بگیر'!A:A,'اطلاعات افراد غیر حقوق بگیر'!D:D)),LOOKUP(D313,Master!D:D,Master!CD:CD)))","v":0},{"$f":"IF(D313=0,\" \",IF(ISNA(MATCH(D313,Personnel!A:A,0)),IF(ISNA(MATCH(D313,'اطلاعات افراد غیر حقوق بگیر'!A:A,0)),\"وجود ندارد\",LOOKUP(D313,'اطلاعات افراد غیر حقوق بگیر'!A:A,'اطلاعات افراد غیر حقوق بگیر'!E:E)),LOOKUP(D313,Master!D:D,Master!AH:AH)))","v":" "},{"$f":"SUMIFS(Pays!G:G,Pays!E:E,1,Pays!D:D,D313)","v":0},{"$f":"SUMIFS(Pays!G:G,Pays!E:E,2,Pays!D:D,D313)","v":0},{"$f":"SUMIFS(Pays!G:G,Pays!E:E,57,Pays!D:D,D313)","v":0},{"$f":"SUMIF(Pays!D:D,D313,Pays!G:G)","v":0},{"$f":"SUMIF(Pays!D:D,D313,Pays!G:G)/176","v":0},{"$f":"IF(M313=0,IF(ISNA(MATCH(D313,'اطلاعات افراد غیر حقوق بگیر'!A:A,0)),0,LOOKUP(D313,'اطلاعات افراد غیر حقوق بگیر'!A:A,'اطلاعات افراد غیر حقوق بگیر'!F:F)),IF(H313=31,Settings!$D$13,ROUND(M313,0)))","v":0},null,0,{"$f":"IF(ISNA(MATCH(D313,Master!D:D,0)),IF(ISNA(MATCH(D313,'اطلاعات افراد غیر حقوق بگیر'!A:A,0)),0,LOOKUP(D313,'اطلاعات افراد غیر حقوق بگیر'!A:A,'اطلاعات افراد غیر حقوق بگیر'!G:G)),LOOKUP(D313,Master!D:D,Master!J:J))","v":0},{"$error":"#N/A"},0,0,{"$f":"IF(O313>#REF!,\"اخطار ساعت اضافه کار از حداکثر بیشتر است\",\" \")","v":{"$error":"#REF!"}},{"$f":"IF(O313>#REF!,1,0)","v":{"$error":"#REF!"}}]
[311,{"$f":"IF(D314=0,\"\",Settings!$D$6)","v":""},{"$f":"IF(D314=0,\"\",LOOKUP(B314,'Rigion Code'!A:A,'Rigion Code'!B:B))","v":""},null,{"$f":"IF(D314=0,\" \",IF(ISNA(MATCH(D314,Personnel!A:A,0)),IF(ISNA(MATCH(D314,'اطلاعات افراد غیر حقوق بگیر'!A:A,0)),\"وجود ندارد\",LOOKUP(Edit!D314,'اطلاعات افراد غیر حقوق بگیر'!A:A,'اطلاعات افراد غیر حقوق بگیر'!B:B)),LOOKUP(D314,Personnel!A:A,Personnel!C:C)))","v":" "},{"$f":"IF(D314=0,\" \",IF(ISNA(MATCH(D314,Personnel!A:A,0)),IF(ISNA(MATCH(D314,'اطلاعات افراد غیر حقوق بگیر'!A:A,0)),\"وجود ندارد\",LOOKUP(D314,'اطلاعات افراد غیر حقوق بگیر'!A:A,'اطلاعات افراد غیر حقوق بگیر'!C:C)),LOOKUP(D314,Personnel!A:A,Personnel!B:B)))","v":" "},{"$f":"IF(D314=0,0,IF(ISNA(MATCH(D314,Personnel!A:A,0)),IF(ISNA(MATCH(D314,'اطلاعات افراد غیر حقوق بگیر'!A:A,0)),\"وجود ندارد\",LOOKUP(D314,'اطلاعات افراد غیر حقوق بگیر'!A:A,'اطلاعات افراد غیر حقوق بگیر'!D:D)),LOOKUP(D314,Master!D:D,Master!CD:CD)))","v":0},{"$f":"IF(D314=0,\" \",IF(ISNA(MATCH(D314,Personnel!A:A,0)),IF(ISNA(MATCH(D314,'اطلاعات افراد غیر حقوق بگیر'!A:A,0)),\"وجود ندارد\",LOOKUP(D314,'اطلاعات افراد غیر حقوق بگیر'!A:A,'اطلاعات افراد غیر حقوق بگیر'!E:E)),LOOKUP(D314,Master!D:D,Master!AH:AH)))","v":" "},{"$f":"SUMIFS(Pays!G:G,Pays!E:E,1,Pays!D:D,D314)","v":0},{"$f":"SUMIFS(Pays!G:G,Pays!E:E,2,Pays!D:D,D314)","v":0},{"$f":"SUMIFS(Pays!G:G,Pays!E:E,57,Pays!D:D,D314)","v":0},{"$f":"SUMIF(Pays!D:D,D314,Pays!G:G)","v":0},{"$f":"SUMIF(Pays!D:D,D314,Pays!G:G)/176","v":0},{"$f":"IF(M314=0,IF(ISNA(MATCH(D314,'اطلاعات افراد غیر حقوق بگیر'!A:A,0)),0,LOOKUP(D314,'اطلاعات افراد غیر حقوق بگیر'!A:A,'اطلاعات افراد غیر حقوق بگیر'!F:F)),IF(H314=31,Settings!$D$13,ROUND(M314,0)))","v":0},null,0,{"$f":"IF(ISNA(MATCH(D314,Master!D:D,0)),IF(ISNA(MATCH(D314,'اطلاعات افراد غیر حقوق بگیر'!A:A,0)),0,LOOKUP(D314,'اطلاعات افراد غیر حقوق بگیر'!A:A,'اطلاعات افراد غیر حقوق بگیر'!G:G)),LOOKUP(D314,Master!D:D,Master!J:J))","v":0},{"$error":"#N/A"},0,0,{"$f":"IF(O314>#REF!,\"اخطار ساعت اضافه کار از حداکثر بیشتر است\",\" \")","v":{"$error":"#REF!"}},{"$f":"IF(O314>#REF!,1,0)","v":{"$error":"#REF!"}}]
[312,{"$f":"IF(D315=0,\"\",Settings!$D$6)","v":""},{"$f":"IF(D315=0,\"\",LOOKUP(B315,'Rigion Code'!A:A,'Rigion Code'!B:B))","v":""},null,{"$f":"IF(D315=0,\" \",IF(ISNA(MATCH(D315,Personnel!A:A,0)),IF(ISNA(MATCH(D315,'اطلاعات افراد غیر حقوق بگیر'!A:A,0)),\"وجود ندارد\",LOOKUP(Edit!D315,'اطلاعات افراد غیر حقوق بگیر'!A:A,'اطلاعات افراد غیر حقوق بگیر'!B:B)),LOOKUP(D315,Personnel!A:A,Personnel!C:C)))","v":" "},{"$f":"IF(D315=0,\" \",IF(ISNA(MATCH(D315,Personnel!A:A,0)),IF(ISNA(MATCH(D315,'اطلاعات افراد غیر حقوق بگیر'!A:A,0)),\"وجود ندارد\",LOOKUP(D315,'اطلاعات افراد غیر حقوق بگیر'!A:A,'اطلاعات افراد غیر حقوق بگیر'!C:C)),LOOKUP(D315,Personnel!A:A,Personnel!B:B)))","v":" "},{"$f":"IF(D315=0,0,IF(ISNA(MATCH(D315,Personnel!A:A,0)),IF(ISNA(MATCH(D315,'اطلاعات افراد غیر حقوق بگیر'!A:A,0)),\"وجود ندارد\",LOOKUP(D315,'اطلاعات افراد غیر حقوق بگیر'!A:A,'اطلاعات افراد غیر حقوق بگیر'!D:D)),LOOKUP(D315,Master!D:D,Master!CD:CD)))","v":0},{"$f":"IF(D315=0,\" \",IF(ISNA(MATCH(D315,Personnel!A:A,0)),IF(ISNA(MATCH(D315,'اطلاعات افراد غیر حقوق بگیر'!A:A,0)),\"وجود ندارد\",LOOKUP(D315,'اطلاعات افراد غیر حقوق بگیر'!A:A,'اطلاعات افراد غیر حقوق بگیر'!E:E)),LOOKUP(D315,Master!D:D,Master!AH:AH)))","v":" "},{"$f":"SUMIFS(Pays!G:G,Pays!E:E,1,Pays!D:D,D315)","v":0},{"$f":"SUMIFS(Pays!G:G,Pays!E:E,2,Pays!D:D,D315)","v":0},{"$f":"SUMIFS(Pays!G:G,Pays!E:E,57,Pays!D:D,D315)","v":0},{"$f":"SUMIF(Pays!D:D,D315,Pays!G:G)","v":0},{"$f":"SUMIF(Pays!D:D,D315,Pays!G:G)/176","v":0},{"$f":"IF(M315=0,IF(ISNA(MATCH(D315,'اطلاعات افراد غیر حقوق بگیر'!A:A,0)),0,LOOKUP(D315,'اطلاعات افراد غیر حقوق بگیر'!A:A,'اطلاعات افراد غیر حقوق بگیر'!F:F)),IF(H315=31,Settings!$D$13,ROUND(M315,0)))","v":0},null,0,{"$f":"IF(ISNA(MATCH(D315,Master!D:D,0)),IF(ISNA(MATCH(D315,'اطلاعات افراد غیر حقوق بگیر'!A:A,0)),0,LOOKUP(D315,'اطلاعات افراد غیر حقوق بگیر'!A:A,'اطلاعات افراد غیر حقوق بگیر'!G:G)),LOOKUP(D315,Master!D:D,Master!J:J))","v":0},{"$error":"#N/A"},0,0,{"$f":"IF(O315>#REF!,\"اخطار ساعت اضافه کار از حداکثر بیشتر است\",\" \")","v":{"$error":"#REF!"}},{"$f":"IF(O315>#REF!,1,0)","v":{"$error":"#REF!"}}]
[313,{"$f":"IF(D316=0,\"\",Settings!$D$6)","v":""},{"$f":"IF(D316=0,\"\",LOOKUP(B316,'Rigion Code'!A:A,'Rigion Code'!B:B))","v":""},null,{"$f":"IF(D316=0,\" \",IF(ISNA(MATCH(D316,Personnel!A:A,0)),IF(ISNA(MATCH(D316,'اطلاعات افراد غیر حقوق بگیر'!A:A,0)),\"وجود ندارد\",LOOKUP(Edit!D316,'اطلاعات افراد غیر حقوق بگیر'!A:A,'اطلاعات افراد غیر حقوق بگیر'!B:B)),LOOKUP(D316,Personnel!A:A,Personnel!C:C)))","v":" "},{"$f":"IF(D316=0,\" \",IF(ISNA(MATCH(D316,Personnel!A:A,0)),IF(ISNA(MATCH(D316,'اطلاعات افراد غیر حقوق بگیر'!A:A,0)),\"وجود ندارد\",LOOKUP(D316,'اطلاعات افراد غیر حقوق بگیر'!A:A,'اطلاعات افراد غیر حقوق بگیر'!C:C)),LOOKUP(D316,Personnel!A:A,Personnel!B:B)))","v":" "},{"$f":"IF(D316=0,0,IF(ISNA(MATCH(D316,Personnel!A:A,0)),IF(ISNA(MATCH(D316,'اطلاعات افراد غیر حقوق بگیر'!A:A,0)),\"وجود ندارد\",LOOKUP(D316,'اطلاعات افراد غیر حقوق بگیر'!A:A,'اطلاعات افراد غیر حقوق بگیر'!D:D)),LOOKUP(D316,Master!D:D,Master!CD:CD)))","v":0},{"$f":"IF(D316=0,\" \",IF(ISNA(MATCH(D316,Personnel!A:A,0)),IF(ISNA(MATCH(D316,'اطلاعات افراد غیر حقوق بگیر'!A:A,0)),\"وجود ندارد\",LOOKUP(D316,'اطلاعات افراد غیر حقوق بگیر'!A:A,'اطلاعات افراد غیر حقوق بگیر'!E:E)),LOOKUP(D316,Master!D:D,Master!AH:AH)))","v":" "},{"$f":"SUMIFS(Pays!G:G,Pays!E:E,1,Pays!D:D,D316)","v":0},{"$f":"SUMIFS(Pays!G:G,Pays!E:E,2,Pays!D:D,D316)","v":0},{"$f":"SUMIFS(Pays!G:G,Pays!E:E,57,Pays!D:D,D316)","v":0},{"$f":"SUMIF(Pays!D:D,D316,Pays!G:G)","v":0},{"$f":"SUMIF(Pays!D:D,D316,Pays!G:G)/176","v":0},{"$f":"IF(M316=0,IF(ISNA(MATCH(D316,'اطلاعات افراد غیر حقوق بگیر'!A:A,0)),0,LOOKUP(D316,'اطلاعات افراد غیر حقوق بگیر'!A:A,'اطلاعات افراد غیر حقوق بگیر'!F:F)),IF(H316=31,Settings!$D$13,ROUND(M316,0)))","v":0},null,0,{"$f":"IF(ISNA(MATCH(D316,Master!D:D,0)),IF(ISNA(MATCH(D316,'اطلاعات افراد غیر حقوق بگیر'!A:A,0)),0,LOOKUP(D316,'اطلاعات افراد غیر حقوق بگیر'!A:A,'اطلاعات افراد غیر حقوق بگیر'!G:G)),LOOKUP(D316,Master!D:D,Master!J:J))","v":0},{"$error":"#N/A"},0,0,{"$f":"IF(O316>#REF!,\"اخطار ساعت اضافه کار از حداکثر بیشتر است\",\" \")","v":{"$error":"#REF!"}},{"$f":"IF(O316>#REF!,1,0)","v":{"$error":"#REF!"}}]
[314,{"$f":"IF(D317=0,\"\",Settings!$D$6)","v":""},{"$f":"IF(D317=0,\"\",LOOKUP(B317,'Rigion Code'!A:A,'Rigion Code'!B:B))","v":""},null,{"$f":"IF(D317=0,\" \",IF(ISNA(MATCH(D317,Personnel!A:A,0)),IF(ISNA(MATCH(D317,'اطلاعات افراد غیر حقوق بگیر'!A:A,0)),\"وجود ندارد\",LOOKUP(Edit!D317,'اطلاعات افراد غیر حقوق بگیر'!A:A,'اطلاعات افراد غیر حقوق بگیر'!B:B)),LOOKUP(D317,Personnel!A:A,Personnel!C:C)))","v":" "},{"$f":"IF(D317=0,\" \",IF(ISNA(MATCH(D317,Personnel!A:A,0)),IF(ISNA(MATCH(D317,'اطلاعات افراد غیر حقوق بگیر'!A:A,0)),\"وجود ندارد\",LOOKUP(D317,'اطلاعات افراد غیر حقوق بگیر'!A:A,'اطلاعات افراد غیر حقوق بگیر'!C:C)),LOOKUP(D317,Personnel!A:A,Personnel!B:B)))","v":" "},{"$f":"IF(D317=0,0,IF(ISNA(MATCH(D317,Personnel!A:A,0)),IF(ISNA(MATCH(D317,'اطلاعات افراد غیر حقوق بگیر'!A:A,0)),\"وجود ندارد\",LOOKUP(D317,'اطلاعات افراد غیر حقوق بگیر'!A:A,'اطلاعات افراد غیر حقوق بگیر'!D:D)),LOOKUP(D317,Master!D:D,Master!CD:CD)))","v":0},{"$f":"IF(D317=0,\" \",IF(ISNA(MATCH(D317,Personnel!A:A,0)),IF(ISNA(MATCH(D317,'اطلاعات افراد غیر حقوق بگیر'!A:A,0)),\"وجود ندارد\",LOOKUP(D317,'اطلاعات افراد غیر حقوق بگیر'!A:A,'اطلاعات افراد غیر حقوق بگیر'!E:E)),LOOKUP(D317,Master!D:D,Master!AH:AH)))","v":" "},{"$f":"SUMIFS(Pays!G:G,Pays!E:E,1,Pays!D:D,D317)","v":0},{"$f":"SUMIFS(Pays!G:G,Pays!E:E,2,Pays!D:D,D317)","v":0},{"$f":"SUMIFS(Pays!G:G,Pays!E:E,57,Pays!D:D,D317)","v":0},{"$f":"SUMIF(Pays!D:D,D317,Pays!G:G)","v":0},{"$f":"SUMIF(Pays!D:D,D317,Pays!G:G)/176","v":0},{"$f":"IF(M317=0,IF(ISNA(MATCH(D317,'اطلاعات افراد غیر حقوق بگیر'!A:A,0)),0,LOOKUP(D317,'اطلاعات افراد غیر حقوق بگیر'!A:A,'اطلاعات افراد غیر حقوق بگیر'!F:F)),IF(H317=31,Settings!$D$13,ROUND(M317,0)))","v":0},null,0,{"$f":"IF(ISNA(MATCH(D317,Master!D:D,0)),IF(ISNA(MATCH(D317,'اطلاعات افراد غیر حقوق بگیر'!A:A,0)),0,LOOKUP(D317,'اطلاعات افراد غیر حقوق بگیر'!A:A,'اطلاعات افراد غیر حقوق بگیر'!G:G)),LOOKUP(D317,Master!D:D,Master!J:J))","v":0},{"$error":"#N/A"},0,0,{"$f":"IF(O317>#REF!,\"اخطار ساعت اضافه کار از حداکثر بیشتر است\",\" \")","v":{"$error":"#REF!"}},{"$f":"IF(O317>#REF!,1,0)","v":{"$error":"#REF!"}}]
[315,{"$f":"IF(D318=0,\"\",Settings!$D$6)","v":""},{"$f":"IF(D318=0,\"\",LOOKUP(B318,'Rigion Code'!A:A,'Rigion Code'!B:B))","v":""},null,{"$f":"IF(D318=0,\" \",IF(ISNA(MATCH(D318,Personnel!A:A,0)),IF(ISNA(MATCH(D318,'اطلاعات افراد غیر حقوق بگیر'!A:A,0)),\"وجود ندارد\",LOOKUP(Edit!D318,'اطلاعات افراد غیر حقوق بگیر'!A:A,'اطلاعات افراد غیر حقوق بگیر'!B:B)),LOOKUP(D318,Personnel!A:A,Personnel!C:C)))","v":" "},{"$f":"IF(D318=0,\" \",IF(ISNA(MATCH(D318,Personnel!A:A,0)),IF(ISNA(MATCH(D318,'اطلاعات افراد غیر حقوق بگیر'!A:A,0)),\"وجود ندارد\",LOOKUP(D318,'اطلاعات افراد غیر حقوق بگیر'!A:A,'اطلاعات افراد غیر حقوق بگیر'!C:C)),LOOKUP(D318,Personnel!A:A,Personnel!B:B)))","v":" "},{"$f":"IF(D318=0,0,IF(ISNA(MATCH(D318,Personnel!A:A,0)),IF(ISNA(MATCH(D318,'اطلاعات افراد غیر حقوق بگیر'!A:A,0)),\"وجود ندارد\",LOOKUP(D318,'اطلاعات افراد غیر حقوق بگیر'!A:A,'اطلاعات افراد غیر حقوق بگیر'!D:D)),LOOKUP(D318,Master!D:D,Master!CD:CD)))","v":0},{"$f":"IF(D318=0,\" \",IF(ISNA(MATCH(D318,Personnel!A:A,0)),IF(ISNA(MATCH(D318,'اطلاعات افراد غیر حقوق بگیر'!A:A,0)),\"وجود ندارد\",LOOKUP(D318,'اطلاعات افراد غیر حقوق بگیر'!A:A,'اطلاعات افراد غیر حقوق بگیر'!E:E)),LOOKUP(D318,Master!D:D,Master!AH:AH)))","v":" "},{"$f":"SUMIFS(Pays!G:G,Pays!E:E,1,Pays!D:D,D318)","v":0},{"$f":"SUMIFS(Pays!G:G,Pays!E:E,2,Pays!D:D,D318)","v":0},{"$f":"SUMIFS(Pays!G:G,Pays!E:E,57,Pays!D:D,D318)","v":0},{"$f":"SUMIF(Pays!D:D,D318,Pays!G:G)","v":0},{"$f":"SUMIF(Pays!D:D,D318,Pays!G:G)/176","v":0},{"$f":"IF(M318=0,IF(ISNA(MATCH(D318,'اطلاعات افراد غیر حقوق بگیر'!A:A,0)),0,LOOKUP(D318,'اطلاعات افراد غیر حقوق بگیر'!A:A,'اطلاعات افراد غیر حقوق بگیر'!F:F)),IF(H318=31,Settings!$D$13,ROUND(M318,0)))","v":0},null,0,{"$f":"IF(ISNA(MATCH(D318,Master!D:D,0)),IF(ISNA(MATCH(D318,'اطلاعات افراد غیر حقوق بگیر'!A:A,0)),0,LOOKUP(D318,'اطلاعات افراد غیر حقوق بگیر'!A:A,'اطلاعات افراد غیر حقوق بگیر'!G:G)),LOOKUP(D318,Master!D:D,Master!J:J))","v":0},{"$error":"#N/A"},0,0,{"$f":"IF(O318>#REF!,\"اخطار ساعت اضافه کار از حداکثر بیشتر است\",\" \")","v":{"$error":"#REF!"}},{"$f":"IF(O318>#REF!,1,0)","v":{"$error":"#REF!"}}]
[316,{"$f":"IF(D319=0,\"\",Settings!$D$6)","v":""},{"$f":"IF(D319=0,\"\",LOOKUP(B319,'Rigion Code'!A:A,'Rigion Code'!B:B))","v":""},null,{"$f":"IF(D319=0,\" \",IF(ISNA(MATCH(D319,Personnel!A:A,0)),IF(ISNA(MATCH(D319,'اطلاعات افراد غیر حقوق بگیر'!A:A,0)),\"وجود ندارد\",LOOKUP(Edit!D319,'اطلاعات افراد غیر حقوق بگیر'!A:A,'اطلاعات افراد غیر حقوق بگیر'!B:B)),LOOKUP(D319,Personnel!A:A,Personnel!C:C)))","v":" "},{"$f":"IF(D319=0,\" \",IF(ISNA(MATCH(D319,Personnel!A:A,0)),IF(ISNA(MATCH(D319,'اطلاعات افراد غیر حقوق بگیر'!A:A,0)),\"وجود ندارد\",LOOKUP(D319,'اطلاعات افراد غیر حقوق بگیر'!A:A,'اطلاعات افراد غیر حقوق بگیر'!C:C)),LOOKUP(D319,Personnel!A:A,Personnel!B:B)))","v":" "},{"$f":"IF(D319=0,0,IF(ISNA(MATCH(D319,Personnel!A:A,0)),IF(ISNA(MATCH(D319,'اطلاعات افراد غیر حقوق بگیر'!A:A,0)),\"وجود ندارد\",LOOKUP(D319,'اطلاعات افراد غیر حقوق بگیر'!A:A,'اطلاعات افراد غیر حقوق بگیر'!D:D)),LOOKUP(D319,Master!D:D,Master!CD:CD)))","v":0},{"$f":"IF(D319=0,\" \",IF(ISNA(MATCH(D319,Personnel!A:A,0)),IF(ISNA(MATCH(D319,'اطلاعات افراد غیر حقوق بگیر'!A:A,0)),\"وجود ندارد\",LOOKUP(D319,'اطلاعات افراد غیر حقوق بگیر'!A:A,'اطلاعات افراد غیر حقوق بگیر'!E:E)),LOOKUP(D319,Master!D:D,Master!AH:AH)))","v":" "},{"$f":"SUMIFS(Pays!G:G,Pays!E:E,1,Pays!D:D,D319)","v":0},{"$f":"SUMIFS(Pays!G:G,Pays!E:E,2,Pays!D:D,D319)","v":0},{"$f":"SUMIFS(Pays!G:G,Pays!E:E,57,Pays!D:D,D319)","v":0},{"$f":"SUMIF(Pays!D:D,D319,Pays!G:G)","v":0},{"$f":"SUMIF(Pays!D:D,D319,Pays!G:G)/176","v":0},{"$f":"IF(M319=0,IF(ISNA(MATCH(D319,'اطلاعات افراد غیر حقوق بگیر'!A:A,0)),0,LOOKUP(D319,'اطلاعات افراد غیر حقوق بگیر'!A:A,'اطلاعات افراد غیر حقوق بگیر'!F:F)),IF(H319=31,Settings!$D$13,ROUND(M319,0)))","v":0},null,0,{"$f":"IF(ISNA(MATCH(D319,Master!D:D,0)),IF(ISNA(MATCH(D319,'اطلاعات افراد غیر حقوق بگیر'!A:A,0)),0,LOOKUP(D319,'اطلاعات افراد غیر حقوق بگیر'!A:A,'اطلاعات افراد غیر حقوق بگیر'!G:G)),LOOKUP(D319,Master!D:D,Master!J:J))","v":0},{"$error":"#N/A"},0,0,{"$f":"IF(O319>#REF!,\"اخطار ساعت اضافه کار از حداکثر بیشتر است\",\" \")","v":{"$error":"#REF!"}},{"$f":"IF(O319>#REF!,1,0)","v":{"$error":"#REF!"}}]
[317,{"$f":"IF(D320=0,\"\",Settings!$D$6)","v":""},{"$f":"IF(D320=0,\"\",LOOKUP(B320,'Rigion Code'!A:A,'Rigion Code'!B:B))","v":""},null,{"$f":"IF(D320=0,\" \",IF(ISNA(MATCH(D320,Personnel!A:A,0)),IF(ISNA(MATCH(D320,'اطلاعات افراد غیر حقوق بگیر'!A:A,0)),\"وجود ندارد\",LOOKUP(Edit!D320,'اطلاعات افراد غیر حقوق بگیر'!A:A,'اطلاعات افراد غیر حقوق بگیر'!B:B)),LOOKUP(D320,Personnel!A:A,Personnel!C:C)))","v":" "},{"$f":"IF(D320=0,\" \",IF(ISNA(MATCH(D320,Personnel!A:A,0)),IF(ISNA(MATCH(D320,'اطلاعات افراد غیر حقوق بگیر'!A:A,0)),\"وجود ندارد\",LOOKUP(D320,'اطلاعات افراد غیر حقوق بگیر'!A:A,'اطلاعات افراد غیر حقوق بگیر'!C:C)),LOOKUP(D320,Personnel!A:A,Personnel!B:B)))","v":" "},{"$f":"IF(D320=0,0,IF(ISNA(MATCH(D320,Personnel!A:A,0)),IF(ISNA(MATCH(D320,'اطلاعات افراد غیر حقوق بگیر'!A:A,0)),\"وجود ندارد\",LOOKUP(D320,'اطلاعات افراد غیر حقوق بگیر'!A:A,'اطلاعات افراد غیر حقوق بگیر'!D:D)),LOOKUP(D320,Master!D:D,Master!CD:CD)))","v":0},{"$f":"IF(D320=0,\" \",IF(ISNA(MATCH(D320,Personnel!A:A,0)),IF(ISNA(MATCH(D320,'اطلاعات افراد غیر حقوق بگیر'!A:A,0)),\"وجود ندارد\",LOOKUP(D320,'اطلاعات افراد غیر حقوق بگیر'!A:A,'اطلاعات افراد غیر حقوق بگیر'!E:E)),LOOKUP(D320,Master!D:D,Master!AH:AH)))","v":" "},{"$f":"SUMIFS(Pays!G:G,Pays!E:E,1,Pays!D:D,D320)","v":0},{"$f":"SUMIFS(Pays!G:G,Pays!E:E,2,Pays!D:D,D320)","v":0},{"$f":"SUMIFS(Pays!G:G,Pays!E:E,57,Pays!D:D,D320)","v":0},{"$f":"SUMIF(Pays!D:D,D320,Pays!G:G)","v":0},{"$f":"SUMIF(Pays!D:D,D320,Pays!G:G)/176","v":0},{"$f":"IF(M320=0,IF(ISNA(MATCH(D320,'اطلاعات افراد غیر حقوق بگیر'!A:A,0)),0,LOOKUP(D320,'اطلاعات افراد غیر حقوق بگیر'!A:A,'اطلاعات افراد غیر حقوق بگیر'!F:F)),IF(H320=31,Settings!$D$13,ROUND(M320,0)))","v":0},null,0,{"$f":"IF(ISNA(MATCH(D320,Master!D:D,0)),IF(ISNA(MATCH(D320,'اطلاعات افراد غیر حقوق بگیر'!A:A,0)),0,LOOKUP(D320,'اطلاعات افراد غیر حقوق بگیر'!A:A,'اطلاعات افراد غیر حقوق بگیر'!G:G)),LOOKUP(D320,Master!D:D,Master!J:J))","v":0},{"$error":"#N/A"},0,0,{"$f":"IF(O320>#REF!,\"اخطار ساعت اضافه کار از حداکثر بیشتر است\",\" \")","v":{"$error":"#REF!"}},{"$f":"IF(O320>#REF!,1,0)","v":{"$error":"#REF!"}}]
[318,{"$f":"IF(D321=0,\"\",Settings!$D$6)","v":""},{"$f":"IF(D321=0,\"\",LOOKUP(B321,'Rigion Code'!A:A,'Rigion Code'!B:B))","v":""},null,{"$f":"IF(D321=0,\" \",IF(ISNA(MATCH(D321,Personnel!A:A,0)),IF(ISNA(MATCH(D321,'اطلاعات افراد غیر حقوق بگیر'!A:A,0)),\"وجود ندارد\",LOOKUP(Edit!D321,'اطلاعات افراد غیر حقوق بگیر'!A:A,'اطلاعات افراد غیر حقوق بگیر'!B:B)),LOOKUP(D321,Personnel!A:A,Personnel!C:C)))","v":" "},{"$f":"IF(D321=0,\" \",IF(ISNA(MATCH(D321,Personnel!A:A,0)),IF(ISNA(MATCH(D321,'اطلاعات افراد غیر حقوق بگیر'!A:A,0)),\"وجود ندارد\",LOOKUP(D321,'اطلاعات افراد غیر حقوق بگیر'!A:A,'اطلاعات افراد غیر حقوق بگیر'!C:C)),LOOKUP(D321,Personnel!A:A,Personnel!B:B)))","v":" "},{"$f":"IF(D321=0,0,IF(ISNA(MATCH(D321,Personnel!A:A,0)),IF(ISNA(MATCH(D321,'اطلاعات افراد غیر حقوق بگیر'!A:A,0)),\"وجود ندارد\",LOOKUP(D321,'اطلاعات افراد غیر حقوق بگیر'!A:A,'اطلاعات افراد غیر حقوق بگیر'!D:D)),LOOKUP(D321,Master!D:D,Master!CD:CD)))","v":0},{"$f":"IF(D321=0,\" \",IF(ISNA(MATCH(D321,Personnel!A:A,0)),IF(ISNA(MATCH(D321,'اطلاعات افراد غیر حقوق بگیر'!A:A,0)),\"وجود ندارد\",LOOKUP(D321,'اطلاعات افراد غیر حقوق بگیر'!A:A,'اطلاعات افراد غیر حقوق بگیر'!E:E)),LOOKUP(D321,Master!D:D,Master!AH:AH)))","v":" "},{"$f":"SUMIFS(Pays!G:G,Pays!E:E,1,Pays!D:D,D321)","v":0},{"$f":"SUMIFS(Pays!G:G,Pays!E:E,2,Pays!D:D,D321)","v":0},{"$f":"SUMIFS(Pays!G:G,Pays!E:E,57,Pays!D:D,D321)","v":0},{"$f":"SUMIF(Pays!D:D,D321,Pays!G:G)","v":0},{"$f":"SUMIF(Pays!D:D,D321,Pays!G:G)/176","v":0},{"$f":"IF(M321=0,IF(ISNA(MATCH(D321,'اطلاعات افراد غیر حقوق بگیر'!A:A,0)),0,LOOKUP(D321,'اطلاعات افراد غیر حقوق بگیر'!A:A,'اطلاعات افراد غیر حقوق بگیر'!F:F)),IF(H321=31,Settings!$D$13,ROUND(M321,0)))","v":0},null,0,{"$f":"IF(ISNA(MATCH(D321,Master!D:D,0)),IF(ISNA(MATCH(D321,'اطلاعات افراد غیر حقوق بگیر'!A:A,0)),0,LOOKUP(D321,'اطلاعات افراد غیر حقوق بگیر'!A:A,'اطلاعات افراد غیر حقوق بگیر'!G:G)),LOOKUP(D321,Master!D:D,Master!J:J))","v":0},{"$error":"#N/A"},0,0,{"$f":"IF(O321>#REF!,\"اخطار ساعت اضافه کار از حداکثر بیشتر است\",\" \")","v":{"$error":"#REF!"}},{"$f":"IF(O321>#REF!,1,0)","v":{"$error":"#REF!"}}]
[319,{"$f":"IF(D322=0,\"\",Settings!$D$6)","v":""},{"$f":"IF(D322=0,\"\",LOOKUP(B322,'Rigion Code'!A:A,'Rigion Code'!B:B))","v":""},null,{"$f":"IF(D322=0,\" \",IF(ISNA(MATCH(D322,Personnel!A:A,0)),IF(ISNA(MATCH(D322,'اطلاعات افراد غیر حقوق بگیر'!A:A,0)),\"وجود ندارد\",LOOKUP(Edit!D322,'اطلاعات افراد غیر حقوق بگیر'!A:A,'اطلاعات افراد غیر حقوق بگیر'!B:B)),LOOKUP(D322,Personnel!A:A,Personnel!C:C)))","v":" "},{"$f":"IF(D322=0,\" \",IF(ISNA(MATCH(D322,Personnel!A:A,0)),IF(ISNA(MATCH(D322,'اطلاعات افراد غیر حقوق بگیر'!A:A,0)),\"وجود ندارد\",LOOKUP(D322,'اطلاعات افراد غیر حقوق بگیر'!A:A,'اطلاعات افراد غیر حقوق بگیر'!C:C)),LOOKUP(D322,Personnel!A:A,Personnel!B:B)))","v":" "},{"$f":"IF(D322=0,0,IF(ISNA(MATCH(D322,Personnel!A:A,0)),IF(ISNA(MATCH(D322,'اطلاعات افراد غیر حقوق بگیر'!A:A,0)),\"وجود ندارد\",LOOKUP(D322,'اطلاعات افراد غیر حقوق بگیر'!A:A,'اطلاعات افراد غیر حقوق بگیر'!D:D)),LOOKUP(D322,Master!D:D,Master!CD:CD)))","v":0},{"$f":"IF(D322=0,\" \",IF(ISNA(MATCH(D322,Personnel!A:A,0)),IF(ISNA(MATCH(D322,'اطلاعات افراد غیر حقوق بگیر'!A:A,0)),\"وجود ندارد\",LOOKUP(D322,'اطلاعات افراد غیر حقوق بگیر'!A:A,'اطلاعات افراد غیر حقوق بگیر'!E:E)),LOOKUP(D322,Master!D:D,Master!AH:AH)))","v":" "},{"$f":"SUMIFS(Pays!G:G,Pays!E:E,1,Pays!D:D,D322)","v":0},{"$f":"SUMIFS(Pays!G:G,Pays!E:E,2,Pays!D:D,D322)","v":0},{"$f":"SUMIFS(Pays!G:G,Pays!E:E,57,Pays!D:D,D322)","v":0},{"$f":"SUMIF(Pays!D:D,D322,Pays!G:G)","v":0},{"$f":"SUMIF(Pays!D:D,D322,Pays!G:G)/176","v":0},{"$f":"IF(M322=0,IF(ISNA(MATCH(D322,'اطلاعات افراد غیر حقوق بگیر'!A:A,0)),0,LOOKUP(D322,'اطلاعات افراد غیر حقوق بگیر'!A:A,'اطلاعات افراد غیر حقوق بگیر'!F:F)),IF(H322=31,Settings!$D$13,ROUND(M322,0)))","v":0},null,0,{"$f":"IF(ISNA(MATCH(D322,Master!D:D,0)),IF(ISNA(MATCH(D322,'اطلاعات افراد غیر حقوق بگیر'!A:A,0)),0,LOOKUP(D322,'اطلاعات افراد غیر حقوق بگیر'!A:A,'اطلاعات افراد غیر حقوق بگیر'!G:G)),LOOKUP(D322,Master!D:D,Master!J:J))","v":0},{"$error":"#N/A"},0,0,{"$f":"IF(O322>#REF!,\"اخطار ساعت اضافه کار از حداکثر بیشتر است\",\" \")","v":{"$error":"#REF!"}},{"$f":"IF(O322>#REF!,1,0)","v":{"$error":"#REF!"}}]
[320,{"$f":"IF(D323=0,\"\",Settings!$D$6)","v":""},{"$f":"IF(D323=0,\"\",LOOKUP(B323,'Rigion Code'!A:A,'Rigion Code'!B:B))","v":""},null,{"$f":"IF(D323=0,\" \",IF(ISNA(MATCH(D323,Personnel!A:A,0)),IF(ISNA(MATCH(D323,'اطلاعات افراد غیر حقوق بگیر'!A:A,0)),\"وجود ندارد\",LOOKUP(Edit!D323,'اطلاعات افراد غیر حقوق بگیر'!A:A,'اطلاعات افراد غیر حقوق بگیر'!B:B)),LOOKUP(D323,Personnel!A:A,Personnel!C:C)))","v":" "},{"$f":"IF(D323=0,\" \",IF(ISNA(MATCH(D323,Personnel!A:A,0)),IF(ISNA(MATCH(D323,'اطلاعات افراد غیر حقوق بگیر'!A:A,0)),\"وجود ندارد\",LOOKUP(D323,'اطلاعات افراد غیر حقوق بگیر'!A:A,'اطلاعات افراد غیر حقوق بگیر'!C:C)),LOOKUP(D323,Personnel!A:A,Personnel!B:B)))","v":" "},{"$f":"IF(D323=0,0,IF(ISNA(MATCH(D323,Personnel!A:A,0)),IF(ISNA(MATCH(D323,'اطلاعات افراد غیر حقوق بگیر'!A:A,0)),\"وجود ندارد\",LOOKUP(D323,'اطلاعات افراد غیر حقوق بگیر'!A:A,'اطلاعات افراد غیر حقوق بگیر'!D:D)),LOOKUP(D323,Master!D:D,Master!CD:CD)))","v":0},{"$f":"IF(D323=0,\" \",IF(ISNA(MATCH(D323,Personnel!A:A,0)),IF(ISNA(MATCH(D323,'اطلاعات افراد غیر حقوق بگیر'!A:A,0)),\"وجود ندارد\",LOOKUP(D323,'اطلاعات افراد غیر حقوق بگیر'!A:A,'اطلاعات افراد غیر حقوق بگیر'!E:E)),LOOKUP(D323,Master!D:D,Master!AH:AH)))","v":" "},{"$f":"SUMIFS(Pays!G:G,Pays!E:E,1,Pays!D:D,D323)","v":0},{"$f":"SUMIFS(Pays!G:G,Pays!E:E,2,Pays!D:D,D323)","v":0},{"$f":"SUMIFS(Pays!G:G,Pays!E:E,57,Pays!D:D,D323)","v":0},{"$f":"SUMIF(Pays!D:D,D323,Pays!G:G)","v":0},{"$f":"SUMIF(Pays!D:D,D323,Pays!G:G)/176","v":0},{"$f":"IF(M323=0,IF(ISNA(MATCH(D323,'اطلاعات افراد غیر حقوق بگیر'!A:A,0)),0,LOOKUP(D323,'اطلاعات افراد غیر حقوق بگیر'!A:A,'اطلاعات افراد غیر حقوق بگیر'!F:F)),IF(H323=31,Settings!$D$13,ROUND(M323,0)))","v":0},null,0,{"$f":"IF(ISNA(MATCH(D323,Master!D:D,0)),IF(ISNA(MATCH(D323,'اطلاعات افراد غیر حقوق بگیر'!A:A,0)),0,LOOKUP(D323,'اطلاعات افراد غیر حقوق بگیر'!A:A,'اطلاعات افراد غیر حقوق بگیر'!G:G)),LOOKUP(D323,Master!D:D,Master!J:J))","v":0},{"$error":"#N/A"},0,0,{"$f":"IF(O323>#REF!,\"اخطار ساعت اضافه کار از حداکثر بیشتر است\",\" \")","v":{"$error":"#REF!"}},{"$f":"IF(O323>#REF!,1,0)","v":{"$error":"#REF!"}}]
[321,{"$f":"IF(D324=0,\"\",Settings!$D$6)","v":""},{"$f":"IF(D324=0,\"\",LOOKUP(B324,'Rigion Code'!A:A,'Rigion Code'!B:B))","v":""},null,{"$f":"IF(D324=0,\" \",IF(ISNA(MATCH(D324,Personnel!A:A,0)),IF(ISNA(MATCH(D324,'اطلاعات افراد غیر حقوق بگیر'!A:A,0)),\"وجود ندارد\",LOOKUP(Edit!D324,'اطلاعات افراد غیر حقوق بگیر'!A:A,'اطلاعات افراد غیر حقوق بگیر'!B:B)),LOOKUP(D324,Personnel!A:A,Personnel!C:C)))","v":" "},{"$f":"IF(D324=0,\" \",IF(ISNA(MATCH(D324,Personnel!A:A,0)),IF(ISNA(MATCH(D324,'اطلاعات افراد غیر حقوق بگیر'!A:A,0)),\"وجود ندارد\",LOOKUP(D324,'اطلاعات افراد غیر حقوق بگیر'!A:A,'اطلاعات افراد غیر حقوق بگیر'!C:C)),LOOKUP(D324,Personnel!A:A,Personnel!B:B)))","v":" "},{"$f":"IF(D324=0,0,IF(ISNA(MATCH(D324,Personnel!A:A,0)),IF(ISNA(MATCH(D324,'اطلاعات افراد غیر حقوق بگیر'!A:A,0)),\"وجود ندارد\",LOOKUP(D324,'اطلاعات افراد غیر حقوق بگیر'!A:A,'اطلاعات افراد غیر حقوق بگیر'!D:D)),LOOKUP(D324,Master!D:D,Master!CD:CD)))","v":0},{"$f":"IF(D324=0,\" \",IF(ISNA(MATCH(D324,Personnel!A:A,0)),IF(ISNA(MATCH(D324,'اطلاعات افراد غیر حقوق بگیر'!A:A,0)),\"وجود ندارد\",LOOKUP(D324,'اطلاعات افراد غیر حقوق بگیر'!A:A,'اطلاعات افراد غیر حقوق بگیر'!E:E)),LOOKUP(D324,Master!D:D,Master!AH:AH)))","v":" "},{"$f":"SUMIFS(Pays!G:G,Pays!E:E,1,Pays!D:D,D324)","v":0},{"$f":"SUMIFS(Pays!G:G,Pays!E:E,2,Pays!D:D,D324)","v":0},{"$f":"SUMIFS(Pays!G:G,Pays!E:E,57,Pays!D:D,D324)","v":0},{"$f":"SUMIF(Pays!D:D,D324,Pays!G:G)","v":0},{"$f":"SUMIF(Pays!D:D,D324,Pays!G:G)/176","v":0},{"$f":"IF(M324=0,IF(ISNA(MATCH(D324,'اطلاعات افراد غیر حقوق بگیر'!A:A,0)),0,LOOKUP(D324,'اطلاعات افراد غیر حقوق بگیر'!A:A,'اطلاعات افراد غیر حقوق بگیر'!F:F)),IF(H324=31,Settings!$D$13,ROUND(M324,0)))","v":0},null,{"$f":"N324*O324","v":0},{"$f":"IF(ISNA(MATCH(D324,Master!D:D,0)),IF(ISNA(MATCH(D324,'اطلاعات افراد غیر حقوق بگیر'!A:A,0)),0,LOOKUP(D324,'اطلاعات افراد غیر حقوق بگیر'!A:A,'اطلاعات افراد غیر حقوق بگیر'!G:G)),LOOKUP(D324,Master!D:D,Master!J:J))","v":0},{"$error":"#N/A"},0,0,{"$f":"IF(O324>#REF!,\"اخطار ساعت اضافه کار از حداکثر بیشتر است\",\" \")","v":{"$error":"#REF!"}},{"$f":"IF(O324>#REF!,1,0)","v":{"$error":"#REF!"}}]
[322,{"$f":"IF(D325=0,\"\",Settings!$D$6)","v":""},{"$f":"IF(D325=0,\"\",LOOKUP(B325,'Rigion Code'!A:A,'Rigion Code'!B:B))","v":""},null,{"$f":"IF(D325=0,\" \",IF(ISNA(MATCH(D325,Personnel!A:A,0)),IF(ISNA(MATCH(D325,'اطلاعات افراد غیر حقوق بگیر'!A:A,0)),\"وجود ندارد\",LOOKUP(Edit!D325,'اطلاعات افراد غیر حقوق بگیر'!A:A,'اطلاعات افراد غیر حقوق بگیر'!B:B)),LOOKUP(D325,Personnel!A:A,Personnel!C:C)))","v":" "},{"$f":"IF(D325=0,\" \",IF(ISNA(MATCH(D325,Personnel!A:A,0)),IF(ISNA(MATCH(D325,'اطلاعات افراد غیر حقوق بگیر'!A:A,0)),\"وجود ندارد\",LOOKUP(D325,'اطلاعات افراد غیر حقوق بگیر'!A:A,'اطلاعات افراد غیر حقوق بگیر'!C:C)),LOOKUP(D325,Personnel!A:A,Personnel!B:B)))","v":" "},{"$f":"IF(D325=0,0,IF(ISNA(MATCH(D325,Personnel!A:A,0)),IF(ISNA(MATCH(D325,'اطلاعات افراد غیر حقوق بگیر'!A:A,0)),\"وجود ندارد\",LOOKUP(D325,'اطلاعات افراد غیر حقوق بگیر'!A:A,'اطلاعات افراد غیر حقوق بگیر'!D:D)),LOOKUP(D325,Master!D:D,Master!CD:CD)))","v":0},{"$f":"IF(D325=0,\" \",IF(ISNA(MATCH(D325,Personnel!A:A,0)),IF(ISNA(MATCH(D325,'اطلاعات افراد غیر حقوق بگیر'!A:A,0)),\"وجود ندارد\",LOOKUP(D325,'اطلاعات افراد غیر حقوق بگیر'!A:A,'اطلاعات افراد غیر حقوق بگیر'!E:E)),LOOKUP(D325,Master!D:D,Master!AH:AH)))","v":" "},{"$f":"SUMIFS(Pays!G:G,Pays!E:E,1,Pays!D:D,D325)","v":0},{"$f":"SUMIFS(Pays!G:G,Pays!E:E,2,Pays!D:D,D325)","v":0},{"$f":"SUMIFS(Pays!G:G,Pays!E:E,57,Pays!D:D,D325)","v":0},{"$f":"SUMIF(Pays!D:D,D325,Pays!G:G)","v":0},{"$f":"SUMIF(Pays!D:D,D325,Pays!G:G)/176","v":0},{"$f":"IF(M325=0,IF(ISNA(MATCH(D325,'اطلاعات افراد غیر حقوق بگیر'!A:A,0)),0,LOOKUP(D325,'اطلاعات افراد غیر حقوق بگیر'!A:A,'اطلاعات افراد غیر حقوق بگیر'!F:F)),IF(H325=31,Settings!$D$13,ROUND(M325,0)))","v":0},null,0,{"$f":"IF(ISNA(MATCH(D325,Master!D:D,0)),IF(ISNA(MATCH(D325,'اطلاعات افراد غیر حقوق بگیر'!A:A,0)),0,LOOKUP(D325,'اطلاعات افراد غیر حقوق بگیر'!A:A,'اطلاعات افراد غیر حقوق بگیر'!G:G)),LOOKUP(D325,Master!D:D,Master!J:J))","v":0},{"$f":"LOOKUP(Q325,$W$4:$W$12,$X$4:$X$12)","v":{"$error":"#N/A"}},{"$f":"IF(P325=0,0,ROUND(P325*R325/100,0))","v":0},{"$f":"P325-S325","v":0},{"$f":"IF(O325>#REF!,\"اخطار ساعت اضافه کار از حداکثر بیشتر است\",\" \")","v":{"$error":"#REF!"}},{"$f":"IF(O325>#REF!,1,0)","v":{"$error":"#REF!"}}]
[{"$f":"A325+1","v":323},{"$f":"IF(D326=0,\"\",Settings!$D$6)","v":""},{"$f":"IF(D326=0,\"\",LOOKUP(B326,'Rigion Code'!A:A,'Rigion Code'!B:B))","v":""},null,{"$f":"IF(D326=0,\" \",IF(ISNA(MATCH(D326,Personnel!A:A,0)),IF(ISNA(MATCH(D326,'اطلاعات افراد غیر حقوق بگیر'!A:A,0)),\"وجود ندارد\",LOOKUP(Edit!D326,'اطلاعات افراد غیر حقوق بگیر'!A:A,'اطلاعات افراد غیر حقوق بگیر'!B:B)),LOOKUP(D326,Personnel!A:A,Personnel!C:C)))","v":" "},{"$f":"IF(D326=0,\" \",IF(ISNA(MATCH(D326,Personnel!A:A,0)),IF(ISNA(MATCH(D326,'اطلاعات افراد غیر حقوق بگیر'!A:A,0)),\"وجود ندارد\",LOOKUP(D326,'اطلاعات افراد غیر حقوق بگیر'!A:A,'اطلاعات افراد غیر حقوق بگیر'!C:C)),LOOKUP(D326,Personnel!A:A,Personnel!B:B)))","v":" "},{"$f":"IF(D326=0,0,IF(ISNA(MATCH(D326,Personnel!A:A,0)),IF(ISNA(MATCH(D326,'اطلاعات افراد غیر حقوق بگیر'!A:A,0)),\"وجود ندارد\",LOOKUP(D326,'اطلاعات افراد غیر حقوق بگیر'!A:A,'اطلاعات افراد غیر حقوق بگیر'!D:D)),LOOKUP(D326,Master!D:D,Master!CD:CD)))","v":0},{"$f":"IF(D326=0,\" \",IF(ISNA(MATCH(D326,Personnel!A:A,0)),IF(ISNA(MATCH(D326,'اطلاعات افراد غیر حقوق بگیر'!A:A,0)),\"وجود ندارد\",LOOKUP(D326,'اطلاعات افراد غیر حقوق بگیر'!A:A,'اطلاعات افراد غیر حقوق بگیر'!E:E)),LOOKUP(D326,Master!D:D,Master!AH:AH)))","v":" "},{"$f":"SUMIFS(Pays!G:G,Pays!E:E,1,Pays!D:D,D326)","v":0},{"$f":"SUMIFS(Pays!G:G,Pays!E:E,2,Pays!D:D,D326)","v":0},{"$f":"SUMIFS(Pays!G:G,Pays!E:E,57,Pays!D:D,D326)","v":0},{"$f":"SUMIF(Pays!D:D,D326,Pays!G:G)","v":0},{"$f":"SUMIF(Pays!D:D,D326,Pays!G:G)/176","v":0},{"$f":"IF(M326=0,IF(ISNA(MATCH(D326,'اطلاعات افراد غیر حقوق بگیر'!A:A,0)),0,LOOKUP(D326,'اطلاعات افراد غیر حقوق بگیر'!A:A,'اطلاعات افراد غیر حقوق بگیر'!F:F)),IF(H326=31,Settings!$D$13,ROUND(M326,0)))","v":0},null,0,{"$f":"IF(ISNA(MATCH(D326,Master!D:D,0)),IF(ISNA(MATCH(D326,'اطلاعات افراد غیر حقوق بگیر'!A:A,0)),0,LOOKUP(D326,'اطلاعات افراد غیر حقوق بگیر'!A:A,'اطلاعات افراد غیر حقوق بگیر'!G:G)),LOOKUP(D326,Master!D:D,Master!J:J))","v":0},{"$error":"#N/A"},0,0,{"$f":"IF(O326>#REF!,\"اخطار ساعت اضافه کار از حداکثر بیشتر است\",\" \")","v":{"$error":"#REF!"}},{"$f":"IF(O326>#REF!,1,0)","v":{"$error":"#REF!"}}]
[324,{"$f":"IF(D327=0,\"\",Settings!$D$6)","v":""},{"$f":"IF(D327=0,\"\",LOOKUP(B327,'Rigion Code'!A:A,'Rigion Code'!B:B))","v":""},null,{"$f":"IF(D327=0,\" \",IF(ISNA(MATCH(D327,Personnel!A:A,0)),IF(ISNA(MATCH(D327,'اطلاعات افراد غیر حقوق بگیر'!A:A,0)),\"وجود ندارد\",LOOKUP(Edit!D327,'اطلاعات افراد غیر حقوق بگیر'!A:A,'اطلاعات افراد غیر حقوق بگیر'!B:B)),LOOKUP(D327,Personnel!A:A,Personnel!C:C)))","v":" "},{"$f":"IF(D327=0,\" \",IF(ISNA(MATCH(D327,Personnel!A:A,0)),IF(ISNA(MATCH(D327,'اطلاعات افراد غیر حقوق بگیر'!A:A,0)),\"وجود ندارد\",LOOKUP(D327,'اطلاعات افراد غیر حقوق بگیر'!A:A,'اطلاعات افراد غیر حقوق بگیر'!C:C)),LOOKUP(D327,Personnel!A:A,Personnel!B:B)))","v":" "},{"$f":"IF(D327=0,0,IF(ISNA(MATCH(D327,Personnel!A:A,0)),IF(ISNA(MATCH(D327,'اطلاعات افراد غیر حقوق بگیر'!A:A,0)),\"وجود ندارد\",LOOKUP(D327,'اطلاعات افراد غیر حقوق بگیر'!A:A,'اطلاعات افراد غیر حقوق بگیر'!D:D)),LOOKUP(D327,Master!D:D,Master!CD:CD)))","v":0},{"$f":"IF(D327=0,\" \",IF(ISNA(MATCH(D327,Personnel!A:A,0)),IF(ISNA(MATCH(D327,'اطلاعات افراد غیر حقوق بگیر'!A:A,0)),\"وجود ندارد\",LOOKUP(D327,'اطلاعات افراد غیر حقوق بگیر'!A:A,'اطلاعات افراد غیر حقوق بگیر'!E:E)),LOOKUP(D327,Master!D:D,Master!AH:AH)))","v":" "},{"$f":"SUMIFS(Pays!G:G,Pays!E:E,1,Pays!D:D,D327)","v":0},{"$f":"SUMIFS(Pays!G:G,Pays!E:E,2,Pays!D:D,D327)","v":0},{"$f":"SUMIFS(Pays!G:G,Pays!E:E,57,Pays!D:D,D327)","v":0},{"$f":"SUMIF(Pays!D:D,D327,Pays!G:G)","v":0},{"$f":"SUMIF(Pays!D:D,D327,Pays!G:G)/176","v":0},{"$f":"IF(M327=0,IF(ISNA(MATCH(D327,'اطلاعات افراد غیر حقوق بگیر'!A:A,0)),0,LOOKUP(D327,'اطلاعات افراد غیر حقوق بگیر'!A:A,'اطلاعات افراد غیر حقوق بگیر'!F:F)),IF(H327=31,Settings!$D$13,ROUND(M327,0)))","v":0},null,0,{"$f":"IF(ISNA(MATCH(D327,Master!D:D,0)),IF(ISNA(MATCH(D327,'اطلاعات افراد غیر حقوق بگیر'!A:A,0)),0,LOOKUP(D327,'اطلاعات افراد غیر حقوق بگیر'!A:A,'اطلاعات افراد غیر حقوق بگیر'!G:G)),LOOKUP(D327,Master!D:D,Master!J:J))","v":0},{"$error":"#N/A"},0,0,{"$f":"IF(O327>#REF!,\"اخطار ساعت اضافه کار از حداکثر بیشتر است\",\" \")","v":{"$error":"#REF!"}},{"$f":"IF(O327>#REF!,1,0)","v":{"$error":"#REF!"}}]
[325,{"$f":"IF(D328=0,\"\",Settings!$D$6)","v":""},{"$f":"IF(D328=0,\"\",LOOKUP(B328,'Rigion Code'!A:A,'Rigion Code'!B:B))","v":""},null,{"$f":"IF(D328=0,\" \",IF(ISNA(MATCH(D328,Personnel!A:A,0)),IF(ISNA(MATCH(D328,'اطلاعات افراد غیر حقوق بگیر'!A:A,0)),\"وجود ندارد\",LOOKUP(Edit!D328,'اطلاعات افراد غیر حقوق بگیر'!A:A,'اطلاعات افراد غیر حقوق بگیر'!B:B)),LOOKUP(D328,Personnel!A:A,Personnel!C:C)))","v":" "},{"$f":"IF(D328=0,\" \",IF(ISNA(MATCH(D328,Personnel!A:A,0)),IF(ISNA(MATCH(D328,'اطلاعات افراد غیر حقوق بگیر'!A:A,0)),\"وجود ندارد\",LOOKUP(D328,'اطلاعات افراد غیر حقوق بگیر'!A:A,'اطلاعات افراد غیر حقوق بگیر'!C:C)),LOOKUP(D328,Personnel!A:A,Personnel!B:B)))","v":" "},{"$f":"IF(D328=0,0,IF(ISNA(MATCH(D328,Personnel!A:A,0)),IF(ISNA(MATCH(D328,'اطلاعات افراد غیر حقوق بگیر'!A:A,0)),\"وجود ندارد\",LOOKUP(D328,'اطلاعات افراد غیر حقوق بگیر'!A:A,'اطلاعات افراد غیر حقوق بگیر'!D:D)),LOOKUP(D328,Master!D:D,Master!CD:CD)))","v":0},{"$f":"IF(D328=0,\" \",IF(ISNA(MATCH(D328,Personnel!A:A,0)),IF(ISNA(MATCH(D328,'اطلاعات افراد غیر حقوق بگیر'!A:A,0)),\"وجود ندارد\",LOOKUP(D328,'اطلاعات افراد غیر حقوق بگیر'!A:A,'اطلاعات افراد غیر حقوق بگیر'!E:E)),LOOKUP(D328,Master!D:D,Master!AH:AH)))","v":" "},{"$f":"SUMIFS(Pays!G:G,Pays!E:E,1,Pays!D:D,D328)","v":0},{"$f":"SUMIFS(Pays!G:G,Pays!E:E,2,Pays!D:D,D328)","v":0},{"$f":"SUMIFS(Pays!G:G,Pays!E:E,57,Pays!D:D,D328)","v":0},{"$f":"SUMIF(Pays!D:D,D328,Pays!G:G)","v":0},{"$f":"SUMIF(Pays!D:D,D328,Pays!G:G)/176","v":0},{"$f":"IF(M328=0,IF(ISNA(MATCH(D328,'اطلاعات افراد غیر حقوق بگیر'!A:A,0)),0,LOOKUP(D328,'اطلاعات افراد غیر حقوق بگیر'!A:A,'اطلاعات افراد غیر حقوق بگیر'!F:F)),IF(H328=31,Settings!$D$13,ROUND(M328,0)))","v":0},null,0,{"$f":"IF(ISNA(MATCH(D328,Master!D:D,0)),IF(ISNA(MATCH(D328,'اطلاعات افراد غیر حقوق بگیر'!A:A,0)),0,LOOKUP(D328,'اطلاعات افراد غیر حقوق بگیر'!A:A,'اطلاعات افراد غیر حقوق بگیر'!G:G)),LOOKUP(D328,Master!D:D,Master!J:J))","v":0},{"$error":"#N/A"},0,0,{"$f":"IF(O328>#REF!,\"اخطار ساعت اضافه کار از حداکثر بیشتر است\",\" \")","v":{"$error":"#REF!"}},{"$f":"IF(O328>#REF!,1,0)","v":{"$error":"#REF!"}}]
[326,{"$f":"IF(D329=0,\"\",Settings!$D$6)","v":""},{"$f":"IF(D329=0,\"\",LOOKUP(B329,'Rigion Code'!A:A,'Rigion Code'!B:B))","v":""},null,{"$f":"IF(D329=0,\" \",IF(ISNA(MATCH(D329,Personnel!A:A,0)),IF(ISNA(MATCH(D329,'اطلاعات افراد غیر حقوق بگیر'!A:A,0)),\"وجود ندارد\",LOOKUP(Edit!D329,'اطلاعات افراد غیر حقوق بگیر'!A:A,'اطلاعات افراد غیر حقوق بگیر'!B:B)),LOOKUP(D329,Personnel!A:A,Personnel!C:C)))","v":" "},{"$f":"IF(D329=0,\" \",IF(ISNA(MATCH(D329,Personnel!A:A,0)),IF(ISNA(MATCH(D329,'اطلاعات افراد غیر حقوق بگیر'!A:A,0)),\"وجود ندارد\",LOOKUP(D329,'اطلاعات افراد غیر حقوق بگیر'!A:A,'اطلاعات افراد غیر حقوق بگیر'!C:C)),LOOKUP(D329,Personnel!A:A,Personnel!B:B)))","v":" "},{"$f":"IF(D329=0,0,IF(ISNA(MATCH(D329,Personnel!A:A,0)),IF(ISNA(MATCH(D329,'اطلاعات افراد غیر حقوق بگیر'!A:A,0)),\"وجود ندارد\",LOOKUP(D329,'اطلاعات افراد غیر حقوق بگیر'!A:A,'اطلاعات افراد غیر حقوق بگیر'!D:D)),LOOKUP(D329,Master!D:D,Master!CD:CD)))","v":0},{"$f":"IF(D329=0,\" \",IF(ISNA(MATCH(D329,Personnel!A:A,0)),IF(ISNA(MATCH(D329,'اطلاعات افراد غیر حقوق بگیر'!A:A,0)),\"وجود ندارد\",LOOKUP(D329,'اطلاعات افراد غیر حقوق بگیر'!A:A,'اطلاعات افراد غیر حقوق بگیر'!E:E)),LOOKUP(D329,Master!D:D,Master!AH:AH)))","v":" "},{"$f":"SUMIFS(Pays!G:G,Pays!E:E,1,Pays!D:D,D329)","v":0},{"$f":"SUMIFS(Pays!G:G,Pays!E:E,2,Pays!D:D,D329)","v":0},{"$f":"SUMIFS(Pays!G:G,Pays!E:E,57,Pays!D:D,D329)","v":0},{"$f":"SUMIF(Pays!D:D,D329,Pays!G:G)","v":0},{"$f":"SUMIF(Pays!D:D,D329,Pays!G:G)/176","v":0},{"$f":"IF(M329=0,IF(ISNA(MATCH(D329,'اطلاعات افراد غیر حقوق بگیر'!A:A,0)),0,LOOKUP(D329,'اطلاعات افراد غیر حقوق بگیر'!A:A,'اطلاعات افراد غیر حقوق بگیر'!F:F)),IF(H329=31,Settings!$D$13,ROUND(M329,0)))","v":0},null,0,{"$f":"IF(ISNA(MATCH(D329,Master!D:D,0)),IF(ISNA(MATCH(D329,'اطلاعات افراد غیر حقوق بگیر'!A:A,0)),0,LOOKUP(D329,'اطلاعات افراد غیر حقوق بگیر'!A:A,'اطلاعات افراد غیر حقوق بگیر'!G:G)),LOOKUP(D329,Master!D:D,Master!J:J))","v":0},{"$error":"#N/A"},0,0,{"$f":"IF(O329>#REF!,\"اخطار ساعت اضافه کار از حداکثر بیشتر است\",\" \")","v":{"$error":"#REF!"}},{"$f":"IF(O329>#REF!,1,0)","v":{"$error":"#REF!"}}]
[327,{"$f":"IF(D330=0,\"\",Settings!$D$6)","v":""},{"$f":"IF(D330=0,\"\",LOOKUP(B330,'Rigion Code'!A:A,'Rigion Code'!B:B))","v":""},null,{"$f":"IF(D330=0,\" \",IF(ISNA(MATCH(D330,Personnel!A:A,0)),IF(ISNA(MATCH(D330,'اطلاعات افراد غیر حقوق بگیر'!A:A,0)),\"وجود ندارد\",LOOKUP(Edit!D330,'اطلاعات افراد غیر حقوق بگیر'!A:A,'اطلاعات افراد غیر حقوق بگیر'!B:B)),LOOKUP(D330,Personnel!A:A,Personnel!C:C)))","v":" "},{"$f":"IF(D330=0,\" \",IF(ISNA(MATCH(D330,Personnel!A:A,0)),IF(ISNA(MATCH(D330,'اطلاعات افراد غیر حقوق بگیر'!A:A,0)),\"وجود ندارد\",LOOKUP(D330,'اطلاعات افراد غیر حقوق بگیر'!A:A,'اطلاعات افراد غیر حقوق بگیر'!C:C)),LOOKUP(D330,Personnel!A:A,Personnel!B:B)))","v":" "},{"$f":"IF(D330=0,0,IF(ISNA(MATCH(D330,Personnel!A:A,0)),IF(ISNA(MATCH(D330,'اطلاعات افراد غیر حقوق بگیر'!A:A,0)),\"وجود ندارد\",LOOKUP(D330,'اطلاعات افراد غیر حقوق بگیر'!A:A,'اطلاعات افراد غیر حقوق بگیر'!D:D)),LOOKUP(D330,Master!D:D,Master!CD:CD)))","v":0},{"$f":"IF(D330=0,\" \",IF(ISNA(MATCH(D330,Personnel!A:A,0)),IF(ISNA(MATCH(D330,'اطلاعات افراد غیر حقوق بگیر'!A:A,0)),\"وجود ندارد\",LOOKUP(D330,'اطلاعات افراد غیر حقوق بگیر'!A:A,'اطلاعات افراد غیر حقوق بگیر'!E:E)),LOOKUP(D330,Master!D:D,Master!AH:AH)))","v":" "},{"$f":"SUMIFS(Pays!G:G,Pays!E:E,1,Pays!D:D,D330)","v":0},{"$f":"SUMIFS(Pays!G:G,Pays!E:E,2,Pays!D:D,D330)","v":0},{"$f":"SUMIFS(Pays!G:G,Pays!E:E,57,Pays!D:D,D330)","v":0},{"$f":"SUMIF(Pays!D:D,D330,Pays!G:G)","v":0},{"$f":"SUMIF(Pays!D:D,D330,Pays!G:G)/176","v":0},{"$f":"IF(M330=0,IF(ISNA(MATCH(D330,'اطلاعات افراد غیر حقوق بگیر'!A:A,0)),0,LOOKUP(D330,'اطلاعات افراد غیر حقوق بگیر'!A:A,'اطلاعات افراد غیر حقوق بگیر'!F:F)),IF(H330=31,Settings!$D$13,ROUND(M330,0)))","v":0},null,0,{"$f":"IF(ISNA(MATCH(D330,Master!D:D,0)),IF(ISNA(MATCH(D330,'اطلاعات افراد غیر حقوق بگیر'!A:A,0)),0,LOOKUP(D330,'اطلاعات افراد غیر حقوق بگیر'!A:A,'اطلاعات افراد غیر حقوق بگیر'!G:G)),LOOKUP(D330,Master!D:D,Master!J:J))","v":0},{"$error":"#N/A"},0,0,{"$f":"IF(O330>#REF!,\"اخطار ساعت اضافه کار از حداکثر بیشتر است\",\" \")","v":{"$error":"#REF!"}},{"$f":"IF(O330>#REF!,1,0)","v":{"$error":"#REF!"}}]
[328,{"$f":"IF(D331=0,\"\",Settings!$D$6)","v":""},{"$f":"IF(D331=0,\"\",LOOKUP(B331,'Rigion Code'!A:A,'Rigion Code'!B:B))","v":""},null,{"$f":"IF(D331=0,\" \",IF(ISNA(MATCH(D331,Personnel!A:A,0)),IF(ISNA(MATCH(D331,'اطلاعات افراد غیر حقوق بگیر'!A:A,0)),\"وجود ندارد\",LOOKUP(Edit!D331,'اطلاعات افراد غیر حقوق بگیر'!A:A,'اطلاعات افراد غیر حقوق بگیر'!B:B)),LOOKUP(D331,Personnel!A:A,Personnel!C:C)))","v":" "},{"$f":"IF(D331=0,\" \",IF(ISNA(MATCH(D331,Personnel!A:A,0)),IF(ISNA(MATCH(D331,'اطلاعات افراد غیر حقوق بگیر'!A:A,0)),\"وجود ندارد\",LOOKUP(D331,'اطلاعات افراد غیر حقوق بگیر'!A:A,'اطلاعات افراد غیر حقوق بگیر'!C:C)),LOOKUP(D331,Personnel!A:A,Personnel!B:B)))","v":" "},{"$f":"IF(D331=0,0,IF(ISNA(MATCH(D331,Personnel!A:A,0)),IF(ISNA(MATCH(D331,'اطلاعات افراد غیر حقوق بگیر'!A:A,0)),\"وجود ندارد\",LOOKUP(D331,'اطلاعات افراد غیر حقوق بگیر'!A:A,'اطلاعات افراد غیر حقوق بگیر'!D:D)),LOOKUP(D331,Master!D:D,Master!CD:CD)))","v":0},{"$f":"IF(D331=0,\" \",IF(ISNA(MATCH(D331,Personnel!A:A,0)),IF(ISNA(MATCH(D331,'اطلاعات افراد غیر حقوق بگیر'!A:A,0)),\"وجود ندارد\",LOOKUP(D331,'اطلاعات افراد غیر حقوق بگیر'!A:A,'اطلاعات افراد غیر حقوق بگیر'!E:E)),LOOKUP(D331,Master!D:D,Master!AH:AH)))","v":" "},{"$f":"SUMIFS(Pays!G:G,Pays!E:E,1,Pays!D:D,D331)","v":0},{"$f":"SUMIFS(Pays!G:G,Pays!E:E,2,Pays!D:D,D331)","v":0},{"$f":"SUMIFS(Pays!G:G,Pays!E:E,57,Pays!D:D,D331)","v":0},{"$f":"SUMIF(Pays!D:D,D331,Pays!G:G)","v":0},{"$f":"SUMIF(Pays!D:D,D331,Pays!G:G)/176","v":0},{"$f":"IF(M331=0,IF(ISNA(MATCH(D331,'اطلاعات افراد غیر حقوق بگیر'!A:A,0)),0,LOOKUP(D331,'اطلاعات افراد غیر حقوق بگیر'!A:A,'اطلاعات افراد غیر حقوق بگیر'!F:F)),IF(H331=31,Settings!$D$13,ROUND(M331,0)))","v":0},null,0,{"$f":"IF(ISNA(MATCH(D331,Master!D:D,0)),IF(ISNA(MATCH(D331,'اطلاعات افراد غیر حقوق بگیر'!A:A,0)),0,LOOKUP(D331,'اطلاعات افراد غیر حقوق بگیر'!A:A,'اطلاعات افراد غیر حقوق بگیر'!G:G)),LOOKUP(D331,Master!D:D,Master!J:J))","v":0},{"$error":"#N/A"},0,0,{"$f":"IF(O331>#REF!,\"اخطار ساعت اضافه کار از حداکثر بیشتر است\",\" \")","v":{"$error":"#REF!"}},{"$f":"IF(O331>#REF!,1,0)","v":{"$error":"#REF!"}}]
[329,{"$f":"IF(D332=0,\"\",Settings!$D$6)","v":""},{"$f":"IF(D332=0,\"\",LOOKUP(B332,'Rigion Code'!A:A,'Rigion Code'!B:B))","v":""},null,{"$f":"IF(D332=0,\" \",IF(ISNA(MATCH(D332,Personnel!A:A,0)),IF(ISNA(MATCH(D332,'اطلاعات افراد غیر حقوق بگیر'!A:A,0)),\"وجود ندارد\",LOOKUP(Edit!D332,'اطلاعات افراد غیر حقوق بگیر'!A:A,'اطلاعات افراد غیر حقوق بگیر'!B:B)),LOOKUP(D332,Personnel!A:A,Personnel!C:C)))","v":" "},{"$f":"IF(D332=0,\" \",IF(ISNA(MATCH(D332,Personnel!A:A,0)),IF(ISNA(MATCH(D332,'اطلاعات افراد غیر حقوق بگیر'!A:A,0)),\"وجود ندارد\",LOOKUP(D332,'اطلاعات افراد غیر حقوق بگیر'!A:A,'اطلاعات افراد غیر حقوق بگیر'!C:C)),LOOKUP(D332,Personnel!A:A,Personnel!B:B)))","v":" "},{"$f":"IF(D332=0,0,IF(ISNA(MATCH(D332,Personnel!A:A,0)),IF(ISNA(MATCH(D332,'اطلاعات افراد غیر حقوق بگیر'!A:A,0)),\"وجود ندارد\",LOOKUP(D332,'اطلاعات افراد غیر حقوق بگیر'!A:A,'اطلاعات افراد غیر حقوق بگیر'!D:D)),LOOKUP(D332,Master!D:D,Master!CD:CD)))","v":0},{"$f":"IF(D332=0,\" \",IF(ISNA(MATCH(D332,Personnel!A:A,0)),IF(ISNA(MATCH(D332,'اطلاعات افراد غیر حقوق بگیر'!A:A,0)),\"وجود ندارد\",LOOKUP(D332,'اطلاعات افراد غیر حقوق بگیر'!A:A,'اطلاعات افراد غیر حقوق بگیر'!E:E)),LOOKUP(D332,Master!D:D,Master!AH:AH)))","v":" "},{"$f":"SUMIFS(Pays!G:G,Pays!E:E,1,Pays!D:D,D332)","v":0},{"$f":"SUMIFS(Pays!G:G,Pays!E:E,2,Pays!D:D,D332)","v":0},{"$f":"SUMIFS(Pays!G:G,Pays!E:E,57,Pays!D:D,D332)","v":0},{"$f":"SUMIF(Pays!D:D,D332,Pays!G:G)","v":0},{"$f":"SUMIF(Pays!D:D,D332,Pays!G:G)/176","v":0},{"$f":"IF(M332=0,IF(ISNA(MATCH(D332,'اطلاعات افراد غیر حقوق بگیر'!A:A,0)),0,LOOKUP(D332,'اطلاعات افراد غیر حقوق بگیر'!A:A,'اطلاعات افراد غیر حقوق بگیر'!F:F)),IF(H332=31,Settings!$D$13,ROUND(M332,0)))","v":0},null,0,{"$f":"IF(ISNA(MATCH(D332,Master!D:D,0)),IF(ISNA(MATCH(D332,'اطلاعات افراد غیر حقوق بگیر'!A:A,0)),0,LOOKUP(D332,'اطلاعات افراد غیر حقوق بگیر'!A:A,'اطلاعات افراد غیر حقوق بگیر'!G:G)),LOOKUP(D332,Master!D:D,Master!J:J))","v":0},{"$error":"#N/A"},0,0,{"$f":"IF(O332>#REF!,\"اخطار ساعت اضافه کار از حداکثر بیشتر است\",\" \")","v":{"$error":"#REF!"}},{"$f":"IF(O332>#REF!,1,0)","v":{"$error":"#REF!"}}]
[330,{"$f":"IF(D333=0,\"\",Settings!$D$6)","v":""},{"$f":"IF(D333=0,\"\",LOOKUP(B333,'Rigion Code'!A:A,'Rigion Code'!B:B))","v":""},null,{"$f":"IF(D333=0,\" \",IF(ISNA(MATCH(D333,Personnel!A:A,0)),IF(ISNA(MATCH(D333,'اطلاعات افراد غیر حقوق بگیر'!A:A,0)),\"وجود ندارد\",LOOKUP(Edit!D333,'اطلاعات افراد غیر حقوق بگیر'!A:A,'اطلاعات افراد غیر حقوق بگیر'!B:B)),LOOKUP(D333,Personnel!A:A,Personnel!C:C)))","v":" "},{"$f":"IF(D333=0,\" \",IF(ISNA(MATCH(D333,Personnel!A:A,0)),IF(ISNA(MATCH(D333,'اطلاعات افراد غیر حقوق بگیر'!A:A,0)),\"وجود ندارد\",LOOKUP(D333,'اطلاعات افراد غیر حقوق بگیر'!A:A,'اطلاعات افراد غیر حقوق بگیر'!C:C)),LOOKUP(D333,Personnel!A:A,Personnel!B:B)))","v":" "},{"$f":"IF(D333=0,0,IF(ISNA(MATCH(D333,Personnel!A:A,0)),IF(ISNA(MATCH(D333,'اطلاعات افراد غیر حقوق بگیر'!A:A,0)),\"وجود ندارد\",LOOKUP(D333,'اطلاعات افراد غیر حقوق بگیر'!A:A,'اطلاعات افراد غیر حقوق بگیر'!D:D)),LOOKUP(D333,Master!D:D,Master!CD:CD)))","v":0},{"$f":"IF(D333=0,\" \",IF(ISNA(MATCH(D333,Personnel!A:A,0)),IF(ISNA(MATCH(D333,'اطلاعات افراد غیر حقوق بگیر'!A:A,0)),\"وجود ندارد\",LOOKUP(D333,'اطلاعات افراد غیر حقوق بگیر'!A:A,'اطلاعات افراد غیر حقوق بگیر'!E:E)),LOOKUP(D333,Master!D:D,Master!AH:AH)))","v":" "},{"$f":"SUMIFS(Pays!G:G,Pays!E:E,1,Pays!D:D,D333)","v":0},{"$f":"SUMIFS(Pays!G:G,Pays!E:E,2,Pays!D:D,D333)","v":0},{"$f":"SUMIFS(Pays!G:G,Pays!E:E,57,Pays!D:D,D333)","v":0},{"$f":"SUMIF(Pays!D:D,D333,Pays!G:G)","v":0},{"$f":"SUMIF(Pays!D:D,D333,Pays!G:G)/176","v":0},{"$f":"IF(M333=0,IF(ISNA(MATCH(D333,'اطلاعات افراد غیر حقوق بگیر'!A:A,0)),0,LOOKUP(D333,'اطلاعات افراد غیر حقوق بگیر'!A:A,'اطلاعات افراد غیر حقوق بگیر'!F:F)),IF(H333=31,Settings!$D$13,ROUND(M333,0)))","v":0},null,0,{"$f":"IF(ISNA(MATCH(D333,Master!D:D,0)),IF(ISNA(MATCH(D333,'اطلاعات افراد غیر حقوق بگیر'!A:A,0)),0,LOOKUP(D333,'اطلاعات افراد غیر حقوق بگیر'!A:A,'اطلاعات افراد غیر حقوق بگیر'!G:G)),LOOKUP(D333,Master!D:D,Master!J:J))","v":0},{"$error":"#N/A"},0,0,{"$f":"IF(O333>#REF!,\"اخطار ساعت اضافه کار از حداکثر بیشتر است\",\" \")","v":{"$error":"#REF!"}},{"$f":"IF(O333>#REF!,1,0)","v":{"$error":"#REF!"}}]
[331,{"$f":"IF(D334=0,\"\",Settings!$D$6)","v":""},{"$f":"IF(D334=0,\"\",LOOKUP(B334,'Rigion Code'!A:A,'Rigion Code'!B:B))","v":""},null,{"$f":"IF(D334=0,\" \",IF(ISNA(MATCH(D334,Personnel!A:A,0)),IF(ISNA(MATCH(D334,'اطلاعات افراد غیر حقوق بگیر'!A:A,0)),\"وجود ندارد\",LOOKUP(Edit!D334,'اطلاعات افراد غیر حقوق بگیر'!A:A,'اطلاعات افراد غیر حقوق بگیر'!B:B)),LOOKUP(D334,Personnel!A:A,Personnel!C:C)))","v":" "},{"$f":"IF(D334=0,\" \",IF(ISNA(MATCH(D334,Personnel!A:A,0)),IF(ISNA(MATCH(D334,'اطلاعات افراد غیر حقوق بگیر'!A:A,0)),\"وجود ندارد\",LOOKUP(D334,'اطلاعات افراد غیر حقوق بگیر'!A:A,'اطلاعات افراد غیر حقوق بگیر'!C:C)),LOOKUP(D334,Personnel!A:A,Personnel!B:B)))","v":" "},{"$f":"IF(D334=0,0,IF(ISNA(MATCH(D334,Personnel!A:A,0)),IF(ISNA(MATCH(D334,'اطلاعات افراد غیر حقوق بگیر'!A:A,0)),\"وجود ندارد\",LOOKUP(D334,'اطلاعات افراد غیر حقوق بگیر'!A:A,'اطلاعات افراد غیر حقوق بگیر'!D:D)),LOOKUP(D334,Master!D:D,Master!CD:CD)))","v":0},{"$f":"IF(D334=0,\" \",IF(ISNA(MATCH(D334,Personnel!A:A,0)),IF(ISNA(MATCH(D334,'اطلاعات افراد غیر حقوق بگیر'!A:A,0)),\"وجود ندارد\",LOOKUP(D334,'اطلاعات افراد غیر حقوق بگیر'!A:A,'اطلاعات افراد غیر حقوق بگیر'!E:E)),LOOKUP(D334,Master!D:D,Master!AH:AH)))","v":" "},{"$f":"SUMIFS(Pays!G:G,Pays!E:E,1,Pays!D:D,D334)","v":0},{"$f":"SUMIFS(Pays!G:G,Pays!E:E,2,Pays!D:D,D334)","v":0},{"$f":"SUMIFS(Pays!G:G,Pays!E:E,57,Pays!D:D,D334)","v":0},{"$f":"SUMIF(Pays!D:D,D334,Pays!G:G)","v":0},{"$f":"SUMIF(Pays!D:D,D334,Pays!G:G)/176","v":0},{"$f":"IF(M334=0,IF(ISNA(MATCH(D334,'اطلاعات افراد غیر حقوق بگیر'!A:A,0)),0,LOOKUP(D334,'اطلاعات افراد غیر حقوق بگیر'!A:A,'اطلاعات افراد غیر حقوق بگیر'!F:F)),IF(H334=31,Settings!$D$13,ROUND(M334,0)))","v":0},null,0,{"$f":"IF(ISNA(MATCH(D334,Master!D:D,0)),IF(ISNA(MATCH(D334,'اطلاعات افراد غیر حقوق بگیر'!A:A,0)),0,LOOKUP(D334,'اطلاعات افراد غیر حقوق بگیر'!A:A,'اطلاعات افراد غیر حقوق بگیر'!G:G)),LOOKUP(D334,Master!D:D,Master!J:J))","v":0},{"$error":"#N/A"},0,0,{"$f":"IF(O334>#REF!,\"اخطار ساعت اضافه کار از حداکثر بیشتر است\",\" \")","v":{"$error":"#REF!"}},{"$f":"IF(O334>#REF!,1,0)","v":{"$error":"#REF!"}}]
[332,{"$f":"IF(D335=0,\"\",Settings!$D$6)","v":""},{"$f":"IF(D335=0,\"\",LOOKUP(B335,'Rigion Code'!A:A,'Rigion Code'!B:B))","v":""},null,{"$f":"IF(D335=0,\" \",IF(ISNA(MATCH(D335,Personnel!A:A,0)),IF(ISNA(MATCH(D335,'اطلاعات افراد غیر حقوق بگیر'!A:A,0)),\"وجود ندارد\",LOOKUP(Edit!D335,'اطلاعات افراد غیر حقوق بگیر'!A:A,'اطلاعات افراد غیر حقوق بگیر'!B:B)),LOOKUP(D335,Personnel!A:A,Personnel!C:C)))","v":" "},{"$f":"IF(D335=0,\" \",IF(ISNA(MATCH(D335,Personnel!A:A,0)),IF(ISNA(MATCH(D335,'اطلاعات افراد غیر حقوق بگیر'!A:A,0)),\"وجود ندارد\",LOOKUP(D335,'اطلاعات افراد غیر حقوق بگیر'!A:A,'اطلاعات افراد غیر حقوق بگیر'!C:C)),LOOKUP(D335,Personnel!A:A,Personnel!B:B)))","v":" "},{"$f":"IF(D335=0,0,IF(ISNA(MATCH(D335,Personnel!A:A,0)),IF(ISNA(MATCH(D335,'اطلاعات افراد غیر حقوق بگیر'!A:A,0)),\"وجود ندارد\",LOOKUP(D335,'اطلاعات افراد غیر حقوق بگیر'!A:A,'اطلاعات افراد غیر حقوق بگیر'!D:D)),LOOKUP(D335,Master!D:D,Master!CD:CD)))","v":0},{"$f":"IF(D335=0,\" \",IF(ISNA(MATCH(D335,Personnel!A:A,0)),IF(ISNA(MATCH(D335,'اطلاعات افراد غیر حقوق بگیر'!A:A,0)),\"وجود ندارد\",LOOKUP(D335,'اطلاعات افراد غیر حقوق بگیر'!A:A,'اطلاعات افراد غیر حقوق بگیر'!E:E)),LOOKUP(D335,Master!D:D,Master!AH:AH)))","v":" "},{"$f":"SUMIFS(Pays!G:G,Pays!E:E,1,Pays!D:D,D335)","v":0},{"$f":"SUMIFS(Pays!G:G,Pays!E:E,2,Pays!D:D,D335)","v":0},{"$f":"SUMIFS(Pays!G:G,Pays!E:E,57,Pays!D:D,D335)","v":0},{"$f":"SUMIF(Pays!D:D,D335,Pays!G:G)","v":0},{"$f":"SUMIF(Pays!D:D,D335,Pays!G:G)/176","v":0},{"$f":"IF(M335=0,IF(ISNA(MATCH(D335,'اطلاعات افراد غیر حقوق بگیر'!A:A,0)),0,LOOKUP(D335,'اطلاعات افراد غیر حقوق بگیر'!A:A,'اطلاعات افراد غیر حقوق بگیر'!F:F)),IF(H335=31,Settings!$D$13,ROUND(M335,0)))","v":0},null,0,{"$f":"IF(ISNA(MATCH(D335,Master!D:D,0)),IF(ISNA(MATCH(D335,'اطلاعات افراد غیر حقوق بگیر'!A:A,0)),0,LOOKUP(D335,'اطلاعات افراد غیر حقوق بگیر'!A:A,'اطلاعات افراد غیر حقوق بگیر'!G:G)),LOOKUP(D335,Master!D:D,Master!J:J))","v":0},{"$error":"#N/A"},0,0,{"$f":"IF(O335>#REF!,\"اخطار ساعت اضافه کار از حداکثر بیشتر است\",\" \")","v":{"$error":"#REF!"}},{"$f":"IF(O335>#REF!,1,0)","v":{"$error":"#REF!"}}]
[333,{"$f":"IF(D336=0,\"\",Settings!$D$6)","v":""},{"$f":"IF(D336=0,\"\",LOOKUP(B336,'Rigion Code'!A:A,'Rigion Code'!B:B))","v":""},null,{"$f":"IF(D336=0,\" \",IF(ISNA(MATCH(D336,Personnel!A:A,0)),IF(ISNA(MATCH(D336,'اطلاعات افراد غیر حقوق بگیر'!A:A,0)),\"وجود ندارد\",LOOKUP(Edit!D336,'اطلاعات افراد غیر حقوق بگیر'!A:A,'اطلاعات افراد غیر حقوق بگیر'!B:B)),LOOKUP(D336,Personnel!A:A,Personnel!C:C)))","v":" "},{"$f":"IF(D336=0,\" \",IF(ISNA(MATCH(D336,Personnel!A:A,0)),IF(ISNA(MATCH(D336,'اطلاعات افراد غیر حقوق بگیر'!A:A,0)),\"وجود ندارد\",LOOKUP(D336,'اطلاعات افراد غیر حقوق بگیر'!A:A,'اطلاعات افراد غیر حقوق بگیر'!C:C)),LOOKUP(D336,Personnel!A:A,Personnel!B:B)))","v":" "},{"$f":"IF(D336=0,0,IF(ISNA(MATCH(D336,Personnel!A:A,0)),IF(ISNA(MATCH(D336,'اطلاعات افراد غیر حقوق بگیر'!A:A,0)),\"وجود ندارد\",LOOKUP(D336,'اطلاعات افراد غیر حقوق بگیر'!A:A,'اطلاعات افراد غیر حقوق بگیر'!D:D)),LOOKUP(D336,Master!D:D,Master!CD:CD)))","v":0},{"$f":"IF(D336=0,\" \",IF(ISNA(MATCH(D336,Personnel!A:A,0)),IF(ISNA(MATCH(D336,'اطلاعات افراد غیر حقوق بگیر'!A:A,0)),\"وجود ندارد\",LOOKUP(D336,'اطلاعات افراد غیر حقوق بگیر'!A:A,'اطلاعات افراد غیر حقوق بگیر'!E:E)),LOOKUP(D336,Master!D:D,Master!AH:AH)))","v":" "},{"$f":"SUMIFS(Pays!G:G,Pays!E:E,1,Pays!D:D,D336)","v":0},{"$f":"SUMIFS(Pays!G:G,Pays!E:E,2,Pays!D:D,D336)","v":0},{"$f":"SUMIFS(Pays!G:G,Pays!E:E,57,Pays!D:D,D336)","v":0},{"$f":"SUMIF(Pays!D:D,D336,Pays!G:G)","v":0},{"$f":"SUMIF(Pays!D:D,D336,Pays!G:G)/176","v":0},{"$f":"IF(M336=0,IF(ISNA(MATCH(D336,'اطلاعات افراد غیر حقوق بگیر'!A:A,0)),0,LOOKUP(D336,'اطلاعات افراد غیر حقوق بگیر'!A:A,'اطلاعات افراد غیر حقوق بگیر'!F:F)),IF(H336=31,Settings!$D$13,ROUND(M336,0)))","v":0},null,0,{"$f":"IF(ISNA(MATCH(D336,Master!D:D,0)),IF(ISNA(MATCH(D336,'اطلاعات افراد غیر حقوق بگیر'!A:A,0)),0,LOOKUP(D336,'اطلاعات افراد غیر حقوق بگیر'!A:A,'اطلاعات افراد غیر حقوق بگیر'!G:G)),LOOKUP(D336,Master!D:D,Master!J:J))","v":0},{"$error":"#N/A"},0,0,{"$f":"IF(O336>#REF!,\"اخطار ساعت اضافه کار از حداکثر بیشتر است\",\" \")","v":{"$error":"#REF!"}},{"$f":"IF(O336>#REF!,1,0)","v":{"$error":"#REF!"}}]
[334,{"$f":"IF(D337=0,\"\",Settings!$D$6)","v":""},{"$f":"IF(D337=0,\"\",LOOKUP(B337,'Rigion Code'!A:A,'Rigion Code'!B:B))","v":""},null,{"$f":"IF(D337=0,\" \",IF(ISNA(MATCH(D337,Personnel!A:A,0)),IF(ISNA(MATCH(D337,'اطلاعات افراد غیر حقوق بگیر'!A:A,0)),\"وجود ندارد\",LOOKUP(Edit!D337,'اطلاعات افراد غیر حقوق بگیر'!A:A,'اطلاعات افراد غیر حقوق بگیر'!B:B)),LOOKUP(D337,Personnel!A:A,Personnel!C:C)))","v":" "},{"$f":"IF(D337=0,\" \",IF(ISNA(MATCH(D337,Personnel!A:A,0)),IF(ISNA(MATCH(D337,'اطلاعات افراد غیر حقوق بگیر'!A:A,0)),\"وجود ندارد\",LOOKUP(D337,'اطلاعات افراد غیر حقوق بگیر'!A:A,'اطلاعات افراد غیر حقوق بگیر'!C:C)),LOOKUP(D337,Personnel!A:A,Personnel!B:B)))","v":" "},{"$f":"IF(D337=0,0,IF(ISNA(MATCH(D337,Personnel!A:A,0)),IF(ISNA(MATCH(D337,'اطلاعات افراد غیر حقوق بگیر'!A:A,0)),\"وجود ندارد\",LOOKUP(D337,'اطلاعات افراد غیر حقوق بگیر'!A:A,'اطلاعات افراد غیر حقوق بگیر'!D:D)),LOOKUP(D337,Master!D:D,Master!CD:CD)))","v":0},{"$f":"IF(D337=0,\" \",IF(ISNA(MATCH(D337,Personnel!A:A,0)),IF(ISNA(MATCH(D337,'اطلاعات افراد غیر حقوق بگیر'!A:A,0)),\"وجود ندارد\",LOOKUP(D337,'اطلاعات افراد غیر حقوق بگیر'!A:A,'اطلاعات افراد غیر حقوق بگیر'!E:E)),LOOKUP(D337,Master!D:D,Master!AH:AH)))","v":" "},{"$f":"SUMIFS(Pays!G:G,Pays!E:E,1,Pays!D:D,D337)","v":0},{"$f":"SUMIFS(Pays!G:G,Pays!E:E,2,Pays!D:D,D337)","v":0},{"$f":"SUMIFS(Pays!G:G,Pays!E:E,57,Pays!D:D,D337)","v":0},{"$f":"SUMIF(Pays!D:D,D337,Pays!G:G)","v":0},{"$f":"SUMIF(Pays!D:D,D337,Pays!G:G)/176","v":0},{"$f":"IF(M337=0,IF(ISNA(MATCH(D337,'اطلاعات افراد غیر حقوق بگیر'!A:A,0)),0,LOOKUP(D337,'اطلاعات افراد غیر حقوق بگیر'!A:A,'اطلاعات افراد غیر حقوق بگیر'!F:F)),IF(H337=31,Settings!$D$13,ROUND(M337,0)))","v":0},null,0,{"$f":"IF(ISNA(MATCH(D337,Master!D:D,0)),IF(ISNA(MATCH(D337,'اطلاعات افراد غیر حقوق بگیر'!A:A,0)),0,LOOKUP(D337,'اطلاعات افراد غیر حقوق بگیر'!A:A,'اطلاعات افراد غیر حقوق بگیر'!G:G)),LOOKUP(D337,Master!D:D,Master!J:J))","v":0},{"$error":"#N/A"},0,0,{"$f":"IF(O337>#REF!,\"اخطار ساعت اضافه کار از حداکثر بیشتر است\",\" \")","v":{"$error":"#REF!"}},{"$f":"IF(O337>#REF!,1,0)","v":{"$error":"#REF!"}}]
[335,{"$f":"IF(D338=0,\"\",Settings!$D$6)","v":""},{"$f":"IF(D338=0,\"\",LOOKUP(B338,'Rigion Code'!A:A,'Rigion Code'!B:B))","v":""},null,{"$f":"IF(D338=0,\" \",IF(ISNA(MATCH(D338,Personnel!A:A,0)),IF(ISNA(MATCH(D338,'اطلاعات افراد غیر حقوق بگیر'!A:A,0)),\"وجود ندارد\",LOOKUP(Edit!D338,'اطلاعات افراد غیر حقوق بگیر'!A:A,'اطلاعات افراد غیر حقوق بگیر'!B:B)),LOOKUP(D338,Personnel!A:A,Personnel!C:C)))","v":" "},{"$f":"IF(D338=0,\" \",IF(ISNA(MATCH(D338,Personnel!A:A,0)),IF(ISNA(MATCH(D338,'اطلاعات افراد غیر حقوق بگیر'!A:A,0)),\"وجود ندارد\",LOOKUP(D338,'اطلاعات افراد غیر حقوق بگیر'!A:A,'اطلاعات افراد غیر حقوق بگیر'!C:C)),LOOKUP(D338,Personnel!A:A,Personnel!B:B)))","v":" "},{"$f":"IF(D338=0,0,IF(ISNA(MATCH(D338,Personnel!A:A,0)),IF(ISNA(MATCH(D338,'اطلاعات افراد غیر حقوق بگیر'!A:A,0)),\"وجود ندارد\",LOOKUP(D338,'اطلاعات افراد غیر حقوق بگیر'!A:A,'اطلاعات افراد غیر حقوق بگیر'!D:D)),LOOKUP(D338,Master!D:D,Master!CD:CD)))","v":0},{"$f":"IF(D338=0,\" \",IF(ISNA(MATCH(D338,Personnel!A:A,0)),IF(ISNA(MATCH(D338,'اطلاعات افراد غیر حقوق بگیر'!A:A,0)),\"وجود ندارد\",LOOKUP(D338,'اطلاعات افراد غیر حقوق بگیر'!A:A,'اطلاعات افراد غیر حقوق بگیر'!E:E)),LOOKUP(D338,Master!D:D,Master!AH:AH)))","v":" "},{"$f":"SUMIFS(Pays!G:G,Pays!E:E,1,Pays!D:D,D338)","v":0},{"$f":"SUMIFS(Pays!G:G,Pays!E:E,2,Pays!D:D,D338)","v":0},{"$f":"SUMIFS(Pays!G:G,Pays!E:E,57,Pays!D:D,D338)","v":0},{"$f":"SUMIF(Pays!D:D,D338,Pays!G:G)","v":0},{"$f":"SUMIF(Pays!D:D,D338,Pays!G:G)/176","v":0},{"$f":"IF(M338=0,IF(ISNA(MATCH(D338,'اطلاعات افراد غیر حقوق بگیر'!A:A,0)),0,LOOKUP(D338,'اطلاعات افراد غیر حقوق بگیر'!A:A,'اطلاعات افراد غیر حقوق بگیر'!F:F)),IF(H338=31,Settings!$D$13,ROUND(M338,0)))","v":0},null,0,{"$f":"IF(ISNA(MATCH(D338,Master!D:D,0)),IF(ISNA(MATCH(D338,'اطلاعات افراد غیر حقوق بگیر'!A:A,0)),0,LOOKUP(D338,'اطلاعات افراد غیر حقوق بگیر'!A:A,'اطلاعات افراد غیر حقوق بگیر'!G:G)),LOOKUP(D338,Master!D:D,Master!J:J))","v":0},{"$error":"#N/A"},0,0,{"$f":"IF(O338>#REF!,\"اخطار ساعت اضافه کار از حداکثر بیشتر است\",\" \")","v":{"$error":"#REF!"}},{"$f":"IF(O338>#REF!,1,0)","v":{"$error":"#REF!"}}]
[336,{"$f":"IF(D339=0,\"\",Settings!$D$6)","v":""},{"$f":"IF(D339=0,\"\",LOOKUP(B339,'Rigion Code'!A:A,'Rigion Code'!B:B))","v":""},null,{"$f":"IF(D339=0,\" \",IF(ISNA(MATCH(D339,Personnel!A:A,0)),IF(ISNA(MATCH(D339,'اطلاعات افراد غیر حقوق بگیر'!A:A,0)),\"وجود ندارد\",LOOKUP(Edit!D339,'اطلاعات افراد غیر حقوق بگیر'!A:A,'اطلاعات افراد غیر حقوق بگیر'!B:B)),LOOKUP(D339,Personnel!A:A,Personnel!C:C)))","v":" "},{"$f":"IF(D339=0,\" \",IF(ISNA(MATCH(D339,Personnel!A:A,0)),IF(ISNA(MATCH(D339,'اطلاعات افراد غیر حقوق بگیر'!A:A,0)),\"وجود ندارد\",LOOKUP(D339,'اطلاعات افراد غیر حقوق بگیر'!A:A,'اطلاعات افراد غیر حقوق بگیر'!C:C)),LOOKUP(D339,Personnel!A:A,Personnel!B:B)))","v":" "},{"$f":"IF(D339=0,0,IF(ISNA(MATCH(D339,Personnel!A:A,0)),IF(ISNA(MATCH(D339,'اطلاعات افراد غیر حقوق بگیر'!A:A,0)),\"وجود ندارد\",LOOKUP(D339,'اطلاعات افراد غیر حقوق بگیر'!A:A,'اطلاعات افراد غیر حقوق بگیر'!D:D)),LOOKUP(D339,Master!D:D,Master!CD:CD)))","v":0},{"$f":"IF(D339=0,\" \",IF(ISNA(MATCH(D339,Personnel!A:A,0)),IF(ISNA(MATCH(D339,'اطلاعات افراد غیر حقوق بگیر'!A:A,0)),\"وجود ندارد\",LOOKUP(D339,'اطلاعات افراد غیر حقوق بگیر'!A:A,'اطلاعات افراد غیر حقوق بگیر'!E:E)),LOOKUP(D339,Master!D:D,Master!AH:AH)))","v":" "},{"$f":"SUMIFS(Pays!G:G,Pays!E:E,1,Pays!D:D,D339)","v":0},{"$f":"SUMIFS(Pays!G:G,Pays!E:E,2,Pays!D:D,D339)","v":0},{"$f":"SUMIFS(Pays!G:G,Pays!E:E,57,Pays!D:D,D339)","v":0},{"$f":"SUMIF(Pays!D:D,D339,Pays!G:G)","v":0},{"$f":"SUMIF(Pays!D:D,D339,Pays!G:G)/176","v":0},{"$f":"IF(M339=0,IF(ISNA(MATCH(D339,'اطلاعات افراد غیر حقوق بگیر'!A:A,0)),0,LOOKUP(D339,'اطلاعات افراد غیر حقوق بگیر'!A:A,'اطلاعات افراد غیر حقوق بگیر'!F:F)),IF(H339=31,Settings!$D$13,ROUND(M339,0)))","v":0},null,0,{"$f":"IF(ISNA(MATCH(D339,Master!D:D,0)),IF(ISNA(MATCH(D339,'اطلاعات افراد غیر حقوق بگیر'!A:A,0)),0,LOOKUP(D339,'اطلاعات افراد غیر حقوق بگیر'!A:A,'اطلاعات افراد غیر حقوق بگیر'!G:G)),LOOKUP(D339,Master!D:D,Master!J:J))","v":0},{"$error":"#N/A"},0,0,{"$f":"IF(O339>#REF!,\"اخطار ساعت اضافه کار از حداکثر بیشتر است\",\" \")","v":{"$error":"#REF!"}},{"$f":"IF(O339>#REF!,1,0)","v":{"$error":"#REF!"}}]
[337,{"$f":"IF(D340=0,\"\",Settings!$D$6)","v":""},{"$f":"IF(D340=0,\"\",LOOKUP(B340,'Rigion Code'!A:A,'Rigion Code'!B:B))","v":""},null,{"$f":"IF(D340=0,\" \",IF(ISNA(MATCH(D340,Personnel!A:A,0)),IF(ISNA(MATCH(D340,'اطلاعات افراد غیر حقوق بگیر'!A:A,0)),\"وجود ندارد\",LOOKUP(Edit!D340,'اطلاعات افراد غیر حقوق بگیر'!A:A,'اطلاعات افراد غیر حقوق بگیر'!B:B)),LOOKUP(D340,Personnel!A:A,Personnel!C:C)))","v":" "},{"$f":"IF(D340=0,\" \",IF(ISNA(MATCH(D340,Personnel!A:A,0)),IF(ISNA(MATCH(D340,'اطلاعات افراد غیر حقوق بگیر'!A:A,0)),\"وجود ندارد\",LOOKUP(D340,'اطلاعات افراد غیر حقوق بگیر'!A:A,'اطلاعات افراد غیر حقوق بگیر'!C:C)),LOOKUP(D340,Personnel!A:A,Personnel!B:B)))","v":" "},{"$f":"IF(D340=0,0,IF(ISNA(MATCH(D340,Personnel!A:A,0)),IF(ISNA(MATCH(D340,'اطلاعات افراد غیر حقوق بگیر'!A:A,0)),\"وجود ندارد\",LOOKUP(D340,'اطلاعات افراد غیر حقوق بگیر'!A:A,'اطلاعات افراد غیر حقوق بگیر'!D:D)),LOOKUP(D340,Master!D:D,Master!CD:CD)))","v":0},{"$f":"IF(D340=0,\" \",IF(ISNA(MATCH(D340,Personnel!A:A,0)),IF(ISNA(MATCH(D340,'اطلاعات افراد غیر حقوق بگیر'!A:A,0)),\"وجود ندارد\",LOOKUP(D340,'اطلاعات افراد غیر حقوق بگیر'!A:A,'اطلاعات افراد غیر حقوق بگیر'!E:E)),LOOKUP(D340,Master!D:D,Master!AH:AH)))","v":" "},{"$f":"SUMIFS(Pays!G:G,Pays!E:E,1,Pays!D:D,D340)","v":0},{"$f":"SUMIFS(Pays!G:G,Pays!E:E,2,Pays!D:D,D340)","v":0},{"$f":"SUMIFS(Pays!G:G,Pays!E:E,57,Pays!D:D,D340)","v":0},{"$f":"SUMIF(Pays!D:D,D340,Pays!G:G)","v":0},{"$f":"SUMIF(Pays!D:D,D340,Pays!G:G)/176","v":0},{"$f":"IF(M340=0,IF(ISNA(MATCH(D340,'اطلاعات افراد غیر حقوق بگیر'!A:A,0)),0,LOOKUP(D340,'اطلاعات افراد غیر حقوق بگیر'!A:A,'اطلاعات افراد غیر حقوق بگیر'!F:F)),IF(H340=31,Settings!$D$13,ROUND(M340,0)))","v":0},null,0,{"$f":"IF(ISNA(MATCH(D340,Master!D:D,0)),IF(ISNA(MATCH(D340,'اطلاعات افراد غیر حقوق بگیر'!A:A,0)),0,LOOKUP(D340,'اطلاعات افراد غیر حقوق بگیر'!A:A,'اطلاعات افراد غیر حقوق بگیر'!G:G)),LOOKUP(D340,Master!D:D,Master!J:J))","v":0},{"$error":"#N/A"},0,0,{"$f":"IF(O340>#REF!,\"اخطار ساعت اضافه کار از حداکثر بیشتر است\",\" \")","v":{"$error":"#REF!"}},{"$f":"IF(O340>#REF!,1,0)","v":{"$error":"#REF!"}}]
[338,{"$f":"IF(D341=0,\"\",Settings!$D$6)","v":""},{"$f":"IF(D341=0,\"\",LOOKUP(B341,'Rigion Code'!A:A,'Rigion Code'!B:B))","v":""},null,{"$f":"IF(D341=0,\" \",IF(ISNA(MATCH(D341,Personnel!A:A,0)),IF(ISNA(MATCH(D341,'اطلاعات افراد غیر حقوق بگیر'!A:A,0)),\"وجود ندارد\",LOOKUP(Edit!D341,'اطلاعات افراد غیر حقوق بگیر'!A:A,'اطلاعات افراد غیر حقوق بگیر'!B:B)),LOOKUP(D341,Personnel!A:A,Personnel!C:C)))","v":" "},{"$f":"IF(D341=0,\" \",IF(ISNA(MATCH(D341,Personnel!A:A,0)),IF(ISNA(MATCH(D341,'اطلاعات افراد غیر حقوق بگیر'!A:A,0)),\"وجود ندارد\",LOOKUP(D341,'اطلاعات افراد غیر حقوق بگیر'!A:A,'اطلاعات افراد غیر حقوق بگیر'!C:C)),LOOKUP(D341,Personnel!A:A,Personnel!B:B)))","v":" "},{"$f":"IF(D341=0,0,IF(ISNA(MATCH(D341,Personnel!A:A,0)),IF(ISNA(MATCH(D341,'اطلاعات افراد غیر حقوق بگیر'!A:A,0)),\"وجود ندارد\",LOOKUP(D341,'اطلاعات افراد غیر حقوق بگیر'!A:A,'اطلاعات افراد غیر حقوق بگیر'!D:D)),LOOKUP(D341,Master!D:D,Master!CD:CD)))","v":0},{"$f":"IF(D341=0,\" \",IF(ISNA(MATCH(D341,Personnel!A:A,0)),IF(ISNA(MATCH(D341,'اطلاعات افراد غیر حقوق بگیر'!A:A,0)),\"وجود ندارد\",LOOKUP(D341,'اطلاعات افراد غیر حقوق بگیر'!A:A,'اطلاعات افراد غیر حقوق بگیر'!E:E)),LOOKUP(D341,Master!D:D,Master!AH:AH)))","v":" "},{"$f":"SUMIFS(Pays!G:G,Pays!E:E,1,Pays!D:D,D341)","v":0},{"$f":"SUMIFS(Pays!G:G,Pays!E:E,2,Pays!D:D,D341)","v":0},{"$f":"SUMIFS(Pays!G:G,Pays!E:E,57,Pays!D:D,D341)","v":0},{"$f":"SUMIF(Pays!D:D,D341,Pays!G:G)","v":0},{"$f":"SUMIF(Pays!D:D,D341,Pays!G:G)/176","v":0},{"$f":"IF(M341=0,IF(ISNA(MATCH(D341,'اطلاعات افراد غیر حقوق بگیر'!A:A,0)),0,LOOKUP(D341,'اطلاعات افراد غیر حقوق بگیر'!A:A,'اطلاعات افراد غیر حقوق بگیر'!F:F)),IF(H341=31,Settings!$D$13,ROUND(M341,0)))","v":0},null,0,{"$f":"IF(ISNA(MATCH(D341,Master!D:D,0)),IF(ISNA(MATCH(D341,'اطلاعات افراد غیر حقوق بگیر'!A:A,0)),0,LOOKUP(D341,'اطلاعات افراد غیر حقوق بگیر'!A:A,'اطلاعات افراد غیر حقوق بگیر'!G:G)),LOOKUP(D341,Master!D:D,Master!J:J))","v":0},{"$error":"#N/A"},0,0,{"$f":"IF(O341>#REF!,\"اخطار ساعت اضافه کار از حداکثر بیشتر است\",\" \")","v":{"$error":"#REF!"}},{"$f":"IF(O341>#REF!,1,0)","v":{"$error":"#REF!"}}]
[339,{"$f":"IF(D342=0,\"\",Settings!$D$6)","v":""},{"$f":"IF(D342=0,\"\",LOOKUP(B342,'Rigion Code'!A:A,'Rigion Code'!B:B))","v":""},null,{"$f":"IF(D342=0,\" \",IF(ISNA(MATCH(D342,Personnel!A:A,0)),IF(ISNA(MATCH(D342,'اطلاعات افراد غیر حقوق بگیر'!A:A,0)),\"وجود ندارد\",LOOKUP(Edit!D342,'اطلاعات افراد غیر حقوق بگیر'!A:A,'اطلاعات افراد غیر حقوق بگیر'!B:B)),LOOKUP(D342,Personnel!A:A,Personnel!C:C)))","v":" "},{"$f":"IF(D342=0,\" \",IF(ISNA(MATCH(D342,Personnel!A:A,0)),IF(ISNA(MATCH(D342,'اطلاعات افراد غیر حقوق بگیر'!A:A,0)),\"وجود ندارد\",LOOKUP(D342,'اطلاعات افراد غیر حقوق بگیر'!A:A,'اطلاعات افراد غیر حقوق بگیر'!C:C)),LOOKUP(D342,Personnel!A:A,Personnel!B:B)))","v":" "},{"$f":"IF(D342=0,0,IF(ISNA(MATCH(D342,Personnel!A:A,0)),IF(ISNA(MATCH(D342,'اطلاعات افراد غیر حقوق بگیر'!A:A,0)),\"وجود ندارد\",LOOKUP(D342,'اطلاعات افراد غیر حقوق بگیر'!A:A,'اطلاعات افراد غیر حقوق بگیر'!D:D)),LOOKUP(D342,Master!D:D,Master!CD:CD)))","v":0},{"$f":"IF(D342=0,\" \",IF(ISNA(MATCH(D342,Personnel!A:A,0)),IF(ISNA(MATCH(D342,'اطلاعات افراد غیر حقوق بگیر'!A:A,0)),\"وجود ندارد\",LOOKUP(D342,'اطلاعات افراد غیر حقوق بگیر'!A:A,'اطلاعات افراد غیر حقوق بگیر'!E:E)),LOOKUP(D342,Master!D:D,Master!AH:AH)))","v":" "},{"$f":"SUMIFS(Pays!G:G,Pays!E:E,1,Pays!D:D,D342)","v":0},{"$f":"SUMIFS(Pays!G:G,Pays!E:E,2,Pays!D:D,D342)","v":0},{"$f":"SUMIFS(Pays!G:G,Pays!E:E,57,Pays!D:D,D342)","v":0},{"$f":"SUMIF(Pays!D:D,D342,Pays!G:G)","v":0},{"$f":"SUMIF(Pays!D:D,D342,Pays!G:G)/176","v":0},{"$f":"IF(M342=0,IF(ISNA(MATCH(D342,'اطلاعات افراد غیر حقوق بگیر'!A:A,0)),0,LOOKUP(D342,'اطلاعات افراد غیر حقوق بگیر'!A:A,'اطلاعات افراد غیر حقوق بگیر'!F:F)),IF(H342=31,Settings!$D$13,ROUND(M342,0)))","v":0},null,0,{"$f":"IF(ISNA(MATCH(D342,Master!D:D,0)),IF(ISNA(MATCH(D342,'اطلاعات افراد غیر حقوق بگیر'!A:A,0)),0,LOOKUP(D342,'اطلاعات افراد غیر حقوق بگیر'!A:A,'اطلاعات افراد غیر حقوق بگیر'!G:G)),LOOKUP(D342,Master!D:D,Master!J:J))","v":0},{"$error":"#N/A"},0,0,{"$f":"IF(O342>#REF!,\"اخطار ساعت اضافه کار از حداکثر بیشتر است\",\" \")","v":{"$error":"#REF!"}},{"$f":"IF(O342>#REF!,1,0)","v":{"$error":"#REF!"}}]
[340,{"$f":"IF(D343=0,\"\",Settings!$D$6)","v":""},{"$f":"IF(D343=0,\"\",LOOKUP(B343,'Rigion Code'!A:A,'Rigion Code'!B:B))","v":""},null,{"$f":"IF(D343=0,\" \",IF(ISNA(MATCH(D343,Personnel!A:A,0)),IF(ISNA(MATCH(D343,'اطلاعات افراد غیر حقوق بگیر'!A:A,0)),\"وجود ندارد\",LOOKUP(Edit!D343,'اطلاعات افراد غیر حقوق بگیر'!A:A,'اطلاعات افراد غیر حقوق بگیر'!B:B)),LOOKUP(D343,Personnel!A:A,Personnel!C:C)))","v":" "},{"$f":"IF(D343=0,\" \",IF(ISNA(MATCH(D343,Personnel!A:A,0)),IF(ISNA(MATCH(D343,'اطلاعات افراد غیر حقوق بگیر'!A:A,0)),\"وجود ندارد\",LOOKUP(D343,'اطلاعات افراد غیر حقوق بگیر'!A:A,'اطلاعات افراد غیر حقوق بگیر'!C:C)),LOOKUP(D343,Personnel!A:A,Personnel!B:B)))","v":" "},{"$f":"IF(D343=0,0,IF(ISNA(MATCH(D343,Personnel!A:A,0)),IF(ISNA(MATCH(D343,'اطلاعات افراد غیر حقوق بگیر'!A:A,0)),\"وجود ندارد\",LOOKUP(D343,'اطلاعات افراد غیر حقوق بگیر'!A:A,'اطلاعات افراد غیر حقوق بگیر'!D:D)),LOOKUP(D343,Master!D:D,Master!CD:CD)))","v":0},{"$f":"IF(D343=0,\" \",IF(ISNA(MATCH(D343,Personnel!A:A,0)),IF(ISNA(MATCH(D343,'اطلاعات افراد غیر حقوق بگیر'!A:A,0)),\"وجود ندارد\",LOOKUP(D343,'اطلاعات افراد غیر حقوق بگیر'!A:A,'اطلاعات افراد غیر حقوق بگیر'!E:E)),LOOKUP(D343,Master!D:D,Master!AH:AH)))","v":" "},{"$f":"SUMIFS(Pays!G:G,Pays!E:E,1,Pays!D:D,D343)","v":0},{"$f":"SUMIFS(Pays!G:G,Pays!E:E,2,Pays!D:D,D343)","v":0},{"$f":"SUMIFS(Pays!G:G,Pays!E:E,57,Pays!D:D,D343)","v":0},{"$f":"SUMIF(Pays!D:D,D343,Pays!G:G)","v":0},{"$f":"SUMIF(Pays!D:D,D343,Pays!G:G)/176","v":0},{"$f":"IF(M343=0,IF(ISNA(MATCH(D343,'اطلاعات افراد غیر حقوق بگیر'!A:A,0)),0,LOOKUP(D343,'اطلاعات افراد غیر حقوق بگیر'!A:A,'اطلاعات افراد غیر حقوق بگیر'!F:F)),IF(H343=31,Settings!$D$13,ROUND(M343,0)))","v":0},null,0,{"$f":"IF(ISNA(MATCH(D343,Master!D:D,0)),IF(ISNA(MATCH(D343,'اطلاعات افراد غیر حقوق بگیر'!A:A,0)),0,LOOKUP(D343,'اطلاعات افراد غیر حقوق بگیر'!A:A,'اطلاعات افراد غیر حقوق بگیر'!G:G)),LOOKUP(D343,Master!D:D,Master!J:J))","v":0},{"$error":"#N/A"},0,0,{"$f":"IF(O343>#REF!,\"اخطار ساعت اضافه کار از حداکثر بیشتر است\",\" \")","v":{"$error":"#REF!"}},{"$f":"IF(O343>#REF!,1,0)","v":{"$error":"#REF!"}}]
[341,{"$f":"IF(D344=0,\"\",Settings!$D$6)","v":""},{"$f":"IF(D344=0,\"\",LOOKUP(B344,'Rigion Code'!A:A,'Rigion Code'!B:B))","v":""},null,{"$f":"IF(D344=0,\" \",IF(ISNA(MATCH(D344,Personnel!A:A,0)),IF(ISNA(MATCH(D344,'اطلاعات افراد غیر حقوق بگیر'!A:A,0)),\"وجود ندارد\",LOOKUP(Edit!D344,'اطلاعات افراد غیر حقوق بگیر'!A:A,'اطلاعات افراد غیر حقوق بگیر'!B:B)),LOOKUP(D344,Personnel!A:A,Personnel!C:C)))","v":" "},{"$f":"IF(D344=0,\" \",IF(ISNA(MATCH(D344,Personnel!A:A,0)),IF(ISNA(MATCH(D344,'اطلاعات افراد غیر حقوق بگیر'!A:A,0)),\"وجود ندارد\",LOOKUP(D344,'اطلاعات افراد غیر حقوق بگیر'!A:A,'اطلاعات افراد غیر حقوق بگیر'!C:C)),LOOKUP(D344,Personnel!A:A,Personnel!B:B)))","v":" "},{"$f":"IF(D344=0,0,IF(ISNA(MATCH(D344,Personnel!A:A,0)),IF(ISNA(MATCH(D344,'اطلاعات افراد غیر حقوق بگیر'!A:A,0)),\"وجود ندارد\",LOOKUP(D344,'اطلاعات افراد غیر حقوق بگیر'!A:A,'اطلاعات افراد غیر حقوق بگیر'!D:D)),LOOKUP(D344,Master!D:D,Master!CD:CD)))","v":0},{"$f":"IF(D344=0,\" \",IF(ISNA(MATCH(D344,Personnel!A:A,0)),IF(ISNA(MATCH(D344,'اطلاعات افراد غیر حقوق بگیر'!A:A,0)),\"وجود ندارد\",LOOKUP(D344,'اطلاعات افراد غیر حقوق بگیر'!A:A,'اطلاعات افراد غیر حقوق بگیر'!E:E)),LOOKUP(D344,Master!D:D,Master!AH:AH)))","v":" "},{"$f":"SUMIFS(Pays!G:G,Pays!E:E,1,Pays!D:D,D344)","v":0},{"$f":"SUMIFS(Pays!G:G,Pays!E:E,2,Pays!D:D,D344)","v":0},{"$f":"SUMIFS(Pays!G:G,Pays!E:E,57,Pays!D:D,D344)","v":0},{"$f":"SUMIF(Pays!D:D,D344,Pays!G:G)","v":0},{"$f":"SUMIF(Pays!D:D,D344,Pays!G:G)/176","v":0},{"$f":"IF(M344=0,IF(ISNA(MATCH(D344,'اطلاعات افراد غیر حقوق بگیر'!A:A,0)),0,LOOKUP(D344,'اطلاعات افراد غیر حقوق بگیر'!A:A,'اطلاعات افراد غیر حقوق بگیر'!F:F)),IF(H344=31,Settings!$D$13,ROUND(M344,0)))","v":0},null,0,{"$f":"IF(ISNA(MATCH(D344,Master!D:D,0)),IF(ISNA(MATCH(D344,'اطلاعات افراد غیر حقوق بگیر'!A:A,0)),0,LOOKUP(D344,'اطلاعات افراد غیر حقوق بگیر'!A:A,'اطلاعات افراد غیر حقوق بگیر'!G:G)),LOOKUP(D344,Master!D:D,Master!J:J))","v":0},{"$error":"#N/A"},0,0,{"$f":"IF(O344>#REF!,\"اخطار ساعت اضافه کار از حداکثر بیشتر است\",\" \")","v":{"$error":"#REF!"}},{"$f":"IF(O344>#REF!,1,0)","v":{"$error":"#REF!"}}]
[342,{"$f":"IF(D345=0,\"\",Settings!$D$6)","v":""},{"$f":"IF(D345=0,\"\",LOOKUP(B345,'Rigion Code'!A:A,'Rigion Code'!B:B))","v":""},null,{"$f":"IF(D345=0,\" \",IF(ISNA(MATCH(D345,Personnel!A:A,0)),IF(ISNA(MATCH(D345,'اطلاعات افراد غیر حقوق بگیر'!A:A,0)),\"وجود ندارد\",LOOKUP(Edit!D345,'اطلاعات افراد غیر حقوق بگیر'!A:A,'اطلاعات افراد غیر حقوق بگیر'!B:B)),LOOKUP(D345,Personnel!A:A,Personnel!C:C)))","v":" "},{"$f":"IF(D345=0,\" \",IF(ISNA(MATCH(D345,Personnel!A:A,0)),IF(ISNA(MATCH(D345,'اطلاعات افراد غیر حقوق بگیر'!A:A,0)),\"وجود ندارد\",LOOKUP(D345,'اطلاعات افراد غیر حقوق بگیر'!A:A,'اطلاعات افراد غیر حقوق بگیر'!C:C)),LOOKUP(D345,Personnel!A:A,Personnel!B:B)))","v":" "},{"$f":"IF(D345=0,0,IF(ISNA(MATCH(D345,Personnel!A:A,0)),IF(ISNA(MATCH(D345,'اطلاعات افراد غیر حقوق بگیر'!A:A,0)),\"وجود ندارد\",LOOKUP(D345,'اطلاعات افراد غیر حقوق بگیر'!A:A,'اطلاعات افراد غیر حقوق بگیر'!D:D)),LOOKUP(D345,Master!D:D,Master!CD:CD)))","v":0},{"$f":"IF(D345=0,\" \",IF(ISNA(MATCH(D345,Personnel!A:A,0)),IF(ISNA(MATCH(D345,'اطلاعات افراد غیر حقوق بگیر'!A:A,0)),\"وجود ندارد\",LOOKUP(D345,'اطلاعات افراد غیر حقوق بگیر'!A:A,'اطلاعات افراد غیر حقوق بگیر'!E:E)),LOOKUP(D345,Master!D:D,Master!AH:AH)))","v":" "},{"$f":"SUMIFS(Pays!G:G,Pays!E:E,1,Pays!D:D,D345)","v":0},{"$f":"SUMIFS(Pays!G:G,Pays!E:E,2,Pays!D:D,D345)","v":0},{"$f":"SUMIFS(Pays!G:G,Pays!E:E,57,Pays!D:D,D345)","v":0},{"$f":"SUMIF(Pays!D:D,D345,Pays!G:G)","v":0},{"$f":"SUMIF(Pays!D:D,D345,Pays!G:G)/176","v":0},{"$f":"IF(M345=0,IF(ISNA(MATCH(D345,'اطلاعات افراد غیر حقوق بگیر'!A:A,0)),0,LOOKUP(D345,'اطلاعات افراد غیر حقوق بگیر'!A:A,'اطلاعات افراد غیر حقوق بگیر'!F:F)),IF(H345=31,Settings!$D$13,ROUND(M345,0)))","v":0},null,0,{"$f":"IF(ISNA(MATCH(D345,Master!D:D,0)),IF(ISNA(MATCH(D345,'اطلاعات افراد غیر حقوق بگیر'!A:A,0)),0,LOOKUP(D345,'اطلاعات افراد غیر حقوق بگیر'!A:A,'اطلاعات افراد غیر حقوق بگیر'!G:G)),LOOKUP(D345,Master!D:D,Master!J:J))","v":0},{"$error":"#N/A"},0,0,{"$f":"IF(O345>#REF!,\"اخطار ساعت اضافه کار از حداکثر بیشتر است\",\" \")","v":{"$error":"#REF!"}},{"$f":"IF(O345>#REF!,1,0)","v":{"$error":"#REF!"}}]
[343,{"$f":"IF(D346=0,\"\",Settings!$D$6)","v":""},{"$f":"IF(D346=0,\"\",LOOKUP(B346,'Rigion Code'!A:A,'Rigion Code'!B:B))","v":""},null,{"$f":"IF(D346=0,\" \",IF(ISNA(MATCH(D346,Personnel!A:A,0)),IF(ISNA(MATCH(D346,'اطلاعات افراد غیر حقوق بگیر'!A:A,0)),\"وجود ندارد\",LOOKUP(Edit!D346,'اطلاعات افراد غیر حقوق بگیر'!A:A,'اطلاعات افراد غیر حقوق بگیر'!B:B)),LOOKUP(D346,Personnel!A:A,Personnel!C:C)))","v":" "},{"$f":"IF(D346=0,\" \",IF(ISNA(MATCH(D346,Personnel!A:A,0)),IF(ISNA(MATCH(D346,'اطلاعات افراد غیر حقوق بگیر'!A:A,0)),\"وجود ندارد\",LOOKUP(D346,'اطلاعات افراد غیر حقوق بگیر'!A:A,'اطلاعات افراد غیر حقوق بگیر'!C:C)),LOOKUP(D346,Personnel!A:A,Personnel!B:B)))","v":" "},{"$f":"IF(D346=0,0,IF(ISNA(MATCH(D346,Personnel!A:A,0)),IF(ISNA(MATCH(D346,'اطلاعات افراد غیر حقوق بگیر'!A:A,0)),\"وجود ندارد\",LOOKUP(D346,'اطلاعات افراد غیر حقوق بگیر'!A:A,'اطلاعات افراد غیر حقوق بگیر'!D:D)),LOOKUP(D346,Master!D:D,Master!CD:CD)))","v":0},{"$f":"IF(D346=0,\" \",IF(ISNA(MATCH(D346,Personnel!A:A,0)),IF(ISNA(MATCH(D346,'اطلاعات افراد غیر حقوق بگیر'!A:A,0)),\"وجود ندارد\",LOOKUP(D346,'اطلاعات افراد غیر حقوق بگیر'!A:A,'اطلاعات افراد غیر حقوق بگیر'!E:E)),LOOKUP(D346,Master!D:D,Master!AH:AH)))","v":" "},{"$f":"SUMIFS(Pays!G:G,Pays!E:E,1,Pays!D:D,D346)","v":0},{"$f":"SUMIFS(Pays!G:G,Pays!E:E,2,Pays!D:D,D346)","v":0},{"$f":"SUMIFS(Pays!G:G,Pays!E:E,57,Pays!D:D,D346)","v":0},{"$f":"SUMIF(Pays!D:D,D346,Pays!G:G)","v":0},{"$f":"SUMIF(Pays!D:D,D346,Pays!G:G)/176","v":0},{"$f":"IF(M346=0,IF(ISNA(MATCH(D346,'اطلاعات افراد غیر حقوق بگیر'!A:A,0)),0,LOOKUP(D346,'اطلاعات افراد غیر حقوق بگیر'!A:A,'اطلاعات افراد غیر حقوق بگیر'!F:F)),IF(H346=31,Settings!$D$13,ROUND(M346,0)))","v":0},null,0,{"$f":"IF(ISNA(MATCH(D346,Master!D:D,0)),IF(ISNA(MATCH(D346,'اطلاعات افراد غیر حقوق بگیر'!A:A,0)),0,LOOKUP(D346,'اطلاعات افراد غیر حقوق بگیر'!A:A,'اطلاعات افراد غیر حقوق بگیر'!G:G)),LOOKUP(D346,Master!D:D,Master!J:J))","v":0},{"$error":"#N/A"},0,0,{"$f":"IF(O346>#REF!,\"اخطار ساعت اضافه کار از حداکثر بیشتر است\",\" \")","v":{"$error":"#REF!"}},{"$f":"IF(O346>#REF!,1,0)","v":{"$error":"#REF!"}}]
[344,{"$f":"IF(D347=0,\"\",Settings!$D$6)","v":""},{"$f":"IF(D347=0,\"\",LOOKUP(B347,'Rigion Code'!A:A,'Rigion Code'!B:B))","v":""},null,{"$f":"IF(D347=0,\" \",IF(ISNA(MATCH(D347,Personnel!A:A,0)),IF(ISNA(MATCH(D347,'اطلاعات افراد غیر حقوق بگیر'!A:A,0)),\"وجود ندارد\",LOOKUP(Edit!D347,'اطلاعات افراد غیر حقوق بگیر'!A:A,'اطلاعات افراد غیر حقوق بگیر'!B:B)),LOOKUP(D347,Personnel!A:A,Personnel!C:C)))","v":" "},{"$f":"IF(D347=0,\" \",IF(ISNA(MATCH(D347,Personnel!A:A,0)),IF(ISNA(MATCH(D347,'اطلاعات افراد غیر حقوق بگیر'!A:A,0)),\"وجود ندارد\",LOOKUP(D347,'اطلاعات افراد غیر حقوق بگیر'!A:A,'اطلاعات افراد غیر حقوق بگیر'!C:C)),LOOKUP(D347,Personnel!A:A,Personnel!B:B)))","v":" "},{"$f":"IF(D347=0,0,IF(ISNA(MATCH(D347,Personnel!A:A,0)),IF(ISNA(MATCH(D347,'اطلاعات افراد غیر حقوق بگیر'!A:A,0)),\"وجود ندارد\",LOOKUP(D347,'اطلاعات افراد غیر حقوق بگیر'!A:A,'اطلاعات افراد غیر حقوق بگیر'!D:D)),LOOKUP(D347,Master!D:D,Master!CD:CD)))","v":0},{"$f":"IF(D347=0,\" \",IF(ISNA(MATCH(D347,Personnel!A:A,0)),IF(ISNA(MATCH(D347,'اطلاعات افراد غیر حقوق بگیر'!A:A,0)),\"وجود ندارد\",LOOKUP(D347,'اطلاعات افراد غیر حقوق بگیر'!A:A,'اطلاعات افراد غیر حقوق بگیر'!E:E)),LOOKUP(D347,Master!D:D,Master!AH:AH)))","v":" "},{"$f":"SUMIFS(Pays!G:G,Pays!E:E,1,Pays!D:D,D347)","v":0},{"$f":"SUMIFS(Pays!G:G,Pays!E:E,2,Pays!D:D,D347)","v":0},{"$f":"SUMIFS(Pays!G:G,Pays!E:E,57,Pays!D:D,D347)","v":0},{"$f":"SUMIF(Pays!D:D,D347,Pays!G:G)","v":0},{"$f":"SUMIF(Pays!D:D,D347,Pays!G:G)/176","v":0},{"$f":"IF(M347=0,IF(ISNA(MATCH(D347,'اطلاعات افراد غیر حقوق بگیر'!A:A,0)),0,LOOKUP(D347,'اطلاعات افراد غیر حقوق بگیر'!A:A,'اطلاعات افراد غیر حقوق بگیر'!F:F)),IF(H347=31,Settings!$D$13,ROUND(M347,0)))","v":0},null,0,{"$f":"IF(ISNA(MATCH(D347,Master!D:D,0)),IF(ISNA(MATCH(D347,'اطلاعات افراد غیر حقوق بگیر'!A:A,0)),0,LOOKUP(D347,'اطلاعات افراد غیر حقوق بگیر'!A:A,'اطلاعات افراد غیر حقوق بگیر'!G:G)),LOOKUP(D347,Master!D:D,Master!J:J))","v":0},{"$error":"#N/A"},0,0,{"$f":"IF(O347>#REF!,\"اخطار ساعت اضافه کار از حداکثر بیشتر است\",\" \")","v":{"$error":"#REF!"}},{"$f":"IF(O347>#REF!,1,0)","v":{"$error":"#REF!"}}]
[345,{"$f":"IF(D348=0,\"\",Settings!$D$6)","v":""},{"$f":"IF(D348=0,\"\",LOOKUP(B348,'Rigion Code'!A:A,'Rigion Code'!B:B))","v":""},null,{"$f":"IF(D348=0,\" \",IF(ISNA(MATCH(D348,Personnel!A:A,0)),IF(ISNA(MATCH(D348,'اطلاعات افراد غیر حقوق بگیر'!A:A,0)),\"وجود ندارد\",LOOKUP(Edit!D348,'اطلاعات افراد غیر حقوق بگیر'!A:A,'اطلاعات افراد غیر حقوق بگیر'!B:B)),LOOKUP(D348,Personnel!A:A,Personnel!C:C)))","v":" "},{"$f":"IF(D348=0,\" \",IF(ISNA(MATCH(D348,Personnel!A:A,0)),IF(ISNA(MATCH(D348,'اطلاعات افراد غیر حقوق بگیر'!A:A,0)),\"وجود ندارد\",LOOKUP(D348,'اطلاعات افراد غیر حقوق بگیر'!A:A,'اطلاعات افراد غیر حقوق بگیر'!C:C)),LOOKUP(D348,Personnel!A:A,Personnel!B:B)))","v":" "},{"$f":"IF(D348=0,0,IF(ISNA(MATCH(D348,Personnel!A:A,0)),IF(ISNA(MATCH(D348,'اطلاعات افراد غیر حقوق بگیر'!A:A,0)),\"وجود ندارد\",LOOKUP(D348,'اطلاعات افراد غیر حقوق بگیر'!A:A,'اطلاعات افراد غیر حقوق بگیر'!D:D)),LOOKUP(D348,Master!D:D,Master!CD:CD)))","v":0},{"$f":"IF(D348=0,\" \",IF(ISNA(MATCH(D348,Personnel!A:A,0)),IF(ISNA(MATCH(D348,'اطلاعات افراد غیر حقوق بگیر'!A:A,0)),\"وجود ندارد\",LOOKUP(D348,'اطلاعات افراد غیر حقوق بگیر'!A:A,'اطلاعات افراد غیر حقوق بگیر'!E:E)),LOOKUP(D348,Master!D:D,Master!AH:AH)))","v":" "},{"$f":"SUMIFS(Pays!G:G,Pays!E:E,1,Pays!D:D,D348)","v":0},{"$f":"SUMIFS(Pays!G:G,Pays!E:E,2,Pays!D:D,D348)","v":0},{"$f":"SUMIFS(Pays!G:G,Pays!E:E,57,Pays!D:D,D348)","v":0},{"$f":"SUMIF(Pays!D:D,D348,Pays!G:G)","v":0},{"$f":"SUMIF(Pays!D:D,D348,Pays!G:G)/176","v":0},{"$f":"IF(M348=0,IF(ISNA(MATCH(D348,'اطلاعات افراد غیر حقوق بگیر'!A:A,0)),0,LOOKUP(D348,'اطلاعات افراد غیر حقوق بگیر'!A:A,'اطلاعات افراد غیر حقوق بگیر'!F:F)),IF(H348=31,Settings!$D$13,ROUND(M348,0)))","v":0},null,0,{"$f":"IF(ISNA(MATCH(D348,Master!D:D,0)),IF(ISNA(MATCH(D348,'اطلاعات افراد غیر حقوق بگیر'!A:A,0)),0,LOOKUP(D348,'اطلاعات افراد غیر حقوق بگیر'!A:A,'اطلاعات افراد غیر حقوق بگیر'!G:G)),LOOKUP(D348,Master!D:D,Master!J:J))","v":0},{"$error":"#N/A"},0,0,{"$f":"IF(O348>#REF!,\"اخطار ساعت اضافه کار از حداکثر بیشتر است\",\" \")","v":{"$error":"#REF!"}},{"$f":"IF(O348>#REF!,1,0)","v":{"$error":"#REF!"}}]
[346,{"$f":"IF(D349=0,\"\",Settings!$D$6)","v":""},{"$f":"IF(D349=0,\"\",LOOKUP(B349,'Rigion Code'!A:A,'Rigion Code'!B:B))","v":""},null,{"$f":"IF(D349=0,\" \",IF(ISNA(MATCH(D349,Personnel!A:A,0)),IF(ISNA(MATCH(D349,'اطلاعات افراد غیر حقوق بگیر'!A:A,0)),\"وجود ندارد\",LOOKUP(Edit!D349,'اطلاعات افراد غیر حقوق بگیر'!A:A,'اطلاعات افراد غیر حقوق بگیر'!B:B)),LOOKUP(D349,Personnel!A:A,Personnel!C:C)))","v":" "},{"$f":"IF(D349=0,\" \",IF(ISNA(MATCH(D349,Personnel!A:A,0)),IF(ISNA(MATCH(D349,'اطلاعات افراد غیر حقوق بگیر'!A:A,0)),\"وجود ندارد\",LOOKUP(D349,'اطلاعات افراد غیر حقوق بگیر'!A:A,'اطلاعات افراد غیر حقوق بگیر'!C:C)),LOOKUP(D349,Personnel!A:A,Personnel!B:B)))","v":" "},{"$f":"IF(D349=0,0,IF(ISNA(MATCH(D349,Personnel!A:A,0)),IF(ISNA(MATCH(D349,'اطلاعات افراد غیر حقوق بگیر'!A:A,0)),\"وجود ندارد\",LOOKUP(D349,'اطلاعات افراد غیر حقوق بگیر'!A:A,'اطلاعات افراد غیر حقوق بگیر'!D:D)),LOOKUP(D349,Master!D:D,Master!CD:CD)))","v":0},{"$f":"IF(D349=0,\" \",IF(ISNA(MATCH(D349,Personnel!A:A,0)),IF(ISNA(MATCH(D349,'اطلاعات افراد غیر حقوق بگیر'!A:A,0)),\"وجود ندارد\",LOOKUP(D349,'اطلاعات افراد غیر حقوق بگیر'!A:A,'اطلاعات افراد غیر حقوق بگیر'!E:E)),LOOKUP(D349,Master!D:D,Master!AH:AH)))","v":" "},{"$f":"SUMIFS(Pays!G:G,Pays!E:E,1,Pays!D:D,D349)","v":0},{"$f":"SUMIFS(Pays!G:G,Pays!E:E,2,Pays!D:D,D349)","v":0},{"$f":"SUMIFS(Pays!G:G,Pays!E:E,57,Pays!D:D,D349)","v":0},{"$f":"SUMIF(Pays!D:D,D349,Pays!G:G)","v":0},{"$f":"SUMIF(Pays!D:D,D349,Pays!G:G)/176","v":0},{"$f":"IF(M349=0,IF(ISNA(MATCH(D349,'اطلاعات افراد غیر حقوق بگیر'!A:A,0)),0,LOOKUP(D349,'اطلاعات افراد غیر حقوق بگیر'!A:A,'اطلاعات افراد غیر حقوق بگیر'!F:F)),IF(H349=31,Settings!$D$13,ROUND(M349,0)))","v":0},null,0,{"$f":"IF(ISNA(MATCH(D349,Master!D:D,0)),IF(ISNA(MATCH(D349,'اطلاعات افراد غیر حقوق بگیر'!A:A,0)),0,LOOKUP(D349,'اطلاعات افراد غیر حقوق بگیر'!A:A,'اطلاعات افراد غیر حقوق بگیر'!G:G)),LOOKUP(D349,Master!D:D,Master!J:J))","v":0},{"$error":"#N/A"},0,0,{"$f":"IF(O349>#REF!,\"اخطار ساعت اضافه کار از حداکثر بیشتر است\",\" \")","v":{"$error":"#REF!"}},{"$f":"IF(O349>#REF!,1,0)","v":{"$error":"#REF!"}}]
[347,{"$f":"IF(D350=0,\"\",Settings!$D$6)","v":""},{"$f":"IF(D350=0,\"\",LOOKUP(B350,'Rigion Code'!A:A,'Rigion Code'!B:B))","v":""},null,{"$f":"IF(D350=0,\" \",IF(ISNA(MATCH(D350,Personnel!A:A,0)),IF(ISNA(MATCH(D350,'اطلاعات افراد غیر حقوق بگیر'!A:A,0)),\"وجود ندارد\",LOOKUP(Edit!D350,'اطلاعات افراد غیر حقوق بگیر'!A:A,'اطلاعات افراد غیر حقوق بگیر'!B:B)),LOOKUP(D350,Personnel!A:A,Personnel!C:C)))","v":" "},{"$f":"IF(D350=0,\" \",IF(ISNA(MATCH(D350,Personnel!A:A,0)),IF(ISNA(MATCH(D350,'اطلاعات افراد غیر حقوق بگیر'!A:A,0)),\"وجود ندارد\",LOOKUP(D350,'اطلاعات افراد غیر حقوق بگیر'!A:A,'اطلاعات افراد غیر حقوق بگیر'!C:C)),LOOKUP(D350,Personnel!A:A,Personnel!B:B)))","v":" "},{"$f":"IF(D350=0,0,IF(ISNA(MATCH(D350,Personnel!A:A,0)),IF(ISNA(MATCH(D350,'اطلاعات افراد غیر حقوق بگیر'!A:A,0)),\"وجود ندارد\",LOOKUP(D350,'اطلاعات افراد غیر حقوق بگیر'!A:A,'اطلاعات افراد غیر حقوق بگیر'!D:D)),LOOKUP(D350,Master!D:D,Master!CD:CD)))","v":0},{"$f":"IF(D350=0,\" \",IF(ISNA(MATCH(D350,Personnel!A:A,0)),IF(ISNA(MATCH(D350,'اطلاعات افراد غیر حقوق بگیر'!A:A,0)),\"وجود ندارد\",LOOKUP(D350,'اطلاعات افراد غیر حقوق بگیر'!A:A,'اطلاعات افراد غیر حقوق بگیر'!E:E)),LOOKUP(D350,Master!D:D,Master!AH:AH)))","v":" "},{"$f":"SUMIFS(Pays!G:G,Pays!E:E,1,Pays!D:D,D350)","v":0},{"$f":"SUMIFS(Pays!G:G,Pays!E:E,2,Pays!D:D,D350)","v":0},{"$f":"SUMIFS(Pays!G:G,Pays!E:E,57,Pays!D:D,D350)","v":0},{"$f":"SUMIF(Pays!D:D,D350,Pays!G:G)","v":0},{"$f":"SUMIF(Pays!D:D,D350,Pays!G:G)/176","v":0},{"$f":"IF(M350=0,IF(ISNA(MATCH(D350,'اطلاعات افراد غیر حقوق بگیر'!A:A,0)),0,LOOKUP(D350,'اطلاعات افراد غیر حقوق بگیر'!A:A,'اطلاعات افراد غیر حقوق بگیر'!F:F)),IF(H350=31,Settings!$D$13,ROUND(M350,0)))","v":0},null,0,{"$f":"IF(ISNA(MATCH(D350,Master!D:D,0)),IF(ISNA(MATCH(D350,'اطلاعات افراد غیر حقوق بگیر'!A:A,0)),0,LOOKUP(D350,'اطلاعات افراد غیر حقوق بگیر'!A:A,'اطلاعات افراد غیر حقوق بگیر'!G:G)),LOOKUP(D350,Master!D:D,Master!J:J))","v":0},{"$error":"#N/A"},0,0,{"$f":"IF(O350>#REF!,\"اخطار ساعت اضافه کار از حداکثر بیشتر است\",\" \")","v":{"$error":"#REF!"}},{"$f":"IF(O350>#REF!,1,0)","v":{"$error":"#REF!"}}]
[348,{"$f":"IF(D351=0,\"\",Settings!$D$6)","v":""},{"$f":"IF(D351=0,\"\",LOOKUP(B351,'Rigion Code'!A:A,'Rigion Code'!B:B))","v":""},null,{"$f":"IF(D351=0,\" \",IF(ISNA(MATCH(D351,Personnel!A:A,0)),IF(ISNA(MATCH(D351,'اطلاعات افراد غیر حقوق بگیر'!A:A,0)),\"وجود ندارد\",LOOKUP(Edit!D351,'اطلاعات افراد غیر حقوق بگیر'!A:A,'اطلاعات افراد غیر حقوق بگیر'!B:B)),LOOKUP(D351,Personnel!A:A,Personnel!C:C)))","v":" "},{"$f":"IF(D351=0,\" \",IF(ISNA(MATCH(D351,Personnel!A:A,0)),IF(ISNA(MATCH(D351,'اطلاعات افراد غیر حقوق بگیر'!A:A,0)),\"وجود ندارد\",LOOKUP(D351,'اطلاعات افراد غیر حقوق بگیر'!A:A,'اطلاعات افراد غیر حقوق بگیر'!C:C)),LOOKUP(D351,Personnel!A:A,Personnel!B:B)))","v":" "},{"$f":"IF(D351=0,0,IF(ISNA(MATCH(D351,Personnel!A:A,0)),IF(ISNA(MATCH(D351,'اطلاعات افراد غیر حقوق بگیر'!A:A,0)),\"وجود ندارد\",LOOKUP(D351,'اطلاعات افراد غیر حقوق بگیر'!A:A,'اطلاعات افراد غیر حقوق بگیر'!D:D)),LOOKUP(D351,Master!D:D,Master!CD:CD)))","v":0},{"$f":"IF(D351=0,\" \",IF(ISNA(MATCH(D351,Personnel!A:A,0)),IF(ISNA(MATCH(D351,'اطلاعات افراد غیر حقوق بگیر'!A:A,0)),\"وجود ندارد\",LOOKUP(D351,'اطلاعات افراد غیر حقوق بگیر'!A:A,'اطلاعات افراد غیر حقوق بگیر'!E:E)),LOOKUP(D351,Master!D:D,Master!AH:AH)))","v":" "},{"$f":"SUMIFS(Pays!G:G,Pays!E:E,1,Pays!D:D,D351)","v":0},{"$f":"SUMIFS(Pays!G:G,Pays!E:E,2,Pays!D:D,D351)","v":0},{"$f":"SUMIFS(Pays!G:G,Pays!E:E,57,Pays!D:D,D351)","v":0},{"$f":"SUMIF(Pays!D:D,D351,Pays!G:G)","v":0},{"$f":"SUMIF(Pays!D:D,D351,Pays!G:G)/176","v":0},{"$f":"IF(M351=0,IF(ISNA(MATCH(D351,'اطلاعات افراد غیر حقوق بگیر'!A:A,0)),0,LOOKUP(D351,'اطلاعات افراد غیر حقوق بگیر'!A:A,'اطلاعات افراد غیر حقوق بگیر'!F:F)),IF(H351=31,Settings!$D$13,ROUND(M351,0)))","v":0},null,0,{"$f":"IF(ISNA(MATCH(D351,Master!D:D,0)),IF(ISNA(MATCH(D351,'اطلاعات افراد غیر حقوق بگیر'!A:A,0)),0,LOOKUP(D351,'اطلاعات افراد غیر حقوق بگیر'!A:A,'اطلاعات افراد غیر حقوق بگیر'!G:G)),LOOKUP(D351,Master!D:D,Master!J:J))","v":0},{"$error":"#N/A"},0,0,{"$f":"IF(O351>#REF!,\"اخطار ساعت اضافه کار از حداکثر بیشتر است\",\" \")","v":{"$error":"#REF!"}},{"$f":"IF(O351>#REF!,1,0)","v":{"$error":"#REF!"}}]
[349,{"$f":"IF(D352=0,\"\",Settings!$D$6)","v":""},{"$f":"IF(D352=0,\"\",LOOKUP(B352,'Rigion Code'!A:A,'Rigion Code'!B:B))","v":""},null,{"$f":"IF(D352=0,\" \",IF(ISNA(MATCH(D352,Personnel!A:A,0)),IF(ISNA(MATCH(D352,'اطلاعات افراد غیر حقوق بگیر'!A:A,0)),\"وجود ندارد\",LOOKUP(Edit!D352,'اطلاعات افراد غیر حقوق بگیر'!A:A,'اطلاعات افراد غیر حقوق بگیر'!B:B)),LOOKUP(D352,Personnel!A:A,Personnel!C:C)))","v":" "},{"$f":"IF(D352=0,\" \",IF(ISNA(MATCH(D352,Personnel!A:A,0)),IF(ISNA(MATCH(D352,'اطلاعات افراد غیر حقوق بگیر'!A:A,0)),\"وجود ندارد\",LOOKUP(D352,'اطلاعات افراد غیر حقوق بگیر'!A:A,'اطلاعات افراد غیر حقوق بگیر'!C:C)),LOOKUP(D352,Personnel!A:A,Personnel!B:B)))","v":" "},{"$f":"IF(D352=0,0,IF(ISNA(MATCH(D352,Personnel!A:A,0)),IF(ISNA(MATCH(D352,'اطلاعات افراد غیر حقوق بگیر'!A:A,0)),\"وجود ندارد\",LOOKUP(D352,'اطلاعات افراد غیر حقوق بگیر'!A:A,'اطلاعات افراد غیر حقوق بگیر'!D:D)),LOOKUP(D352,Master!D:D,Master!CD:CD)))","v":0},{"$f":"IF(D352=0,\" \",IF(ISNA(MATCH(D352,Personnel!A:A,0)),IF(ISNA(MATCH(D352,'اطلاعات افراد غیر حقوق بگیر'!A:A,0)),\"وجود ندارد\",LOOKUP(D352,'اطلاعات افراد غیر حقوق بگیر'!A:A,'اطلاعات افراد غیر حقوق بگیر'!E:E)),LOOKUP(D352,Master!D:D,Master!AH:AH)))","v":" "},{"$f":"SUMIFS(Pays!G:G,Pays!E:E,1,Pays!D:D,D352)","v":0},{"$f":"SUMIFS(Pays!G:G,Pays!E:E,2,Pays!D:D,D352)","v":0},{"$f":"SUMIFS(Pays!G:G,Pays!E:E,57,Pays!D:D,D352)","v":0},{"$f":"SUMIF(Pays!D:D,D352,Pays!G:G)","v":0},{"$f":"SUMIF(Pays!D:D,D352,Pays!G:G)/176","v":0},{"$f":"IF(M352=0,IF(ISNA(MATCH(D352,'اطلاعات افراد غیر حقوق بگیر'!A:A,0)),0,LOOKUP(D352,'اطلاعات افراد غیر حقوق بگیر'!A:A,'اطلاعات افراد غیر حقوق بگیر'!F:F)),IF(H352=31,Settings!$D$13,ROUND(M352,0)))","v":0},null,0,{"$f":"IF(ISNA(MATCH(D352,Master!D:D,0)),IF(ISNA(MATCH(D352,'اطلاعات افراد غیر حقوق بگیر'!A:A,0)),0,LOOKUP(D352,'اطلاعات افراد غیر حقوق بگیر'!A:A,'اطلاعات افراد غیر حقوق بگیر'!G:G)),LOOKUP(D352,Master!D:D,Master!J:J))","v":0},{"$error":"#N/A"},0,0,{"$f":"IF(O352>#REF!,\"اخطار ساعت اضافه کار از حداکثر بیشتر است\",\" \")","v":{"$error":"#REF!"}},{"$f":"IF(O352>#REF!,1,0)","v":{"$error":"#REF!"}}]
[350,{"$f":"IF(D353=0,\"\",Settings!$D$6)","v":""},{"$f":"IF(D353=0,\"\",LOOKUP(B353,'Rigion Code'!A:A,'Rigion Code'!B:B))","v":""},null,{"$f":"IF(D353=0,\" \",IF(ISNA(MATCH(D353,Personnel!A:A,0)),IF(ISNA(MATCH(D353,'اطلاعات افراد غیر حقوق بگیر'!A:A,0)),\"وجود ندارد\",LOOKUP(Edit!D353,'اطلاعات افراد غیر حقوق بگیر'!A:A,'اطلاعات افراد غیر حقوق بگیر'!B:B)),LOOKUP(D353,Personnel!A:A,Personnel!C:C)))","v":" "},{"$f":"IF(D353=0,\" \",IF(ISNA(MATCH(D353,Personnel!A:A,0)),IF(ISNA(MATCH(D353,'اطلاعات افراد غیر حقوق بگیر'!A:A,0)),\"وجود ندارد\",LOOKUP(D353,'اطلاعات افراد غیر حقوق بگیر'!A:A,'اطلاعات افراد غیر حقوق بگیر'!C:C)),LOOKUP(D353,Personnel!A:A,Personnel!B:B)))","v":" "},{"$f":"IF(D353=0,0,IF(ISNA(MATCH(D353,Personnel!A:A,0)),IF(ISNA(MATCH(D353,'اطلاعات افراد غیر حقوق بگیر'!A:A,0)),\"وجود ندارد\",LOOKUP(D353,'اطلاعات افراد غیر حقوق بگیر'!A:A,'اطلاعات افراد غیر حقوق بگیر'!D:D)),LOOKUP(D353,Master!D:D,Master!CD:CD)))","v":0},{"$f":"IF(D353=0,\" \",IF(ISNA(MATCH(D353,Personnel!A:A,0)),IF(ISNA(MATCH(D353,'اطلاعات افراد غیر حقوق بگیر'!A:A,0)),\"وجود ندارد\",LOOKUP(D353,'اطلاعات افراد غیر حقوق بگیر'!A:A,'اطلاعات افراد غیر حقوق بگیر'!E:E)),LOOKUP(D353,Master!D:D,Master!AH:AH)))","v":" "},{"$f":"SUMIFS(Pays!G:G,Pays!E:E,1,Pays!D:D,D353)","v":0},{"$f":"SUMIFS(Pays!G:G,Pays!E:E,2,Pays!D:D,D353)","v":0},{"$f":"SUMIFS(Pays!G:G,Pays!E:E,57,Pays!D:D,D353)","v":0},{"$f":"SUMIF(Pays!D:D,D353,Pays!G:G)","v":0},{"$f":"SUMIF(Pays!D:D,D353,Pays!G:G)/176","v":0},{"$f":"IF(M353=0,IF(ISNA(MATCH(D353,'اطلاعات افراد غیر حقوق بگیر'!A:A,0)),0,LOOKUP(D353,'اطلاعات افراد غیر حقوق بگیر'!A:A,'اطلاعات افراد غیر حقوق بگیر'!F:F)),IF(H353=31,Settings!$D$13,ROUND(M353,0)))","v":0},null,0,{"$f":"IF(ISNA(MATCH(D353,Master!D:D,0)),IF(ISNA(MATCH(D353,'اطلاعات افراد غیر حقوق بگیر'!A:A,0)),0,LOOKUP(D353,'اطلاعات افراد غیر حقوق بگیر'!A:A,'اطلاعات افراد غیر حقوق بگیر'!G:G)),LOOKUP(D353,Master!D:D,Master!J:J))","v":0},{"$error":"#N/A"},0,0,{"$f":"IF(O353>#REF!,\"اخطار ساعت اضافه کار از حداکثر بیشتر است\",\" \")","v":{"$error":"#REF!"}},{"$f":"IF(O353>#REF!,1,0)","v":{"$error":"#REF!"}}]
[351,{"$f":"IF(D354=0,\"\",Settings!$D$6)","v":""},{"$f":"IF(D354=0,\"\",LOOKUP(B354,'Rigion Code'!A:A,'Rigion Code'!B:B))","v":""},null,{"$f":"IF(D354=0,\" \",IF(ISNA(MATCH(D354,Personnel!A:A,0)),IF(ISNA(MATCH(D354,'اطلاعات افراد غیر حقوق بگیر'!A:A,0)),\"وجود ندارد\",LOOKUP(Edit!D354,'اطلاعات افراد غیر حقوق بگیر'!A:A,'اطلاعات افراد غیر حقوق بگیر'!B:B)),LOOKUP(D354,Personnel!A:A,Personnel!C:C)))","v":" "},{"$f":"IF(D354=0,\" \",IF(ISNA(MATCH(D354,Personnel!A:A,0)),IF(ISNA(MATCH(D354,'اطلاعات افراد غیر حقوق بگیر'!A:A,0)),\"وجود ندارد\",LOOKUP(D354,'اطلاعات افراد غیر حقوق بگیر'!A:A,'اطلاعات افراد غیر حقوق بگیر'!C:C)),LOOKUP(D354,Personnel!A:A,Personnel!B:B)))","v":" "},{"$f":"IF(D354=0,0,IF(ISNA(MATCH(D354,Personnel!A:A,0)),IF(ISNA(MATCH(D354,'اطلاعات افراد غیر حقوق بگیر'!A:A,0)),\"وجود ندارد\",LOOKUP(D354,'اطلاعات افراد غیر حقوق بگیر'!A:A,'اطلاعات افراد غیر حقوق بگیر'!D:D)),LOOKUP(D354,Master!D:D,Master!CD:CD)))","v":0},{"$f":"IF(D354=0,\" \",IF(ISNA(MATCH(D354,Personnel!A:A,0)),IF(ISNA(MATCH(D354,'اطلاعات افراد غیر حقوق بگیر'!A:A,0)),\"وجود ندارد\",LOOKUP(D354,'اطلاعات افراد غیر حقوق بگیر'!A:A,'اطلاعات افراد غیر حقوق بگیر'!E:E)),LOOKUP(D354,Master!D:D,Master!AH:AH)))","v":" "},{"$f":"SUMIFS(Pays!G:G,Pays!E:E,1,Pays!D:D,D354)","v":0},{"$f":"SUMIFS(Pays!G:G,Pays!E:E,2,Pays!D:D,D354)","v":0},{"$f":"SUMIFS(Pays!G:G,Pays!E:E,57,Pays!D:D,D354)","v":0},{"$f":"SUMIF(Pays!D:D,D354,Pays!G:G)","v":0},{"$f":"SUMIF(Pays!D:D,D354,Pays!G:G)/176","v":0},{"$f":"IF(M354=0,IF(ISNA(MATCH(D354,'اطلاعات افراد غیر حقوق بگیر'!A:A,0)),0,LOOKUP(D354,'اطلاعات افراد غیر حقوق بگیر'!A:A,'اطلاعات افراد غیر حقوق بگیر'!F:F)),IF(H354=31,Settings!$D$13,ROUND(M354,0)))","v":0},null,0,{"$f":"IF(ISNA(MATCH(D354,Master!D:D,0)),IF(ISNA(MATCH(D354,'اطلاعات افراد غیر حقوق بگیر'!A:A,0)),0,LOOKUP(D354,'اطلاعات افراد غیر حقوق بگیر'!A:A,'اطلاعات افراد غیر حقوق بگیر'!G:G)),LOOKUP(D354,Master!D:D,Master!J:J))","v":0},{"$error":"#N/A"},0,0,{"$f":"IF(O354>#REF!,\"اخطار ساعت اضافه کار از حداکثر بیشتر است\",\" \")","v":{"$error":"#REF!"}},{"$f":"IF(O354>#REF!,1,0)","v":{"$error":"#REF!"}}]
[352,{"$f":"IF(D355=0,\"\",Settings!$D$6)","v":""},{"$f":"IF(D355=0,\"\",LOOKUP(B355,'Rigion Code'!A:A,'Rigion Code'!B:B))","v":""},null,{"$f":"IF(D355=0,\" \",IF(ISNA(MATCH(D355,Personnel!A:A,0)),IF(ISNA(MATCH(D355,'اطلاعات افراد غیر حقوق بگیر'!A:A,0)),\"وجود ندارد\",LOOKUP(Edit!D355,'اطلاعات افراد غیر حقوق بگیر'!A:A,'اطلاعات افراد غیر حقوق بگیر'!B:B)),LOOKUP(D355,Personnel!A:A,Personnel!C:C)))","v":" "},{"$f":"IF(D355=0,\" \",IF(ISNA(MATCH(D355,Personnel!A:A,0)),IF(ISNA(MATCH(D355,'اطلاعات افراد غیر حقوق بگیر'!A:A,0)),\"وجود ندارد\",LOOKUP(D355,'اطلاعات افراد غیر حقوق بگیر'!A:A,'اطلاعات افراد غیر حقوق بگیر'!C:C)),LOOKUP(D355,Personnel!A:A,Personnel!B:B)))","v":" "},{"$f":"IF(D355=0,0,IF(ISNA(MATCH(D355,Personnel!A:A,0)),IF(ISNA(MATCH(D355,'اطلاعات افراد غیر حقوق بگیر'!A:A,0)),\"وجود ندارد\",LOOKUP(D355,'اطلاعات افراد غیر حقوق بگیر'!A:A,'اطلاعات افراد غیر حقوق بگیر'!D:D)),LOOKUP(D355,Master!D:D,Master!CD:CD)))","v":0},{"$f":"IF(D355=0,\" \",IF(ISNA(MATCH(D355,Personnel!A:A,0)),IF(ISNA(MATCH(D355,'اطلاعات افراد غیر حقوق بگیر'!A:A,0)),\"وجود ندارد\",LOOKUP(D355,'اطلاعات افراد غیر حقوق بگیر'!A:A,'اطلاعات افراد غیر حقوق بگیر'!E:E)),LOOKUP(D355,Master!D:D,Master!AH:AH)))","v":" "},{"$f":"SUMIFS(Pays!G:G,Pays!E:E,1,Pays!D:D,D355)","v":0},{"$f":"SUMIFS(Pays!G:G,Pays!E:E,2,Pays!D:D,D355)","v":0},{"$f":"SUMIFS(Pays!G:G,Pays!E:E,57,Pays!D:D,D355)","v":0},{"$f":"SUMIF(Pays!D:D,D355,Pays!G:G)","v":0},{"$f":"SUMIF(Pays!D:D,D355,Pays!G:G)/176","v":0},{"$f":"IF(M355=0,IF(ISNA(MATCH(D355,'اطلاعات افراد غیر حقوق بگیر'!A:A,0)),0,LOOKUP(D355,'اطلاعات افراد غیر حقوق بگیر'!A:A,'اطلاعات افراد غیر حقوق بگیر'!F:F)),IF(H355=31,Settings!$D$13,ROUND(M355,0)))","v":0},null,0,{"$f":"IF(ISNA(MATCH(D355,Master!D:D,0)),IF(ISNA(MATCH(D355,'اطلاعات افراد غیر حقوق بگیر'!A:A,0)),0,LOOKUP(D355,'اطلاعات افراد غیر حقوق بگیر'!A:A,'اطلاعات افراد غیر حقوق بگیر'!G:G)),LOOKUP(D355,Master!D:D,Master!J:J))","v":0},{"$error":"#N/A"},0,0,{"$f":"IF(O355>#REF!,\"اخطار ساعت اضافه کار از حداکثر بیشتر است\",\" \")","v":{"$error":"#REF!"}},{"$f":"IF(O355>#REF!,1,0)","v":{"$error":"#REF!"}}]
[353,{"$f":"IF(D356=0,\"\",Settings!$D$6)","v":""},{"$f":"IF(D356=0,\"\",LOOKUP(B356,'Rigion Code'!A:A,'Rigion Code'!B:B))","v":""},null,{"$f":"IF(D356=0,\" \",IF(ISNA(MATCH(D356,Personnel!A:A,0)),IF(ISNA(MATCH(D356,'اطلاعات افراد غیر حقوق بگیر'!A:A,0)),\"وجود ندارد\",LOOKUP(Edit!D356,'اطلاعات افراد غیر حقوق بگیر'!A:A,'اطلاعات افراد غیر حقوق بگیر'!B:B)),LOOKUP(D356,Personnel!A:A,Personnel!C:C)))","v":" "},{"$f":"IF(D356=0,\" \",IF(ISNA(MATCH(D356,Personnel!A:A,0)),IF(ISNA(MATCH(D356,'اطلاعات افراد غیر حقوق بگیر'!A:A,0)),\"وجود ندارد\",LOOKUP(D356,'اطلاعات افراد غیر حقوق بگیر'!A:A,'اطلاعات افراد غیر حقوق بگیر'!C:C)),LOOKUP(D356,Personnel!A:A,Personnel!B:B)))","v":" "},{"$f":"IF(D356=0,0,IF(ISNA(MATCH(D356,Personnel!A:A,0)),IF(ISNA(MATCH(D356,'اطلاعات افراد غیر حقوق بگیر'!A:A,0)),\"وجود ندارد\",LOOKUP(D356,'اطلاعات افراد غیر حقوق بگیر'!A:A,'اطلاعات افراد غیر حقوق بگیر'!D:D)),LOOKUP(D356,Master!D:D,Master!CD:CD)))","v":0},{"$f":"IF(D356=0,\" \",IF(ISNA(MATCH(D356,Personnel!A:A,0)),IF(ISNA(MATCH(D356,'اطلاعات افراد غیر حقوق بگیر'!A:A,0)),\"وجود ندارد\",LOOKUP(D356,'اطلاعات افراد غیر حقوق بگیر'!A:A,'اطلاعات افراد غیر حقوق بگیر'!E:E)),LOOKUP(D356,Master!D:D,Master!AH:AH)))","v":" "},{"$f":"SUMIFS(Pays!G:G,Pays!E:E,1,Pays!D:D,D356)","v":0},{"$f":"SUMIFS(Pays!G:G,Pays!E:E,2,Pays!D:D,D356)","v":0},{"$f":"SUMIFS(Pays!G:G,Pays!E:E,57,Pays!D:D,D356)","v":0},{"$f":"SUMIF(Pays!D:D,D356,Pays!G:G)","v":0},{"$f":"SUMIF(Pays!D:D,D356,Pays!G:G)/176","v":0},{"$f":"IF(M356=0,IF(ISNA(MATCH(D356,'اطلاعات افراد غیر حقوق بگیر'!A:A,0)),0,LOOKUP(D356,'اطلاعات افراد غیر حقوق بگیر'!A:A,'اطلاعات افراد غیر حقوق بگیر'!F:F)),IF(H356=31,Settings!$D$13,ROUND(M356,0)))","v":0},null,0,{"$f":"IF(ISNA(MATCH(D356,Master!D:D,0)),IF(ISNA(MATCH(D356,'اطلاعات افراد غیر حقوق بگیر'!A:A,0)),0,LOOKUP(D356,'اطلاعات افراد غیر حقوق بگیر'!A:A,'اطلاعات افراد غیر حقوق بگیر'!G:G)),LOOKUP(D356,Master!D:D,Master!J:J))","v":0},{"$error":"#N/A"},0,0,{"$f":"IF(O356>#REF!,\"اخطار ساعت اضافه کار از حداکثر بیشتر است\",\" \")","v":{"$error":"#REF!"}},{"$f":"IF(O356>#REF!,1,0)","v":{"$error":"#REF!"}}]
[354,{"$f":"IF(D357=0,\"\",Settings!$D$6)","v":""},{"$f":"IF(D357=0,\"\",LOOKUP(B357,'Rigion Code'!A:A,'Rigion Code'!B:B))","v":""},null,{"$f":"IF(D357=0,\" \",IF(ISNA(MATCH(D357,Personnel!A:A,0)),IF(ISNA(MATCH(D357,'اطلاعات افراد غیر حقوق بگیر'!A:A,0)),\"وجود ندارد\",LOOKUP(Edit!D357,'اطلاعات افراد غیر حقوق بگیر'!A:A,'اطلاعات افراد غیر حقوق بگیر'!B:B)),LOOKUP(D357,Personnel!A:A,Personnel!C:C)))","v":" "},{"$f":"IF(D357=0,\" \",IF(ISNA(MATCH(D357,Personnel!A:A,0)),IF(ISNA(MATCH(D357,'اطلاعات افراد غیر حقوق بگیر'!A:A,0)),\"وجود ندارد\",LOOKUP(D357,'اطلاعات افراد غیر حقوق بگیر'!A:A,'اطلاعات افراد غیر حقوق بگیر'!C:C)),LOOKUP(D357,Personnel!A:A,Personnel!B:B)))","v":" "},{"$f":"IF(D357=0,0,IF(ISNA(MATCH(D357,Personnel!A:A,0)),IF(ISNA(MATCH(D357,'اطلاعات افراد غیر حقوق بگیر'!A:A,0)),\"وجود ندارد\",LOOKUP(D357,'اطلاعات افراد غیر حقوق بگیر'!A:A,'اطلاعات افراد غیر حقوق بگیر'!D:D)),LOOKUP(D357,Master!D:D,Master!CD:CD)))","v":0},{"$f":"IF(D357=0,\" \",IF(ISNA(MATCH(D357,Personnel!A:A,0)),IF(ISNA(MATCH(D357,'اطلاعات افراد غیر حقوق بگیر'!A:A,0)),\"وجود ندارد\",LOOKUP(D357,'اطلاعات افراد غیر حقوق بگیر'!A:A,'اطلاعات افراد غیر حقوق بگیر'!E:E)),LOOKUP(D357,Master!D:D,Master!AH:AH)))","v":" "},{"$f":"SUMIFS(Pays!G:G,Pays!E:E,1,Pays!D:D,D357)","v":0},{"$f":"SUMIFS(Pays!G:G,Pays!E:E,2,Pays!D:D,D357)","v":0},{"$f":"SUMIFS(Pays!G:G,Pays!E:E,57,Pays!D:D,D357)","v":0},{"$f":"SUMIF(Pays!D:D,D357,Pays!G:G)","v":0},{"$f":"SUMIF(Pays!D:D,D357,Pays!G:G)/176","v":0},{"$f":"IF(M357=0,IF(ISNA(MATCH(D357,'اطلاعات افراد غیر حقوق بگیر'!A:A,0)),0,LOOKUP(D357,'اطلاعات افراد غیر حقوق بگیر'!A:A,'اطلاعات افراد غیر حقوق بگیر'!F:F)),IF(H357=31,Settings!$D$13,ROUND(M357,0)))","v":0},null,0,{"$f":"IF(ISNA(MATCH(D357,Master!D:D,0)),IF(ISNA(MATCH(D357,'اطلاعات افراد غیر حقوق بگیر'!A:A,0)),0,LOOKUP(D357,'اطلاعات افراد غیر حقوق بگیر'!A:A,'اطلاعات افراد غیر حقوق بگیر'!G:G)),LOOKUP(D357,Master!D:D,Master!J:J))","v":0},{"$error":"#N/A"},0,0,{"$f":"IF(O357>#REF!,\"اخطار ساعت اضافه کار از حداکثر بیشتر است\",\" \")","v":{"$error":"#REF!"}},{"$f":"IF(O357>#REF!,1,0)","v":{"$error":"#REF!"}}]
[355,{"$f":"IF(D358=0,\"\",Settings!$D$6)","v":""},{"$f":"IF(D358=0,\"\",LOOKUP(B358,'Rigion Code'!A:A,'Rigion Code'!B:B))","v":""},null,{"$f":"IF(D358=0,\" \",IF(ISNA(MATCH(D358,Personnel!A:A,0)),IF(ISNA(MATCH(D358,'اطلاعات افراد غیر حقوق بگیر'!A:A,0)),\"وجود ندارد\",LOOKUP(Edit!D358,'اطلاعات افراد غیر حقوق بگیر'!A:A,'اطلاعات افراد غیر حقوق بگیر'!B:B)),LOOKUP(D358,Personnel!A:A,Personnel!C:C)))","v":" "},{"$f":"IF(D358=0,\" \",IF(ISNA(MATCH(D358,Personnel!A:A,0)),IF(ISNA(MATCH(D358,'اطلاعات افراد غیر حقوق بگیر'!A:A,0)),\"وجود ندارد\",LOOKUP(D358,'اطلاعات افراد غیر حقوق بگیر'!A:A,'اطلاعات افراد غیر حقوق بگیر'!C:C)),LOOKUP(D358,Personnel!A:A,Personnel!B:B)))","v":" "},{"$f":"IF(D358=0,0,IF(ISNA(MATCH(D358,Personnel!A:A,0)),IF(ISNA(MATCH(D358,'اطلاعات افراد غیر حقوق بگیر'!A:A,0)),\"وجود ندارد\",LOOKUP(D358,'اطلاعات افراد غیر حقوق بگیر'!A:A,'اطلاعات افراد غیر حقوق بگیر'!D:D)),LOOKUP(D358,Master!D:D,Master!CD:CD)))","v":0},{"$f":"IF(D358=0,\" \",IF(ISNA(MATCH(D358,Personnel!A:A,0)),IF(ISNA(MATCH(D358,'اطلاعات افراد غیر حقوق بگیر'!A:A,0)),\"وجود ندارد\",LOOKUP(D358,'اطلاعات افراد غیر حقوق بگیر'!A:A,'اطلاعات افراد غیر حقوق بگیر'!E:E)),LOOKUP(D358,Master!D:D,Master!AH:AH)))","v":" "},{"$f":"SUMIFS(Pays!G:G,Pays!E:E,1,Pays!D:D,D358)","v":0},{"$f":"SUMIFS(Pays!G:G,Pays!E:E,2,Pays!D:D,D358)","v":0},{"$f":"SUMIFS(Pays!G:G,Pays!E:E,57,Pays!D:D,D358)","v":0},{"$f":"SUMIF(Pays!D:D,D358,Pays!G:G)","v":0},{"$f":"SUMIF(Pays!D:D,D358,Pays!G:G)/176","v":0},{"$f":"IF(M358=0,IF(ISNA(MATCH(D358,'اطلاعات افراد غیر حقوق بگیر'!A:A,0)),0,LOOKUP(D358,'اطلاعات افراد غیر حقوق بگیر'!A:A,'اطلاعات افراد غیر حقوق بگیر'!F:F)),IF(H358=31,Settings!$D$13,ROUND(M358,0)))","v":0},null,0,{"$f":"IF(ISNA(MATCH(D358,Master!D:D,0)),IF(ISNA(MATCH(D358,'اطلاعات افراد غیر حقوق بگیر'!A:A,0)),0,LOOKUP(D358,'اطلاعات افراد غیر حقوق بگیر'!A:A,'اطلاعات افراد غیر حقوق بگیر'!G:G)),LOOKUP(D358,Master!D:D,Master!J:J))","v":0},{"$error":"#N/A"},0,0,{"$f":"IF(O358>#REF!,\"اخطار ساعت اضافه کار از حداکثر بیشتر است\",\" \")","v":{"$error":"#REF!"}},{"$f":"IF(O358>#REF!,1,0)","v":{"$error":"#REF!"}}]
[356,{"$f":"IF(D359=0,\"\",Settings!$D$6)","v":""},{"$f":"IF(D359=0,\"\",LOOKUP(B359,'Rigion Code'!A:A,'Rigion Code'!B:B))","v":""},null,{"$f":"IF(D359=0,\" \",IF(ISNA(MATCH(D359,Personnel!A:A,0)),IF(ISNA(MATCH(D359,'اطلاعات افراد غیر حقوق بگیر'!A:A,0)),\"وجود ندارد\",LOOKUP(Edit!D359,'اطلاعات افراد غیر حقوق بگیر'!A:A,'اطلاعات افراد غیر حقوق بگیر'!B:B)),LOOKUP(D359,Personnel!A:A,Personnel!C:C)))","v":" "},{"$f":"IF(D359=0,\" \",IF(ISNA(MATCH(D359,Personnel!A:A,0)),IF(ISNA(MATCH(D359,'اطلاعات افراد غیر حقوق بگیر'!A:A,0)),\"وجود ندارد\",LOOKUP(D359,'اطلاعات افراد غیر حقوق بگیر'!A:A,'اطلاعات افراد غیر حقوق بگیر'!C:C)),LOOKUP(D359,Personnel!A:A,Personnel!B:B)))","v":" "},{"$f":"IF(D359=0,0,IF(ISNA(MATCH(D359,Personnel!A:A,0)),IF(ISNA(MATCH(D359,'اطلاعات افراد غیر حقوق بگیر'!A:A,0)),\"وجود ندارد\",LOOKUP(D359,'اطلاعات افراد غیر حقوق بگیر'!A:A,'اطلاعات افراد غیر حقوق بگیر'!D:D)),LOOKUP(D359,Master!D:D,Master!CD:CD)))","v":0},{"$f":"IF(D359=0,\" \",IF(ISNA(MATCH(D359,Personnel!A:A,0)),IF(ISNA(MATCH(D359,'اطلاعات افراد غیر حقوق بگیر'!A:A,0)),\"وجود ندارد\",LOOKUP(D359,'اطلاعات افراد غیر حقوق بگیر'!A:A,'اطلاعات افراد غیر حقوق بگیر'!E:E)),LOOKUP(D359,Master!D:D,Master!AH:AH)))","v":" "},{"$f":"SUMIFS(Pays!G:G,Pays!E:E,1,Pays!D:D,D359)","v":0},{"$f":"SUMIFS(Pays!G:G,Pays!E:E,2,Pays!D:D,D359)","v":0},{"$f":"SUMIFS(Pays!G:G,Pays!E:E,57,Pays!D:D,D359)","v":0},{"$f":"SUMIF(Pays!D:D,D359,Pays!G:G)","v":0},{"$f":"SUMIF(Pays!D:D,D359,Pays!G:G)/176","v":0},{"$f":"IF(M359=0,IF(ISNA(MATCH(D359,'اطلاعات افراد غیر حقوق بگیر'!A:A,0)),0,LOOKUP(D359,'اطلاعات افراد غیر حقوق بگیر'!A:A,'اطلاعات افراد غیر حقوق بگیر'!F:F)),IF(H359=31,Settings!$D$13,ROUND(M359,0)))","v":0},null,0,{"$f":"IF(ISNA(MATCH(D359,Master!D:D,0)),IF(ISNA(MATCH(D359,'اطلاعات افراد غیر حقوق بگیر'!A:A,0)),0,LOOKUP(D359,'اطلاعات افراد غیر حقوق بگیر'!A:A,'اطلاعات افراد غیر حقوق بگیر'!G:G)),LOOKUP(D359,Master!D:D,Master!J:J))","v":0},{"$error":"#N/A"},0,0,{"$f":"IF(O359>#REF!,\"اخطار ساعت اضافه کار از حداکثر بیشتر است\",\" \")","v":{"$error":"#REF!"}},{"$f":"IF(O359>#REF!,1,0)","v":{"$error":"#REF!"}}]
[357,{"$f":"IF(D360=0,\"\",Settings!$D$6)","v":""},{"$f":"IF(D360=0,\"\",LOOKUP(B360,'Rigion Code'!A:A,'Rigion Code'!B:B))","v":""},null,{"$f":"IF(D360=0,\" \",IF(ISNA(MATCH(D360,Personnel!A:A,0)),IF(ISNA(MATCH(D360,'اطلاعات افراد غیر حقوق بگیر'!A:A,0)),\"وجود ندارد\",LOOKUP(Edit!D360,'اطلاعات افراد غیر حقوق بگیر'!A:A,'اطلاعات افراد غیر حقوق بگیر'!B:B)),LOOKUP(D360,Personnel!A:A,Personnel!C:C)))","v":" "},{"$f":"IF(D360=0,\" \",IF(ISNA(MATCH(D360,Personnel!A:A,0)),IF(ISNA(MATCH(D360,'اطلاعات افراد غیر حقوق بگیر'!A:A,0)),\"وجود ندارد\",LOOKUP(D360,'اطلاعات افراد غیر حقوق بگیر'!A:A,'اطلاعات افراد غیر حقوق بگیر'!C:C)),LOOKUP(D360,Personnel!A:A,Personnel!B:B)))","v":" "},{"$f":"IF(D360=0,0,IF(ISNA(MATCH(D360,Personnel!A:A,0)),IF(ISNA(MATCH(D360,'اطلاعات افراد غیر حقوق بگیر'!A:A,0)),\"وجود ندارد\",LOOKUP(D360,'اطلاعات افراد غیر حقوق بگیر'!A:A,'اطلاعات افراد غیر حقوق بگیر'!D:D)),LOOKUP(D360,Master!D:D,Master!CD:CD)))","v":0},{"$f":"IF(D360=0,\" \",IF(ISNA(MATCH(D360,Personnel!A:A,0)),IF(ISNA(MATCH(D360,'اطلاعات افراد غیر حقوق بگیر'!A:A,0)),\"وجود ندارد\",LOOKUP(D360,'اطلاعات افراد غیر حقوق بگیر'!A:A,'اطلاعات افراد غیر حقوق بگیر'!E:E)),LOOKUP(D360,Master!D:D,Master!AH:AH)))","v":" "},{"$f":"SUMIFS(Pays!G:G,Pays!E:E,1,Pays!D:D,D360)","v":0},{"$f":"SUMIFS(Pays!G:G,Pays!E:E,2,Pays!D:D,D360)","v":0},{"$f":"SUMIFS(Pays!G:G,Pays!E:E,57,Pays!D:D,D360)","v":0},{"$f":"SUMIF(Pays!D:D,D360,Pays!G:G)","v":0},{"$f":"SUMIF(Pays!D:D,D360,Pays!G:G)/176","v":0},{"$f":"IF(M360=0,IF(ISNA(MATCH(D360,'اطلاعات افراد غیر حقوق بگیر'!A:A,0)),0,LOOKUP(D360,'اطلاعات افراد غیر حقوق بگیر'!A:A,'اطلاعات افراد غیر حقوق بگیر'!F:F)),IF(H360=31,Settings!$D$13,ROUND(M360,0)))","v":0},null,0,{"$f":"IF(ISNA(MATCH(D360,Master!D:D,0)),IF(ISNA(MATCH(D360,'اطلاعات افراد غیر حقوق بگیر'!A:A,0)),0,LOOKUP(D360,'اطلاعات افراد غیر حقوق بگیر'!A:A,'اطلاعات افراد غیر حقوق بگیر'!G:G)),LOOKUP(D360,Master!D:D,Master!J:J))","v":0},{"$error":"#N/A"},0,0,{"$f":"IF(O360>#REF!,\"اخطار ساعت اضافه کار از حداکثر بیشتر است\",\" \")","v":{"$error":"#REF!"}},{"$f":"IF(O360>#REF!,1,0)","v":{"$error":"#REF!"}}]
[358,{"$f":"IF(D361=0,\"\",Settings!$D$6)","v":""},{"$f":"IF(D361=0,\"\",LOOKUP(B361,'Rigion Code'!A:A,'Rigion Code'!B:B))","v":""},null,{"$f":"IF(D361=0,\" \",IF(ISNA(MATCH(D361,Personnel!A:A,0)),IF(ISNA(MATCH(D361,'اطلاعات افراد غیر حقوق بگیر'!A:A,0)),\"وجود ندارد\",LOOKUP(Edit!D361,'اطلاعات افراد غیر حقوق بگیر'!A:A,'اطلاعات افراد غیر حقوق بگیر'!B:B)),LOOKUP(D361,Personnel!A:A,Personnel!C:C)))","v":" "},{"$f":"IF(D361=0,\" \",IF(ISNA(MATCH(D361,Personnel!A:A,0)),IF(ISNA(MATCH(D361,'اطلاعات افراد غیر حقوق بگیر'!A:A,0)),\"وجود ندارد\",LOOKUP(D361,'اطلاعات افراد غیر حقوق بگیر'!A:A,'اطلاعات افراد غیر حقوق بگیر'!C:C)),LOOKUP(D361,Personnel!A:A,Personnel!B:B)))","v":" "},{"$f":"IF(D361=0,0,IF(ISNA(MATCH(D361,Personnel!A:A,0)),IF(ISNA(MATCH(D361,'اطلاعات افراد غیر حقوق بگیر'!A:A,0)),\"وجود ندارد\",LOOKUP(D361,'اطلاعات افراد غیر حقوق بگیر'!A:A,'اطلاعات افراد غیر حقوق بگیر'!D:D)),LOOKUP(D361,Master!D:D,Master!CD:CD)))","v":0},{"$f":"IF(D361=0,\" \",IF(ISNA(MATCH(D361,Personnel!A:A,0)),IF(ISNA(MATCH(D361,'اطلاعات افراد غیر حقوق بگیر'!A:A,0)),\"وجود ندارد\",LOOKUP(D361,'اطلاعات افراد غیر حقوق بگیر'!A:A,'اطلاعات افراد غیر حقوق بگیر'!E:E)),LOOKUP(D361,Master!D:D,Master!AH:AH)))","v":" "},{"$f":"SUMIFS(Pays!G:G,Pays!E:E,1,Pays!D:D,D361)","v":0},{"$f":"SUMIFS(Pays!G:G,Pays!E:E,2,Pays!D:D,D361)","v":0},{"$f":"SUMIFS(Pays!G:G,Pays!E:E,57,Pays!D:D,D361)","v":0},{"$f":"SUMIF(Pays!D:D,D361,Pays!G:G)","v":0},{"$f":"SUMIF(Pays!D:D,D361,Pays!G:G)/176","v":0},{"$f":"IF(M361=0,IF(ISNA(MATCH(D361,'اطلاعات افراد غیر حقوق بگیر'!A:A,0)),0,LOOKUP(D361,'اطلاعات افراد غیر حقوق بگیر'!A:A,'اطلاعات افراد غیر حقوق بگیر'!F:F)),IF(H361=31,Settings!$D$13,ROUND(M361,0)))","v":0},null,0,{"$f":"IF(ISNA(MATCH(D361,Master!D:D,0)),IF(ISNA(MATCH(D361,'اطلاعات افراد غیر حقوق بگیر'!A:A,0)),0,LOOKUP(D361,'اطلاعات افراد غیر حقوق بگیر'!A:A,'اطلاعات افراد غیر حقوق بگیر'!G:G)),LOOKUP(D361,Master!D:D,Master!J:J))","v":0},{"$error":"#N/A"},0,0,{"$f":"IF(O361>#REF!,\"اخطار ساعت اضافه کار از حداکثر بیشتر است\",\" \")","v":{"$error":"#REF!"}},{"$f":"IF(O361>#REF!,1,0)","v":{"$error":"#REF!"}}]
[359,{"$f":"IF(D362=0,\"\",Settings!$D$6)","v":""},{"$f":"IF(D362=0,\"\",LOOKUP(B362,'Rigion Code'!A:A,'Rigion Code'!B:B))","v":""},null,{"$f":"IF(D362=0,\" \",IF(ISNA(MATCH(D362,Personnel!A:A,0)),IF(ISNA(MATCH(D362,'اطلاعات افراد غیر حقوق بگیر'!A:A,0)),\"وجود ندارد\",LOOKUP(Edit!D362,'اطلاعات افراد غیر حقوق بگیر'!A:A,'اطلاعات افراد غیر حقوق بگیر'!B:B)),LOOKUP(D362,Personnel!A:A,Personnel!C:C)))","v":" "},{"$f":"IF(D362=0,\" \",IF(ISNA(MATCH(D362,Personnel!A:A,0)),IF(ISNA(MATCH(D362,'اطلاعات افراد غیر حقوق بگیر'!A:A,0)),\"وجود ندارد\",LOOKUP(D362,'اطلاعات افراد غیر حقوق بگیر'!A:A,'اطلاعات افراد غیر حقوق بگیر'!C:C)),LOOKUP(D362,Personnel!A:A,Personnel!B:B)))","v":" "},{"$f":"IF(D362=0,0,IF(ISNA(MATCH(D362,Personnel!A:A,0)),IF(ISNA(MATCH(D362,'اطلاعات افراد غیر حقوق بگیر'!A:A,0)),\"وجود ندارد\",LOOKUP(D362,'اطلاعات افراد غیر حقوق بگیر'!A:A,'اطلاعات افراد غیر حقوق بگیر'!D:D)),LOOKUP(D362,Master!D:D,Master!CD:CD)))","v":0},{"$f":"IF(D362=0,\" \",IF(ISNA(MATCH(D362,Personnel!A:A,0)),IF(ISNA(MATCH(D362,'اطلاعات افراد غیر حقوق بگیر'!A:A,0)),\"وجود ندارد\",LOOKUP(D362,'اطلاعات افراد غیر حقوق بگیر'!A:A,'اطلاعات افراد غیر حقوق بگیر'!E:E)),LOOKUP(D362,Master!D:D,Master!AH:AH)))","v":" "},{"$f":"SUMIFS(Pays!G:G,Pays!E:E,1,Pays!D:D,D362)","v":0},{"$f":"SUMIFS(Pays!G:G,Pays!E:E,2,Pays!D:D,D362)","v":0},{"$f":"SUMIFS(Pays!G:G,Pays!E:E,57,Pays!D:D,D362)","v":0},{"$f":"SUMIF(Pays!D:D,D362,Pays!G:G)","v":0},{"$f":"SUMIF(Pays!D:D,D362,Pays!G:G)/176","v":0},{"$f":"IF(M362=0,IF(ISNA(MATCH(D362,'اطلاعات افراد غیر حقوق بگیر'!A:A,0)),0,LOOKUP(D362,'اطلاعات افراد غیر حقوق بگیر'!A:A,'اطلاعات افراد غیر حقوق بگیر'!F:F)),IF(H362=31,Settings!$D$13,ROUND(M362,0)))","v":0},null,0,{"$f":"IF(ISNA(MATCH(D362,Master!D:D,0)),IF(ISNA(MATCH(D362,'اطلاعات افراد غیر حقوق بگیر'!A:A,0)),0,LOOKUP(D362,'اطلاعات افراد غیر حقوق بگیر'!A:A,'اطلاعات افراد غیر حقوق بگیر'!G:G)),LOOKUP(D362,Master!D:D,Master!J:J))","v":0},{"$error":"#N/A"},0,0,{"$f":"IF(O362>#REF!,\"اخطار ساعت اضافه کار از حداکثر بیشتر است\",\" \")","v":{"$error":"#REF!"}},{"$f":"IF(O362>#REF!,1,0)","v":{"$error":"#REF!"}}]
[360,{"$f":"IF(D363=0,\"\",Settings!$D$6)","v":""},{"$f":"IF(D363=0,\"\",LOOKUP(B363,'Rigion Code'!A:A,'Rigion Code'!B:B))","v":""},null,{"$f":"IF(D363=0,\" \",IF(ISNA(MATCH(D363,Personnel!A:A,0)),IF(ISNA(MATCH(D363,'اطلاعات افراد غیر حقوق بگیر'!A:A,0)),\"وجود ندارد\",LOOKUP(Edit!D363,'اطلاعات افراد غیر حقوق بگیر'!A:A,'اطلاعات افراد غیر حقوق بگیر'!B:B)),LOOKUP(D363,Personnel!A:A,Personnel!C:C)))","v":" "},{"$f":"IF(D363=0,\" \",IF(ISNA(MATCH(D363,Personnel!A:A,0)),IF(ISNA(MATCH(D363,'اطلاعات افراد غیر حقوق بگیر'!A:A,0)),\"وجود ندارد\",LOOKUP(D363,'اطلاعات افراد غیر حقوق بگیر'!A:A,'اطلاعات افراد غیر حقوق بگیر'!C:C)),LOOKUP(D363,Personnel!A:A,Personnel!B:B)))","v":" "},{"$f":"IF(D363=0,0,IF(ISNA(MATCH(D363,Personnel!A:A,0)),IF(ISNA(MATCH(D363,'اطلاعات افراد غیر حقوق بگیر'!A:A,0)),\"وجود ندارد\",LOOKUP(D363,'اطلاعات افراد غیر حقوق بگیر'!A:A,'اطلاعات افراد غیر حقوق بگیر'!D:D)),LOOKUP(D363,Master!D:D,Master!CD:CD)))","v":0},{"$f":"IF(D363=0,\" \",IF(ISNA(MATCH(D363,Personnel!A:A,0)),IF(ISNA(MATCH(D363,'اطلاعات افراد غیر حقوق بگیر'!A:A,0)),\"وجود ندارد\",LOOKUP(D363,'اطلاعات افراد غیر حقوق بگیر'!A:A,'اطلاعات افراد غیر حقوق بگیر'!E:E)),LOOKUP(D363,Master!D:D,Master!AH:AH)))","v":" "},{"$f":"SUMIFS(Pays!G:G,Pays!E:E,1,Pays!D:D,D363)","v":0},{"$f":"SUMIFS(Pays!G:G,Pays!E:E,2,Pays!D:D,D363)","v":0},{"$f":"SUMIFS(Pays!G:G,Pays!E:E,57,Pays!D:D,D363)","v":0},{"$f":"SUMIF(Pays!D:D,D363,Pays!G:G)","v":0},{"$f":"SUMIF(Pays!D:D,D363,Pays!G:G)/176","v":0},{"$f":"IF(M363=0,IF(ISNA(MATCH(D363,'اطلاعات افراد غیر حقوق بگیر'!A:A,0)),0,LOOKUP(D363,'اطلاعات افراد غیر حقوق بگیر'!A:A,'اطلاعات افراد غیر حقوق بگیر'!F:F)),IF(H363=31,Settings!$D$13,ROUND(M363,0)))","v":0},null,0,{"$f":"IF(ISNA(MATCH(D363,Master!D:D,0)),IF(ISNA(MATCH(D363,'اطلاعات افراد غیر حقوق بگیر'!A:A,0)),0,LOOKUP(D363,'اطلاعات افراد غیر حقوق بگیر'!A:A,'اطلاعات افراد غیر حقوق بگیر'!G:G)),LOOKUP(D363,Master!D:D,Master!J:J))","v":0},{"$error":"#N/A"},0,0,{"$f":"IF(O363>#REF!,\"اخطار ساعت اضافه کار از حداکثر بیشتر است\",\" \")","v":{"$error":"#REF!"}},{"$f":"IF(O363>#REF!,1,0)","v":{"$error":"#REF!"}}]
[361,{"$f":"IF(D364=0,\"\",Settings!$D$6)","v":""},{"$f":"IF(D364=0,\"\",LOOKUP(B364,'Rigion Code'!A:A,'Rigion Code'!B:B))","v":""},null,{"$f":"IF(D364=0,\" \",IF(ISNA(MATCH(D364,Personnel!A:A,0)),IF(ISNA(MATCH(D364,'اطلاعات افراد غیر حقوق بگیر'!A:A,0)),\"وجود ندارد\",LOOKUP(Edit!D364,'اطلاعات افراد غیر حقوق بگیر'!A:A,'اطلاعات افراد غیر حقوق بگیر'!B:B)),LOOKUP(D364,Personnel!A:A,Personnel!C:C)))","v":" "},{"$f":"IF(D364=0,\" \",IF(ISNA(MATCH(D364,Personnel!A:A,0)),IF(ISNA(MATCH(D364,'اطلاعات افراد غیر حقوق بگیر'!A:A,0)),\"وجود ندارد\",LOOKUP(D364,'اطلاعات افراد غیر حقوق بگیر'!A:A,'اطلاعات افراد غیر حقوق بگیر'!C:C)),LOOKUP(D364,Personnel!A:A,Personnel!B:B)))","v":" "},{"$f":"IF(D364=0,0,IF(ISNA(MATCH(D364,Personnel!A:A,0)),IF(ISNA(MATCH(D364,'اطلاعات افراد غیر حقوق بگیر'!A:A,0)),\"وجود ندارد\",LOOKUP(D364,'اطلاعات افراد غیر حقوق بگیر'!A:A,'اطلاعات افراد غیر حقوق بگیر'!D:D)),LOOKUP(D364,Master!D:D,Master!CD:CD)))","v":0},{"$f":"IF(D364=0,\" \",IF(ISNA(MATCH(D364,Personnel!A:A,0)),IF(ISNA(MATCH(D364,'اطلاعات افراد غیر حقوق بگیر'!A:A,0)),\"وجود ندارد\",LOOKUP(D364,'اطلاعات افراد غیر حقوق بگیر'!A:A,'اطلاعات افراد غیر حقوق بگیر'!E:E)),LOOKUP(D364,Master!D:D,Master!AH:AH)))","v":" "},{"$f":"SUMIFS(Pays!G:G,Pays!E:E,1,Pays!D:D,D364)","v":0},{"$f":"SUMIFS(Pays!G:G,Pays!E:E,2,Pays!D:D,D364)","v":0},{"$f":"SUMIFS(Pays!G:G,Pays!E:E,57,Pays!D:D,D364)","v":0},{"$f":"SUMIF(Pays!D:D,D364,Pays!G:G)","v":0},{"$f":"SUMIF(Pays!D:D,D364,Pays!G:G)/176","v":0},{"$f":"IF(M364=0,IF(ISNA(MATCH(D364,'اطلاعات افراد غیر حقوق بگیر'!A:A,0)),0,LOOKUP(D364,'اطلاعات افراد غیر حقوق بگیر'!A:A,'اطلاعات افراد غیر حقوق بگیر'!F:F)),IF(H364=31,Settings!$D$13,ROUND(M364,0)))","v":0},null,0,{"$f":"IF(ISNA(MATCH(D364,Master!D:D,0)),IF(ISNA(MATCH(D364,'اطلاعات افراد غیر حقوق بگیر'!A:A,0)),0,LOOKUP(D364,'اطلاعات افراد غیر حقوق بگیر'!A:A,'اطلاعات افراد غیر حقوق بگیر'!G:G)),LOOKUP(D364,Master!D:D,Master!J:J))","v":0},{"$error":"#N/A"},0,0,{"$f":"IF(O364>#REF!,\"اخطار ساعت اضافه کار از حداکثر بیشتر است\",\" \")","v":{"$error":"#REF!"}},{"$f":"IF(O364>#REF!,1,0)","v":{"$error":"#REF!"}}]
[362,{"$f":"IF(D365=0,\"\",Settings!$D$6)","v":""},{"$f":"IF(D365=0,\"\",LOOKUP(B365,'Rigion Code'!A:A,'Rigion Code'!B:B))","v":""},null,{"$f":"IF(D365=0,\" \",IF(ISNA(MATCH(D365,Personnel!A:A,0)),IF(ISNA(MATCH(D365,'اطلاعات افراد غیر حقوق بگیر'!A:A,0)),\"وجود ندارد\",LOOKUP(Edit!D365,'اطلاعات افراد غیر حقوق بگیر'!A:A,'اطلاعات افراد غیر حقوق بگیر'!B:B)),LOOKUP(D365,Personnel!A:A,Personnel!C:C)))","v":" "},{"$f":"IF(D365=0,\" \",IF(ISNA(MATCH(D365,Personnel!A:A,0)),IF(ISNA(MATCH(D365,'اطلاعات افراد غیر حقوق بگیر'!A:A,0)),\"وجود ندارد\",LOOKUP(D365,'اطلاعات افراد غیر حقوق بگیر'!A:A,'اطلاعات افراد غیر حقوق بگیر'!C:C)),LOOKUP(D365,Personnel!A:A,Personnel!B:B)))","v":" "},{"$f":"IF(D365=0,0,IF(ISNA(MATCH(D365,Personnel!A:A,0)),IF(ISNA(MATCH(D365,'اطلاعات افراد غیر حقوق بگیر'!A:A,0)),\"وجود ندارد\",LOOKUP(D365,'اطلاعات افراد غیر حقوق بگیر'!A:A,'اطلاعات افراد غیر حقوق بگیر'!D:D)),LOOKUP(D365,Master!D:D,Master!CD:CD)))","v":0},{"$f":"IF(D365=0,\" \",IF(ISNA(MATCH(D365,Personnel!A:A,0)),IF(ISNA(MATCH(D365,'اطلاعات افراد غیر حقوق بگیر'!A:A,0)),\"وجود ندارد\",LOOKUP(D365,'اطلاعات افراد غیر حقوق بگیر'!A:A,'اطلاعات افراد غیر حقوق بگیر'!E:E)),LOOKUP(D365,Master!D:D,Master!AH:AH)))","v":" "},{"$f":"SUMIFS(Pays!G:G,Pays!E:E,1,Pays!D:D,D365)","v":0},{"$f":"SUMIFS(Pays!G:G,Pays!E:E,2,Pays!D:D,D365)","v":0},{"$f":"SUMIFS(Pays!G:G,Pays!E:E,57,Pays!D:D,D365)","v":0},{"$f":"SUMIF(Pays!D:D,D365,Pays!G:G)","v":0},{"$f":"SUMIF(Pays!D:D,D365,Pays!G:G)/176","v":0},{"$f":"IF(M365=0,IF(ISNA(MATCH(D365,'اطلاعات افراد غیر حقوق بگیر'!A:A,0)),0,LOOKUP(D365,'اطلاعات افراد غیر حقوق بگیر'!A:A,'اطلاعات افراد غیر حقوق بگیر'!F:F)),IF(H365=31,Settings!$D$13,ROUND(M365,0)))","v":0},null,0,{"$f":"IF(ISNA(MATCH(D365,Master!D:D,0)),IF(ISNA(MATCH(D365,'اطلاعات افراد غیر حقوق بگیر'!A:A,0)),0,LOOKUP(D365,'اطلاعات افراد غیر حقوق بگیر'!A:A,'اطلاعات افراد غیر حقوق بگیر'!G:G)),LOOKUP(D365,Master!D:D,Master!J:J))","v":0},{"$error":"#N/A"},0,0,{"$f":"IF(O365>#REF!,\"اخطار ساعت اضافه کار از حداکثر بیشتر است\",\" \")","v":{"$error":"#REF!"}},{"$f":"IF(O365>#REF!,1,0)","v":{"$error":"#REF!"}}]
[363,{"$f":"IF(D366=0,\"\",Settings!$D$6)","v":""},{"$f":"IF(D366=0,\"\",LOOKUP(B366,'Rigion Code'!A:A,'Rigion Code'!B:B))","v":""},null,{"$f":"IF(D366=0,\" \",IF(ISNA(MATCH(D366,Personnel!A:A,0)),IF(ISNA(MATCH(D366,'اطلاعات افراد غیر حقوق بگیر'!A:A,0)),\"وجود ندارد\",LOOKUP(Edit!D366,'اطلاعات افراد غیر حقوق بگیر'!A:A,'اطلاعات افراد غیر حقوق بگیر'!B:B)),LOOKUP(D366,Personnel!A:A,Personnel!C:C)))","v":" "},{"$f":"IF(D366=0,\" \",IF(ISNA(MATCH(D366,Personnel!A:A,0)),IF(ISNA(MATCH(D366,'اطلاعات افراد غیر حقوق بگیر'!A:A,0)),\"وجود ندارد\",LOOKUP(D366,'اطلاعات افراد غیر حقوق بگیر'!A:A,'اطلاعات افراد غیر حقوق بگیر'!C:C)),LOOKUP(D366,Personnel!A:A,Personnel!B:B)))","v":" "},{"$f":"IF(D366=0,0,IF(ISNA(MATCH(D366,Personnel!A:A,0)),IF(ISNA(MATCH(D366,'اطلاعات افراد غیر حقوق بگیر'!A:A,0)),\"وجود ندارد\",LOOKUP(D366,'اطلاعات افراد غیر حقوق بگیر'!A:A,'اطلاعات افراد غیر حقوق بگیر'!D:D)),LOOKUP(D366,Master!D:D,Master!CD:CD)))","v":0},{"$f":"IF(D366=0,\" \",IF(ISNA(MATCH(D366,Personnel!A:A,0)),IF(ISNA(MATCH(D366,'اطلاعات افراد غیر حقوق بگیر'!A:A,0)),\"وجود ندارد\",LOOKUP(D366,'اطلاعات افراد غیر حقوق بگیر'!A:A,'اطلاعات افراد غیر حقوق بگیر'!E:E)),LOOKUP(D366,Master!D:D,Master!AH:AH)))","v":" "},{"$f":"SUMIFS(Pays!G:G,Pays!E:E,1,Pays!D:D,D366)","v":0},{"$f":"SUMIFS(Pays!G:G,Pays!E:E,2,Pays!D:D,D366)","v":0},{"$f":"SUMIFS(Pays!G:G,Pays!E:E,57,Pays!D:D,D366)","v":0},{"$f":"SUMIF(Pays!D:D,D366,Pays!G:G)","v":0},{"$f":"SUMIF(Pays!D:D,D366,Pays!G:G)/176","v":0},{"$f":"IF(M366=0,IF(ISNA(MATCH(D366,'اطلاعات افراد غیر حقوق بگیر'!A:A,0)),0,LOOKUP(D366,'اطلاعات افراد غیر حقوق بگیر'!A:A,'اطلاعات افراد غیر حقوق بگیر'!F:F)),IF(H366=31,Settings!$D$13,ROUND(M366,0)))","v":0},null,0,{"$f":"IF(ISNA(MATCH(D366,Master!D:D,0)),IF(ISNA(MATCH(D366,'اطلاعات افراد غیر حقوق بگیر'!A:A,0)),0,LOOKUP(D366,'اطلاعات افراد غیر حقوق بگیر'!A:A,'اطلاعات افراد غیر حقوق بگیر'!G:G)),LOOKUP(D366,Master!D:D,Master!J:J))","v":0},{"$error":"#N/A"},0,0,{"$f":"IF(O366>#REF!,\"اخطار ساعت اضافه کار از حداکثر بیشتر است\",\" \")","v":{"$error":"#REF!"}},{"$f":"IF(O366>#REF!,1,0)","v":{"$error":"#REF!"}}]
[364,{"$f":"IF(D367=0,\"\",Settings!$D$6)","v":""},{"$f":"IF(D367=0,\"\",LOOKUP(B367,'Rigion Code'!A:A,'Rigion Code'!B:B))","v":""},null,{"$f":"IF(D367=0,\" \",IF(ISNA(MATCH(D367,Personnel!A:A,0)),IF(ISNA(MATCH(D367,'اطلاعات افراد غیر حقوق بگیر'!A:A,0)),\"وجود ندارد\",LOOKUP(Edit!D367,'اطلاعات افراد غیر حقوق بگیر'!A:A,'اطلاعات افراد غیر حقوق بگیر'!B:B)),LOOKUP(D367,Personnel!A:A,Personnel!C:C)))","v":" "},{"$f":"IF(D367=0,\" \",IF(ISNA(MATCH(D367,Personnel!A:A,0)),IF(ISNA(MATCH(D367,'اطلاعات افراد غیر حقوق بگیر'!A:A,0)),\"وجود ندارد\",LOOKUP(D367,'اطلاعات افراد غیر حقوق بگیر'!A:A,'اطلاعات افراد غیر حقوق بگیر'!C:C)),LOOKUP(D367,Personnel!A:A,Personnel!B:B)))","v":" "},{"$f":"IF(D367=0,0,IF(ISNA(MATCH(D367,Personnel!A:A,0)),IF(ISNA(MATCH(D367,'اطلاعات افراد غیر حقوق بگیر'!A:A,0)),\"وجود ندارد\",LOOKUP(D367,'اطلاعات افراد غیر حقوق بگیر'!A:A,'اطلاعات افراد غیر حقوق بگیر'!D:D)),LOOKUP(D367,Master!D:D,Master!CD:CD)))","v":0},{"$f":"IF(D367=0,\" \",IF(ISNA(MATCH(D367,Personnel!A:A,0)),IF(ISNA(MATCH(D367,'اطلاعات افراد غیر حقوق بگیر'!A:A,0)),\"وجود ندارد\",LOOKUP(D367,'اطلاعات افراد غیر حقوق بگیر'!A:A,'اطلاعات افراد غیر حقوق بگیر'!E:E)),LOOKUP(D367,Master!D:D,Master!AH:AH)))","v":" "},{"$f":"SUMIFS(Pays!G:G,Pays!E:E,1,Pays!D:D,D367)","v":0},{"$f":"SUMIFS(Pays!G:G,Pays!E:E,2,Pays!D:D,D367)","v":0},{"$f":"SUMIFS(Pays!G:G,Pays!E:E,57,Pays!D:D,D367)","v":0},{"$f":"SUMIF(Pays!D:D,D367,Pays!G:G)","v":0},{"$f":"SUMIF(Pays!D:D,D367,Pays!G:G)/176","v":0},{"$f":"IF(M367=0,IF(ISNA(MATCH(D367,'اطلاعات افراد غیر حقوق بگیر'!A:A,0)),0,LOOKUP(D367,'اطلاعات افراد غیر حقوق بگیر'!A:A,'اطلاعات افراد غیر حقوق بگیر'!F:F)),IF(H367=31,Settings!$D$13,ROUND(M367,0)))","v":0},null,0,{"$f":"IF(ISNA(MATCH(D367,Master!D:D,0)),IF(ISNA(MATCH(D367,'اطلاعات افراد غیر حقوق بگیر'!A:A,0)),0,LOOKUP(D367,'اطلاعات افراد غیر حقوق بگیر'!A:A,'اطلاعات افراد غیر حقوق بگیر'!G:G)),LOOKUP(D367,Master!D:D,Master!J:J))","v":0},{"$error":"#N/A"},0,0,{"$f":"IF(O367>#REF!,\"اخطار ساعت اضافه کار از حداکثر بیشتر است\",\" \")","v":{"$error":"#REF!"}},{"$f":"IF(O367>#REF!,1,0)","v":{"$error":"#REF!"}}]
[365,{"$f":"IF(D368=0,\"\",Settings!$D$6)","v":""},{"$f":"IF(D368=0,\"\",LOOKUP(B368,'Rigion Code'!A:A,'Rigion Code'!B:B))","v":""},null,{"$f":"IF(D368=0,\" \",IF(ISNA(MATCH(D368,Personnel!A:A,0)),IF(ISNA(MATCH(D368,'اطلاعات افراد غیر حقوق بگیر'!A:A,0)),\"وجود ندارد\",LOOKUP(Edit!D368,'اطلاعات افراد غیر حقوق بگیر'!A:A,'اطلاعات افراد غیر حقوق بگیر'!B:B)),LOOKUP(D368,Personnel!A:A,Personnel!C:C)))","v":" "},{"$f":"IF(D368=0,\" \",IF(ISNA(MATCH(D368,Personnel!A:A,0)),IF(ISNA(MATCH(D368,'اطلاعات افراد غیر حقوق بگیر'!A:A,0)),\"وجود ندارد\",LOOKUP(D368,'اطلاعات افراد غیر حقوق بگیر'!A:A,'اطلاعات افراد غیر حقوق بگیر'!C:C)),LOOKUP(D368,Personnel!A:A,Personnel!B:B)))","v":" "},{"$f":"IF(D368=0,0,IF(ISNA(MATCH(D368,Personnel!A:A,0)),IF(ISNA(MATCH(D368,'اطلاعات افراد غیر حقوق بگیر'!A:A,0)),\"وجود ندارد\",LOOKUP(D368,'اطلاعات افراد غیر حقوق بگیر'!A:A,'اطلاعات افراد غیر حقوق بگیر'!D:D)),LOOKUP(D368,Master!D:D,Master!CD:CD)))","v":0},{"$f":"IF(D368=0,\" \",IF(ISNA(MATCH(D368,Personnel!A:A,0)),IF(ISNA(MATCH(D368,'اطلاعات افراد غیر حقوق بگیر'!A:A,0)),\"وجود ندارد\",LOOKUP(D368,'اطلاعات افراد غیر حقوق بگیر'!A:A,'اطلاعات افراد غیر حقوق بگیر'!E:E)),LOOKUP(D368,Master!D:D,Master!AH:AH)))","v":" "},{"$f":"SUMIFS(Pays!G:G,Pays!E:E,1,Pays!D:D,D368)","v":0},{"$f":"SUMIFS(Pays!G:G,Pays!E:E,2,Pays!D:D,D368)","v":0},{"$f":"SUMIFS(Pays!G:G,Pays!E:E,57,Pays!D:D,D368)","v":0},{"$f":"SUMIF(Pays!D:D,D368,Pays!G:G)","v":0},{"$f":"SUMIF(Pays!D:D,D368,Pays!G:G)/176","v":0},{"$f":"IF(M368=0,IF(ISNA(MATCH(D368,'اطلاعات افراد غیر حقوق بگیر'!A:A,0)),0,LOOKUP(D368,'اطلاعات افراد غیر حقوق بگیر'!A:A,'اطلاعات افراد غیر حقوق بگیر'!F:F)),IF(H368=31,Settings!$D$13,ROUND(M368,0)))","v":0},null,0,{"$f":"IF(ISNA(MATCH(D368,Master!D:D,0)),IF(ISNA(MATCH(D368,'اطلاعات افراد غیر حقوق بگیر'!A:A,0)),0,LOOKUP(D368,'اطلاعات افراد غیر حقوق بگیر'!A:A,'اطلاعات افراد غیر حقوق بگیر'!G:G)),LOOKUP(D368,Master!D:D,Master!J:J))","v":0},{"$error":"#N/A"},0,0,{"$f":"IF(O368>#REF!,\"اخطار ساعت اضافه کار از حداکثر بیشتر است\",\" \")","v":{"$error":"#REF!"}},{"$f":"IF(O368>#REF!,1,0)","v":{"$error":"#REF!"}}]
[366,{"$f":"IF(D369=0,\"\",Settings!$D$6)","v":""},{"$f":"IF(D369=0,\"\",LOOKUP(B369,'Rigion Code'!A:A,'Rigion Code'!B:B))","v":""},null,{"$f":"IF(D369=0,\" \",IF(ISNA(MATCH(D369,Personnel!A:A,0)),IF(ISNA(MATCH(D369,'اطلاعات افراد غیر حقوق بگیر'!A:A,0)),\"وجود ندارد\",LOOKUP(Edit!D369,'اطلاعات افراد غیر حقوق بگیر'!A:A,'اطلاعات افراد غیر حقوق بگیر'!B:B)),LOOKUP(D369,Personnel!A:A,Personnel!C:C)))","v":" "},{"$f":"IF(D369=0,\" \",IF(ISNA(MATCH(D369,Personnel!A:A,0)),IF(ISNA(MATCH(D369,'اطلاعات افراد غیر حقوق بگیر'!A:A,0)),\"وجود ندارد\",LOOKUP(D369,'اطلاعات افراد غیر حقوق بگیر'!A:A,'اطلاعات افراد غیر حقوق بگیر'!C:C)),LOOKUP(D369,Personnel!A:A,Personnel!B:B)))","v":" "},{"$f":"IF(D369=0,0,IF(ISNA(MATCH(D369,Personnel!A:A,0)),IF(ISNA(MATCH(D369,'اطلاعات افراد غیر حقوق بگیر'!A:A,0)),\"وجود ندارد\",LOOKUP(D369,'اطلاعات افراد غیر حقوق بگیر'!A:A,'اطلاعات افراد غیر حقوق بگیر'!D:D)),LOOKUP(D369,Master!D:D,Master!CD:CD)))","v":0},{"$f":"IF(D369=0,\" \",IF(ISNA(MATCH(D369,Personnel!A:A,0)),IF(ISNA(MATCH(D369,'اطلاعات افراد غیر حقوق بگیر'!A:A,0)),\"وجود ندارد\",LOOKUP(D369,'اطلاعات افراد غیر حقوق بگیر'!A:A,'اطلاعات افراد غیر حقوق بگیر'!E:E)),LOOKUP(D369,Master!D:D,Master!AH:AH)))","v":" "},{"$f":"SUMIFS(Pays!G:G,Pays!E:E,1,Pays!D:D,D369)","v":0},{"$f":"SUMIFS(Pays!G:G,Pays!E:E,2,Pays!D:D,D369)","v":0},{"$f":"SUMIFS(Pays!G:G,Pays!E:E,57,Pays!D:D,D369)","v":0},{"$f":"SUMIF(Pays!D:D,D369,Pays!G:G)","v":0},{"$f":"SUMIF(Pays!D:D,D369,Pays!G:G)/176","v":0},{"$f":"IF(M369=0,IF(ISNA(MATCH(D369,'اطلاعات افراد غیر حقوق بگیر'!A:A,0)),0,LOOKUP(D369,'اطلاعات افراد غیر حقوق بگیر'!A:A,'اطلاعات افراد غیر حقوق بگیر'!F:F)),IF(H369=31,Settings!$D$13,ROUND(M369,0)))","v":0},null,0,{"$f":"IF(ISNA(MATCH(D369,Master!D:D,0)),IF(ISNA(MATCH(D369,'اطلاعات افراد غیر حقوق بگیر'!A:A,0)),0,LOOKUP(D369,'اطلاعات افراد غیر حقوق بگیر'!A:A,'اطلاعات افراد غیر حقوق بگیر'!G:G)),LOOKUP(D369,Master!D:D,Master!J:J))","v":0},{"$error":"#N/A"},0,0,{"$f":"IF(O369>#REF!,\"اخطار ساعت اضافه کار از حداکثر بیشتر است\",\" \")","v":{"$error":"#REF!"}},{"$f":"IF(O369>#REF!,1,0)","v":{"$error":"#REF!"}}]
[367,{"$f":"IF(D370=0,\"\",Settings!$D$6)","v":""},{"$f":"IF(D370=0,\"\",LOOKUP(B370,'Rigion Code'!A:A,'Rigion Code'!B:B))","v":""},null,{"$f":"IF(D370=0,\" \",IF(ISNA(MATCH(D370,Personnel!A:A,0)),IF(ISNA(MATCH(D370,'اطلاعات افراد غیر حقوق بگیر'!A:A,0)),\"وجود ندارد\",LOOKUP(Edit!D370,'اطلاعات افراد غیر حقوق بگیر'!A:A,'اطلاعات افراد غیر حقوق بگیر'!B:B)),LOOKUP(D370,Personnel!A:A,Personnel!C:C)))","v":" "},{"$f":"IF(D370=0,\" \",IF(ISNA(MATCH(D370,Personnel!A:A,0)),IF(ISNA(MATCH(D370,'اطلاعات افراد غیر حقوق بگیر'!A:A,0)),\"وجود ندارد\",LOOKUP(D370,'اطلاعات افراد غیر حقوق بگیر'!A:A,'اطلاعات افراد غیر حقوق بگیر'!C:C)),LOOKUP(D370,Personnel!A:A,Personnel!B:B)))","v":" "},{"$f":"IF(D370=0,0,IF(ISNA(MATCH(D370,Personnel!A:A,0)),IF(ISNA(MATCH(D370,'اطلاعات افراد غیر حقوق بگیر'!A:A,0)),\"وجود ندارد\",LOOKUP(D370,'اطلاعات افراد غیر حقوق بگیر'!A:A,'اطلاعات افراد غیر حقوق بگیر'!D:D)),LOOKUP(D370,Master!D:D,Master!CD:CD)))","v":0},{"$f":"IF(D370=0,\" \",IF(ISNA(MATCH(D370,Personnel!A:A,0)),IF(ISNA(MATCH(D370,'اطلاعات افراد غیر حقوق بگیر'!A:A,0)),\"وجود ندارد\",LOOKUP(D370,'اطلاعات افراد غیر حقوق بگیر'!A:A,'اطلاعات افراد غیر حقوق بگیر'!E:E)),LOOKUP(D370,Master!D:D,Master!AH:AH)))","v":" "},{"$f":"SUMIFS(Pays!G:G,Pays!E:E,1,Pays!D:D,D370)","v":0},{"$f":"SUMIFS(Pays!G:G,Pays!E:E,2,Pays!D:D,D370)","v":0},{"$f":"SUMIFS(Pays!G:G,Pays!E:E,57,Pays!D:D,D370)","v":0},{"$f":"SUMIF(Pays!D:D,D370,Pays!G:G)","v":0},{"$f":"SUMIF(Pays!D:D,D370,Pays!G:G)/176","v":0},{"$f":"IF(M370=0,IF(ISNA(MATCH(D370,'اطلاعات افراد غیر حقوق بگیر'!A:A,0)),0,LOOKUP(D370,'اطلاعات افراد غیر حقوق بگیر'!A:A,'اطلاعات افراد غیر حقوق بگیر'!F:F)),IF(H370=31,Settings!$D$13,ROUND(M370,0)))","v":0},null,0,{"$f":"IF(ISNA(MATCH(D370,Master!D:D,0)),IF(ISNA(MATCH(D370,'اطلاعات افراد غیر حقوق بگیر'!A:A,0)),0,LOOKUP(D370,'اطلاعات افراد غیر حقوق بگیر'!A:A,'اطلاعات افراد غیر حقوق بگیر'!G:G)),LOOKUP(D370,Master!D:D,Master!J:J))","v":0},{"$error":"#N/A"},0,0,{"$f":"IF(O370>#REF!,\"اخطار ساعت اضافه کار از حداکثر بیشتر است\",\" \")","v":{"$error":"#REF!"}},{"$f":"IF(O370>#REF!,1,0)","v":{"$error":"#REF!"}}]
[368,{"$f":"IF(D371=0,\"\",Settings!$D$6)","v":""},{"$f":"IF(D371=0,\"\",LOOKUP(B371,'Rigion Code'!A:A,'Rigion Code'!B:B))","v":""},null,{"$f":"IF(D371=0,\" \",IF(ISNA(MATCH(D371,Personnel!A:A,0)),IF(ISNA(MATCH(D371,'اطلاعات افراد غیر حقوق بگیر'!A:A,0)),\"وجود ندارد\",LOOKUP(Edit!D371,'اطلاعات افراد غیر حقوق بگیر'!A:A,'اطلاعات افراد غیر حقوق بگیر'!B:B)),LOOKUP(D371,Personnel!A:A,Personnel!C:C)))","v":" "},{"$f":"IF(D371=0,\" \",IF(ISNA(MATCH(D371,Personnel!A:A,0)),IF(ISNA(MATCH(D371,'اطلاعات افراد غیر حقوق بگیر'!A:A,0)),\"وجود ندارد\",LOOKUP(D371,'اطلاعات افراد غیر حقوق بگیر'!A:A,'اطلاعات افراد غیر حقوق بگیر'!C:C)),LOOKUP(D371,Personnel!A:A,Personnel!B:B)))","v":" "},{"$f":"IF(D371=0,0,IF(ISNA(MATCH(D371,Personnel!A:A,0)),IF(ISNA(MATCH(D371,'اطلاعات افراد غیر حقوق بگیر'!A:A,0)),\"وجود ندارد\",LOOKUP(D371,'اطلاعات افراد غیر حقوق بگیر'!A:A,'اطلاعات افراد غیر حقوق بگیر'!D:D)),LOOKUP(D371,Master!D:D,Master!CD:CD)))","v":0},{"$f":"IF(D371=0,\" \",IF(ISNA(MATCH(D371,Personnel!A:A,0)),IF(ISNA(MATCH(D371,'اطلاعات افراد غیر حقوق بگیر'!A:A,0)),\"وجود ندارد\",LOOKUP(D371,'اطلاعات افراد غیر حقوق بگیر'!A:A,'اطلاعات افراد غیر حقوق بگیر'!E:E)),LOOKUP(D371,Master!D:D,Master!AH:AH)))","v":" "},{"$f":"SUMIFS(Pays!G:G,Pays!E:E,1,Pays!D:D,D371)","v":0},{"$f":"SUMIFS(Pays!G:G,Pays!E:E,2,Pays!D:D,D371)","v":0},{"$f":"SUMIFS(Pays!G:G,Pays!E:E,57,Pays!D:D,D371)","v":0},{"$f":"SUMIF(Pays!D:D,D371,Pays!G:G)","v":0},{"$f":"SUMIF(Pays!D:D,D371,Pays!G:G)/176","v":0},{"$f":"IF(M371=0,IF(ISNA(MATCH(D371,'اطلاعات افراد غیر حقوق بگیر'!A:A,0)),0,LOOKUP(D371,'اطلاعات افراد غیر حقوق بگیر'!A:A,'اطلاعات افراد غیر حقوق بگیر'!F:F)),IF(H371=31,Settings!$D$13,ROUND(M371,0)))","v":0},null,0,{"$f":"IF(ISNA(MATCH(D371,Master!D:D,0)),IF(ISNA(MATCH(D371,'اطلاعات افراد غیر حقوق بگیر'!A:A,0)),0,LOOKUP(D371,'اطلاعات افراد غیر حقوق بگیر'!A:A,'اطلاعات افراد غیر حقوق بگیر'!G:G)),LOOKUP(D371,Master!D:D,Master!J:J))","v":0},{"$error":"#N/A"},0,0,{"$f":"IF(O371>#REF!,\"اخطار ساعت اضافه کار از حداکثر بیشتر است\",\" \")","v":{"$error":"#REF!"}},{"$f":"IF(O371>#REF!,1,0)","v":{"$error":"#REF!"}}]
[369,{"$f":"IF(D372=0,\"\",Settings!$D$6)","v":""},{"$f":"IF(D372=0,\"\",LOOKUP(B372,'Rigion Code'!A:A,'Rigion Code'!B:B))","v":""},null,{"$f":"IF(D372=0,\" \",IF(ISNA(MATCH(D372,Personnel!A:A,0)),IF(ISNA(MATCH(D372,'اطلاعات افراد غیر حقوق بگیر'!A:A,0)),\"وجود ندارد\",LOOKUP(Edit!D372,'اطلاعات افراد غیر حقوق بگیر'!A:A,'اطلاعات افراد غیر حقوق بگیر'!B:B)),LOOKUP(D372,Personnel!A:A,Personnel!C:C)))","v":" "},{"$f":"IF(D372=0,\" \",IF(ISNA(MATCH(D372,Personnel!A:A,0)),IF(ISNA(MATCH(D372,'اطلاعات افراد غیر حقوق بگیر'!A:A,0)),\"وجود ندارد\",LOOKUP(D372,'اطلاعات افراد غیر حقوق بگیر'!A:A,'اطلاعات افراد غیر حقوق بگیر'!C:C)),LOOKUP(D372,Personnel!A:A,Personnel!B:B)))","v":" "},{"$f":"IF(D372=0,0,IF(ISNA(MATCH(D372,Personnel!A:A,0)),IF(ISNA(MATCH(D372,'اطلاعات افراد غیر حقوق بگیر'!A:A,0)),\"وجود ندارد\",LOOKUP(D372,'اطلاعات افراد غیر حقوق بگیر'!A:A,'اطلاعات افراد غیر حقوق بگیر'!D:D)),LOOKUP(D372,Master!D:D,Master!CD:CD)))","v":0},{"$f":"IF(D372=0,\" \",IF(ISNA(MATCH(D372,Personnel!A:A,0)),IF(ISNA(MATCH(D372,'اطلاعات افراد غیر حقوق بگیر'!A:A,0)),\"وجود ندارد\",LOOKUP(D372,'اطلاعات افراد غیر حقوق بگیر'!A:A,'اطلاعات افراد غیر حقوق بگیر'!E:E)),LOOKUP(D372,Master!D:D,Master!AH:AH)))","v":" "},{"$f":"SUMIFS(Pays!G:G,Pays!E:E,1,Pays!D:D,D372)","v":0},{"$f":"SUMIFS(Pays!G:G,Pays!E:E,2,Pays!D:D,D372)","v":0},{"$f":"SUMIFS(Pays!G:G,Pays!E:E,57,Pays!D:D,D372)","v":0},{"$f":"SUMIF(Pays!D:D,D372,Pays!G:G)","v":0},{"$f":"SUMIF(Pays!D:D,D372,Pays!G:G)/176","v":0},{"$f":"IF(M372=0,IF(ISNA(MATCH(D372,'اطلاعات افراد غیر حقوق بگیر'!A:A,0)),0,LOOKUP(D372,'اطلاعات افراد غیر حقوق بگیر'!A:A,'اطلاعات افراد غیر حقوق بگیر'!F:F)),IF(H372=31,Settings!$D$13,ROUND(M372,0)))","v":0},null,0,{"$f":"IF(ISNA(MATCH(D372,Master!D:D,0)),IF(ISNA(MATCH(D372,'اطلاعات افراد غیر حقوق بگیر'!A:A,0)),0,LOOKUP(D372,'اطلاعات افراد غیر حقوق بگیر'!A:A,'اطلاعات افراد غیر حقوق بگیر'!G:G)),LOOKUP(D372,Master!D:D,Master!J:J))","v":0},{"$error":"#N/A"},0,0,{"$f":"IF(O372>#REF!,\"اخطار ساعت اضافه کار از حداکثر بیشتر است\",\" \")","v":{"$error":"#REF!"}},{"$f":"IF(O372>#REF!,1,0)","v":{"$error":"#REF!"}}]
[370,{"$f":"IF(D373=0,\"\",Settings!$D$6)","v":""},{"$f":"IF(D373=0,\"\",LOOKUP(B373,'Rigion Code'!A:A,'Rigion Code'!B:B))","v":""},null,{"$f":"IF(D373=0,\" \",IF(ISNA(MATCH(D373,Personnel!A:A,0)),IF(ISNA(MATCH(D373,'اطلاعات افراد غیر حقوق بگیر'!A:A,0)),\"وجود ندارد\",LOOKUP(Edit!D373,'اطلاعات افراد غیر حقوق بگیر'!A:A,'اطلاعات افراد غیر حقوق بگیر'!B:B)),LOOKUP(D373,Personnel!A:A,Personnel!C:C)))","v":" "},{"$f":"IF(D373=0,\" \",IF(ISNA(MATCH(D373,Personnel!A:A,0)),IF(ISNA(MATCH(D373,'اطلاعات افراد غیر حقوق بگیر'!A:A,0)),\"وجود ندارد\",LOOKUP(D373,'اطلاعات افراد غیر حقوق بگیر'!A:A,'اطلاعات افراد غیر حقوق بگیر'!C:C)),LOOKUP(D373,Personnel!A:A,Personnel!B:B)))","v":" "},{"$f":"IF(D373=0,0,IF(ISNA(MATCH(D373,Personnel!A:A,0)),IF(ISNA(MATCH(D373,'اطلاعات افراد غیر حقوق بگیر'!A:A,0)),\"وجود ندارد\",LOOKUP(D373,'اطلاعات افراد غیر حقوق بگیر'!A:A,'اطلاعات افراد غیر حقوق بگیر'!D:D)),LOOKUP(D373,Master!D:D,Master!CD:CD)))","v":0},{"$f":"IF(D373=0,\" \",IF(ISNA(MATCH(D373,Personnel!A:A,0)),IF(ISNA(MATCH(D373,'اطلاعات افراد غیر حقوق بگیر'!A:A,0)),\"وجود ندارد\",LOOKUP(D373,'اطلاعات افراد غیر حقوق بگیر'!A:A,'اطلاعات افراد غیر حقوق بگیر'!E:E)),LOOKUP(D373,Master!D:D,Master!AH:AH)))","v":" "},{"$f":"SUMIFS(Pays!G:G,Pays!E:E,1,Pays!D:D,D373)","v":0},{"$f":"SUMIFS(Pays!G:G,Pays!E:E,2,Pays!D:D,D373)","v":0},{"$f":"SUMIFS(Pays!G:G,Pays!E:E,57,Pays!D:D,D373)","v":0},{"$f":"SUMIF(Pays!D:D,D373,Pays!G:G)","v":0},{"$f":"SUMIF(Pays!D:D,D373,Pays!G:G)/176","v":0},{"$f":"IF(M373=0,IF(ISNA(MATCH(D373,'اطلاعات افراد غیر حقوق بگیر'!A:A,0)),0,LOOKUP(D373,'اطلاعات افراد غیر حقوق بگیر'!A:A,'اطلاعات افراد غیر حقوق بگیر'!F:F)),IF(H373=31,Settings!$D$13,ROUND(M373,0)))","v":0},null,0,{"$f":"IF(ISNA(MATCH(D373,Master!D:D,0)),IF(ISNA(MATCH(D373,'اطلاعات افراد غیر حقوق بگیر'!A:A,0)),0,LOOKUP(D373,'اطلاعات افراد غیر حقوق بگیر'!A:A,'اطلاعات افراد غیر حقوق بگیر'!G:G)),LOOKUP(D373,Master!D:D,Master!J:J))","v":0},{"$error":"#N/A"},0,0,{"$f":"IF(O373>#REF!,\"اخطار ساعت اضافه کار از حداکثر بیشتر است\",\" \")","v":{"$error":"#REF!"}},{"$f":"IF(O373>#REF!,1,0)","v":{"$error":"#REF!"}}]
[371,{"$f":"IF(D374=0,\"\",Settings!$D$6)","v":""},{"$f":"IF(D374=0,\"\",LOOKUP(B374,'Rigion Code'!A:A,'Rigion Code'!B:B))","v":""},null,{"$f":"IF(D374=0,\" \",IF(ISNA(MATCH(D374,Personnel!A:A,0)),IF(ISNA(MATCH(D374,'اطلاعات افراد غیر حقوق بگیر'!A:A,0)),\"وجود ندارد\",LOOKUP(Edit!D374,'اطلاعات افراد غیر حقوق بگیر'!A:A,'اطلاعات افراد غیر حقوق بگیر'!B:B)),LOOKUP(D374,Personnel!A:A,Personnel!C:C)))","v":" "},{"$f":"IF(D374=0,\" \",IF(ISNA(MATCH(D374,Personnel!A:A,0)),IF(ISNA(MATCH(D374,'اطلاعات افراد غیر حقوق بگیر'!A:A,0)),\"وجود ندارد\",LOOKUP(D374,'اطلاعات افراد غیر حقوق بگیر'!A:A,'اطلاعات افراد غیر حقوق بگیر'!C:C)),LOOKUP(D374,Personnel!A:A,Personnel!B:B)))","v":" "},{"$f":"IF(D374=0,0,IF(ISNA(MATCH(D374,Personnel!A:A,0)),IF(ISNA(MATCH(D374,'اطلاعات افراد غیر حقوق بگیر'!A:A,0)),\"وجود ندارد\",LOOKUP(D374,'اطلاعات افراد غیر حقوق بگیر'!A:A,'اطلاعات افراد غیر حقوق بگیر'!D:D)),LOOKUP(D374,Master!D:D,Master!CD:CD)))","v":0},{"$f":"IF(D374=0,\" \",IF(ISNA(MATCH(D374,Personnel!A:A,0)),IF(ISNA(MATCH(D374,'اطلاعات افراد غیر حقوق بگیر'!A:A,0)),\"وجود ندارد\",LOOKUP(D374,'اطلاعات افراد غیر حقوق بگیر'!A:A,'اطلاعات افراد غیر حقوق بگیر'!E:E)),LOOKUP(D374,Master!D:D,Master!AH:AH)))","v":" "},{"$f":"SUMIFS(Pays!G:G,Pays!E:E,1,Pays!D:D,D374)","v":0},{"$f":"SUMIFS(Pays!G:G,Pays!E:E,2,Pays!D:D,D374)","v":0},{"$f":"SUMIFS(Pays!G:G,Pays!E:E,57,Pays!D:D,D374)","v":0},{"$f":"SUMIF(Pays!D:D,D374,Pays!G:G)","v":0},{"$f":"SUMIF(Pays!D:D,D374,Pays!G:G)/176","v":0},{"$f":"IF(M374=0,IF(ISNA(MATCH(D374,'اطلاعات افراد غیر حقوق بگیر'!A:A,0)),0,LOOKUP(D374,'اطلاعات افراد غیر حقوق بگیر'!A:A,'اطلاعات افراد غیر حقوق بگیر'!F:F)),IF(H374=31,Settings!$D$13,ROUND(M374,0)))","v":0},null,0,{"$f":"IF(ISNA(MATCH(D374,Master!D:D,0)),IF(ISNA(MATCH(D374,'اطلاعات افراد غیر حقوق بگیر'!A:A,0)),0,LOOKUP(D374,'اطلاعات افراد غیر حقوق بگیر'!A:A,'اطلاعات افراد غیر حقوق بگیر'!G:G)),LOOKUP(D374,Master!D:D,Master!J:J))","v":0},{"$error":"#N/A"},0,0,{"$f":"IF(O374>#REF!,\"اخطار ساعت اضافه کار از حداکثر بیشتر است\",\" \")","v":{"$error":"#REF!"}},{"$f":"IF(O374>#REF!,1,0)","v":{"$error":"#REF!"}}]
[372,{"$f":"IF(D375=0,\"\",Settings!$D$6)","v":""},{"$f":"IF(D375=0,\"\",LOOKUP(B375,'Rigion Code'!A:A,'Rigion Code'!B:B))","v":""},null,{"$f":"IF(D375=0,\" \",IF(ISNA(MATCH(D375,Personnel!A:A,0)),IF(ISNA(MATCH(D375,'اطلاعات افراد غیر حقوق بگیر'!A:A,0)),\"وجود ندارد\",LOOKUP(Edit!D375,'اطلاعات افراد غیر حقوق بگیر'!A:A,'اطلاعات افراد غیر حقوق بگیر'!B:B)),LOOKUP(D375,Personnel!A:A,Personnel!C:C)))","v":" "},{"$f":"IF(D375=0,\" \",IF(ISNA(MATCH(D375,Personnel!A:A,0)),IF(ISNA(MATCH(D375,'اطلاعات افراد غیر حقوق بگیر'!A:A,0)),\"وجود ندارد\",LOOKUP(D375,'اطلاعات افراد غیر حقوق بگیر'!A:A,'اطلاعات افراد غیر حقوق بگیر'!C:C)),LOOKUP(D375,Personnel!A:A,Personnel!B:B)))","v":" "},{"$f":"IF(D375=0,0,IF(ISNA(MATCH(D375,Personnel!A:A,0)),IF(ISNA(MATCH(D375,'اطلاعات افراد غیر حقوق بگیر'!A:A,0)),\"وجود ندارد\",LOOKUP(D375,'اطلاعات افراد غیر حقوق بگیر'!A:A,'اطلاعات افراد غیر حقوق بگیر'!D:D)),LOOKUP(D375,Master!D:D,Master!CD:CD)))","v":0},{"$f":"IF(D375=0,\" \",IF(ISNA(MATCH(D375,Personnel!A:A,0)),IF(ISNA(MATCH(D375,'اطلاعات افراد غیر حقوق بگیر'!A:A,0)),\"وجود ندارد\",LOOKUP(D375,'اطلاعات افراد غیر حقوق بگیر'!A:A,'اطلاعات افراد غیر حقوق بگیر'!E:E)),LOOKUP(D375,Master!D:D,Master!AH:AH)))","v":" "},{"$f":"SUMIFS(Pays!G:G,Pays!E:E,1,Pays!D:D,D375)","v":0},{"$f":"SUMIFS(Pays!G:G,Pays!E:E,2,Pays!D:D,D375)","v":0},{"$f":"SUMIFS(Pays!G:G,Pays!E:E,57,Pays!D:D,D375)","v":0},{"$f":"SUMIF(Pays!D:D,D375,Pays!G:G)","v":0},{"$f":"SUMIF(Pays!D:D,D375,Pays!G:G)/176","v":0},{"$f":"IF(M375=0,IF(ISNA(MATCH(D375,'اطلاعات افراد غیر حقوق بگیر'!A:A,0)),0,LOOKUP(D375,'اطلاعات افراد غیر حقوق بگیر'!A:A,'اطلاعات افراد غیر حقوق بگیر'!F:F)),IF(H375=31,Settings!$D$13,ROUND(M375,0)))","v":0},null,0,{"$f":"IF(ISNA(MATCH(D375,Master!D:D,0)),IF(ISNA(MATCH(D375,'اطلاعات افراد غیر حقوق بگیر'!A:A,0)),0,LOOKUP(D375,'اطلاعات افراد غیر حقوق بگیر'!A:A,'اطلاعات افراد غیر حقوق بگیر'!G:G)),LOOKUP(D375,Master!D:D,Master!J:J))","v":0},{"$error":"#N/A"},0,0,{"$f":"IF(O375>#REF!,\"اخطار ساعت اضافه کار از حداکثر بیشتر است\",\" \")","v":{"$error":"#REF!"}},{"$f":"IF(O375>#REF!,1,0)","v":{"$error":"#REF!"}}]
[373,{"$f":"IF(D376=0,\"\",Settings!$D$6)","v":""},{"$f":"IF(D376=0,\"\",LOOKUP(B376,'Rigion Code'!A:A,'Rigion Code'!B:B))","v":""},null,{"$f":"IF(D376=0,\" \",IF(ISNA(MATCH(D376,Personnel!A:A,0)),IF(ISNA(MATCH(D376,'اطلاعات افراد غیر حقوق بگیر'!A:A,0)),\"وجود ندارد\",LOOKUP(Edit!D376,'اطلاعات افراد غیر حقوق بگیر'!A:A,'اطلاعات افراد غیر حقوق بگیر'!B:B)),LOOKUP(D376,Personnel!A:A,Personnel!C:C)))","v":" "},{"$f":"IF(D376=0,\" \",IF(ISNA(MATCH(D376,Personnel!A:A,0)),IF(ISNA(MATCH(D376,'اطلاعات افراد غیر حقوق بگیر'!A:A,0)),\"وجود ندارد\",LOOKUP(D376,'اطلاعات افراد غیر حقوق بگیر'!A:A,'اطلاعات افراد غیر حقوق بگیر'!C:C)),LOOKUP(D376,Personnel!A:A,Personnel!B:B)))","v":" "},{"$f":"IF(D376=0,0,IF(ISNA(MATCH(D376,Personnel!A:A,0)),IF(ISNA(MATCH(D376,'اطلاعات افراد غیر حقوق بگیر'!A:A,0)),\"وجود ندارد\",LOOKUP(D376,'اطلاعات افراد غیر حقوق بگیر'!A:A,'اطلاعات افراد غیر حقوق بگیر'!D:D)),LOOKUP(D376,Master!D:D,Master!CD:CD)))","v":0},{"$f":"IF(D376=0,\" \",IF(ISNA(MATCH(D376,Personnel!A:A,0)),IF(ISNA(MATCH(D376,'اطلاعات افراد غیر حقوق بگیر'!A:A,0)),\"وجود ندارد\",LOOKUP(D376,'اطلاعات افراد غیر حقوق بگیر'!A:A,'اطلاعات افراد غیر حقوق بگیر'!E:E)),LOOKUP(D376,Master!D:D,Master!AH:AH)))","v":" "},{"$f":"SUMIFS(Pays!G:G,Pays!E:E,1,Pays!D:D,D376)","v":0},{"$f":"SUMIFS(Pays!G:G,Pays!E:E,2,Pays!D:D,D376)","v":0},{"$f":"SUMIFS(Pays!G:G,Pays!E:E,57,Pays!D:D,D376)","v":0},{"$f":"SUMIF(Pays!D:D,D376,Pays!G:G)","v":0},{"$f":"SUMIF(Pays!D:D,D376,Pays!G:G)/176","v":0},{"$f":"IF(M376=0,IF(ISNA(MATCH(D376,'اطلاعات افراد غیر حقوق بگیر'!A:A,0)),0,LOOKUP(D376,'اطلاعات افراد غیر حقوق بگیر'!A:A,'اطلاعات افراد غیر حقوق بگیر'!F:F)),IF(H376=31,Settings!$D$13,ROUND(M376,0)))","v":0},null,0,{"$f":"IF(ISNA(MATCH(D376,Master!D:D,0)),IF(ISNA(MATCH(D376,'اطلاعات افراد غیر حقوق بگیر'!A:A,0)),0,LOOKUP(D376,'اطلاعات افراد غیر حقوق بگیر'!A:A,'اطلاعات افراد غیر حقوق بگیر'!G:G)),LOOKUP(D376,Master!D:D,Master!J:J))","v":0},{"$error":"#N/A"},0,0,{"$f":"IF(O376>#REF!,\"اخطار ساعت اضافه کار از حداکثر بیشتر است\",\" \")","v":{"$error":"#REF!"}},{"$f":"IF(O376>#REF!,1,0)","v":{"$error":"#REF!"}}]
[374,{"$f":"IF(D377=0,\"\",Settings!$D$6)","v":""},{"$f":"IF(D377=0,\"\",LOOKUP(B377,'Rigion Code'!A:A,'Rigion Code'!B:B))","v":""},null,{"$f":"IF(D377=0,\" \",IF(ISNA(MATCH(D377,Personnel!A:A,0)),IF(ISNA(MATCH(D377,'اطلاعات افراد غیر حقوق بگیر'!A:A,0)),\"وجود ندارد\",LOOKUP(Edit!D377,'اطلاعات افراد غیر حقوق بگیر'!A:A,'اطلاعات افراد غیر حقوق بگیر'!B:B)),LOOKUP(D377,Personnel!A:A,Personnel!C:C)))","v":" "},{"$f":"IF(D377=0,\" \",IF(ISNA(MATCH(D377,Personnel!A:A,0)),IF(ISNA(MATCH(D377,'اطلاعات افراد غیر حقوق بگیر'!A:A,0)),\"وجود ندارد\",LOOKUP(D377,'اطلاعات افراد غیر حقوق بگیر'!A:A,'اطلاعات افراد غیر حقوق بگیر'!C:C)),LOOKUP(D377,Personnel!A:A,Personnel!B:B)))","v":" "},{"$f":"IF(D377=0,0,IF(ISNA(MATCH(D377,Personnel!A:A,0)),IF(ISNA(MATCH(D377,'اطلاعات افراد غیر حقوق بگیر'!A:A,0)),\"وجود ندارد\",LOOKUP(D377,'اطلاعات افراد غیر حقوق بگیر'!A:A,'اطلاعات افراد غیر حقوق بگیر'!D:D)),LOOKUP(D377,Master!D:D,Master!CD:CD)))","v":0},{"$f":"IF(D377=0,\" \",IF(ISNA(MATCH(D377,Personnel!A:A,0)),IF(ISNA(MATCH(D377,'اطلاعات افراد غیر حقوق بگیر'!A:A,0)),\"وجود ندارد\",LOOKUP(D377,'اطلاعات افراد غیر حقوق بگیر'!A:A,'اطلاعات افراد غیر حقوق بگیر'!E:E)),LOOKUP(D377,Master!D:D,Master!AH:AH)))","v":" "},{"$f":"SUMIFS(Pays!G:G,Pays!E:E,1,Pays!D:D,D377)","v":0},{"$f":"SUMIFS(Pays!G:G,Pays!E:E,2,Pays!D:D,D377)","v":0},{"$f":"SUMIFS(Pays!G:G,Pays!E:E,57,Pays!D:D,D377)","v":0},{"$f":"SUMIF(Pays!D:D,D377,Pays!G:G)","v":0},{"$f":"SUMIF(Pays!D:D,D377,Pays!G:G)/176","v":0},{"$f":"IF(M377=0,IF(ISNA(MATCH(D377,'اطلاعات افراد غیر حقوق بگیر'!A:A,0)),0,LOOKUP(D377,'اطلاعات افراد غیر حقوق بگیر'!A:A,'اطلاعات افراد غیر حقوق بگیر'!F:F)),IF(H377=31,Settings!$D$13,ROUND(M377,0)))","v":0},null,0,{"$f":"IF(ISNA(MATCH(D377,Master!D:D,0)),IF(ISNA(MATCH(D377,'اطلاعات افراد غیر حقوق بگیر'!A:A,0)),0,LOOKUP(D377,'اطلاعات افراد غیر حقوق بگیر'!A:A,'اطلاعات افراد غیر حقوق بگیر'!G:G)),LOOKUP(D377,Master!D:D,Master!J:J))","v":0},{"$error":"#N/A"},0,0,{"$f":"IF(O377>#REF!,\"اخطار ساعت اضافه کار از حداکثر بیشتر است\",\" \")","v":{"$error":"#REF!"}},{"$f":"IF(O377>#REF!,1,0)","v":{"$error":"#REF!"}}]
[375,{"$f":"IF(D378=0,\"\",Settings!$D$6)","v":""},{"$f":"IF(D378=0,\"\",LOOKUP(B378,'Rigion Code'!A:A,'Rigion Code'!B:B))","v":""},null,{"$f":"IF(D378=0,\" \",IF(ISNA(MATCH(D378,Personnel!A:A,0)),IF(ISNA(MATCH(D378,'اطلاعات افراد غیر حقوق بگیر'!A:A,0)),\"وجود ندارد\",LOOKUP(Edit!D378,'اطلاعات افراد غیر حقوق بگیر'!A:A,'اطلاعات افراد غیر حقوق بگیر'!B:B)),LOOKUP(D378,Personnel!A:A,Personnel!C:C)))","v":" "},{"$f":"IF(D378=0,\" \",IF(ISNA(MATCH(D378,Personnel!A:A,0)),IF(ISNA(MATCH(D378,'اطلاعات افراد غیر حقوق بگیر'!A:A,0)),\"وجود ندارد\",LOOKUP(D378,'اطلاعات افراد غیر حقوق بگیر'!A:A,'اطلاعات افراد غیر حقوق بگیر'!C:C)),LOOKUP(D378,Personnel!A:A,Personnel!B:B)))","v":" "},{"$f":"IF(D378=0,0,IF(ISNA(MATCH(D378,Personnel!A:A,0)),IF(ISNA(MATCH(D378,'اطلاعات افراد غیر حقوق بگیر'!A:A,0)),\"وجود ندارد\",LOOKUP(D378,'اطلاعات افراد غیر حقوق بگیر'!A:A,'اطلاعات افراد غیر حقوق بگیر'!D:D)),LOOKUP(D378,Master!D:D,Master!CD:CD)))","v":0},{"$f":"IF(D378=0,\" \",IF(ISNA(MATCH(D378,Personnel!A:A,0)),IF(ISNA(MATCH(D378,'اطلاعات افراد غیر حقوق بگیر'!A:A,0)),\"وجود ندارد\",LOOKUP(D378,'اطلاعات افراد غیر حقوق بگیر'!A:A,'اطلاعات افراد غیر حقوق بگیر'!E:E)),LOOKUP(D378,Master!D:D,Master!AH:AH)))","v":" "},{"$f":"SUMIFS(Pays!G:G,Pays!E:E,1,Pays!D:D,D378)","v":0},{"$f":"SUMIFS(Pays!G:G,Pays!E:E,2,Pays!D:D,D378)","v":0},{"$f":"SUMIFS(Pays!G:G,Pays!E:E,57,Pays!D:D,D378)","v":0},{"$f":"SUMIF(Pays!D:D,D378,Pays!G:G)","v":0},{"$f":"SUMIF(Pays!D:D,D378,Pays!G:G)/176","v":0},{"$f":"IF(M378=0,IF(ISNA(MATCH(D378,'اطلاعات افراد غیر حقوق بگیر'!A:A,0)),0,LOOKUP(D378,'اطلاعات افراد غیر حقوق بگیر'!A:A,'اطلاعات افراد غیر حقوق بگیر'!F:F)),IF(H378=31,Settings!$D$13,ROUND(M378,0)))","v":0},null,0,{"$f":"IF(ISNA(MATCH(D378,Master!D:D,0)),IF(ISNA(MATCH(D378,'اطلاعات افراد غیر حقوق بگیر'!A:A,0)),0,LOOKUP(D378,'اطلاعات افراد غیر حقوق بگیر'!A:A,'اطلاعات افراد غیر حقوق بگیر'!G:G)),LOOKUP(D378,Master!D:D,Master!J:J))","v":0},{"$error":"#N/A"},0,0,{"$f":"IF(O378>#REF!,\"اخطار ساعت اضافه کار از حداکثر بیشتر است\",\" \")","v":{"$error":"#REF!"}},{"$f":"IF(O378>#REF!,1,0)","v":{"$error":"#REF!"}}]
[376,{"$f":"IF(D379=0,\"\",Settings!$D$6)","v":""},{"$f":"IF(D379=0,\"\",LOOKUP(B379,'Rigion Code'!A:A,'Rigion Code'!B:B))","v":""},null,{"$f":"IF(D379=0,\" \",IF(ISNA(MATCH(D379,Personnel!A:A,0)),IF(ISNA(MATCH(D379,'اطلاعات افراد غیر حقوق بگیر'!A:A,0)),\"وجود ندارد\",LOOKUP(Edit!D379,'اطلاعات افراد غیر حقوق بگیر'!A:A,'اطلاعات افراد غیر حقوق بگیر'!B:B)),LOOKUP(D379,Personnel!A:A,Personnel!C:C)))","v":" "},{"$f":"IF(D379=0,\" \",IF(ISNA(MATCH(D379,Personnel!A:A,0)),IF(ISNA(MATCH(D379,'اطلاعات افراد غیر حقوق بگیر'!A:A,0)),\"وجود ندارد\",LOOKUP(D379,'اطلاعات افراد غیر حقوق بگیر'!A:A,'اطلاعات افراد غیر حقوق بگیر'!C:C)),LOOKUP(D379,Personnel!A:A,Personnel!B:B)))","v":" "},{"$f":"IF(D379=0,0,IF(ISNA(MATCH(D379,Personnel!A:A,0)),IF(ISNA(MATCH(D379,'اطلاعات افراد غیر حقوق بگیر'!A:A,0)),\"وجود ندارد\",LOOKUP(D379,'اطلاعات افراد غیر حقوق بگیر'!A:A,'اطلاعات افراد غیر حقوق بگیر'!D:D)),LOOKUP(D379,Master!D:D,Master!CD:CD)))","v":0},{"$f":"IF(D379=0,\" \",IF(ISNA(MATCH(D379,Personnel!A:A,0)),IF(ISNA(MATCH(D379,'اطلاعات افراد غیر حقوق بگیر'!A:A,0)),\"وجود ندارد\",LOOKUP(D379,'اطلاعات افراد غیر حقوق بگیر'!A:A,'اطلاعات افراد غیر حقوق بگیر'!E:E)),LOOKUP(D379,Master!D:D,Master!AH:AH)))","v":" "},{"$f":"SUMIFS(Pays!G:G,Pays!E:E,1,Pays!D:D,D379)","v":0},{"$f":"SUMIFS(Pays!G:G,Pays!E:E,2,Pays!D:D,D379)","v":0},{"$f":"SUMIFS(Pays!G:G,Pays!E:E,57,Pays!D:D,D379)","v":0},{"$f":"SUMIF(Pays!D:D,D379,Pays!G:G)","v":0},{"$f":"SUMIF(Pays!D:D,D379,Pays!G:G)/176","v":0},{"$f":"IF(M379=0,IF(ISNA(MATCH(D379,'اطلاعات افراد غیر حقوق بگیر'!A:A,0)),0,LOOKUP(D379,'اطلاعات افراد غیر حقوق بگیر'!A:A,'اطلاعات افراد غیر حقوق بگیر'!F:F)),IF(H379=31,Settings!$D$13,ROUND(M379,0)))","v":0},null,0,{"$f":"IF(ISNA(MATCH(D379,Master!D:D,0)),IF(ISNA(MATCH(D379,'اطلاعات افراد غیر حقوق بگیر'!A:A,0)),0,LOOKUP(D379,'اطلاعات افراد غیر حقوق بگیر'!A:A,'اطلاعات افراد غیر حقوق بگیر'!G:G)),LOOKUP(D379,Master!D:D,Master!J:J))","v":0},{"$error":"#N/A"},0,0,{"$f":"IF(O379>#REF!,\"اخطار ساعت اضافه کار از حداکثر بیشتر است\",\" \")","v":{"$error":"#REF!"}},{"$f":"IF(O379>#REF!,1,0)","v":{"$error":"#REF!"}}]
[377,{"$f":"IF(D380=0,\"\",Settings!$D$6)","v":""},{"$f":"IF(D380=0,\"\",LOOKUP(B380,'Rigion Code'!A:A,'Rigion Code'!B:B))","v":""},null,{"$f":"IF(D380=0,\" \",IF(ISNA(MATCH(D380,Personnel!A:A,0)),IF(ISNA(MATCH(D380,'اطلاعات افراد غیر حقوق بگیر'!A:A,0)),\"وجود ندارد\",LOOKUP(Edit!D380,'اطلاعات افراد غیر حقوق بگیر'!A:A,'اطلاعات افراد غیر حقوق بگیر'!B:B)),LOOKUP(D380,Personnel!A:A,Personnel!C:C)))","v":" "},{"$f":"IF(D380=0,\" \",IF(ISNA(MATCH(D380,Personnel!A:A,0)),IF(ISNA(MATCH(D380,'اطلاعات افراد غیر حقوق بگیر'!A:A,0)),\"وجود ندارد\",LOOKUP(D380,'اطلاعات افراد غیر حقوق بگیر'!A:A,'اطلاعات افراد غیر حقوق بگیر'!C:C)),LOOKUP(D380,Personnel!A:A,Personnel!B:B)))","v":" "},{"$f":"IF(D380=0,0,IF(ISNA(MATCH(D380,Personnel!A:A,0)),IF(ISNA(MATCH(D380,'اطلاعات افراد غیر حقوق بگیر'!A:A,0)),\"وجود ندارد\",LOOKUP(D380,'اطلاعات افراد غیر حقوق بگیر'!A:A,'اطلاعات افراد غیر حقوق بگیر'!D:D)),LOOKUP(D380,Master!D:D,Master!CD:CD)))","v":0},{"$f":"IF(D380=0,\" \",IF(ISNA(MATCH(D380,Personnel!A:A,0)),IF(ISNA(MATCH(D380,'اطلاعات افراد غیر حقوق بگیر'!A:A,0)),\"وجود ندارد\",LOOKUP(D380,'اطلاعات افراد غیر حقوق بگیر'!A:A,'اطلاعات افراد غیر حقوق بگیر'!E:E)),LOOKUP(D380,Master!D:D,Master!AH:AH)))","v":" "},{"$f":"SUMIFS(Pays!G:G,Pays!E:E,1,Pays!D:D,D380)","v":0},{"$f":"SUMIFS(Pays!G:G,Pays!E:E,2,Pays!D:D,D380)","v":0},{"$f":"SUMIFS(Pays!G:G,Pays!E:E,57,Pays!D:D,D380)","v":0},{"$f":"SUMIF(Pays!D:D,D380,Pays!G:G)","v":0},{"$f":"SUMIF(Pays!D:D,D380,Pays!G:G)/176","v":0},{"$f":"IF(M380=0,IF(ISNA(MATCH(D380,'اطلاعات افراد غیر حقوق بگیر'!A:A,0)),0,LOOKUP(D380,'اطلاعات افراد غیر حقوق بگیر'!A:A,'اطلاعات افراد غیر حقوق بگیر'!F:F)),IF(H380=31,Settings!$D$13,ROUND(M380,0)))","v":0},null,0,{"$f":"IF(ISNA(MATCH(D380,Master!D:D,0)),IF(ISNA(MATCH(D380,'اطلاعات افراد غیر حقوق بگیر'!A:A,0)),0,LOOKUP(D380,'اطلاعات افراد غیر حقوق بگیر'!A:A,'اطلاعات افراد غیر حقوق بگیر'!G:G)),LOOKUP(D380,Master!D:D,Master!J:J))","v":0},{"$error":"#N/A"},0,0,{"$f":"IF(O380>#REF!,\"اخطار ساعت اضافه کار از حداکثر بیشتر است\",\" \")","v":{"$error":"#REF!"}},{"$f":"IF(O380>#REF!,1,0)","v":{"$error":"#REF!"}}]
[378,{"$f":"IF(D381=0,\"\",Settings!$D$6)","v":""},{"$f":"IF(D381=0,\"\",LOOKUP(B381,'Rigion Code'!A:A,'Rigion Code'!B:B))","v":""},null,{"$f":"IF(D381=0,\" \",IF(ISNA(MATCH(D381,Personnel!A:A,0)),IF(ISNA(MATCH(D381,'اطلاعات افراد غیر حقوق بگیر'!A:A,0)),\"وجود ندارد\",LOOKUP(Edit!D381,'اطلاعات افراد غیر حقوق بگیر'!A:A,'اطلاعات افراد غیر حقوق بگیر'!B:B)),LOOKUP(D381,Personnel!A:A,Personnel!C:C)))","v":" "},{"$f":"IF(D381=0,\" \",IF(ISNA(MATCH(D381,Personnel!A:A,0)),IF(ISNA(MATCH(D381,'اطلاعات افراد غیر حقوق بگیر'!A:A,0)),\"وجود ندارد\",LOOKUP(D381,'اطلاعات افراد غیر حقوق بگیر'!A:A,'اطلاعات افراد غیر حقوق بگیر'!C:C)),LOOKUP(D381,Personnel!A:A,Personnel!B:B)))","v":" "},{"$f":"IF(D381=0,0,IF(ISNA(MATCH(D381,Personnel!A:A,0)),IF(ISNA(MATCH(D381,'اطلاعات افراد غیر حقوق بگیر'!A:A,0)),\"وجود ندارد\",LOOKUP(D381,'اطلاعات افراد غیر حقوق بگیر'!A:A,'اطلاعات افراد غیر حقوق بگیر'!D:D)),LOOKUP(D381,Master!D:D,Master!CD:CD)))","v":0},{"$f":"IF(D381=0,\" \",IF(ISNA(MATCH(D381,Personnel!A:A,0)),IF(ISNA(MATCH(D381,'اطلاعات افراد غیر حقوق بگیر'!A:A,0)),\"وجود ندارد\",LOOKUP(D381,'اطلاعات افراد غیر حقوق بگیر'!A:A,'اطلاعات افراد غیر حقوق بگیر'!E:E)),LOOKUP(D381,Master!D:D,Master!AH:AH)))","v":" "},{"$f":"SUMIFS(Pays!G:G,Pays!E:E,1,Pays!D:D,D381)","v":0},{"$f":"SUMIFS(Pays!G:G,Pays!E:E,2,Pays!D:D,D381)","v":0},{"$f":"SUMIFS(Pays!G:G,Pays!E:E,57,Pays!D:D,D381)","v":0},{"$f":"SUMIF(Pays!D:D,D381,Pays!G:G)","v":0},{"$f":"SUMIF(Pays!D:D,D381,Pays!G:G)/176","v":0},{"$f":"IF(M381=0,IF(ISNA(MATCH(D381,'اطلاعات افراد غیر حقوق بگیر'!A:A,0)),0,LOOKUP(D381,'اطلاعات افراد غیر حقوق بگیر'!A:A,'اطلاعات افراد غیر حقوق بگیر'!F:F)),IF(H381=31,Settings!$D$13,ROUND(M381,0)))","v":0},null,0,{"$f":"IF(ISNA(MATCH(D381,Master!D:D,0)),IF(ISNA(MATCH(D381,'اطلاعات افراد غیر حقوق بگیر'!A:A,0)),0,LOOKUP(D381,'اطلاعات افراد غیر حقوق بگیر'!A:A,'اطلاعات افراد غیر حقوق بگیر'!G:G)),LOOKUP(D381,Master!D:D,Master!J:J))","v":0},{"$error":"#N/A"},0,0,{"$f":"IF(O381>#REF!,\"اخطار ساعت اضافه کار از حداکثر بیشتر است\",\" \")","v":{"$error":"#REF!"}},{"$f":"IF(O381>#REF!,1,0)","v":{"$error":"#REF!"}}]
[379,{"$f":"IF(D382=0,\"\",Settings!$D$6)","v":""},{"$f":"IF(D382=0,\"\",LOOKUP(B382,'Rigion Code'!A:A,'Rigion Code'!B:B))","v":""},null,{"$f":"IF(D382=0,\" \",IF(ISNA(MATCH(D382,Personnel!A:A,0)),IF(ISNA(MATCH(D382,'اطلاعات افراد غیر حقوق بگیر'!A:A,0)),\"وجود ندارد\",LOOKUP(Edit!D382,'اطلاعات افراد غیر حقوق بگیر'!A:A,'اطلاعات افراد غیر حقوق بگیر'!B:B)),LOOKUP(D382,Personnel!A:A,Personnel!C:C)))","v":" "},{"$f":"IF(D382=0,\" \",IF(ISNA(MATCH(D382,Personnel!A:A,0)),IF(ISNA(MATCH(D382,'اطلاعات افراد غیر حقوق بگیر'!A:A,0)),\"وجود ندارد\",LOOKUP(D382,'اطلاعات افراد غیر حقوق بگیر'!A:A,'اطلاعات افراد غیر حقوق بگیر'!C:C)),LOOKUP(D382,Personnel!A:A,Personnel!B:B)))","v":" "},{"$f":"IF(D382=0,0,IF(ISNA(MATCH(D382,Personnel!A:A,0)),IF(ISNA(MATCH(D382,'اطلاعات افراد غیر حقوق بگیر'!A:A,0)),\"وجود ندارد\",LOOKUP(D382,'اطلاعات افراد غیر حقوق بگیر'!A:A,'اطلاعات افراد غیر حقوق بگیر'!D:D)),LOOKUP(D382,Master!D:D,Master!CD:CD)))","v":0},{"$f":"IF(D382=0,\" \",IF(ISNA(MATCH(D382,Personnel!A:A,0)),IF(ISNA(MATCH(D382,'اطلاعات افراد غیر حقوق بگیر'!A:A,0)),\"وجود ندارد\",LOOKUP(D382,'اطلاعات افراد غیر حقوق بگیر'!A:A,'اطلاعات افراد غیر حقوق بگیر'!E:E)),LOOKUP(D382,Master!D:D,Master!AH:AH)))","v":" "},{"$f":"SUMIFS(Pays!G:G,Pays!E:E,1,Pays!D:D,D382)","v":0},{"$f":"SUMIFS(Pays!G:G,Pays!E:E,2,Pays!D:D,D382)","v":0},{"$f":"SUMIFS(Pays!G:G,Pays!E:E,57,Pays!D:D,D382)","v":0},{"$f":"SUMIF(Pays!D:D,D382,Pays!G:G)","v":0},{"$f":"SUMIF(Pays!D:D,D382,Pays!G:G)/176","v":0},{"$f":"IF(M382=0,IF(ISNA(MATCH(D382,'اطلاعات افراد غیر حقوق بگیر'!A:A,0)),0,LOOKUP(D382,'اطلاعات افراد غیر حقوق بگیر'!A:A,'اطلاعات افراد غیر حقوق بگیر'!F:F)),IF(H382=31,Settings!$D$13,ROUND(M382,0)))","v":0},null,0,{"$f":"IF(ISNA(MATCH(D382,Master!D:D,0)),IF(ISNA(MATCH(D382,'اطلاعات افراد غیر حقوق بگیر'!A:A,0)),0,LOOKUP(D382,'اطلاعات افراد غیر حقوق بگیر'!A:A,'اطلاعات افراد غیر حقوق بگیر'!G:G)),LOOKUP(D382,Master!D:D,Master!J:J))","v":0},{"$error":"#N/A"},0,0,{"$f":"IF(O382>#REF!,\"اخطار ساعت اضافه کار از حداکثر بیشتر است\",\" \")","v":{"$error":"#REF!"}},{"$f":"IF(O382>#REF!,1,0)","v":{"$error":"#REF!"}}]
[380,{"$f":"IF(D383=0,\"\",Settings!$D$6)","v":""},{"$f":"IF(D383=0,\"\",LOOKUP(B383,'Rigion Code'!A:A,'Rigion Code'!B:B))","v":""},null,{"$f":"IF(D383=0,\" \",IF(ISNA(MATCH(D383,Personnel!A:A,0)),IF(ISNA(MATCH(D383,'اطلاعات افراد غیر حقوق بگیر'!A:A,0)),\"وجود ندارد\",LOOKUP(Edit!D383,'اطلاعات افراد غیر حقوق بگیر'!A:A,'اطلاعات افراد غیر حقوق بگیر'!B:B)),LOOKUP(D383,Personnel!A:A,Personnel!C:C)))","v":" "},{"$f":"IF(D383=0,\" \",IF(ISNA(MATCH(D383,Personnel!A:A,0)),IF(ISNA(MATCH(D383,'اطلاعات افراد غیر حقوق بگیر'!A:A,0)),\"وجود ندارد\",LOOKUP(D383,'اطلاعات افراد غیر حقوق بگیر'!A:A,'اطلاعات افراد غیر حقوق بگیر'!C:C)),LOOKUP(D383,Personnel!A:A,Personnel!B:B)))","v":" "},{"$f":"IF(D383=0,0,IF(ISNA(MATCH(D383,Personnel!A:A,0)),IF(ISNA(MATCH(D383,'اطلاعات افراد غیر حقوق بگیر'!A:A,0)),\"وجود ندارد\",LOOKUP(D383,'اطلاعات افراد غیر حقوق بگیر'!A:A,'اطلاعات افراد غیر حقوق بگیر'!D:D)),LOOKUP(D383,Master!D:D,Master!CD:CD)))","v":0},{"$f":"IF(D383=0,\" \",IF(ISNA(MATCH(D383,Personnel!A:A,0)),IF(ISNA(MATCH(D383,'اطلاعات افراد غیر حقوق بگیر'!A:A,0)),\"وجود ندارد\",LOOKUP(D383,'اطلاعات افراد غیر حقوق بگیر'!A:A,'اطلاعات افراد غیر حقوق بگیر'!E:E)),LOOKUP(D383,Master!D:D,Master!AH:AH)))","v":" "},{"$f":"SUMIFS(Pays!G:G,Pays!E:E,1,Pays!D:D,D383)","v":0},{"$f":"SUMIFS(Pays!G:G,Pays!E:E,2,Pays!D:D,D383)","v":0},{"$f":"SUMIFS(Pays!G:G,Pays!E:E,57,Pays!D:D,D383)","v":0},{"$f":"SUMIF(Pays!D:D,D383,Pays!G:G)","v":0},{"$f":"SUMIF(Pays!D:D,D383,Pays!G:G)/176","v":0},{"$f":"IF(M383=0,IF(ISNA(MATCH(D383,'اطلاعات افراد غیر حقوق بگیر'!A:A,0)),0,LOOKUP(D383,'اطلاعات افراد غیر حقوق بگیر'!A:A,'اطلاعات افراد غیر حقوق بگیر'!F:F)),IF(H383=31,Settings!$D$13,ROUND(M383,0)))","v":0},null,0,{"$f":"IF(ISNA(MATCH(D383,Master!D:D,0)),IF(ISNA(MATCH(D383,'اطلاعات افراد غیر حقوق بگیر'!A:A,0)),0,LOOKUP(D383,'اطلاعات افراد غیر حقوق بگیر'!A:A,'اطلاعات افراد غیر حقوق بگیر'!G:G)),LOOKUP(D383,Master!D:D,Master!J:J))","v":0},{"$error":"#N/A"},0,0,{"$f":"IF(O383>#REF!,\"اخطار ساعت اضافه کار از حداکثر بیشتر است\",\" \")","v":{"$error":"#REF!"}},{"$f":"IF(O383>#REF!,1,0)","v":{"$error":"#REF!"}}]
[381,{"$f":"IF(D384=0,\"\",Settings!$D$6)","v":""},{"$f":"IF(D384=0,\"\",LOOKUP(B384,'Rigion Code'!A:A,'Rigion Code'!B:B))","v":""},null,{"$f":"IF(D384=0,\" \",IF(ISNA(MATCH(D384,Personnel!A:A,0)),IF(ISNA(MATCH(D384,'اطلاعات افراد غیر حقوق بگیر'!A:A,0)),\"وجود ندارد\",LOOKUP(Edit!D384,'اطلاعات افراد غیر حقوق بگیر'!A:A,'اطلاعات افراد غیر حقوق بگیر'!B:B)),LOOKUP(D384,Personnel!A:A,Personnel!C:C)))","v":" "},{"$f":"IF(D384=0,\" \",IF(ISNA(MATCH(D384,Personnel!A:A,0)),IF(ISNA(MATCH(D384,'اطلاعات افراد غیر حقوق بگیر'!A:A,0)),\"وجود ندارد\",LOOKUP(D384,'اطلاعات افراد غیر حقوق بگیر'!A:A,'اطلاعات افراد غیر حقوق بگیر'!C:C)),LOOKUP(D384,Personnel!A:A,Personnel!B:B)))","v":" "},{"$f":"IF(D384=0,0,IF(ISNA(MATCH(D384,Personnel!A:A,0)),IF(ISNA(MATCH(D384,'اطلاعات افراد غیر حقوق بگیر'!A:A,0)),\"وجود ندارد\",LOOKUP(D384,'اطلاعات افراد غیر حقوق بگیر'!A:A,'اطلاعات افراد غیر حقوق بگیر'!D:D)),LOOKUP(D384,Master!D:D,Master!CD:CD)))","v":0},{"$f":"IF(D384=0,\" \",IF(ISNA(MATCH(D384,Personnel!A:A,0)),IF(ISNA(MATCH(D384,'اطلاعات افراد غیر حقوق بگیر'!A:A,0)),\"وجود ندارد\",LOOKUP(D384,'اطلاعات افراد غیر حقوق بگیر'!A:A,'اطلاعات افراد غیر حقوق بگیر'!E:E)),LOOKUP(D384,Master!D:D,Master!AH:AH)))","v":" "},{"$f":"SUMIFS(Pays!G:G,Pays!E:E,1,Pays!D:D,D384)","v":0},{"$f":"SUMIFS(Pays!G:G,Pays!E:E,2,Pays!D:D,D384)","v":0},{"$f":"SUMIFS(Pays!G:G,Pays!E:E,57,Pays!D:D,D384)","v":0},{"$f":"SUMIF(Pays!D:D,D384,Pays!G:G)","v":0},{"$f":"SUMIF(Pays!D:D,D384,Pays!G:G)/176","v":0},{"$f":"IF(M384=0,IF(ISNA(MATCH(D384,'اطلاعات افراد غیر حقوق بگیر'!A:A,0)),0,LOOKUP(D384,'اطلاعات افراد غیر حقوق بگیر'!A:A,'اطلاعات افراد غیر حقوق بگیر'!F:F)),IF(H384=31,Settings!$D$13,ROUND(M384,0)))","v":0},null,0,{"$f":"IF(ISNA(MATCH(D384,Master!D:D,0)),IF(ISNA(MATCH(D384,'اطلاعات افراد غیر حقوق بگیر'!A:A,0)),0,LOOKUP(D384,'اطلاعات افراد غیر حقوق بگیر'!A:A,'اطلاعات افراد غیر حقوق بگیر'!G:G)),LOOKUP(D384,Master!D:D,Master!J:J))","v":0},{"$error":"#N/A"},0,0,{"$f":"IF(O384>#REF!,\"اخطار ساعت اضافه کار از حداکثر بیشتر است\",\" \")","v":{"$error":"#REF!"}},{"$f":"IF(O384>#REF!,1,0)","v":{"$error":"#REF!"}}]
[382,{"$f":"IF(D385=0,\"\",Settings!$D$6)","v":""},{"$f":"IF(D385=0,\"\",LOOKUP(B385,'Rigion Code'!A:A,'Rigion Code'!B:B))","v":""},null,{"$f":"IF(D385=0,\" \",IF(ISNA(MATCH(D385,Personnel!A:A,0)),IF(ISNA(MATCH(D385,'اطلاعات افراد غیر حقوق بگیر'!A:A,0)),\"وجود ندارد\",LOOKUP(Edit!D385,'اطلاعات افراد غیر حقوق بگیر'!A:A,'اطلاعات افراد غیر حقوق بگیر'!B:B)),LOOKUP(D385,Personnel!A:A,Personnel!C:C)))","v":" "},{"$f":"IF(D385=0,\" \",IF(ISNA(MATCH(D385,Personnel!A:A,0)),IF(ISNA(MATCH(D385,'اطلاعات افراد غیر حقوق بگیر'!A:A,0)),\"وجود ندارد\",LOOKUP(D385,'اطلاعات افراد غیر حقوق بگیر'!A:A,'اطلاعات افراد غیر حقوق بگیر'!C:C)),LOOKUP(D385,Personnel!A:A,Personnel!B:B)))","v":" "},{"$f":"IF(D385=0,0,IF(ISNA(MATCH(D385,Personnel!A:A,0)),IF(ISNA(MATCH(D385,'اطلاعات افراد غیر حقوق بگیر'!A:A,0)),\"وجود ندارد\",LOOKUP(D385,'اطلاعات افراد غیر حقوق بگیر'!A:A,'اطلاعات افراد غیر حقوق بگیر'!D:D)),LOOKUP(D385,Master!D:D,Master!CD:CD)))","v":0},{"$f":"IF(D385=0,\" \",IF(ISNA(MATCH(D385,Personnel!A:A,0)),IF(ISNA(MATCH(D385,'اطلاعات افراد غیر حقوق بگیر'!A:A,0)),\"وجود ندارد\",LOOKUP(D385,'اطلاعات افراد غیر حقوق بگیر'!A:A,'اطلاعات افراد غیر حقوق بگیر'!E:E)),LOOKUP(D385,Master!D:D,Master!AH:AH)))","v":" "},{"$f":"SUMIFS(Pays!G:G,Pays!E:E,1,Pays!D:D,D385)","v":0},{"$f":"SUMIFS(Pays!G:G,Pays!E:E,2,Pays!D:D,D385)","v":0},{"$f":"SUMIFS(Pays!G:G,Pays!E:E,57,Pays!D:D,D385)","v":0},{"$f":"SUMIF(Pays!D:D,D385,Pays!G:G)","v":0},{"$f":"SUMIF(Pays!D:D,D385,Pays!G:G)/176","v":0},{"$f":"IF(M385=0,IF(ISNA(MATCH(D385,'اطلاعات افراد غیر حقوق بگیر'!A:A,0)),0,LOOKUP(D385,'اطلاعات افراد غیر حقوق بگیر'!A:A,'اطلاعات افراد غیر حقوق بگیر'!F:F)),IF(H385=31,Settings!$D$13,ROUND(M385,0)))","v":0},null,0,{"$f":"IF(ISNA(MATCH(D385,Master!D:D,0)),IF(ISNA(MATCH(D385,'اطلاعات افراد غیر حقوق بگیر'!A:A,0)),0,LOOKUP(D385,'اطلاعات افراد غیر حقوق بگیر'!A:A,'اطلاعات افراد غیر حقوق بگیر'!G:G)),LOOKUP(D385,Master!D:D,Master!J:J))","v":0},{"$error":"#N/A"},0,0,{"$f":"IF(O385>#REF!,\"اخطار ساعت اضافه کار از حداکثر بیشتر است\",\" \")","v":{"$error":"#REF!"}},{"$f":"IF(O385>#REF!,1,0)","v":{"$error":"#REF!"}}]
[383,{"$f":"IF(D386=0,\"\",Settings!$D$6)","v":""},{"$f":"IF(D386=0,\"\",LOOKUP(B386,'Rigion Code'!A:A,'Rigion Code'!B:B))","v":""},null,{"$f":"IF(D386=0,\" \",IF(ISNA(MATCH(D386,Personnel!A:A,0)),IF(ISNA(MATCH(D386,'اطلاعات افراد غیر حقوق بگیر'!A:A,0)),\"وجود ندارد\",LOOKUP(Edit!D386,'اطلاعات افراد غیر حقوق بگیر'!A:A,'اطلاعات افراد غیر حقوق بگیر'!B:B)),LOOKUP(D386,Personnel!A:A,Personnel!C:C)))","v":" "},{"$f":"IF(D386=0,\" \",IF(ISNA(MATCH(D386,Personnel!A:A,0)),IF(ISNA(MATCH(D386,'اطلاعات افراد غیر حقوق بگیر'!A:A,0)),\"وجود ندارد\",LOOKUP(D386,'اطلاعات افراد غیر حقوق بگیر'!A:A,'اطلاعات افراد غیر حقوق بگیر'!C:C)),LOOKUP(D386,Personnel!A:A,Personnel!B:B)))","v":" "},{"$f":"IF(D386=0,0,IF(ISNA(MATCH(D386,Personnel!A:A,0)),IF(ISNA(MATCH(D386,'اطلاعات افراد غیر حقوق بگیر'!A:A,0)),\"وجود ندارد\",LOOKUP(D386,'اطلاعات افراد غیر حقوق بگیر'!A:A,'اطلاعات افراد غیر حقوق بگیر'!D:D)),LOOKUP(D386,Master!D:D,Master!CD:CD)))","v":0},{"$f":"IF(D386=0,\" \",IF(ISNA(MATCH(D386,Personnel!A:A,0)),IF(ISNA(MATCH(D386,'اطلاعات افراد غیر حقوق بگیر'!A:A,0)),\"وجود ندارد\",LOOKUP(D386,'اطلاعات افراد غیر حقوق بگیر'!A:A,'اطلاعات افراد غیر حقوق بگیر'!E:E)),LOOKUP(D386,Master!D:D,Master!AH:AH)))","v":" "},{"$f":"SUMIFS(Pays!G:G,Pays!E:E,1,Pays!D:D,D386)","v":0},{"$f":"SUMIFS(Pays!G:G,Pays!E:E,2,Pays!D:D,D386)","v":0},{"$f":"SUMIFS(Pays!G:G,Pays!E:E,57,Pays!D:D,D386)","v":0},{"$f":"SUMIF(Pays!D:D,D386,Pays!G:G)","v":0},{"$f":"SUMIF(Pays!D:D,D386,Pays!G:G)/176","v":0},{"$f":"IF(M386=0,IF(ISNA(MATCH(D386,'اطلاعات افراد غیر حقوق بگیر'!A:A,0)),0,LOOKUP(D386,'اطلاعات افراد غیر حقوق بگیر'!A:A,'اطلاعات افراد غیر حقوق بگیر'!F:F)),IF(H386=31,Settings!$D$13,ROUND(M386,0)))","v":0},null,0,{"$f":"IF(ISNA(MATCH(D386,Master!D:D,0)),IF(ISNA(MATCH(D386,'اطلاعات افراد غیر حقوق بگیر'!A:A,0)),0,LOOKUP(D386,'اطلاعات افراد غیر حقوق بگیر'!A:A,'اطلاعات افراد غیر حقوق بگیر'!G:G)),LOOKUP(D386,Master!D:D,Master!J:J))","v":0},{"$error":"#N/A"},0,0,{"$f":"IF(O386>#REF!,\"اخطار ساعت اضافه کار از حداکثر بیشتر است\",\" \")","v":{"$error":"#REF!"}},{"$f":"IF(O386>#REF!,1,0)","v":{"$error":"#REF!"}}]
[384,{"$f":"IF(D387=0,\"\",Settings!$D$6)","v":""},{"$f":"IF(D387=0,\"\",LOOKUP(B387,'Rigion Code'!A:A,'Rigion Code'!B:B))","v":""},null,{"$f":"IF(D387=0,\" \",IF(ISNA(MATCH(D387,Personnel!A:A,0)),IF(ISNA(MATCH(D387,'اطلاعات افراد غیر حقوق بگیر'!A:A,0)),\"وجود ندارد\",LOOKUP(Edit!D387,'اطلاعات افراد غیر حقوق بگیر'!A:A,'اطلاعات افراد غیر حقوق بگیر'!B:B)),LOOKUP(D387,Personnel!A:A,Personnel!C:C)))","v":" "},{"$f":"IF(D387=0,\" \",IF(ISNA(MATCH(D387,Personnel!A:A,0)),IF(ISNA(MATCH(D387,'اطلاعات افراد غیر حقوق بگیر'!A:A,0)),\"وجود ندارد\",LOOKUP(D387,'اطلاعات افراد غیر حقوق بگیر'!A:A,'اطلاعات افراد غیر حقوق بگیر'!C:C)),LOOKUP(D387,Personnel!A:A,Personnel!B:B)))","v":" "},{"$f":"IF(D387=0,0,IF(ISNA(MATCH(D387,Personnel!A:A,0)),IF(ISNA(MATCH(D387,'اطلاعات افراد غیر حقوق بگیر'!A:A,0)),\"وجود ندارد\",LOOKUP(D387,'اطلاعات افراد غیر حقوق بگیر'!A:A,'اطلاعات افراد غیر حقوق بگیر'!D:D)),LOOKUP(D387,Master!D:D,Master!CD:CD)))","v":0},{"$f":"IF(D387=0,\" \",IF(ISNA(MATCH(D387,Personnel!A:A,0)),IF(ISNA(MATCH(D387,'اطلاعات افراد غیر حقوق بگیر'!A:A,0)),\"وجود ندارد\",LOOKUP(D387,'اطلاعات افراد غیر حقوق بگیر'!A:A,'اطلاعات افراد غیر حقوق بگیر'!E:E)),LOOKUP(D387,Master!D:D,Master!AH:AH)))","v":" "},{"$f":"SUMIFS(Pays!G:G,Pays!E:E,1,Pays!D:D,D387)","v":0},{"$f":"SUMIFS(Pays!G:G,Pays!E:E,2,Pays!D:D,D387)","v":0},{"$f":"SUMIFS(Pays!G:G,Pays!E:E,57,Pays!D:D,D387)","v":0},{"$f":"SUMIF(Pays!D:D,D387,Pays!G:G)","v":0},{"$f":"SUMIF(Pays!D:D,D387,Pays!G:G)/176","v":0},{"$f":"IF(M387=0,IF(ISNA(MATCH(D387,'اطلاعات افراد غیر حقوق بگیر'!A:A,0)),0,LOOKUP(D387,'اطلاعات افراد غیر حقوق بگیر'!A:A,'اطلاعات افراد غیر حقوق بگیر'!F:F)),IF(H387=31,Settings!$D$13,ROUND(M387,0)))","v":0},null,0,{"$f":"IF(ISNA(MATCH(D387,Master!D:D,0)),IF(ISNA(MATCH(D387,'اطلاعات افراد غیر حقوق بگیر'!A:A,0)),0,LOOKUP(D387,'اطلاعات افراد غیر حقوق بگیر'!A:A,'اطلاعات افراد غیر حقوق بگیر'!G:G)),LOOKUP(D387,Master!D:D,Master!J:J))","v":0},{"$error":"#N/A"},0,0,{"$f":"IF(O387>#REF!,\"اخطار ساعت اضافه کار از حداکثر بیشتر است\",\" \")","v":{"$error":"#REF!"}},{"$f":"IF(O387>#REF!,1,0)","v":{"$error":"#REF!"}}]
[385,{"$f":"IF(D388=0,\"\",Settings!$D$6)","v":""},{"$f":"IF(D388=0,\"\",LOOKUP(B388,'Rigion Code'!A:A,'Rigion Code'!B:B))","v":""},null,{"$f":"IF(D388=0,\" \",IF(ISNA(MATCH(D388,Personnel!A:A,0)),IF(ISNA(MATCH(D388,'اطلاعات افراد غیر حقوق بگیر'!A:A,0)),\"وجود ندارد\",LOOKUP(Edit!D388,'اطلاعات افراد غیر حقوق بگیر'!A:A,'اطلاعات افراد غیر حقوق بگیر'!B:B)),LOOKUP(D388,Personnel!A:A,Personnel!C:C)))","v":" "},{"$f":"IF(D388=0,\" \",IF(ISNA(MATCH(D388,Personnel!A:A,0)),IF(ISNA(MATCH(D388,'اطلاعات افراد غیر حقوق بگیر'!A:A,0)),\"وجود ندارد\",LOOKUP(D388,'اطلاعات افراد غیر حقوق بگیر'!A:A,'اطلاعات افراد غیر حقوق بگیر'!C:C)),LOOKUP(D388,Personnel!A:A,Personnel!B:B)))","v":" "},{"$f":"IF(D388=0,0,IF(ISNA(MATCH(D388,Personnel!A:A,0)),IF(ISNA(MATCH(D388,'اطلاعات افراد غیر حقوق بگیر'!A:A,0)),\"وجود ندارد\",LOOKUP(D388,'اطلاعات افراد غیر حقوق بگیر'!A:A,'اطلاعات افراد غیر حقوق بگیر'!D:D)),LOOKUP(D388,Master!D:D,Master!CD:CD)))","v":0},{"$f":"IF(D388=0,\" \",IF(ISNA(MATCH(D388,Personnel!A:A,0)),IF(ISNA(MATCH(D388,'اطلاعات افراد غیر حقوق بگیر'!A:A,0)),\"وجود ندارد\",LOOKUP(D388,'اطلاعات افراد غیر حقوق بگیر'!A:A,'اطلاعات افراد غیر حقوق بگیر'!E:E)),LOOKUP(D388,Master!D:D,Master!AH:AH)))","v":" "},{"$f":"SUMIFS(Pays!G:G,Pays!E:E,1,Pays!D:D,D388)","v":0},{"$f":"SUMIFS(Pays!G:G,Pays!E:E,2,Pays!D:D,D388)","v":0},{"$f":"SUMIFS(Pays!G:G,Pays!E:E,57,Pays!D:D,D388)","v":0},{"$f":"SUMIF(Pays!D:D,D388,Pays!G:G)","v":0},{"$f":"SUMIF(Pays!D:D,D388,Pays!G:G)/176","v":0},{"$f":"IF(M388=0,IF(ISNA(MATCH(D388,'اطلاعات افراد غیر حقوق بگیر'!A:A,0)),0,LOOKUP(D388,'اطلاعات افراد غیر حقوق بگیر'!A:A,'اطلاعات افراد غیر حقوق بگیر'!F:F)),IF(H388=31,Settings!$D$13,ROUND(M388,0)))","v":0},null,{"$f":"N388*O388","v":0},{"$f":"IF(ISNA(MATCH(D388,Master!D:D,0)),IF(ISNA(MATCH(D388,'اطلاعات افراد غیر حقوق بگیر'!A:A,0)),0,LOOKUP(D388,'اطلاعات افراد غیر حقوق بگیر'!A:A,'اطلاعات افراد غیر حقوق بگیر'!G:G)),LOOKUP(D388,Master!D:D,Master!J:J))","v":0},{"$error":"#N/A"},0,0,{"$f":"IF(O388>#REF!,\"اخطار ساعت اضافه کار از حداکثر بیشتر است\",\" \")","v":{"$error":"#REF!"}},{"$f":"IF(O388>#REF!,1,0)","v":{"$error":"#REF!"}}]
[386,{"$f":"IF(D389=0,\"\",Settings!$D$6)","v":""},{"$f":"IF(D389=0,\"\",LOOKUP(B389,'Rigion Code'!A:A,'Rigion Code'!B:B))","v":""},null,{"$f":"IF(D389=0,\" \",IF(ISNA(MATCH(D389,Personnel!A:A,0)),IF(ISNA(MATCH(D389,'اطلاعات افراد غیر حقوق بگیر'!A:A,0)),\"وجود ندارد\",LOOKUP(Edit!D389,'اطلاعات افراد غیر حقوق بگیر'!A:A,'اطلاعات افراد غیر حقوق بگیر'!B:B)),LOOKUP(D389,Personnel!A:A,Personnel!C:C)))","v":" "},{"$f":"IF(D389=0,\" \",IF(ISNA(MATCH(D389,Personnel!A:A,0)),IF(ISNA(MATCH(D389,'اطلاعات افراد غیر حقوق بگیر'!A:A,0)),\"وجود ندارد\",LOOKUP(D389,'اطلاعات افراد غیر حقوق بگیر'!A:A,'اطلاعات افراد غیر حقوق بگیر'!C:C)),LOOKUP(D389,Personnel!A:A,Personnel!B:B)))","v":" "},{"$f":"IF(D389=0,0,IF(ISNA(MATCH(D389,Personnel!A:A,0)),IF(ISNA(MATCH(D389,'اطلاعات افراد غیر حقوق بگیر'!A:A,0)),\"وجود ندارد\",LOOKUP(D389,'اطلاعات افراد غیر حقوق بگیر'!A:A,'اطلاعات افراد غیر حقوق بگیر'!D:D)),LOOKUP(D389,Master!D:D,Master!CD:CD)))","v":0},{"$f":"IF(D389=0,\" \",IF(ISNA(MATCH(D389,Personnel!A:A,0)),IF(ISNA(MATCH(D389,'اطلاعات افراد غیر حقوق بگیر'!A:A,0)),\"وجود ندارد\",LOOKUP(D389,'اطلاعات افراد غیر حقوق بگیر'!A:A,'اطلاعات افراد غیر حقوق بگیر'!E:E)),LOOKUP(D389,Master!D:D,Master!AH:AH)))","v":" "},{"$f":"SUMIFS(Pays!G:G,Pays!E:E,1,Pays!D:D,D389)","v":0},{"$f":"SUMIFS(Pays!G:G,Pays!E:E,2,Pays!D:D,D389)","v":0},{"$f":"SUMIFS(Pays!G:G,Pays!E:E,57,Pays!D:D,D389)","v":0},{"$f":"SUMIF(Pays!D:D,D389,Pays!G:G)","v":0},{"$f":"SUMIF(Pays!D:D,D389,Pays!G:G)/176","v":0},{"$f":"IF(M389=0,IF(ISNA(MATCH(D389,'اطلاعات افراد غیر حقوق بگیر'!A:A,0)),0,LOOKUP(D389,'اطلاعات افراد غیر حقوق بگیر'!A:A,'اطلاعات افراد غیر حقوق بگیر'!F:F)),IF(H389=31,Settings!$D$13,ROUND(M389,0)))","v":0},null,0,{"$f":"IF(ISNA(MATCH(D389,Master!D:D,0)),IF(ISNA(MATCH(D389,'اطلاعات افراد غیر حقوق بگیر'!A:A,0)),0,LOOKUP(D389,'اطلاعات افراد غیر حقوق بگیر'!A:A,'اطلاعات افراد غیر حقوق بگیر'!G:G)),LOOKUP(D389,Master!D:D,Master!J:J))","v":0},{"$f":"LOOKUP(Q389,$W$4:$W$12,$X$4:$X$12)","v":{"$error":"#N/A"}},{"$f":"IF(P389=0,0,ROUND(P389*R389/100,0))","v":0},{"$f":"P389-S389","v":0},{"$f":"IF(O389>#REF!,\"اخطار ساعت اضافه کار از حداکثر بیشتر است\",\" \")","v":{"$error":"#REF!"}},{"$f":"IF(O389>#REF!,1,0)","v":{"$error":"#REF!"}}]
[{"$f":"A389+1","v":387},{"$f":"IF(D390=0,\"\",Settings!$D$6)","v":""},{"$f":"IF(D390=0,\"\",LOOKUP(B390,'Rigion Code'!A:A,'Rigion Code'!B:B))","v":""},null,{"$f":"IF(D390=0,\" \",IF(ISNA(MATCH(D390,Personnel!A:A,0)),IF(ISNA(MATCH(D390,'اطلاعات افراد غیر حقوق بگیر'!A:A,0)),\"وجود ندارد\",LOOKUP(Edit!D390,'اطلاعات افراد غیر حقوق بگیر'!A:A,'اطلاعات افراد غیر حقوق بگیر'!B:B)),LOOKUP(D390,Personnel!A:A,Personnel!C:C)))","v":" "},{"$f":"IF(D390=0,\" \",IF(ISNA(MATCH(D390,Personnel!A:A,0)),IF(ISNA(MATCH(D390,'اطلاعات افراد غیر حقوق بگیر'!A:A,0)),\"وجود ندارد\",LOOKUP(D390,'اطلاعات افراد غیر حقوق بگیر'!A:A,'اطلاعات افراد غیر حقوق بگیر'!C:C)),LOOKUP(D390,Personnel!A:A,Personnel!B:B)))","v":" "},{"$f":"IF(D390=0,0,IF(ISNA(MATCH(D390,Personnel!A:A,0)),IF(ISNA(MATCH(D390,'اطلاعات افراد غیر حقوق بگیر'!A:A,0)),\"وجود ندارد\",LOOKUP(D390,'اطلاعات افراد غیر حقوق بگیر'!A:A,'اطلاعات افراد غیر حقوق بگیر'!D:D)),LOOKUP(D390,Master!D:D,Master!CD:CD)))","v":0},{"$f":"IF(D390=0,\" \",IF(ISNA(MATCH(D390,Personnel!A:A,0)),IF(ISNA(MATCH(D390,'اطلاعات افراد غیر حقوق بگیر'!A:A,0)),\"وجود ندارد\",LOOKUP(D390,'اطلاعات افراد غیر حقوق بگیر'!A:A,'اطلاعات افراد غیر حقوق بگیر'!E:E)),LOOKUP(D390,Master!D:D,Master!AH:AH)))","v":" "},{"$f":"SUMIFS(Pays!G:G,Pays!E:E,1,Pays!D:D,D390)","v":0},{"$f":"SUMIFS(Pays!G:G,Pays!E:E,2,Pays!D:D,D390)","v":0},{"$f":"SUMIFS(Pays!G:G,Pays!E:E,57,Pays!D:D,D390)","v":0},{"$f":"SUMIF(Pays!D:D,D390,Pays!G:G)","v":0},{"$f":"SUMIF(Pays!D:D,D390,Pays!G:G)/176","v":0},{"$f":"IF(M390=0,IF(ISNA(MATCH(D390,'اطلاعات افراد غیر حقوق بگیر'!A:A,0)),0,LOOKUP(D390,'اطلاعات افراد غیر حقوق بگیر'!A:A,'اطلاعات افراد غیر حقوق بگیر'!F:F)),IF(H390=31,Settings!$D$13,ROUND(M390,0)))","v":0},null,0,{"$f":"IF(ISNA(MATCH(D390,Master!D:D,0)),IF(ISNA(MATCH(D390,'اطلاعات افراد غیر حقوق بگیر'!A:A,0)),0,LOOKUP(D390,'اطلاعات افراد غیر حقوق بگیر'!A:A,'اطلاعات افراد غیر حقوق بگیر'!G:G)),LOOKUP(D390,Master!D:D,Master!J:J))","v":0},{"$error":"#N/A"},0,0,{"$f":"IF(O390>#REF!,\"اخطار ساعت اضافه کار از حداکثر بیشتر است\",\" \")","v":{"$error":"#REF!"}},{"$f":"IF(O390>#REF!,1,0)","v":{"$error":"#REF!"}}]
[388,{"$f":"IF(D391=0,\"\",Settings!$D$6)","v":""},{"$f":"IF(D391=0,\"\",LOOKUP(B391,'Rigion Code'!A:A,'Rigion Code'!B:B))","v":""},null,{"$f":"IF(D391=0,\" \",IF(ISNA(MATCH(D391,Personnel!A:A,0)),IF(ISNA(MATCH(D391,'اطلاعات افراد غیر حقوق بگیر'!A:A,0)),\"وجود ندارد\",LOOKUP(Edit!D391,'اطلاعات افراد غیر حقوق بگیر'!A:A,'اطلاعات افراد غیر حقوق بگیر'!B:B)),LOOKUP(D391,Personnel!A:A,Personnel!C:C)))","v":" "},{"$f":"IF(D391=0,\" \",IF(ISNA(MATCH(D391,Personnel!A:A,0)),IF(ISNA(MATCH(D391,'اطلاعات افراد غیر حقوق بگیر'!A:A,0)),\"وجود ندارد\",LOOKUP(D391,'اطلاعات افراد غیر حقوق بگیر'!A:A,'اطلاعات افراد غیر حقوق بگیر'!C:C)),LOOKUP(D391,Personnel!A:A,Personnel!B:B)))","v":" "},{"$f":"IF(D391=0,0,IF(ISNA(MATCH(D391,Personnel!A:A,0)),IF(ISNA(MATCH(D391,'اطلاعات افراد غیر حقوق بگیر'!A:A,0)),\"وجود ندارد\",LOOKUP(D391,'اطلاعات افراد غیر حقوق بگیر'!A:A,'اطلاعات افراد غیر حقوق بگیر'!D:D)),LOOKUP(D391,Master!D:D,Master!CD:CD)))","v":0},{"$f":"IF(D391=0,\" \",IF(ISNA(MATCH(D391,Personnel!A:A,0)),IF(ISNA(MATCH(D391,'اطلاعات افراد غیر حقوق بگیر'!A:A,0)),\"وجود ندارد\",LOOKUP(D391,'اطلاعات افراد غیر حقوق بگیر'!A:A,'اطلاعات افراد غیر حقوق بگیر'!E:E)),LOOKUP(D391,Master!D:D,Master!AH:AH)))","v":" "},{"$f":"SUMIFS(Pays!G:G,Pays!E:E,1,Pays!D:D,D391)","v":0},{"$f":"SUMIFS(Pays!G:G,Pays!E:E,2,Pays!D:D,D391)","v":0},{"$f":"SUMIFS(Pays!G:G,Pays!E:E,57,Pays!D:D,D391)","v":0},{"$f":"SUMIF(Pays!D:D,D391,Pays!G:G)","v":0},{"$f":"SUMIF(Pays!D:D,D391,Pays!G:G)/176","v":0},{"$f":"IF(M391=0,IF(ISNA(MATCH(D391,'اطلاعات افراد غیر حقوق بگیر'!A:A,0)),0,LOOKUP(D391,'اطلاعات افراد غیر حقوق بگیر'!A:A,'اطلاعات افراد غیر حقوق بگیر'!F:F)),IF(H391=31,Settings!$D$13,ROUND(M391,0)))","v":0},null,0,{"$f":"IF(ISNA(MATCH(D391,Master!D:D,0)),IF(ISNA(MATCH(D391,'اطلاعات افراد غیر حقوق بگیر'!A:A,0)),0,LOOKUP(D391,'اطلاعات افراد غیر حقوق بگیر'!A:A,'اطلاعات افراد غیر حقوق بگیر'!G:G)),LOOKUP(D391,Master!D:D,Master!J:J))","v":0},{"$error":"#N/A"},0,0,{"$f":"IF(O391>#REF!,\"اخطار ساعت اضافه کار از حداکثر بیشتر است\",\" \")","v":{"$error":"#REF!"}},{"$f":"IF(O391>#REF!,1,0)","v":{"$error":"#REF!"}}]
[389,{"$f":"IF(D392=0,\"\",Settings!$D$6)","v":""},{"$f":"IF(D392=0,\"\",LOOKUP(B392,'Rigion Code'!A:A,'Rigion Code'!B:B))","v":""},null,{"$f":"IF(D392=0,\" \",IF(ISNA(MATCH(D392,Personnel!A:A,0)),IF(ISNA(MATCH(D392,'اطلاعات افراد غیر حقوق بگیر'!A:A,0)),\"وجود ندارد\",LOOKUP(Edit!D392,'اطلاعات افراد غیر حقوق بگیر'!A:A,'اطلاعات افراد غیر حقوق بگیر'!B:B)),LOOKUP(D392,Personnel!A:A,Personnel!C:C)))","v":" "},{"$f":"IF(D392=0,\" \",IF(ISNA(MATCH(D392,Personnel!A:A,0)),IF(ISNA(MATCH(D392,'اطلاعات افراد غیر حقوق بگیر'!A:A,0)),\"وجود ندارد\",LOOKUP(D392,'اطلاعات افراد غیر حقوق بگیر'!A:A,'اطلاعات افراد غیر حقوق بگیر'!C:C)),LOOKUP(D392,Personnel!A:A,Personnel!B:B)))","v":" "},{"$f":"IF(D392=0,0,IF(ISNA(MATCH(D392,Personnel!A:A,0)),IF(ISNA(MATCH(D392,'اطلاعات افراد غیر حقوق بگیر'!A:A,0)),\"وجود ندارد\",LOOKUP(D392,'اطلاعات افراد غیر حقوق بگیر'!A:A,'اطلاعات افراد غیر حقوق بگیر'!D:D)),LOOKUP(D392,Master!D:D,Master!CD:CD)))","v":0},{"$f":"IF(D392=0,\" \",IF(ISNA(MATCH(D392,Personnel!A:A,0)),IF(ISNA(MATCH(D392,'اطلاعات افراد غیر حقوق بگیر'!A:A,0)),\"وجود ندارد\",LOOKUP(D392,'اطلاعات افراد غیر حقوق بگیر'!A:A,'اطلاعات افراد غیر حقوق بگیر'!E:E)),LOOKUP(D392,Master!D:D,Master!AH:AH)))","v":" "},{"$f":"SUMIFS(Pays!G:G,Pays!E:E,1,Pays!D:D,D392)","v":0},{"$f":"SUMIFS(Pays!G:G,Pays!E:E,2,Pays!D:D,D392)","v":0},{"$f":"SUMIFS(Pays!G:G,Pays!E:E,57,Pays!D:D,D392)","v":0},{"$f":"SUMIF(Pays!D:D,D392,Pays!G:G)","v":0},{"$f":"SUMIF(Pays!D:D,D392,Pays!G:G)/176","v":0},{"$f":"IF(M392=0,IF(ISNA(MATCH(D392,'اطلاعات افراد غیر حقوق بگیر'!A:A,0)),0,LOOKUP(D392,'اطلاعات افراد غیر حقوق بگیر'!A:A,'اطلاعات افراد غیر حقوق بگیر'!F:F)),IF(H392=31,Settings!$D$13,ROUND(M392,0)))","v":0},null,0,{"$f":"IF(ISNA(MATCH(D392,Master!D:D,0)),IF(ISNA(MATCH(D392,'اطلاعات افراد غیر حقوق بگیر'!A:A,0)),0,LOOKUP(D392,'اطلاعات افراد غیر حقوق بگیر'!A:A,'اطلاعات افراد غیر حقوق بگیر'!G:G)),LOOKUP(D392,Master!D:D,Master!J:J))","v":0},{"$error":"#N/A"},0,0,{"$f":"IF(O392>#REF!,\"اخطار ساعت اضافه کار از حداکثر بیشتر است\",\" \")","v":{"$error":"#REF!"}},{"$f":"IF(O392>#REF!,1,0)","v":{"$error":"#REF!"}}]
[390,{"$f":"IF(D393=0,\"\",Settings!$D$6)","v":""},{"$f":"IF(D393=0,\"\",LOOKUP(B393,'Rigion Code'!A:A,'Rigion Code'!B:B))","v":""},null,{"$f":"IF(D393=0,\" \",IF(ISNA(MATCH(D393,Personnel!A:A,0)),IF(ISNA(MATCH(D393,'اطلاعات افراد غیر حقوق بگیر'!A:A,0)),\"وجود ندارد\",LOOKUP(Edit!D393,'اطلاعات افراد غیر حقوق بگیر'!A:A,'اطلاعات افراد غیر حقوق بگیر'!B:B)),LOOKUP(D393,Personnel!A:A,Personnel!C:C)))","v":" "},{"$f":"IF(D393=0,\" \",IF(ISNA(MATCH(D393,Personnel!A:A,0)),IF(ISNA(MATCH(D393,'اطلاعات افراد غیر حقوق بگیر'!A:A,0)),\"وجود ندارد\",LOOKUP(D393,'اطلاعات افراد غیر حقوق بگیر'!A:A,'اطلاعات افراد غیر حقوق بگیر'!C:C)),LOOKUP(D393,Personnel!A:A,Personnel!B:B)))","v":" "},{"$f":"IF(D393=0,0,IF(ISNA(MATCH(D393,Personnel!A:A,0)),IF(ISNA(MATCH(D393,'اطلاعات افراد غیر حقوق بگیر'!A:A,0)),\"وجود ندارد\",LOOKUP(D393,'اطلاعات افراد غیر حقوق بگیر'!A:A,'اطلاعات افراد غیر حقوق بگیر'!D:D)),LOOKUP(D393,Master!D:D,Master!CD:CD)))","v":0},{"$f":"IF(D393=0,\" \",IF(ISNA(MATCH(D393,Personnel!A:A,0)),IF(ISNA(MATCH(D393,'اطلاعات افراد غیر حقوق بگیر'!A:A,0)),\"وجود ندارد\",LOOKUP(D393,'اطلاعات افراد غیر حقوق بگیر'!A:A,'اطلاعات افراد غیر حقوق بگیر'!E:E)),LOOKUP(D393,Master!D:D,Master!AH:AH)))","v":" "},{"$f":"SUMIFS(Pays!G:G,Pays!E:E,1,Pays!D:D,D393)","v":0},{"$f":"SUMIFS(Pays!G:G,Pays!E:E,2,Pays!D:D,D393)","v":0},{"$f":"SUMIFS(Pays!G:G,Pays!E:E,57,Pays!D:D,D393)","v":0},{"$f":"SUMIF(Pays!D:D,D393,Pays!G:G)","v":0},{"$f":"SUMIF(Pays!D:D,D393,Pays!G:G)/176","v":0},{"$f":"IF(M393=0,IF(ISNA(MATCH(D393,'اطلاعات افراد غیر حقوق بگیر'!A:A,0)),0,LOOKUP(D393,'اطلاعات افراد غیر حقوق بگیر'!A:A,'اطلاعات افراد غیر حقوق بگیر'!F:F)),IF(H393=31,Settings!$D$13,ROUND(M393,0)))","v":0},null,0,{"$f":"IF(ISNA(MATCH(D393,Master!D:D,0)),IF(ISNA(MATCH(D393,'اطلاعات افراد غیر حقوق بگیر'!A:A,0)),0,LOOKUP(D393,'اطلاعات افراد غیر حقوق بگیر'!A:A,'اطلاعات افراد غیر حقوق بگیر'!G:G)),LOOKUP(D393,Master!D:D,Master!J:J))","v":0},{"$error":"#N/A"},0,0,{"$f":"IF(O393>#REF!,\"اخطار ساعت اضافه کار از حداکثر بیشتر است\",\" \")","v":{"$error":"#REF!"}},{"$f":"IF(O393>#REF!,1,0)","v":{"$error":"#REF!"}}]
[391,{"$f":"IF(D394=0,\"\",Settings!$D$6)","v":""},{"$f":"IF(D394=0,\"\",LOOKUP(B394,'Rigion Code'!A:A,'Rigion Code'!B:B))","v":""},null,{"$f":"IF(D394=0,\" \",IF(ISNA(MATCH(D394,Personnel!A:A,0)),IF(ISNA(MATCH(D394,'اطلاعات افراد غیر حقوق بگیر'!A:A,0)),\"وجود ندارد\",LOOKUP(Edit!D394,'اطلاعات افراد غیر حقوق بگیر'!A:A,'اطلاعات افراد غیر حقوق بگیر'!B:B)),LOOKUP(D394,Personnel!A:A,Personnel!C:C)))","v":" "},{"$f":"IF(D394=0,\" \",IF(ISNA(MATCH(D394,Personnel!A:A,0)),IF(ISNA(MATCH(D394,'اطلاعات افراد غیر حقوق بگیر'!A:A,0)),\"وجود ندارد\",LOOKUP(D394,'اطلاعات افراد غیر حقوق بگیر'!A:A,'اطلاعات افراد غیر حقوق بگیر'!C:C)),LOOKUP(D394,Personnel!A:A,Personnel!B:B)))","v":" "},{"$f":"IF(D394=0,0,IF(ISNA(MATCH(D394,Personnel!A:A,0)),IF(ISNA(MATCH(D394,'اطلاعات افراد غیر حقوق بگیر'!A:A,0)),\"وجود ندارد\",LOOKUP(D394,'اطلاعات افراد غیر حقوق بگیر'!A:A,'اطلاعات افراد غیر حقوق بگیر'!D:D)),LOOKUP(D394,Master!D:D,Master!CD:CD)))","v":0},{"$f":"IF(D394=0,\" \",IF(ISNA(MATCH(D394,Personnel!A:A,0)),IF(ISNA(MATCH(D394,'اطلاعات افراد غیر حقوق بگیر'!A:A,0)),\"وجود ندارد\",LOOKUP(D394,'اطلاعات افراد غیر حقوق بگیر'!A:A,'اطلاعات افراد غیر حقوق بگیر'!E:E)),LOOKUP(D394,Master!D:D,Master!AH:AH)))","v":" "},{"$f":"SUMIFS(Pays!G:G,Pays!E:E,1,Pays!D:D,D394)","v":0},{"$f":"SUMIFS(Pays!G:G,Pays!E:E,2,Pays!D:D,D394)","v":0},{"$f":"SUMIFS(Pays!G:G,Pays!E:E,57,Pays!D:D,D394)","v":0},{"$f":"SUMIF(Pays!D:D,D394,Pays!G:G)","v":0},{"$f":"SUMIF(Pays!D:D,D394,Pays!G:G)/176","v":0},{"$f":"IF(M394=0,IF(ISNA(MATCH(D394,'اطلاعات افراد غیر حقوق بگیر'!A:A,0)),0,LOOKUP(D394,'اطلاعات افراد غیر حقوق بگیر'!A:A,'اطلاعات افراد غیر حقوق بگیر'!F:F)),IF(H394=31,Settings!$D$13,ROUND(M394,0)))","v":0},null,0,{"$f":"IF(ISNA(MATCH(D394,Master!D:D,0)),IF(ISNA(MATCH(D394,'اطلاعات افراد غیر حقوق بگیر'!A:A,0)),0,LOOKUP(D394,'اطلاعات افراد غیر حقوق بگیر'!A:A,'اطلاعات افراد غیر حقوق بگیر'!G:G)),LOOKUP(D394,Master!D:D,Master!J:J))","v":0},{"$error":"#N/A"},0,0,{"$f":"IF(O394>#REF!,\"اخطار ساعت اضافه کار از حداکثر بیشتر است\",\" \")","v":{"$error":"#REF!"}},{"$f":"IF(O394>#REF!,1,0)","v":{"$error":"#REF!"}}]
[392,{"$f":"IF(D395=0,\"\",Settings!$D$6)","v":""},{"$f":"IF(D395=0,\"\",LOOKUP(B395,'Rigion Code'!A:A,'Rigion Code'!B:B))","v":""},null,{"$f":"IF(D395=0,\" \",IF(ISNA(MATCH(D395,Personnel!A:A,0)),IF(ISNA(MATCH(D395,'اطلاعات افراد غیر حقوق بگیر'!A:A,0)),\"وجود ندارد\",LOOKUP(Edit!D395,'اطلاعات افراد غیر حقوق بگیر'!A:A,'اطلاعات افراد غیر حقوق بگیر'!B:B)),LOOKUP(D395,Personnel!A:A,Personnel!C:C)))","v":" "},{"$f":"IF(D395=0,\" \",IF(ISNA(MATCH(D395,Personnel!A:A,0)),IF(ISNA(MATCH(D395,'اطلاعات افراد غیر حقوق بگیر'!A:A,0)),\"وجود ندارد\",LOOKUP(D395,'اطلاعات افراد غیر حقوق بگیر'!A:A,'اطلاعات افراد غیر حقوق بگیر'!C:C)),LOOKUP(D395,Personnel!A:A,Personnel!B:B)))","v":" "},{"$f":"IF(D395=0,0,IF(ISNA(MATCH(D395,Personnel!A:A,0)),IF(ISNA(MATCH(D395,'اطلاعات افراد غیر حقوق بگیر'!A:A,0)),\"وجود ندارد\",LOOKUP(D395,'اطلاعات افراد غیر حقوق بگیر'!A:A,'اطلاعات افراد غیر حقوق بگیر'!D:D)),LOOKUP(D395,Master!D:D,Master!CD:CD)))","v":0},{"$f":"IF(D395=0,\" \",IF(ISNA(MATCH(D395,Personnel!A:A,0)),IF(ISNA(MATCH(D395,'اطلاعات افراد غیر حقوق بگیر'!A:A,0)),\"وجود ندارد\",LOOKUP(D395,'اطلاعات افراد غیر حقوق بگیر'!A:A,'اطلاعات افراد غیر حقوق بگیر'!E:E)),LOOKUP(D395,Master!D:D,Master!AH:AH)))","v":" "},{"$f":"SUMIFS(Pays!G:G,Pays!E:E,1,Pays!D:D,D395)","v":0},{"$f":"SUMIFS(Pays!G:G,Pays!E:E,2,Pays!D:D,D395)","v":0},{"$f":"SUMIFS(Pays!G:G,Pays!E:E,57,Pays!D:D,D395)","v":0},{"$f":"SUMIF(Pays!D:D,D395,Pays!G:G)","v":0},{"$f":"SUMIF(Pays!D:D,D395,Pays!G:G)/176","v":0},{"$f":"IF(M395=0,IF(ISNA(MATCH(D395,'اطلاعات افراد غیر حقوق بگیر'!A:A,0)),0,LOOKUP(D395,'اطلاعات افراد غیر حقوق بگیر'!A:A,'اطلاعات افراد غیر حقوق بگیر'!F:F)),IF(H395=31,Settings!$D$13,ROUND(M395,0)))","v":0},null,0,{"$f":"IF(ISNA(MATCH(D395,Master!D:D,0)),IF(ISNA(MATCH(D395,'اطلاعات افراد غیر حقوق بگیر'!A:A,0)),0,LOOKUP(D395,'اطلاعات افراد غیر حقوق بگیر'!A:A,'اطلاعات افراد غیر حقوق بگیر'!G:G)),LOOKUP(D395,Master!D:D,Master!J:J))","v":0},{"$error":"#N/A"},0,0,{"$f":"IF(O395>#REF!,\"اخطار ساعت اضافه کار از حداکثر بیشتر است\",\" \")","v":{"$error":"#REF!"}},{"$f":"IF(O395>#REF!,1,0)","v":{"$error":"#REF!"}}]
[393,{"$f":"IF(D396=0,\"\",Settings!$D$6)","v":""},{"$f":"IF(D396=0,\"\",LOOKUP(B396,'Rigion Code'!A:A,'Rigion Code'!B:B))","v":""},null,{"$f":"IF(D396=0,\" \",IF(ISNA(MATCH(D396,Personnel!A:A,0)),IF(ISNA(MATCH(D396,'اطلاعات افراد غیر حقوق بگیر'!A:A,0)),\"وجود ندارد\",LOOKUP(Edit!D396,'اطلاعات افراد غیر حقوق بگیر'!A:A,'اطلاعات افراد غیر حقوق بگیر'!B:B)),LOOKUP(D396,Personnel!A:A,Personnel!C:C)))","v":" "},{"$f":"IF(D396=0,\" \",IF(ISNA(MATCH(D396,Personnel!A:A,0)),IF(ISNA(MATCH(D396,'اطلاعات افراد غیر حقوق بگیر'!A:A,0)),\"وجود ندارد\",LOOKUP(D396,'اطلاعات افراد غیر حقوق بگیر'!A:A,'اطلاعات افراد غیر حقوق بگیر'!C:C)),LOOKUP(D396,Personnel!A:A,Personnel!B:B)))","v":" "},{"$f":"IF(D396=0,0,IF(ISNA(MATCH(D396,Personnel!A:A,0)),IF(ISNA(MATCH(D396,'اطلاعات افراد غیر حقوق بگیر'!A:A,0)),\"وجود ندارد\",LOOKUP(D396,'اطلاعات افراد غیر حقوق بگیر'!A:A,'اطلاعات افراد غیر حقوق بگیر'!D:D)),LOOKUP(D396,Master!D:D,Master!CD:CD)))","v":0},{"$f":"IF(D396=0,\" \",IF(ISNA(MATCH(D396,Personnel!A:A,0)),IF(ISNA(MATCH(D396,'اطلاعات افراد غیر حقوق بگیر'!A:A,0)),\"وجود ندارد\",LOOKUP(D396,'اطلاعات افراد غیر حقوق بگیر'!A:A,'اطلاعات افراد غیر حقوق بگیر'!E:E)),LOOKUP(D396,Master!D:D,Master!AH:AH)))","v":" "},{"$f":"SUMIFS(Pays!G:G,Pays!E:E,1,Pays!D:D,D396)","v":0},{"$f":"SUMIFS(Pays!G:G,Pays!E:E,2,Pays!D:D,D396)","v":0},{"$f":"SUMIFS(Pays!G:G,Pays!E:E,57,Pays!D:D,D396)","v":0},{"$f":"SUMIF(Pays!D:D,D396,Pays!G:G)","v":0},{"$f":"SUMIF(Pays!D:D,D396,Pays!G:G)/176","v":0},{"$f":"IF(M396=0,IF(ISNA(MATCH(D396,'اطلاعات افراد غیر حقوق بگیر'!A:A,0)),0,LOOKUP(D396,'اطلاعات افراد غیر حقوق بگیر'!A:A,'اطلاعات افراد غیر حقوق بگیر'!F:F)),IF(H396=31,Settings!$D$13,ROUND(M396,0)))","v":0},null,0,{"$f":"IF(ISNA(MATCH(D396,Master!D:D,0)),IF(ISNA(MATCH(D396,'اطلاعات افراد غیر حقوق بگیر'!A:A,0)),0,LOOKUP(D396,'اطلاعات افراد غیر حقوق بگیر'!A:A,'اطلاعات افراد غیر حقوق بگیر'!G:G)),LOOKUP(D396,Master!D:D,Master!J:J))","v":0},{"$error":"#N/A"},0,0,{"$f":"IF(O396>#REF!,\"اخطار ساعت اضافه کار از حداکثر بیشتر است\",\" \")","v":{"$error":"#REF!"}},{"$f":"IF(O396>#REF!,1,0)","v":{"$error":"#REF!"}}]
[394,{"$f":"IF(D397=0,\"\",Settings!$D$6)","v":""},{"$f":"IF(D397=0,\"\",LOOKUP(B397,'Rigion Code'!A:A,'Rigion Code'!B:B))","v":""},null,{"$f":"IF(D397=0,\" \",IF(ISNA(MATCH(D397,Personnel!A:A,0)),IF(ISNA(MATCH(D397,'اطلاعات افراد غیر حقوق بگیر'!A:A,0)),\"وجود ندارد\",LOOKUP(Edit!D397,'اطلاعات افراد غیر حقوق بگیر'!A:A,'اطلاعات افراد غیر حقوق بگیر'!B:B)),LOOKUP(D397,Personnel!A:A,Personnel!C:C)))","v":" "},{"$f":"IF(D397=0,\" \",IF(ISNA(MATCH(D397,Personnel!A:A,0)),IF(ISNA(MATCH(D397,'اطلاعات افراد غیر حقوق بگیر'!A:A,0)),\"وجود ندارد\",LOOKUP(D397,'اطلاعات افراد غیر حقوق بگیر'!A:A,'اطلاعات افراد غیر حقوق بگیر'!C:C)),LOOKUP(D397,Personnel!A:A,Personnel!B:B)))","v":" "},{"$f":"IF(D397=0,0,IF(ISNA(MATCH(D397,Personnel!A:A,0)),IF(ISNA(MATCH(D397,'اطلاعات افراد غیر حقوق بگیر'!A:A,0)),\"وجود ندارد\",LOOKUP(D397,'اطلاعات افراد غیر حقوق بگیر'!A:A,'اطلاعات افراد غیر حقوق بگیر'!D:D)),LOOKUP(D397,Master!D:D,Master!CD:CD)))","v":0},{"$f":"IF(D397=0,\" \",IF(ISNA(MATCH(D397,Personnel!A:A,0)),IF(ISNA(MATCH(D397,'اطلاعات افراد غیر حقوق بگیر'!A:A,0)),\"وجود ندارد\",LOOKUP(D397,'اطلاعات افراد غیر حقوق بگیر'!A:A,'اطلاعات افراد غیر حقوق بگیر'!E:E)),LOOKUP(D397,Master!D:D,Master!AH:AH)))","v":" "},{"$f":"SUMIFS(Pays!G:G,Pays!E:E,1,Pays!D:D,D397)","v":0},{"$f":"SUMIFS(Pays!G:G,Pays!E:E,2,Pays!D:D,D397)","v":0},{"$f":"SUMIFS(Pays!G:G,Pays!E:E,57,Pays!D:D,D397)","v":0},{"$f":"SUMIF(Pays!D:D,D397,Pays!G:G)","v":0},{"$f":"SUMIF(Pays!D:D,D397,Pays!G:G)/176","v":0},{"$f":"IF(M397=0,IF(ISNA(MATCH(D397,'اطلاعات افراد غیر حقوق بگیر'!A:A,0)),0,LOOKUP(D397,'اطلاعات افراد غیر حقوق بگیر'!A:A,'اطلاعات افراد غیر حقوق بگیر'!F:F)),IF(H397=31,Settings!$D$13,ROUND(M397,0)))","v":0},null,0,{"$f":"IF(ISNA(MATCH(D397,Master!D:D,0)),IF(ISNA(MATCH(D397,'اطلاعات افراد غیر حقوق بگیر'!A:A,0)),0,LOOKUP(D397,'اطلاعات افراد غیر حقوق بگیر'!A:A,'اطلاعات افراد غیر حقوق بگیر'!G:G)),LOOKUP(D397,Master!D:D,Master!J:J))","v":0},{"$error":"#N/A"},0,0,{"$f":"IF(O397>#REF!,\"اخطار ساعت اضافه کار از حداکثر بیشتر است\",\" \")","v":{"$error":"#REF!"}},{"$f":"IF(O397>#REF!,1,0)","v":{"$error":"#REF!"}}]
[395,{"$f":"IF(D398=0,\"\",Settings!$D$6)","v":""},{"$f":"IF(D398=0,\"\",LOOKUP(B398,'Rigion Code'!A:A,'Rigion Code'!B:B))","v":""},null,{"$f":"IF(D398=0,\" \",IF(ISNA(MATCH(D398,Personnel!A:A,0)),IF(ISNA(MATCH(D398,'اطلاعات افراد غیر حقوق بگیر'!A:A,0)),\"وجود ندارد\",LOOKUP(Edit!D398,'اطلاعات افراد غیر حقوق بگیر'!A:A,'اطلاعات افراد غیر حقوق بگیر'!B:B)),LOOKUP(D398,Personnel!A:A,Personnel!C:C)))","v":" "},{"$f":"IF(D398=0,\" \",IF(ISNA(MATCH(D398,Personnel!A:A,0)),IF(ISNA(MATCH(D398,'اطلاعات افراد غیر حقوق بگیر'!A:A,0)),\"وجود ندارد\",LOOKUP(D398,'اطلاعات افراد غیر حقوق بگیر'!A:A,'اطلاعات افراد غیر حقوق بگیر'!C:C)),LOOKUP(D398,Personnel!A:A,Personnel!B:B)))","v":" "},{"$f":"IF(D398=0,0,IF(ISNA(MATCH(D398,Personnel!A:A,0)),IF(ISNA(MATCH(D398,'اطلاعات افراد غیر حقوق بگیر'!A:A,0)),\"وجود ندارد\",LOOKUP(D398,'اطلاعات افراد غیر حقوق بگیر'!A:A,'اطلاعات افراد غیر حقوق بگیر'!D:D)),LOOKUP(D398,Master!D:D,Master!CD:CD)))","v":0},{"$f":"IF(D398=0,\" \",IF(ISNA(MATCH(D398,Personnel!A:A,0)),IF(ISNA(MATCH(D398,'اطلاعات افراد غیر حقوق بگیر'!A:A,0)),\"وجود ندارد\",LOOKUP(D398,'اطلاعات افراد غیر حقوق بگیر'!A:A,'اطلاعات افراد غیر حقوق بگیر'!E:E)),LOOKUP(D398,Master!D:D,Master!AH:AH)))","v":" "},{"$f":"SUMIFS(Pays!G:G,Pays!E:E,1,Pays!D:D,D398)","v":0},{"$f":"SUMIFS(Pays!G:G,Pays!E:E,2,Pays!D:D,D398)","v":0},{"$f":"SUMIFS(Pays!G:G,Pays!E:E,57,Pays!D:D,D398)","v":0},{"$f":"SUMIF(Pays!D:D,D398,Pays!G:G)","v":0},{"$f":"SUMIF(Pays!D:D,D398,Pays!G:G)/176","v":0},{"$f":"IF(M398=0,IF(ISNA(MATCH(D398,'اطلاعات افراد غیر حقوق بگیر'!A:A,0)),0,LOOKUP(D398,'اطلاعات افراد غیر حقوق بگیر'!A:A,'اطلاعات افراد غیر حقوق بگیر'!F:F)),IF(H398=31,Settings!$D$13,ROUND(M398,0)))","v":0},null,0,{"$f":"IF(ISNA(MATCH(D398,Master!D:D,0)),IF(ISNA(MATCH(D398,'اطلاعات افراد غیر حقوق بگیر'!A:A,0)),0,LOOKUP(D398,'اطلاعات افراد غیر حقوق بگیر'!A:A,'اطلاعات افراد غیر حقوق بگیر'!G:G)),LOOKUP(D398,Master!D:D,Master!J:J))","v":0},{"$error":"#N/A"},0,0,{"$f":"IF(O398>#REF!,\"اخطار ساعت اضافه کار از حداکثر بیشتر است\",\" \")","v":{"$error":"#REF!"}},{"$f":"IF(O398>#REF!,1,0)","v":{"$error":"#REF!"}}]
[396,{"$f":"IF(D399=0,\"\",Settings!$D$6)","v":""},{"$f":"IF(D399=0,\"\",LOOKUP(B399,'Rigion Code'!A:A,'Rigion Code'!B:B))","v":""},null,{"$f":"IF(D399=0,\" \",IF(ISNA(MATCH(D399,Personnel!A:A,0)),IF(ISNA(MATCH(D399,'اطلاعات افراد غیر حقوق بگیر'!A:A,0)),\"وجود ندارد\",LOOKUP(Edit!D399,'اطلاعات افراد غیر حقوق بگیر'!A:A,'اطلاعات افراد غیر حقوق بگیر'!B:B)),LOOKUP(D399,Personnel!A:A,Personnel!C:C)))","v":" "},{"$f":"IF(D399=0,\" \",IF(ISNA(MATCH(D399,Personnel!A:A,0)),IF(ISNA(MATCH(D399,'اطلاعات افراد غیر حقوق بگیر'!A:A,0)),\"وجود ندارد\",LOOKUP(D399,'اطلاعات افراد غیر حقوق بگیر'!A:A,'اطلاعات افراد غیر حقوق بگیر'!C:C)),LOOKUP(D399,Personnel!A:A,Personnel!B:B)))","v":" "},{"$f":"IF(D399=0,0,IF(ISNA(MATCH(D399,Personnel!A:A,0)),IF(ISNA(MATCH(D399,'اطلاعات افراد غیر حقوق بگیر'!A:A,0)),\"وجود ندارد\",LOOKUP(D399,'اطلاعات افراد غیر حقوق بگیر'!A:A,'اطلاعات افراد غیر حقوق بگیر'!D:D)),LOOKUP(D399,Master!D:D,Master!CD:CD)))","v":0},{"$f":"IF(D399=0,\" \",IF(ISNA(MATCH(D399,Personnel!A:A,0)),IF(ISNA(MATCH(D399,'اطلاعات افراد غیر حقوق بگیر'!A:A,0)),\"وجود ندارد\",LOOKUP(D399,'اطلاعات افراد غیر حقوق بگیر'!A:A,'اطلاعات افراد غیر حقوق بگیر'!E:E)),LOOKUP(D399,Master!D:D,Master!AH:AH)))","v":" "},{"$f":"SUMIFS(Pays!G:G,Pays!E:E,1,Pays!D:D,D399)","v":0},{"$f":"SUMIFS(Pays!G:G,Pays!E:E,2,Pays!D:D,D399)","v":0},{"$f":"SUMIFS(Pays!G:G,Pays!E:E,57,Pays!D:D,D399)","v":0},{"$f":"SUMIF(Pays!D:D,D399,Pays!G:G)","v":0},{"$f":"SUMIF(Pays!D:D,D399,Pays!G:G)/176","v":0},{"$f":"IF(M399=0,IF(ISNA(MATCH(D399,'اطلاعات افراد غیر حقوق بگیر'!A:A,0)),0,LOOKUP(D399,'اطلاعات افراد غیر حقوق بگیر'!A:A,'اطلاعات افراد غیر حقوق بگیر'!F:F)),IF(H399=31,Settings!$D$13,ROUND(M399,0)))","v":0},null,0,{"$f":"IF(ISNA(MATCH(D399,Master!D:D,0)),IF(ISNA(MATCH(D399,'اطلاعات افراد غیر حقوق بگیر'!A:A,0)),0,LOOKUP(D399,'اطلاعات افراد غیر حقوق بگیر'!A:A,'اطلاعات افراد غیر حقوق بگیر'!G:G)),LOOKUP(D399,Master!D:D,Master!J:J))","v":0},{"$error":"#N/A"},0,0,{"$f":"IF(O399>#REF!,\"اخطار ساعت اضافه کار از حداکثر بیشتر است\",\" \")","v":{"$error":"#REF!"}},{"$f":"IF(O399>#REF!,1,0)","v":{"$error":"#REF!"}}]
[397,{"$f":"IF(D400=0,\"\",Settings!$D$6)","v":""},{"$f":"IF(D400=0,\"\",LOOKUP(B400,'Rigion Code'!A:A,'Rigion Code'!B:B))","v":""},null,{"$f":"IF(D400=0,\" \",IF(ISNA(MATCH(D400,Personnel!A:A,0)),IF(ISNA(MATCH(D400,'اطلاعات افراد غیر حقوق بگیر'!A:A,0)),\"وجود ندارد\",LOOKUP(Edit!D400,'اطلاعات افراد غیر حقوق بگیر'!A:A,'اطلاعات افراد غیر حقوق بگیر'!B:B)),LOOKUP(D400,Personnel!A:A,Personnel!C:C)))","v":" "},{"$f":"IF(D400=0,\" \",IF(ISNA(MATCH(D400,Personnel!A:A,0)),IF(ISNA(MATCH(D400,'اطلاعات افراد غیر حقوق بگیر'!A:A,0)),\"وجود ندارد\",LOOKUP(D400,'اطلاعات افراد غیر حقوق بگیر'!A:A,'اطلاعات افراد غیر حقوق بگیر'!C:C)),LOOKUP(D400,Personnel!A:A,Personnel!B:B)))","v":" "},{"$f":"IF(D400=0,0,IF(ISNA(MATCH(D400,Personnel!A:A,0)),IF(ISNA(MATCH(D400,'اطلاعات افراد غیر حقوق بگیر'!A:A,0)),\"وجود ندارد\",LOOKUP(D400,'اطلاعات افراد غیر حقوق بگیر'!A:A,'اطلاعات افراد غیر حقوق بگیر'!D:D)),LOOKUP(D400,Master!D:D,Master!CD:CD)))","v":0},{"$f":"IF(D400=0,\" \",IF(ISNA(MATCH(D400,Personnel!A:A,0)),IF(ISNA(MATCH(D400,'اطلاعات افراد غیر حقوق بگیر'!A:A,0)),\"وجود ندارد\",LOOKUP(D400,'اطلاعات افراد غیر حقوق بگیر'!A:A,'اطلاعات افراد غیر حقوق بگیر'!E:E)),LOOKUP(D400,Master!D:D,Master!AH:AH)))","v":" "},{"$f":"SUMIFS(Pays!G:G,Pays!E:E,1,Pays!D:D,D400)","v":0},{"$f":"SUMIFS(Pays!G:G,Pays!E:E,2,Pays!D:D,D400)","v":0},{"$f":"SUMIFS(Pays!G:G,Pays!E:E,57,Pays!D:D,D400)","v":0},{"$f":"SUMIF(Pays!D:D,D400,Pays!G:G)","v":0},{"$f":"SUMIF(Pays!D:D,D400,Pays!G:G)/176","v":0},{"$f":"IF(M400=0,IF(ISNA(MATCH(D400,'اطلاعات افراد غیر حقوق بگیر'!A:A,0)),0,LOOKUP(D400,'اطلاعات افراد غیر حقوق بگیر'!A:A,'اطلاعات افراد غیر حقوق بگیر'!F:F)),IF(H400=31,Settings!$D$13,ROUND(M400,0)))","v":0},null,0,{"$f":"IF(ISNA(MATCH(D400,Master!D:D,0)),IF(ISNA(MATCH(D400,'اطلاعات افراد غیر حقوق بگیر'!A:A,0)),0,LOOKUP(D400,'اطلاعات افراد غیر حقوق بگیر'!A:A,'اطلاعات افراد غیر حقوق بگیر'!G:G)),LOOKUP(D400,Master!D:D,Master!J:J))","v":0},{"$error":"#N/A"},0,0,{"$f":"IF(O400>#REF!,\"اخطار ساعت اضافه کار از حداکثر بیشتر است\",\" \")","v":{"$error":"#REF!"}},{"$f":"IF(O400>#REF!,1,0)","v":{"$error":"#REF!"}}]
[398,{"$f":"IF(D401=0,\"\",Settings!$D$6)","v":""},{"$f":"IF(D401=0,\"\",LOOKUP(B401,'Rigion Code'!A:A,'Rigion Code'!B:B))","v":""},null,{"$f":"IF(D401=0,\" \",IF(ISNA(MATCH(D401,Personnel!A:A,0)),IF(ISNA(MATCH(D401,'اطلاعات افراد غیر حقوق بگیر'!A:A,0)),\"وجود ندارد\",LOOKUP(Edit!D401,'اطلاعات افراد غیر حقوق بگیر'!A:A,'اطلاعات افراد غیر حقوق بگیر'!B:B)),LOOKUP(D401,Personnel!A:A,Personnel!C:C)))","v":" "},{"$f":"IF(D401=0,\" \",IF(ISNA(MATCH(D401,Personnel!A:A,0)),IF(ISNA(MATCH(D401,'اطلاعات افراد غیر حقوق بگیر'!A:A,0)),\"وجود ندارد\",LOOKUP(D401,'اطلاعات افراد غیر حقوق بگیر'!A:A,'اطلاعات افراد غیر حقوق بگیر'!C:C)),LOOKUP(D401,Personnel!A:A,Personnel!B:B)))","v":" "},{"$f":"IF(D401=0,0,IF(ISNA(MATCH(D401,Personnel!A:A,0)),IF(ISNA(MATCH(D401,'اطلاعات افراد غیر حقوق بگیر'!A:A,0)),\"وجود ندارد\",LOOKUP(D401,'اطلاعات افراد غیر حقوق بگیر'!A:A,'اطلاعات افراد غیر حقوق بگیر'!D:D)),LOOKUP(D401,Master!D:D,Master!CD:CD)))","v":0},{"$f":"IF(D401=0,\" \",IF(ISNA(MATCH(D401,Personnel!A:A,0)),IF(ISNA(MATCH(D401,'اطلاعات افراد غیر حقوق بگیر'!A:A,0)),\"وجود ندارد\",LOOKUP(D401,'اطلاعات افراد غیر حقوق بگیر'!A:A,'اطلاعات افراد غیر حقوق بگیر'!E:E)),LOOKUP(D401,Master!D:D,Master!AH:AH)))","v":" "},{"$f":"SUMIFS(Pays!G:G,Pays!E:E,1,Pays!D:D,D401)","v":0},{"$f":"SUMIFS(Pays!G:G,Pays!E:E,2,Pays!D:D,D401)","v":0},{"$f":"SUMIFS(Pays!G:G,Pays!E:E,57,Pays!D:D,D401)","v":0},{"$f":"SUMIF(Pays!D:D,D401,Pays!G:G)","v":0},{"$f":"SUMIF(Pays!D:D,D401,Pays!G:G)/176","v":0},{"$f":"IF(M401=0,IF(ISNA(MATCH(D401,'اطلاعات افراد غیر حقوق بگیر'!A:A,0)),0,LOOKUP(D401,'اطلاعات افراد غیر حقوق بگیر'!A:A,'اطلاعات افراد غیر حقوق بگیر'!F:F)),IF(H401=31,Settings!$D$13,ROUND(M401,0)))","v":0},null,0,{"$f":"IF(ISNA(MATCH(D401,Master!D:D,0)),IF(ISNA(MATCH(D401,'اطلاعات افراد غیر حقوق بگیر'!A:A,0)),0,LOOKUP(D401,'اطلاعات افراد غیر حقوق بگیر'!A:A,'اطلاعات افراد غیر حقوق بگیر'!G:G)),LOOKUP(D401,Master!D:D,Master!J:J))","v":0},{"$error":"#N/A"},0,0,{"$f":"IF(O401>#REF!,\"اخطار ساعت اضافه کار از حداکثر بیشتر است\",\" \")","v":{"$error":"#REF!"}},{"$f":"IF(O401>#REF!,1,0)","v":{"$error":"#REF!"}}]
[399,{"$f":"IF(D402=0,\"\",Settings!$D$6)","v":""},{"$f":"IF(D402=0,\"\",LOOKUP(B402,'Rigion Code'!A:A,'Rigion Code'!B:B))","v":""},null,{"$f":"IF(D402=0,\" \",IF(ISNA(MATCH(D402,Personnel!A:A,0)),IF(ISNA(MATCH(D402,'اطلاعات افراد غیر حقوق بگیر'!A:A,0)),\"وجود ندارد\",LOOKUP(Edit!D402,'اطلاعات افراد غیر حقوق بگیر'!A:A,'اطلاعات افراد غیر حقوق بگیر'!B:B)),LOOKUP(D402,Personnel!A:A,Personnel!C:C)))","v":" "},{"$f":"IF(D402=0,\" \",IF(ISNA(MATCH(D402,Personnel!A:A,0)),IF(ISNA(MATCH(D402,'اطلاعات افراد غیر حقوق بگیر'!A:A,0)),\"وجود ندارد\",LOOKUP(D402,'اطلاعات افراد غیر حقوق بگیر'!A:A,'اطلاعات افراد غیر حقوق بگیر'!C:C)),LOOKUP(D402,Personnel!A:A,Personnel!B:B)))","v":" "},{"$f":"IF(D402=0,0,IF(ISNA(MATCH(D402,Personnel!A:A,0)),IF(ISNA(MATCH(D402,'اطلاعات افراد غیر حقوق بگیر'!A:A,0)),\"وجود ندارد\",LOOKUP(D402,'اطلاعات افراد غیر حقوق بگیر'!A:A,'اطلاعات افراد غیر حقوق بگیر'!D:D)),LOOKUP(D402,Master!D:D,Master!CD:CD)))","v":0},{"$f":"IF(D402=0,\" \",IF(ISNA(MATCH(D402,Personnel!A:A,0)),IF(ISNA(MATCH(D402,'اطلاعات افراد غیر حقوق بگیر'!A:A,0)),\"وجود ندارد\",LOOKUP(D402,'اطلاعات افراد غیر حقوق بگیر'!A:A,'اطلاعات افراد غیر حقوق بگیر'!E:E)),LOOKUP(D402,Master!D:D,Master!AH:AH)))","v":" "},{"$f":"SUMIFS(Pays!G:G,Pays!E:E,1,Pays!D:D,D402)","v":0},{"$f":"SUMIFS(Pays!G:G,Pays!E:E,2,Pays!D:D,D402)","v":0},{"$f":"SUMIFS(Pays!G:G,Pays!E:E,57,Pays!D:D,D402)","v":0},{"$f":"SUMIF(Pays!D:D,D402,Pays!G:G)","v":0},{"$f":"SUMIF(Pays!D:D,D402,Pays!G:G)/176","v":0},{"$f":"IF(M402=0,IF(ISNA(MATCH(D402,'اطلاعات افراد غیر حقوق بگیر'!A:A,0)),0,LOOKUP(D402,'اطلاعات افراد غیر حقوق بگیر'!A:A,'اطلاعات افراد غیر حقوق بگیر'!F:F)),IF(H402=31,Settings!$D$13,ROUND(M402,0)))","v":0},null,0,{"$f":"IF(ISNA(MATCH(D402,Master!D:D,0)),IF(ISNA(MATCH(D402,'اطلاعات افراد غیر حقوق بگیر'!A:A,0)),0,LOOKUP(D402,'اطلاعات افراد غیر حقوق بگیر'!A:A,'اطلاعات افراد غیر حقوق بگیر'!G:G)),LOOKUP(D402,Master!D:D,Master!J:J))","v":0},{"$error":"#N/A"},0,0,{"$f":"IF(O402>#REF!,\"اخطار ساعت اضافه کار از حداکثر بیشتر است\",\" \")","v":{"$error":"#REF!"}},{"$f":"IF(O402>#REF!,1,0)","v":{"$error":"#REF!"}}]
[400,{"$f":"IF(D403=0,\"\",Settings!$D$6)","v":""},{"$f":"IF(D403=0,\"\",LOOKUP(B403,'Rigion Code'!A:A,'Rigion Code'!B:B))","v":""},null,{"$f":"IF(D403=0,\" \",IF(ISNA(MATCH(D403,Personnel!A:A,0)),IF(ISNA(MATCH(D403,'اطلاعات افراد غیر حقوق بگیر'!A:A,0)),\"وجود ندارد\",LOOKUP(Edit!D403,'اطلاعات افراد غیر حقوق بگیر'!A:A,'اطلاعات افراد غیر حقوق بگیر'!B:B)),LOOKUP(D403,Personnel!A:A,Personnel!C:C)))","v":" "},{"$f":"IF(D403=0,\" \",IF(ISNA(MATCH(D403,Personnel!A:A,0)),IF(ISNA(MATCH(D403,'اطلاعات افراد غیر حقوق بگیر'!A:A,0)),\"وجود ندارد\",LOOKUP(D403,'اطلاعات افراد غیر حقوق بگیر'!A:A,'اطلاعات افراد غیر حقوق بگیر'!C:C)),LOOKUP(D403,Personnel!A:A,Personnel!B:B)))","v":" "},{"$f":"IF(D403=0,0,IF(ISNA(MATCH(D403,Personnel!A:A,0)),IF(ISNA(MATCH(D403,'اطلاعات افراد غیر حقوق بگیر'!A:A,0)),\"وجود ندارد\",LOOKUP(D403,'اطلاعات افراد غیر حقوق بگیر'!A:A,'اطلاعات افراد غیر حقوق بگیر'!D:D)),LOOKUP(D403,Master!D:D,Master!CD:CD)))","v":0},{"$f":"IF(D403=0,\" \",IF(ISNA(MATCH(D403,Personnel!A:A,0)),IF(ISNA(MATCH(D403,'اطلاعات افراد غیر حقوق بگیر'!A:A,0)),\"وجود ندارد\",LOOKUP(D403,'اطلاعات افراد غیر حقوق بگیر'!A:A,'اطلاعات افراد غیر حقوق بگیر'!E:E)),LOOKUP(D403,Master!D:D,Master!AH:AH)))","v":" "},{"$f":"SUMIFS(Pays!G:G,Pays!E:E,1,Pays!D:D,D403)","v":0},{"$f":"SUMIFS(Pays!G:G,Pays!E:E,2,Pays!D:D,D403)","v":0},{"$f":"SUMIFS(Pays!G:G,Pays!E:E,57,Pays!D:D,D403)","v":0},{"$f":"SUMIF(Pays!D:D,D403,Pays!G:G)","v":0},{"$f":"SUMIF(Pays!D:D,D403,Pays!G:G)/176","v":0},{"$f":"IF(M403=0,IF(ISNA(MATCH(D403,'اطلاعات افراد غیر حقوق بگیر'!A:A,0)),0,LOOKUP(D403,'اطلاعات افراد غیر حقوق بگیر'!A:A,'اطلاعات افراد غیر حقوق بگیر'!F:F)),IF(H403=31,Settings!$D$13,ROUND(M403,0)))","v":0},null,0,{"$f":"IF(ISNA(MATCH(D403,Master!D:D,0)),IF(ISNA(MATCH(D403,'اطلاعات افراد غیر حقوق بگیر'!A:A,0)),0,LOOKUP(D403,'اطلاعات افراد غیر حقوق بگیر'!A:A,'اطلاعات افراد غیر حقوق بگیر'!G:G)),LOOKUP(D403,Master!D:D,Master!J:J))","v":0},{"$error":"#N/A"},0,0,{"$f":"IF(O403>#REF!,\"اخطار ساعت اضافه کار از حداکثر بیشتر است\",\" \")","v":{"$error":"#REF!"}},{"$f":"IF(O403>#REF!,1,0)","v":{"$error":"#REF!"}}]
[401,{"$f":"IF(D404=0,\"\",Settings!$D$6)","v":""},{"$f":"IF(D404=0,\"\",LOOKUP(B404,'Rigion Code'!A:A,'Rigion Code'!B:B))","v":""},null,{"$f":"IF(D404=0,\" \",IF(ISNA(MATCH(D404,Personnel!A:A,0)),IF(ISNA(MATCH(D404,'اطلاعات افراد غیر حقوق بگیر'!A:A,0)),\"وجود ندارد\",LOOKUP(Edit!D404,'اطلاعات افراد غیر حقوق بگیر'!A:A,'اطلاعات افراد غیر حقوق بگیر'!B:B)),LOOKUP(D404,Personnel!A:A,Personnel!C:C)))","v":" "},{"$f":"IF(D404=0,\" \",IF(ISNA(MATCH(D404,Personnel!A:A,0)),IF(ISNA(MATCH(D404,'اطلاعات افراد غیر حقوق بگیر'!A:A,0)),\"وجود ندارد\",LOOKUP(D404,'اطلاعات افراد غیر حقوق بگیر'!A:A,'اطلاعات افراد غیر حقوق بگیر'!C:C)),LOOKUP(D404,Personnel!A:A,Personnel!B:B)))","v":" "},{"$f":"IF(D404=0,0,IF(ISNA(MATCH(D404,Personnel!A:A,0)),IF(ISNA(MATCH(D404,'اطلاعات افراد غیر حقوق بگیر'!A:A,0)),\"وجود ندارد\",LOOKUP(D404,'اطلاعات افراد غیر حقوق بگیر'!A:A,'اطلاعات افراد غیر حقوق بگیر'!D:D)),LOOKUP(D404,Master!D:D,Master!CD:CD)))","v":0},{"$f":"IF(D404=0,\" \",IF(ISNA(MATCH(D404,Personnel!A:A,0)),IF(ISNA(MATCH(D404,'اطلاعات افراد غیر حقوق بگیر'!A:A,0)),\"وجود ندارد\",LOOKUP(D404,'اطلاعات افراد غیر حقوق بگیر'!A:A,'اطلاعات افراد غیر حقوق بگیر'!E:E)),LOOKUP(D404,Master!D:D,Master!AH:AH)))","v":" "},{"$f":"SUMIFS(Pays!G:G,Pays!E:E,1,Pays!D:D,D404)","v":0},{"$f":"SUMIFS(Pays!G:G,Pays!E:E,2,Pays!D:D,D404)","v":0},{"$f":"SUMIFS(Pays!G:G,Pays!E:E,57,Pays!D:D,D404)","v":0},{"$f":"SUMIF(Pays!D:D,D404,Pays!G:G)","v":0},{"$f":"SUMIF(Pays!D:D,D404,Pays!G:G)/176","v":0},{"$f":"IF(M404=0,IF(ISNA(MATCH(D404,'اطلاعات افراد غیر حقوق بگیر'!A:A,0)),0,LOOKUP(D404,'اطلاعات افراد غیر حقوق بگیر'!A:A,'اطلاعات افراد غیر حقوق بگیر'!F:F)),IF(H404=31,Settings!$D$13,ROUND(M404,0)))","v":0},null,0,{"$f":"IF(ISNA(MATCH(D404,Master!D:D,0)),IF(ISNA(MATCH(D404,'اطلاعات افراد غیر حقوق بگیر'!A:A,0)),0,LOOKUP(D404,'اطلاعات افراد غیر حقوق بگیر'!A:A,'اطلاعات افراد غیر حقوق بگیر'!G:G)),LOOKUP(D404,Master!D:D,Master!J:J))","v":0},{"$error":"#N/A"},0,0,{"$f":"IF(O404>#REF!,\"اخطار ساعت اضافه کار از حداکثر بیشتر است\",\" \")","v":{"$error":"#REF!"}},{"$f":"IF(O404>#REF!,1,0)","v":{"$error":"#REF!"}}]
[402,{"$f":"IF(D405=0,\"\",Settings!$D$6)","v":""},{"$f":"IF(D405=0,\"\",LOOKUP(B405,'Rigion Code'!A:A,'Rigion Code'!B:B))","v":""},null,{"$f":"IF(D405=0,\" \",IF(ISNA(MATCH(D405,Personnel!A:A,0)),IF(ISNA(MATCH(D405,'اطلاعات افراد غیر حقوق بگیر'!A:A,0)),\"وجود ندارد\",LOOKUP(Edit!D405,'اطلاعات افراد غیر حقوق بگیر'!A:A,'اطلاعات افراد غیر حقوق بگیر'!B:B)),LOOKUP(D405,Personnel!A:A,Personnel!C:C)))","v":" "},{"$f":"IF(D405=0,\" \",IF(ISNA(MATCH(D405,Personnel!A:A,0)),IF(ISNA(MATCH(D405,'اطلاعات افراد غیر حقوق بگیر'!A:A,0)),\"وجود ندارد\",LOOKUP(D405,'اطلاعات افراد غیر حقوق بگیر'!A:A,'اطلاعات افراد غیر حقوق بگیر'!C:C)),LOOKUP(D405,Personnel!A:A,Personnel!B:B)))","v":" "},{"$f":"IF(D405=0,0,IF(ISNA(MATCH(D405,Personnel!A:A,0)),IF(ISNA(MATCH(D405,'اطلاعات افراد غیر حقوق بگیر'!A:A,0)),\"وجود ندارد\",LOOKUP(D405,'اطلاعات افراد غیر حقوق بگیر'!A:A,'اطلاعات افراد غیر حقوق بگیر'!D:D)),LOOKUP(D405,Master!D:D,Master!CD:CD)))","v":0},{"$f":"IF(D405=0,\" \",IF(ISNA(MATCH(D405,Personnel!A:A,0)),IF(ISNA(MATCH(D405,'اطلاعات افراد غیر حقوق بگیر'!A:A,0)),\"وجود ندارد\",LOOKUP(D405,'اطلاعات افراد غیر حقوق بگیر'!A:A,'اطلاعات افراد غیر حقوق بگیر'!E:E)),LOOKUP(D405,Master!D:D,Master!AH:AH)))","v":" "},{"$f":"SUMIFS(Pays!G:G,Pays!E:E,1,Pays!D:D,D405)","v":0},{"$f":"SUMIFS(Pays!G:G,Pays!E:E,2,Pays!D:D,D405)","v":0},{"$f":"SUMIFS(Pays!G:G,Pays!E:E,57,Pays!D:D,D405)","v":0},{"$f":"SUMIF(Pays!D:D,D405,Pays!G:G)","v":0},{"$f":"SUMIF(Pays!D:D,D405,Pays!G:G)/176","v":0},{"$f":"IF(M405=0,IF(ISNA(MATCH(D405,'اطلاعات افراد غیر حقوق بگیر'!A:A,0)),0,LOOKUP(D405,'اطلاعات افراد غیر حقوق بگیر'!A:A,'اطلاعات افراد غیر حقوق بگیر'!F:F)),IF(H405=31,Settings!$D$13,ROUND(M405,0)))","v":0},null,0,{"$f":"IF(ISNA(MATCH(D405,Master!D:D,0)),IF(ISNA(MATCH(D405,'اطلاعات افراد غیر حقوق بگیر'!A:A,0)),0,LOOKUP(D405,'اطلاعات افراد غیر حقوق بگیر'!A:A,'اطلاعات افراد غیر حقوق بگیر'!G:G)),LOOKUP(D405,Master!D:D,Master!J:J))","v":0},{"$error":"#N/A"},0,0,{"$f":"IF(O405>#REF!,\"اخطار ساعت اضافه کار از حداکثر بیشتر است\",\" \")","v":{"$error":"#REF!"}},{"$f":"IF(O405>#REF!,1,0)","v":{"$error":"#REF!"}}]
[403,{"$f":"IF(D406=0,\"\",Settings!$D$6)","v":""},{"$f":"IF(D406=0,\"\",LOOKUP(B406,'Rigion Code'!A:A,'Rigion Code'!B:B))","v":""},null,{"$f":"IF(D406=0,\" \",IF(ISNA(MATCH(D406,Personnel!A:A,0)),IF(ISNA(MATCH(D406,'اطلاعات افراد غیر حقوق بگیر'!A:A,0)),\"وجود ندارد\",LOOKUP(Edit!D406,'اطلاعات افراد غیر حقوق بگیر'!A:A,'اطلاعات افراد غیر حقوق بگیر'!B:B)),LOOKUP(D406,Personnel!A:A,Personnel!C:C)))","v":" "},{"$f":"IF(D406=0,\" \",IF(ISNA(MATCH(D406,Personnel!A:A,0)),IF(ISNA(MATCH(D406,'اطلاعات افراد غیر حقوق بگیر'!A:A,0)),\"وجود ندارد\",LOOKUP(D406,'اطلاعات افراد غیر حقوق بگیر'!A:A,'اطلاعات افراد غیر حقوق بگیر'!C:C)),LOOKUP(D406,Personnel!A:A,Personnel!B:B)))","v":" "},{"$f":"IF(D406=0,0,IF(ISNA(MATCH(D406,Personnel!A:A,0)),IF(ISNA(MATCH(D406,'اطلاعات افراد غیر حقوق بگیر'!A:A,0)),\"وجود ندارد\",LOOKUP(D406,'اطلاعات افراد غیر حقوق بگیر'!A:A,'اطلاعات افراد غیر حقوق بگیر'!D:D)),LOOKUP(D406,Master!D:D,Master!CD:CD)))","v":0},{"$f":"IF(D406=0,\" \",IF(ISNA(MATCH(D406,Personnel!A:A,0)),IF(ISNA(MATCH(D406,'اطلاعات افراد غیر حقوق بگیر'!A:A,0)),\"وجود ندارد\",LOOKUP(D406,'اطلاعات افراد غیر حقوق بگیر'!A:A,'اطلاعات افراد غیر حقوق بگیر'!E:E)),LOOKUP(D406,Master!D:D,Master!AH:AH)))","v":" "},{"$f":"SUMIFS(Pays!G:G,Pays!E:E,1,Pays!D:D,D406)","v":0},{"$f":"SUMIFS(Pays!G:G,Pays!E:E,2,Pays!D:D,D406)","v":0},{"$f":"SUMIFS(Pays!G:G,Pays!E:E,57,Pays!D:D,D406)","v":0},{"$f":"SUMIF(Pays!D:D,D406,Pays!G:G)","v":0},{"$f":"SUMIF(Pays!D:D,D406,Pays!G:G)/176","v":0},{"$f":"IF(M406=0,IF(ISNA(MATCH(D406,'اطلاعات افراد غیر حقوق بگیر'!A:A,0)),0,LOOKUP(D406,'اطلاعات افراد غیر حقوق بگیر'!A:A,'اطلاعات افراد غیر حقوق بگیر'!F:F)),IF(H406=31,Settings!$D$13,ROUND(M406,0)))","v":0},null,0,{"$f":"IF(ISNA(MATCH(D406,Master!D:D,0)),IF(ISNA(MATCH(D406,'اطلاعات افراد غیر حقوق بگیر'!A:A,0)),0,LOOKUP(D406,'اطلاعات افراد غیر حقوق بگیر'!A:A,'اطلاعات افراد غیر حقوق بگیر'!G:G)),LOOKUP(D406,Master!D:D,Master!J:J))","v":0},{"$error":"#N/A"},0,0,{"$f":"IF(O406>#REF!,\"اخطار ساعت اضافه کار از حداکثر بیشتر است\",\" \")","v":{"$error":"#REF!"}},{"$f":"IF(O406>#REF!,1,0)","v":{"$error":"#REF!"}}]
[404,{"$f":"IF(D407=0,\"\",Settings!$D$6)","v":""},{"$f":"IF(D407=0,\"\",LOOKUP(B407,'Rigion Code'!A:A,'Rigion Code'!B:B))","v":""},null,{"$f":"IF(D407=0,\" \",IF(ISNA(MATCH(D407,Personnel!A:A,0)),IF(ISNA(MATCH(D407,'اطلاعات افراد غیر حقوق بگیر'!A:A,0)),\"وجود ندارد\",LOOKUP(Edit!D407,'اطلاعات افراد غیر حقوق بگیر'!A:A,'اطلاعات افراد غیر حقوق بگیر'!B:B)),LOOKUP(D407,Personnel!A:A,Personnel!C:C)))","v":" "},{"$f":"IF(D407=0,\" \",IF(ISNA(MATCH(D407,Personnel!A:A,0)),IF(ISNA(MATCH(D407,'اطلاعات افراد غیر حقوق بگیر'!A:A,0)),\"وجود ندارد\",LOOKUP(D407,'اطلاعات افراد غیر حقوق بگیر'!A:A,'اطلاعات افراد غیر حقوق بگیر'!C:C)),LOOKUP(D407,Personnel!A:A,Personnel!B:B)))","v":" "},{"$f":"IF(D407=0,0,IF(ISNA(MATCH(D407,Personnel!A:A,0)),IF(ISNA(MATCH(D407,'اطلاعات افراد غیر حقوق بگیر'!A:A,0)),\"وجود ندارد\",LOOKUP(D407,'اطلاعات افراد غیر حقوق بگیر'!A:A,'اطلاعات افراد غیر حقوق بگیر'!D:D)),LOOKUP(D407,Master!D:D,Master!CD:CD)))","v":0},{"$f":"IF(D407=0,\" \",IF(ISNA(MATCH(D407,Personnel!A:A,0)),IF(ISNA(MATCH(D407,'اطلاعات افراد غیر حقوق بگیر'!A:A,0)),\"وجود ندارد\",LOOKUP(D407,'اطلاعات افراد غیر حقوق بگیر'!A:A,'اطلاعات افراد غیر حقوق بگیر'!E:E)),LOOKUP(D407,Master!D:D,Master!AH:AH)))","v":" "},{"$f":"SUMIFS(Pays!G:G,Pays!E:E,1,Pays!D:D,D407)","v":0},{"$f":"SUMIFS(Pays!G:G,Pays!E:E,2,Pays!D:D,D407)","v":0},{"$f":"SUMIFS(Pays!G:G,Pays!E:E,57,Pays!D:D,D407)","v":0},{"$f":"SUMIF(Pays!D:D,D407,Pays!G:G)","v":0},{"$f":"SUMIF(Pays!D:D,D407,Pays!G:G)/176","v":0},{"$f":"IF(M407=0,IF(ISNA(MATCH(D407,'اطلاعات افراد غیر حقوق بگیر'!A:A,0)),0,LOOKUP(D407,'اطلاعات افراد غیر حقوق بگیر'!A:A,'اطلاعات افراد غیر حقوق بگیر'!F:F)),IF(H407=31,Settings!$D$13,ROUND(M407,0)))","v":0},null,0,{"$f":"IF(ISNA(MATCH(D407,Master!D:D,0)),IF(ISNA(MATCH(D407,'اطلاعات افراد غیر حقوق بگیر'!A:A,0)),0,LOOKUP(D407,'اطلاعات افراد غیر حقوق بگیر'!A:A,'اطلاعات افراد غیر حقوق بگیر'!G:G)),LOOKUP(D407,Master!D:D,Master!J:J))","v":0},{"$error":"#N/A"},0,0,{"$f":"IF(O407>#REF!,\"اخطار ساعت اضافه کار از حداکثر بیشتر است\",\" \")","v":{"$error":"#REF!"}},{"$f":"IF(O407>#REF!,1,0)","v":{"$error":"#REF!"}}]
[405,{"$f":"IF(D408=0,\"\",Settings!$D$6)","v":""},{"$f":"IF(D408=0,\"\",LOOKUP(B408,'Rigion Code'!A:A,'Rigion Code'!B:B))","v":""},null,{"$f":"IF(D408=0,\" \",IF(ISNA(MATCH(D408,Personnel!A:A,0)),IF(ISNA(MATCH(D408,'اطلاعات افراد غیر حقوق بگیر'!A:A,0)),\"وجود ندارد\",LOOKUP(Edit!D408,'اطلاعات افراد غیر حقوق بگیر'!A:A,'اطلاعات افراد غیر حقوق بگیر'!B:B)),LOOKUP(D408,Personnel!A:A,Personnel!C:C)))","v":" "},{"$f":"IF(D408=0,\" \",IF(ISNA(MATCH(D408,Personnel!A:A,0)),IF(ISNA(MATCH(D408,'اطلاعات افراد غیر حقوق بگیر'!A:A,0)),\"وجود ندارد\",LOOKUP(D408,'اطلاعات افراد غیر حقوق بگیر'!A:A,'اطلاعات افراد غیر حقوق بگیر'!C:C)),LOOKUP(D408,Personnel!A:A,Personnel!B:B)))","v":" "},{"$f":"IF(D408=0,0,IF(ISNA(MATCH(D408,Personnel!A:A,0)),IF(ISNA(MATCH(D408,'اطلاعات افراد غیر حقوق بگیر'!A:A,0)),\"وجود ندارد\",LOOKUP(D408,'اطلاعات افراد غیر حقوق بگیر'!A:A,'اطلاعات افراد غیر حقوق بگیر'!D:D)),LOOKUP(D408,Master!D:D,Master!CD:CD)))","v":0},{"$f":"IF(D408=0,\" \",IF(ISNA(MATCH(D408,Personnel!A:A,0)),IF(ISNA(MATCH(D408,'اطلاعات افراد غیر حقوق بگیر'!A:A,0)),\"وجود ندارد\",LOOKUP(D408,'اطلاعات افراد غیر حقوق بگیر'!A:A,'اطلاعات افراد غیر حقوق بگیر'!E:E)),LOOKUP(D408,Master!D:D,Master!AH:AH)))","v":" "},{"$f":"SUMIFS(Pays!G:G,Pays!E:E,1,Pays!D:D,D408)","v":0},{"$f":"SUMIFS(Pays!G:G,Pays!E:E,2,Pays!D:D,D408)","v":0},{"$f":"SUMIFS(Pays!G:G,Pays!E:E,57,Pays!D:D,D408)","v":0},{"$f":"SUMIF(Pays!D:D,D408,Pays!G:G)","v":0},{"$f":"SUMIF(Pays!D:D,D408,Pays!G:G)/176","v":0},{"$f":"IF(M408=0,IF(ISNA(MATCH(D408,'اطلاعات افراد غیر حقوق بگیر'!A:A,0)),0,LOOKUP(D408,'اطلاعات افراد غیر حقوق بگیر'!A:A,'اطلاعات افراد غیر حقوق بگیر'!F:F)),IF(H408=31,Settings!$D$13,ROUND(M408,0)))","v":0},null,0,{"$f":"IF(ISNA(MATCH(D408,Master!D:D,0)),IF(ISNA(MATCH(D408,'اطلاعات افراد غیر حقوق بگیر'!A:A,0)),0,LOOKUP(D408,'اطلاعات افراد غیر حقوق بگیر'!A:A,'اطلاعات افراد غیر حقوق بگیر'!G:G)),LOOKUP(D408,Master!D:D,Master!J:J))","v":0},{"$error":"#N/A"},0,0,{"$f":"IF(O408>#REF!,\"اخطار ساعت اضافه کار از حداکثر بیشتر است\",\" \")","v":{"$error":"#REF!"}},{"$f":"IF(O408>#REF!,1,0)","v":{"$error":"#REF!"}}]
[406,{"$f":"IF(D409=0,\"\",Settings!$D$6)","v":""},{"$f":"IF(D409=0,\"\",LOOKUP(B409,'Rigion Code'!A:A,'Rigion Code'!B:B))","v":""},null,{"$f":"IF(D409=0,\" \",IF(ISNA(MATCH(D409,Personnel!A:A,0)),IF(ISNA(MATCH(D409,'اطلاعات افراد غیر حقوق بگیر'!A:A,0)),\"وجود ندارد\",LOOKUP(Edit!D409,'اطلاعات افراد غیر حقوق بگیر'!A:A,'اطلاعات افراد غیر حقوق بگیر'!B:B)),LOOKUP(D409,Personnel!A:A,Personnel!C:C)))","v":" "},{"$f":"IF(D409=0,\" \",IF(ISNA(MATCH(D409,Personnel!A:A,0)),IF(ISNA(MATCH(D409,'اطلاعات افراد غیر حقوق بگیر'!A:A,0)),\"وجود ندارد\",LOOKUP(D409,'اطلاعات افراد غیر حقوق بگیر'!A:A,'اطلاعات افراد غیر حقوق بگیر'!C:C)),LOOKUP(D409,Personnel!A:A,Personnel!B:B)))","v":" "},{"$f":"IF(D409=0,0,IF(ISNA(MATCH(D409,Personnel!A:A,0)),IF(ISNA(MATCH(D409,'اطلاعات افراد غیر حقوق بگیر'!A:A,0)),\"وجود ندارد\",LOOKUP(D409,'اطلاعات افراد غیر حقوق بگیر'!A:A,'اطلاعات افراد غیر حقوق بگیر'!D:D)),LOOKUP(D409,Master!D:D,Master!CD:CD)))","v":0},{"$f":"IF(D409=0,\" \",IF(ISNA(MATCH(D409,Personnel!A:A,0)),IF(ISNA(MATCH(D409,'اطلاعات افراد غیر حقوق بگیر'!A:A,0)),\"وجود ندارد\",LOOKUP(D409,'اطلاعات افراد غیر حقوق بگیر'!A:A,'اطلاعات افراد غیر حقوق بگیر'!E:E)),LOOKUP(D409,Master!D:D,Master!AH:AH)))","v":" "},{"$f":"SUMIFS(Pays!G:G,Pays!E:E,1,Pays!D:D,D409)","v":0},{"$f":"SUMIFS(Pays!G:G,Pays!E:E,2,Pays!D:D,D409)","v":0},{"$f":"SUMIFS(Pays!G:G,Pays!E:E,57,Pays!D:D,D409)","v":0},{"$f":"SUMIF(Pays!D:D,D409,Pays!G:G)","v":0},{"$f":"SUMIF(Pays!D:D,D409,Pays!G:G)/176","v":0},{"$f":"IF(M409=0,IF(ISNA(MATCH(D409,'اطلاعات افراد غیر حقوق بگیر'!A:A,0)),0,LOOKUP(D409,'اطلاعات افراد غیر حقوق بگیر'!A:A,'اطلاعات افراد غیر حقوق بگیر'!F:F)),IF(H409=31,Settings!$D$13,ROUND(M409,0)))","v":0},null,0,{"$f":"IF(ISNA(MATCH(D409,Master!D:D,0)),IF(ISNA(MATCH(D409,'اطلاعات افراد غیر حقوق بگیر'!A:A,0)),0,LOOKUP(D409,'اطلاعات افراد غیر حقوق بگیر'!A:A,'اطلاعات افراد غیر حقوق بگیر'!G:G)),LOOKUP(D409,Master!D:D,Master!J:J))","v":0},{"$error":"#N/A"},0,0,{"$f":"IF(O409>#REF!,\"اخطار ساعت اضافه کار از حداکثر بیشتر است\",\" \")","v":{"$error":"#REF!"}},{"$f":"IF(O409>#REF!,1,0)","v":{"$error":"#REF!"}}]
[407,{"$f":"IF(D410=0,\"\",Settings!$D$6)","v":""},{"$f":"IF(D410=0,\"\",LOOKUP(B410,'Rigion Code'!A:A,'Rigion Code'!B:B))","v":""},null,{"$f":"IF(D410=0,\" \",IF(ISNA(MATCH(D410,Personnel!A:A,0)),IF(ISNA(MATCH(D410,'اطلاعات افراد غیر حقوق بگیر'!A:A,0)),\"وجود ندارد\",LOOKUP(Edit!D410,'اطلاعات افراد غیر حقوق بگیر'!A:A,'اطلاعات افراد غیر حقوق بگیر'!B:B)),LOOKUP(D410,Personnel!A:A,Personnel!C:C)))","v":" "},{"$f":"IF(D410=0,\" \",IF(ISNA(MATCH(D410,Personnel!A:A,0)),IF(ISNA(MATCH(D410,'اطلاعات افراد غیر حقوق بگیر'!A:A,0)),\"وجود ندارد\",LOOKUP(D410,'اطلاعات افراد غیر حقوق بگیر'!A:A,'اطلاعات افراد غیر حقوق بگیر'!C:C)),LOOKUP(D410,Personnel!A:A,Personnel!B:B)))","v":" "},{"$f":"IF(D410=0,0,IF(ISNA(MATCH(D410,Personnel!A:A,0)),IF(ISNA(MATCH(D410,'اطلاعات افراد غیر حقوق بگیر'!A:A,0)),\"وجود ندارد\",LOOKUP(D410,'اطلاعات افراد غیر حقوق بگیر'!A:A,'اطلاعات افراد غیر حقوق بگیر'!D:D)),LOOKUP(D410,Master!D:D,Master!CD:CD)))","v":0},{"$f":"IF(D410=0,\" \",IF(ISNA(MATCH(D410,Personnel!A:A,0)),IF(ISNA(MATCH(D410,'اطلاعات افراد غیر حقوق بگیر'!A:A,0)),\"وجود ندارد\",LOOKUP(D410,'اطلاعات افراد غیر حقوق بگیر'!A:A,'اطلاعات افراد غیر حقوق بگیر'!E:E)),LOOKUP(D410,Master!D:D,Master!AH:AH)))","v":" "},{"$f":"SUMIFS(Pays!G:G,Pays!E:E,1,Pays!D:D,D410)","v":0},{"$f":"SUMIFS(Pays!G:G,Pays!E:E,2,Pays!D:D,D410)","v":0},{"$f":"SUMIFS(Pays!G:G,Pays!E:E,57,Pays!D:D,D410)","v":0},{"$f":"SUMIF(Pays!D:D,D410,Pays!G:G)","v":0},{"$f":"SUMIF(Pays!D:D,D410,Pays!G:G)/176","v":0},{"$f":"IF(M410=0,IF(ISNA(MATCH(D410,'اطلاعات افراد غیر حقوق بگیر'!A:A,0)),0,LOOKUP(D410,'اطلاعات افراد غیر حقوق بگیر'!A:A,'اطلاعات افراد غیر حقوق بگیر'!F:F)),IF(H410=31,Settings!$D$13,ROUND(M410,0)))","v":0},null,0,{"$f":"IF(ISNA(MATCH(D410,Master!D:D,0)),IF(ISNA(MATCH(D410,'اطلاعات افراد غیر حقوق بگیر'!A:A,0)),0,LOOKUP(D410,'اطلاعات افراد غیر حقوق بگیر'!A:A,'اطلاعات افراد غیر حقوق بگیر'!G:G)),LOOKUP(D410,Master!D:D,Master!J:J))","v":0},{"$error":"#N/A"},0,0,{"$f":"IF(O410>#REF!,\"اخطار ساعت اضافه کار از حداکثر بیشتر است\",\" \")","v":{"$error":"#REF!"}},{"$f":"IF(O410>#REF!,1,0)","v":{"$error":"#REF!"}}]
[408,{"$f":"IF(D411=0,\"\",Settings!$D$6)","v":""},{"$f":"IF(D411=0,\"\",LOOKUP(B411,'Rigion Code'!A:A,'Rigion Code'!B:B))","v":""},null,{"$f":"IF(D411=0,\" \",IF(ISNA(MATCH(D411,Personnel!A:A,0)),IF(ISNA(MATCH(D411,'اطلاعات افراد غیر حقوق بگیر'!A:A,0)),\"وجود ندارد\",LOOKUP(Edit!D411,'اطلاعات افراد غیر حقوق بگیر'!A:A,'اطلاعات افراد غیر حقوق بگیر'!B:B)),LOOKUP(D411,Personnel!A:A,Personnel!C:C)))","v":" "},{"$f":"IF(D411=0,\" \",IF(ISNA(MATCH(D411,Personnel!A:A,0)),IF(ISNA(MATCH(D411,'اطلاعات افراد غیر حقوق بگیر'!A:A,0)),\"وجود ندارد\",LOOKUP(D411,'اطلاعات افراد غیر حقوق بگیر'!A:A,'اطلاعات افراد غیر حقوق بگیر'!C:C)),LOOKUP(D411,Personnel!A:A,Personnel!B:B)))","v":" "},{"$f":"IF(D411=0,0,IF(ISNA(MATCH(D411,Personnel!A:A,0)),IF(ISNA(MATCH(D411,'اطلاعات افراد غیر حقوق بگیر'!A:A,0)),\"وجود ندارد\",LOOKUP(D411,'اطلاعات افراد غیر حقوق بگیر'!A:A,'اطلاعات افراد غیر حقوق بگیر'!D:D)),LOOKUP(D411,Master!D:D,Master!CD:CD)))","v":0},{"$f":"IF(D411=0,\" \",IF(ISNA(MATCH(D411,Personnel!A:A,0)),IF(ISNA(MATCH(D411,'اطلاعات افراد غیر حقوق بگیر'!A:A,0)),\"وجود ندارد\",LOOKUP(D411,'اطلاعات افراد غیر حقوق بگیر'!A:A,'اطلاعات افراد غیر حقوق بگیر'!E:E)),LOOKUP(D411,Master!D:D,Master!AH:AH)))","v":" "},{"$f":"SUMIFS(Pays!G:G,Pays!E:E,1,Pays!D:D,D411)","v":0},{"$f":"SUMIFS(Pays!G:G,Pays!E:E,2,Pays!D:D,D411)","v":0},{"$f":"SUMIFS(Pays!G:G,Pays!E:E,57,Pays!D:D,D411)","v":0},{"$f":"SUMIF(Pays!D:D,D411,Pays!G:G)","v":0},{"$f":"SUMIF(Pays!D:D,D411,Pays!G:G)/176","v":0},{"$f":"IF(M411=0,IF(ISNA(MATCH(D411,'اطلاعات افراد غیر حقوق بگیر'!A:A,0)),0,LOOKUP(D411,'اطلاعات افراد غیر حقوق بگیر'!A:A,'اطلاعات افراد غیر حقوق بگیر'!F:F)),IF(H411=31,Settings!$D$13,ROUND(M411,0)))","v":0},null,0,{"$f":"IF(ISNA(MATCH(D411,Master!D:D,0)),IF(ISNA(MATCH(D411,'اطلاعات افراد غیر حقوق بگیر'!A:A,0)),0,LOOKUP(D411,'اطلاعات افراد غیر حقوق بگیر'!A:A,'اطلاعات افراد غیر حقوق بگیر'!G:G)),LOOKUP(D411,Master!D:D,Master!J:J))","v":0},{"$error":"#N/A"},0,0,{"$f":"IF(O411>#REF!,\"اخطار ساعت اضافه کار از حداکثر بیشتر است\",\" \")","v":{"$error":"#REF!"}},{"$f":"IF(O411>#REF!,1,0)","v":{"$error":"#REF!"}}]
[409,{"$f":"IF(D412=0,\"\",Settings!$D$6)","v":""},{"$f":"IF(D412=0,\"\",LOOKUP(B412,'Rigion Code'!A:A,'Rigion Code'!B:B))","v":""},null,{"$f":"IF(D412=0,\" \",IF(ISNA(MATCH(D412,Personnel!A:A,0)),IF(ISNA(MATCH(D412,'اطلاعات افراد غیر حقوق بگیر'!A:A,0)),\"وجود ندارد\",LOOKUP(Edit!D412,'اطلاعات افراد غیر حقوق بگیر'!A:A,'اطلاعات افراد غیر حقوق بگیر'!B:B)),LOOKUP(D412,Personnel!A:A,Personnel!C:C)))","v":" "},{"$f":"IF(D412=0,\" \",IF(ISNA(MATCH(D412,Personnel!A:A,0)),IF(ISNA(MATCH(D412,'اطلاعات افراد غیر حقوق بگیر'!A:A,0)),\"وجود ندارد\",LOOKUP(D412,'اطلاعات افراد غیر حقوق بگیر'!A:A,'اطلاعات افراد غیر حقوق بگیر'!C:C)),LOOKUP(D412,Personnel!A:A,Personnel!B:B)))","v":" "},{"$f":"IF(D412=0,0,IF(ISNA(MATCH(D412,Personnel!A:A,0)),IF(ISNA(MATCH(D412,'اطلاعات افراد غیر حقوق بگیر'!A:A,0)),\"وجود ندارد\",LOOKUP(D412,'اطلاعات افراد غیر حقوق بگیر'!A:A,'اطلاعات افراد غیر حقوق بگیر'!D:D)),LOOKUP(D412,Master!D:D,Master!CD:CD)))","v":0},{"$f":"IF(D412=0,\" \",IF(ISNA(MATCH(D412,Personnel!A:A,0)),IF(ISNA(MATCH(D412,'اطلاعات افراد غیر حقوق بگیر'!A:A,0)),\"وجود ندارد\",LOOKUP(D412,'اطلاعات افراد غیر حقوق بگیر'!A:A,'اطلاعات افراد غیر حقوق بگیر'!E:E)),LOOKUP(D412,Master!D:D,Master!AH:AH)))","v":" "},{"$f":"SUMIFS(Pays!G:G,Pays!E:E,1,Pays!D:D,D412)","v":0},{"$f":"SUMIFS(Pays!G:G,Pays!E:E,2,Pays!D:D,D412)","v":0},{"$f":"SUMIFS(Pays!G:G,Pays!E:E,57,Pays!D:D,D412)","v":0},{"$f":"SUMIF(Pays!D:D,D412,Pays!G:G)","v":0},{"$f":"SUMIF(Pays!D:D,D412,Pays!G:G)/176","v":0},{"$f":"IF(M412=0,IF(ISNA(MATCH(D412,'اطلاعات افراد غیر حقوق بگیر'!A:A,0)),0,LOOKUP(D412,'اطلاعات افراد غیر حقوق بگیر'!A:A,'اطلاعات افراد غیر حقوق بگیر'!F:F)),IF(H412=31,Settings!$D$13,ROUND(M412,0)))","v":0},null,0,{"$f":"IF(ISNA(MATCH(D412,Master!D:D,0)),IF(ISNA(MATCH(D412,'اطلاعات افراد غیر حقوق بگیر'!A:A,0)),0,LOOKUP(D412,'اطلاعات افراد غیر حقوق بگیر'!A:A,'اطلاعات افراد غیر حقوق بگیر'!G:G)),LOOKUP(D412,Master!D:D,Master!J:J))","v":0},{"$error":"#N/A"},0,0,{"$f":"IF(O412>#REF!,\"اخطار ساعت اضافه کار از حداکثر بیشتر است\",\" \")","v":{"$error":"#REF!"}},{"$f":"IF(O412>#REF!,1,0)","v":{"$error":"#REF!"}}]
[410,{"$f":"IF(D413=0,\"\",Settings!$D$6)","v":""},{"$f":"IF(D413=0,\"\",LOOKUP(B413,'Rigion Code'!A:A,'Rigion Code'!B:B))","v":""},null,{"$f":"IF(D413=0,\" \",IF(ISNA(MATCH(D413,Personnel!A:A,0)),IF(ISNA(MATCH(D413,'اطلاعات افراد غیر حقوق بگیر'!A:A,0)),\"وجود ندارد\",LOOKUP(Edit!D413,'اطلاعات افراد غیر حقوق بگیر'!A:A,'اطلاعات افراد غیر حقوق بگیر'!B:B)),LOOKUP(D413,Personnel!A:A,Personnel!C:C)))","v":" "},{"$f":"IF(D413=0,\" \",IF(ISNA(MATCH(D413,Personnel!A:A,0)),IF(ISNA(MATCH(D413,'اطلاعات افراد غیر حقوق بگیر'!A:A,0)),\"وجود ندارد\",LOOKUP(D413,'اطلاعات افراد غیر حقوق بگیر'!A:A,'اطلاعات افراد غیر حقوق بگیر'!C:C)),LOOKUP(D413,Personnel!A:A,Personnel!B:B)))","v":" "},{"$f":"IF(D413=0,0,IF(ISNA(MATCH(D413,Personnel!A:A,0)),IF(ISNA(MATCH(D413,'اطلاعات افراد غیر حقوق بگیر'!A:A,0)),\"وجود ندارد\",LOOKUP(D413,'اطلاعات افراد غیر حقوق بگیر'!A:A,'اطلاعات افراد غیر حقوق بگیر'!D:D)),LOOKUP(D413,Master!D:D,Master!CD:CD)))","v":0},{"$f":"IF(D413=0,\" \",IF(ISNA(MATCH(D413,Personnel!A:A,0)),IF(ISNA(MATCH(D413,'اطلاعات افراد غیر حقوق بگیر'!A:A,0)),\"وجود ندارد\",LOOKUP(D413,'اطلاعات افراد غیر حقوق بگیر'!A:A,'اطلاعات افراد غیر حقوق بگیر'!E:E)),LOOKUP(D413,Master!D:D,Master!AH:AH)))","v":" "},{"$f":"SUMIFS(Pays!G:G,Pays!E:E,1,Pays!D:D,D413)","v":0},{"$f":"SUMIFS(Pays!G:G,Pays!E:E,2,Pays!D:D,D413)","v":0},{"$f":"SUMIFS(Pays!G:G,Pays!E:E,57,Pays!D:D,D413)","v":0},{"$f":"SUMIF(Pays!D:D,D413,Pays!G:G)","v":0},{"$f":"SUMIF(Pays!D:D,D413,Pays!G:G)/176","v":0},{"$f":"IF(M413=0,IF(ISNA(MATCH(D413,'اطلاعات افراد غیر حقوق بگیر'!A:A,0)),0,LOOKUP(D413,'اطلاعات افراد غیر حقوق بگیر'!A:A,'اطلاعات افراد غیر حقوق بگیر'!F:F)),IF(H413=31,Settings!$D$13,ROUND(M413,0)))","v":0},null,0,{"$f":"IF(ISNA(MATCH(D413,Master!D:D,0)),IF(ISNA(MATCH(D413,'اطلاعات افراد غیر حقوق بگیر'!A:A,0)),0,LOOKUP(D413,'اطلاعات افراد غیر حقوق بگیر'!A:A,'اطلاعات افراد غیر حقوق بگیر'!G:G)),LOOKUP(D413,Master!D:D,Master!J:J))","v":0},{"$error":"#N/A"},0,0,{"$f":"IF(O413>#REF!,\"اخطار ساعت اضافه کار از حداکثر بیشتر است\",\" \")","v":{"$error":"#REF!"}},{"$f":"IF(O413>#REF!,1,0)","v":{"$error":"#REF!"}}]
[411,{"$f":"IF(D414=0,\"\",Settings!$D$6)","v":""},{"$f":"IF(D414=0,\"\",LOOKUP(B414,'Rigion Code'!A:A,'Rigion Code'!B:B))","v":""},null,{"$f":"IF(D414=0,\" \",IF(ISNA(MATCH(D414,Personnel!A:A,0)),IF(ISNA(MATCH(D414,'اطلاعات افراد غیر حقوق بگیر'!A:A,0)),\"وجود ندارد\",LOOKUP(Edit!D414,'اطلاعات افراد غیر حقوق بگیر'!A:A,'اطلاعات افراد غیر حقوق بگیر'!B:B)),LOOKUP(D414,Personnel!A:A,Personnel!C:C)))","v":" "},{"$f":"IF(D414=0,\" \",IF(ISNA(MATCH(D414,Personnel!A:A,0)),IF(ISNA(MATCH(D414,'اطلاعات افراد غیر حقوق بگیر'!A:A,0)),\"وجود ندارد\",LOOKUP(D414,'اطلاعات افراد غیر حقوق بگیر'!A:A,'اطلاعات افراد غیر حقوق بگیر'!C:C)),LOOKUP(D414,Personnel!A:A,Personnel!B:B)))","v":" "},{"$f":"IF(D414=0,0,IF(ISNA(MATCH(D414,Personnel!A:A,0)),IF(ISNA(MATCH(D414,'اطلاعات افراد غیر حقوق بگیر'!A:A,0)),\"وجود ندارد\",LOOKUP(D414,'اطلاعات افراد غیر حقوق بگیر'!A:A,'اطلاعات افراد غیر حقوق بگیر'!D:D)),LOOKUP(D414,Master!D:D,Master!CD:CD)))","v":0},{"$f":"IF(D414=0,\" \",IF(ISNA(MATCH(D414,Personnel!A:A,0)),IF(ISNA(MATCH(D414,'اطلاعات افراد غیر حقوق بگیر'!A:A,0)),\"وجود ندارد\",LOOKUP(D414,'اطلاعات افراد غیر حقوق بگیر'!A:A,'اطلاعات افراد غیر حقوق بگیر'!E:E)),LOOKUP(D414,Master!D:D,Master!AH:AH)))","v":" "},{"$f":"SUMIFS(Pays!G:G,Pays!E:E,1,Pays!D:D,D414)","v":0},{"$f":"SUMIFS(Pays!G:G,Pays!E:E,2,Pays!D:D,D414)","v":0},{"$f":"SUMIFS(Pays!G:G,Pays!E:E,57,Pays!D:D,D414)","v":0},{"$f":"SUMIF(Pays!D:D,D414,Pays!G:G)","v":0},{"$f":"SUMIF(Pays!D:D,D414,Pays!G:G)/176","v":0},{"$f":"IF(M414=0,IF(ISNA(MATCH(D414,'اطلاعات افراد غیر حقوق بگیر'!A:A,0)),0,LOOKUP(D414,'اطلاعات افراد غیر حقوق بگیر'!A:A,'اطلاعات افراد غیر حقوق بگیر'!F:F)),IF(H414=31,Settings!$D$13,ROUND(M414,0)))","v":0},null,0,{"$f":"IF(ISNA(MATCH(D414,Master!D:D,0)),IF(ISNA(MATCH(D414,'اطلاعات افراد غیر حقوق بگیر'!A:A,0)),0,LOOKUP(D414,'اطلاعات افراد غیر حقوق بگیر'!A:A,'اطلاعات افراد غیر حقوق بگیر'!G:G)),LOOKUP(D414,Master!D:D,Master!J:J))","v":0},{"$error":"#N/A"},0,0,{"$f":"IF(O414>#REF!,\"اخطار ساعت اضافه کار از حداکثر بیشتر است\",\" \")","v":{"$error":"#REF!"}},{"$f":"IF(O414>#REF!,1,0)","v":{"$error":"#REF!"}}]
[412,{"$f":"IF(D415=0,\"\",Settings!$D$6)","v":""},{"$f":"IF(D415=0,\"\",LOOKUP(B415,'Rigion Code'!A:A,'Rigion Code'!B:B))","v":""},null,{"$f":"IF(D415=0,\" \",IF(ISNA(MATCH(D415,Personnel!A:A,0)),IF(ISNA(MATCH(D415,'اطلاعات افراد غیر حقوق بگیر'!A:A,0)),\"وجود ندارد\",LOOKUP(Edit!D415,'اطلاعات افراد غیر حقوق بگیر'!A:A,'اطلاعات افراد غیر حقوق بگیر'!B:B)),LOOKUP(D415,Personnel!A:A,Personnel!C:C)))","v":" "},{"$f":"IF(D415=0,\" \",IF(ISNA(MATCH(D415,Personnel!A:A,0)),IF(ISNA(MATCH(D415,'اطلاعات افراد غیر حقوق بگیر'!A:A,0)),\"وجود ندارد\",LOOKUP(D415,'اطلاعات افراد غیر حقوق بگیر'!A:A,'اطلاعات افراد غیر حقوق بگیر'!C:C)),LOOKUP(D415,Personnel!A:A,Personnel!B:B)))","v":" "},{"$f":"IF(D415=0,0,IF(ISNA(MATCH(D415,Personnel!A:A,0)),IF(ISNA(MATCH(D415,'اطلاعات افراد غیر حقوق بگیر'!A:A,0)),\"وجود ندارد\",LOOKUP(D415,'اطلاعات افراد غیر حقوق بگیر'!A:A,'اطلاعات افراد غیر حقوق بگیر'!D:D)),LOOKUP(D415,Master!D:D,Master!CD:CD)))","v":0},{"$f":"IF(D415=0,\" \",IF(ISNA(MATCH(D415,Personnel!A:A,0)),IF(ISNA(MATCH(D415,'اطلاعات افراد غیر حقوق بگیر'!A:A,0)),\"وجود ندارد\",LOOKUP(D415,'اطلاعات افراد غیر حقوق بگیر'!A:A,'اطلاعات افراد غیر حقوق بگیر'!E:E)),LOOKUP(D415,Master!D:D,Master!AH:AH)))","v":" "},{"$f":"SUMIFS(Pays!G:G,Pays!E:E,1,Pays!D:D,D415)","v":0},{"$f":"SUMIFS(Pays!G:G,Pays!E:E,2,Pays!D:D,D415)","v":0},{"$f":"SUMIFS(Pays!G:G,Pays!E:E,57,Pays!D:D,D415)","v":0},{"$f":"SUMIF(Pays!D:D,D415,Pays!G:G)","v":0},{"$f":"SUMIF(Pays!D:D,D415,Pays!G:G)/176","v":0},{"$f":"IF(M415=0,IF(ISNA(MATCH(D415,'اطلاعات افراد غیر حقوق بگیر'!A:A,0)),0,LOOKUP(D415,'اطلاعات افراد غیر حقوق بگیر'!A:A,'اطلاعات افراد غیر حقوق بگیر'!F:F)),IF(H415=31,Settings!$D$13,ROUND(M415,0)))","v":0},null,0,{"$f":"IF(ISNA(MATCH(D415,Master!D:D,0)),IF(ISNA(MATCH(D415,'اطلاعات افراد غیر حقوق بگیر'!A:A,0)),0,LOOKUP(D415,'اطلاعات افراد غیر حقوق بگیر'!A:A,'اطلاعات افراد غیر حقوق بگیر'!G:G)),LOOKUP(D415,Master!D:D,Master!J:J))","v":0},{"$error":"#N/A"},0,0,{"$f":"IF(O415>#REF!,\"اخطار ساعت اضافه کار از حداکثر بیشتر است\",\" \")","v":{"$error":"#REF!"}},{"$f":"IF(O415>#REF!,1,0)","v":{"$error":"#REF!"}}]
[413,{"$f":"IF(D416=0,\"\",Settings!$D$6)","v":""},{"$f":"IF(D416=0,\"\",LOOKUP(B416,'Rigion Code'!A:A,'Rigion Code'!B:B))","v":""},null,{"$f":"IF(D416=0,\" \",IF(ISNA(MATCH(D416,Personnel!A:A,0)),IF(ISNA(MATCH(D416,'اطلاعات افراد غیر حقوق بگیر'!A:A,0)),\"وجود ندارد\",LOOKUP(Edit!D416,'اطلاعات افراد غیر حقوق بگیر'!A:A,'اطلاعات افراد غیر حقوق بگیر'!B:B)),LOOKUP(D416,Personnel!A:A,Personnel!C:C)))","v":" "},{"$f":"IF(D416=0,\" \",IF(ISNA(MATCH(D416,Personnel!A:A,0)),IF(ISNA(MATCH(D416,'اطلاعات افراد غیر حقوق بگیر'!A:A,0)),\"وجود ندارد\",LOOKUP(D416,'اطلاعات افراد غیر حقوق بگیر'!A:A,'اطلاعات افراد غیر حقوق بگیر'!C:C)),LOOKUP(D416,Personnel!A:A,Personnel!B:B)))","v":" "},{"$f":"IF(D416=0,0,IF(ISNA(MATCH(D416,Personnel!A:A,0)),IF(ISNA(MATCH(D416,'اطلاعات افراد غیر حقوق بگیر'!A:A,0)),\"وجود ندارد\",LOOKUP(D416,'اطلاعات افراد غیر حقوق بگیر'!A:A,'اطلاعات افراد غیر حقوق بگیر'!D:D)),LOOKUP(D416,Master!D:D,Master!CD:CD)))","v":0},{"$f":"IF(D416=0,\" \",IF(ISNA(MATCH(D416,Personnel!A:A,0)),IF(ISNA(MATCH(D416,'اطلاعات افراد غیر حقوق بگیر'!A:A,0)),\"وجود ندارد\",LOOKUP(D416,'اطلاعات افراد غیر حقوق بگیر'!A:A,'اطلاعات افراد غیر حقوق بگیر'!E:E)),LOOKUP(D416,Master!D:D,Master!AH:AH)))","v":" "},{"$f":"SUMIFS(Pays!G:G,Pays!E:E,1,Pays!D:D,D416)","v":0},{"$f":"SUMIFS(Pays!G:G,Pays!E:E,2,Pays!D:D,D416)","v":0},{"$f":"SUMIFS(Pays!G:G,Pays!E:E,57,Pays!D:D,D416)","v":0},{"$f":"SUMIF(Pays!D:D,D416,Pays!G:G)","v":0},{"$f":"SUMIF(Pays!D:D,D416,Pays!G:G)/176","v":0},{"$f":"IF(M416=0,IF(ISNA(MATCH(D416,'اطلاعات افراد غیر حقوق بگیر'!A:A,0)),0,LOOKUP(D416,'اطلاعات افراد غیر حقوق بگیر'!A:A,'اطلاعات افراد غیر حقوق بگیر'!F:F)),IF(H416=31,Settings!$D$13,ROUND(M416,0)))","v":0},null,0,{"$f":"IF(ISNA(MATCH(D416,Master!D:D,0)),IF(ISNA(MATCH(D416,'اطلاعات افراد غیر حقوق بگیر'!A:A,0)),0,LOOKUP(D416,'اطلاعات افراد غیر حقوق بگیر'!A:A,'اطلاعات افراد غیر حقوق بگیر'!G:G)),LOOKUP(D416,Master!D:D,Master!J:J))","v":0},{"$error":"#N/A"},0,0,{"$f":"IF(O416>#REF!,\"اخطار ساعت اضافه کار از حداکثر بیشتر است\",\" \")","v":{"$error":"#REF!"}},{"$f":"IF(O416>#REF!,1,0)","v":{"$error":"#REF!"}}]
[414,{"$f":"IF(D417=0,\"\",Settings!$D$6)","v":""},{"$f":"IF(D417=0,\"\",LOOKUP(B417,'Rigion Code'!A:A,'Rigion Code'!B:B))","v":""},null,{"$f":"IF(D417=0,\" \",IF(ISNA(MATCH(D417,Personnel!A:A,0)),IF(ISNA(MATCH(D417,'اطلاعات افراد غیر حقوق بگیر'!A:A,0)),\"وجود ندارد\",LOOKUP(Edit!D417,'اطلاعات افراد غیر حقوق بگیر'!A:A,'اطلاعات افراد غیر حقوق بگیر'!B:B)),LOOKUP(D417,Personnel!A:A,Personnel!C:C)))","v":" "},{"$f":"IF(D417=0,\" \",IF(ISNA(MATCH(D417,Personnel!A:A,0)),IF(ISNA(MATCH(D417,'اطلاعات افراد غیر حقوق بگیر'!A:A,0)),\"وجود ندارد\",LOOKUP(D417,'اطلاعات افراد غیر حقوق بگیر'!A:A,'اطلاعات افراد غیر حقوق بگیر'!C:C)),LOOKUP(D417,Personnel!A:A,Personnel!B:B)))","v":" "},{"$f":"IF(D417=0,0,IF(ISNA(MATCH(D417,Personnel!A:A,0)),IF(ISNA(MATCH(D417,'اطلاعات افراد غیر حقوق بگیر'!A:A,0)),\"وجود ندارد\",LOOKUP(D417,'اطلاعات افراد غیر حقوق بگیر'!A:A,'اطلاعات افراد غیر حقوق بگیر'!D:D)),LOOKUP(D417,Master!D:D,Master!CD:CD)))","v":0},{"$f":"IF(D417=0,\" \",IF(ISNA(MATCH(D417,Personnel!A:A,0)),IF(ISNA(MATCH(D417,'اطلاعات افراد غیر حقوق بگیر'!A:A,0)),\"وجود ندارد\",LOOKUP(D417,'اطلاعات افراد غیر حقوق بگیر'!A:A,'اطلاعات افراد غیر حقوق بگیر'!E:E)),LOOKUP(D417,Master!D:D,Master!AH:AH)))","v":" "},{"$f":"SUMIFS(Pays!G:G,Pays!E:E,1,Pays!D:D,D417)","v":0},{"$f":"SUMIFS(Pays!G:G,Pays!E:E,2,Pays!D:D,D417)","v":0},{"$f":"SUMIFS(Pays!G:G,Pays!E:E,57,Pays!D:D,D417)","v":0},{"$f":"SUMIF(Pays!D:D,D417,Pays!G:G)","v":0},{"$f":"SUMIF(Pays!D:D,D417,Pays!G:G)/176","v":0},{"$f":"IF(M417=0,IF(ISNA(MATCH(D417,'اطلاعات افراد غیر حقوق بگیر'!A:A,0)),0,LOOKUP(D417,'اطلاعات افراد غیر حقوق بگیر'!A:A,'اطلاعات افراد غیر حقوق بگیر'!F:F)),IF(H417=31,Settings!$D$13,ROUND(M417,0)))","v":0},null,0,{"$f":"IF(ISNA(MATCH(D417,Master!D:D,0)),IF(ISNA(MATCH(D417,'اطلاعات افراد غیر حقوق بگیر'!A:A,0)),0,LOOKUP(D417,'اطلاعات افراد غیر حقوق بگیر'!A:A,'اطلاعات افراد غیر حقوق بگیر'!G:G)),LOOKUP(D417,Master!D:D,Master!J:J))","v":0},{"$error":"#N/A"},0,0,{"$f":"IF(O417>#REF!,\"اخطار ساعت اضافه کار از حداکثر بیشتر است\",\" \")","v":{"$error":"#REF!"}},{"$f":"IF(O417>#REF!,1,0)","v":{"$error":"#REF!"}}]
[415,{"$f":"IF(D418=0,\"\",Settings!$D$6)","v":""},{"$f":"IF(D418=0,\"\",LOOKUP(B418,'Rigion Code'!A:A,'Rigion Code'!B:B))","v":""},null,{"$f":"IF(D418=0,\" \",IF(ISNA(MATCH(D418,Personnel!A:A,0)),IF(ISNA(MATCH(D418,'اطلاعات افراد غیر حقوق بگیر'!A:A,0)),\"وجود ندارد\",LOOKUP(Edit!D418,'اطلاعات افراد غیر حقوق بگیر'!A:A,'اطلاعات افراد غیر حقوق بگیر'!B:B)),LOOKUP(D418,Personnel!A:A,Personnel!C:C)))","v":" "},{"$f":"IF(D418=0,\" \",IF(ISNA(MATCH(D418,Personnel!A:A,0)),IF(ISNA(MATCH(D418,'اطلاعات افراد غیر حقوق بگیر'!A:A,0)),\"وجود ندارد\",LOOKUP(D418,'اطلاعات افراد غیر حقوق بگیر'!A:A,'اطلاعات افراد غیر حقوق بگیر'!C:C)),LOOKUP(D418,Personnel!A:A,Personnel!B:B)))","v":" "},{"$f":"IF(D418=0,0,IF(ISNA(MATCH(D418,Personnel!A:A,0)),IF(ISNA(MATCH(D418,'اطلاعات افراد غیر حقوق بگیر'!A:A,0)),\"وجود ندارد\",LOOKUP(D418,'اطلاعات افراد غیر حقوق بگیر'!A:A,'اطلاعات افراد غیر حقوق بگیر'!D:D)),LOOKUP(D418,Master!D:D,Master!CD:CD)))","v":0},{"$f":"IF(D418=0,\" \",IF(ISNA(MATCH(D418,Personnel!A:A,0)),IF(ISNA(MATCH(D418,'اطلاعات افراد غیر حقوق بگیر'!A:A,0)),\"وجود ندارد\",LOOKUP(D418,'اطلاعات افراد غیر حقوق بگیر'!A:A,'اطلاعات افراد غیر حقوق بگیر'!E:E)),LOOKUP(D418,Master!D:D,Master!AH:AH)))","v":" "},{"$f":"SUMIFS(Pays!G:G,Pays!E:E,1,Pays!D:D,D418)","v":0},{"$f":"SUMIFS(Pays!G:G,Pays!E:E,2,Pays!D:D,D418)","v":0},{"$f":"SUMIFS(Pays!G:G,Pays!E:E,57,Pays!D:D,D418)","v":0},{"$f":"SUMIF(Pays!D:D,D418,Pays!G:G)","v":0},{"$f":"SUMIF(Pays!D:D,D418,Pays!G:G)/176","v":0},{"$f":"IF(M418=0,IF(ISNA(MATCH(D418,'اطلاعات افراد غیر حقوق بگیر'!A:A,0)),0,LOOKUP(D418,'اطلاعات افراد غیر حقوق بگیر'!A:A,'اطلاعات افراد غیر حقوق بگیر'!F:F)),IF(H418=31,Settings!$D$13,ROUND(M418,0)))","v":0},null,0,{"$f":"IF(ISNA(MATCH(D418,Master!D:D,0)),IF(ISNA(MATCH(D418,'اطلاعات افراد غیر حقوق بگیر'!A:A,0)),0,LOOKUP(D418,'اطلاعات افراد غیر حقوق بگیر'!A:A,'اطلاعات افراد غیر حقوق بگیر'!G:G)),LOOKUP(D418,Master!D:D,Master!J:J))","v":0},{"$error":"#N/A"},0,0,{"$f":"IF(O418>#REF!,\"اخطار ساعت اضافه کار از حداکثر بیشتر است\",\" \")","v":{"$error":"#REF!"}},{"$f":"IF(O418>#REF!,1,0)","v":{"$error":"#REF!"}}]
[416,{"$f":"IF(D419=0,\"\",Settings!$D$6)","v":""},{"$f":"IF(D419=0,\"\",LOOKUP(B419,'Rigion Code'!A:A,'Rigion Code'!B:B))","v":""},null,{"$f":"IF(D419=0,\" \",IF(ISNA(MATCH(D419,Personnel!A:A,0)),IF(ISNA(MATCH(D419,'اطلاعات افراد غیر حقوق بگیر'!A:A,0)),\"وجود ندارد\",LOOKUP(Edit!D419,'اطلاعات افراد غیر حقوق بگیر'!A:A,'اطلاعات افراد غیر حقوق بگیر'!B:B)),LOOKUP(D419,Personnel!A:A,Personnel!C:C)))","v":" "},{"$f":"IF(D419=0,\" \",IF(ISNA(MATCH(D419,Personnel!A:A,0)),IF(ISNA(MATCH(D419,'اطلاعات افراد غیر حقوق بگیر'!A:A,0)),\"وجود ندارد\",LOOKUP(D419,'اطلاعات افراد غیر حقوق بگیر'!A:A,'اطلاعات افراد غیر حقوق بگیر'!C:C)),LOOKUP(D419,Personnel!A:A,Personnel!B:B)))","v":" "},{"$f":"IF(D419=0,0,IF(ISNA(MATCH(D419,Personnel!A:A,0)),IF(ISNA(MATCH(D419,'اطلاعات افراد غیر حقوق بگیر'!A:A,0)),\"وجود ندارد\",LOOKUP(D419,'اطلاعات افراد غیر حقوق بگیر'!A:A,'اطلاعات افراد غیر حقوق بگیر'!D:D)),LOOKUP(D419,Master!D:D,Master!CD:CD)))","v":0},{"$f":"IF(D419=0,\" \",IF(ISNA(MATCH(D419,Personnel!A:A,0)),IF(ISNA(MATCH(D419,'اطلاعات افراد غیر حقوق بگیر'!A:A,0)),\"وجود ندارد\",LOOKUP(D419,'اطلاعات افراد غیر حقوق بگیر'!A:A,'اطلاعات افراد غیر حقوق بگیر'!E:E)),LOOKUP(D419,Master!D:D,Master!AH:AH)))","v":" "},{"$f":"SUMIFS(Pays!G:G,Pays!E:E,1,Pays!D:D,D419)","v":0},{"$f":"SUMIFS(Pays!G:G,Pays!E:E,2,Pays!D:D,D419)","v":0},{"$f":"SUMIFS(Pays!G:G,Pays!E:E,57,Pays!D:D,D419)","v":0},{"$f":"SUMIF(Pays!D:D,D419,Pays!G:G)","v":0},{"$f":"SUMIF(Pays!D:D,D419,Pays!G:G)/176","v":0},{"$f":"IF(M419=0,IF(ISNA(MATCH(D419,'اطلاعات افراد غیر حقوق بگیر'!A:A,0)),0,LOOKUP(D419,'اطلاعات افراد غیر حقوق بگیر'!A:A,'اطلاعات افراد غیر حقوق بگیر'!F:F)),IF(H419=31,Settings!$D$13,ROUND(M419,0)))","v":0},null,0,{"$f":"IF(ISNA(MATCH(D419,Master!D:D,0)),IF(ISNA(MATCH(D419,'اطلاعات افراد غیر حقوق بگیر'!A:A,0)),0,LOOKUP(D419,'اطلاعات افراد غیر حقوق بگیر'!A:A,'اطلاعات افراد غیر حقوق بگیر'!G:G)),LOOKUP(D419,Master!D:D,Master!J:J))","v":0},{"$error":"#N/A"},0,0,{"$f":"IF(O419>#REF!,\"اخطار ساعت اضافه کار از حداکثر بیشتر است\",\" \")","v":{"$error":"#REF!"}},{"$f":"IF(O419>#REF!,1,0)","v":{"$error":"#REF!"}}]
[417,{"$f":"IF(D420=0,\"\",Settings!$D$6)","v":""},{"$f":"IF(D420=0,\"\",LOOKUP(B420,'Rigion Code'!A:A,'Rigion Code'!B:B))","v":""},null,{"$f":"IF(D420=0,\" \",IF(ISNA(MATCH(D420,Personnel!A:A,0)),IF(ISNA(MATCH(D420,'اطلاعات افراد غیر حقوق بگیر'!A:A,0)),\"وجود ندارد\",LOOKUP(Edit!D420,'اطلاعات افراد غیر حقوق بگیر'!A:A,'اطلاعات افراد غیر حقوق بگیر'!B:B)),LOOKUP(D420,Personnel!A:A,Personnel!C:C)))","v":" "},{"$f":"IF(D420=0,\" \",IF(ISNA(MATCH(D420,Personnel!A:A,0)),IF(ISNA(MATCH(D420,'اطلاعات افراد غیر حقوق بگیر'!A:A,0)),\"وجود ندارد\",LOOKUP(D420,'اطلاعات افراد غیر حقوق بگیر'!A:A,'اطلاعات افراد غیر حقوق بگیر'!C:C)),LOOKUP(D420,Personnel!A:A,Personnel!B:B)))","v":" "},{"$f":"IF(D420=0,0,IF(ISNA(MATCH(D420,Personnel!A:A,0)),IF(ISNA(MATCH(D420,'اطلاعات افراد غیر حقوق بگیر'!A:A,0)),\"وجود ندارد\",LOOKUP(D420,'اطلاعات افراد غیر حقوق بگیر'!A:A,'اطلاعات افراد غیر حقوق بگیر'!D:D)),LOOKUP(D420,Master!D:D,Master!CD:CD)))","v":0},{"$f":"IF(D420=0,\" \",IF(ISNA(MATCH(D420,Personnel!A:A,0)),IF(ISNA(MATCH(D420,'اطلاعات افراد غیر حقوق بگیر'!A:A,0)),\"وجود ندارد\",LOOKUP(D420,'اطلاعات افراد غیر حقوق بگیر'!A:A,'اطلاعات افراد غیر حقوق بگیر'!E:E)),LOOKUP(D420,Master!D:D,Master!AH:AH)))","v":" "},{"$f":"SUMIFS(Pays!G:G,Pays!E:E,1,Pays!D:D,D420)","v":0},{"$f":"SUMIFS(Pays!G:G,Pays!E:E,2,Pays!D:D,D420)","v":0},{"$f":"SUMIFS(Pays!G:G,Pays!E:E,57,Pays!D:D,D420)","v":0},{"$f":"SUMIF(Pays!D:D,D420,Pays!G:G)","v":0},{"$f":"SUMIF(Pays!D:D,D420,Pays!G:G)/176","v":0},{"$f":"IF(M420=0,IF(ISNA(MATCH(D420,'اطلاعات افراد غیر حقوق بگیر'!A:A,0)),0,LOOKUP(D420,'اطلاعات افراد غیر حقوق بگیر'!A:A,'اطلاعات افراد غیر حقوق بگیر'!F:F)),IF(H420=31,Settings!$D$13,ROUND(M420,0)))","v":0},null,0,{"$f":"IF(ISNA(MATCH(D420,Master!D:D,0)),IF(ISNA(MATCH(D420,'اطلاعات افراد غیر حقوق بگیر'!A:A,0)),0,LOOKUP(D420,'اطلاعات افراد غیر حقوق بگیر'!A:A,'اطلاعات افراد غیر حقوق بگیر'!G:G)),LOOKUP(D420,Master!D:D,Master!J:J))","v":0},{"$error":"#N/A"},0,0,{"$f":"IF(O420>#REF!,\"اخطار ساعت اضافه کار از حداکثر بیشتر است\",\" \")","v":{"$error":"#REF!"}},{"$f":"IF(O420>#REF!,1,0)","v":{"$error":"#REF!"}}]
[418,{"$f":"IF(D421=0,\"\",Settings!$D$6)","v":""},{"$f":"IF(D421=0,\"\",LOOKUP(B421,'Rigion Code'!A:A,'Rigion Code'!B:B))","v":""},null,{"$f":"IF(D421=0,\" \",IF(ISNA(MATCH(D421,Personnel!A:A,0)),IF(ISNA(MATCH(D421,'اطلاعات افراد غیر حقوق بگیر'!A:A,0)),\"وجود ندارد\",LOOKUP(Edit!D421,'اطلاعات افراد غیر حقوق بگیر'!A:A,'اطلاعات افراد غیر حقوق بگیر'!B:B)),LOOKUP(D421,Personnel!A:A,Personnel!C:C)))","v":" "},{"$f":"IF(D421=0,\" \",IF(ISNA(MATCH(D421,Personnel!A:A,0)),IF(ISNA(MATCH(D421,'اطلاعات افراد غیر حقوق بگیر'!A:A,0)),\"وجود ندارد\",LOOKUP(D421,'اطلاعات افراد غیر حقوق بگیر'!A:A,'اطلاعات افراد غیر حقوق بگیر'!C:C)),LOOKUP(D421,Personnel!A:A,Personnel!B:B)))","v":" "},{"$f":"IF(D421=0,0,IF(ISNA(MATCH(D421,Personnel!A:A,0)),IF(ISNA(MATCH(D421,'اطلاعات افراد غیر حقوق بگیر'!A:A,0)),\"وجود ندارد\",LOOKUP(D421,'اطلاعات افراد غیر حقوق بگیر'!A:A,'اطلاعات افراد غیر حقوق بگیر'!D:D)),LOOKUP(D421,Master!D:D,Master!CD:CD)))","v":0},{"$f":"IF(D421=0,\" \",IF(ISNA(MATCH(D421,Personnel!A:A,0)),IF(ISNA(MATCH(D421,'اطلاعات افراد غیر حقوق بگیر'!A:A,0)),\"وجود ندارد\",LOOKUP(D421,'اطلاعات افراد غیر حقوق بگیر'!A:A,'اطلاعات افراد غیر حقوق بگیر'!E:E)),LOOKUP(D421,Master!D:D,Master!AH:AH)))","v":" "},{"$f":"SUMIFS(Pays!G:G,Pays!E:E,1,Pays!D:D,D421)","v":0},{"$f":"SUMIFS(Pays!G:G,Pays!E:E,2,Pays!D:D,D421)","v":0},{"$f":"SUMIFS(Pays!G:G,Pays!E:E,57,Pays!D:D,D421)","v":0},{"$f":"SUMIF(Pays!D:D,D421,Pays!G:G)","v":0},{"$f":"SUMIF(Pays!D:D,D421,Pays!G:G)/176","v":0},{"$f":"IF(M421=0,IF(ISNA(MATCH(D421,'اطلاعات افراد غیر حقوق بگیر'!A:A,0)),0,LOOKUP(D421,'اطلاعات افراد غیر حقوق بگیر'!A:A,'اطلاعات افراد غیر حقوق بگیر'!F:F)),IF(H421=31,Settings!$D$13,ROUND(M421,0)))","v":0},null,0,{"$f":"IF(ISNA(MATCH(D421,Master!D:D,0)),IF(ISNA(MATCH(D421,'اطلاعات افراد غیر حقوق بگیر'!A:A,0)),0,LOOKUP(D421,'اطلاعات افراد غیر حقوق بگیر'!A:A,'اطلاعات افراد غیر حقوق بگیر'!G:G)),LOOKUP(D421,Master!D:D,Master!J:J))","v":0},{"$error":"#N/A"},0,0,{"$f":"IF(O421>#REF!,\"اخطار ساعت اضافه کار از حداکثر بیشتر است\",\" \")","v":{"$error":"#REF!"}},{"$f":"IF(O421>#REF!,1,0)","v":{"$error":"#REF!"}}]
[419,{"$f":"IF(D422=0,\"\",Settings!$D$6)","v":""},{"$f":"IF(D422=0,\"\",LOOKUP(B422,'Rigion Code'!A:A,'Rigion Code'!B:B))","v":""},null,{"$f":"IF(D422=0,\" \",IF(ISNA(MATCH(D422,Personnel!A:A,0)),IF(ISNA(MATCH(D422,'اطلاعات افراد غیر حقوق بگیر'!A:A,0)),\"وجود ندارد\",LOOKUP(Edit!D422,'اطلاعات افراد غیر حقوق بگیر'!A:A,'اطلاعات افراد غیر حقوق بگیر'!B:B)),LOOKUP(D422,Personnel!A:A,Personnel!C:C)))","v":" "},{"$f":"IF(D422=0,\" \",IF(ISNA(MATCH(D422,Personnel!A:A,0)),IF(ISNA(MATCH(D422,'اطلاعات افراد غیر حقوق بگیر'!A:A,0)),\"وجود ندارد\",LOOKUP(D422,'اطلاعات افراد غیر حقوق بگیر'!A:A,'اطلاعات افراد غیر حقوق بگیر'!C:C)),LOOKUP(D422,Personnel!A:A,Personnel!B:B)))","v":" "},{"$f":"IF(D422=0,0,IF(ISNA(MATCH(D422,Personnel!A:A,0)),IF(ISNA(MATCH(D422,'اطلاعات افراد غیر حقوق بگیر'!A:A,0)),\"وجود ندارد\",LOOKUP(D422,'اطلاعات افراد غیر حقوق بگیر'!A:A,'اطلاعات افراد غیر حقوق بگیر'!D:D)),LOOKUP(D422,Master!D:D,Master!CD:CD)))","v":0},{"$f":"IF(D422=0,\" \",IF(ISNA(MATCH(D422,Personnel!A:A,0)),IF(ISNA(MATCH(D422,'اطلاعات افراد غیر حقوق بگیر'!A:A,0)),\"وجود ندارد\",LOOKUP(D422,'اطلاعات افراد غیر حقوق بگیر'!A:A,'اطلاعات افراد غیر حقوق بگیر'!E:E)),LOOKUP(D422,Master!D:D,Master!AH:AH)))","v":" "},{"$f":"SUMIFS(Pays!G:G,Pays!E:E,1,Pays!D:D,D422)","v":0},{"$f":"SUMIFS(Pays!G:G,Pays!E:E,2,Pays!D:D,D422)","v":0},{"$f":"SUMIFS(Pays!G:G,Pays!E:E,57,Pays!D:D,D422)","v":0},{"$f":"SUMIF(Pays!D:D,D422,Pays!G:G)","v":0},{"$f":"SUMIF(Pays!D:D,D422,Pays!G:G)/176","v":0},{"$f":"IF(M422=0,IF(ISNA(MATCH(D422,'اطلاعات افراد غیر حقوق بگیر'!A:A,0)),0,LOOKUP(D422,'اطلاعات افراد غیر حقوق بگیر'!A:A,'اطلاعات افراد غیر حقوق بگیر'!F:F)),IF(H422=31,Settings!$D$13,ROUND(M422,0)))","v":0},null,0,{"$f":"IF(ISNA(MATCH(D422,Master!D:D,0)),IF(ISNA(MATCH(D422,'اطلاعات افراد غیر حقوق بگیر'!A:A,0)),0,LOOKUP(D422,'اطلاعات افراد غیر حقوق بگیر'!A:A,'اطلاعات افراد غیر حقوق بگیر'!G:G)),LOOKUP(D422,Master!D:D,Master!J:J))","v":0},{"$error":"#N/A"},0,0,{"$f":"IF(O422>#REF!,\"اخطار ساعت اضافه کار از حداکثر بیشتر است\",\" \")","v":{"$error":"#REF!"}},{"$f":"IF(O422>#REF!,1,0)","v":{"$error":"#REF!"}}]
[420,{"$f":"IF(D423=0,\"\",Settings!$D$6)","v":""},{"$f":"IF(D423=0,\"\",LOOKUP(B423,'Rigion Code'!A:A,'Rigion Code'!B:B))","v":""},null,{"$f":"IF(D423=0,\" \",IF(ISNA(MATCH(D423,Personnel!A:A,0)),IF(ISNA(MATCH(D423,'اطلاعات افراد غیر حقوق بگیر'!A:A,0)),\"وجود ندارد\",LOOKUP(Edit!D423,'اطلاعات افراد غیر حقوق بگیر'!A:A,'اطلاعات افراد غیر حقوق بگیر'!B:B)),LOOKUP(D423,Personnel!A:A,Personnel!C:C)))","v":" "},{"$f":"IF(D423=0,\" \",IF(ISNA(MATCH(D423,Personnel!A:A,0)),IF(ISNA(MATCH(D423,'اطلاعات افراد غیر حقوق بگیر'!A:A,0)),\"وجود ندارد\",LOOKUP(D423,'اطلاعات افراد غیر حقوق بگیر'!A:A,'اطلاعات افراد غیر حقوق بگیر'!C:C)),LOOKUP(D423,Personnel!A:A,Personnel!B:B)))","v":" "},{"$f":"IF(D423=0,0,IF(ISNA(MATCH(D423,Personnel!A:A,0)),IF(ISNA(MATCH(D423,'اطلاعات افراد غیر حقوق بگیر'!A:A,0)),\"وجود ندارد\",LOOKUP(D423,'اطلاعات افراد غیر حقوق بگیر'!A:A,'اطلاعات افراد غیر حقوق بگیر'!D:D)),LOOKUP(D423,Master!D:D,Master!CD:CD)))","v":0},{"$f":"IF(D423=0,\" \",IF(ISNA(MATCH(D423,Personnel!A:A,0)),IF(ISNA(MATCH(D423,'اطلاعات افراد غیر حقوق بگیر'!A:A,0)),\"وجود ندارد\",LOOKUP(D423,'اطلاعات افراد غیر حقوق بگیر'!A:A,'اطلاعات افراد غیر حقوق بگیر'!E:E)),LOOKUP(D423,Master!D:D,Master!AH:AH)))","v":" "},{"$f":"SUMIFS(Pays!G:G,Pays!E:E,1,Pays!D:D,D423)","v":0},{"$f":"SUMIFS(Pays!G:G,Pays!E:E,2,Pays!D:D,D423)","v":0},{"$f":"SUMIFS(Pays!G:G,Pays!E:E,57,Pays!D:D,D423)","v":0},{"$f":"SUMIF(Pays!D:D,D423,Pays!G:G)","v":0},{"$f":"SUMIF(Pays!D:D,D423,Pays!G:G)/176","v":0},{"$f":"IF(M423=0,IF(ISNA(MATCH(D423,'اطلاعات افراد غیر حقوق بگیر'!A:A,0)),0,LOOKUP(D423,'اطلاعات افراد غیر حقوق بگیر'!A:A,'اطلاعات افراد غیر حقوق بگیر'!F:F)),IF(H423=31,Settings!$D$13,ROUND(M423,0)))","v":0},null,0,{"$f":"IF(ISNA(MATCH(D423,Master!D:D,0)),IF(ISNA(MATCH(D423,'اطلاعات افراد غیر حقوق بگیر'!A:A,0)),0,LOOKUP(D423,'اطلاعات افراد غیر حقوق بگیر'!A:A,'اطلاعات افراد غیر حقوق بگیر'!G:G)),LOOKUP(D423,Master!D:D,Master!J:J))","v":0},{"$error":"#N/A"},0,0,{"$f":"IF(O423>#REF!,\"اخطار ساعت اضافه کار از حداکثر بیشتر است\",\" \")","v":{"$error":"#REF!"}},{"$f":"IF(O423>#REF!,1,0)","v":{"$error":"#REF!"}}]
[421,{"$f":"IF(D424=0,\"\",Settings!$D$6)","v":""},{"$f":"IF(D424=0,\"\",LOOKUP(B424,'Rigion Code'!A:A,'Rigion Code'!B:B))","v":""},null,{"$f":"IF(D424=0,\" \",IF(ISNA(MATCH(D424,Personnel!A:A,0)),IF(ISNA(MATCH(D424,'اطلاعات افراد غیر حقوق بگیر'!A:A,0)),\"وجود ندارد\",LOOKUP(Edit!D424,'اطلاعات افراد غیر حقوق بگیر'!A:A,'اطلاعات افراد غیر حقوق بگیر'!B:B)),LOOKUP(D424,Personnel!A:A,Personnel!C:C)))","v":" "},{"$f":"IF(D424=0,\" \",IF(ISNA(MATCH(D424,Personnel!A:A,0)),IF(ISNA(MATCH(D424,'اطلاعات افراد غیر حقوق بگیر'!A:A,0)),\"وجود ندارد\",LOOKUP(D424,'اطلاعات افراد غیر حقوق بگیر'!A:A,'اطلاعات افراد غیر حقوق بگیر'!C:C)),LOOKUP(D424,Personnel!A:A,Personnel!B:B)))","v":" "},{"$f":"IF(D424=0,0,IF(ISNA(MATCH(D424,Personnel!A:A,0)),IF(ISNA(MATCH(D424,'اطلاعات افراد غیر حقوق بگیر'!A:A,0)),\"وجود ندارد\",LOOKUP(D424,'اطلاعات افراد غیر حقوق بگیر'!A:A,'اطلاعات افراد غیر حقوق بگیر'!D:D)),LOOKUP(D424,Master!D:D,Master!CD:CD)))","v":0},{"$f":"IF(D424=0,\" \",IF(ISNA(MATCH(D424,Personnel!A:A,0)),IF(ISNA(MATCH(D424,'اطلاعات افراد غیر حقوق بگیر'!A:A,0)),\"وجود ندارد\",LOOKUP(D424,'اطلاعات افراد غیر حقوق بگیر'!A:A,'اطلاعات افراد غیر حقوق بگیر'!E:E)),LOOKUP(D424,Master!D:D,Master!AH:AH)))","v":" "},{"$f":"SUMIFS(Pays!G:G,Pays!E:E,1,Pays!D:D,D424)","v":0},{"$f":"SUMIFS(Pays!G:G,Pays!E:E,2,Pays!D:D,D424)","v":0},{"$f":"SUMIFS(Pays!G:G,Pays!E:E,57,Pays!D:D,D424)","v":0},{"$f":"SUMIF(Pays!D:D,D424,Pays!G:G)","v":0},{"$f":"SUMIF(Pays!D:D,D424,Pays!G:G)/176","v":0},{"$f":"IF(M424=0,IF(ISNA(MATCH(D424,'اطلاعات افراد غیر حقوق بگیر'!A:A,0)),0,LOOKUP(D424,'اطلاعات افراد غیر حقوق بگیر'!A:A,'اطلاعات افراد غیر حقوق بگیر'!F:F)),IF(H424=31,Settings!$D$13,ROUND(M424,0)))","v":0},null,0,{"$f":"IF(ISNA(MATCH(D424,Master!D:D,0)),IF(ISNA(MATCH(D424,'اطلاعات افراد غیر حقوق بگیر'!A:A,0)),0,LOOKUP(D424,'اطلاعات افراد غیر حقوق بگیر'!A:A,'اطلاعات افراد غیر حقوق بگیر'!G:G)),LOOKUP(D424,Master!D:D,Master!J:J))","v":0},{"$error":"#N/A"},0,0,{"$f":"IF(O424>#REF!,\"اخطار ساعت اضافه کار از حداکثر بیشتر است\",\" \")","v":{"$error":"#REF!"}},{"$f":"IF(O424>#REF!,1,0)","v":{"$error":"#REF!"}}]
[422,{"$f":"IF(D425=0,\"\",Settings!$D$6)","v":""},{"$f":"IF(D425=0,\"\",LOOKUP(B425,'Rigion Code'!A:A,'Rigion Code'!B:B))","v":""},null,{"$f":"IF(D425=0,\" \",IF(ISNA(MATCH(D425,Personnel!A:A,0)),IF(ISNA(MATCH(D425,'اطلاعات افراد غیر حقوق بگیر'!A:A,0)),\"وجود ندارد\",LOOKUP(Edit!D425,'اطلاعات افراد غیر حقوق بگیر'!A:A,'اطلاعات افراد غیر حقوق بگیر'!B:B)),LOOKUP(D425,Personnel!A:A,Personnel!C:C)))","v":" "},{"$f":"IF(D425=0,\" \",IF(ISNA(MATCH(D425,Personnel!A:A,0)),IF(ISNA(MATCH(D425,'اطلاعات افراد غیر حقوق بگیر'!A:A,0)),\"وجود ندارد\",LOOKUP(D425,'اطلاعات افراد غیر حقوق بگیر'!A:A,'اطلاعات افراد غیر حقوق بگیر'!C:C)),LOOKUP(D425,Personnel!A:A,Personnel!B:B)))","v":" "},{"$f":"IF(D425=0,0,IF(ISNA(MATCH(D425,Personnel!A:A,0)),IF(ISNA(MATCH(D425,'اطلاعات افراد غیر حقوق بگیر'!A:A,0)),\"وجود ندارد\",LOOKUP(D425,'اطلاعات افراد غیر حقوق بگیر'!A:A,'اطلاعات افراد غیر حقوق بگیر'!D:D)),LOOKUP(D425,Master!D:D,Master!CD:CD)))","v":0},{"$f":"IF(D425=0,\" \",IF(ISNA(MATCH(D425,Personnel!A:A,0)),IF(ISNA(MATCH(D425,'اطلاعات افراد غیر حقوق بگیر'!A:A,0)),\"وجود ندارد\",LOOKUP(D425,'اطلاعات افراد غیر حقوق بگیر'!A:A,'اطلاعات افراد غیر حقوق بگیر'!E:E)),LOOKUP(D425,Master!D:D,Master!AH:AH)))","v":" "},{"$f":"SUMIFS(Pays!G:G,Pays!E:E,1,Pays!D:D,D425)","v":0},{"$f":"SUMIFS(Pays!G:G,Pays!E:E,2,Pays!D:D,D425)","v":0},{"$f":"SUMIFS(Pays!G:G,Pays!E:E,57,Pays!D:D,D425)","v":0},{"$f":"SUMIF(Pays!D:D,D425,Pays!G:G)","v":0},{"$f":"SUMIF(Pays!D:D,D425,Pays!G:G)/176","v":0},{"$f":"IF(M425=0,IF(ISNA(MATCH(D425,'اطلاعات افراد غیر حقوق بگیر'!A:A,0)),0,LOOKUP(D425,'اطلاعات افراد غیر حقوق بگیر'!A:A,'اطلاعات افراد غیر حقوق بگیر'!F:F)),IF(H425=31,Settings!$D$13,ROUND(M425,0)))","v":0},null,0,{"$f":"IF(ISNA(MATCH(D425,Master!D:D,0)),IF(ISNA(MATCH(D425,'اطلاعات افراد غیر حقوق بگیر'!A:A,0)),0,LOOKUP(D425,'اطلاعات افراد غیر حقوق بگیر'!A:A,'اطلاعات افراد غیر حقوق بگیر'!G:G)),LOOKUP(D425,Master!D:D,Master!J:J))","v":0},{"$error":"#N/A"},0,0,{"$f":"IF(O425>#REF!,\"اخطار ساعت اضافه کار از حداکثر بیشتر است\",\" \")","v":{"$error":"#REF!"}},{"$f":"IF(O425>#REF!,1,0)","v":{"$error":"#REF!"}}]
[423,{"$f":"IF(D426=0,\"\",Settings!$D$6)","v":""},{"$f":"IF(D426=0,\"\",LOOKUP(B426,'Rigion Code'!A:A,'Rigion Code'!B:B))","v":""},null,{"$f":"IF(D426=0,\" \",IF(ISNA(MATCH(D426,Personnel!A:A,0)),IF(ISNA(MATCH(D426,'اطلاعات افراد غیر حقوق بگیر'!A:A,0)),\"وجود ندارد\",LOOKUP(Edit!D426,'اطلاعات افراد غیر حقوق بگیر'!A:A,'اطلاعات افراد غیر حقوق بگیر'!B:B)),LOOKUP(D426,Personnel!A:A,Personnel!C:C)))","v":" "},{"$f":"IF(D426=0,\" \",IF(ISNA(MATCH(D426,Personnel!A:A,0)),IF(ISNA(MATCH(D426,'اطلاعات افراد غیر حقوق بگیر'!A:A,0)),\"وجود ندارد\",LOOKUP(D426,'اطلاعات افراد غیر حقوق بگیر'!A:A,'اطلاعات افراد غیر حقوق بگیر'!C:C)),LOOKUP(D426,Personnel!A:A,Personnel!B:B)))","v":" "},{"$f":"IF(D426=0,0,IF(ISNA(MATCH(D426,Personnel!A:A,0)),IF(ISNA(MATCH(D426,'اطلاعات افراد غیر حقوق بگیر'!A:A,0)),\"وجود ندارد\",LOOKUP(D426,'اطلاعات افراد غیر حقوق بگیر'!A:A,'اطلاعات افراد غیر حقوق بگیر'!D:D)),LOOKUP(D426,Master!D:D,Master!CD:CD)))","v":0},{"$f":"IF(D426=0,\" \",IF(ISNA(MATCH(D426,Personnel!A:A,0)),IF(ISNA(MATCH(D426,'اطلاعات افراد غیر حقوق بگیر'!A:A,0)),\"وجود ندارد\",LOOKUP(D426,'اطلاعات افراد غیر حقوق بگیر'!A:A,'اطلاعات افراد غیر حقوق بگیر'!E:E)),LOOKUP(D426,Master!D:D,Master!AH:AH)))","v":" "},{"$f":"SUMIFS(Pays!G:G,Pays!E:E,1,Pays!D:D,D426)","v":0},{"$f":"SUMIFS(Pays!G:G,Pays!E:E,2,Pays!D:D,D426)","v":0},{"$f":"SUMIFS(Pays!G:G,Pays!E:E,57,Pays!D:D,D426)","v":0},{"$f":"SUMIF(Pays!D:D,D426,Pays!G:G)","v":0},{"$f":"SUMIF(Pays!D:D,D426,Pays!G:G)/176","v":0},{"$f":"IF(M426=0,IF(ISNA(MATCH(D426,'اطلاعات افراد غیر حقوق بگیر'!A:A,0)),0,LOOKUP(D426,'اطلاعات افراد غیر حقوق بگیر'!A:A,'اطلاعات افراد غیر حقوق بگیر'!F:F)),IF(H426=31,Settings!$D$13,ROUND(M426,0)))","v":0},null,0,{"$f":"IF(ISNA(MATCH(D426,Master!D:D,0)),IF(ISNA(MATCH(D426,'اطلاعات افراد غیر حقوق بگیر'!A:A,0)),0,LOOKUP(D426,'اطلاعات افراد غیر حقوق بگیر'!A:A,'اطلاعات افراد غیر حقوق بگیر'!G:G)),LOOKUP(D426,Master!D:D,Master!J:J))","v":0},{"$error":"#N/A"},0,0,{"$f":"IF(O426>#REF!,\"اخطار ساعت اضافه کار از حداکثر بیشتر است\",\" \")","v":{"$error":"#REF!"}},{"$f":"IF(O426>#REF!,1,0)","v":{"$error":"#REF!"}}]
[424,{"$f":"IF(D427=0,\"\",Settings!$D$6)","v":""},{"$f":"IF(D427=0,\"\",LOOKUP(B427,'Rigion Code'!A:A,'Rigion Code'!B:B))","v":""},null,{"$f":"IF(D427=0,\" \",IF(ISNA(MATCH(D427,Personnel!A:A,0)),IF(ISNA(MATCH(D427,'اطلاعات افراد غیر حقوق بگیر'!A:A,0)),\"وجود ندارد\",LOOKUP(Edit!D427,'اطلاعات افراد غیر حقوق بگیر'!A:A,'اطلاعات افراد غیر حقوق بگیر'!B:B)),LOOKUP(D427,Personnel!A:A,Personnel!C:C)))","v":" "},{"$f":"IF(D427=0,\" \",IF(ISNA(MATCH(D427,Personnel!A:A,0)),IF(ISNA(MATCH(D427,'اطلاعات افراد غیر حقوق بگیر'!A:A,0)),\"وجود ندارد\",LOOKUP(D427,'اطلاعات افراد غیر حقوق بگیر'!A:A,'اطلاعات افراد غیر حقوق بگیر'!C:C)),LOOKUP(D427,Personnel!A:A,Personnel!B:B)))","v":" "},{"$f":"IF(D427=0,0,IF(ISNA(MATCH(D427,Personnel!A:A,0)),IF(ISNA(MATCH(D427,'اطلاعات افراد غیر حقوق بگیر'!A:A,0)),\"وجود ندارد\",LOOKUP(D427,'اطلاعات افراد غیر حقوق بگیر'!A:A,'اطلاعات افراد غیر حقوق بگیر'!D:D)),LOOKUP(D427,Master!D:D,Master!CD:CD)))","v":0},{"$f":"IF(D427=0,\" \",IF(ISNA(MATCH(D427,Personnel!A:A,0)),IF(ISNA(MATCH(D427,'اطلاعات افراد غیر حقوق بگیر'!A:A,0)),\"وجود ندارد\",LOOKUP(D427,'اطلاعات افراد غیر حقوق بگیر'!A:A,'اطلاعات افراد غیر حقوق بگیر'!E:E)),LOOKUP(D427,Master!D:D,Master!AH:AH)))","v":" "},{"$f":"SUMIFS(Pays!G:G,Pays!E:E,1,Pays!D:D,D427)","v":0},{"$f":"SUMIFS(Pays!G:G,Pays!E:E,2,Pays!D:D,D427)","v":0},{"$f":"SUMIFS(Pays!G:G,Pays!E:E,57,Pays!D:D,D427)","v":0},{"$f":"SUMIF(Pays!D:D,D427,Pays!G:G)","v":0},{"$f":"SUMIF(Pays!D:D,D427,Pays!G:G)/176","v":0},{"$f":"IF(M427=0,IF(ISNA(MATCH(D427,'اطلاعات افراد غیر حقوق بگیر'!A:A,0)),0,LOOKUP(D427,'اطلاعات افراد غیر حقوق بگیر'!A:A,'اطلاعات افراد غیر حقوق بگیر'!F:F)),IF(H427=31,Settings!$D$13,ROUND(M427,0)))","v":0},null,0,{"$f":"IF(ISNA(MATCH(D427,Master!D:D,0)),IF(ISNA(MATCH(D427,'اطلاعات افراد غیر حقوق بگیر'!A:A,0)),0,LOOKUP(D427,'اطلاعات افراد غیر حقوق بگیر'!A:A,'اطلاعات افراد غیر حقوق بگیر'!G:G)),LOOKUP(D427,Master!D:D,Master!J:J))","v":0},{"$error":"#N/A"},0,0,{"$f":"IF(O427>#REF!,\"اخطار ساعت اضافه کار از حداکثر بیشتر است\",\" \")","v":{"$error":"#REF!"}},{"$f":"IF(O427>#REF!,1,0)","v":{"$error":"#REF!"}}]
[425,{"$f":"IF(D428=0,\"\",Settings!$D$6)","v":""},{"$f":"IF(D428=0,\"\",LOOKUP(B428,'Rigion Code'!A:A,'Rigion Code'!B:B))","v":""},null,{"$f":"IF(D428=0,\" \",IF(ISNA(MATCH(D428,Personnel!A:A,0)),IF(ISNA(MATCH(D428,'اطلاعات افراد غیر حقوق بگیر'!A:A,0)),\"وجود ندارد\",LOOKUP(Edit!D428,'اطلاعات افراد غیر حقوق بگیر'!A:A,'اطلاعات افراد غیر حقوق بگیر'!B:B)),LOOKUP(D428,Personnel!A:A,Personnel!C:C)))","v":" "},{"$f":"IF(D428=0,\" \",IF(ISNA(MATCH(D428,Personnel!A:A,0)),IF(ISNA(MATCH(D428,'اطلاعات افراد غیر حقوق بگیر'!A:A,0)),\"وجود ندارد\",LOOKUP(D428,'اطلاعات افراد غیر حقوق بگیر'!A:A,'اطلاعات افراد غیر حقوق بگیر'!C:C)),LOOKUP(D428,Personnel!A:A,Personnel!B:B)))","v":" "},{"$f":"IF(D428=0,0,IF(ISNA(MATCH(D428,Personnel!A:A,0)),IF(ISNA(MATCH(D428,'اطلاعات افراد غیر حقوق بگیر'!A:A,0)),\"وجود ندارد\",LOOKUP(D428,'اطلاعات افراد غیر حقوق بگیر'!A:A,'اطلاعات افراد غیر حقوق بگیر'!D:D)),LOOKUP(D428,Master!D:D,Master!CD:CD)))","v":0},{"$f":"IF(D428=0,\" \",IF(ISNA(MATCH(D428,Personnel!A:A,0)),IF(ISNA(MATCH(D428,'اطلاعات افراد غیر حقوق بگیر'!A:A,0)),\"وجود ندارد\",LOOKUP(D428,'اطلاعات افراد غیر حقوق بگیر'!A:A,'اطلاعات افراد غیر حقوق بگیر'!E:E)),LOOKUP(D428,Master!D:D,Master!AH:AH)))","v":" "},{"$f":"SUMIFS(Pays!G:G,Pays!E:E,1,Pays!D:D,D428)","v":0},{"$f":"SUMIFS(Pays!G:G,Pays!E:E,2,Pays!D:D,D428)","v":0},{"$f":"SUMIFS(Pays!G:G,Pays!E:E,57,Pays!D:D,D428)","v":0},{"$f":"SUMIF(Pays!D:D,D428,Pays!G:G)","v":0},{"$f":"SUMIF(Pays!D:D,D428,Pays!G:G)/176","v":0},{"$f":"IF(M428=0,IF(ISNA(MATCH(D428,'اطلاعات افراد غیر حقوق بگیر'!A:A,0)),0,LOOKUP(D428,'اطلاعات افراد غیر حقوق بگیر'!A:A,'اطلاعات افراد غیر حقوق بگیر'!F:F)),IF(H428=31,Settings!$D$13,ROUND(M428,0)))","v":0},null,0,{"$f":"IF(ISNA(MATCH(D428,Master!D:D,0)),IF(ISNA(MATCH(D428,'اطلاعات افراد غیر حقوق بگیر'!A:A,0)),0,LOOKUP(D428,'اطلاعات افراد غیر حقوق بگیر'!A:A,'اطلاعات افراد غیر حقوق بگیر'!G:G)),LOOKUP(D428,Master!D:D,Master!J:J))","v":0},{"$error":"#N/A"},0,0,{"$f":"IF(O428>#REF!,\"اخطار ساعت اضافه کار از حداکثر بیشتر است\",\" \")","v":{"$error":"#REF!"}},{"$f":"IF(O428>#REF!,1,0)","v":{"$error":"#REF!"}}]
[426,{"$f":"IF(D429=0,\"\",Settings!$D$6)","v":""},{"$f":"IF(D429=0,\"\",LOOKUP(B429,'Rigion Code'!A:A,'Rigion Code'!B:B))","v":""},null,{"$f":"IF(D429=0,\" \",IF(ISNA(MATCH(D429,Personnel!A:A,0)),IF(ISNA(MATCH(D429,'اطلاعات افراد غیر حقوق بگیر'!A:A,0)),\"وجود ندارد\",LOOKUP(Edit!D429,'اطلاعات افراد غیر حقوق بگیر'!A:A,'اطلاعات افراد غیر حقوق بگیر'!B:B)),LOOKUP(D429,Personnel!A:A,Personnel!C:C)))","v":" "},{"$f":"IF(D429=0,\" \",IF(ISNA(MATCH(D429,Personnel!A:A,0)),IF(ISNA(MATCH(D429,'اطلاعات افراد غیر حقوق بگیر'!A:A,0)),\"وجود ندارد\",LOOKUP(D429,'اطلاعات افراد غیر حقوق بگیر'!A:A,'اطلاعات افراد غیر حقوق بگیر'!C:C)),LOOKUP(D429,Personnel!A:A,Personnel!B:B)))","v":" "},{"$f":"IF(D429=0,0,IF(ISNA(MATCH(D429,Personnel!A:A,0)),IF(ISNA(MATCH(D429,'اطلاعات افراد غیر حقوق بگیر'!A:A,0)),\"وجود ندارد\",LOOKUP(D429,'اطلاعات افراد غیر حقوق بگیر'!A:A,'اطلاعات افراد غیر حقوق بگیر'!D:D)),LOOKUP(D429,Master!D:D,Master!CD:CD)))","v":0},{"$f":"IF(D429=0,\" \",IF(ISNA(MATCH(D429,Personnel!A:A,0)),IF(ISNA(MATCH(D429,'اطلاعات افراد غیر حقوق بگیر'!A:A,0)),\"وجود ندارد\",LOOKUP(D429,'اطلاعات افراد غیر حقوق بگیر'!A:A,'اطلاعات افراد غیر حقوق بگیر'!E:E)),LOOKUP(D429,Master!D:D,Master!AH:AH)))","v":" "},{"$f":"SUMIFS(Pays!G:G,Pays!E:E,1,Pays!D:D,D429)","v":0},{"$f":"SUMIFS(Pays!G:G,Pays!E:E,2,Pays!D:D,D429)","v":0},{"$f":"SUMIFS(Pays!G:G,Pays!E:E,57,Pays!D:D,D429)","v":0},{"$f":"SUMIF(Pays!D:D,D429,Pays!G:G)","v":0},{"$f":"SUMIF(Pays!D:D,D429,Pays!G:G)/176","v":0},{"$f":"IF(M429=0,IF(ISNA(MATCH(D429,'اطلاعات افراد غیر حقوق بگیر'!A:A,0)),0,LOOKUP(D429,'اطلاعات افراد غیر حقوق بگیر'!A:A,'اطلاعات افراد غیر حقوق بگیر'!F:F)),IF(H429=31,Settings!$D$13,ROUND(M429,0)))","v":0},null,0,{"$f":"IF(ISNA(MATCH(D429,Master!D:D,0)),IF(ISNA(MATCH(D429,'اطلاعات افراد غیر حقوق بگیر'!A:A,0)),0,LOOKUP(D429,'اطلاعات افراد غیر حقوق بگیر'!A:A,'اطلاعات افراد غیر حقوق بگیر'!G:G)),LOOKUP(D429,Master!D:D,Master!J:J))","v":0},{"$error":"#N/A"},0,0,{"$f":"IF(O429>#REF!,\"اخطار ساعت اضافه کار از حداکثر بیشتر است\",\" \")","v":{"$error":"#REF!"}},{"$f":"IF(O429>#REF!,1,0)","v":{"$error":"#REF!"}}]
[427,{"$f":"IF(D430=0,\"\",Settings!$D$6)","v":""},{"$f":"IF(D430=0,\"\",LOOKUP(B430,'Rigion Code'!A:A,'Rigion Code'!B:B))","v":""},null,{"$f":"IF(D430=0,\" \",IF(ISNA(MATCH(D430,Personnel!A:A,0)),IF(ISNA(MATCH(D430,'اطلاعات افراد غیر حقوق بگیر'!A:A,0)),\"وجود ندارد\",LOOKUP(Edit!D430,'اطلاعات افراد غیر حقوق بگیر'!A:A,'اطلاعات افراد غیر حقوق بگیر'!B:B)),LOOKUP(D430,Personnel!A:A,Personnel!C:C)))","v":" "},{"$f":"IF(D430=0,\" \",IF(ISNA(MATCH(D430,Personnel!A:A,0)),IF(ISNA(MATCH(D430,'اطلاعات افراد غیر حقوق بگیر'!A:A,0)),\"وجود ندارد\",LOOKUP(D430,'اطلاعات افراد غیر حقوق بگیر'!A:A,'اطلاعات افراد غیر حقوق بگیر'!C:C)),LOOKUP(D430,Personnel!A:A,Personnel!B:B)))","v":" "},{"$f":"IF(D430=0,0,IF(ISNA(MATCH(D430,Personnel!A:A,0)),IF(ISNA(MATCH(D430,'اطلاعات افراد غیر حقوق بگیر'!A:A,0)),\"وجود ندارد\",LOOKUP(D430,'اطلاعات افراد غیر حقوق بگیر'!A:A,'اطلاعات افراد غیر حقوق بگیر'!D:D)),LOOKUP(D430,Master!D:D,Master!CD:CD)))","v":0},{"$f":"IF(D430=0,\" \",IF(ISNA(MATCH(D430,Personnel!A:A,0)),IF(ISNA(MATCH(D430,'اطلاعات افراد غیر حقوق بگیر'!A:A,0)),\"وجود ندارد\",LOOKUP(D430,'اطلاعات افراد غیر حقوق بگیر'!A:A,'اطلاعات افراد غیر حقوق بگیر'!E:E)),LOOKUP(D430,Master!D:D,Master!AH:AH)))","v":" "},{"$f":"SUMIFS(Pays!G:G,Pays!E:E,1,Pays!D:D,D430)","v":0},{"$f":"SUMIFS(Pays!G:G,Pays!E:E,2,Pays!D:D,D430)","v":0},{"$f":"SUMIFS(Pays!G:G,Pays!E:E,57,Pays!D:D,D430)","v":0},{"$f":"SUMIF(Pays!D:D,D430,Pays!G:G)","v":0},{"$f":"SUMIF(Pays!D:D,D430,Pays!G:G)/176","v":0},{"$f":"IF(M430=0,IF(ISNA(MATCH(D430,'اطلاعات افراد غیر حقوق بگیر'!A:A,0)),0,LOOKUP(D430,'اطلاعات افراد غیر حقوق بگیر'!A:A,'اطلاعات افراد غیر حقوق بگیر'!F:F)),IF(H430=31,Settings!$D$13,ROUND(M430,0)))","v":0},null,0,{"$f":"IF(ISNA(MATCH(D430,Master!D:D,0)),IF(ISNA(MATCH(D430,'اطلاعات افراد غیر حقوق بگیر'!A:A,0)),0,LOOKUP(D430,'اطلاعات افراد غیر حقوق بگیر'!A:A,'اطلاعات افراد غیر حقوق بگیر'!G:G)),LOOKUP(D430,Master!D:D,Master!J:J))","v":0},{"$error":"#N/A"},0,0,{"$f":"IF(O430>#REF!,\"اخطار ساعت اضافه کار از حداکثر بیشتر است\",\" \")","v":{"$error":"#REF!"}},{"$f":"IF(O430>#REF!,1,0)","v":{"$error":"#REF!"}}]
[428,{"$f":"IF(D431=0,\"\",Settings!$D$6)","v":""},{"$f":"IF(D431=0,\"\",LOOKUP(B431,'Rigion Code'!A:A,'Rigion Code'!B:B))","v":""},null,{"$f":"IF(D431=0,\" \",IF(ISNA(MATCH(D431,Personnel!A:A,0)),IF(ISNA(MATCH(D431,'اطلاعات افراد غیر حقوق بگیر'!A:A,0)),\"وجود ندارد\",LOOKUP(Edit!D431,'اطلاعات افراد غیر حقوق بگیر'!A:A,'اطلاعات افراد غیر حقوق بگیر'!B:B)),LOOKUP(D431,Personnel!A:A,Personnel!C:C)))","v":" "},{"$f":"IF(D431=0,\" \",IF(ISNA(MATCH(D431,Personnel!A:A,0)),IF(ISNA(MATCH(D431,'اطلاعات افراد غیر حقوق بگیر'!A:A,0)),\"وجود ندارد\",LOOKUP(D431,'اطلاعات افراد غیر حقوق بگیر'!A:A,'اطلاعات افراد غیر حقوق بگیر'!C:C)),LOOKUP(D431,Personnel!A:A,Personnel!B:B)))","v":" "},{"$f":"IF(D431=0,0,IF(ISNA(MATCH(D431,Personnel!A:A,0)),IF(ISNA(MATCH(D431,'اطلاعات افراد غیر حقوق بگیر'!A:A,0)),\"وجود ندارد\",LOOKUP(D431,'اطلاعات افراد غیر حقوق بگیر'!A:A,'اطلاعات افراد غیر حقوق بگیر'!D:D)),LOOKUP(D431,Master!D:D,Master!CD:CD)))","v":0},{"$f":"IF(D431=0,\" \",IF(ISNA(MATCH(D431,Personnel!A:A,0)),IF(ISNA(MATCH(D431,'اطلاعات افراد غیر حقوق بگیر'!A:A,0)),\"وجود ندارد\",LOOKUP(D431,'اطلاعات افراد غیر حقوق بگیر'!A:A,'اطلاعات افراد غیر حقوق بگیر'!E:E)),LOOKUP(D431,Master!D:D,Master!AH:AH)))","v":" "},{"$f":"SUMIFS(Pays!G:G,Pays!E:E,1,Pays!D:D,D431)","v":0},{"$f":"SUMIFS(Pays!G:G,Pays!E:E,2,Pays!D:D,D431)","v":0},{"$f":"SUMIFS(Pays!G:G,Pays!E:E,57,Pays!D:D,D431)","v":0},{"$f":"SUMIF(Pays!D:D,D431,Pays!G:G)","v":0},{"$f":"SUMIF(Pays!D:D,D431,Pays!G:G)/176","v":0},{"$f":"IF(M431=0,IF(ISNA(MATCH(D431,'اطلاعات افراد غیر حقوق بگیر'!A:A,0)),0,LOOKUP(D431,'اطلاعات افراد غیر حقوق بگیر'!A:A,'اطلاعات افراد غیر حقوق بگیر'!F:F)),IF(H431=31,Settings!$D$13,ROUND(M431,0)))","v":0},null,0,{"$f":"IF(ISNA(MATCH(D431,Master!D:D,0)),IF(ISNA(MATCH(D431,'اطلاعات افراد غیر حقوق بگیر'!A:A,0)),0,LOOKUP(D431,'اطلاعات افراد غیر حقوق بگیر'!A:A,'اطلاعات افراد غیر حقوق بگیر'!G:G)),LOOKUP(D431,Master!D:D,Master!J:J))","v":0},{"$error":"#N/A"},0,0,{"$f":"IF(O431>#REF!,\"اخطار ساعت اضافه کار از حداکثر بیشتر است\",\" \")","v":{"$error":"#REF!"}},{"$f":"IF(O431>#REF!,1,0)","v":{"$error":"#REF!"}}]
[429,{"$f":"IF(D432=0,\"\",Settings!$D$6)","v":""},{"$f":"IF(D432=0,\"\",LOOKUP(B432,'Rigion Code'!A:A,'Rigion Code'!B:B))","v":""},null,{"$f":"IF(D432=0,\" \",IF(ISNA(MATCH(D432,Personnel!A:A,0)),IF(ISNA(MATCH(D432,'اطلاعات افراد غیر حقوق بگیر'!A:A,0)),\"وجود ندارد\",LOOKUP(Edit!D432,'اطلاعات افراد غیر حقوق بگیر'!A:A,'اطلاعات افراد غیر حقوق بگیر'!B:B)),LOOKUP(D432,Personnel!A:A,Personnel!C:C)))","v":" "},{"$f":"IF(D432=0,\" \",IF(ISNA(MATCH(D432,Personnel!A:A,0)),IF(ISNA(MATCH(D432,'اطلاعات افراد غیر حقوق بگیر'!A:A,0)),\"وجود ندارد\",LOOKUP(D432,'اطلاعات افراد غیر حقوق بگیر'!A:A,'اطلاعات افراد غیر حقوق بگیر'!C:C)),LOOKUP(D432,Personnel!A:A,Personnel!B:B)))","v":" "},{"$f":"IF(D432=0,0,IF(ISNA(MATCH(D432,Personnel!A:A,0)),IF(ISNA(MATCH(D432,'اطلاعات افراد غیر حقوق بگیر'!A:A,0)),\"وجود ندارد\",LOOKUP(D432,'اطلاعات افراد غیر حقوق بگیر'!A:A,'اطلاعات افراد غیر حقوق بگیر'!D:D)),LOOKUP(D432,Master!D:D,Master!CD:CD)))","v":0},{"$f":"IF(D432=0,\" \",IF(ISNA(MATCH(D432,Personnel!A:A,0)),IF(ISNA(MATCH(D432,'اطلاعات افراد غیر حقوق بگیر'!A:A,0)),\"وجود ندارد\",LOOKUP(D432,'اطلاعات افراد غیر حقوق بگیر'!A:A,'اطلاعات افراد غیر حقوق بگیر'!E:E)),LOOKUP(D432,Master!D:D,Master!AH:AH)))","v":" "},{"$f":"SUMIFS(Pays!G:G,Pays!E:E,1,Pays!D:D,D432)","v":0},{"$f":"SUMIFS(Pays!G:G,Pays!E:E,2,Pays!D:D,D432)","v":0},{"$f":"SUMIFS(Pays!G:G,Pays!E:E,57,Pays!D:D,D432)","v":0},{"$f":"SUMIF(Pays!D:D,D432,Pays!G:G)","v":0},{"$f":"SUMIF(Pays!D:D,D432,Pays!G:G)/176","v":0},{"$f":"IF(M432=0,IF(ISNA(MATCH(D432,'اطلاعات افراد غیر حقوق بگیر'!A:A,0)),0,LOOKUP(D432,'اطلاعات افراد غیر حقوق بگیر'!A:A,'اطلاعات افراد غیر حقوق بگیر'!F:F)),IF(H432=31,Settings!$D$13,ROUND(M432,0)))","v":0},null,0,{"$f":"IF(ISNA(MATCH(D432,Master!D:D,0)),IF(ISNA(MATCH(D432,'اطلاعات افراد غیر حقوق بگیر'!A:A,0)),0,LOOKUP(D432,'اطلاعات افراد غیر حقوق بگیر'!A:A,'اطلاعات افراد غیر حقوق بگیر'!G:G)),LOOKUP(D432,Master!D:D,Master!J:J))","v":0},{"$error":"#N/A"},0,0,{"$f":"IF(O432>#REF!,\"اخطار ساعت اضافه کار از حداکثر بیشتر است\",\" \")","v":{"$error":"#REF!"}},{"$f":"IF(O432>#REF!,1,0)","v":{"$error":"#REF!"}}]
[430,{"$f":"IF(D433=0,\"\",Settings!$D$6)","v":""},{"$f":"IF(D433=0,\"\",LOOKUP(B433,'Rigion Code'!A:A,'Rigion Code'!B:B))","v":""},null,{"$f":"IF(D433=0,\" \",IF(ISNA(MATCH(D433,Personnel!A:A,0)),IF(ISNA(MATCH(D433,'اطلاعات افراد غیر حقوق بگیر'!A:A,0)),\"وجود ندارد\",LOOKUP(Edit!D433,'اطلاعات افراد غیر حقوق بگیر'!A:A,'اطلاعات افراد غیر حقوق بگیر'!B:B)),LOOKUP(D433,Personnel!A:A,Personnel!C:C)))","v":" "},{"$f":"IF(D433=0,\" \",IF(ISNA(MATCH(D433,Personnel!A:A,0)),IF(ISNA(MATCH(D433,'اطلاعات افراد غیر حقوق بگیر'!A:A,0)),\"وجود ندارد\",LOOKUP(D433,'اطلاعات افراد غیر حقوق بگیر'!A:A,'اطلاعات افراد غیر حقوق بگیر'!C:C)),LOOKUP(D433,Personnel!A:A,Personnel!B:B)))","v":" "},{"$f":"IF(D433=0,0,IF(ISNA(MATCH(D433,Personnel!A:A,0)),IF(ISNA(MATCH(D433,'اطلاعات افراد غیر حقوق بگیر'!A:A,0)),\"وجود ندارد\",LOOKUP(D433,'اطلاعات افراد غیر حقوق بگیر'!A:A,'اطلاعات افراد غیر حقوق بگیر'!D:D)),LOOKUP(D433,Master!D:D,Master!CD:CD)))","v":0},{"$f":"IF(D433=0,\" \",IF(ISNA(MATCH(D433,Personnel!A:A,0)),IF(ISNA(MATCH(D433,'اطلاعات افراد غیر حقوق بگیر'!A:A,0)),\"وجود ندارد\",LOOKUP(D433,'اطلاعات افراد غیر حقوق بگیر'!A:A,'اطلاعات افراد غیر حقوق بگیر'!E:E)),LOOKUP(D433,Master!D:D,Master!AH:AH)))","v":" "},{"$f":"SUMIFS(Pays!G:G,Pays!E:E,1,Pays!D:D,D433)","v":0},{"$f":"SUMIFS(Pays!G:G,Pays!E:E,2,Pays!D:D,D433)","v":0},{"$f":"SUMIFS(Pays!G:G,Pays!E:E,57,Pays!D:D,D433)","v":0},{"$f":"SUMIF(Pays!D:D,D433,Pays!G:G)","v":0},{"$f":"SUMIF(Pays!D:D,D433,Pays!G:G)/176","v":0},{"$f":"IF(M433=0,IF(ISNA(MATCH(D433,'اطلاعات افراد غیر حقوق بگیر'!A:A,0)),0,LOOKUP(D433,'اطلاعات افراد غیر حقوق بگیر'!A:A,'اطلاعات افراد غیر حقوق بگیر'!F:F)),IF(H433=31,Settings!$D$13,ROUND(M433,0)))","v":0},null,0,{"$f":"IF(ISNA(MATCH(D433,Master!D:D,0)),IF(ISNA(MATCH(D433,'اطلاعات افراد غیر حقوق بگیر'!A:A,0)),0,LOOKUP(D433,'اطلاعات افراد غیر حقوق بگیر'!A:A,'اطلاعات افراد غیر حقوق بگیر'!G:G)),LOOKUP(D433,Master!D:D,Master!J:J))","v":0},{"$error":"#N/A"},0,0,{"$f":"IF(O433>#REF!,\"اخطار ساعت اضافه کار از حداکثر بیشتر است\",\" \")","v":{"$error":"#REF!"}},{"$f":"IF(O433>#REF!,1,0)","v":{"$error":"#REF!"}}]
[431,{"$f":"IF(D434=0,\"\",Settings!$D$6)","v":""},{"$f":"IF(D434=0,\"\",LOOKUP(B434,'Rigion Code'!A:A,'Rigion Code'!B:B))","v":""},null,{"$f":"IF(D434=0,\" \",IF(ISNA(MATCH(D434,Personnel!A:A,0)),IF(ISNA(MATCH(D434,'اطلاعات افراد غیر حقوق بگیر'!A:A,0)),\"وجود ندارد\",LOOKUP(Edit!D434,'اطلاعات افراد غیر حقوق بگیر'!A:A,'اطلاعات افراد غیر حقوق بگیر'!B:B)),LOOKUP(D434,Personnel!A:A,Personnel!C:C)))","v":" "},{"$f":"IF(D434=0,\" \",IF(ISNA(MATCH(D434,Personnel!A:A,0)),IF(ISNA(MATCH(D434,'اطلاعات افراد غیر حقوق بگیر'!A:A,0)),\"وجود ندارد\",LOOKUP(D434,'اطلاعات افراد غیر حقوق بگیر'!A:A,'اطلاعات افراد غیر حقوق بگیر'!C:C)),LOOKUP(D434,Personnel!A:A,Personnel!B:B)))","v":" "},{"$f":"IF(D434=0,0,IF(ISNA(MATCH(D434,Personnel!A:A,0)),IF(ISNA(MATCH(D434,'اطلاعات افراد غیر حقوق بگیر'!A:A,0)),\"وجود ندارد\",LOOKUP(D434,'اطلاعات افراد غیر حقوق بگیر'!A:A,'اطلاعات افراد غیر حقوق بگیر'!D:D)),LOOKUP(D434,Master!D:D,Master!CD:CD)))","v":0},{"$f":"IF(D434=0,\" \",IF(ISNA(MATCH(D434,Personnel!A:A,0)),IF(ISNA(MATCH(D434,'اطلاعات افراد غیر حقوق بگیر'!A:A,0)),\"وجود ندارد\",LOOKUP(D434,'اطلاعات افراد غیر حقوق بگیر'!A:A,'اطلاعات افراد غیر حقوق بگیر'!E:E)),LOOKUP(D434,Master!D:D,Master!AH:AH)))","v":" "},{"$f":"SUMIFS(Pays!G:G,Pays!E:E,1,Pays!D:D,D434)","v":0},{"$f":"SUMIFS(Pays!G:G,Pays!E:E,2,Pays!D:D,D434)","v":0},{"$f":"SUMIFS(Pays!G:G,Pays!E:E,57,Pays!D:D,D434)","v":0},{"$f":"SUMIF(Pays!D:D,D434,Pays!G:G)","v":0},{"$f":"SUMIF(Pays!D:D,D434,Pays!G:G)/176","v":0},{"$f":"IF(M434=0,IF(ISNA(MATCH(D434,'اطلاعات افراد غیر حقوق بگیر'!A:A,0)),0,LOOKUP(D434,'اطلاعات افراد غیر حقوق بگیر'!A:A,'اطلاعات افراد غیر حقوق بگیر'!F:F)),IF(H434=31,Settings!$D$13,ROUND(M434,0)))","v":0},null,0,{"$f":"IF(ISNA(MATCH(D434,Master!D:D,0)),IF(ISNA(MATCH(D434,'اطلاعات افراد غیر حقوق بگیر'!A:A,0)),0,LOOKUP(D434,'اطلاعات افراد غیر حقوق بگیر'!A:A,'اطلاعات افراد غیر حقوق بگیر'!G:G)),LOOKUP(D434,Master!D:D,Master!J:J))","v":0},{"$error":"#N/A"},0,0,{"$f":"IF(O434>#REF!,\"اخطار ساعت اضافه کار از حداکثر بیشتر است\",\" \")","v":{"$error":"#REF!"}},{"$f":"IF(O434>#REF!,1,0)","v":{"$error":"#REF!"}}]
[432,{"$f":"IF(D435=0,\"\",Settings!$D$6)","v":""},{"$f":"IF(D435=0,\"\",LOOKUP(B435,'Rigion Code'!A:A,'Rigion Code'!B:B))","v":""},null,{"$f":"IF(D435=0,\" \",IF(ISNA(MATCH(D435,Personnel!A:A,0)),IF(ISNA(MATCH(D435,'اطلاعات افراد غیر حقوق بگیر'!A:A,0)),\"وجود ندارد\",LOOKUP(Edit!D435,'اطلاعات افراد غیر حقوق بگیر'!A:A,'اطلاعات افراد غیر حقوق بگیر'!B:B)),LOOKUP(D435,Personnel!A:A,Personnel!C:C)))","v":" "},{"$f":"IF(D435=0,\" \",IF(ISNA(MATCH(D435,Personnel!A:A,0)),IF(ISNA(MATCH(D435,'اطلاعات افراد غیر حقوق بگیر'!A:A,0)),\"وجود ندارد\",LOOKUP(D435,'اطلاعات افراد غیر حقوق بگیر'!A:A,'اطلاعات افراد غیر حقوق بگیر'!C:C)),LOOKUP(D435,Personnel!A:A,Personnel!B:B)))","v":" "},{"$f":"IF(D435=0,0,IF(ISNA(MATCH(D435,Personnel!A:A,0)),IF(ISNA(MATCH(D435,'اطلاعات افراد غیر حقوق بگیر'!A:A,0)),\"وجود ندارد\",LOOKUP(D435,'اطلاعات افراد غیر حقوق بگیر'!A:A,'اطلاعات افراد غیر حقوق بگیر'!D:D)),LOOKUP(D435,Master!D:D,Master!CD:CD)))","v":0},{"$f":"IF(D435=0,\" \",IF(ISNA(MATCH(D435,Personnel!A:A,0)),IF(ISNA(MATCH(D435,'اطلاعات افراد غیر حقوق بگیر'!A:A,0)),\"وجود ندارد\",LOOKUP(D435,'اطلاعات افراد غیر حقوق بگیر'!A:A,'اطلاعات افراد غیر حقوق بگیر'!E:E)),LOOKUP(D435,Master!D:D,Master!AH:AH)))","v":" "},{"$f":"SUMIFS(Pays!G:G,Pays!E:E,1,Pays!D:D,D435)","v":0},{"$f":"SUMIFS(Pays!G:G,Pays!E:E,2,Pays!D:D,D435)","v":0},{"$f":"SUMIFS(Pays!G:G,Pays!E:E,57,Pays!D:D,D435)","v":0},{"$f":"SUMIF(Pays!D:D,D435,Pays!G:G)","v":0},{"$f":"SUMIF(Pays!D:D,D435,Pays!G:G)/176","v":0},{"$f":"IF(M435=0,IF(ISNA(MATCH(D435,'اطلاعات افراد غیر حقوق بگیر'!A:A,0)),0,LOOKUP(D435,'اطلاعات افراد غیر حقوق بگیر'!A:A,'اطلاعات افراد غیر حقوق بگیر'!F:F)),IF(H435=31,Settings!$D$13,ROUND(M435,0)))","v":0},null,0,{"$f":"IF(ISNA(MATCH(D435,Master!D:D,0)),IF(ISNA(MATCH(D435,'اطلاعات افراد غیر حقوق بگیر'!A:A,0)),0,LOOKUP(D435,'اطلاعات افراد غیر حقوق بگیر'!A:A,'اطلاعات افراد غیر حقوق بگیر'!G:G)),LOOKUP(D435,Master!D:D,Master!J:J))","v":0},{"$error":"#N/A"},0,0,{"$f":"IF(O435>#REF!,\"اخطار ساعت اضافه کار از حداکثر بیشتر است\",\" \")","v":{"$error":"#REF!"}},{"$f":"IF(O435>#REF!,1,0)","v":{"$error":"#REF!"}}]
[433,{"$f":"IF(D436=0,\"\",Settings!$D$6)","v":""},{"$f":"IF(D436=0,\"\",LOOKUP(B436,'Rigion Code'!A:A,'Rigion Code'!B:B))","v":""},null,{"$f":"IF(D436=0,\" \",IF(ISNA(MATCH(D436,Personnel!A:A,0)),IF(ISNA(MATCH(D436,'اطلاعات افراد غیر حقوق بگیر'!A:A,0)),\"وجود ندارد\",LOOKUP(Edit!D436,'اطلاعات افراد غیر حقوق بگیر'!A:A,'اطلاعات افراد غیر حقوق بگیر'!B:B)),LOOKUP(D436,Personnel!A:A,Personnel!C:C)))","v":" "},{"$f":"IF(D436=0,\" \",IF(ISNA(MATCH(D436,Personnel!A:A,0)),IF(ISNA(MATCH(D436,'اطلاعات افراد غیر حقوق بگیر'!A:A,0)),\"وجود ندارد\",LOOKUP(D436,'اطلاعات افراد غیر حقوق بگیر'!A:A,'اطلاعات افراد غیر حقوق بگیر'!C:C)),LOOKUP(D436,Personnel!A:A,Personnel!B:B)))","v":" "},{"$f":"IF(D436=0,0,IF(ISNA(MATCH(D436,Personnel!A:A,0)),IF(ISNA(MATCH(D436,'اطلاعات افراد غیر حقوق بگیر'!A:A,0)),\"وجود ندارد\",LOOKUP(D436,'اطلاعات افراد غیر حقوق بگیر'!A:A,'اطلاعات افراد غیر حقوق بگیر'!D:D)),LOOKUP(D436,Master!D:D,Master!CD:CD)))","v":0},{"$f":"IF(D436=0,\" \",IF(ISNA(MATCH(D436,Personnel!A:A,0)),IF(ISNA(MATCH(D436,'اطلاعات افراد غیر حقوق بگیر'!A:A,0)),\"وجود ندارد\",LOOKUP(D436,'اطلاعات افراد غیر حقوق بگیر'!A:A,'اطلاعات افراد غیر حقوق بگیر'!E:E)),LOOKUP(D436,Master!D:D,Master!AH:AH)))","v":" "},{"$f":"SUMIFS(Pays!G:G,Pays!E:E,1,Pays!D:D,D436)","v":0},{"$f":"SUMIFS(Pays!G:G,Pays!E:E,2,Pays!D:D,D436)","v":0},{"$f":"SUMIFS(Pays!G:G,Pays!E:E,57,Pays!D:D,D436)","v":0},{"$f":"SUMIF(Pays!D:D,D436,Pays!G:G)","v":0},{"$f":"SUMIF(Pays!D:D,D436,Pays!G:G)/176","v":0},{"$f":"IF(M436=0,IF(ISNA(MATCH(D436,'اطلاعات افراد غیر حقوق بگیر'!A:A,0)),0,LOOKUP(D436,'اطلاعات افراد غیر حقوق بگیر'!A:A,'اطلاعات افراد غیر حقوق بگیر'!F:F)),IF(H436=31,Settings!$D$13,ROUND(M436,0)))","v":0},null,0,{"$f":"IF(ISNA(MATCH(D436,Master!D:D,0)),IF(ISNA(MATCH(D436,'اطلاعات افراد غیر حقوق بگیر'!A:A,0)),0,LOOKUP(D436,'اطلاعات افراد غیر حقوق بگیر'!A:A,'اطلاعات افراد غیر حقوق بگیر'!G:G)),LOOKUP(D436,Master!D:D,Master!J:J))","v":0},{"$error":"#N/A"},0,0,{"$f":"IF(O436>#REF!,\"اخطار ساعت اضافه کار از حداکثر بیشتر است\",\" \")","v":{"$error":"#REF!"}},{"$f":"IF(O436>#REF!,1,0)","v":{"$error":"#REF!"}}]
[434,{"$f":"IF(D437=0,\"\",Settings!$D$6)","v":""},{"$f":"IF(D437=0,\"\",LOOKUP(B437,'Rigion Code'!A:A,'Rigion Code'!B:B))","v":""},null,{"$f":"IF(D437=0,\" \",IF(ISNA(MATCH(D437,Personnel!A:A,0)),IF(ISNA(MATCH(D437,'اطلاعات افراد غیر حقوق بگیر'!A:A,0)),\"وجود ندارد\",LOOKUP(Edit!D437,'اطلاعات افراد غیر حقوق بگیر'!A:A,'اطلاعات افراد غیر حقوق بگیر'!B:B)),LOOKUP(D437,Personnel!A:A,Personnel!C:C)))","v":" "},{"$f":"IF(D437=0,\" \",IF(ISNA(MATCH(D437,Personnel!A:A,0)),IF(ISNA(MATCH(D437,'اطلاعات افراد غیر حقوق بگیر'!A:A,0)),\"وجود ندارد\",LOOKUP(D437,'اطلاعات افراد غیر حقوق بگیر'!A:A,'اطلاعات افراد غیر حقوق بگیر'!C:C)),LOOKUP(D437,Personnel!A:A,Personnel!B:B)))","v":" "},{"$f":"IF(D437=0,0,IF(ISNA(MATCH(D437,Personnel!A:A,0)),IF(ISNA(MATCH(D437,'اطلاعات افراد غیر حقوق بگیر'!A:A,0)),\"وجود ندارد\",LOOKUP(D437,'اطلاعات افراد غیر حقوق بگیر'!A:A,'اطلاعات افراد غیر حقوق بگیر'!D:D)),LOOKUP(D437,Master!D:D,Master!CD:CD)))","v":0},{"$f":"IF(D437=0,\" \",IF(ISNA(MATCH(D437,Personnel!A:A,0)),IF(ISNA(MATCH(D437,'اطلاعات افراد غیر حقوق بگیر'!A:A,0)),\"وجود ندارد\",LOOKUP(D437,'اطلاعات افراد غیر حقوق بگیر'!A:A,'اطلاعات افراد غیر حقوق بگیر'!E:E)),LOOKUP(D437,Master!D:D,Master!AH:AH)))","v":" "},{"$f":"SUMIFS(Pays!G:G,Pays!E:E,1,Pays!D:D,D437)","v":0},{"$f":"SUMIFS(Pays!G:G,Pays!E:E,2,Pays!D:D,D437)","v":0},{"$f":"SUMIFS(Pays!G:G,Pays!E:E,57,Pays!D:D,D437)","v":0},{"$f":"SUMIF(Pays!D:D,D437,Pays!G:G)","v":0},{"$f":"SUMIF(Pays!D:D,D437,Pays!G:G)/176","v":0},{"$f":"IF(M437=0,IF(ISNA(MATCH(D437,'اطلاعات افراد غیر حقوق بگیر'!A:A,0)),0,LOOKUP(D437,'اطلاعات افراد غیر حقوق بگیر'!A:A,'اطلاعات افراد غیر حقوق بگیر'!F:F)),IF(H437=31,Settings!$D$13,ROUND(M437,0)))","v":0},null,0,{"$f":"IF(ISNA(MATCH(D437,Master!D:D,0)),IF(ISNA(MATCH(D437,'اطلاعات افراد غیر حقوق بگیر'!A:A,0)),0,LOOKUP(D437,'اطلاعات افراد غیر حقوق بگیر'!A:A,'اطلاعات افراد غیر حقوق بگیر'!G:G)),LOOKUP(D437,Master!D:D,Master!J:J))","v":0},{"$error":"#N/A"},0,0,{"$f":"IF(O437>#REF!,\"اخطار ساعت اضافه کار از حداکثر بیشتر است\",\" \")","v":{"$error":"#REF!"}},{"$f":"IF(O437>#REF!,1,0)","v":{"$error":"#REF!"}}]
[435,{"$f":"IF(D438=0,\"\",Settings!$D$6)","v":""},{"$f":"IF(D438=0,\"\",LOOKUP(B438,'Rigion Code'!A:A,'Rigion Code'!B:B))","v":""},null,{"$f":"IF(D438=0,\" \",IF(ISNA(MATCH(D438,Personnel!A:A,0)),IF(ISNA(MATCH(D438,'اطلاعات افراد غیر حقوق بگیر'!A:A,0)),\"وجود ندارد\",LOOKUP(Edit!D438,'اطلاعات افراد غیر حقوق بگیر'!A:A,'اطلاعات افراد غیر حقوق بگیر'!B:B)),LOOKUP(D438,Personnel!A:A,Personnel!C:C)))","v":" "},{"$f":"IF(D438=0,\" \",IF(ISNA(MATCH(D438,Personnel!A:A,0)),IF(ISNA(MATCH(D438,'اطلاعات افراد غیر حقوق بگیر'!A:A,0)),\"وجود ندارد\",LOOKUP(D438,'اطلاعات افراد غیر حقوق بگیر'!A:A,'اطلاعات افراد غیر حقوق بگیر'!C:C)),LOOKUP(D438,Personnel!A:A,Personnel!B:B)))","v":" "},{"$f":"IF(D438=0,0,IF(ISNA(MATCH(D438,Personnel!A:A,0)),IF(ISNA(MATCH(D438,'اطلاعات افراد غیر حقوق بگیر'!A:A,0)),\"وجود ندارد\",LOOKUP(D438,'اطلاعات افراد غیر حقوق بگیر'!A:A,'اطلاعات افراد غیر حقوق بگیر'!D:D)),LOOKUP(D438,Master!D:D,Master!CD:CD)))","v":0},{"$f":"IF(D438=0,\" \",IF(ISNA(MATCH(D438,Personnel!A:A,0)),IF(ISNA(MATCH(D438,'اطلاعات افراد غیر حقوق بگیر'!A:A,0)),\"وجود ندارد\",LOOKUP(D438,'اطلاعات افراد غیر حقوق بگیر'!A:A,'اطلاعات افراد غیر حقوق بگیر'!E:E)),LOOKUP(D438,Master!D:D,Master!AH:AH)))","v":" "},{"$f":"SUMIFS(Pays!G:G,Pays!E:E,1,Pays!D:D,D438)","v":0},{"$f":"SUMIFS(Pays!G:G,Pays!E:E,2,Pays!D:D,D438)","v":0},{"$f":"SUMIFS(Pays!G:G,Pays!E:E,57,Pays!D:D,D438)","v":0},{"$f":"SUMIF(Pays!D:D,D438,Pays!G:G)","v":0},{"$f":"SUMIF(Pays!D:D,D438,Pays!G:G)/176","v":0},{"$f":"IF(M438=0,IF(ISNA(MATCH(D438,'اطلاعات افراد غیر حقوق بگیر'!A:A,0)),0,LOOKUP(D438,'اطلاعات افراد غیر حقوق بگیر'!A:A,'اطلاعات افراد غیر حقوق بگیر'!F:F)),IF(H438=31,Settings!$D$13,ROUND(M438,0)))","v":0},null,0,{"$f":"IF(ISNA(MATCH(D438,Master!D:D,0)),IF(ISNA(MATCH(D438,'اطلاعات افراد غیر حقوق بگیر'!A:A,0)),0,LOOKUP(D438,'اطلاعات افراد غیر حقوق بگیر'!A:A,'اطلاعات افراد غیر حقوق بگیر'!G:G)),LOOKUP(D438,Master!D:D,Master!J:J))","v":0},{"$error":"#N/A"},0,0,{"$f":"IF(O438>#REF!,\"اخطار ساعت اضافه کار از حداکثر بیشتر است\",\" \")","v":{"$error":"#REF!"}},{"$f":"IF(O438>#REF!,1,0)","v":{"$error":"#REF!"}}]
[436,{"$f":"IF(D439=0,\"\",Settings!$D$6)","v":""},{"$f":"IF(D439=0,\"\",LOOKUP(B439,'Rigion Code'!A:A,'Rigion Code'!B:B))","v":""},null,{"$f":"IF(D439=0,\" \",IF(ISNA(MATCH(D439,Personnel!A:A,0)),IF(ISNA(MATCH(D439,'اطلاعات افراد غیر حقوق بگیر'!A:A,0)),\"وجود ندارد\",LOOKUP(Edit!D439,'اطلاعات افراد غیر حقوق بگیر'!A:A,'اطلاعات افراد غیر حقوق بگیر'!B:B)),LOOKUP(D439,Personnel!A:A,Personnel!C:C)))","v":" "},{"$f":"IF(D439=0,\" \",IF(ISNA(MATCH(D439,Personnel!A:A,0)),IF(ISNA(MATCH(D439,'اطلاعات افراد غیر حقوق بگیر'!A:A,0)),\"وجود ندارد\",LOOKUP(D439,'اطلاعات افراد غیر حقوق بگیر'!A:A,'اطلاعات افراد غیر حقوق بگیر'!C:C)),LOOKUP(D439,Personnel!A:A,Personnel!B:B)))","v":" "},{"$f":"IF(D439=0,0,IF(ISNA(MATCH(D439,Personnel!A:A,0)),IF(ISNA(MATCH(D439,'اطلاعات افراد غیر حقوق بگیر'!A:A,0)),\"وجود ندارد\",LOOKUP(D439,'اطلاعات افراد غیر حقوق بگیر'!A:A,'اطلاعات افراد غیر حقوق بگیر'!D:D)),LOOKUP(D439,Master!D:D,Master!CD:CD)))","v":0},{"$f":"IF(D439=0,\" \",IF(ISNA(MATCH(D439,Personnel!A:A,0)),IF(ISNA(MATCH(D439,'اطلاعات افراد غیر حقوق بگیر'!A:A,0)),\"وجود ندارد\",LOOKUP(D439,'اطلاعات افراد غیر حقوق بگیر'!A:A,'اطلاعات افراد غیر حقوق بگیر'!E:E)),LOOKUP(D439,Master!D:D,Master!AH:AH)))","v":" "},{"$f":"SUMIFS(Pays!G:G,Pays!E:E,1,Pays!D:D,D439)","v":0},{"$f":"SUMIFS(Pays!G:G,Pays!E:E,2,Pays!D:D,D439)","v":0},{"$f":"SUMIFS(Pays!G:G,Pays!E:E,57,Pays!D:D,D439)","v":0},{"$f":"SUMIF(Pays!D:D,D439,Pays!G:G)","v":0},{"$f":"SUMIF(Pays!D:D,D439,Pays!G:G)/176","v":0},{"$f":"IF(M439=0,IF(ISNA(MATCH(D439,'اطلاعات افراد غیر حقوق بگیر'!A:A,0)),0,LOOKUP(D439,'اطلاعات افراد غیر حقوق بگیر'!A:A,'اطلاعات افراد غیر حقوق بگیر'!F:F)),IF(H439=31,Settings!$D$13,ROUND(M439,0)))","v":0},null,0,{"$f":"IF(ISNA(MATCH(D439,Master!D:D,0)),IF(ISNA(MATCH(D439,'اطلاعات افراد غیر حقوق بگیر'!A:A,0)),0,LOOKUP(D439,'اطلاعات افراد غیر حقوق بگیر'!A:A,'اطلاعات افراد غیر حقوق بگیر'!G:G)),LOOKUP(D439,Master!D:D,Master!J:J))","v":0},{"$error":"#N/A"},0,0,{"$f":"IF(O439>#REF!,\"اخطار ساعت اضافه کار از حداکثر بیشتر است\",\" \")","v":{"$error":"#REF!"}},{"$f":"IF(O439>#REF!,1,0)","v":{"$error":"#REF!"}}]
[437,{"$f":"IF(D440=0,\"\",Settings!$D$6)","v":""},{"$f":"IF(D440=0,\"\",LOOKUP(B440,'Rigion Code'!A:A,'Rigion Code'!B:B))","v":""},null,{"$f":"IF(D440=0,\" \",IF(ISNA(MATCH(D440,Personnel!A:A,0)),IF(ISNA(MATCH(D440,'اطلاعات افراد غیر حقوق بگیر'!A:A,0)),\"وجود ندارد\",LOOKUP(Edit!D440,'اطلاعات افراد غیر حقوق بگیر'!A:A,'اطلاعات افراد غیر حقوق بگیر'!B:B)),LOOKUP(D440,Personnel!A:A,Personnel!C:C)))","v":" "},{"$f":"IF(D440=0,\" \",IF(ISNA(MATCH(D440,Personnel!A:A,0)),IF(ISNA(MATCH(D440,'اطلاعات افراد غیر حقوق بگیر'!A:A,0)),\"وجود ندارد\",LOOKUP(D440,'اطلاعات افراد غیر حقوق بگیر'!A:A,'اطلاعات افراد غیر حقوق بگیر'!C:C)),LOOKUP(D440,Personnel!A:A,Personnel!B:B)))","v":" "},{"$f":"IF(D440=0,0,IF(ISNA(MATCH(D440,Personnel!A:A,0)),IF(ISNA(MATCH(D440,'اطلاعات افراد غیر حقوق بگیر'!A:A,0)),\"وجود ندارد\",LOOKUP(D440,'اطلاعات افراد غیر حقوق بگیر'!A:A,'اطلاعات افراد غیر حقوق بگیر'!D:D)),LOOKUP(D440,Master!D:D,Master!CD:CD)))","v":0},{"$f":"IF(D440=0,\" \",IF(ISNA(MATCH(D440,Personnel!A:A,0)),IF(ISNA(MATCH(D440,'اطلاعات افراد غیر حقوق بگیر'!A:A,0)),\"وجود ندارد\",LOOKUP(D440,'اطلاعات افراد غیر حقوق بگیر'!A:A,'اطلاعات افراد غیر حقوق بگیر'!E:E)),LOOKUP(D440,Master!D:D,Master!AH:AH)))","v":" "},{"$f":"SUMIFS(Pays!G:G,Pays!E:E,1,Pays!D:D,D440)","v":0},{"$f":"SUMIFS(Pays!G:G,Pays!E:E,2,Pays!D:D,D440)","v":0},{"$f":"SUMIFS(Pays!G:G,Pays!E:E,57,Pays!D:D,D440)","v":0},{"$f":"SUMIF(Pays!D:D,D440,Pays!G:G)","v":0},{"$f":"SUMIF(Pays!D:D,D440,Pays!G:G)/176","v":0},{"$f":"IF(M440=0,IF(ISNA(MATCH(D440,'اطلاعات افراد غیر حقوق بگیر'!A:A,0)),0,LOOKUP(D440,'اطلاعات افراد غیر حقوق بگیر'!A:A,'اطلاعات افراد غیر حقوق بگیر'!F:F)),IF(H440=31,Settings!$D$13,ROUND(M440,0)))","v":0},null,0,{"$f":"IF(ISNA(MATCH(D440,Master!D:D,0)),IF(ISNA(MATCH(D440,'اطلاعات افراد غیر حقوق بگیر'!A:A,0)),0,LOOKUP(D440,'اطلاعات افراد غیر حقوق بگیر'!A:A,'اطلاعات افراد غیر حقوق بگیر'!G:G)),LOOKUP(D440,Master!D:D,Master!J:J))","v":0},{"$error":"#N/A"},0,0,{"$f":"IF(O440>#REF!,\"اخطار ساعت اضافه کار از حداکثر بیشتر است\",\" \")","v":{"$error":"#REF!"}},{"$f":"IF(O440>#REF!,1,0)","v":{"$error":"#REF!"}}]
[438,{"$f":"IF(D441=0,\"\",Settings!$D$6)","v":""},{"$f":"IF(D441=0,\"\",LOOKUP(B441,'Rigion Code'!A:A,'Rigion Code'!B:B))","v":""},null,{"$f":"IF(D441=0,\" \",IF(ISNA(MATCH(D441,Personnel!A:A,0)),IF(ISNA(MATCH(D441,'اطلاعات افراد غیر حقوق بگیر'!A:A,0)),\"وجود ندارد\",LOOKUP(Edit!D441,'اطلاعات افراد غیر حقوق بگیر'!A:A,'اطلاعات افراد غیر حقوق بگیر'!B:B)),LOOKUP(D441,Personnel!A:A,Personnel!C:C)))","v":" "},{"$f":"IF(D441=0,\" \",IF(ISNA(MATCH(D441,Personnel!A:A,0)),IF(ISNA(MATCH(D441,'اطلاعات افراد غیر حقوق بگیر'!A:A,0)),\"وجود ندارد\",LOOKUP(D441,'اطلاعات افراد غیر حقوق بگیر'!A:A,'اطلاعات افراد غیر حقوق بگیر'!C:C)),LOOKUP(D441,Personnel!A:A,Personnel!B:B)))","v":" "},{"$f":"IF(D441=0,0,IF(ISNA(MATCH(D441,Personnel!A:A,0)),IF(ISNA(MATCH(D441,'اطلاعات افراد غیر حقوق بگیر'!A:A,0)),\"وجود ندارد\",LOOKUP(D441,'اطلاعات افراد غیر حقوق بگیر'!A:A,'اطلاعات افراد غیر حقوق بگیر'!D:D)),LOOKUP(D441,Master!D:D,Master!CD:CD)))","v":0},{"$f":"IF(D441=0,\" \",IF(ISNA(MATCH(D441,Personnel!A:A,0)),IF(ISNA(MATCH(D441,'اطلاعات افراد غیر حقوق بگیر'!A:A,0)),\"وجود ندارد\",LOOKUP(D441,'اطلاعات افراد غیر حقوق بگیر'!A:A,'اطلاعات افراد غیر حقوق بگیر'!E:E)),LOOKUP(D441,Master!D:D,Master!AH:AH)))","v":" "},{"$f":"SUMIFS(Pays!G:G,Pays!E:E,1,Pays!D:D,D441)","v":0},{"$f":"SUMIFS(Pays!G:G,Pays!E:E,2,Pays!D:D,D441)","v":0},{"$f":"SUMIFS(Pays!G:G,Pays!E:E,57,Pays!D:D,D441)","v":0},{"$f":"SUMIF(Pays!D:D,D441,Pays!G:G)","v":0},{"$f":"SUMIF(Pays!D:D,D441,Pays!G:G)/176","v":0},{"$f":"IF(M441=0,IF(ISNA(MATCH(D441,'اطلاعات افراد غیر حقوق بگیر'!A:A,0)),0,LOOKUP(D441,'اطلاعات افراد غیر حقوق بگیر'!A:A,'اطلاعات افراد غیر حقوق بگیر'!F:F)),IF(H441=31,Settings!$D$13,ROUND(M441,0)))","v":0},null,0,{"$f":"IF(ISNA(MATCH(D441,Master!D:D,0)),IF(ISNA(MATCH(D441,'اطلاعات افراد غیر حقوق بگیر'!A:A,0)),0,LOOKUP(D441,'اطلاعات افراد غیر حقوق بگیر'!A:A,'اطلاعات افراد غیر حقوق بگیر'!G:G)),LOOKUP(D441,Master!D:D,Master!J:J))","v":0},{"$error":"#N/A"},0,0,{"$f":"IF(O441>#REF!,\"اخطار ساعت اضافه کار از حداکثر بیشتر است\",\" \")","v":{"$error":"#REF!"}},{"$f":"IF(O441>#REF!,1,0)","v":{"$error":"#REF!"}}]
[439,{"$f":"IF(D442=0,\"\",Settings!$D$6)","v":""},{"$f":"IF(D442=0,\"\",LOOKUP(B442,'Rigion Code'!A:A,'Rigion Code'!B:B))","v":""},null,{"$f":"IF(D442=0,\" \",IF(ISNA(MATCH(D442,Personnel!A:A,0)),IF(ISNA(MATCH(D442,'اطلاعات افراد غیر حقوق بگیر'!A:A,0)),\"وجود ندارد\",LOOKUP(Edit!D442,'اطلاعات افراد غیر حقوق بگیر'!A:A,'اطلاعات افراد غیر حقوق بگیر'!B:B)),LOOKUP(D442,Personnel!A:A,Personnel!C:C)))","v":" "},{"$f":"IF(D442=0,\" \",IF(ISNA(MATCH(D442,Personnel!A:A,0)),IF(ISNA(MATCH(D442,'اطلاعات افراد غیر حقوق بگیر'!A:A,0)),\"وجود ندارد\",LOOKUP(D442,'اطلاعات افراد غیر حقوق بگیر'!A:A,'اطلاعات افراد غیر حقوق بگیر'!C:C)),LOOKUP(D442,Personnel!A:A,Personnel!B:B)))","v":" "},{"$f":"IF(D442=0,0,IF(ISNA(MATCH(D442,Personnel!A:A,0)),IF(ISNA(MATCH(D442,'اطلاعات افراد غیر حقوق بگیر'!A:A,0)),\"وجود ندارد\",LOOKUP(D442,'اطلاعات افراد غیر حقوق بگیر'!A:A,'اطلاعات افراد غیر حقوق بگیر'!D:D)),LOOKUP(D442,Master!D:D,Master!CD:CD)))","v":0},{"$f":"IF(D442=0,\" \",IF(ISNA(MATCH(D442,Personnel!A:A,0)),IF(ISNA(MATCH(D442,'اطلاعات افراد غیر حقوق بگیر'!A:A,0)),\"وجود ندارد\",LOOKUP(D442,'اطلاعات افراد غیر حقوق بگیر'!A:A,'اطلاعات افراد غیر حقوق بگیر'!E:E)),LOOKUP(D442,Master!D:D,Master!AH:AH)))","v":" "},{"$f":"SUMIFS(Pays!G:G,Pays!E:E,1,Pays!D:D,D442)","v":0},{"$f":"SUMIFS(Pays!G:G,Pays!E:E,2,Pays!D:D,D442)","v":0},{"$f":"SUMIFS(Pays!G:G,Pays!E:E,57,Pays!D:D,D442)","v":0},{"$f":"SUMIF(Pays!D:D,D442,Pays!G:G)","v":0},{"$f":"SUMIF(Pays!D:D,D442,Pays!G:G)/176","v":0},{"$f":"IF(M442=0,IF(ISNA(MATCH(D442,'اطلاعات افراد غیر حقوق بگیر'!A:A,0)),0,LOOKUP(D442,'اطلاعات افراد غیر حقوق بگیر'!A:A,'اطلاعات افراد غیر حقوق بگیر'!F:F)),IF(H442=31,Settings!$D$13,ROUND(M442,0)))","v":0},null,0,{"$f":"IF(ISNA(MATCH(D442,Master!D:D,0)),IF(ISNA(MATCH(D442,'اطلاعات افراد غیر حقوق بگیر'!A:A,0)),0,LOOKUP(D442,'اطلاعات افراد غیر حقوق بگیر'!A:A,'اطلاعات افراد غیر حقوق بگیر'!G:G)),LOOKUP(D442,Master!D:D,Master!J:J))","v":0},{"$error":"#N/A"},0,0,{"$f":"IF(O442>#REF!,\"اخطار ساعت اضافه کار از حداکثر بیشتر است\",\" \")","v":{"$error":"#REF!"}},{"$f":"IF(O442>#REF!,1,0)","v":{"$error":"#REF!"}}]
[440,{"$f":"IF(D443=0,\"\",Settings!$D$6)","v":""},{"$f":"IF(D443=0,\"\",LOOKUP(B443,'Rigion Code'!A:A,'Rigion Code'!B:B))","v":""},null,{"$f":"IF(D443=0,\" \",IF(ISNA(MATCH(D443,Personnel!A:A,0)),IF(ISNA(MATCH(D443,'اطلاعات افراد غیر حقوق بگیر'!A:A,0)),\"وجود ندارد\",LOOKUP(Edit!D443,'اطلاعات افراد غیر حقوق بگیر'!A:A,'اطلاعات افراد غیر حقوق بگیر'!B:B)),LOOKUP(D443,Personnel!A:A,Personnel!C:C)))","v":" "},{"$f":"IF(D443=0,\" \",IF(ISNA(MATCH(D443,Personnel!A:A,0)),IF(ISNA(MATCH(D443,'اطلاعات افراد غیر حقوق بگیر'!A:A,0)),\"وجود ندارد\",LOOKUP(D443,'اطلاعات افراد غیر حقوق بگیر'!A:A,'اطلاعات افراد غیر حقوق بگیر'!C:C)),LOOKUP(D443,Personnel!A:A,Personnel!B:B)))","v":" "},{"$f":"IF(D443=0,0,IF(ISNA(MATCH(D443,Personnel!A:A,0)),IF(ISNA(MATCH(D443,'اطلاعات افراد غیر حقوق بگیر'!A:A,0)),\"وجود ندارد\",LOOKUP(D443,'اطلاعات افراد غیر حقوق بگیر'!A:A,'اطلاعات افراد غیر حقوق بگیر'!D:D)),LOOKUP(D443,Master!D:D,Master!CD:CD)))","v":0},{"$f":"IF(D443=0,\" \",IF(ISNA(MATCH(D443,Personnel!A:A,0)),IF(ISNA(MATCH(D443,'اطلاعات افراد غیر حقوق بگیر'!A:A,0)),\"وجود ندارد\",LOOKUP(D443,'اطلاعات افراد غیر حقوق بگیر'!A:A,'اطلاعات افراد غیر حقوق بگیر'!E:E)),LOOKUP(D443,Master!D:D,Master!AH:AH)))","v":" "},{"$f":"SUMIFS(Pays!G:G,Pays!E:E,1,Pays!D:D,D443)","v":0},{"$f":"SUMIFS(Pays!G:G,Pays!E:E,2,Pays!D:D,D443)","v":0},{"$f":"SUMIFS(Pays!G:G,Pays!E:E,57,Pays!D:D,D443)","v":0},{"$f":"SUMIF(Pays!D:D,D443,Pays!G:G)","v":0},{"$f":"SUMIF(Pays!D:D,D443,Pays!G:G)/176","v":0},{"$f":"IF(M443=0,IF(ISNA(MATCH(D443,'اطلاعات افراد غیر حقوق بگیر'!A:A,0)),0,LOOKUP(D443,'اطلاعات افراد غیر حقوق بگیر'!A:A,'اطلاعات افراد غیر حقوق بگیر'!F:F)),IF(H443=31,Settings!$D$13,ROUND(M443,0)))","v":0},null,0,{"$f":"IF(ISNA(MATCH(D443,Master!D:D,0)),IF(ISNA(MATCH(D443,'اطلاعات افراد غیر حقوق بگیر'!A:A,0)),0,LOOKUP(D443,'اطلاعات افراد غیر حقوق بگیر'!A:A,'اطلاعات افراد غیر حقوق بگیر'!G:G)),LOOKUP(D443,Master!D:D,Master!J:J))","v":0},{"$error":"#N/A"},0,0,{"$f":"IF(O443>#REF!,\"اخطار ساعت اضافه کار از حداکثر بیشتر است\",\" \")","v":{"$error":"#REF!"}},{"$f":"IF(O443>#REF!,1,0)","v":{"$error":"#REF!"}}]
[441,{"$f":"IF(D444=0,\"\",Settings!$D$6)","v":""},{"$f":"IF(D444=0,\"\",LOOKUP(B444,'Rigion Code'!A:A,'Rigion Code'!B:B))","v":""},null,{"$f":"IF(D444=0,\" \",IF(ISNA(MATCH(D444,Personnel!A:A,0)),IF(ISNA(MATCH(D444,'اطلاعات افراد غیر حقوق بگیر'!A:A,0)),\"وجود ندارد\",LOOKUP(Edit!D444,'اطلاعات افراد غیر حقوق بگیر'!A:A,'اطلاعات افراد غیر حقوق بگیر'!B:B)),LOOKUP(D444,Personnel!A:A,Personnel!C:C)))","v":" "},{"$f":"IF(D444=0,\" \",IF(ISNA(MATCH(D444,Personnel!A:A,0)),IF(ISNA(MATCH(D444,'اطلاعات افراد غیر حقوق بگیر'!A:A,0)),\"وجود ندارد\",LOOKUP(D444,'اطلاعات افراد غیر حقوق بگیر'!A:A,'اطلاعات افراد غیر حقوق بگیر'!C:C)),LOOKUP(D444,Personnel!A:A,Personnel!B:B)))","v":" "},{"$f":"IF(D444=0,0,IF(ISNA(MATCH(D444,Personnel!A:A,0)),IF(ISNA(MATCH(D444,'اطلاعات افراد غیر حقوق بگیر'!A:A,0)),\"وجود ندارد\",LOOKUP(D444,'اطلاعات افراد غیر حقوق بگیر'!A:A,'اطلاعات افراد غیر حقوق بگیر'!D:D)),LOOKUP(D444,Master!D:D,Master!CD:CD)))","v":0},{"$f":"IF(D444=0,\" \",IF(ISNA(MATCH(D444,Personnel!A:A,0)),IF(ISNA(MATCH(D444,'اطلاعات افراد غیر حقوق بگیر'!A:A,0)),\"وجود ندارد\",LOOKUP(D444,'اطلاعات افراد غیر حقوق بگیر'!A:A,'اطلاعات افراد غیر حقوق بگیر'!E:E)),LOOKUP(D444,Master!D:D,Master!AH:AH)))","v":" "},{"$f":"SUMIFS(Pays!G:G,Pays!E:E,1,Pays!D:D,D444)","v":0},{"$f":"SUMIFS(Pays!G:G,Pays!E:E,2,Pays!D:D,D444)","v":0},{"$f":"SUMIFS(Pays!G:G,Pays!E:E,57,Pays!D:D,D444)","v":0},{"$f":"SUMIF(Pays!D:D,D444,Pays!G:G)","v":0},{"$f":"SUMIF(Pays!D:D,D444,Pays!G:G)/176","v":0},{"$f":"IF(M444=0,IF(ISNA(MATCH(D444,'اطلاعات افراد غیر حقوق بگیر'!A:A,0)),0,LOOKUP(D444,'اطلاعات افراد غیر حقوق بگیر'!A:A,'اطلاعات افراد غیر حقوق بگیر'!F:F)),IF(H444=31,Settings!$D$13,ROUND(M444,0)))","v":0},null,0,{"$f":"IF(ISNA(MATCH(D444,Master!D:D,0)),IF(ISNA(MATCH(D444,'اطلاعات افراد غیر حقوق بگیر'!A:A,0)),0,LOOKUP(D444,'اطلاعات افراد غیر حقوق بگیر'!A:A,'اطلاعات افراد غیر حقوق بگیر'!G:G)),LOOKUP(D444,Master!D:D,Master!J:J))","v":0},{"$error":"#N/A"},0,0,{"$f":"IF(O444>#REF!,\"اخطار ساعت اضافه کار از حداکثر بیشتر است\",\" \")","v":{"$error":"#REF!"}},{"$f":"IF(O444>#REF!,1,0)","v":{"$error":"#REF!"}}]
[442,{"$f":"IF(D445=0,\"\",Settings!$D$6)","v":""},{"$f":"IF(D445=0,\"\",LOOKUP(B445,'Rigion Code'!A:A,'Rigion Code'!B:B))","v":""},null,{"$f":"IF(D445=0,\" \",IF(ISNA(MATCH(D445,Personnel!A:A,0)),IF(ISNA(MATCH(D445,'اطلاعات افراد غیر حقوق بگیر'!A:A,0)),\"وجود ندارد\",LOOKUP(Edit!D445,'اطلاعات افراد غیر حقوق بگیر'!A:A,'اطلاعات افراد غیر حقوق بگیر'!B:B)),LOOKUP(D445,Personnel!A:A,Personnel!C:C)))","v":" "},{"$f":"IF(D445=0,\" \",IF(ISNA(MATCH(D445,Personnel!A:A,0)),IF(ISNA(MATCH(D445,'اطلاعات افراد غیر حقوق بگیر'!A:A,0)),\"وجود ندارد\",LOOKUP(D445,'اطلاعات افراد غیر حقوق بگیر'!A:A,'اطلاعات افراد غیر حقوق بگیر'!C:C)),LOOKUP(D445,Personnel!A:A,Personnel!B:B)))","v":" "},{"$f":"IF(D445=0,0,IF(ISNA(MATCH(D445,Personnel!A:A,0)),IF(ISNA(MATCH(D445,'اطلاعات افراد غیر حقوق بگیر'!A:A,0)),\"وجود ندارد\",LOOKUP(D445,'اطلاعات افراد غیر حقوق بگیر'!A:A,'اطلاعات افراد غیر حقوق بگیر'!D:D)),LOOKUP(D445,Master!D:D,Master!CD:CD)))","v":0},{"$f":"IF(D445=0,\" \",IF(ISNA(MATCH(D445,Personnel!A:A,0)),IF(ISNA(MATCH(D445,'اطلاعات افراد غیر حقوق بگیر'!A:A,0)),\"وجود ندارد\",LOOKUP(D445,'اطلاعات افراد غیر حقوق بگیر'!A:A,'اطلاعات افراد غیر حقوق بگیر'!E:E)),LOOKUP(D445,Master!D:D,Master!AH:AH)))","v":" "},{"$f":"SUMIFS(Pays!G:G,Pays!E:E,1,Pays!D:D,D445)","v":0},{"$f":"SUMIFS(Pays!G:G,Pays!E:E,2,Pays!D:D,D445)","v":0},{"$f":"SUMIFS(Pays!G:G,Pays!E:E,57,Pays!D:D,D445)","v":0},{"$f":"SUMIF(Pays!D:D,D445,Pays!G:G)","v":0},{"$f":"SUMIF(Pays!D:D,D445,Pays!G:G)/176","v":0},{"$f":"IF(M445=0,IF(ISNA(MATCH(D445,'اطلاعات افراد غیر حقوق بگیر'!A:A,0)),0,LOOKUP(D445,'اطلاعات افراد غیر حقوق بگیر'!A:A,'اطلاعات افراد غیر حقوق بگیر'!F:F)),IF(H445=31,Settings!$D$13,ROUND(M445,0)))","v":0},null,0,{"$f":"IF(ISNA(MATCH(D445,Master!D:D,0)),IF(ISNA(MATCH(D445,'اطلاعات افراد غیر حقوق بگیر'!A:A,0)),0,LOOKUP(D445,'اطلاعات افراد غیر حقوق بگیر'!A:A,'اطلاعات افراد غیر حقوق بگیر'!G:G)),LOOKUP(D445,Master!D:D,Master!J:J))","v":0},{"$error":"#N/A"},0,0,{"$f":"IF(O445>#REF!,\"اخطار ساعت اضافه کار از حداکثر بیشتر است\",\" \")","v":{"$error":"#REF!"}},{"$f":"IF(O445>#REF!,1,0)","v":{"$error":"#REF!"}}]
[443,{"$f":"IF(D446=0,\"\",Settings!$D$6)","v":""},{"$f":"IF(D446=0,\"\",LOOKUP(B446,'Rigion Code'!A:A,'Rigion Code'!B:B))","v":""},null,{"$f":"IF(D446=0,\" \",IF(ISNA(MATCH(D446,Personnel!A:A,0)),IF(ISNA(MATCH(D446,'اطلاعات افراد غیر حقوق بگیر'!A:A,0)),\"وجود ندارد\",LOOKUP(Edit!D446,'اطلاعات افراد غیر حقوق بگیر'!A:A,'اطلاعات افراد غیر حقوق بگیر'!B:B)),LOOKUP(D446,Personnel!A:A,Personnel!C:C)))","v":" "},{"$f":"IF(D446=0,\" \",IF(ISNA(MATCH(D446,Personnel!A:A,0)),IF(ISNA(MATCH(D446,'اطلاعات افراد غیر حقوق بگیر'!A:A,0)),\"وجود ندارد\",LOOKUP(D446,'اطلاعات افراد غیر حقوق بگیر'!A:A,'اطلاعات افراد غیر حقوق بگیر'!C:C)),LOOKUP(D446,Personnel!A:A,Personnel!B:B)))","v":" "},{"$f":"IF(D446=0,0,IF(ISNA(MATCH(D446,Personnel!A:A,0)),IF(ISNA(MATCH(D446,'اطلاعات افراد غیر حقوق بگیر'!A:A,0)),\"وجود ندارد\",LOOKUP(D446,'اطلاعات افراد غیر حقوق بگیر'!A:A,'اطلاعات افراد غیر حقوق بگیر'!D:D)),LOOKUP(D446,Master!D:D,Master!CD:CD)))","v":0},{"$f":"IF(D446=0,\" \",IF(ISNA(MATCH(D446,Personnel!A:A,0)),IF(ISNA(MATCH(D446,'اطلاعات افراد غیر حقوق بگیر'!A:A,0)),\"وجود ندارد\",LOOKUP(D446,'اطلاعات افراد غیر حقوق بگیر'!A:A,'اطلاعات افراد غیر حقوق بگیر'!E:E)),LOOKUP(D446,Master!D:D,Master!AH:AH)))","v":" "},{"$f":"SUMIFS(Pays!G:G,Pays!E:E,1,Pays!D:D,D446)","v":0},{"$f":"SUMIFS(Pays!G:G,Pays!E:E,2,Pays!D:D,D446)","v":0},{"$f":"SUMIFS(Pays!G:G,Pays!E:E,57,Pays!D:D,D446)","v":0},{"$f":"SUMIF(Pays!D:D,D446,Pays!G:G)","v":0},{"$f":"SUMIF(Pays!D:D,D446,Pays!G:G)/176","v":0},{"$f":"IF(M446=0,IF(ISNA(MATCH(D446,'اطلاعات افراد غیر حقوق بگیر'!A:A,0)),0,LOOKUP(D446,'اطلاعات افراد غیر حقوق بگیر'!A:A,'اطلاعات افراد غیر حقوق بگیر'!F:F)),IF(H446=31,Settings!$D$13,ROUND(M446,0)))","v":0},null,0,{"$f":"IF(ISNA(MATCH(D446,Master!D:D,0)),IF(ISNA(MATCH(D446,'اطلاعات افراد غیر حقوق بگیر'!A:A,0)),0,LOOKUP(D446,'اطلاعات افراد غیر حقوق بگیر'!A:A,'اطلاعات افراد غیر حقوق بگیر'!G:G)),LOOKUP(D446,Master!D:D,Master!J:J))","v":0},{"$error":"#N/A"},0,0,{"$f":"IF(O446>#REF!,\"اخطار ساعت اضافه کار از حداکثر بیشتر است\",\" \")","v":{"$error":"#REF!"}},{"$f":"IF(O446>#REF!,1,0)","v":{"$error":"#REF!"}}]
[444,{"$f":"IF(D447=0,\"\",Settings!$D$6)","v":""},{"$f":"IF(D447=0,\"\",LOOKUP(B447,'Rigion Code'!A:A,'Rigion Code'!B:B))","v":""},null,{"$f":"IF(D447=0,\" \",IF(ISNA(MATCH(D447,Personnel!A:A,0)),IF(ISNA(MATCH(D447,'اطلاعات افراد غیر حقوق بگیر'!A:A,0)),\"وجود ندارد\",LOOKUP(Edit!D447,'اطلاعات افراد غیر حقوق بگیر'!A:A,'اطلاعات افراد غیر حقوق بگیر'!B:B)),LOOKUP(D447,Personnel!A:A,Personnel!C:C)))","v":" "},{"$f":"IF(D447=0,\" \",IF(ISNA(MATCH(D447,Personnel!A:A,0)),IF(ISNA(MATCH(D447,'اطلاعات افراد غیر حقوق بگیر'!A:A,0)),\"وجود ندارد\",LOOKUP(D447,'اطلاعات افراد غیر حقوق بگیر'!A:A,'اطلاعات افراد غیر حقوق بگیر'!C:C)),LOOKUP(D447,Personnel!A:A,Personnel!B:B)))","v":" "},{"$f":"IF(D447=0,0,IF(ISNA(MATCH(D447,Personnel!A:A,0)),IF(ISNA(MATCH(D447,'اطلاعات افراد غیر حقوق بگیر'!A:A,0)),\"وجود ندارد\",LOOKUP(D447,'اطلاعات افراد غیر حقوق بگیر'!A:A,'اطلاعات افراد غیر حقوق بگیر'!D:D)),LOOKUP(D447,Master!D:D,Master!CD:CD)))","v":0},{"$f":"IF(D447=0,\" \",IF(ISNA(MATCH(D447,Personnel!A:A,0)),IF(ISNA(MATCH(D447,'اطلاعات افراد غیر حقوق بگیر'!A:A,0)),\"وجود ندارد\",LOOKUP(D447,'اطلاعات افراد غیر حقوق بگیر'!A:A,'اطلاعات افراد غیر حقوق بگیر'!E:E)),LOOKUP(D447,Master!D:D,Master!AH:AH)))","v":" "},{"$f":"SUMIFS(Pays!G:G,Pays!E:E,1,Pays!D:D,D447)","v":0},{"$f":"SUMIFS(Pays!G:G,Pays!E:E,2,Pays!D:D,D447)","v":0},{"$f":"SUMIFS(Pays!G:G,Pays!E:E,57,Pays!D:D,D447)","v":0},{"$f":"SUMIF(Pays!D:D,D447,Pays!G:G)","v":0},{"$f":"SUMIF(Pays!D:D,D447,Pays!G:G)/176","v":0},{"$f":"IF(M447=0,IF(ISNA(MATCH(D447,'اطلاعات افراد غیر حقوق بگیر'!A:A,0)),0,LOOKUP(D447,'اطلاعات افراد غیر حقوق بگیر'!A:A,'اطلاعات افراد غیر حقوق بگیر'!F:F)),IF(H447=31,Settings!$D$13,ROUND(M447,0)))","v":0},null,0,{"$f":"IF(ISNA(MATCH(D447,Master!D:D,0)),IF(ISNA(MATCH(D447,'اطلاعات افراد غیر حقوق بگیر'!A:A,0)),0,LOOKUP(D447,'اطلاعات افراد غیر حقوق بگیر'!A:A,'اطلاعات افراد غیر حقوق بگیر'!G:G)),LOOKUP(D447,Master!D:D,Master!J:J))","v":0},{"$error":"#N/A"},0,0,{"$f":"IF(O447>#REF!,\"اخطار ساعت اضافه کار از حداکثر بیشتر است\",\" \")","v":{"$error":"#REF!"}},{"$f":"IF(O447>#REF!,1,0)","v":{"$error":"#REF!"}}]
[445,{"$f":"IF(D448=0,\"\",Settings!$D$6)","v":""},{"$f":"IF(D448=0,\"\",LOOKUP(B448,'Rigion Code'!A:A,'Rigion Code'!B:B))","v":""},null,{"$f":"IF(D448=0,\" \",IF(ISNA(MATCH(D448,Personnel!A:A,0)),IF(ISNA(MATCH(D448,'اطلاعات افراد غیر حقوق بگیر'!A:A,0)),\"وجود ندارد\",LOOKUP(Edit!D448,'اطلاعات افراد غیر حقوق بگیر'!A:A,'اطلاعات افراد غیر حقوق بگیر'!B:B)),LOOKUP(D448,Personnel!A:A,Personnel!C:C)))","v":" "},{"$f":"IF(D448=0,\" \",IF(ISNA(MATCH(D448,Personnel!A:A,0)),IF(ISNA(MATCH(D448,'اطلاعات افراد غیر حقوق بگیر'!A:A,0)),\"وجود ندارد\",LOOKUP(D448,'اطلاعات افراد غیر حقوق بگیر'!A:A,'اطلاعات افراد غیر حقوق بگیر'!C:C)),LOOKUP(D448,Personnel!A:A,Personnel!B:B)))","v":" "},{"$f":"IF(D448=0,0,IF(ISNA(MATCH(D448,Personnel!A:A,0)),IF(ISNA(MATCH(D448,'اطلاعات افراد غیر حقوق بگیر'!A:A,0)),\"وجود ندارد\",LOOKUP(D448,'اطلاعات افراد غیر حقوق بگیر'!A:A,'اطلاعات افراد غیر حقوق بگیر'!D:D)),LOOKUP(D448,Master!D:D,Master!CD:CD)))","v":0},{"$f":"IF(D448=0,\" \",IF(ISNA(MATCH(D448,Personnel!A:A,0)),IF(ISNA(MATCH(D448,'اطلاعات افراد غیر حقوق بگیر'!A:A,0)),\"وجود ندارد\",LOOKUP(D448,'اطلاعات افراد غیر حقوق بگیر'!A:A,'اطلاعات افراد غیر حقوق بگیر'!E:E)),LOOKUP(D448,Master!D:D,Master!AH:AH)))","v":" "},{"$f":"SUMIFS(Pays!G:G,Pays!E:E,1,Pays!D:D,D448)","v":0},{"$f":"SUMIFS(Pays!G:G,Pays!E:E,2,Pays!D:D,D448)","v":0},{"$f":"SUMIFS(Pays!G:G,Pays!E:E,57,Pays!D:D,D448)","v":0},{"$f":"SUMIF(Pays!D:D,D448,Pays!G:G)","v":0},{"$f":"SUMIF(Pays!D:D,D448,Pays!G:G)/176","v":0},{"$f":"IF(M448=0,IF(ISNA(MATCH(D448,'اطلاعات افراد غیر حقوق بگیر'!A:A,0)),0,LOOKUP(D448,'اطلاعات افراد غیر حقوق بگیر'!A:A,'اطلاعات افراد غیر حقوق بگیر'!F:F)),IF(H448=31,Settings!$D$13,ROUND(M448,0)))","v":0},null,0,{"$f":"IF(ISNA(MATCH(D448,Master!D:D,0)),IF(ISNA(MATCH(D448,'اطلاعات افراد غیر حقوق بگیر'!A:A,0)),0,LOOKUP(D448,'اطلاعات افراد غیر حقوق بگیر'!A:A,'اطلاعات افراد غیر حقوق بگیر'!G:G)),LOOKUP(D448,Master!D:D,Master!J:J))","v":0},{"$error":"#N/A"},0,0,{"$f":"IF(O448>#REF!,\"اخطار ساعت اضافه کار از حداکثر بیشتر است\",\" \")","v":{"$error":"#REF!"}},{"$f":"IF(O448>#REF!,1,0)","v":{"$error":"#REF!"}}]
[446,{"$f":"IF(D449=0,\"\",Settings!$D$6)","v":""},{"$f":"IF(D449=0,\"\",LOOKUP(B449,'Rigion Code'!A:A,'Rigion Code'!B:B))","v":""},null,{"$f":"IF(D449=0,\" \",IF(ISNA(MATCH(D449,Personnel!A:A,0)),IF(ISNA(MATCH(D449,'اطلاعات افراد غیر حقوق بگیر'!A:A,0)),\"وجود ندارد\",LOOKUP(Edit!D449,'اطلاعات افراد غیر حقوق بگیر'!A:A,'اطلاعات افراد غیر حقوق بگیر'!B:B)),LOOKUP(D449,Personnel!A:A,Personnel!C:C)))","v":" "},{"$f":"IF(D449=0,\" \",IF(ISNA(MATCH(D449,Personnel!A:A,0)),IF(ISNA(MATCH(D449,'اطلاعات افراد غیر حقوق بگیر'!A:A,0)),\"وجود ندارد\",LOOKUP(D449,'اطلاعات افراد غیر حقوق بگیر'!A:A,'اطلاعات افراد غیر حقوق بگیر'!C:C)),LOOKUP(D449,Personnel!A:A,Personnel!B:B)))","v":" "},{"$f":"IF(D449=0,0,IF(ISNA(MATCH(D449,Personnel!A:A,0)),IF(ISNA(MATCH(D449,'اطلاعات افراد غیر حقوق بگیر'!A:A,0)),\"وجود ندارد\",LOOKUP(D449,'اطلاعات افراد غیر حقوق بگیر'!A:A,'اطلاعات افراد غیر حقوق بگیر'!D:D)),LOOKUP(D449,Master!D:D,Master!CD:CD)))","v":0},{"$f":"IF(D449=0,\" \",IF(ISNA(MATCH(D449,Personnel!A:A,0)),IF(ISNA(MATCH(D449,'اطلاعات افراد غیر حقوق بگیر'!A:A,0)),\"وجود ندارد\",LOOKUP(D449,'اطلاعات افراد غیر حقوق بگیر'!A:A,'اطلاعات افراد غیر حقوق بگیر'!E:E)),LOOKUP(D449,Master!D:D,Master!AH:AH)))","v":" "},{"$f":"SUMIFS(Pays!G:G,Pays!E:E,1,Pays!D:D,D449)","v":0},{"$f":"SUMIFS(Pays!G:G,Pays!E:E,2,Pays!D:D,D449)","v":0},{"$f":"SUMIFS(Pays!G:G,Pays!E:E,57,Pays!D:D,D449)","v":0},{"$f":"SUMIF(Pays!D:D,D449,Pays!G:G)","v":0},{"$f":"SUMIF(Pays!D:D,D449,Pays!G:G)/176","v":0},{"$f":"IF(M449=0,IF(ISNA(MATCH(D449,'اطلاعات افراد غیر حقوق بگیر'!A:A,0)),0,LOOKUP(D449,'اطلاعات افراد غیر حقوق بگیر'!A:A,'اطلاعات افراد غیر حقوق بگیر'!F:F)),IF(H449=31,Settings!$D$13,ROUND(M449,0)))","v":0},null,0,{"$f":"IF(ISNA(MATCH(D449,Master!D:D,0)),IF(ISNA(MATCH(D449,'اطلاعات افراد غیر حقوق بگیر'!A:A,0)),0,LOOKUP(D449,'اطلاعات افراد غیر حقوق بگیر'!A:A,'اطلاعات افراد غیر حقوق بگیر'!G:G)),LOOKUP(D449,Master!D:D,Master!J:J))","v":0},{"$error":"#N/A"},0,0,{"$f":"IF(O449>#REF!,\"اخطار ساعت اضافه کار از حداکثر بیشتر است\",\" \")","v":{"$error":"#REF!"}},{"$f":"IF(O449>#REF!,1,0)","v":{"$error":"#REF!"}}]
[447,{"$f":"IF(D450=0,\"\",Settings!$D$6)","v":""},{"$f":"IF(D450=0,\"\",LOOKUP(B450,'Rigion Code'!A:A,'Rigion Code'!B:B))","v":""},null,{"$f":"IF(D450=0,\" \",IF(ISNA(MATCH(D450,Personnel!A:A,0)),IF(ISNA(MATCH(D450,'اطلاعات افراد غیر حقوق بگیر'!A:A,0)),\"وجود ندارد\",LOOKUP(Edit!D450,'اطلاعات افراد غیر حقوق بگیر'!A:A,'اطلاعات افراد غیر حقوق بگیر'!B:B)),LOOKUP(D450,Personnel!A:A,Personnel!C:C)))","v":" "},{"$f":"IF(D450=0,\" \",IF(ISNA(MATCH(D450,Personnel!A:A,0)),IF(ISNA(MATCH(D450,'اطلاعات افراد غیر حقوق بگیر'!A:A,0)),\"وجود ندارد\",LOOKUP(D450,'اطلاعات افراد غیر حقوق بگیر'!A:A,'اطلاعات افراد غیر حقوق بگیر'!C:C)),LOOKUP(D450,Personnel!A:A,Personnel!B:B)))","v":" "},{"$f":"IF(D450=0,0,IF(ISNA(MATCH(D450,Personnel!A:A,0)),IF(ISNA(MATCH(D450,'اطلاعات افراد غیر حقوق بگیر'!A:A,0)),\"وجود ندارد\",LOOKUP(D450,'اطلاعات افراد غیر حقوق بگیر'!A:A,'اطلاعات افراد غیر حقوق بگیر'!D:D)),LOOKUP(D450,Master!D:D,Master!CD:CD)))","v":0},{"$f":"IF(D450=0,\" \",IF(ISNA(MATCH(D450,Personnel!A:A,0)),IF(ISNA(MATCH(D450,'اطلاعات افراد غیر حقوق بگیر'!A:A,0)),\"وجود ندارد\",LOOKUP(D450,'اطلاعات افراد غیر حقوق بگیر'!A:A,'اطلاعات افراد غیر حقوق بگیر'!E:E)),LOOKUP(D450,Master!D:D,Master!AH:AH)))","v":" "},{"$f":"SUMIFS(Pays!G:G,Pays!E:E,1,Pays!D:D,D450)","v":0},{"$f":"SUMIFS(Pays!G:G,Pays!E:E,2,Pays!D:D,D450)","v":0},{"$f":"SUMIFS(Pays!G:G,Pays!E:E,57,Pays!D:D,D450)","v":0},{"$f":"SUMIF(Pays!D:D,D450,Pays!G:G)","v":0},{"$f":"SUMIF(Pays!D:D,D450,Pays!G:G)/176","v":0},{"$f":"IF(M450=0,IF(ISNA(MATCH(D450,'اطلاعات افراد غیر حقوق بگیر'!A:A,0)),0,LOOKUP(D450,'اطلاعات افراد غیر حقوق بگیر'!A:A,'اطلاعات افراد غیر حقوق بگیر'!F:F)),IF(H450=31,Settings!$D$13,ROUND(M450,0)))","v":0},null,0,{"$f":"IF(ISNA(MATCH(D450,Master!D:D,0)),IF(ISNA(MATCH(D450,'اطلاعات افراد غیر حقوق بگیر'!A:A,0)),0,LOOKUP(D450,'اطلاعات افراد غیر حقوق بگیر'!A:A,'اطلاعات افراد غیر حقوق بگیر'!G:G)),LOOKUP(D450,Master!D:D,Master!J:J))","v":0},{"$error":"#N/A"},0,0,{"$f":"IF(O450>#REF!,\"اخطار ساعت اضافه کار از حداکثر بیشتر است\",\" \")","v":{"$error":"#REF!"}},{"$f":"IF(O450>#REF!,1,0)","v":{"$error":"#REF!"}}]
[448,{"$f":"IF(D451=0,\"\",Settings!$D$6)","v":""},{"$f":"IF(D451=0,\"\",LOOKUP(B451,'Rigion Code'!A:A,'Rigion Code'!B:B))","v":""},null,{"$f":"IF(D451=0,\" \",IF(ISNA(MATCH(D451,Personnel!A:A,0)),IF(ISNA(MATCH(D451,'اطلاعات افراد غیر حقوق بگیر'!A:A,0)),\"وجود ندارد\",LOOKUP(Edit!D451,'اطلاعات افراد غیر حقوق بگیر'!A:A,'اطلاعات افراد غیر حقوق بگیر'!B:B)),LOOKUP(D451,Personnel!A:A,Personnel!C:C)))","v":" "},{"$f":"IF(D451=0,\" \",IF(ISNA(MATCH(D451,Personnel!A:A,0)),IF(ISNA(MATCH(D451,'اطلاعات افراد غیر حقوق بگیر'!A:A,0)),\"وجود ندارد\",LOOKUP(D451,'اطلاعات افراد غیر حقوق بگیر'!A:A,'اطلاعات افراد غیر حقوق بگیر'!C:C)),LOOKUP(D451,Personnel!A:A,Personnel!B:B)))","v":" "},{"$f":"IF(D451=0,0,IF(ISNA(MATCH(D451,Personnel!A:A,0)),IF(ISNA(MATCH(D451,'اطلاعات افراد غیر حقوق بگیر'!A:A,0)),\"وجود ندارد\",LOOKUP(D451,'اطلاعات افراد غیر حقوق بگیر'!A:A,'اطلاعات افراد غیر حقوق بگیر'!D:D)),LOOKUP(D451,Master!D:D,Master!CD:CD)))","v":0},{"$f":"IF(D451=0,\" \",IF(ISNA(MATCH(D451,Personnel!A:A,0)),IF(ISNA(MATCH(D451,'اطلاعات افراد غیر حقوق بگیر'!A:A,0)),\"وجود ندارد\",LOOKUP(D451,'اطلاعات افراد غیر حقوق بگیر'!A:A,'اطلاعات افراد غیر حقوق بگیر'!E:E)),LOOKUP(D451,Master!D:D,Master!AH:AH)))","v":" "},{"$f":"SUMIFS(Pays!G:G,Pays!E:E,1,Pays!D:D,D451)","v":0},{"$f":"SUMIFS(Pays!G:G,Pays!E:E,2,Pays!D:D,D451)","v":0},{"$f":"SUMIFS(Pays!G:G,Pays!E:E,57,Pays!D:D,D451)","v":0},{"$f":"SUMIF(Pays!D:D,D451,Pays!G:G)","v":0},{"$f":"SUMIF(Pays!D:D,D451,Pays!G:G)/176","v":0},{"$f":"IF(M451=0,IF(ISNA(MATCH(D451,'اطلاعات افراد غیر حقوق بگیر'!A:A,0)),0,LOOKUP(D451,'اطلاعات افراد غیر حقوق بگیر'!A:A,'اطلاعات افراد غیر حقوق بگیر'!F:F)),IF(H451=31,Settings!$D$13,ROUND(M451,0)))","v":0},null,0,{"$f":"IF(ISNA(MATCH(D451,Master!D:D,0)),IF(ISNA(MATCH(D451,'اطلاعات افراد غیر حقوق بگیر'!A:A,0)),0,LOOKUP(D451,'اطلاعات افراد غیر حقوق بگیر'!A:A,'اطلاعات افراد غیر حقوق بگیر'!G:G)),LOOKUP(D451,Master!D:D,Master!J:J))","v":0},{"$error":"#N/A"},0,0,{"$f":"IF(O451>#REF!,\"اخطار ساعت اضافه کار از حداکثر بیشتر است\",\" \")","v":{"$error":"#REF!"}},{"$f":"IF(O451>#REF!,1,0)","v":{"$error":"#REF!"}}]
[449,{"$f":"IF(D452=0,\"\",Settings!$D$6)","v":""},{"$f":"IF(D452=0,\"\",LOOKUP(B452,'Rigion Code'!A:A,'Rigion Code'!B:B))","v":""},null,{"$f":"IF(D452=0,\" \",IF(ISNA(MATCH(D452,Personnel!A:A,0)),IF(ISNA(MATCH(D452,'اطلاعات افراد غیر حقوق بگیر'!A:A,0)),\"وجود ندارد\",LOOKUP(Edit!D452,'اطلاعات افراد غیر حقوق بگیر'!A:A,'اطلاعات افراد غیر حقوق بگیر'!B:B)),LOOKUP(D452,Personnel!A:A,Personnel!C:C)))","v":" "},{"$f":"IF(D452=0,\" \",IF(ISNA(MATCH(D452,Personnel!A:A,0)),IF(ISNA(MATCH(D452,'اطلاعات افراد غیر حقوق بگیر'!A:A,0)),\"وجود ندارد\",LOOKUP(D452,'اطلاعات افراد غیر حقوق بگیر'!A:A,'اطلاعات افراد غیر حقوق بگیر'!C:C)),LOOKUP(D452,Personnel!A:A,Personnel!B:B)))","v":" "},{"$f":"IF(D452=0,0,IF(ISNA(MATCH(D452,Personnel!A:A,0)),IF(ISNA(MATCH(D452,'اطلاعات افراد غیر حقوق بگیر'!A:A,0)),\"وجود ندارد\",LOOKUP(D452,'اطلاعات افراد غیر حقوق بگیر'!A:A,'اطلاعات افراد غیر حقوق بگیر'!D:D)),LOOKUP(D452,Master!D:D,Master!CD:CD)))","v":0},{"$f":"IF(D452=0,\" \",IF(ISNA(MATCH(D452,Personnel!A:A,0)),IF(ISNA(MATCH(D452,'اطلاعات افراد غیر حقوق بگیر'!A:A,0)),\"وجود ندارد\",LOOKUP(D452,'اطلاعات افراد غیر حقوق بگیر'!A:A,'اطلاعات افراد غیر حقوق بگیر'!E:E)),LOOKUP(D452,Master!D:D,Master!AH:AH)))","v":" "},{"$f":"SUMIFS(Pays!G:G,Pays!E:E,1,Pays!D:D,D452)","v":0},{"$f":"SUMIFS(Pays!G:G,Pays!E:E,2,Pays!D:D,D452)","v":0},{"$f":"SUMIFS(Pays!G:G,Pays!E:E,57,Pays!D:D,D452)","v":0},{"$f":"SUMIF(Pays!D:D,D452,Pays!G:G)","v":0},{"$f":"SUMIF(Pays!D:D,D452,Pays!G:G)/176","v":0},{"$f":"IF(M452=0,IF(ISNA(MATCH(D452,'اطلاعات افراد غیر حقوق بگیر'!A:A,0)),0,LOOKUP(D452,'اطلاعات افراد غیر حقوق بگیر'!A:A,'اطلاعات افراد غیر حقوق بگیر'!F:F)),IF(H452=31,Settings!$D$13,ROUND(M452,0)))","v":0},null,{"$f":"N452*O452","v":0},{"$f":"IF(ISNA(MATCH(D452,Master!D:D,0)),IF(ISNA(MATCH(D452,'اطلاعات افراد غیر حقوق بگیر'!A:A,0)),0,LOOKUP(D452,'اطلاعات افراد غیر حقوق بگیر'!A:A,'اطلاعات افراد غیر حقوق بگیر'!G:G)),LOOKUP(D452,Master!D:D,Master!J:J))","v":0},{"$error":"#N/A"},0,0,{"$f":"IF(O452>#REF!,\"اخطار ساعت اضافه کار از حداکثر بیشتر است\",\" \")","v":{"$error":"#REF!"}},{"$f":"IF(O452>#REF!,1,0)","v":{"$error":"#REF!"}}]
[450,{"$f":"IF(D453=0,\"\",Settings!$D$6)","v":""},{"$f":"IF(D453=0,\"\",LOOKUP(B453,'Rigion Code'!A:A,'Rigion Code'!B:B))","v":""},null,{"$f":"IF(D453=0,\" \",IF(ISNA(MATCH(D453,Personnel!A:A,0)),IF(ISNA(MATCH(D453,'اطلاعات افراد غیر حقوق بگیر'!A:A,0)),\"وجود ندارد\",LOOKUP(Edit!D453,'اطلاعات افراد غیر حقوق بگیر'!A:A,'اطلاعات افراد غیر حقوق بگیر'!B:B)),LOOKUP(D453,Personnel!A:A,Personnel!C:C)))","v":" "},{"$f":"IF(D453=0,\" \",IF(ISNA(MATCH(D453,Personnel!A:A,0)),IF(ISNA(MATCH(D453,'اطلاعات افراد غیر حقوق بگیر'!A:A,0)),\"وجود ندارد\",LOOKUP(D453,'اطلاعات افراد غیر حقوق بگیر'!A:A,'اطلاعات افراد غیر حقوق بگیر'!C:C)),LOOKUP(D453,Personnel!A:A,Personnel!B:B)))","v":" "},{"$f":"IF(D453=0,0,IF(ISNA(MATCH(D453,Personnel!A:A,0)),IF(ISNA(MATCH(D453,'اطلاعات افراد غیر حقوق بگیر'!A:A,0)),\"وجود ندارد\",LOOKUP(D453,'اطلاعات افراد غیر حقوق بگیر'!A:A,'اطلاعات افراد غیر حقوق بگیر'!D:D)),LOOKUP(D453,Master!D:D,Master!CD:CD)))","v":0},{"$f":"IF(D453=0,\" \",IF(ISNA(MATCH(D453,Personnel!A:A,0)),IF(ISNA(MATCH(D453,'اطلاعات افراد غیر حقوق بگیر'!A:A,0)),\"وجود ندارد\",LOOKUP(D453,'اطلاعات افراد غیر حقوق بگیر'!A:A,'اطلاعات افراد غیر حقوق بگیر'!E:E)),LOOKUP(D453,Master!D:D,Master!AH:AH)))","v":" "},{"$f":"SUMIFS(Pays!G:G,Pays!E:E,1,Pays!D:D,D453)","v":0},{"$f":"SUMIFS(Pays!G:G,Pays!E:E,2,Pays!D:D,D453)","v":0},{"$f":"SUMIFS(Pays!G:G,Pays!E:E,57,Pays!D:D,D453)","v":0},{"$f":"SUMIF(Pays!D:D,D453,Pays!G:G)","v":0},{"$f":"SUMIF(Pays!D:D,D453,Pays!G:G)/176","v":0},{"$f":"IF(M453=0,IF(ISNA(MATCH(D453,'اطلاعات افراد غیر حقوق بگیر'!A:A,0)),0,LOOKUP(D453,'اطلاعات افراد غیر حقوق بگیر'!A:A,'اطلاعات افراد غیر حقوق بگیر'!F:F)),IF(H453=31,Settings!$D$13,ROUND(M453,0)))","v":0},null,0,{"$f":"IF(ISNA(MATCH(D453,Master!D:D,0)),IF(ISNA(MATCH(D453,'اطلاعات افراد غیر حقوق بگیر'!A:A,0)),0,LOOKUP(D453,'اطلاعات افراد غیر حقوق بگیر'!A:A,'اطلاعات افراد غیر حقوق بگیر'!G:G)),LOOKUP(D453,Master!D:D,Master!J:J))","v":0},{"$f":"LOOKUP(Q453,$W$4:$W$12,$X$4:$X$12)","v":{"$error":"#N/A"}},{"$f":"IF(P453=0,0,ROUND(P453*R453/100,0))","v":0},{"$f":"P453-S453","v":0},{"$f":"IF(O453>#REF!,\"اخطار ساعت اضافه کار از حداکثر بیشتر است\",\" \")","v":{"$error":"#REF!"}},{"$f":"IF(O453>#REF!,1,0)","v":{"$error":"#REF!"}}]
[{"$f":"A453+1","v":451},{"$f":"IF(D454=0,\"\",Settings!$D$6)","v":""},{"$f":"IF(D454=0,\"\",LOOKUP(B454,'Rigion Code'!A:A,'Rigion Code'!B:B))","v":""},null,{"$f":"IF(D454=0,\" \",IF(ISNA(MATCH(D454,Personnel!A:A,0)),IF(ISNA(MATCH(D454,'اطلاعات افراد غیر حقوق بگیر'!A:A,0)),\"وجود ندارد\",LOOKUP(Edit!D454,'اطلاعات افراد غیر حقوق بگیر'!A:A,'اطلاعات افراد غیر حقوق بگیر'!B:B)),LOOKUP(D454,Personnel!A:A,Personnel!C:C)))","v":" "},{"$f":"IF(D454=0,\" \",IF(ISNA(MATCH(D454,Personnel!A:A,0)),IF(ISNA(MATCH(D454,'اطلاعات افراد غیر حقوق بگیر'!A:A,0)),\"وجود ندارد\",LOOKUP(D454,'اطلاعات افراد غیر حقوق بگیر'!A:A,'اطلاعات افراد غیر حقوق بگیر'!C:C)),LOOKUP(D454,Personnel!A:A,Personnel!B:B)))","v":" "},{"$f":"IF(D454=0,0,IF(ISNA(MATCH(D454,Personnel!A:A,0)),IF(ISNA(MATCH(D454,'اطلاعات افراد غیر حقوق بگیر'!A:A,0)),\"وجود ندارد\",LOOKUP(D454,'اطلاعات افراد غیر حقوق بگیر'!A:A,'اطلاعات افراد غیر حقوق بگیر'!D:D)),LOOKUP(D454,Master!D:D,Master!CD:CD)))","v":0},{"$f":"IF(D454=0,\" \",IF(ISNA(MATCH(D454,Personnel!A:A,0)),IF(ISNA(MATCH(D454,'اطلاعات افراد غیر حقوق بگیر'!A:A,0)),\"وجود ندارد\",LOOKUP(D454,'اطلاعات افراد غیر حقوق بگیر'!A:A,'اطلاعات افراد غیر حقوق بگیر'!E:E)),LOOKUP(D454,Master!D:D,Master!AH:AH)))","v":" "},{"$f":"SUMIFS(Pays!G:G,Pays!E:E,1,Pays!D:D,D454)","v":0},{"$f":"SUMIFS(Pays!G:G,Pays!E:E,2,Pays!D:D,D454)","v":0},{"$f":"SUMIFS(Pays!G:G,Pays!E:E,57,Pays!D:D,D454)","v":0},{"$f":"SUMIF(Pays!D:D,D454,Pays!G:G)","v":0},{"$f":"SUMIF(Pays!D:D,D454,Pays!G:G)/176","v":0},{"$f":"IF(M454=0,IF(ISNA(MATCH(D454,'اطلاعات افراد غیر حقوق بگیر'!A:A,0)),0,LOOKUP(D454,'اطلاعات افراد غیر حقوق بگیر'!A:A,'اطلاعات افراد غیر حقوق بگیر'!F:F)),IF(H454=31,Settings!$D$13,ROUND(M454,0)))","v":0},null,0,{"$f":"IF(ISNA(MATCH(D454,Master!D:D,0)),IF(ISNA(MATCH(D454,'اطلاعات افراد غیر حقوق بگیر'!A:A,0)),0,LOOKUP(D454,'اطلاعات افراد غیر حقوق بگیر'!A:A,'اطلاعات افراد غیر حقوق بگیر'!G:G)),LOOKUP(D454,Master!D:D,Master!J:J))","v":0},{"$error":"#N/A"},0,0,{"$f":"IF(O454>#REF!,\"اخطار ساعت اضافه کار از حداکثر بیشتر است\",\" \")","v":{"$error":"#REF!"}},{"$f":"IF(O454>#REF!,1,0)","v":{"$error":"#REF!"}}]
[452,{"$f":"IF(D455=0,\"\",Settings!$D$6)","v":""},{"$f":"IF(D455=0,\"\",LOOKUP(B455,'Rigion Code'!A:A,'Rigion Code'!B:B))","v":""},null,{"$f":"IF(D455=0,\" \",IF(ISNA(MATCH(D455,Personnel!A:A,0)),IF(ISNA(MATCH(D455,'اطلاعات افراد غیر حقوق بگیر'!A:A,0)),\"وجود ندارد\",LOOKUP(Edit!D455,'اطلاعات افراد غیر حقوق بگیر'!A:A,'اطلاعات افراد غیر حقوق بگیر'!B:B)),LOOKUP(D455,Personnel!A:A,Personnel!C:C)))","v":" "},{"$f":"IF(D455=0,\" \",IF(ISNA(MATCH(D455,Personnel!A:A,0)),IF(ISNA(MATCH(D455,'اطلاعات افراد غیر حقوق بگیر'!A:A,0)),\"وجود ندارد\",LOOKUP(D455,'اطلاعات افراد غیر حقوق بگیر'!A:A,'اطلاعات افراد غیر حقوق بگیر'!C:C)),LOOKUP(D455,Personnel!A:A,Personnel!B:B)))","v":" "},{"$f":"IF(D455=0,0,IF(ISNA(MATCH(D455,Personnel!A:A,0)),IF(ISNA(MATCH(D455,'اطلاعات افراد غیر حقوق بگیر'!A:A,0)),\"وجود ندارد\",LOOKUP(D455,'اطلاعات افراد غیر حقوق بگیر'!A:A,'اطلاعات افراد غیر حقوق بگیر'!D:D)),LOOKUP(D455,Master!D:D,Master!CD:CD)))","v":0},{"$f":"IF(D455=0,\" \",IF(ISNA(MATCH(D455,Personnel!A:A,0)),IF(ISNA(MATCH(D455,'اطلاعات افراد غیر حقوق بگیر'!A:A,0)),\"وجود ندارد\",LOOKUP(D455,'اطلاعات افراد غیر حقوق بگیر'!A:A,'اطلاعات افراد غیر حقوق بگیر'!E:E)),LOOKUP(D455,Master!D:D,Master!AH:AH)))","v":" "},{"$f":"SUMIFS(Pays!G:G,Pays!E:E,1,Pays!D:D,D455)","v":0},{"$f":"SUMIFS(Pays!G:G,Pays!E:E,2,Pays!D:D,D455)","v":0},{"$f":"SUMIFS(Pays!G:G,Pays!E:E,57,Pays!D:D,D455)","v":0},{"$f":"SUMIF(Pays!D:D,D455,Pays!G:G)","v":0},{"$f":"SUMIF(Pays!D:D,D455,Pays!G:G)/176","v":0},{"$f":"IF(M455=0,IF(ISNA(MATCH(D455,'اطلاعات افراد غیر حقوق بگیر'!A:A,0)),0,LOOKUP(D455,'اطلاعات افراد غیر حقوق بگیر'!A:A,'اطلاعات افراد غیر حقوق بگیر'!F:F)),IF(H455=31,Settings!$D$13,ROUND(M455,0)))","v":0},null,0,{"$f":"IF(ISNA(MATCH(D455,Master!D:D,0)),IF(ISNA(MATCH(D455,'اطلاعات افراد غیر حقوق بگیر'!A:A,0)),0,LOOKUP(D455,'اطلاعات افراد غیر حقوق بگیر'!A:A,'اطلاعات افراد غیر حقوق بگیر'!G:G)),LOOKUP(D455,Master!D:D,Master!J:J))","v":0},{"$error":"#N/A"},0,0,{"$f":"IF(O455>#REF!,\"اخطار ساعت اضافه کار از حداکثر بیشتر است\",\" \")","v":{"$error":"#REF!"}},{"$f":"IF(O455>#REF!,1,0)","v":{"$error":"#REF!"}}]
[453,{"$f":"IF(D456=0,\"\",Settings!$D$6)","v":""},{"$f":"IF(D456=0,\"\",LOOKUP(B456,'Rigion Code'!A:A,'Rigion Code'!B:B))","v":""},null,{"$f":"IF(D456=0,\" \",IF(ISNA(MATCH(D456,Personnel!A:A,0)),IF(ISNA(MATCH(D456,'اطلاعات افراد غیر حقوق بگیر'!A:A,0)),\"وجود ندارد\",LOOKUP(Edit!D456,'اطلاعات افراد غیر حقوق بگیر'!A:A,'اطلاعات افراد غیر حقوق بگیر'!B:B)),LOOKUP(D456,Personnel!A:A,Personnel!C:C)))","v":" "},{"$f":"IF(D456=0,\" \",IF(ISNA(MATCH(D456,Personnel!A:A,0)),IF(ISNA(MATCH(D456,'اطلاعات افراد غیر حقوق بگیر'!A:A,0)),\"وجود ندارد\",LOOKUP(D456,'اطلاعات افراد غیر حقوق بگیر'!A:A,'اطلاعات افراد غیر حقوق بگیر'!C:C)),LOOKUP(D456,Personnel!A:A,Personnel!B:B)))","v":" "},{"$f":"IF(D456=0,0,IF(ISNA(MATCH(D456,Personnel!A:A,0)),IF(ISNA(MATCH(D456,'اطلاعات افراد غیر حقوق بگیر'!A:A,0)),\"وجود ندارد\",LOOKUP(D456,'اطلاعات افراد غیر حقوق بگیر'!A:A,'اطلاعات افراد غیر حقوق بگیر'!D:D)),LOOKUP(D456,Master!D:D,Master!CD:CD)))","v":0},{"$f":"IF(D456=0,\" \",IF(ISNA(MATCH(D456,Personnel!A:A,0)),IF(ISNA(MATCH(D456,'اطلاعات افراد غیر حقوق بگیر'!A:A,0)),\"وجود ندارد\",LOOKUP(D456,'اطلاعات افراد غیر حقوق بگیر'!A:A,'اطلاعات افراد غیر حقوق بگیر'!E:E)),LOOKUP(D456,Master!D:D,Master!AH:AH)))","v":" "},{"$f":"SUMIFS(Pays!G:G,Pays!E:E,1,Pays!D:D,D456)","v":0},{"$f":"SUMIFS(Pays!G:G,Pays!E:E,2,Pays!D:D,D456)","v":0},{"$f":"SUMIFS(Pays!G:G,Pays!E:E,57,Pays!D:D,D456)","v":0},{"$f":"SUMIF(Pays!D:D,D456,Pays!G:G)","v":0},{"$f":"SUMIF(Pays!D:D,D456,Pays!G:G)/176","v":0},{"$f":"IF(M456=0,IF(ISNA(MATCH(D456,'اطلاعات افراد غیر حقوق بگیر'!A:A,0)),0,LOOKUP(D456,'اطلاعات افراد غیر حقوق بگیر'!A:A,'اطلاعات افراد غیر حقوق بگیر'!F:F)),IF(H456=31,Settings!$D$13,ROUND(M456,0)))","v":0},null,0,{"$f":"IF(ISNA(MATCH(D456,Master!D:D,0)),IF(ISNA(MATCH(D456,'اطلاعات افراد غیر حقوق بگیر'!A:A,0)),0,LOOKUP(D456,'اطلاعات افراد غیر حقوق بگیر'!A:A,'اطلاعات افراد غیر حقوق بگیر'!G:G)),LOOKUP(D456,Master!D:D,Master!J:J))","v":0},{"$error":"#N/A"},0,0,{"$f":"IF(O456>#REF!,\"اخطار ساعت اضافه کار از حداکثر بیشتر است\",\" \")","v":{"$error":"#REF!"}},{"$f":"IF(O456>#REF!,1,0)","v":{"$error":"#REF!"}}]
[454,{"$f":"IF(D457=0,\"\",Settings!$D$6)","v":""},{"$f":"IF(D457=0,\"\",LOOKUP(B457,'Rigion Code'!A:A,'Rigion Code'!B:B))","v":""},null,{"$f":"IF(D457=0,\" \",IF(ISNA(MATCH(D457,Personnel!A:A,0)),IF(ISNA(MATCH(D457,'اطلاعات افراد غیر حقوق بگیر'!A:A,0)),\"وجود ندارد\",LOOKUP(Edit!D457,'اطلاعات افراد غیر حقوق بگیر'!A:A,'اطلاعات افراد غیر حقوق بگیر'!B:B)),LOOKUP(D457,Personnel!A:A,Personnel!C:C)))","v":" "},{"$f":"IF(D457=0,\" \",IF(ISNA(MATCH(D457,Personnel!A:A,0)),IF(ISNA(MATCH(D457,'اطلاعات افراد غیر حقوق بگیر'!A:A,0)),\"وجود ندارد\",LOOKUP(D457,'اطلاعات افراد غیر حقوق بگیر'!A:A,'اطلاعات افراد غیر حقوق بگیر'!C:C)),LOOKUP(D457,Personnel!A:A,Personnel!B:B)))","v":" "},{"$f":"IF(D457=0,0,IF(ISNA(MATCH(D457,Personnel!A:A,0)),IF(ISNA(MATCH(D457,'اطلاعات افراد غیر حقوق بگیر'!A:A,0)),\"وجود ندارد\",LOOKUP(D457,'اطلاعات افراد غیر حقوق بگیر'!A:A,'اطلاعات افراد غیر حقوق بگیر'!D:D)),LOOKUP(D457,Master!D:D,Master!CD:CD)))","v":0},{"$f":"IF(D457=0,\" \",IF(ISNA(MATCH(D457,Personnel!A:A,0)),IF(ISNA(MATCH(D457,'اطلاعات افراد غیر حقوق بگیر'!A:A,0)),\"وجود ندارد\",LOOKUP(D457,'اطلاعات افراد غیر حقوق بگیر'!A:A,'اطلاعات افراد غیر حقوق بگیر'!E:E)),LOOKUP(D457,Master!D:D,Master!AH:AH)))","v":" "},{"$f":"SUMIFS(Pays!G:G,Pays!E:E,1,Pays!D:D,D457)","v":0},{"$f":"SUMIFS(Pays!G:G,Pays!E:E,2,Pays!D:D,D457)","v":0},{"$f":"SUMIFS(Pays!G:G,Pays!E:E,57,Pays!D:D,D457)","v":0},{"$f":"SUMIF(Pays!D:D,D457,Pays!G:G)","v":0},{"$f":"SUMIF(Pays!D:D,D457,Pays!G:G)/176","v":0},{"$f":"IF(M457=0,IF(ISNA(MATCH(D457,'اطلاعات افراد غیر حقوق بگیر'!A:A,0)),0,LOOKUP(D457,'اطلاعات افراد غیر حقوق بگیر'!A:A,'اطلاعات افراد غیر حقوق بگیر'!F:F)),IF(H457=31,Settings!$D$13,ROUND(M457,0)))","v":0},null,0,{"$f":"IF(ISNA(MATCH(D457,Master!D:D,0)),IF(ISNA(MATCH(D457,'اطلاعات افراد غیر حقوق بگیر'!A:A,0)),0,LOOKUP(D457,'اطلاعات افراد غیر حقوق بگیر'!A:A,'اطلاعات افراد غیر حقوق بگیر'!G:G)),LOOKUP(D457,Master!D:D,Master!J:J))","v":0},{"$error":"#N/A"},0,0,{"$f":"IF(O457>#REF!,\"اخطار ساعت اضافه کار از حداکثر بیشتر است\",\" \")","v":{"$error":"#REF!"}},{"$f":"IF(O457>#REF!,1,0)","v":{"$error":"#REF!"}}]
[455,{"$f":"IF(D458=0,\"\",Settings!$D$6)","v":""},{"$f":"IF(D458=0,\"\",LOOKUP(B458,'Rigion Code'!A:A,'Rigion Code'!B:B))","v":""},null,{"$f":"IF(D458=0,\" \",IF(ISNA(MATCH(D458,Personnel!A:A,0)),IF(ISNA(MATCH(D458,'اطلاعات افراد غیر حقوق بگیر'!A:A,0)),\"وجود ندارد\",LOOKUP(Edit!D458,'اطلاعات افراد غیر حقوق بگیر'!A:A,'اطلاعات افراد غیر حقوق بگیر'!B:B)),LOOKUP(D458,Personnel!A:A,Personnel!C:C)))","v":" "},{"$f":"IF(D458=0,\" \",IF(ISNA(MATCH(D458,Personnel!A:A,0)),IF(ISNA(MATCH(D458,'اطلاعات افراد غیر حقوق بگیر'!A:A,0)),\"وجود ندارد\",LOOKUP(D458,'اطلاعات افراد غیر حقوق بگیر'!A:A,'اطلاعات افراد غیر حقوق بگیر'!C:C)),LOOKUP(D458,Personnel!A:A,Personnel!B:B)))","v":" "},{"$f":"IF(D458=0,0,IF(ISNA(MATCH(D458,Personnel!A:A,0)),IF(ISNA(MATCH(D458,'اطلاعات افراد غیر حقوق بگیر'!A:A,0)),\"وجود ندارد\",LOOKUP(D458,'اطلاعات افراد غیر حقوق بگیر'!A:A,'اطلاعات افراد غیر حقوق بگیر'!D:D)),LOOKUP(D458,Master!D:D,Master!CD:CD)))","v":0},{"$f":"IF(D458=0,\" \",IF(ISNA(MATCH(D458,Personnel!A:A,0)),IF(ISNA(MATCH(D458,'اطلاعات افراد غیر حقوق بگیر'!A:A,0)),\"وجود ندارد\",LOOKUP(D458,'اطلاعات افراد غیر حقوق بگیر'!A:A,'اطلاعات افراد غیر حقوق بگیر'!E:E)),LOOKUP(D458,Master!D:D,Master!AH:AH)))","v":" "},{"$f":"SUMIFS(Pays!G:G,Pays!E:E,1,Pays!D:D,D458)","v":0},{"$f":"SUMIFS(Pays!G:G,Pays!E:E,2,Pays!D:D,D458)","v":0},{"$f":"SUMIFS(Pays!G:G,Pays!E:E,57,Pays!D:D,D458)","v":0},{"$f":"SUMIF(Pays!D:D,D458,Pays!G:G)","v":0},{"$f":"SUMIF(Pays!D:D,D458,Pays!G:G)/176","v":0},{"$f":"IF(M458=0,IF(ISNA(MATCH(D458,'اطلاعات افراد غیر حقوق بگیر'!A:A,0)),0,LOOKUP(D458,'اطلاعات افراد غیر حقوق بگیر'!A:A,'اطلاعات افراد غیر حقوق بگیر'!F:F)),IF(H458=31,Settings!$D$13,ROUND(M458,0)))","v":0},null,0,{"$f":"IF(ISNA(MATCH(D458,Master!D:D,0)),IF(ISNA(MATCH(D458,'اطلاعات افراد غیر حقوق بگیر'!A:A,0)),0,LOOKUP(D458,'اطلاعات افراد غیر حقوق بگیر'!A:A,'اطلاعات افراد غیر حقوق بگیر'!G:G)),LOOKUP(D458,Master!D:D,Master!J:J))","v":0},{"$error":"#N/A"},0,0,{"$f":"IF(O458>#REF!,\"اخطار ساعت اضافه کار از حداکثر بیشتر است\",\" \")","v":{"$error":"#REF!"}},{"$f":"IF(O458>#REF!,1,0)","v":{"$error":"#REF!"}}]
[456,{"$f":"IF(D459=0,\"\",Settings!$D$6)","v":""},{"$f":"IF(D459=0,\"\",LOOKUP(B459,'Rigion Code'!A:A,'Rigion Code'!B:B))","v":""},null,{"$f":"IF(D459=0,\" \",IF(ISNA(MATCH(D459,Personnel!A:A,0)),IF(ISNA(MATCH(D459,'اطلاعات افراد غیر حقوق بگیر'!A:A,0)),\"وجود ندارد\",LOOKUP(Edit!D459,'اطلاعات افراد غیر حقوق بگیر'!A:A,'اطلاعات افراد غیر حقوق بگیر'!B:B)),LOOKUP(D459,Personnel!A:A,Personnel!C:C)))","v":" "},{"$f":"IF(D459=0,\" \",IF(ISNA(MATCH(D459,Personnel!A:A,0)),IF(ISNA(MATCH(D459,'اطلاعات افراد غیر حقوق بگیر'!A:A,0)),\"وجود ندارد\",LOOKUP(D459,'اطلاعات افراد غیر حقوق بگیر'!A:A,'اطلاعات افراد غیر حقوق بگیر'!C:C)),LOOKUP(D459,Personnel!A:A,Personnel!B:B)))","v":" "},{"$f":"IF(D459=0,0,IF(ISNA(MATCH(D459,Personnel!A:A,0)),IF(ISNA(MATCH(D459,'اطلاعات افراد غیر حقوق بگیر'!A:A,0)),\"وجود ندارد\",LOOKUP(D459,'اطلاعات افراد غیر حقوق بگیر'!A:A,'اطلاعات افراد غیر حقوق بگیر'!D:D)),LOOKUP(D459,Master!D:D,Master!CD:CD)))","v":0},{"$f":"IF(D459=0,\" \",IF(ISNA(MATCH(D459,Personnel!A:A,0)),IF(ISNA(MATCH(D459,'اطلاعات افراد غیر حقوق بگیر'!A:A,0)),\"وجود ندارد\",LOOKUP(D459,'اطلاعات افراد غیر حقوق بگیر'!A:A,'اطلاعات افراد غیر حقوق بگیر'!E:E)),LOOKUP(D459,Master!D:D,Master!AH:AH)))","v":" "},{"$f":"SUMIFS(Pays!G:G,Pays!E:E,1,Pays!D:D,D459)","v":0},{"$f":"SUMIFS(Pays!G:G,Pays!E:E,2,Pays!D:D,D459)","v":0},{"$f":"SUMIFS(Pays!G:G,Pays!E:E,57,Pays!D:D,D459)","v":0},{"$f":"SUMIF(Pays!D:D,D459,Pays!G:G)","v":0},{"$f":"SUMIF(Pays!D:D,D459,Pays!G:G)/176","v":0},{"$f":"IF(M459=0,IF(ISNA(MATCH(D459,'اطلاعات افراد غیر حقوق بگیر'!A:A,0)),0,LOOKUP(D459,'اطلاعات افراد غیر حقوق بگیر'!A:A,'اطلاعات افراد غیر حقوق بگیر'!F:F)),IF(H459=31,Settings!$D$13,ROUND(M459,0)))","v":0},null,0,{"$f":"IF(ISNA(MATCH(D459,Master!D:D,0)),IF(ISNA(MATCH(D459,'اطلاعات افراد غیر حقوق بگیر'!A:A,0)),0,LOOKUP(D459,'اطلاعات افراد غیر حقوق بگیر'!A:A,'اطلاعات افراد غیر حقوق بگیر'!G:G)),LOOKUP(D459,Master!D:D,Master!J:J))","v":0},{"$error":"#N/A"},0,0,{"$f":"IF(O459>#REF!,\"اخطار ساعت اضافه کار از حداکثر بیشتر است\",\" \")","v":{"$error":"#REF!"}},{"$f":"IF(O459>#REF!,1,0)","v":{"$error":"#REF!"}}]
[457,{"$f":"IF(D460=0,\"\",Settings!$D$6)","v":""},{"$f":"IF(D460=0,\"\",LOOKUP(B460,'Rigion Code'!A:A,'Rigion Code'!B:B))","v":""},null,{"$f":"IF(D460=0,\" \",IF(ISNA(MATCH(D460,Personnel!A:A,0)),IF(ISNA(MATCH(D460,'اطلاعات افراد غیر حقوق بگیر'!A:A,0)),\"وجود ندارد\",LOOKUP(Edit!D460,'اطلاعات افراد غیر حقوق بگیر'!A:A,'اطلاعات افراد غیر حقوق بگیر'!B:B)),LOOKUP(D460,Personnel!A:A,Personnel!C:C)))","v":" "},{"$f":"IF(D460=0,\" \",IF(ISNA(MATCH(D460,Personnel!A:A,0)),IF(ISNA(MATCH(D460,'اطلاعات افراد غیر حقوق بگیر'!A:A,0)),\"وجود ندارد\",LOOKUP(D460,'اطلاعات افراد غیر حقوق بگیر'!A:A,'اطلاعات افراد غیر حقوق بگیر'!C:C)),LOOKUP(D460,Personnel!A:A,Personnel!B:B)))","v":" "},{"$f":"IF(D460=0,0,IF(ISNA(MATCH(D460,Personnel!A:A,0)),IF(ISNA(MATCH(D460,'اطلاعات افراد غیر حقوق بگیر'!A:A,0)),\"وجود ندارد\",LOOKUP(D460,'اطلاعات افراد غیر حقوق بگیر'!A:A,'اطلاعات افراد غیر حقوق بگیر'!D:D)),LOOKUP(D460,Master!D:D,Master!CD:CD)))","v":0},{"$f":"IF(D460=0,\" \",IF(ISNA(MATCH(D460,Personnel!A:A,0)),IF(ISNA(MATCH(D460,'اطلاعات افراد غیر حقوق بگیر'!A:A,0)),\"وجود ندارد\",LOOKUP(D460,'اطلاعات افراد غیر حقوق بگیر'!A:A,'اطلاعات افراد غیر حقوق بگیر'!E:E)),LOOKUP(D460,Master!D:D,Master!AH:AH)))","v":" "},{"$f":"SUMIFS(Pays!G:G,Pays!E:E,1,Pays!D:D,D460)","v":0},{"$f":"SUMIFS(Pays!G:G,Pays!E:E,2,Pays!D:D,D460)","v":0},{"$f":"SUMIFS(Pays!G:G,Pays!E:E,57,Pays!D:D,D460)","v":0},{"$f":"SUMIF(Pays!D:D,D460,Pays!G:G)","v":0},{"$f":"SUMIF(Pays!D:D,D460,Pays!G:G)/176","v":0},{"$f":"IF(M460=0,IF(ISNA(MATCH(D460,'اطلاعات افراد غیر حقوق بگیر'!A:A,0)),0,LOOKUP(D460,'اطلاعات افراد غیر حقوق بگیر'!A:A,'اطلاعات افراد غیر حقوق بگیر'!F:F)),IF(H460=31,Settings!$D$13,ROUND(M460,0)))","v":0},null,0,{"$f":"IF(ISNA(MATCH(D460,Master!D:D,0)),IF(ISNA(MATCH(D460,'اطلاعات افراد غیر حقوق بگیر'!A:A,0)),0,LOOKUP(D460,'اطلاعات افراد غیر حقوق بگیر'!A:A,'اطلاعات افراد غیر حقوق بگیر'!G:G)),LOOKUP(D460,Master!D:D,Master!J:J))","v":0},{"$error":"#N/A"},0,0,{"$f":"IF(O460>#REF!,\"اخطار ساعت اضافه کار از حداکثر بیشتر است\",\" \")","v":{"$error":"#REF!"}},{"$f":"IF(O460>#REF!,1,0)","v":{"$error":"#REF!"}}]
[458,{"$f":"IF(D461=0,\"\",Settings!$D$6)","v":""},{"$f":"IF(D461=0,\"\",LOOKUP(B461,'Rigion Code'!A:A,'Rigion Code'!B:B))","v":""},null,{"$f":"IF(D461=0,\" \",IF(ISNA(MATCH(D461,Personnel!A:A,0)),IF(ISNA(MATCH(D461,'اطلاعات افراد غیر حقوق بگیر'!A:A,0)),\"وجود ندارد\",LOOKUP(Edit!D461,'اطلاعات افراد غیر حقوق بگیر'!A:A,'اطلاعات افراد غیر حقوق بگیر'!B:B)),LOOKUP(D461,Personnel!A:A,Personnel!C:C)))","v":" "},{"$f":"IF(D461=0,\" \",IF(ISNA(MATCH(D461,Personnel!A:A,0)),IF(ISNA(MATCH(D461,'اطلاعات افراد غیر حقوق بگیر'!A:A,0)),\"وجود ندارد\",LOOKUP(D461,'اطلاعات افراد غیر حقوق بگیر'!A:A,'اطلاعات افراد غیر حقوق بگیر'!C:C)),LOOKUP(D461,Personnel!A:A,Personnel!B:B)))","v":" "},{"$f":"IF(D461=0,0,IF(ISNA(MATCH(D461,Personnel!A:A,0)),IF(ISNA(MATCH(D461,'اطلاعات افراد غیر حقوق بگیر'!A:A,0)),\"وجود ندارد\",LOOKUP(D461,'اطلاعات افراد غیر حقوق بگیر'!A:A,'اطلاعات افراد غیر حقوق بگیر'!D:D)),LOOKUP(D461,Master!D:D,Master!CD:CD)))","v":0},{"$f":"IF(D461=0,\" \",IF(ISNA(MATCH(D461,Personnel!A:A,0)),IF(ISNA(MATCH(D461,'اطلاعات افراد غیر حقوق بگیر'!A:A,0)),\"وجود ندارد\",LOOKUP(D461,'اطلاعات افراد غیر حقوق بگیر'!A:A,'اطلاعات افراد غیر حقوق بگیر'!E:E)),LOOKUP(D461,Master!D:D,Master!AH:AH)))","v":" "},{"$f":"SUMIFS(Pays!G:G,Pays!E:E,1,Pays!D:D,D461)","v":0},{"$f":"SUMIFS(Pays!G:G,Pays!E:E,2,Pays!D:D,D461)","v":0},{"$f":"SUMIFS(Pays!G:G,Pays!E:E,57,Pays!D:D,D461)","v":0},{"$f":"SUMIF(Pays!D:D,D461,Pays!G:G)","v":0},{"$f":"SUMIF(Pays!D:D,D461,Pays!G:G)/176","v":0},{"$f":"IF(M461=0,IF(ISNA(MATCH(D461,'اطلاعات افراد غیر حقوق بگیر'!A:A,0)),0,LOOKUP(D461,'اطلاعات افراد غیر حقوق بگیر'!A:A,'اطلاعات افراد غیر حقوق بگیر'!F:F)),IF(H461=31,Settings!$D$13,ROUND(M461,0)))","v":0},null,0,{"$f":"IF(ISNA(MATCH(D461,Master!D:D,0)),IF(ISNA(MATCH(D461,'اطلاعات افراد غیر حقوق بگیر'!A:A,0)),0,LOOKUP(D461,'اطلاعات افراد غیر حقوق بگیر'!A:A,'اطلاعات افراد غیر حقوق بگیر'!G:G)),LOOKUP(D461,Master!D:D,Master!J:J))","v":0},{"$error":"#N/A"},0,0,{"$f":"IF(O461>#REF!,\"اخطار ساعت اضافه کار از حداکثر بیشتر است\",\" \")","v":{"$error":"#REF!"}},{"$f":"IF(O461>#REF!,1,0)","v":{"$error":"#REF!"}}]
[459,{"$f":"IF(D462=0,\"\",Settings!$D$6)","v":""},{"$f":"IF(D462=0,\"\",LOOKUP(B462,'Rigion Code'!A:A,'Rigion Code'!B:B))","v":""},null,{"$f":"IF(D462=0,\" \",IF(ISNA(MATCH(D462,Personnel!A:A,0)),IF(ISNA(MATCH(D462,'اطلاعات افراد غیر حقوق بگیر'!A:A,0)),\"وجود ندارد\",LOOKUP(Edit!D462,'اطلاعات افراد غیر حقوق بگیر'!A:A,'اطلاعات افراد غیر حقوق بگیر'!B:B)),LOOKUP(D462,Personnel!A:A,Personnel!C:C)))","v":" "},{"$f":"IF(D462=0,\" \",IF(ISNA(MATCH(D462,Personnel!A:A,0)),IF(ISNA(MATCH(D462,'اطلاعات افراد غیر حقوق بگیر'!A:A,0)),\"وجود ندارد\",LOOKUP(D462,'اطلاعات افراد غیر حقوق بگیر'!A:A,'اطلاعات افراد غیر حقوق بگیر'!C:C)),LOOKUP(D462,Personnel!A:A,Personnel!B:B)))","v":" "},{"$f":"IF(D462=0,0,IF(ISNA(MATCH(D462,Personnel!A:A,0)),IF(ISNA(MATCH(D462,'اطلاعات افراد غیر حقوق بگیر'!A:A,0)),\"وجود ندارد\",LOOKUP(D462,'اطلاعات افراد غیر حقوق بگیر'!A:A,'اطلاعات افراد غیر حقوق بگیر'!D:D)),LOOKUP(D462,Master!D:D,Master!CD:CD)))","v":0},{"$f":"IF(D462=0,\" \",IF(ISNA(MATCH(D462,Personnel!A:A,0)),IF(ISNA(MATCH(D462,'اطلاعات افراد غیر حقوق بگیر'!A:A,0)),\"وجود ندارد\",LOOKUP(D462,'اطلاعات افراد غیر حقوق بگیر'!A:A,'اطلاعات افراد غیر حقوق بگیر'!E:E)),LOOKUP(D462,Master!D:D,Master!AH:AH)))","v":" "},{"$f":"SUMIFS(Pays!G:G,Pays!E:E,1,Pays!D:D,D462)","v":0},{"$f":"SUMIFS(Pays!G:G,Pays!E:E,2,Pays!D:D,D462)","v":0},{"$f":"SUMIFS(Pays!G:G,Pays!E:E,57,Pays!D:D,D462)","v":0},{"$f":"SUMIF(Pays!D:D,D462,Pays!G:G)","v":0},{"$f":"SUMIF(Pays!D:D,D462,Pays!G:G)/176","v":0},{"$f":"IF(M462=0,IF(ISNA(MATCH(D462,'اطلاعات افراد غیر حقوق بگیر'!A:A,0)),0,LOOKUP(D462,'اطلاعات افراد غیر حقوق بگیر'!A:A,'اطلاعات افراد غیر حقوق بگیر'!F:F)),IF(H462=31,Settings!$D$13,ROUND(M462,0)))","v":0},null,0,{"$f":"IF(ISNA(MATCH(D462,Master!D:D,0)),IF(ISNA(MATCH(D462,'اطلاعات افراد غیر حقوق بگیر'!A:A,0)),0,LOOKUP(D462,'اطلاعات افراد غیر حقوق بگیر'!A:A,'اطلاعات افراد غیر حقوق بگیر'!G:G)),LOOKUP(D462,Master!D:D,Master!J:J))","v":0},{"$error":"#N/A"},0,0,{"$f":"IF(O462>#REF!,\"اخطار ساعت اضافه کار از حداکثر بیشتر است\",\" \")","v":{"$error":"#REF!"}},{"$f":"IF(O462>#REF!,1,0)","v":{"$error":"#REF!"}}]
[460,{"$f":"IF(D463=0,\"\",Settings!$D$6)","v":""},{"$f":"IF(D463=0,\"\",LOOKUP(B463,'Rigion Code'!A:A,'Rigion Code'!B:B))","v":""},null,{"$f":"IF(D463=0,\" \",IF(ISNA(MATCH(D463,Personnel!A:A,0)),IF(ISNA(MATCH(D463,'اطلاعات افراد غیر حقوق بگیر'!A:A,0)),\"وجود ندارد\",LOOKUP(Edit!D463,'اطلاعات افراد غیر حقوق بگیر'!A:A,'اطلاعات افراد غیر حقوق بگیر'!B:B)),LOOKUP(D463,Personnel!A:A,Personnel!C:C)))","v":" "},{"$f":"IF(D463=0,\" \",IF(ISNA(MATCH(D463,Personnel!A:A,0)),IF(ISNA(MATCH(D463,'اطلاعات افراد غیر حقوق بگیر'!A:A,0)),\"وجود ندارد\",LOOKUP(D463,'اطلاعات افراد غیر حقوق بگیر'!A:A,'اطلاعات افراد غیر حقوق بگیر'!C:C)),LOOKUP(D463,Personnel!A:A,Personnel!B:B)))","v":" "},{"$f":"IF(D463=0,0,IF(ISNA(MATCH(D463,Personnel!A:A,0)),IF(ISNA(MATCH(D463,'اطلاعات افراد غیر حقوق بگیر'!A:A,0)),\"وجود ندارد\",LOOKUP(D463,'اطلاعات افراد غیر حقوق بگیر'!A:A,'اطلاعات افراد غیر حقوق بگیر'!D:D)),LOOKUP(D463,Master!D:D,Master!CD:CD)))","v":0},{"$f":"IF(D463=0,\" \",IF(ISNA(MATCH(D463,Personnel!A:A,0)),IF(ISNA(MATCH(D463,'اطلاعات افراد غیر حقوق بگیر'!A:A,0)),\"وجود ندارد\",LOOKUP(D463,'اطلاعات افراد غیر حقوق بگیر'!A:A,'اطلاعات افراد غیر حقوق بگیر'!E:E)),LOOKUP(D463,Master!D:D,Master!AH:AH)))","v":" "},{"$f":"SUMIFS(Pays!G:G,Pays!E:E,1,Pays!D:D,D463)","v":0},{"$f":"SUMIFS(Pays!G:G,Pays!E:E,2,Pays!D:D,D463)","v":0},{"$f":"SUMIFS(Pays!G:G,Pays!E:E,57,Pays!D:D,D463)","v":0},{"$f":"SUMIF(Pays!D:D,D463,Pays!G:G)","v":0},{"$f":"SUMIF(Pays!D:D,D463,Pays!G:G)/176","v":0},{"$f":"IF(M463=0,IF(ISNA(MATCH(D463,'اطلاعات افراد غیر حقوق بگیر'!A:A,0)),0,LOOKUP(D463,'اطلاعات افراد غیر حقوق بگیر'!A:A,'اطلاعات افراد غیر حقوق بگیر'!F:F)),IF(H463=31,Settings!$D$13,ROUND(M463,0)))","v":0},null,0,{"$f":"IF(ISNA(MATCH(D463,Master!D:D,0)),IF(ISNA(MATCH(D463,'اطلاعات افراد غیر حقوق بگیر'!A:A,0)),0,LOOKUP(D463,'اطلاعات افراد غیر حقوق بگیر'!A:A,'اطلاعات افراد غیر حقوق بگیر'!G:G)),LOOKUP(D463,Master!D:D,Master!J:J))","v":0},{"$error":"#N/A"},0,0,{"$f":"IF(O463>#REF!,\"اخطار ساعت اضافه کار از حداکثر بیشتر است\",\" \")","v":{"$error":"#REF!"}},{"$f":"IF(O463>#REF!,1,0)","v":{"$error":"#REF!"}}]
[461,{"$f":"IF(D464=0,\"\",Settings!$D$6)","v":""},{"$f":"IF(D464=0,\"\",LOOKUP(B464,'Rigion Code'!A:A,'Rigion Code'!B:B))","v":""},null,{"$f":"IF(D464=0,\" \",IF(ISNA(MATCH(D464,Personnel!A:A,0)),IF(ISNA(MATCH(D464,'اطلاعات افراد غیر حقوق بگیر'!A:A,0)),\"وجود ندارد\",LOOKUP(Edit!D464,'اطلاعات افراد غیر حقوق بگیر'!A:A,'اطلاعات افراد غیر حقوق بگیر'!B:B)),LOOKUP(D464,Personnel!A:A,Personnel!C:C)))","v":" "},{"$f":"IF(D464=0,\" \",IF(ISNA(MATCH(D464,Personnel!A:A,0)),IF(ISNA(MATCH(D464,'اطلاعات افراد غیر حقوق بگیر'!A:A,0)),\"وجود ندارد\",LOOKUP(D464,'اطلاعات افراد غیر حقوق بگیر'!A:A,'اطلاعات افراد غیر حقوق بگیر'!C:C)),LOOKUP(D464,Personnel!A:A,Personnel!B:B)))","v":" "},{"$f":"IF(D464=0,0,IF(ISNA(MATCH(D464,Personnel!A:A,0)),IF(ISNA(MATCH(D464,'اطلاعات افراد غیر حقوق بگیر'!A:A,0)),\"وجود ندارد\",LOOKUP(D464,'اطلاعات افراد غیر حقوق بگیر'!A:A,'اطلاعات افراد غیر حقوق بگیر'!D:D)),LOOKUP(D464,Master!D:D,Master!CD:CD)))","v":0},{"$f":"IF(D464=0,\" \",IF(ISNA(MATCH(D464,Personnel!A:A,0)),IF(ISNA(MATCH(D464,'اطلاعات افراد غیر حقوق بگیر'!A:A,0)),\"وجود ندارد\",LOOKUP(D464,'اطلاعات افراد غیر حقوق بگیر'!A:A,'اطلاعات افراد غیر حقوق بگیر'!E:E)),LOOKUP(D464,Master!D:D,Master!AH:AH)))","v":" "},{"$f":"SUMIFS(Pays!G:G,Pays!E:E,1,Pays!D:D,D464)","v":0},{"$f":"SUMIFS(Pays!G:G,Pays!E:E,2,Pays!D:D,D464)","v":0},{"$f":"SUMIFS(Pays!G:G,Pays!E:E,57,Pays!D:D,D464)","v":0},{"$f":"SUMIF(Pays!D:D,D464,Pays!G:G)","v":0},{"$f":"SUMIF(Pays!D:D,D464,Pays!G:G)/176","v":0},{"$f":"IF(M464=0,IF(ISNA(MATCH(D464,'اطلاعات افراد غیر حقوق بگیر'!A:A,0)),0,LOOKUP(D464,'اطلاعات افراد غیر حقوق بگیر'!A:A,'اطلاعات افراد غیر حقوق بگیر'!F:F)),IF(H464=31,Settings!$D$13,ROUND(M464,0)))","v":0},null,0,{"$f":"IF(ISNA(MATCH(D464,Master!D:D,0)),IF(ISNA(MATCH(D464,'اطلاعات افراد غیر حقوق بگیر'!A:A,0)),0,LOOKUP(D464,'اطلاعات افراد غیر حقوق بگیر'!A:A,'اطلاعات افراد غیر حقوق بگیر'!G:G)),LOOKUP(D464,Master!D:D,Master!J:J))","v":0},{"$error":"#N/A"},0,0,{"$f":"IF(O464>#REF!,\"اخطار ساعت اضافه کار از حداکثر بیشتر است\",\" \")","v":{"$error":"#REF!"}},{"$f":"IF(O464>#REF!,1,0)","v":{"$error":"#REF!"}}]
[462,{"$f":"IF(D465=0,\"\",Settings!$D$6)","v":""},{"$f":"IF(D465=0,\"\",LOOKUP(B465,'Rigion Code'!A:A,'Rigion Code'!B:B))","v":""},null,{"$f":"IF(D465=0,\" \",IF(ISNA(MATCH(D465,Personnel!A:A,0)),IF(ISNA(MATCH(D465,'اطلاعات افراد غیر حقوق بگیر'!A:A,0)),\"وجود ندارد\",LOOKUP(Edit!D465,'اطلاعات افراد غیر حقوق بگیر'!A:A,'اطلاعات افراد غیر حقوق بگیر'!B:B)),LOOKUP(D465,Personnel!A:A,Personnel!C:C)))","v":" "},{"$f":"IF(D465=0,\" \",IF(ISNA(MATCH(D465,Personnel!A:A,0)),IF(ISNA(MATCH(D465,'اطلاعات افراد غیر حقوق بگیر'!A:A,0)),\"وجود ندارد\",LOOKUP(D465,'اطلاعات افراد غیر حقوق بگیر'!A:A,'اطلاعات افراد غیر حقوق بگیر'!C:C)),LOOKUP(D465,Personnel!A:A,Personnel!B:B)))","v":" "},{"$f":"IF(D465=0,0,IF(ISNA(MATCH(D465,Personnel!A:A,0)),IF(ISNA(MATCH(D465,'اطلاعات افراد غیر حقوق بگیر'!A:A,0)),\"وجود ندارد\",LOOKUP(D465,'اطلاعات افراد غیر حقوق بگیر'!A:A,'اطلاعات افراد غیر حقوق بگیر'!D:D)),LOOKUP(D465,Master!D:D,Master!CD:CD)))","v":0},{"$f":"IF(D465=0,\" \",IF(ISNA(MATCH(D465,Personnel!A:A,0)),IF(ISNA(MATCH(D465,'اطلاعات افراد غیر حقوق بگیر'!A:A,0)),\"وجود ندارد\",LOOKUP(D465,'اطلاعات افراد غیر حقوق بگیر'!A:A,'اطلاعات افراد غیر حقوق بگیر'!E:E)),LOOKUP(D465,Master!D:D,Master!AH:AH)))","v":" "},{"$f":"SUMIFS(Pays!G:G,Pays!E:E,1,Pays!D:D,D465)","v":0},{"$f":"SUMIFS(Pays!G:G,Pays!E:E,2,Pays!D:D,D465)","v":0},{"$f":"SUMIFS(Pays!G:G,Pays!E:E,57,Pays!D:D,D465)","v":0},{"$f":"SUMIF(Pays!D:D,D465,Pays!G:G)","v":0},{"$f":"SUMIF(Pays!D:D,D465,Pays!G:G)/176","v":0},{"$f":"IF(M465=0,IF(ISNA(MATCH(D465,'اطلاعات افراد غیر حقوق بگیر'!A:A,0)),0,LOOKUP(D465,'اطلاعات افراد غیر حقوق بگیر'!A:A,'اطلاعات افراد غیر حقوق بگیر'!F:F)),IF(H465=31,Settings!$D$13,ROUND(M465,0)))","v":0},null,0,{"$f":"IF(ISNA(MATCH(D465,Master!D:D,0)),IF(ISNA(MATCH(D465,'اطلاعات افراد غیر حقوق بگیر'!A:A,0)),0,LOOKUP(D465,'اطلاعات افراد غیر حقوق بگیر'!A:A,'اطلاعات افراد غیر حقوق بگیر'!G:G)),LOOKUP(D465,Master!D:D,Master!J:J))","v":0},{"$error":"#N/A"},0,0,{"$f":"IF(O465>#REF!,\"اخطار ساعت اضافه کار از حداکثر بیشتر است\",\" \")","v":{"$error":"#REF!"}},{"$f":"IF(O465>#REF!,1,0)","v":{"$error":"#REF!"}}]
[463,{"$f":"IF(D466=0,\"\",Settings!$D$6)","v":""},{"$f":"IF(D466=0,\"\",LOOKUP(B466,'Rigion Code'!A:A,'Rigion Code'!B:B))","v":""},null,{"$f":"IF(D466=0,\" \",IF(ISNA(MATCH(D466,Personnel!A:A,0)),IF(ISNA(MATCH(D466,'اطلاعات افراد غیر حقوق بگیر'!A:A,0)),\"وجود ندارد\",LOOKUP(Edit!D466,'اطلاعات افراد غیر حقوق بگیر'!A:A,'اطلاعات افراد غیر حقوق بگیر'!B:B)),LOOKUP(D466,Personnel!A:A,Personnel!C:C)))","v":" "},{"$f":"IF(D466=0,\" \",IF(ISNA(MATCH(D466,Personnel!A:A,0)),IF(ISNA(MATCH(D466,'اطلاعات افراد غیر حقوق بگیر'!A:A,0)),\"وجود ندارد\",LOOKUP(D466,'اطلاعات افراد غیر حقوق بگیر'!A:A,'اطلاعات افراد غیر حقوق بگیر'!C:C)),LOOKUP(D466,Personnel!A:A,Personnel!B:B)))","v":" "},{"$f":"IF(D466=0,0,IF(ISNA(MATCH(D466,Personnel!A:A,0)),IF(ISNA(MATCH(D466,'اطلاعات افراد غیر حقوق بگیر'!A:A,0)),\"وجود ندارد\",LOOKUP(D466,'اطلاعات افراد غیر حقوق بگیر'!A:A,'اطلاعات افراد غیر حقوق بگیر'!D:D)),LOOKUP(D466,Master!D:D,Master!CD:CD)))","v":0},{"$f":"IF(D466=0,\" \",IF(ISNA(MATCH(D466,Personnel!A:A,0)),IF(ISNA(MATCH(D466,'اطلاعات افراد غیر حقوق بگیر'!A:A,0)),\"وجود ندارد\",LOOKUP(D466,'اطلاعات افراد غیر حقوق بگیر'!A:A,'اطلاعات افراد غیر حقوق بگیر'!E:E)),LOOKUP(D466,Master!D:D,Master!AH:AH)))","v":" "},{"$f":"SUMIFS(Pays!G:G,Pays!E:E,1,Pays!D:D,D466)","v":0},{"$f":"SUMIFS(Pays!G:G,Pays!E:E,2,Pays!D:D,D466)","v":0},{"$f":"SUMIFS(Pays!G:G,Pays!E:E,57,Pays!D:D,D466)","v":0},{"$f":"SUMIF(Pays!D:D,D466,Pays!G:G)","v":0},{"$f":"SUMIF(Pays!D:D,D466,Pays!G:G)/176","v":0},{"$f":"IF(M466=0,IF(ISNA(MATCH(D466,'اطلاعات افراد غیر حقوق بگیر'!A:A,0)),0,LOOKUP(D466,'اطلاعات افراد غیر حقوق بگیر'!A:A,'اطلاعات افراد غیر حقوق بگیر'!F:F)),IF(H466=31,Settings!$D$13,ROUND(M466,0)))","v":0},null,0,{"$f":"IF(ISNA(MATCH(D466,Master!D:D,0)),IF(ISNA(MATCH(D466,'اطلاعات افراد غیر حقوق بگیر'!A:A,0)),0,LOOKUP(D466,'اطلاعات افراد غیر حقوق بگیر'!A:A,'اطلاعات افراد غیر حقوق بگیر'!G:G)),LOOKUP(D466,Master!D:D,Master!J:J))","v":0},{"$error":"#N/A"},0,0,{"$f":"IF(O466>#REF!,\"اخطار ساعت اضافه کار از حداکثر بیشتر است\",\" \")","v":{"$error":"#REF!"}},{"$f":"IF(O466>#REF!,1,0)","v":{"$error":"#REF!"}}]
[464,{"$f":"IF(D467=0,\"\",Settings!$D$6)","v":""},{"$f":"IF(D467=0,\"\",LOOKUP(B467,'Rigion Code'!A:A,'Rigion Code'!B:B))","v":""},null,{"$f":"IF(D467=0,\" \",IF(ISNA(MATCH(D467,Personnel!A:A,0)),IF(ISNA(MATCH(D467,'اطلاعات افراد غیر حقوق بگیر'!A:A,0)),\"وجود ندارد\",LOOKUP(Edit!D467,'اطلاعات افراد غیر حقوق بگیر'!A:A,'اطلاعات افراد غیر حقوق بگیر'!B:B)),LOOKUP(D467,Personnel!A:A,Personnel!C:C)))","v":" "},{"$f":"IF(D467=0,\" \",IF(ISNA(MATCH(D467,Personnel!A:A,0)),IF(ISNA(MATCH(D467,'اطلاعات افراد غیر حقوق بگیر'!A:A,0)),\"وجود ندارد\",LOOKUP(D467,'اطلاعات افراد غیر حقوق بگیر'!A:A,'اطلاعات افراد غیر حقوق بگیر'!C:C)),LOOKUP(D467,Personnel!A:A,Personnel!B:B)))","v":" "},{"$f":"IF(D467=0,0,IF(ISNA(MATCH(D467,Personnel!A:A,0)),IF(ISNA(MATCH(D467,'اطلاعات افراد غیر حقوق بگیر'!A:A,0)),\"وجود ندارد\",LOOKUP(D467,'اطلاعات افراد غیر حقوق بگیر'!A:A,'اطلاعات افراد غیر حقوق بگیر'!D:D)),LOOKUP(D467,Master!D:D,Master!CD:CD)))","v":0},{"$f":"IF(D467=0,\" \",IF(ISNA(MATCH(D467,Personnel!A:A,0)),IF(ISNA(MATCH(D467,'اطلاعات افراد غیر حقوق بگیر'!A:A,0)),\"وجود ندارد\",LOOKUP(D467,'اطلاعات افراد غیر حقوق بگیر'!A:A,'اطلاعات افراد غیر حقوق بگیر'!E:E)),LOOKUP(D467,Master!D:D,Master!AH:AH)))","v":" "},{"$f":"SUMIFS(Pays!G:G,Pays!E:E,1,Pays!D:D,D467)","v":0},{"$f":"SUMIFS(Pays!G:G,Pays!E:E,2,Pays!D:D,D467)","v":0},{"$f":"SUMIFS(Pays!G:G,Pays!E:E,57,Pays!D:D,D467)","v":0},{"$f":"SUMIF(Pays!D:D,D467,Pays!G:G)","v":0},{"$f":"SUMIF(Pays!D:D,D467,Pays!G:G)/176","v":0},{"$f":"IF(M467=0,IF(ISNA(MATCH(D467,'اطلاعات افراد غیر حقوق بگیر'!A:A,0)),0,LOOKUP(D467,'اطلاعات افراد غیر حقوق بگیر'!A:A,'اطلاعات افراد غیر حقوق بگیر'!F:F)),IF(H467=31,Settings!$D$13,ROUND(M467,0)))","v":0},null,0,{"$f":"IF(ISNA(MATCH(D467,Master!D:D,0)),IF(ISNA(MATCH(D467,'اطلاعات افراد غیر حقوق بگیر'!A:A,0)),0,LOOKUP(D467,'اطلاعات افراد غیر حقوق بگیر'!A:A,'اطلاعات افراد غیر حقوق بگیر'!G:G)),LOOKUP(D467,Master!D:D,Master!J:J))","v":0},{"$error":"#N/A"},0,0,{"$f":"IF(O467>#REF!,\"اخطار ساعت اضافه کار از حداکثر بیشتر است\",\" \")","v":{"$error":"#REF!"}},{"$f":"IF(O467>#REF!,1,0)","v":{"$error":"#REF!"}}]
[465,{"$f":"IF(D468=0,\"\",Settings!$D$6)","v":""},{"$f":"IF(D468=0,\"\",LOOKUP(B468,'Rigion Code'!A:A,'Rigion Code'!B:B))","v":""},null,{"$f":"IF(D468=0,\" \",IF(ISNA(MATCH(D468,Personnel!A:A,0)),IF(ISNA(MATCH(D468,'اطلاعات افراد غیر حقوق بگیر'!A:A,0)),\"وجود ندارد\",LOOKUP(Edit!D468,'اطلاعات افراد غیر حقوق بگیر'!A:A,'اطلاعات افراد غیر حقوق بگیر'!B:B)),LOOKUP(D468,Personnel!A:A,Personnel!C:C)))","v":" "},{"$f":"IF(D468=0,\" \",IF(ISNA(MATCH(D468,Personnel!A:A,0)),IF(ISNA(MATCH(D468,'اطلاعات افراد غیر حقوق بگیر'!A:A,0)),\"وجود ندارد\",LOOKUP(D468,'اطلاعات افراد غیر حقوق بگیر'!A:A,'اطلاعات افراد غیر حقوق بگیر'!C:C)),LOOKUP(D468,Personnel!A:A,Personnel!B:B)))","v":" "},{"$f":"IF(D468=0,0,IF(ISNA(MATCH(D468,Personnel!A:A,0)),IF(ISNA(MATCH(D468,'اطلاعات افراد غیر حقوق بگیر'!A:A,0)),\"وجود ندارد\",LOOKUP(D468,'اطلاعات افراد غیر حقوق بگیر'!A:A,'اطلاعات افراد غیر حقوق بگیر'!D:D)),LOOKUP(D468,Master!D:D,Master!CD:CD)))","v":0},{"$f":"IF(D468=0,\" \",IF(ISNA(MATCH(D468,Personnel!A:A,0)),IF(ISNA(MATCH(D468,'اطلاعات افراد غیر حقوق بگیر'!A:A,0)),\"وجود ندارد\",LOOKUP(D468,'اطلاعات افراد غیر حقوق بگیر'!A:A,'اطلاعات افراد غیر حقوق بگیر'!E:E)),LOOKUP(D468,Master!D:D,Master!AH:AH)))","v":" "},{"$f":"SUMIFS(Pays!G:G,Pays!E:E,1,Pays!D:D,D468)","v":0},{"$f":"SUMIFS(Pays!G:G,Pays!E:E,2,Pays!D:D,D468)","v":0},{"$f":"SUMIFS(Pays!G:G,Pays!E:E,57,Pays!D:D,D468)","v":0},{"$f":"SUMIF(Pays!D:D,D468,Pays!G:G)","v":0},{"$f":"SUMIF(Pays!D:D,D468,Pays!G:G)/176","v":0},{"$f":"IF(M468=0,IF(ISNA(MATCH(D468,'اطلاعات افراد غیر حقوق بگیر'!A:A,0)),0,LOOKUP(D468,'اطلاعات افراد غیر حقوق بگیر'!A:A,'اطلاعات افراد غیر حقوق بگیر'!F:F)),IF(H468=31,Settings!$D$13,ROUND(M468,0)))","v":0},null,0,{"$f":"IF(ISNA(MATCH(D468,Master!D:D,0)),IF(ISNA(MATCH(D468,'اطلاعات افراد غیر حقوق بگیر'!A:A,0)),0,LOOKUP(D468,'اطلاعات افراد غیر حقوق بگیر'!A:A,'اطلاعات افراد غیر حقوق بگیر'!G:G)),LOOKUP(D468,Master!D:D,Master!J:J))","v":0},{"$error":"#N/A"},0,0,{"$f":"IF(O468>#REF!,\"اخطار ساعت اضافه کار از حداکثر بیشتر است\",\" \")","v":{"$error":"#REF!"}},{"$f":"IF(O468>#REF!,1,0)","v":{"$error":"#REF!"}}]
[466,{"$f":"IF(D469=0,\"\",Settings!$D$6)","v":""},{"$f":"IF(D469=0,\"\",LOOKUP(B469,'Rigion Code'!A:A,'Rigion Code'!B:B))","v":""},null,{"$f":"IF(D469=0,\" \",IF(ISNA(MATCH(D469,Personnel!A:A,0)),IF(ISNA(MATCH(D469,'اطلاعات افراد غیر حقوق بگیر'!A:A,0)),\"وجود ندارد\",LOOKUP(Edit!D469,'اطلاعات افراد غیر حقوق بگیر'!A:A,'اطلاعات افراد غیر حقوق بگیر'!B:B)),LOOKUP(D469,Personnel!A:A,Personnel!C:C)))","v":" "},{"$f":"IF(D469=0,\" \",IF(ISNA(MATCH(D469,Personnel!A:A,0)),IF(ISNA(MATCH(D469,'اطلاعات افراد غیر حقوق بگیر'!A:A,0)),\"وجود ندارد\",LOOKUP(D469,'اطلاعات افراد غیر حقوق بگیر'!A:A,'اطلاعات افراد غیر حقوق بگیر'!C:C)),LOOKUP(D469,Personnel!A:A,Personnel!B:B)))","v":" "},{"$f":"IF(D469=0,0,IF(ISNA(MATCH(D469,Personnel!A:A,0)),IF(ISNA(MATCH(D469,'اطلاعات افراد غیر حقوق بگیر'!A:A,0)),\"وجود ندارد\",LOOKUP(D469,'اطلاعات افراد غیر حقوق بگیر'!A:A,'اطلاعات افراد غیر حقوق بگیر'!D:D)),LOOKUP(D469,Master!D:D,Master!CD:CD)))","v":0},{"$f":"IF(D469=0,\" \",IF(ISNA(MATCH(D469,Personnel!A:A,0)),IF(ISNA(MATCH(D469,'اطلاعات افراد غیر حقوق بگیر'!A:A,0)),\"وجود ندارد\",LOOKUP(D469,'اطلاعات افراد غیر حقوق بگیر'!A:A,'اطلاعات افراد غیر حقوق بگیر'!E:E)),LOOKUP(D469,Master!D:D,Master!AH:AH)))","v":" "},{"$f":"SUMIFS(Pays!G:G,Pays!E:E,1,Pays!D:D,D469)","v":0},{"$f":"SUMIFS(Pays!G:G,Pays!E:E,2,Pays!D:D,D469)","v":0},{"$f":"SUMIFS(Pays!G:G,Pays!E:E,57,Pays!D:D,D469)","v":0},{"$f":"SUMIF(Pays!D:D,D469,Pays!G:G)","v":0},{"$f":"SUMIF(Pays!D:D,D469,Pays!G:G)/176","v":0},{"$f":"IF(M469=0,IF(ISNA(MATCH(D469,'اطلاعات افراد غیر حقوق بگیر'!A:A,0)),0,LOOKUP(D469,'اطلاعات افراد غیر حقوق بگیر'!A:A,'اطلاعات افراد غیر حقوق بگیر'!F:F)),IF(H469=31,Settings!$D$13,ROUND(M469,0)))","v":0},null,0,{"$f":"IF(ISNA(MATCH(D469,Master!D:D,0)),IF(ISNA(MATCH(D469,'اطلاعات افراد غیر حقوق بگیر'!A:A,0)),0,LOOKUP(D469,'اطلاعات افراد غیر حقوق بگیر'!A:A,'اطلاعات افراد غیر حقوق بگیر'!G:G)),LOOKUP(D469,Master!D:D,Master!J:J))","v":0},{"$error":"#N/A"},0,0,{"$f":"IF(O469>#REF!,\"اخطار ساعت اضافه کار از حداکثر بیشتر است\",\" \")","v":{"$error":"#REF!"}},{"$f":"IF(O469>#REF!,1,0)","v":{"$error":"#REF!"}}]
[467,{"$f":"IF(D470=0,\"\",Settings!$D$6)","v":""},{"$f":"IF(D470=0,\"\",LOOKUP(B470,'Rigion Code'!A:A,'Rigion Code'!B:B))","v":""},null,{"$f":"IF(D470=0,\" \",IF(ISNA(MATCH(D470,Personnel!A:A,0)),IF(ISNA(MATCH(D470,'اطلاعات افراد غیر حقوق بگیر'!A:A,0)),\"وجود ندارد\",LOOKUP(Edit!D470,'اطلاعات افراد غیر حقوق بگیر'!A:A,'اطلاعات افراد غیر حقوق بگیر'!B:B)),LOOKUP(D470,Personnel!A:A,Personnel!C:C)))","v":" "},{"$f":"IF(D470=0,\" \",IF(ISNA(MATCH(D470,Personnel!A:A,0)),IF(ISNA(MATCH(D470,'اطلاعات افراد غیر حقوق بگیر'!A:A,0)),\"وجود ندارد\",LOOKUP(D470,'اطلاعات افراد غیر حقوق بگیر'!A:A,'اطلاعات افراد غیر حقوق بگیر'!C:C)),LOOKUP(D470,Personnel!A:A,Personnel!B:B)))","v":" "},{"$f":"IF(D470=0,0,IF(ISNA(MATCH(D470,Personnel!A:A,0)),IF(ISNA(MATCH(D470,'اطلاعات افراد غیر حقوق بگیر'!A:A,0)),\"وجود ندارد\",LOOKUP(D470,'اطلاعات افراد غیر حقوق بگیر'!A:A,'اطلاعات افراد غیر حقوق بگیر'!D:D)),LOOKUP(D470,Master!D:D,Master!CD:CD)))","v":0},{"$f":"IF(D470=0,\" \",IF(ISNA(MATCH(D470,Personnel!A:A,0)),IF(ISNA(MATCH(D470,'اطلاعات افراد غیر حقوق بگیر'!A:A,0)),\"وجود ندارد\",LOOKUP(D470,'اطلاعات افراد غیر حقوق بگیر'!A:A,'اطلاعات افراد غیر حقوق بگیر'!E:E)),LOOKUP(D470,Master!D:D,Master!AH:AH)))","v":" "},{"$f":"SUMIFS(Pays!G:G,Pays!E:E,1,Pays!D:D,D470)","v":0},{"$f":"SUMIFS(Pays!G:G,Pays!E:E,2,Pays!D:D,D470)","v":0},{"$f":"SUMIFS(Pays!G:G,Pays!E:E,57,Pays!D:D,D470)","v":0},{"$f":"SUMIF(Pays!D:D,D470,Pays!G:G)","v":0},{"$f":"SUMIF(Pays!D:D,D470,Pays!G:G)/176","v":0},{"$f":"IF(M470=0,IF(ISNA(MATCH(D470,'اطلاعات افراد غیر حقوق بگیر'!A:A,0)),0,LOOKUP(D470,'اطلاعات افراد غیر حقوق بگیر'!A:A,'اطلاعات افراد غیر حقوق بگیر'!F:F)),IF(H470=31,Settings!$D$13,ROUND(M470,0)))","v":0},null,0,{"$f":"IF(ISNA(MATCH(D470,Master!D:D,0)),IF(ISNA(MATCH(D470,'اطلاعات افراد غیر حقوق بگیر'!A:A,0)),0,LOOKUP(D470,'اطلاعات افراد غیر حقوق بگیر'!A:A,'اطلاعات افراد غیر حقوق بگیر'!G:G)),LOOKUP(D470,Master!D:D,Master!J:J))","v":0},{"$error":"#N/A"},0,0,{"$f":"IF(O470>#REF!,\"اخطار ساعت اضافه کار از حداکثر بیشتر است\",\" \")","v":{"$error":"#REF!"}},{"$f":"IF(O470>#REF!,1,0)","v":{"$error":"#REF!"}}]
[468,{"$f":"IF(D471=0,\"\",Settings!$D$6)","v":""},{"$f":"IF(D471=0,\"\",LOOKUP(B471,'Rigion Code'!A:A,'Rigion Code'!B:B))","v":""},null,{"$f":"IF(D471=0,\" \",IF(ISNA(MATCH(D471,Personnel!A:A,0)),IF(ISNA(MATCH(D471,'اطلاعات افراد غیر حقوق بگیر'!A:A,0)),\"وجود ندارد\",LOOKUP(Edit!D471,'اطلاعات افراد غیر حقوق بگیر'!A:A,'اطلاعات افراد غیر حقوق بگیر'!B:B)),LOOKUP(D471,Personnel!A:A,Personnel!C:C)))","v":" "},{"$f":"IF(D471=0,\" \",IF(ISNA(MATCH(D471,Personnel!A:A,0)),IF(ISNA(MATCH(D471,'اطلاعات افراد غیر حقوق بگیر'!A:A,0)),\"وجود ندارد\",LOOKUP(D471,'اطلاعات افراد غیر حقوق بگیر'!A:A,'اطلاعات افراد غیر حقوق بگیر'!C:C)),LOOKUP(D471,Personnel!A:A,Personnel!B:B)))","v":" "},{"$f":"IF(D471=0,0,IF(ISNA(MATCH(D471,Personnel!A:A,0)),IF(ISNA(MATCH(D471,'اطلاعات افراد غیر حقوق بگیر'!A:A,0)),\"وجود ندارد\",LOOKUP(D471,'اطلاعات افراد غیر حقوق بگیر'!A:A,'اطلاعات افراد غیر حقوق بگیر'!D:D)),LOOKUP(D471,Master!D:D,Master!CD:CD)))","v":0},{"$f":"IF(D471=0,\" \",IF(ISNA(MATCH(D471,Personnel!A:A,0)),IF(ISNA(MATCH(D471,'اطلاعات افراد غیر حقوق بگیر'!A:A,0)),\"وجود ندارد\",LOOKUP(D471,'اطلاعات افراد غیر حقوق بگیر'!A:A,'اطلاعات افراد غیر حقوق بگیر'!E:E)),LOOKUP(D471,Master!D:D,Master!AH:AH)))","v":" "},{"$f":"SUMIFS(Pays!G:G,Pays!E:E,1,Pays!D:D,D471)","v":0},{"$f":"SUMIFS(Pays!G:G,Pays!E:E,2,Pays!D:D,D471)","v":0},{"$f":"SUMIFS(Pays!G:G,Pays!E:E,57,Pays!D:D,D471)","v":0},{"$f":"SUMIF(Pays!D:D,D471,Pays!G:G)","v":0},{"$f":"SUMIF(Pays!D:D,D471,Pays!G:G)/176","v":0},{"$f":"IF(M471=0,IF(ISNA(MATCH(D471,'اطلاعات افراد غیر حقوق بگیر'!A:A,0)),0,LOOKUP(D471,'اطلاعات افراد غیر حقوق بگیر'!A:A,'اطلاعات افراد غیر حقوق بگیر'!F:F)),IF(H471=31,Settings!$D$13,ROUND(M471,0)))","v":0},null,0,{"$f":"IF(ISNA(MATCH(D471,Master!D:D,0)),IF(ISNA(MATCH(D471,'اطلاعات افراد غیر حقوق بگیر'!A:A,0)),0,LOOKUP(D471,'اطلاعات افراد غیر حقوق بگیر'!A:A,'اطلاعات افراد غیر حقوق بگیر'!G:G)),LOOKUP(D471,Master!D:D,Master!J:J))","v":0},{"$error":"#N/A"},0,0,{"$f":"IF(O471>#REF!,\"اخطار ساعت اضافه کار از حداکثر بیشتر است\",\" \")","v":{"$error":"#REF!"}},{"$f":"IF(O471>#REF!,1,0)","v":{"$error":"#REF!"}}]
[469,{"$f":"IF(D472=0,\"\",Settings!$D$6)","v":""},{"$f":"IF(D472=0,\"\",LOOKUP(B472,'Rigion Code'!A:A,'Rigion Code'!B:B))","v":""},null,{"$f":"IF(D472=0,\" \",IF(ISNA(MATCH(D472,Personnel!A:A,0)),IF(ISNA(MATCH(D472,'اطلاعات افراد غیر حقوق بگیر'!A:A,0)),\"وجود ندارد\",LOOKUP(Edit!D472,'اطلاعات افراد غیر حقوق بگیر'!A:A,'اطلاعات افراد غیر حقوق بگیر'!B:B)),LOOKUP(D472,Personnel!A:A,Personnel!C:C)))","v":" "},{"$f":"IF(D472=0,\" \",IF(ISNA(MATCH(D472,Personnel!A:A,0)),IF(ISNA(MATCH(D472,'اطلاعات افراد غیر حقوق بگیر'!A:A,0)),\"وجود ندارد\",LOOKUP(D472,'اطلاعات افراد غیر حقوق بگیر'!A:A,'اطلاعات افراد غیر حقوق بگیر'!C:C)),LOOKUP(D472,Personnel!A:A,Personnel!B:B)))","v":" "},{"$f":"IF(D472=0,0,IF(ISNA(MATCH(D472,Personnel!A:A,0)),IF(ISNA(MATCH(D472,'اطلاعات افراد غیر حقوق بگیر'!A:A,0)),\"وجود ندارد\",LOOKUP(D472,'اطلاعات افراد غیر حقوق بگیر'!A:A,'اطلاعات افراد غیر حقوق بگیر'!D:D)),LOOKUP(D472,Master!D:D,Master!CD:CD)))","v":0},{"$f":"IF(D472=0,\" \",IF(ISNA(MATCH(D472,Personnel!A:A,0)),IF(ISNA(MATCH(D472,'اطلاعات افراد غیر حقوق بگیر'!A:A,0)),\"وجود ندارد\",LOOKUP(D472,'اطلاعات افراد غیر حقوق بگیر'!A:A,'اطلاعات افراد غیر حقوق بگیر'!E:E)),LOOKUP(D472,Master!D:D,Master!AH:AH)))","v":" "},{"$f":"SUMIFS(Pays!G:G,Pays!E:E,1,Pays!D:D,D472)","v":0},{"$f":"SUMIFS(Pays!G:G,Pays!E:E,2,Pays!D:D,D472)","v":0},{"$f":"SUMIFS(Pays!G:G,Pays!E:E,57,Pays!D:D,D472)","v":0},{"$f":"SUMIF(Pays!D:D,D472,Pays!G:G)","v":0},{"$f":"SUMIF(Pays!D:D,D472,Pays!G:G)/176","v":0},{"$f":"IF(M472=0,IF(ISNA(MATCH(D472,'اطلاعات افراد غیر حقوق بگیر'!A:A,0)),0,LOOKUP(D472,'اطلاعات افراد غیر حقوق بگیر'!A:A,'اطلاعات افراد غیر حقوق بگیر'!F:F)),IF(H472=31,Settings!$D$13,ROUND(M472,0)))","v":0},null,0,{"$f":"IF(ISNA(MATCH(D472,Master!D:D,0)),IF(ISNA(MATCH(D472,'اطلاعات افراد غیر حقوق بگیر'!A:A,0)),0,LOOKUP(D472,'اطلاعات افراد غیر حقوق بگیر'!A:A,'اطلاعات افراد غیر حقوق بگیر'!G:G)),LOOKUP(D472,Master!D:D,Master!J:J))","v":0},{"$error":"#N/A"},0,0,{"$f":"IF(O472>#REF!,\"اخطار ساعت اضافه کار از حداکثر بیشتر است\",\" \")","v":{"$error":"#REF!"}},{"$f":"IF(O472>#REF!,1,0)","v":{"$error":"#REF!"}}]
[470,{"$f":"IF(D473=0,\"\",Settings!$D$6)","v":""},{"$f":"IF(D473=0,\"\",LOOKUP(B473,'Rigion Code'!A:A,'Rigion Code'!B:B))","v":""},null,{"$f":"IF(D473=0,\" \",IF(ISNA(MATCH(D473,Personnel!A:A,0)),IF(ISNA(MATCH(D473,'اطلاعات افراد غیر حقوق بگیر'!A:A,0)),\"وجود ندارد\",LOOKUP(Edit!D473,'اطلاعات افراد غیر حقوق بگیر'!A:A,'اطلاعات افراد غیر حقوق بگیر'!B:B)),LOOKUP(D473,Personnel!A:A,Personnel!C:C)))","v":" "},{"$f":"IF(D473=0,\" \",IF(ISNA(MATCH(D473,Personnel!A:A,0)),IF(ISNA(MATCH(D473,'اطلاعات افراد غیر حقوق بگیر'!A:A,0)),\"وجود ندارد\",LOOKUP(D473,'اطلاعات افراد غیر حقوق بگیر'!A:A,'اطلاعات افراد غیر حقوق بگیر'!C:C)),LOOKUP(D473,Personnel!A:A,Personnel!B:B)))","v":" "},{"$f":"IF(D473=0,0,IF(ISNA(MATCH(D473,Personnel!A:A,0)),IF(ISNA(MATCH(D473,'اطلاعات افراد غیر حقوق بگیر'!A:A,0)),\"وجود ندارد\",LOOKUP(D473,'اطلاعات افراد غیر حقوق بگیر'!A:A,'اطلاعات افراد غیر حقوق بگیر'!D:D)),LOOKUP(D473,Master!D:D,Master!CD:CD)))","v":0},{"$f":"IF(D473=0,\" \",IF(ISNA(MATCH(D473,Personnel!A:A,0)),IF(ISNA(MATCH(D473,'اطلاعات افراد غیر حقوق بگیر'!A:A,0)),\"وجود ندارد\",LOOKUP(D473,'اطلاعات افراد غیر حقوق بگیر'!A:A,'اطلاعات افراد غیر حقوق بگیر'!E:E)),LOOKUP(D473,Master!D:D,Master!AH:AH)))","v":" "},{"$f":"SUMIFS(Pays!G:G,Pays!E:E,1,Pays!D:D,D473)","v":0},{"$f":"SUMIFS(Pays!G:G,Pays!E:E,2,Pays!D:D,D473)","v":0},{"$f":"SUMIFS(Pays!G:G,Pays!E:E,57,Pays!D:D,D473)","v":0},{"$f":"SUMIF(Pays!D:D,D473,Pays!G:G)","v":0},{"$f":"SUMIF(Pays!D:D,D473,Pays!G:G)/176","v":0},{"$f":"IF(M473=0,IF(ISNA(MATCH(D473,'اطلاعات افراد غیر حقوق بگیر'!A:A,0)),0,LOOKUP(D473,'اطلاعات افراد غیر حقوق بگیر'!A:A,'اطلاعات افراد غیر حقوق بگیر'!F:F)),IF(H473=31,Settings!$D$13,ROUND(M473,0)))","v":0},null,0,{"$f":"IF(ISNA(MATCH(D473,Master!D:D,0)),IF(ISNA(MATCH(D473,'اطلاعات افراد غیر حقوق بگیر'!A:A,0)),0,LOOKUP(D473,'اطلاعات افراد غیر حقوق بگیر'!A:A,'اطلاعات افراد غیر حقوق بگیر'!G:G)),LOOKUP(D473,Master!D:D,Master!J:J))","v":0},{"$error":"#N/A"},0,0,{"$f":"IF(O473>#REF!,\"اخطار ساعت اضافه کار از حداکثر بیشتر است\",\" \")","v":{"$error":"#REF!"}},{"$f":"IF(O473>#REF!,1,0)","v":{"$error":"#REF!"}}]
[471,{"$f":"IF(D474=0,\"\",Settings!$D$6)","v":""},{"$f":"IF(D474=0,\"\",LOOKUP(B474,'Rigion Code'!A:A,'Rigion Code'!B:B))","v":""},null,{"$f":"IF(D474=0,\" \",IF(ISNA(MATCH(D474,Personnel!A:A,0)),IF(ISNA(MATCH(D474,'اطلاعات افراد غیر حقوق بگیر'!A:A,0)),\"وجود ندارد\",LOOKUP(Edit!D474,'اطلاعات افراد غیر حقوق بگیر'!A:A,'اطلاعات افراد غیر حقوق بگیر'!B:B)),LOOKUP(D474,Personnel!A:A,Personnel!C:C)))","v":" "},{"$f":"IF(D474=0,\" \",IF(ISNA(MATCH(D474,Personnel!A:A,0)),IF(ISNA(MATCH(D474,'اطلاعات افراد غیر حقوق بگیر'!A:A,0)),\"وجود ندارد\",LOOKUP(D474,'اطلاعات افراد غیر حقوق بگیر'!A:A,'اطلاعات افراد غیر حقوق بگیر'!C:C)),LOOKUP(D474,Personnel!A:A,Personnel!B:B)))","v":" "},{"$f":"IF(D474=0,0,IF(ISNA(MATCH(D474,Personnel!A:A,0)),IF(ISNA(MATCH(D474,'اطلاعات افراد غیر حقوق بگیر'!A:A,0)),\"وجود ندارد\",LOOKUP(D474,'اطلاعات افراد غیر حقوق بگیر'!A:A,'اطلاعات افراد غیر حقوق بگیر'!D:D)),LOOKUP(D474,Master!D:D,Master!CD:CD)))","v":0},{"$f":"IF(D474=0,\" \",IF(ISNA(MATCH(D474,Personnel!A:A,0)),IF(ISNA(MATCH(D474,'اطلاعات افراد غیر حقوق بگیر'!A:A,0)),\"وجود ندارد\",LOOKUP(D474,'اطلاعات افراد غیر حقوق بگیر'!A:A,'اطلاعات افراد غیر حقوق بگیر'!E:E)),LOOKUP(D474,Master!D:D,Master!AH:AH)))","v":" "},{"$f":"SUMIFS(Pays!G:G,Pays!E:E,1,Pays!D:D,D474)","v":0},{"$f":"SUMIFS(Pays!G:G,Pays!E:E,2,Pays!D:D,D474)","v":0},{"$f":"SUMIFS(Pays!G:G,Pays!E:E,57,Pays!D:D,D474)","v":0},{"$f":"SUMIF(Pays!D:D,D474,Pays!G:G)","v":0},{"$f":"SUMIF(Pays!D:D,D474,Pays!G:G)/176","v":0},{"$f":"IF(M474=0,IF(ISNA(MATCH(D474,'اطلاعات افراد غیر حقوق بگیر'!A:A,0)),0,LOOKUP(D474,'اطلاعات افراد غیر حقوق بگیر'!A:A,'اطلاعات افراد غیر حقوق بگیر'!F:F)),IF(H474=31,Settings!$D$13,ROUND(M474,0)))","v":0},null,0,{"$f":"IF(ISNA(MATCH(D474,Master!D:D,0)),IF(ISNA(MATCH(D474,'اطلاعات افراد غیر حقوق بگیر'!A:A,0)),0,LOOKUP(D474,'اطلاعات افراد غیر حقوق بگیر'!A:A,'اطلاعات افراد غیر حقوق بگیر'!G:G)),LOOKUP(D474,Master!D:D,Master!J:J))","v":0},{"$error":"#N/A"},0,0,{"$f":"IF(O474>#REF!,\"اخطار ساعت اضافه کار از حداکثر بیشتر است\",\" \")","v":{"$error":"#REF!"}},{"$f":"IF(O474>#REF!,1,0)","v":{"$error":"#REF!"}}]
[472,{"$f":"IF(D475=0,\"\",Settings!$D$6)","v":""},{"$f":"IF(D475=0,\"\",LOOKUP(B475,'Rigion Code'!A:A,'Rigion Code'!B:B))","v":""},null,{"$f":"IF(D475=0,\" \",IF(ISNA(MATCH(D475,Personnel!A:A,0)),IF(ISNA(MATCH(D475,'اطلاعات افراد غیر حقوق بگیر'!A:A,0)),\"وجود ندارد\",LOOKUP(Edit!D475,'اطلاعات افراد غیر حقوق بگیر'!A:A,'اطلاعات افراد غیر حقوق بگیر'!B:B)),LOOKUP(D475,Personnel!A:A,Personnel!C:C)))","v":" "},{"$f":"IF(D475=0,\" \",IF(ISNA(MATCH(D475,Personnel!A:A,0)),IF(ISNA(MATCH(D475,'اطلاعات افراد غیر حقوق بگیر'!A:A,0)),\"وجود ندارد\",LOOKUP(D475,'اطلاعات افراد غیر حقوق بگیر'!A:A,'اطلاعات افراد غیر حقوق بگیر'!C:C)),LOOKUP(D475,Personnel!A:A,Personnel!B:B)))","v":" "},{"$f":"IF(D475=0,0,IF(ISNA(MATCH(D475,Personnel!A:A,0)),IF(ISNA(MATCH(D475,'اطلاعات افراد غیر حقوق بگیر'!A:A,0)),\"وجود ندارد\",LOOKUP(D475,'اطلاعات افراد غیر حقوق بگیر'!A:A,'اطلاعات افراد غیر حقوق بگیر'!D:D)),LOOKUP(D475,Master!D:D,Master!CD:CD)))","v":0},{"$f":"IF(D475=0,\" \",IF(ISNA(MATCH(D475,Personnel!A:A,0)),IF(ISNA(MATCH(D475,'اطلاعات افراد غیر حقوق بگیر'!A:A,0)),\"وجود ندارد\",LOOKUP(D475,'اطلاعات افراد غیر حقوق بگیر'!A:A,'اطلاعات افراد غیر حقوق بگیر'!E:E)),LOOKUP(D475,Master!D:D,Master!AH:AH)))","v":" "},{"$f":"SUMIFS(Pays!G:G,Pays!E:E,1,Pays!D:D,D475)","v":0},{"$f":"SUMIFS(Pays!G:G,Pays!E:E,2,Pays!D:D,D475)","v":0},{"$f":"SUMIFS(Pays!G:G,Pays!E:E,57,Pays!D:D,D475)","v":0},{"$f":"SUMIF(Pays!D:D,D475,Pays!G:G)","v":0},{"$f":"SUMIF(Pays!D:D,D475,Pays!G:G)/176","v":0},{"$f":"IF(M475=0,IF(ISNA(MATCH(D475,'اطلاعات افراد غیر حقوق بگیر'!A:A,0)),0,LOOKUP(D475,'اطلاعات افراد غیر حقوق بگیر'!A:A,'اطلاعات افراد غیر حقوق بگیر'!F:F)),IF(H475=31,Settings!$D$13,ROUND(M475,0)))","v":0},null,0,{"$f":"IF(ISNA(MATCH(D475,Master!D:D,0)),IF(ISNA(MATCH(D475,'اطلاعات افراد غیر حقوق بگیر'!A:A,0)),0,LOOKUP(D475,'اطلاعات افراد غیر حقوق بگیر'!A:A,'اطلاعات افراد غیر حقوق بگیر'!G:G)),LOOKUP(D475,Master!D:D,Master!J:J))","v":0},{"$error":"#N/A"},0,0,{"$f":"IF(O475>#REF!,\"اخطار ساعت اضافه کار از حداکثر بیشتر است\",\" \")","v":{"$error":"#REF!"}},{"$f":"IF(O475>#REF!,1,0)","v":{"$error":"#REF!"}}]
[473,{"$f":"IF(D476=0,\"\",Settings!$D$6)","v":""},{"$f":"IF(D476=0,\"\",LOOKUP(B476,'Rigion Code'!A:A,'Rigion Code'!B:B))","v":""},null,{"$f":"IF(D476=0,\" \",IF(ISNA(MATCH(D476,Personnel!A:A,0)),IF(ISNA(MATCH(D476,'اطلاعات افراد غیر حقوق بگیر'!A:A,0)),\"وجود ندارد\",LOOKUP(Edit!D476,'اطلاعات افراد غیر حقوق بگیر'!A:A,'اطلاعات افراد غیر حقوق بگیر'!B:B)),LOOKUP(D476,Personnel!A:A,Personnel!C:C)))","v":" "},{"$f":"IF(D476=0,\" \",IF(ISNA(MATCH(D476,Personnel!A:A,0)),IF(ISNA(MATCH(D476,'اطلاعات افراد غیر حقوق بگیر'!A:A,0)),\"وجود ندارد\",LOOKUP(D476,'اطلاعات افراد غیر حقوق بگیر'!A:A,'اطلاعات افراد غیر حقوق بگیر'!C:C)),LOOKUP(D476,Personnel!A:A,Personnel!B:B)))","v":" "},{"$f":"IF(D476=0,0,IF(ISNA(MATCH(D476,Personnel!A:A,0)),IF(ISNA(MATCH(D476,'اطلاعات افراد غیر حقوق بگیر'!A:A,0)),\"وجود ندارد\",LOOKUP(D476,'اطلاعات افراد غیر حقوق بگیر'!A:A,'اطلاعات افراد غیر حقوق بگیر'!D:D)),LOOKUP(D476,Master!D:D,Master!CD:CD)))","v":0},{"$f":"IF(D476=0,\" \",IF(ISNA(MATCH(D476,Personnel!A:A,0)),IF(ISNA(MATCH(D476,'اطلاعات افراد غیر حقوق بگیر'!A:A,0)),\"وجود ندارد\",LOOKUP(D476,'اطلاعات افراد غیر حقوق بگیر'!A:A,'اطلاعات افراد غیر حقوق بگیر'!E:E)),LOOKUP(D476,Master!D:D,Master!AH:AH)))","v":" "},{"$f":"SUMIFS(Pays!G:G,Pays!E:E,1,Pays!D:D,D476)","v":0},{"$f":"SUMIFS(Pays!G:G,Pays!E:E,2,Pays!D:D,D476)","v":0},{"$f":"SUMIFS(Pays!G:G,Pays!E:E,57,Pays!D:D,D476)","v":0},{"$f":"SUMIF(Pays!D:D,D476,Pays!G:G)","v":0},{"$f":"SUMIF(Pays!D:D,D476,Pays!G:G)/176","v":0},{"$f":"IF(M476=0,IF(ISNA(MATCH(D476,'اطلاعات افراد غیر حقوق بگیر'!A:A,0)),0,LOOKUP(D476,'اطلاعات افراد غیر حقوق بگیر'!A:A,'اطلاعات افراد غیر حقوق بگیر'!F:F)),IF(H476=31,Settings!$D$13,ROUND(M476,0)))","v":0},null,0,{"$f":"IF(ISNA(MATCH(D476,Master!D:D,0)),IF(ISNA(MATCH(D476,'اطلاعات افراد غیر حقوق بگیر'!A:A,0)),0,LOOKUP(D476,'اطلاعات افراد غیر حقوق بگیر'!A:A,'اطلاعات افراد غیر حقوق بگیر'!G:G)),LOOKUP(D476,Master!D:D,Master!J:J))","v":0},{"$error":"#N/A"},0,0,{"$f":"IF(O476>#REF!,\"اخطار ساعت اضافه کار از حداکثر بیشتر است\",\" \")","v":{"$error":"#REF!"}},{"$f":"IF(O476>#REF!,1,0)","v":{"$error":"#REF!"}}]
[474,{"$f":"IF(D477=0,\"\",Settings!$D$6)","v":""},{"$f":"IF(D477=0,\"\",LOOKUP(B477,'Rigion Code'!A:A,'Rigion Code'!B:B))","v":""},null,{"$f":"IF(D477=0,\" \",IF(ISNA(MATCH(D477,Personnel!A:A,0)),IF(ISNA(MATCH(D477,'اطلاعات افراد غیر حقوق بگیر'!A:A,0)),\"وجود ندارد\",LOOKUP(Edit!D477,'اطلاعات افراد غیر حقوق بگیر'!A:A,'اطلاعات افراد غیر حقوق بگیر'!B:B)),LOOKUP(D477,Personnel!A:A,Personnel!C:C)))","v":" "},{"$f":"IF(D477=0,\" \",IF(ISNA(MATCH(D477,Personnel!A:A,0)),IF(ISNA(MATCH(D477,'اطلاعات افراد غیر حقوق بگیر'!A:A,0)),\"وجود ندارد\",LOOKUP(D477,'اطلاعات افراد غیر حقوق بگیر'!A:A,'اطلاعات افراد غیر حقوق بگیر'!C:C)),LOOKUP(D477,Personnel!A:A,Personnel!B:B)))","v":" "},{"$f":"IF(D477=0,0,IF(ISNA(MATCH(D477,Personnel!A:A,0)),IF(ISNA(MATCH(D477,'اطلاعات افراد غیر حقوق بگیر'!A:A,0)),\"وجود ندارد\",LOOKUP(D477,'اطلاعات افراد غیر حقوق بگیر'!A:A,'اطلاعات افراد غیر حقوق بگیر'!D:D)),LOOKUP(D477,Master!D:D,Master!CD:CD)))","v":0},{"$f":"IF(D477=0,\" \",IF(ISNA(MATCH(D477,Personnel!A:A,0)),IF(ISNA(MATCH(D477,'اطلاعات افراد غیر حقوق بگیر'!A:A,0)),\"وجود ندارد\",LOOKUP(D477,'اطلاعات افراد غیر حقوق بگیر'!A:A,'اطلاعات افراد غیر حقوق بگیر'!E:E)),LOOKUP(D477,Master!D:D,Master!AH:AH)))","v":" "},{"$f":"SUMIFS(Pays!G:G,Pays!E:E,1,Pays!D:D,D477)","v":0},{"$f":"SUMIFS(Pays!G:G,Pays!E:E,2,Pays!D:D,D477)","v":0},{"$f":"SUMIFS(Pays!G:G,Pays!E:E,57,Pays!D:D,D477)","v":0},{"$f":"SUMIF(Pays!D:D,D477,Pays!G:G)","v":0},{"$f":"SUMIF(Pays!D:D,D477,Pays!G:G)/176","v":0},{"$f":"IF(M477=0,IF(ISNA(MATCH(D477,'اطلاعات افراد غیر حقوق بگیر'!A:A,0)),0,LOOKUP(D477,'اطلاعات افراد غیر حقوق بگیر'!A:A,'اطلاعات افراد غیر حقوق بگیر'!F:F)),IF(H477=31,Settings!$D$13,ROUND(M477,0)))","v":0},null,0,{"$f":"IF(ISNA(MATCH(D477,Master!D:D,0)),IF(ISNA(MATCH(D477,'اطلاعات افراد غیر حقوق بگیر'!A:A,0)),0,LOOKUP(D477,'اطلاعات افراد غیر حقوق بگیر'!A:A,'اطلاعات افراد غیر حقوق بگیر'!G:G)),LOOKUP(D477,Master!D:D,Master!J:J))","v":0},{"$error":"#N/A"},0,0,{"$f":"IF(O477>#REF!,\"اخطار ساعت اضافه کار از حداکثر بیشتر است\",\" \")","v":{"$error":"#REF!"}},{"$f":"IF(O477>#REF!,1,0)","v":{"$error":"#REF!"}}]
[475,{"$f":"IF(D478=0,\"\",Settings!$D$6)","v":""},{"$f":"IF(D478=0,\"\",LOOKUP(B478,'Rigion Code'!A:A,'Rigion Code'!B:B))","v":""},null,{"$f":"IF(D478=0,\" \",IF(ISNA(MATCH(D478,Personnel!A:A,0)),IF(ISNA(MATCH(D478,'اطلاعات افراد غیر حقوق بگیر'!A:A,0)),\"وجود ندارد\",LOOKUP(Edit!D478,'اطلاعات افراد غیر حقوق بگیر'!A:A,'اطلاعات افراد غیر حقوق بگیر'!B:B)),LOOKUP(D478,Personnel!A:A,Personnel!C:C)))","v":" "},{"$f":"IF(D478=0,\" \",IF(ISNA(MATCH(D478,Personnel!A:A,0)),IF(ISNA(MATCH(D478,'اطلاعات افراد غیر حقوق بگیر'!A:A,0)),\"وجود ندارد\",LOOKUP(D478,'اطلاعات افراد غیر حقوق بگیر'!A:A,'اطلاعات افراد غیر حقوق بگیر'!C:C)),LOOKUP(D478,Personnel!A:A,Personnel!B:B)))","v":" "},{"$f":"IF(D478=0,0,IF(ISNA(MATCH(D478,Personnel!A:A,0)),IF(ISNA(MATCH(D478,'اطلاعات افراد غیر حقوق بگیر'!A:A,0)),\"وجود ندارد\",LOOKUP(D478,'اطلاعات افراد غیر حقوق بگیر'!A:A,'اطلاعات افراد غیر حقوق بگیر'!D:D)),LOOKUP(D478,Master!D:D,Master!CD:CD)))","v":0},{"$f":"IF(D478=0,\" \",IF(ISNA(MATCH(D478,Personnel!A:A,0)),IF(ISNA(MATCH(D478,'اطلاعات افراد غیر حقوق بگیر'!A:A,0)),\"وجود ندارد\",LOOKUP(D478,'اطلاعات افراد غیر حقوق بگیر'!A:A,'اطلاعات افراد غیر حقوق بگیر'!E:E)),LOOKUP(D478,Master!D:D,Master!AH:AH)))","v":" "},{"$f":"SUMIFS(Pays!G:G,Pays!E:E,1,Pays!D:D,D478)","v":0},{"$f":"SUMIFS(Pays!G:G,Pays!E:E,2,Pays!D:D,D478)","v":0},{"$f":"SUMIFS(Pays!G:G,Pays!E:E,57,Pays!D:D,D478)","v":0},{"$f":"SUMIF(Pays!D:D,D478,Pays!G:G)","v":0},{"$f":"SUMIF(Pays!D:D,D478,Pays!G:G)/176","v":0},{"$f":"IF(M478=0,IF(ISNA(MATCH(D478,'اطلاعات افراد غیر حقوق بگیر'!A:A,0)),0,LOOKUP(D478,'اطلاعات افراد غیر حقوق بگیر'!A:A,'اطلاعات افراد غیر حقوق بگیر'!F:F)),IF(H478=31,Settings!$D$13,ROUND(M478,0)))","v":0},null,0,{"$f":"IF(ISNA(MATCH(D478,Master!D:D,0)),IF(ISNA(MATCH(D478,'اطلاعات افراد غیر حقوق بگیر'!A:A,0)),0,LOOKUP(D478,'اطلاعات افراد غیر حقوق بگیر'!A:A,'اطلاعات افراد غیر حقوق بگیر'!G:G)),LOOKUP(D478,Master!D:D,Master!J:J))","v":0},{"$error":"#N/A"},0,0,{"$f":"IF(O478>#REF!,\"اخطار ساعت اضافه کار از حداکثر بیشتر است\",\" \")","v":{"$error":"#REF!"}},{"$f":"IF(O478>#REF!,1,0)","v":{"$error":"#REF!"}}]
[476,{"$f":"IF(D479=0,\"\",Settings!$D$6)","v":""},{"$f":"IF(D479=0,\"\",LOOKUP(B479,'Rigion Code'!A:A,'Rigion Code'!B:B))","v":""},null,{"$f":"IF(D479=0,\" \",IF(ISNA(MATCH(D479,Personnel!A:A,0)),IF(ISNA(MATCH(D479,'اطلاعات افراد غیر حقوق بگیر'!A:A,0)),\"وجود ندارد\",LOOKUP(Edit!D479,'اطلاعات افراد غیر حقوق بگیر'!A:A,'اطلاعات افراد غیر حقوق بگیر'!B:B)),LOOKUP(D479,Personnel!A:A,Personnel!C:C)))","v":" "},{"$f":"IF(D479=0,\" \",IF(ISNA(MATCH(D479,Personnel!A:A,0)),IF(ISNA(MATCH(D479,'اطلاعات افراد غیر حقوق بگیر'!A:A,0)),\"وجود ندارد\",LOOKUP(D479,'اطلاعات افراد غیر حقوق بگیر'!A:A,'اطلاعات افراد غیر حقوق بگیر'!C:C)),LOOKUP(D479,Personnel!A:A,Personnel!B:B)))","v":" "},{"$f":"IF(D479=0,0,IF(ISNA(MATCH(D479,Personnel!A:A,0)),IF(ISNA(MATCH(D479,'اطلاعات افراد غیر حقوق بگیر'!A:A,0)),\"وجود ندارد\",LOOKUP(D479,'اطلاعات افراد غیر حقوق بگیر'!A:A,'اطلاعات افراد غیر حقوق بگیر'!D:D)),LOOKUP(D479,Master!D:D,Master!CD:CD)))","v":0},{"$f":"IF(D479=0,\" \",IF(ISNA(MATCH(D479,Personnel!A:A,0)),IF(ISNA(MATCH(D479,'اطلاعات افراد غیر حقوق بگیر'!A:A,0)),\"وجود ندارد\",LOOKUP(D479,'اطلاعات افراد غیر حقوق بگیر'!A:A,'اطلاعات افراد غیر حقوق بگیر'!E:E)),LOOKUP(D479,Master!D:D,Master!AH:AH)))","v":" "},{"$f":"SUMIFS(Pays!G:G,Pays!E:E,1,Pays!D:D,D479)","v":0},{"$f":"SUMIFS(Pays!G:G,Pays!E:E,2,Pays!D:D,D479)","v":0},{"$f":"SUMIFS(Pays!G:G,Pays!E:E,57,Pays!D:D,D479)","v":0},{"$f":"SUMIF(Pays!D:D,D479,Pays!G:G)","v":0},{"$f":"SUMIF(Pays!D:D,D479,Pays!G:G)/176","v":0},{"$f":"IF(M479=0,IF(ISNA(MATCH(D479,'اطلاعات افراد غیر حقوق بگیر'!A:A,0)),0,LOOKUP(D479,'اطلاعات افراد غیر حقوق بگیر'!A:A,'اطلاعات افراد غیر حقوق بگیر'!F:F)),IF(H479=31,Settings!$D$13,ROUND(M479,0)))","v":0},null,0,{"$f":"IF(ISNA(MATCH(D479,Master!D:D,0)),IF(ISNA(MATCH(D479,'اطلاعات افراد غیر حقوق بگیر'!A:A,0)),0,LOOKUP(D479,'اطلاعات افراد غیر حقوق بگیر'!A:A,'اطلاعات افراد غیر حقوق بگیر'!G:G)),LOOKUP(D479,Master!D:D,Master!J:J))","v":0},{"$error":"#N/A"},0,0,{"$f":"IF(O479>#REF!,\"اخطار ساعت اضافه کار از حداکثر بیشتر است\",\" \")","v":{"$error":"#REF!"}},{"$f":"IF(O479>#REF!,1,0)","v":{"$error":"#REF!"}}]
[477,{"$f":"IF(D480=0,\"\",Settings!$D$6)","v":""},{"$f":"IF(D480=0,\"\",LOOKUP(B480,'Rigion Code'!A:A,'Rigion Code'!B:B))","v":""},null,{"$f":"IF(D480=0,\" \",IF(ISNA(MATCH(D480,Personnel!A:A,0)),IF(ISNA(MATCH(D480,'اطلاعات افراد غیر حقوق بگیر'!A:A,0)),\"وجود ندارد\",LOOKUP(Edit!D480,'اطلاعات افراد غیر حقوق بگیر'!A:A,'اطلاعات افراد غیر حقوق بگیر'!B:B)),LOOKUP(D480,Personnel!A:A,Personnel!C:C)))","v":" "},{"$f":"IF(D480=0,\" \",IF(ISNA(MATCH(D480,Personnel!A:A,0)),IF(ISNA(MATCH(D480,'اطلاعات افراد غیر حقوق بگیر'!A:A,0)),\"وجود ندارد\",LOOKUP(D480,'اطلاعات افراد غیر حقوق بگیر'!A:A,'اطلاعات افراد غیر حقوق بگیر'!C:C)),LOOKUP(D480,Personnel!A:A,Personnel!B:B)))","v":" "},{"$f":"IF(D480=0,0,IF(ISNA(MATCH(D480,Personnel!A:A,0)),IF(ISNA(MATCH(D480,'اطلاعات افراد غیر حقوق بگیر'!A:A,0)),\"وجود ندارد\",LOOKUP(D480,'اطلاعات افراد غیر حقوق بگیر'!A:A,'اطلاعات افراد غیر حقوق بگیر'!D:D)),LOOKUP(D480,Master!D:D,Master!CD:CD)))","v":0},{"$f":"IF(D480=0,\" \",IF(ISNA(MATCH(D480,Personnel!A:A,0)),IF(ISNA(MATCH(D480,'اطلاعات افراد غیر حقوق بگیر'!A:A,0)),\"وجود ندارد\",LOOKUP(D480,'اطلاعات افراد غیر حقوق بگیر'!A:A,'اطلاعات افراد غیر حقوق بگیر'!E:E)),LOOKUP(D480,Master!D:D,Master!AH:AH)))","v":" "},{"$f":"SUMIFS(Pays!G:G,Pays!E:E,1,Pays!D:D,D480)","v":0},{"$f":"SUMIFS(Pays!G:G,Pays!E:E,2,Pays!D:D,D480)","v":0},{"$f":"SUMIFS(Pays!G:G,Pays!E:E,57,Pays!D:D,D480)","v":0},{"$f":"SUMIF(Pays!D:D,D480,Pays!G:G)","v":0},{"$f":"SUMIF(Pays!D:D,D480,Pays!G:G)/176","v":0},{"$f":"IF(M480=0,IF(ISNA(MATCH(D480,'اطلاعات افراد غیر حقوق بگیر'!A:A,0)),0,LOOKUP(D480,'اطلاعات افراد غیر حقوق بگیر'!A:A,'اطلاعات افراد غیر حقوق بگیر'!F:F)),IF(H480=31,Settings!$D$13,ROUND(M480,0)))","v":0},null,0,{"$f":"IF(ISNA(MATCH(D480,Master!D:D,0)),IF(ISNA(MATCH(D480,'اطلاعات افراد غیر حقوق بگیر'!A:A,0)),0,LOOKUP(D480,'اطلاعات افراد غیر حقوق بگیر'!A:A,'اطلاعات افراد غیر حقوق بگیر'!G:G)),LOOKUP(D480,Master!D:D,Master!J:J))","v":0},{"$error":"#N/A"},0,0,{"$f":"IF(O480>#REF!,\"اخطار ساعت اضافه کار از حداکثر بیشتر است\",\" \")","v":{"$error":"#REF!"}},{"$f":"IF(O480>#REF!,1,0)","v":{"$error":"#REF!"}}]
[478,{"$f":"IF(D481=0,\"\",Settings!$D$6)","v":""},{"$f":"IF(D481=0,\"\",LOOKUP(B481,'Rigion Code'!A:A,'Rigion Code'!B:B))","v":""},null,{"$f":"IF(D481=0,\" \",IF(ISNA(MATCH(D481,Personnel!A:A,0)),IF(ISNA(MATCH(D481,'اطلاعات افراد غیر حقوق بگیر'!A:A,0)),\"وجود ندارد\",LOOKUP(Edit!D481,'اطلاعات افراد غیر حقوق بگیر'!A:A,'اطلاعات افراد غیر حقوق بگیر'!B:B)),LOOKUP(D481,Personnel!A:A,Personnel!C:C)))","v":" "},{"$f":"IF(D481=0,\" \",IF(ISNA(MATCH(D481,Personnel!A:A,0)),IF(ISNA(MATCH(D481,'اطلاعات افراد غیر حقوق بگیر'!A:A,0)),\"وجود ندارد\",LOOKUP(D481,'اطلاعات افراد غیر حقوق بگیر'!A:A,'اطلاعات افراد غیر حقوق بگیر'!C:C)),LOOKUP(D481,Personnel!A:A,Personnel!B:B)))","v":" "},{"$f":"IF(D481=0,0,IF(ISNA(MATCH(D481,Personnel!A:A,0)),IF(ISNA(MATCH(D481,'اطلاعات افراد غیر حقوق بگیر'!A:A,0)),\"وجود ندارد\",LOOKUP(D481,'اطلاعات افراد غیر حقوق بگیر'!A:A,'اطلاعات افراد غیر حقوق بگیر'!D:D)),LOOKUP(D481,Master!D:D,Master!CD:CD)))","v":0},{"$f":"IF(D481=0,\" \",IF(ISNA(MATCH(D481,Personnel!A:A,0)),IF(ISNA(MATCH(D481,'اطلاعات افراد غیر حقوق بگیر'!A:A,0)),\"وجود ندارد\",LOOKUP(D481,'اطلاعات افراد غیر حقوق بگیر'!A:A,'اطلاعات افراد غیر حقوق بگیر'!E:E)),LOOKUP(D481,Master!D:D,Master!AH:AH)))","v":" "},{"$f":"SUMIFS(Pays!G:G,Pays!E:E,1,Pays!D:D,D481)","v":0},{"$f":"SUMIFS(Pays!G:G,Pays!E:E,2,Pays!D:D,D481)","v":0},{"$f":"SUMIFS(Pays!G:G,Pays!E:E,57,Pays!D:D,D481)","v":0},{"$f":"SUMIF(Pays!D:D,D481,Pays!G:G)","v":0},{"$f":"SUMIF(Pays!D:D,D481,Pays!G:G)/176","v":0},{"$f":"IF(M481=0,IF(ISNA(MATCH(D481,'اطلاعات افراد غیر حقوق بگیر'!A:A,0)),0,LOOKUP(D481,'اطلاعات افراد غیر حقوق بگیر'!A:A,'اطلاعات افراد غیر حقوق بگیر'!F:F)),IF(H481=31,Settings!$D$13,ROUND(M481,0)))","v":0},null,0,{"$f":"IF(ISNA(MATCH(D481,Master!D:D,0)),IF(ISNA(MATCH(D481,'اطلاعات افراد غیر حقوق بگیر'!A:A,0)),0,LOOKUP(D481,'اطلاعات افراد غیر حقوق بگیر'!A:A,'اطلاعات افراد غیر حقوق بگیر'!G:G)),LOOKUP(D481,Master!D:D,Master!J:J))","v":0},{"$error":"#N/A"},0,0,{"$f":"IF(O481>#REF!,\"اخطار ساعت اضافه کار از حداکثر بیشتر است\",\" \")","v":{"$error":"#REF!"}},{"$f":"IF(O481>#REF!,1,0)","v":{"$error":"#REF!"}}]
[479,{"$f":"IF(D482=0,\"\",Settings!$D$6)","v":""},{"$f":"IF(D482=0,\"\",LOOKUP(B482,'Rigion Code'!A:A,'Rigion Code'!B:B))","v":""},null,{"$f":"IF(D482=0,\" \",IF(ISNA(MATCH(D482,Personnel!A:A,0)),IF(ISNA(MATCH(D482,'اطلاعات افراد غیر حقوق بگیر'!A:A,0)),\"وجود ندارد\",LOOKUP(Edit!D482,'اطلاعات افراد غیر حقوق بگیر'!A:A,'اطلاعات افراد غیر حقوق بگیر'!B:B)),LOOKUP(D482,Personnel!A:A,Personnel!C:C)))","v":" "},{"$f":"IF(D482=0,\" \",IF(ISNA(MATCH(D482,Personnel!A:A,0)),IF(ISNA(MATCH(D482,'اطلاعات افراد غیر حقوق بگیر'!A:A,0)),\"وجود ندارد\",LOOKUP(D482,'اطلاعات افراد غیر حقوق بگیر'!A:A,'اطلاعات افراد غیر حقوق بگیر'!C:C)),LOOKUP(D482,Personnel!A:A,Personnel!B:B)))","v":" "},{"$f":"IF(D482=0,0,IF(ISNA(MATCH(D482,Personnel!A:A,0)),IF(ISNA(MATCH(D482,'اطلاعات افراد غیر حقوق بگیر'!A:A,0)),\"وجود ندارد\",LOOKUP(D482,'اطلاعات افراد غیر حقوق بگیر'!A:A,'اطلاعات افراد غیر حقوق بگیر'!D:D)),LOOKUP(D482,Master!D:D,Master!CD:CD)))","v":0},{"$f":"IF(D482=0,\" \",IF(ISNA(MATCH(D482,Personnel!A:A,0)),IF(ISNA(MATCH(D482,'اطلاعات افراد غیر حقوق بگیر'!A:A,0)),\"وجود ندارد\",LOOKUP(D482,'اطلاعات افراد غیر حقوق بگیر'!A:A,'اطلاعات افراد غیر حقوق بگیر'!E:E)),LOOKUP(D482,Master!D:D,Master!AH:AH)))","v":" "},{"$f":"SUMIFS(Pays!G:G,Pays!E:E,1,Pays!D:D,D482)","v":0},{"$f":"SUMIFS(Pays!G:G,Pays!E:E,2,Pays!D:D,D482)","v":0},{"$f":"SUMIFS(Pays!G:G,Pays!E:E,57,Pays!D:D,D482)","v":0},{"$f":"SUMIF(Pays!D:D,D482,Pays!G:G)","v":0},{"$f":"SUMIF(Pays!D:D,D482,Pays!G:G)/176","v":0},{"$f":"IF(M482=0,IF(ISNA(MATCH(D482,'اطلاعات افراد غیر حقوق بگیر'!A:A,0)),0,LOOKUP(D482,'اطلاعات افراد غیر حقوق بگیر'!A:A,'اطلاعات افراد غیر حقوق بگیر'!F:F)),IF(H482=31,Settings!$D$13,ROUND(M482,0)))","v":0},null,0,{"$f":"IF(ISNA(MATCH(D482,Master!D:D,0)),IF(ISNA(MATCH(D482,'اطلاعات افراد غیر حقوق بگیر'!A:A,0)),0,LOOKUP(D482,'اطلاعات افراد غیر حقوق بگیر'!A:A,'اطلاعات افراد غیر حقوق بگیر'!G:G)),LOOKUP(D482,Master!D:D,Master!J:J))","v":0},{"$error":"#N/A"},0,0,{"$f":"IF(O482>#REF!,\"اخطار ساعت اضافه کار از حداکثر بیشتر است\",\" \")","v":{"$error":"#REF!"}},{"$f":"IF(O482>#REF!,1,0)","v":{"$error":"#REF!"}}]
[480,{"$f":"IF(D483=0,\"\",Settings!$D$6)","v":""},{"$f":"IF(D483=0,\"\",LOOKUP(B483,'Rigion Code'!A:A,'Rigion Code'!B:B))","v":""},null,{"$f":"IF(D483=0,\" \",IF(ISNA(MATCH(D483,Personnel!A:A,0)),IF(ISNA(MATCH(D483,'اطلاعات افراد غیر حقوق بگیر'!A:A,0)),\"وجود ندارد\",LOOKUP(Edit!D483,'اطلاعات افراد غیر حقوق بگیر'!A:A,'اطلاعات افراد غیر حقوق بگیر'!B:B)),LOOKUP(D483,Personnel!A:A,Personnel!C:C)))","v":" "},{"$f":"IF(D483=0,\" \",IF(ISNA(MATCH(D483,Personnel!A:A,0)),IF(ISNA(MATCH(D483,'اطلاعات افراد غیر حقوق بگیر'!A:A,0)),\"وجود ندارد\",LOOKUP(D483,'اطلاعات افراد غیر حقوق بگیر'!A:A,'اطلاعات افراد غیر حقوق بگیر'!C:C)),LOOKUP(D483,Personnel!A:A,Personnel!B:B)))","v":" "},{"$f":"IF(D483=0,0,IF(ISNA(MATCH(D483,Personnel!A:A,0)),IF(ISNA(MATCH(D483,'اطلاعات افراد غیر حقوق بگیر'!A:A,0)),\"وجود ندارد\",LOOKUP(D483,'اطلاعات افراد غیر حقوق بگیر'!A:A,'اطلاعات افراد غیر حقوق بگیر'!D:D)),LOOKUP(D483,Master!D:D,Master!CD:CD)))","v":0},{"$f":"IF(D483=0,\" \",IF(ISNA(MATCH(D483,Personnel!A:A,0)),IF(ISNA(MATCH(D483,'اطلاعات افراد غیر حقوق بگیر'!A:A,0)),\"وجود ندارد\",LOOKUP(D483,'اطلاعات افراد غیر حقوق بگیر'!A:A,'اطلاعات افراد غیر حقوق بگیر'!E:E)),LOOKUP(D483,Master!D:D,Master!AH:AH)))","v":" "},{"$f":"SUMIFS(Pays!G:G,Pays!E:E,1,Pays!D:D,D483)","v":0},{"$f":"SUMIFS(Pays!G:G,Pays!E:E,2,Pays!D:D,D483)","v":0},{"$f":"SUMIFS(Pays!G:G,Pays!E:E,57,Pays!D:D,D483)","v":0},{"$f":"SUMIF(Pays!D:D,D483,Pays!G:G)","v":0},{"$f":"SUMIF(Pays!D:D,D483,Pays!G:G)/176","v":0},{"$f":"IF(M483=0,IF(ISNA(MATCH(D483,'اطلاعات افراد غیر حقوق بگیر'!A:A,0)),0,LOOKUP(D483,'اطلاعات افراد غیر حقوق بگیر'!A:A,'اطلاعات افراد غیر حقوق بگیر'!F:F)),IF(H483=31,Settings!$D$13,ROUND(M483,0)))","v":0},null,0,{"$f":"IF(ISNA(MATCH(D483,Master!D:D,0)),IF(ISNA(MATCH(D483,'اطلاعات افراد غیر حقوق بگیر'!A:A,0)),0,LOOKUP(D483,'اطلاعات افراد غیر حقوق بگیر'!A:A,'اطلاعات افراد غیر حقوق بگیر'!G:G)),LOOKUP(D483,Master!D:D,Master!J:J))","v":0},{"$error":"#N/A"},0,0,{"$f":"IF(O483>#REF!,\"اخطار ساعت اضافه کار از حداکثر بیشتر است\",\" \")","v":{"$error":"#REF!"}},{"$f":"IF(O483>#REF!,1,0)","v":{"$error":"#REF!"}}]
[481,{"$f":"IF(D484=0,\"\",Settings!$D$6)","v":""},{"$f":"IF(D484=0,\"\",LOOKUP(B484,'Rigion Code'!A:A,'Rigion Code'!B:B))","v":""},null,{"$f":"IF(D484=0,\" \",IF(ISNA(MATCH(D484,Personnel!A:A,0)),IF(ISNA(MATCH(D484,'اطلاعات افراد غیر حقوق بگیر'!A:A,0)),\"وجود ندارد\",LOOKUP(Edit!D484,'اطلاعات افراد غیر حقوق بگیر'!A:A,'اطلاعات افراد غیر حقوق بگیر'!B:B)),LOOKUP(D484,Personnel!A:A,Personnel!C:C)))","v":" "},{"$f":"IF(D484=0,\" \",IF(ISNA(MATCH(D484,Personnel!A:A,0)),IF(ISNA(MATCH(D484,'اطلاعات افراد غیر حقوق بگیر'!A:A,0)),\"وجود ندارد\",LOOKUP(D484,'اطلاعات افراد غیر حقوق بگیر'!A:A,'اطلاعات افراد غیر حقوق بگیر'!C:C)),LOOKUP(D484,Personnel!A:A,Personnel!B:B)))","v":" "},{"$f":"IF(D484=0,0,IF(ISNA(MATCH(D484,Personnel!A:A,0)),IF(ISNA(MATCH(D484,'اطلاعات افراد غیر حقوق بگیر'!A:A,0)),\"وجود ندارد\",LOOKUP(D484,'اطلاعات افراد غیر حقوق بگیر'!A:A,'اطلاعات افراد غیر حقوق بگیر'!D:D)),LOOKUP(D484,Master!D:D,Master!CD:CD)))","v":0},{"$f":"IF(D484=0,\" \",IF(ISNA(MATCH(D484,Personnel!A:A,0)),IF(ISNA(MATCH(D484,'اطلاعات افراد غیر حقوق بگیر'!A:A,0)),\"وجود ندارد\",LOOKUP(D484,'اطلاعات افراد غیر حقوق بگیر'!A:A,'اطلاعات افراد غیر حقوق بگیر'!E:E)),LOOKUP(D484,Master!D:D,Master!AH:AH)))","v":" "},{"$f":"SUMIFS(Pays!G:G,Pays!E:E,1,Pays!D:D,D484)","v":0},{"$f":"SUMIFS(Pays!G:G,Pays!E:E,2,Pays!D:D,D484)","v":0},{"$f":"SUMIFS(Pays!G:G,Pays!E:E,57,Pays!D:D,D484)","v":0},{"$f":"SUMIF(Pays!D:D,D484,Pays!G:G)","v":0},{"$f":"SUMIF(Pays!D:D,D484,Pays!G:G)/176","v":0},{"$f":"IF(M484=0,IF(ISNA(MATCH(D484,'اطلاعات افراد غیر حقوق بگیر'!A:A,0)),0,LOOKUP(D484,'اطلاعات افراد غیر حقوق بگیر'!A:A,'اطلاعات افراد غیر حقوق بگیر'!F:F)),IF(H484=31,Settings!$D$13,ROUND(M484,0)))","v":0},null,0,{"$f":"IF(ISNA(MATCH(D484,Master!D:D,0)),IF(ISNA(MATCH(D484,'اطلاعات افراد غیر حقوق بگیر'!A:A,0)),0,LOOKUP(D484,'اطلاعات افراد غیر حقوق بگیر'!A:A,'اطلاعات افراد غیر حقوق بگیر'!G:G)),LOOKUP(D484,Master!D:D,Master!J:J))","v":0},{"$error":"#N/A"},0,0,{"$f":"IF(O484>#REF!,\"اخطار ساعت اضافه کار از حداکثر بیشتر است\",\" \")","v":{"$error":"#REF!"}},{"$f":"IF(O484>#REF!,1,0)","v":{"$error":"#REF!"}}]
[482,{"$f":"IF(D485=0,\"\",Settings!$D$6)","v":""},{"$f":"IF(D485=0,\"\",LOOKUP(B485,'Rigion Code'!A:A,'Rigion Code'!B:B))","v":""},null,{"$f":"IF(D485=0,\" \",IF(ISNA(MATCH(D485,Personnel!A:A,0)),IF(ISNA(MATCH(D485,'اطلاعات افراد غیر حقوق بگیر'!A:A,0)),\"وجود ندارد\",LOOKUP(Edit!D485,'اطلاعات افراد غیر حقوق بگیر'!A:A,'اطلاعات افراد غیر حقوق بگیر'!B:B)),LOOKUP(D485,Personnel!A:A,Personnel!C:C)))","v":" "},{"$f":"IF(D485=0,\" \",IF(ISNA(MATCH(D485,Personnel!A:A,0)),IF(ISNA(MATCH(D485,'اطلاعات افراد غیر حقوق بگیر'!A:A,0)),\"وجود ندارد\",LOOKUP(D485,'اطلاعات افراد غیر حقوق بگیر'!A:A,'اطلاعات افراد غیر حقوق بگیر'!C:C)),LOOKUP(D485,Personnel!A:A,Personnel!B:B)))","v":" "},{"$f":"IF(D485=0,0,IF(ISNA(MATCH(D485,Personnel!A:A,0)),IF(ISNA(MATCH(D485,'اطلاعات افراد غیر حقوق بگیر'!A:A,0)),\"وجود ندارد\",LOOKUP(D485,'اطلاعات افراد غیر حقوق بگیر'!A:A,'اطلاعات افراد غیر حقوق بگیر'!D:D)),LOOKUP(D485,Master!D:D,Master!CD:CD)))","v":0},{"$f":"IF(D485=0,\" \",IF(ISNA(MATCH(D485,Personnel!A:A,0)),IF(ISNA(MATCH(D485,'اطلاعات افراد غیر حقوق بگیر'!A:A,0)),\"وجود ندارد\",LOOKUP(D485,'اطلاعات افراد غیر حقوق بگیر'!A:A,'اطلاعات افراد غیر حقوق بگیر'!E:E)),LOOKUP(D485,Master!D:D,Master!AH:AH)))","v":" "},{"$f":"SUMIFS(Pays!G:G,Pays!E:E,1,Pays!D:D,D485)","v":0},{"$f":"SUMIFS(Pays!G:G,Pays!E:E,2,Pays!D:D,D485)","v":0},{"$f":"SUMIFS(Pays!G:G,Pays!E:E,57,Pays!D:D,D485)","v":0},{"$f":"SUMIF(Pays!D:D,D485,Pays!G:G)","v":0},{"$f":"SUMIF(Pays!D:D,D485,Pays!G:G)/176","v":0},{"$f":"IF(M485=0,IF(ISNA(MATCH(D485,'اطلاعات افراد غیر حقوق بگیر'!A:A,0)),0,LOOKUP(D485,'اطلاعات افراد غیر حقوق بگیر'!A:A,'اطلاعات افراد غیر حقوق بگیر'!F:F)),IF(H485=31,Settings!$D$13,ROUND(M485,0)))","v":0},null,0,{"$f":"IF(ISNA(MATCH(D485,Master!D:D,0)),IF(ISNA(MATCH(D485,'اطلاعات افراد غیر حقوق بگیر'!A:A,0)),0,LOOKUP(D485,'اطلاعات افراد غیر حقوق بگیر'!A:A,'اطلاعات افراد غیر حقوق بگیر'!G:G)),LOOKUP(D485,Master!D:D,Master!J:J))","v":0},{"$error":"#N/A"},0,0,{"$f":"IF(O485>#REF!,\"اخطار ساعت اضافه کار از حداکثر بیشتر است\",\" \")","v":{"$error":"#REF!"}},{"$f":"IF(O485>#REF!,1,0)","v":{"$error":"#REF!"}}]
[483,{"$f":"IF(D486=0,\"\",Settings!$D$6)","v":""},{"$f":"IF(D486=0,\"\",LOOKUP(B486,'Rigion Code'!A:A,'Rigion Code'!B:B))","v":""},null,{"$f":"IF(D486=0,\" \",IF(ISNA(MATCH(D486,Personnel!A:A,0)),IF(ISNA(MATCH(D486,'اطلاعات افراد غیر حقوق بگیر'!A:A,0)),\"وجود ندارد\",LOOKUP(Edit!D486,'اطلاعات افراد غیر حقوق بگیر'!A:A,'اطلاعات افراد غیر حقوق بگیر'!B:B)),LOOKUP(D486,Personnel!A:A,Personnel!C:C)))","v":" "},{"$f":"IF(D486=0,\" \",IF(ISNA(MATCH(D486,Personnel!A:A,0)),IF(ISNA(MATCH(D486,'اطلاعات افراد غیر حقوق بگیر'!A:A,0)),\"وجود ندارد\",LOOKUP(D486,'اطلاعات افراد غیر حقوق بگیر'!A:A,'اطلاعات افراد غیر حقوق بگیر'!C:C)),LOOKUP(D486,Personnel!A:A,Personnel!B:B)))","v":" "},{"$f":"IF(D486=0,0,IF(ISNA(MATCH(D486,Personnel!A:A,0)),IF(ISNA(MATCH(D486,'اطلاعات افراد غیر حقوق بگیر'!A:A,0)),\"وجود ندارد\",LOOKUP(D486,'اطلاعات افراد غیر حقوق بگیر'!A:A,'اطلاعات افراد غیر حقوق بگیر'!D:D)),LOOKUP(D486,Master!D:D,Master!CD:CD)))","v":0},{"$f":"IF(D486=0,\" \",IF(ISNA(MATCH(D486,Personnel!A:A,0)),IF(ISNA(MATCH(D486,'اطلاعات افراد غیر حقوق بگیر'!A:A,0)),\"وجود ندارد\",LOOKUP(D486,'اطلاعات افراد غیر حقوق بگیر'!A:A,'اطلاعات افراد غیر حقوق بگیر'!E:E)),LOOKUP(D486,Master!D:D,Master!AH:AH)))","v":" "},{"$f":"SUMIFS(Pays!G:G,Pays!E:E,1,Pays!D:D,D486)","v":0},{"$f":"SUMIFS(Pays!G:G,Pays!E:E,2,Pays!D:D,D486)","v":0},{"$f":"SUMIFS(Pays!G:G,Pays!E:E,57,Pays!D:D,D486)","v":0},{"$f":"SUMIF(Pays!D:D,D486,Pays!G:G)","v":0},{"$f":"SUMIF(Pays!D:D,D486,Pays!G:G)/176","v":0},{"$f":"IF(M486=0,IF(ISNA(MATCH(D486,'اطلاعات افراد غیر حقوق بگیر'!A:A,0)),0,LOOKUP(D486,'اطلاعات افراد غیر حقوق بگیر'!A:A,'اطلاعات افراد غیر حقوق بگیر'!F:F)),IF(H486=31,Settings!$D$13,ROUND(M486,0)))","v":0},null,0,{"$f":"IF(ISNA(MATCH(D486,Master!D:D,0)),IF(ISNA(MATCH(D486,'اطلاعات افراد غیر حقوق بگیر'!A:A,0)),0,LOOKUP(D486,'اطلاعات افراد غیر حقوق بگیر'!A:A,'اطلاعات افراد غیر حقوق بگیر'!G:G)),LOOKUP(D486,Master!D:D,Master!J:J))","v":0},{"$error":"#N/A"},0,0,{"$f":"IF(O486>#REF!,\"اخطار ساعت اضافه کار از حداکثر بیشتر است\",\" \")","v":{"$error":"#REF!"}},{"$f":"IF(O486>#REF!,1,0)","v":{"$error":"#REF!"}}]
[484,{"$f":"IF(D487=0,\"\",Settings!$D$6)","v":""},{"$f":"IF(D487=0,\"\",LOOKUP(B487,'Rigion Code'!A:A,'Rigion Code'!B:B))","v":""},null,{"$f":"IF(D487=0,\" \",IF(ISNA(MATCH(D487,Personnel!A:A,0)),IF(ISNA(MATCH(D487,'اطلاعات افراد غیر حقوق بگیر'!A:A,0)),\"وجود ندارد\",LOOKUP(Edit!D487,'اطلاعات افراد غیر حقوق بگیر'!A:A,'اطلاعات افراد غیر حقوق بگیر'!B:B)),LOOKUP(D487,Personnel!A:A,Personnel!C:C)))","v":" "},{"$f":"IF(D487=0,\" \",IF(ISNA(MATCH(D487,Personnel!A:A,0)),IF(ISNA(MATCH(D487,'اطلاعات افراد غیر حقوق بگیر'!A:A,0)),\"وجود ندارد\",LOOKUP(D487,'اطلاعات افراد غیر حقوق بگیر'!A:A,'اطلاعات افراد غیر حقوق بگیر'!C:C)),LOOKUP(D487,Personnel!A:A,Personnel!B:B)))","v":" "},{"$f":"IF(D487=0,0,IF(ISNA(MATCH(D487,Personnel!A:A,0)),IF(ISNA(MATCH(D487,'اطلاعات افراد غیر حقوق بگیر'!A:A,0)),\"وجود ندارد\",LOOKUP(D487,'اطلاعات افراد غیر حقوق بگیر'!A:A,'اطلاعات افراد غیر حقوق بگیر'!D:D)),LOOKUP(D487,Master!D:D,Master!CD:CD)))","v":0},{"$f":"IF(D487=0,\" \",IF(ISNA(MATCH(D487,Personnel!A:A,0)),IF(ISNA(MATCH(D487,'اطلاعات افراد غیر حقوق بگیر'!A:A,0)),\"وجود ندارد\",LOOKUP(D487,'اطلاعات افراد غیر حقوق بگیر'!A:A,'اطلاعات افراد غیر حقوق بگیر'!E:E)),LOOKUP(D487,Master!D:D,Master!AH:AH)))","v":" "},{"$f":"SUMIFS(Pays!G:G,Pays!E:E,1,Pays!D:D,D487)","v":0},{"$f":"SUMIFS(Pays!G:G,Pays!E:E,2,Pays!D:D,D487)","v":0},{"$f":"SUMIFS(Pays!G:G,Pays!E:E,57,Pays!D:D,D487)","v":0},{"$f":"SUMIF(Pays!D:D,D487,Pays!G:G)","v":0},{"$f":"SUMIF(Pays!D:D,D487,Pays!G:G)/176","v":0},{"$f":"IF(M487=0,IF(ISNA(MATCH(D487,'اطلاعات افراد غیر حقوق بگیر'!A:A,0)),0,LOOKUP(D487,'اطلاعات افراد غیر حقوق بگیر'!A:A,'اطلاعات افراد غیر حقوق بگیر'!F:F)),IF(H487=31,Settings!$D$13,ROUND(M487,0)))","v":0},null,0,{"$f":"IF(ISNA(MATCH(D487,Master!D:D,0)),IF(ISNA(MATCH(D487,'اطلاعات افراد غیر حقوق بگیر'!A:A,0)),0,LOOKUP(D487,'اطلاعات افراد غیر حقوق بگیر'!A:A,'اطلاعات افراد غیر حقوق بگیر'!G:G)),LOOKUP(D487,Master!D:D,Master!J:J))","v":0},{"$error":"#N/A"},0,0,{"$f":"IF(O487>#REF!,\"اخطار ساعت اضافه کار از حداکثر بیشتر است\",\" \")","v":{"$error":"#REF!"}},{"$f":"IF(O487>#REF!,1,0)","v":{"$error":"#REF!"}}]
[485,{"$f":"IF(D488=0,\"\",Settings!$D$6)","v":""},{"$f":"IF(D488=0,\"\",LOOKUP(B488,'Rigion Code'!A:A,'Rigion Code'!B:B))","v":""},null,{"$f":"IF(D488=0,\" \",IF(ISNA(MATCH(D488,Personnel!A:A,0)),IF(ISNA(MATCH(D488,'اطلاعات افراد غیر حقوق بگیر'!A:A,0)),\"وجود ندارد\",LOOKUP(Edit!D488,'اطلاعات افراد غیر حقوق بگیر'!A:A,'اطلاعات افراد غیر حقوق بگیر'!B:B)),LOOKUP(D488,Personnel!A:A,Personnel!C:C)))","v":" "},{"$f":"IF(D488=0,\" \",IF(ISNA(MATCH(D488,Personnel!A:A,0)),IF(ISNA(MATCH(D488,'اطلاعات افراد غیر حقوق بگیر'!A:A,0)),\"وجود ندارد\",LOOKUP(D488,'اطلاعات افراد غیر حقوق بگیر'!A:A,'اطلاعات افراد غیر حقوق بگیر'!C:C)),LOOKUP(D488,Personnel!A:A,Personnel!B:B)))","v":" "},{"$f":"IF(D488=0,0,IF(ISNA(MATCH(D488,Personnel!A:A,0)),IF(ISNA(MATCH(D488,'اطلاعات افراد غیر حقوق بگیر'!A:A,0)),\"وجود ندارد\",LOOKUP(D488,'اطلاعات افراد غیر حقوق بگیر'!A:A,'اطلاعات افراد غیر حقوق بگیر'!D:D)),LOOKUP(D488,Master!D:D,Master!CD:CD)))","v":0},{"$f":"IF(D488=0,\" \",IF(ISNA(MATCH(D488,Personnel!A:A,0)),IF(ISNA(MATCH(D488,'اطلاعات افراد غیر حقوق بگیر'!A:A,0)),\"وجود ندارد\",LOOKUP(D488,'اطلاعات افراد غیر حقوق بگیر'!A:A,'اطلاعات افراد غیر حقوق بگیر'!E:E)),LOOKUP(D488,Master!D:D,Master!AH:AH)))","v":" "},{"$f":"SUMIFS(Pays!G:G,Pays!E:E,1,Pays!D:D,D488)","v":0},{"$f":"SUMIFS(Pays!G:G,Pays!E:E,2,Pays!D:D,D488)","v":0},{"$f":"SUMIFS(Pays!G:G,Pays!E:E,57,Pays!D:D,D488)","v":0},{"$f":"SUMIF(Pays!D:D,D488,Pays!G:G)","v":0},{"$f":"SUMIF(Pays!D:D,D488,Pays!G:G)/176","v":0},{"$f":"IF(M488=0,IF(ISNA(MATCH(D488,'اطلاعات افراد غیر حقوق بگیر'!A:A,0)),0,LOOKUP(D488,'اطلاعات افراد غیر حقوق بگیر'!A:A,'اطلاعات افراد غیر حقوق بگیر'!F:F)),IF(H488=31,Settings!$D$13,ROUND(M488,0)))","v":0},null,0,{"$f":"IF(ISNA(MATCH(D488,Master!D:D,0)),IF(ISNA(MATCH(D488,'اطلاعات افراد غیر حقوق بگیر'!A:A,0)),0,LOOKUP(D488,'اطلاعات افراد غیر حقوق بگیر'!A:A,'اطلاعات افراد غیر حقوق بگیر'!G:G)),LOOKUP(D488,Master!D:D,Master!J:J))","v":0},{"$error":"#N/A"},0,0,{"$f":"IF(O488>#REF!,\"اخطار ساعت اضافه کار از حداکثر بیشتر است\",\" \")","v":{"$error":"#REF!"}},{"$f":"IF(O488>#REF!,1,0)","v":{"$error":"#REF!"}}]
[486,{"$f":"IF(D489=0,\"\",Settings!$D$6)","v":""},{"$f":"IF(D489=0,\"\",LOOKUP(B489,'Rigion Code'!A:A,'Rigion Code'!B:B))","v":""},null,{"$f":"IF(D489=0,\" \",IF(ISNA(MATCH(D489,Personnel!A:A,0)),IF(ISNA(MATCH(D489,'اطلاعات افراد غیر حقوق بگیر'!A:A,0)),\"وجود ندارد\",LOOKUP(Edit!D489,'اطلاعات افراد غیر حقوق بگیر'!A:A,'اطلاعات افراد غیر حقوق بگیر'!B:B)),LOOKUP(D489,Personnel!A:A,Personnel!C:C)))","v":" "},{"$f":"IF(D489=0,\" \",IF(ISNA(MATCH(D489,Personnel!A:A,0)),IF(ISNA(MATCH(D489,'اطلاعات افراد غیر حقوق بگیر'!A:A,0)),\"وجود ندارد\",LOOKUP(D489,'اطلاعات افراد غیر حقوق بگیر'!A:A,'اطلاعات افراد غیر حقوق بگیر'!C:C)),LOOKUP(D489,Personnel!A:A,Personnel!B:B)))","v":" "},{"$f":"IF(D489=0,0,IF(ISNA(MATCH(D489,Personnel!A:A,0)),IF(ISNA(MATCH(D489,'اطلاعات افراد غیر حقوق بگیر'!A:A,0)),\"وجود ندارد\",LOOKUP(D489,'اطلاعات افراد غیر حقوق بگیر'!A:A,'اطلاعات افراد غیر حقوق بگیر'!D:D)),LOOKUP(D489,Master!D:D,Master!CD:CD)))","v":0},{"$f":"IF(D489=0,\" \",IF(ISNA(MATCH(D489,Personnel!A:A,0)),IF(ISNA(MATCH(D489,'اطلاعات افراد غیر حقوق بگیر'!A:A,0)),\"وجود ندارد\",LOOKUP(D489,'اطلاعات افراد غیر حقوق بگیر'!A:A,'اطلاعات افراد غیر حقوق بگیر'!E:E)),LOOKUP(D489,Master!D:D,Master!AH:AH)))","v":" "},{"$f":"SUMIFS(Pays!G:G,Pays!E:E,1,Pays!D:D,D489)","v":0},{"$f":"SUMIFS(Pays!G:G,Pays!E:E,2,Pays!D:D,D489)","v":0},{"$f":"SUMIFS(Pays!G:G,Pays!E:E,57,Pays!D:D,D489)","v":0},{"$f":"SUMIF(Pays!D:D,D489,Pays!G:G)","v":0},{"$f":"SUMIF(Pays!D:D,D489,Pays!G:G)/176","v":0},{"$f":"IF(M489=0,IF(ISNA(MATCH(D489,'اطلاعات افراد غیر حقوق بگیر'!A:A,0)),0,LOOKUP(D489,'اطلاعات افراد غیر حقوق بگیر'!A:A,'اطلاعات افراد غیر حقوق بگیر'!F:F)),IF(H489=31,Settings!$D$13,ROUND(M489,0)))","v":0},null,0,{"$f":"IF(ISNA(MATCH(D489,Master!D:D,0)),IF(ISNA(MATCH(D489,'اطلاعات افراد غیر حقوق بگیر'!A:A,0)),0,LOOKUP(D489,'اطلاعات افراد غیر حقوق بگیر'!A:A,'اطلاعات افراد غیر حقوق بگیر'!G:G)),LOOKUP(D489,Master!D:D,Master!J:J))","v":0},{"$error":"#N/A"},0,0,{"$f":"IF(O489>#REF!,\"اخطار ساعت اضافه کار از حداکثر بیشتر است\",\" \")","v":{"$error":"#REF!"}},{"$f":"IF(O489>#REF!,1,0)","v":{"$error":"#REF!"}}]
[487,{"$f":"IF(D490=0,\"\",Settings!$D$6)","v":""},{"$f":"IF(D490=0,\"\",LOOKUP(B490,'Rigion Code'!A:A,'Rigion Code'!B:B))","v":""},null,{"$f":"IF(D490=0,\" \",IF(ISNA(MATCH(D490,Personnel!A:A,0)),IF(ISNA(MATCH(D490,'اطلاعات افراد غیر حقوق بگیر'!A:A,0)),\"وجود ندارد\",LOOKUP(Edit!D490,'اطلاعات افراد غیر حقوق بگیر'!A:A,'اطلاعات افراد غیر حقوق بگیر'!B:B)),LOOKUP(D490,Personnel!A:A,Personnel!C:C)))","v":" "},{"$f":"IF(D490=0,\" \",IF(ISNA(MATCH(D490,Personnel!A:A,0)),IF(ISNA(MATCH(D490,'اطلاعات افراد غیر حقوق بگیر'!A:A,0)),\"وجود ندارد\",LOOKUP(D490,'اطلاعات افراد غیر حقوق بگیر'!A:A,'اطلاعات افراد غیر حقوق بگیر'!C:C)),LOOKUP(D490,Personnel!A:A,Personnel!B:B)))","v":" "},{"$f":"IF(D490=0,0,IF(ISNA(MATCH(D490,Personnel!A:A,0)),IF(ISNA(MATCH(D490,'اطلاعات افراد غیر حقوق بگیر'!A:A,0)),\"وجود ندارد\",LOOKUP(D490,'اطلاعات افراد غیر حقوق بگیر'!A:A,'اطلاعات افراد غیر حقوق بگیر'!D:D)),LOOKUP(D490,Master!D:D,Master!CD:CD)))","v":0},{"$f":"IF(D490=0,\" \",IF(ISNA(MATCH(D490,Personnel!A:A,0)),IF(ISNA(MATCH(D490,'اطلاعات افراد غیر حقوق بگیر'!A:A,0)),\"وجود ندارد\",LOOKUP(D490,'اطلاعات افراد غیر حقوق بگیر'!A:A,'اطلاعات افراد غیر حقوق بگیر'!E:E)),LOOKUP(D490,Master!D:D,Master!AH:AH)))","v":" "},{"$f":"SUMIFS(Pays!G:G,Pays!E:E,1,Pays!D:D,D490)","v":0},{"$f":"SUMIFS(Pays!G:G,Pays!E:E,2,Pays!D:D,D490)","v":0},{"$f":"SUMIFS(Pays!G:G,Pays!E:E,57,Pays!D:D,D490)","v":0},{"$f":"SUMIF(Pays!D:D,D490,Pays!G:G)","v":0},{"$f":"SUMIF(Pays!D:D,D490,Pays!G:G)/176","v":0},{"$f":"IF(M490=0,IF(ISNA(MATCH(D490,'اطلاعات افراد غیر حقوق بگیر'!A:A,0)),0,LOOKUP(D490,'اطلاعات افراد غیر حقوق بگیر'!A:A,'اطلاعات افراد غیر حقوق بگیر'!F:F)),IF(H490=31,Settings!$D$13,ROUND(M490,0)))","v":0},null,0,{"$f":"IF(ISNA(MATCH(D490,Master!D:D,0)),IF(ISNA(MATCH(D490,'اطلاعات افراد غیر حقوق بگیر'!A:A,0)),0,LOOKUP(D490,'اطلاعات افراد غیر حقوق بگیر'!A:A,'اطلاعات افراد غیر حقوق بگیر'!G:G)),LOOKUP(D490,Master!D:D,Master!J:J))","v":0},{"$error":"#N/A"},0,0,{"$f":"IF(O490>#REF!,\"اخطار ساعت اضافه کار از حداکثر بیشتر است\",\" \")","v":{"$error":"#REF!"}},{"$f":"IF(O490>#REF!,1,0)","v":{"$error":"#REF!"}}]
[488,{"$f":"IF(D491=0,\"\",Settings!$D$6)","v":""},{"$f":"IF(D491=0,\"\",LOOKUP(B491,'Rigion Code'!A:A,'Rigion Code'!B:B))","v":""},null,{"$f":"IF(D491=0,\" \",IF(ISNA(MATCH(D491,Personnel!A:A,0)),IF(ISNA(MATCH(D491,'اطلاعات افراد غیر حقوق بگیر'!A:A,0)),\"وجود ندارد\",LOOKUP(Edit!D491,'اطلاعات افراد غیر حقوق بگیر'!A:A,'اطلاعات افراد غیر حقوق بگیر'!B:B)),LOOKUP(D491,Personnel!A:A,Personnel!C:C)))","v":" "},{"$f":"IF(D491=0,\" \",IF(ISNA(MATCH(D491,Personnel!A:A,0)),IF(ISNA(MATCH(D491,'اطلاعات افراد غیر حقوق بگیر'!A:A,0)),\"وجود ندارد\",LOOKUP(D491,'اطلاعات افراد غیر حقوق بگیر'!A:A,'اطلاعات افراد غیر حقوق بگیر'!C:C)),LOOKUP(D491,Personnel!A:A,Personnel!B:B)))","v":" "},{"$f":"IF(D491=0,0,IF(ISNA(MATCH(D491,Personnel!A:A,0)),IF(ISNA(MATCH(D491,'اطلاعات افراد غیر حقوق بگیر'!A:A,0)),\"وجود ندارد\",LOOKUP(D491,'اطلاعات افراد غیر حقوق بگیر'!A:A,'اطلاعات افراد غیر حقوق بگیر'!D:D)),LOOKUP(D491,Master!D:D,Master!CD:CD)))","v":0},{"$f":"IF(D491=0,\" \",IF(ISNA(MATCH(D491,Personnel!A:A,0)),IF(ISNA(MATCH(D491,'اطلاعات افراد غیر حقوق بگیر'!A:A,0)),\"وجود ندارد\",LOOKUP(D491,'اطلاعات افراد غیر حقوق بگیر'!A:A,'اطلاعات افراد غیر حقوق بگیر'!E:E)),LOOKUP(D491,Master!D:D,Master!AH:AH)))","v":" "},{"$f":"SUMIFS(Pays!G:G,Pays!E:E,1,Pays!D:D,D491)","v":0},{"$f":"SUMIFS(Pays!G:G,Pays!E:E,2,Pays!D:D,D491)","v":0},{"$f":"SUMIFS(Pays!G:G,Pays!E:E,57,Pays!D:D,D491)","v":0},{"$f":"SUMIF(Pays!D:D,D491,Pays!G:G)","v":0},{"$f":"SUMIF(Pays!D:D,D491,Pays!G:G)/176","v":0},{"$f":"IF(M491=0,IF(ISNA(MATCH(D491,'اطلاعات افراد غیر حقوق بگیر'!A:A,0)),0,LOOKUP(D491,'اطلاعات افراد غیر حقوق بگیر'!A:A,'اطلاعات افراد غیر حقوق بگیر'!F:F)),IF(H491=31,Settings!$D$13,ROUND(M491,0)))","v":0},null,0,{"$f":"IF(ISNA(MATCH(D491,Master!D:D,0)),IF(ISNA(MATCH(D491,'اطلاعات افراد غیر حقوق بگیر'!A:A,0)),0,LOOKUP(D491,'اطلاعات افراد غیر حقوق بگیر'!A:A,'اطلاعات افراد غیر حقوق بگیر'!G:G)),LOOKUP(D491,Master!D:D,Master!J:J))","v":0},{"$error":"#N/A"},0,0,{"$f":"IF(O491>#REF!,\"اخطار ساعت اضافه کار از حداکثر بیشتر است\",\" \")","v":{"$error":"#REF!"}},{"$f":"IF(O491>#REF!,1,0)","v":{"$error":"#REF!"}}]
[489,{"$f":"IF(D492=0,\"\",Settings!$D$6)","v":""},{"$f":"IF(D492=0,\"\",LOOKUP(B492,'Rigion Code'!A:A,'Rigion Code'!B:B))","v":""},null,{"$f":"IF(D492=0,\" \",IF(ISNA(MATCH(D492,Personnel!A:A,0)),IF(ISNA(MATCH(D492,'اطلاعات افراد غیر حقوق بگیر'!A:A,0)),\"وجود ندارد\",LOOKUP(Edit!D492,'اطلاعات افراد غیر حقوق بگیر'!A:A,'اطلاعات افراد غیر حقوق بگیر'!B:B)),LOOKUP(D492,Personnel!A:A,Personnel!C:C)))","v":" "},{"$f":"IF(D492=0,\" \",IF(ISNA(MATCH(D492,Personnel!A:A,0)),IF(ISNA(MATCH(D492,'اطلاعات افراد غیر حقوق بگیر'!A:A,0)),\"وجود ندارد\",LOOKUP(D492,'اطلاعات افراد غیر حقوق بگیر'!A:A,'اطلاعات افراد غیر حقوق بگیر'!C:C)),LOOKUP(D492,Personnel!A:A,Personnel!B:B)))","v":" "},{"$f":"IF(D492=0,0,IF(ISNA(MATCH(D492,Personnel!A:A,0)),IF(ISNA(MATCH(D492,'اطلاعات افراد غیر حقوق بگیر'!A:A,0)),\"وجود ندارد\",LOOKUP(D492,'اطلاعات افراد غیر حقوق بگیر'!A:A,'اطلاعات افراد غیر حقوق بگیر'!D:D)),LOOKUP(D492,Master!D:D,Master!CD:CD)))","v":0},{"$f":"IF(D492=0,\" \",IF(ISNA(MATCH(D492,Personnel!A:A,0)),IF(ISNA(MATCH(D492,'اطلاعات افراد غیر حقوق بگیر'!A:A,0)),\"وجود ندارد\",LOOKUP(D492,'اطلاعات افراد غیر حقوق بگیر'!A:A,'اطلاعات افراد غیر حقوق بگیر'!E:E)),LOOKUP(D492,Master!D:D,Master!AH:AH)))","v":" "},{"$f":"SUMIFS(Pays!G:G,Pays!E:E,1,Pays!D:D,D492)","v":0},{"$f":"SUMIFS(Pays!G:G,Pays!E:E,2,Pays!D:D,D492)","v":0},{"$f":"SUMIFS(Pays!G:G,Pays!E:E,57,Pays!D:D,D492)","v":0},{"$f":"SUMIF(Pays!D:D,D492,Pays!G:G)","v":0},{"$f":"SUMIF(Pays!D:D,D492,Pays!G:G)/176","v":0},{"$f":"IF(M492=0,IF(ISNA(MATCH(D492,'اطلاعات افراد غیر حقوق بگیر'!A:A,0)),0,LOOKUP(D492,'اطلاعات افراد غیر حقوق بگیر'!A:A,'اطلاعات افراد غیر حقوق بگیر'!F:F)),IF(H492=31,Settings!$D$13,ROUND(M492,0)))","v":0},null,0,{"$f":"IF(ISNA(MATCH(D492,Master!D:D,0)),IF(ISNA(MATCH(D492,'اطلاعات افراد غیر حقوق بگیر'!A:A,0)),0,LOOKUP(D492,'اطلاعات افراد غیر حقوق بگیر'!A:A,'اطلاعات افراد غیر حقوق بگیر'!G:G)),LOOKUP(D492,Master!D:D,Master!J:J))","v":0},{"$error":"#N/A"},0,0,{"$f":"IF(O492>#REF!,\"اخطار ساعت اضافه کار از حداکثر بیشتر است\",\" \")","v":{"$error":"#REF!"}},{"$f":"IF(O492>#REF!,1,0)","v":{"$error":"#REF!"}}]
[490,{"$f":"IF(D493=0,\"\",Settings!$D$6)","v":""},{"$f":"IF(D493=0,\"\",LOOKUP(B493,'Rigion Code'!A:A,'Rigion Code'!B:B))","v":""},null,{"$f":"IF(D493=0,\" \",IF(ISNA(MATCH(D493,Personnel!A:A,0)),IF(ISNA(MATCH(D493,'اطلاعات افراد غیر حقوق بگیر'!A:A,0)),\"وجود ندارد\",LOOKUP(Edit!D493,'اطلاعات افراد غیر حقوق بگیر'!A:A,'اطلاعات افراد غیر حقوق بگیر'!B:B)),LOOKUP(D493,Personnel!A:A,Personnel!C:C)))","v":" "},{"$f":"IF(D493=0,\" \",IF(ISNA(MATCH(D493,Personnel!A:A,0)),IF(ISNA(MATCH(D493,'اطلاعات افراد غیر حقوق بگیر'!A:A,0)),\"وجود ندارد\",LOOKUP(D493,'اطلاعات افراد غیر حقوق بگیر'!A:A,'اطلاعات افراد غیر حقوق بگیر'!C:C)),LOOKUP(D493,Personnel!A:A,Personnel!B:B)))","v":" "},{"$f":"IF(D493=0,0,IF(ISNA(MATCH(D493,Personnel!A:A,0)),IF(ISNA(MATCH(D493,'اطلاعات افراد غیر حقوق بگیر'!A:A,0)),\"وجود ندارد\",LOOKUP(D493,'اطلاعات افراد غیر حقوق بگیر'!A:A,'اطلاعات افراد غیر حقوق بگیر'!D:D)),LOOKUP(D493,Master!D:D,Master!CD:CD)))","v":0},{"$f":"IF(D493=0,\" \",IF(ISNA(MATCH(D493,Personnel!A:A,0)),IF(ISNA(MATCH(D493,'اطلاعات افراد غیر حقوق بگیر'!A:A,0)),\"وجود ندارد\",LOOKUP(D493,'اطلاعات افراد غیر حقوق بگیر'!A:A,'اطلاعات افراد غیر حقوق بگیر'!E:E)),LOOKUP(D493,Master!D:D,Master!AH:AH)))","v":" "},{"$f":"SUMIFS(Pays!G:G,Pays!E:E,1,Pays!D:D,D493)","v":0},{"$f":"SUMIFS(Pays!G:G,Pays!E:E,2,Pays!D:D,D493)","v":0},{"$f":"SUMIFS(Pays!G:G,Pays!E:E,57,Pays!D:D,D493)","v":0},{"$f":"SUMIF(Pays!D:D,D493,Pays!G:G)","v":0},{"$f":"SUMIF(Pays!D:D,D493,Pays!G:G)/176","v":0},{"$f":"IF(M493=0,IF(ISNA(MATCH(D493,'اطلاعات افراد غیر حقوق بگیر'!A:A,0)),0,LOOKUP(D493,'اطلاعات افراد غیر حقوق بگیر'!A:A,'اطلاعات افراد غیر حقوق بگیر'!F:F)),IF(H493=31,Settings!$D$13,ROUND(M493,0)))","v":0},null,0,{"$f":"IF(ISNA(MATCH(D493,Master!D:D,0)),IF(ISNA(MATCH(D493,'اطلاعات افراد غیر حقوق بگیر'!A:A,0)),0,LOOKUP(D493,'اطلاعات افراد غیر حقوق بگیر'!A:A,'اطلاعات افراد غیر حقوق بگیر'!G:G)),LOOKUP(D493,Master!D:D,Master!J:J))","v":0},{"$error":"#N/A"},0,0,{"$f":"IF(O493>#REF!,\"اخطار ساعت اضافه کار از حداکثر بیشتر است\",\" \")","v":{"$error":"#REF!"}},{"$f":"IF(O493>#REF!,1,0)","v":{"$error":"#REF!"}}]
[491,{"$f":"IF(D494=0,\"\",Settings!$D$6)","v":""},{"$f":"IF(D494=0,\"\",LOOKUP(B494,'Rigion Code'!A:A,'Rigion Code'!B:B))","v":""},null,{"$f":"IF(D494=0,\" \",IF(ISNA(MATCH(D494,Personnel!A:A,0)),IF(ISNA(MATCH(D494,'اطلاعات افراد غیر حقوق بگیر'!A:A,0)),\"وجود ندارد\",LOOKUP(Edit!D494,'اطلاعات افراد غیر حقوق بگیر'!A:A,'اطلاعات افراد غیر حقوق بگیر'!B:B)),LOOKUP(D494,Personnel!A:A,Personnel!C:C)))","v":" "},{"$f":"IF(D494=0,\" \",IF(ISNA(MATCH(D494,Personnel!A:A,0)),IF(ISNA(MATCH(D494,'اطلاعات افراد غیر حقوق بگیر'!A:A,0)),\"وجود ندارد\",LOOKUP(D494,'اطلاعات افراد غیر حقوق بگیر'!A:A,'اطلاعات افراد غیر حقوق بگیر'!C:C)),LOOKUP(D494,Personnel!A:A,Personnel!B:B)))","v":" "},{"$f":"IF(D494=0,0,IF(ISNA(MATCH(D494,Personnel!A:A,0)),IF(ISNA(MATCH(D494,'اطلاعات افراد غیر حقوق بگیر'!A:A,0)),\"وجود ندارد\",LOOKUP(D494,'اطلاعات افراد غیر حقوق بگیر'!A:A,'اطلاعات افراد غیر حقوق بگیر'!D:D)),LOOKUP(D494,Master!D:D,Master!CD:CD)))","v":0},{"$f":"IF(D494=0,\" \",IF(ISNA(MATCH(D494,Personnel!A:A,0)),IF(ISNA(MATCH(D494,'اطلاعات افراد غیر حقوق بگیر'!A:A,0)),\"وجود ندارد\",LOOKUP(D494,'اطلاعات افراد غیر حقوق بگیر'!A:A,'اطلاعات افراد غیر حقوق بگیر'!E:E)),LOOKUP(D494,Master!D:D,Master!AH:AH)))","v":" "},{"$f":"SUMIFS(Pays!G:G,Pays!E:E,1,Pays!D:D,D494)","v":0},{"$f":"SUMIFS(Pays!G:G,Pays!E:E,2,Pays!D:D,D494)","v":0},{"$f":"SUMIFS(Pays!G:G,Pays!E:E,57,Pays!D:D,D494)","v":0},{"$f":"SUMIF(Pays!D:D,D494,Pays!G:G)","v":0},{"$f":"SUMIF(Pays!D:D,D494,Pays!G:G)/176","v":0},{"$f":"IF(M494=0,IF(ISNA(MATCH(D494,'اطلاعات افراد غیر حقوق بگیر'!A:A,0)),0,LOOKUP(D494,'اطلاعات افراد غیر حقوق بگیر'!A:A,'اطلاعات افراد غیر حقوق بگیر'!F:F)),IF(H494=31,Settings!$D$13,ROUND(M494,0)))","v":0},null,0,{"$f":"IF(ISNA(MATCH(D494,Master!D:D,0)),IF(ISNA(MATCH(D494,'اطلاعات افراد غیر حقوق بگیر'!A:A,0)),0,LOOKUP(D494,'اطلاعات افراد غیر حقوق بگیر'!A:A,'اطلاعات افراد غیر حقوق بگیر'!G:G)),LOOKUP(D494,Master!D:D,Master!J:J))","v":0},{"$error":"#N/A"},0,0,{"$f":"IF(O494>#REF!,\"اخطار ساعت اضافه کار از حداکثر بیشتر است\",\" \")","v":{"$error":"#REF!"}},{"$f":"IF(O494>#REF!,1,0)","v":{"$error":"#REF!"}}]
[492,{"$f":"IF(D495=0,\"\",Settings!$D$6)","v":""},{"$f":"IF(D495=0,\"\",LOOKUP(B495,'Rigion Code'!A:A,'Rigion Code'!B:B))","v":""},null,{"$f":"IF(D495=0,\" \",IF(ISNA(MATCH(D495,Personnel!A:A,0)),IF(ISNA(MATCH(D495,'اطلاعات افراد غیر حقوق بگیر'!A:A,0)),\"وجود ندارد\",LOOKUP(Edit!D495,'اطلاعات افراد غیر حقوق بگیر'!A:A,'اطلاعات افراد غیر حقوق بگیر'!B:B)),LOOKUP(D495,Personnel!A:A,Personnel!C:C)))","v":" "},{"$f":"IF(D495=0,\" \",IF(ISNA(MATCH(D495,Personnel!A:A,0)),IF(ISNA(MATCH(D495,'اطلاعات افراد غیر حقوق بگیر'!A:A,0)),\"وجود ندارد\",LOOKUP(D495,'اطلاعات افراد غیر حقوق بگیر'!A:A,'اطلاعات افراد غیر حقوق بگیر'!C:C)),LOOKUP(D495,Personnel!A:A,Personnel!B:B)))","v":" "},{"$f":"IF(D495=0,0,IF(ISNA(MATCH(D495,Personnel!A:A,0)),IF(ISNA(MATCH(D495,'اطلاعات افراد غیر حقوق بگیر'!A:A,0)),\"وجود ندارد\",LOOKUP(D495,'اطلاعات افراد غیر حقوق بگیر'!A:A,'اطلاعات افراد غیر حقوق بگیر'!D:D)),LOOKUP(D495,Master!D:D,Master!CD:CD)))","v":0},{"$f":"IF(D495=0,\" \",IF(ISNA(MATCH(D495,Personnel!A:A,0)),IF(ISNA(MATCH(D495,'اطلاعات افراد غیر حقوق بگیر'!A:A,0)),\"وجود ندارد\",LOOKUP(D495,'اطلاعات افراد غیر حقوق بگیر'!A:A,'اطلاعات افراد غیر حقوق بگیر'!E:E)),LOOKUP(D495,Master!D:D,Master!AH:AH)))","v":" "},{"$f":"SUMIFS(Pays!G:G,Pays!E:E,1,Pays!D:D,D495)","v":0},{"$f":"SUMIFS(Pays!G:G,Pays!E:E,2,Pays!D:D,D495)","v":0},{"$f":"SUMIFS(Pays!G:G,Pays!E:E,57,Pays!D:D,D495)","v":0},{"$f":"SUMIF(Pays!D:D,D495,Pays!G:G)","v":0},{"$f":"SUMIF(Pays!D:D,D495,Pays!G:G)/176","v":0},{"$f":"IF(M495=0,IF(ISNA(MATCH(D495,'اطلاعات افراد غیر حقوق بگیر'!A:A,0)),0,LOOKUP(D495,'اطلاعات افراد غیر حقوق بگیر'!A:A,'اطلاعات افراد غیر حقوق بگیر'!F:F)),IF(H495=31,Settings!$D$13,ROUND(M495,0)))","v":0},null,0,{"$f":"IF(ISNA(MATCH(D495,Master!D:D,0)),IF(ISNA(MATCH(D495,'اطلاعات افراد غیر حقوق بگیر'!A:A,0)),0,LOOKUP(D495,'اطلاعات افراد غیر حقوق بگیر'!A:A,'اطلاعات افراد غیر حقوق بگیر'!G:G)),LOOKUP(D495,Master!D:D,Master!J:J))","v":0},{"$error":"#N/A"},0,0,{"$f":"IF(O495>#REF!,\"اخطار ساعت اضافه کار از حداکثر بیشتر است\",\" \")","v":{"$error":"#REF!"}},{"$f":"IF(O495>#REF!,1,0)","v":{"$error":"#REF!"}}]
[493,{"$f":"IF(D496=0,\"\",Settings!$D$6)","v":""},{"$f":"IF(D496=0,\"\",LOOKUP(B496,'Rigion Code'!A:A,'Rigion Code'!B:B))","v":""},null,{"$f":"IF(D496=0,\" \",IF(ISNA(MATCH(D496,Personnel!A:A,0)),IF(ISNA(MATCH(D496,'اطلاعات افراد غیر حقوق بگیر'!A:A,0)),\"وجود ندارد\",LOOKUP(Edit!D496,'اطلاعات افراد غیر حقوق بگیر'!A:A,'اطلاعات افراد غیر حقوق بگیر'!B:B)),LOOKUP(D496,Personnel!A:A,Personnel!C:C)))","v":" "},{"$f":"IF(D496=0,\" \",IF(ISNA(MATCH(D496,Personnel!A:A,0)),IF(ISNA(MATCH(D496,'اطلاعات افراد غیر حقوق بگیر'!A:A,0)),\"وجود ندارد\",LOOKUP(D496,'اطلاعات افراد غیر حقوق بگیر'!A:A,'اطلاعات افراد غیر حقوق بگیر'!C:C)),LOOKUP(D496,Personnel!A:A,Personnel!B:B)))","v":" "},{"$f":"IF(D496=0,0,IF(ISNA(MATCH(D496,Personnel!A:A,0)),IF(ISNA(MATCH(D496,'اطلاعات افراد غیر حقوق بگیر'!A:A,0)),\"وجود ندارد\",LOOKUP(D496,'اطلاعات افراد غیر حقوق بگیر'!A:A,'اطلاعات افراد غیر حقوق بگیر'!D:D)),LOOKUP(D496,Master!D:D,Master!CD:CD)))","v":0},{"$f":"IF(D496=0,\" \",IF(ISNA(MATCH(D496,Personnel!A:A,0)),IF(ISNA(MATCH(D496,'اطلاعات افراد غیر حقوق بگیر'!A:A,0)),\"وجود ندارد\",LOOKUP(D496,'اطلاعات افراد غیر حقوق بگیر'!A:A,'اطلاعات افراد غیر حقوق بگیر'!E:E)),LOOKUP(D496,Master!D:D,Master!AH:AH)))","v":" "},{"$f":"SUMIFS(Pays!G:G,Pays!E:E,1,Pays!D:D,D496)","v":0},{"$f":"SUMIFS(Pays!G:G,Pays!E:E,2,Pays!D:D,D496)","v":0},{"$f":"SUMIFS(Pays!G:G,Pays!E:E,57,Pays!D:D,D496)","v":0},{"$f":"SUMIF(Pays!D:D,D496,Pays!G:G)","v":0},{"$f":"SUMIF(Pays!D:D,D496,Pays!G:G)/176","v":0},{"$f":"IF(M496=0,IF(ISNA(MATCH(D496,'اطلاعات افراد غیر حقوق بگیر'!A:A,0)),0,LOOKUP(D496,'اطلاعات افراد غیر حقوق بگیر'!A:A,'اطلاعات افراد غیر حقوق بگیر'!F:F)),IF(H496=31,Settings!$D$13,ROUND(M496,0)))","v":0},null,0,{"$f":"IF(ISNA(MATCH(D496,Master!D:D,0)),IF(ISNA(MATCH(D496,'اطلاعات افراد غیر حقوق بگیر'!A:A,0)),0,LOOKUP(D496,'اطلاعات افراد غیر حقوق بگیر'!A:A,'اطلاعات افراد غیر حقوق بگیر'!G:G)),LOOKUP(D496,Master!D:D,Master!J:J))","v":0},{"$error":"#N/A"},0,0,{"$f":"IF(O496>#REF!,\"اخطار ساعت اضافه کار از حداکثر بیشتر است\",\" \")","v":{"$error":"#REF!"}},{"$f":"IF(O496>#REF!,1,0)","v":{"$error":"#REF!"}}]
[494,{"$f":"IF(D497=0,\"\",Settings!$D$6)","v":""},{"$f":"IF(D497=0,\"\",LOOKUP(B497,'Rigion Code'!A:A,'Rigion Code'!B:B))","v":""},null,{"$f":"IF(D497=0,\" \",IF(ISNA(MATCH(D497,Personnel!A:A,0)),IF(ISNA(MATCH(D497,'اطلاعات افراد غیر حقوق بگیر'!A:A,0)),\"وجود ندارد\",LOOKUP(Edit!D497,'اطلاعات افراد غیر حقوق بگیر'!A:A,'اطلاعات افراد غیر حقوق بگیر'!B:B)),LOOKUP(D497,Personnel!A:A,Personnel!C:C)))","v":" "},{"$f":"IF(D497=0,\" \",IF(ISNA(MATCH(D497,Personnel!A:A,0)),IF(ISNA(MATCH(D497,'اطلاعات افراد غیر حقوق بگیر'!A:A,0)),\"وجود ندارد\",LOOKUP(D497,'اطلاعات افراد غیر حقوق بگیر'!A:A,'اطلاعات افراد غیر حقوق بگیر'!C:C)),LOOKUP(D497,Personnel!A:A,Personnel!B:B)))","v":" "},{"$f":"IF(D497=0,0,IF(ISNA(MATCH(D497,Personnel!A:A,0)),IF(ISNA(MATCH(D497,'اطلاعات افراد غیر حقوق بگیر'!A:A,0)),\"وجود ندارد\",LOOKUP(D497,'اطلاعات افراد غیر حقوق بگیر'!A:A,'اطلاعات افراد غیر حقوق بگیر'!D:D)),LOOKUP(D497,Master!D:D,Master!CD:CD)))","v":0},{"$f":"IF(D497=0,\" \",IF(ISNA(MATCH(D497,Personnel!A:A,0)),IF(ISNA(MATCH(D497,'اطلاعات افراد غیر حقوق بگیر'!A:A,0)),\"وجود ندارد\",LOOKUP(D497,'اطلاعات افراد غیر حقوق بگیر'!A:A,'اطلاعات افراد غیر حقوق بگیر'!E:E)),LOOKUP(D497,Master!D:D,Master!AH:AH)))","v":" "},{"$f":"SUMIFS(Pays!G:G,Pays!E:E,1,Pays!D:D,D497)","v":0},{"$f":"SUMIFS(Pays!G:G,Pays!E:E,2,Pays!D:D,D497)","v":0},{"$f":"SUMIFS(Pays!G:G,Pays!E:E,57,Pays!D:D,D497)","v":0},{"$f":"SUMIF(Pays!D:D,D497,Pays!G:G)","v":0},{"$f":"SUMIF(Pays!D:D,D497,Pays!G:G)/176","v":0},{"$f":"IF(M497=0,IF(ISNA(MATCH(D497,'اطلاعات افراد غیر حقوق بگیر'!A:A,0)),0,LOOKUP(D497,'اطلاعات افراد غیر حقوق بگیر'!A:A,'اطلاعات افراد غیر حقوق بگیر'!F:F)),IF(H497=31,Settings!$D$13,ROUND(M497,0)))","v":0},null,0,{"$f":"IF(ISNA(MATCH(D497,Master!D:D,0)),IF(ISNA(MATCH(D497,'اطلاعات افراد غیر حقوق بگیر'!A:A,0)),0,LOOKUP(D497,'اطلاعات افراد غیر حقوق بگیر'!A:A,'اطلاعات افراد غیر حقوق بگیر'!G:G)),LOOKUP(D497,Master!D:D,Master!J:J))","v":0},{"$error":"#N/A"},0,0,{"$f":"IF(O497>#REF!,\"اخطار ساعت اضافه کار از حداکثر بیشتر است\",\" \")","v":{"$error":"#REF!"}},{"$f":"IF(O497>#REF!,1,0)","v":{"$error":"#REF!"}}]
[495,{"$f":"IF(D498=0,\"\",Settings!$D$6)","v":""},{"$f":"IF(D498=0,\"\",LOOKUP(B498,'Rigion Code'!A:A,'Rigion Code'!B:B))","v":""},null,{"$f":"IF(D498=0,\" \",IF(ISNA(MATCH(D498,Personnel!A:A,0)),IF(ISNA(MATCH(D498,'اطلاعات افراد غیر حقوق بگیر'!A:A,0)),\"وجود ندارد\",LOOKUP(Edit!D498,'اطلاعات افراد غیر حقوق بگیر'!A:A,'اطلاعات افراد غیر حقوق بگیر'!B:B)),LOOKUP(D498,Personnel!A:A,Personnel!C:C)))","v":" "},{"$f":"IF(D498=0,\" \",IF(ISNA(MATCH(D498,Personnel!A:A,0)),IF(ISNA(MATCH(D498,'اطلاعات افراد غیر حقوق بگیر'!A:A,0)),\"وجود ندارد\",LOOKUP(D498,'اطلاعات افراد غیر حقوق بگیر'!A:A,'اطلاعات افراد غیر حقوق بگیر'!C:C)),LOOKUP(D498,Personnel!A:A,Personnel!B:B)))","v":" "},{"$f":"IF(D498=0,0,IF(ISNA(MATCH(D498,Personnel!A:A,0)),IF(ISNA(MATCH(D498,'اطلاعات افراد غیر حقوق بگیر'!A:A,0)),\"وجود ندارد\",LOOKUP(D498,'اطلاعات افراد غیر حقوق بگیر'!A:A,'اطلاعات افراد غیر حقوق بگیر'!D:D)),LOOKUP(D498,Master!D:D,Master!CD:CD)))","v":0},{"$f":"IF(D498=0,\" \",IF(ISNA(MATCH(D498,Personnel!A:A,0)),IF(ISNA(MATCH(D498,'اطلاعات افراد غیر حقوق بگیر'!A:A,0)),\"وجود ندارد\",LOOKUP(D498,'اطلاعات افراد غیر حقوق بگیر'!A:A,'اطلاعات افراد غیر حقوق بگیر'!E:E)),LOOKUP(D498,Master!D:D,Master!AH:AH)))","v":" "},{"$f":"SUMIFS(Pays!G:G,Pays!E:E,1,Pays!D:D,D498)","v":0},{"$f":"SUMIFS(Pays!G:G,Pays!E:E,2,Pays!D:D,D498)","v":0},{"$f":"SUMIFS(Pays!G:G,Pays!E:E,57,Pays!D:D,D498)","v":0},{"$f":"SUMIF(Pays!D:D,D498,Pays!G:G)","v":0},{"$f":"SUMIF(Pays!D:D,D498,Pays!G:G)/176","v":0},{"$f":"IF(M498=0,IF(ISNA(MATCH(D498,'اطلاعات افراد غیر حقوق بگیر'!A:A,0)),0,LOOKUP(D498,'اطلاعات افراد غیر حقوق بگیر'!A:A,'اطلاعات افراد غیر حقوق بگیر'!F:F)),IF(H498=31,Settings!$D$13,ROUND(M498,0)))","v":0},null,0,{"$f":"IF(ISNA(MATCH(D498,Master!D:D,0)),IF(ISNA(MATCH(D498,'اطلاعات افراد غیر حقوق بگیر'!A:A,0)),0,LOOKUP(D498,'اطلاعات افراد غیر حقوق بگیر'!A:A,'اطلاعات افراد غیر حقوق بگیر'!G:G)),LOOKUP(D498,Master!D:D,Master!J:J))","v":0},{"$error":"#N/A"},0,0,{"$f":"IF(O498>#REF!,\"اخطار ساعت اضافه کار از حداکثر بیشتر است\",\" \")","v":{"$error":"#REF!"}},{"$f":"IF(O498>#REF!,1,0)","v":{"$error":"#REF!"}}]
[496,{"$f":"IF(D499=0,\"\",Settings!$D$6)","v":""},{"$f":"IF(D499=0,\"\",LOOKUP(B499,'Rigion Code'!A:A,'Rigion Code'!B:B))","v":""},null,{"$f":"IF(D499=0,\" \",IF(ISNA(MATCH(D499,Personnel!A:A,0)),IF(ISNA(MATCH(D499,'اطلاعات افراد غیر حقوق بگیر'!A:A,0)),\"وجود ندارد\",LOOKUP(Edit!D499,'اطلاعات افراد غیر حقوق بگیر'!A:A,'اطلاعات افراد غیر حقوق بگیر'!B:B)),LOOKUP(D499,Personnel!A:A,Personnel!C:C)))","v":" "},{"$f":"IF(D499=0,\" \",IF(ISNA(MATCH(D499,Personnel!A:A,0)),IF(ISNA(MATCH(D499,'اطلاعات افراد غیر حقوق بگیر'!A:A,0)),\"وجود ندارد\",LOOKUP(D499,'اطلاعات افراد غیر حقوق بگیر'!A:A,'اطلاعات افراد غیر حقوق بگیر'!C:C)),LOOKUP(D499,Personnel!A:A,Personnel!B:B)))","v":" "},{"$f":"IF(D499=0,0,IF(ISNA(MATCH(D499,Personnel!A:A,0)),IF(ISNA(MATCH(D499,'اطلاعات افراد غیر حقوق بگیر'!A:A,0)),\"وجود ندارد\",LOOKUP(D499,'اطلاعات افراد غیر حقوق بگیر'!A:A,'اطلاعات افراد غیر حقوق بگیر'!D:D)),LOOKUP(D499,Master!D:D,Master!CD:CD)))","v":0},{"$f":"IF(D499=0,\" \",IF(ISNA(MATCH(D499,Personnel!A:A,0)),IF(ISNA(MATCH(D499,'اطلاعات افراد غیر حقوق بگیر'!A:A,0)),\"وجود ندارد\",LOOKUP(D499,'اطلاعات افراد غیر حقوق بگیر'!A:A,'اطلاعات افراد غیر حقوق بگیر'!E:E)),LOOKUP(D499,Master!D:D,Master!AH:AH)))","v":" "},{"$f":"SUMIFS(Pays!G:G,Pays!E:E,1,Pays!D:D,D499)","v":0},{"$f":"SUMIFS(Pays!G:G,Pays!E:E,2,Pays!D:D,D499)","v":0},{"$f":"SUMIFS(Pays!G:G,Pays!E:E,57,Pays!D:D,D499)","v":0},{"$f":"SUMIF(Pays!D:D,D499,Pays!G:G)","v":0},{"$f":"SUMIF(Pays!D:D,D499,Pays!G:G)/176","v":0},{"$f":"IF(M499=0,IF(ISNA(MATCH(D499,'اطلاعات افراد غیر حقوق بگیر'!A:A,0)),0,LOOKUP(D499,'اطلاعات افراد غیر حقوق بگیر'!A:A,'اطلاعات افراد غیر حقوق بگیر'!F:F)),IF(H499=31,Settings!$D$13,ROUND(M499,0)))","v":0},null,0,{"$f":"IF(ISNA(MATCH(D499,Master!D:D,0)),IF(ISNA(MATCH(D499,'اطلاعات افراد غیر حقوق بگیر'!A:A,0)),0,LOOKUP(D499,'اطلاعات افراد غیر حقوق بگیر'!A:A,'اطلاعات افراد غیر حقوق بگیر'!G:G)),LOOKUP(D499,Master!D:D,Master!J:J))","v":0},{"$error":"#N/A"},0,0,{"$f":"IF(O499>#REF!,\"اخطار ساعت اضافه کار از حداکثر بیشتر است\",\" \")","v":{"$error":"#REF!"}},{"$f":"IF(O499>#REF!,1,0)","v":{"$error":"#REF!"}}]
[497,{"$f":"IF(D500=0,\"\",Settings!$D$6)","v":""},{"$f":"IF(D500=0,\"\",LOOKUP(B500,'Rigion Code'!A:A,'Rigion Code'!B:B))","v":""},null,{"$f":"IF(D500=0,\" \",IF(ISNA(MATCH(D500,Personnel!A:A,0)),IF(ISNA(MATCH(D500,'اطلاعات افراد غیر حقوق بگیر'!A:A,0)),\"وجود ندارد\",LOOKUP(Edit!D500,'اطلاعات افراد غیر حقوق بگیر'!A:A,'اطلاعات افراد غیر حقوق بگیر'!B:B)),LOOKUP(D500,Personnel!A:A,Personnel!C:C)))","v":" "},{"$f":"IF(D500=0,\" \",IF(ISNA(MATCH(D500,Personnel!A:A,0)),IF(ISNA(MATCH(D500,'اطلاعات افراد غیر حقوق بگیر'!A:A,0)),\"وجود ندارد\",LOOKUP(D500,'اطلاعات افراد غیر حقوق بگیر'!A:A,'اطلاعات افراد غیر حقوق بگیر'!C:C)),LOOKUP(D500,Personnel!A:A,Personnel!B:B)))","v":" "},{"$f":"IF(D500=0,0,IF(ISNA(MATCH(D500,Personnel!A:A,0)),IF(ISNA(MATCH(D500,'اطلاعات افراد غیر حقوق بگیر'!A:A,0)),\"وجود ندارد\",LOOKUP(D500,'اطلاعات افراد غیر حقوق بگیر'!A:A,'اطلاعات افراد غیر حقوق بگیر'!D:D)),LOOKUP(D500,Master!D:D,Master!CD:CD)))","v":0},{"$f":"IF(D500=0,\" \",IF(ISNA(MATCH(D500,Personnel!A:A,0)),IF(ISNA(MATCH(D500,'اطلاعات افراد غیر حقوق بگیر'!A:A,0)),\"وجود ندارد\",LOOKUP(D500,'اطلاعات افراد غیر حقوق بگیر'!A:A,'اطلاعات افراد غیر حقوق بگیر'!E:E)),LOOKUP(D500,Master!D:D,Master!AH:AH)))","v":" "},{"$f":"SUMIFS(Pays!G:G,Pays!E:E,1,Pays!D:D,D500)","v":0},{"$f":"SUMIFS(Pays!G:G,Pays!E:E,2,Pays!D:D,D500)","v":0},{"$f":"SUMIFS(Pays!G:G,Pays!E:E,57,Pays!D:D,D500)","v":0},{"$f":"SUMIF(Pays!D:D,D500,Pays!G:G)","v":0},{"$f":"SUMIF(Pays!D:D,D500,Pays!G:G)/176","v":0},{"$f":"IF(M500=0,IF(ISNA(MATCH(D500,'اطلاعات افراد غیر حقوق بگیر'!A:A,0)),0,LOOKUP(D500,'اطلاعات افراد غیر حقوق بگیر'!A:A,'اطلاعات افراد غیر حقوق بگیر'!F:F)),IF(H500=31,Settings!$D$13,ROUND(M500,0)))","v":0},null,0,{"$f":"IF(ISNA(MATCH(D500,Master!D:D,0)),IF(ISNA(MATCH(D500,'اطلاعات افراد غیر حقوق بگیر'!A:A,0)),0,LOOKUP(D500,'اطلاعات افراد غیر حقوق بگیر'!A:A,'اطلاعات افراد غیر حقوق بگیر'!G:G)),LOOKUP(D500,Master!D:D,Master!J:J))","v":0},{"$error":"#N/A"},0,0,{"$f":"IF(O500>#REF!,\"اخطار ساعت اضافه کار از حداکثر بیشتر است\",\" \")","v":{"$error":"#REF!"}},{"$f":"IF(O500>#REF!,1,0)","v":{"$error":"#REF!"}}]
[498,{"$f":"IF(D501=0,\"\",Settings!$D$6)","v":""},{"$f":"IF(D501=0,\"\",LOOKUP(B501,'Rigion Code'!A:A,'Rigion Code'!B:B))","v":""},null,{"$f":"IF(D501=0,\" \",IF(ISNA(MATCH(D501,Personnel!A:A,0)),IF(ISNA(MATCH(D501,'اطلاعات افراد غیر حقوق بگیر'!A:A,0)),\"وجود ندارد\",LOOKUP(Edit!D501,'اطلاعات افراد غیر حقوق بگیر'!A:A,'اطلاعات افراد غیر حقوق بگیر'!B:B)),LOOKUP(D501,Personnel!A:A,Personnel!C:C)))","v":" "},{"$f":"IF(D501=0,\" \",IF(ISNA(MATCH(D501,Personnel!A:A,0)),IF(ISNA(MATCH(D501,'اطلاعات افراد غیر حقوق بگیر'!A:A,0)),\"وجود ندارد\",LOOKUP(D501,'اطلاعات افراد غیر حقوق بگیر'!A:A,'اطلاعات افراد غیر حقوق بگیر'!C:C)),LOOKUP(D501,Personnel!A:A,Personnel!B:B)))","v":" "},{"$f":"IF(D501=0,0,IF(ISNA(MATCH(D501,Personnel!A:A,0)),IF(ISNA(MATCH(D501,'اطلاعات افراد غیر حقوق بگیر'!A:A,0)),\"وجود ندارد\",LOOKUP(D501,'اطلاعات افراد غیر حقوق بگیر'!A:A,'اطلاعات افراد غیر حقوق بگیر'!D:D)),LOOKUP(D501,Master!D:D,Master!CD:CD)))","v":0},{"$f":"IF(D501=0,\" \",IF(ISNA(MATCH(D501,Personnel!A:A,0)),IF(ISNA(MATCH(D501,'اطلاعات افراد غیر حقوق بگیر'!A:A,0)),\"وجود ندارد\",LOOKUP(D501,'اطلاعات افراد غیر حقوق بگیر'!A:A,'اطلاعات افراد غیر حقوق بگیر'!E:E)),LOOKUP(D501,Master!D:D,Master!AH:AH)))","v":" "},{"$f":"SUMIFS(Pays!G:G,Pays!E:E,1,Pays!D:D,D501)","v":0},{"$f":"SUMIFS(Pays!G:G,Pays!E:E,2,Pays!D:D,D501)","v":0},{"$f":"SUMIFS(Pays!G:G,Pays!E:E,57,Pays!D:D,D501)","v":0},{"$f":"SUMIF(Pays!D:D,D501,Pays!G:G)","v":0},{"$f":"SUMIF(Pays!D:D,D501,Pays!G:G)/176","v":0},{"$f":"IF(M501=0,IF(ISNA(MATCH(D501,'اطلاعات افراد غیر حقوق بگیر'!A:A,0)),0,LOOKUP(D501,'اطلاعات افراد غیر حقوق بگیر'!A:A,'اطلاعات افراد غیر حقوق بگیر'!F:F)),IF(H501=31,Settings!$D$13,ROUND(M501,0)))","v":0},null,0,{"$f":"IF(ISNA(MATCH(D501,Master!D:D,0)),IF(ISNA(MATCH(D501,'اطلاعات افراد غیر حقوق بگیر'!A:A,0)),0,LOOKUP(D501,'اطلاعات افراد غیر حقوق بگیر'!A:A,'اطلاعات افراد غیر حقوق بگیر'!G:G)),LOOKUP(D501,Master!D:D,Master!J:J))","v":0},{"$error":"#N/A"},0,0,{"$f":"IF(O501>#REF!,\"اخطار ساعت اضافه کار از حداکثر بیشتر است\",\" \")","v":{"$error":"#REF!"}},{"$f":"IF(O501>#REF!,1,0)","v":{"$error":"#REF!"}}]
[499,{"$f":"IF(D502=0,\"\",Settings!$D$6)","v":""},{"$f":"IF(D502=0,\"\",LOOKUP(B502,'Rigion Code'!A:A,'Rigion Code'!B:B))","v":""},null,{"$f":"IF(D502=0,\" \",IF(ISNA(MATCH(D502,Personnel!A:A,0)),IF(ISNA(MATCH(D502,'اطلاعات افراد غیر حقوق بگیر'!A:A,0)),\"وجود ندارد\",LOOKUP(Edit!D502,'اطلاعات افراد غیر حقوق بگیر'!A:A,'اطلاعات افراد غیر حقوق بگیر'!B:B)),LOOKUP(D502,Personnel!A:A,Personnel!C:C)))","v":" "},{"$f":"IF(D502=0,\" \",IF(ISNA(MATCH(D502,Personnel!A:A,0)),IF(ISNA(MATCH(D502,'اطلاعات افراد غیر حقوق بگیر'!A:A,0)),\"وجود ندارد\",LOOKUP(D502,'اطلاعات افراد غیر حقوق بگیر'!A:A,'اطلاعات افراد غیر حقوق بگیر'!C:C)),LOOKUP(D502,Personnel!A:A,Personnel!B:B)))","v":" "},{"$f":"IF(D502=0,0,IF(ISNA(MATCH(D502,Personnel!A:A,0)),IF(ISNA(MATCH(D502,'اطلاعات افراد غیر حقوق بگیر'!A:A,0)),\"وجود ندارد\",LOOKUP(D502,'اطلاعات افراد غیر حقوق بگیر'!A:A,'اطلاعات افراد غیر حقوق بگیر'!D:D)),LOOKUP(D502,Master!D:D,Master!CD:CD)))","v":0},{"$f":"IF(D502=0,\" \",IF(ISNA(MATCH(D502,Personnel!A:A,0)),IF(ISNA(MATCH(D502,'اطلاعات افراد غیر حقوق بگیر'!A:A,0)),\"وجود ندارد\",LOOKUP(D502,'اطلاعات افراد غیر حقوق بگیر'!A:A,'اطلاعات افراد غیر حقوق بگیر'!E:E)),LOOKUP(D502,Master!D:D,Master!AH:AH)))","v":" "},{"$f":"SUMIFS(Pays!G:G,Pays!E:E,1,Pays!D:D,D502)","v":0},{"$f":"SUMIFS(Pays!G:G,Pays!E:E,2,Pays!D:D,D502)","v":0},{"$f":"SUMIFS(Pays!G:G,Pays!E:E,57,Pays!D:D,D502)","v":0},{"$f":"SUMIF(Pays!D:D,D502,Pays!G:G)","v":0},{"$f":"SUMIF(Pays!D:D,D502,Pays!G:G)/176","v":0},{"$f":"IF(M502=0,IF(ISNA(MATCH(D502,'اطلاعات افراد غیر حقوق بگیر'!A:A,0)),0,LOOKUP(D502,'اطلاعات افراد غیر حقوق بگیر'!A:A,'اطلاعات افراد غیر حقوق بگیر'!F:F)),IF(H502=31,Settings!$D$13,ROUND(M502,0)))","v":0},null,0,{"$f":"IF(ISNA(MATCH(D502,Master!D:D,0)),IF(ISNA(MATCH(D502,'اطلاعات افراد غیر حقوق بگیر'!A:A,0)),0,LOOKUP(D502,'اطلاعات افراد غیر حقوق بگیر'!A:A,'اطلاعات افراد غیر حقوق بگیر'!G:G)),LOOKUP(D502,Master!D:D,Master!J:J))","v":0},{"$error":"#N/A"},0,0,{"$f":"IF(O502>#REF!,\"اخطار ساعت اضافه کار از حداکثر بیشتر است\",\" \")","v":{"$error":"#REF!"}},{"$f":"IF(O502>#REF!,1,0)","v":{"$error":"#REF!"}}]
[500,{"$f":"IF(D503=0,\"\",Settings!$D$6)","v":""},{"$f":"IF(D503=0,\"\",LOOKUP(B503,'Rigion Code'!A:A,'Rigion Code'!B:B))","v":""},null,{"$f":"IF(D503=0,\" \",IF(ISNA(MATCH(D503,Personnel!A:A,0)),IF(ISNA(MATCH(D503,'اطلاعات افراد غیر حقوق بگیر'!A:A,0)),\"وجود ندارد\",LOOKUP(Edit!D503,'اطلاعات افراد غیر حقوق بگیر'!A:A,'اطلاعات افراد غیر حقوق بگیر'!B:B)),LOOKUP(D503,Personnel!A:A,Personnel!C:C)))","v":" "},{"$f":"IF(D503=0,\" \",IF(ISNA(MATCH(D503,Personnel!A:A,0)),IF(ISNA(MATCH(D503,'اطلاعات افراد غیر حقوق بگیر'!A:A,0)),\"وجود ندارد\",LOOKUP(D503,'اطلاعات افراد غیر حقوق بگیر'!A:A,'اطلاعات افراد غیر حقوق بگیر'!C:C)),LOOKUP(D503,Personnel!A:A,Personnel!B:B)))","v":" "},{"$f":"IF(D503=0,0,IF(ISNA(MATCH(D503,Personnel!A:A,0)),IF(ISNA(MATCH(D503,'اطلاعات افراد غیر حقوق بگیر'!A:A,0)),\"وجود ندارد\",LOOKUP(D503,'اطلاعات افراد غیر حقوق بگیر'!A:A,'اطلاعات افراد غیر حقوق بگیر'!D:D)),LOOKUP(D503,Master!D:D,Master!CD:CD)))","v":0},{"$f":"IF(D503=0,\" \",IF(ISNA(MATCH(D503,Personnel!A:A,0)),IF(ISNA(MATCH(D503,'اطلاعات افراد غیر حقوق بگیر'!A:A,0)),\"وجود ندارد\",LOOKUP(D503,'اطلاعات افراد غیر حقوق بگیر'!A:A,'اطلاعات افراد غیر حقوق بگیر'!E:E)),LOOKUP(D503,Master!D:D,Master!AH:AH)))","v":" "},{"$f":"SUMIFS(Pays!G:G,Pays!E:E,1,Pays!D:D,D503)","v":0},{"$f":"SUMIFS(Pays!G:G,Pays!E:E,2,Pays!D:D,D503)","v":0},{"$f":"SUMIFS(Pays!G:G,Pays!E:E,57,Pays!D:D,D503)","v":0},{"$f":"SUMIF(Pays!D:D,D503,Pays!G:G)","v":0},{"$f":"SUMIF(Pays!D:D,D503,Pays!G:G)/176","v":0},{"$f":"IF(M503=0,IF(ISNA(MATCH(D503,'اطلاعات افراد غیر حقوق بگیر'!A:A,0)),0,LOOKUP(D503,'اطلاعات افراد غیر حقوق بگیر'!A:A,'اطلاعات افراد غیر حقوق بگیر'!F:F)),IF(H503=31,Settings!$D$13,ROUND(M503,0)))","v":0},null,0,{"$f":"IF(ISNA(MATCH(D503,Master!D:D,0)),IF(ISNA(MATCH(D503,'اطلاعات افراد غیر حقوق بگیر'!A:A,0)),0,LOOKUP(D503,'اطلاعات افراد غیر حقوق بگیر'!A:A,'اطلاعات افراد غیر حقوق بگیر'!G:G)),LOOKUP(D503,Master!D:D,Master!J:J))","v":0},{"$error":"#N/A"},0,0,{"$f":"IF(O503>#REF!,\"اخطار ساعت اضافه کار از حداکثر بیشتر است\",\" \")","v":{"$error":"#REF!"}},{"$f":"IF(O503>#REF!,1,0)","v":{"$error":"#REF!"}}]
[501,{"$f":"IF(D504=0,\"\",Settings!$D$6)","v":""},{"$f":"IF(D504=0,\"\",LOOKUP(B504,'Rigion Code'!A:A,'Rigion Code'!B:B))","v":""},null,{"$f":"IF(D504=0,\" \",IF(ISNA(MATCH(D504,Personnel!A:A,0)),IF(ISNA(MATCH(D504,'اطلاعات افراد غیر حقوق بگیر'!A:A,0)),\"وجود ندارد\",LOOKUP(Edit!D504,'اطلاعات افراد غیر حقوق بگیر'!A:A,'اطلاعات افراد غیر حقوق بگیر'!B:B)),LOOKUP(D504,Personnel!A:A,Personnel!C:C)))","v":" "},{"$f":"IF(D504=0,\" \",IF(ISNA(MATCH(D504,Personnel!A:A,0)),IF(ISNA(MATCH(D504,'اطلاعات افراد غیر حقوق بگیر'!A:A,0)),\"وجود ندارد\",LOOKUP(D504,'اطلاعات افراد غیر حقوق بگیر'!A:A,'اطلاعات افراد غیر حقوق بگیر'!C:C)),LOOKUP(D504,Personnel!A:A,Personnel!B:B)))","v":" "},{"$f":"IF(D504=0,0,IF(ISNA(MATCH(D504,Personnel!A:A,0)),IF(ISNA(MATCH(D504,'اطلاعات افراد غیر حقوق بگیر'!A:A,0)),\"وجود ندارد\",LOOKUP(D504,'اطلاعات افراد غیر حقوق بگیر'!A:A,'اطلاعات افراد غیر حقوق بگیر'!D:D)),LOOKUP(D504,Master!D:D,Master!CD:CD)))","v":0},{"$f":"IF(D504=0,\" \",IF(ISNA(MATCH(D504,Personnel!A:A,0)),IF(ISNA(MATCH(D504,'اطلاعات افراد غیر حقوق بگیر'!A:A,0)),\"وجود ندارد\",LOOKUP(D504,'اطلاعات افراد غیر حقوق بگیر'!A:A,'اطلاعات افراد غیر حقوق بگیر'!E:E)),LOOKUP(D504,Master!D:D,Master!AH:AH)))","v":" "},{"$f":"SUMIFS(Pays!G:G,Pays!E:E,1,Pays!D:D,D504)","v":0},{"$f":"SUMIFS(Pays!G:G,Pays!E:E,2,Pays!D:D,D504)","v":0},{"$f":"SUMIFS(Pays!G:G,Pays!E:E,57,Pays!D:D,D504)","v":0},{"$f":"SUMIF(Pays!D:D,D504,Pays!G:G)","v":0},{"$f":"SUMIF(Pays!D:D,D504,Pays!G:G)/176","v":0},{"$f":"IF(M504=0,IF(ISNA(MATCH(D504,'اطلاعات افراد غیر حقوق بگیر'!A:A,0)),0,LOOKUP(D504,'اطلاعات افراد غیر حقوق بگیر'!A:A,'اطلاعات افراد غیر حقوق بگیر'!F:F)),IF(H504=31,Settings!$D$13,ROUND(M504,0)))","v":0},null,0,{"$f":"IF(ISNA(MATCH(D504,Master!D:D,0)),IF(ISNA(MATCH(D504,'اطلاعات افراد غیر حقوق بگیر'!A:A,0)),0,LOOKUP(D504,'اطلاعات افراد غیر حقوق بگیر'!A:A,'اطلاعات افراد غیر حقوق بگیر'!G:G)),LOOKUP(D504,Master!D:D,Master!J:J))","v":0},{"$error":"#N/A"},0,0,{"$f":"IF(O504>#REF!,\"اخطار ساعت اضافه کار از حداکثر بیشتر است\",\" \")","v":{"$error":"#REF!"}},{"$f":"IF(O504>#REF!,1,0)","v":{"$error":"#REF!"}}]
[502,{"$f":"IF(D505=0,\"\",Settings!$D$6)","v":""},{"$f":"IF(D505=0,\"\",LOOKUP(B505,'Rigion Code'!A:A,'Rigion Code'!B:B))","v":""},null,{"$f":"IF(D505=0,\" \",IF(ISNA(MATCH(D505,Personnel!A:A,0)),IF(ISNA(MATCH(D505,'اطلاعات افراد غیر حقوق بگیر'!A:A,0)),\"وجود ندارد\",LOOKUP(Edit!D505,'اطلاعات افراد غیر حقوق بگیر'!A:A,'اطلاعات افراد غیر حقوق بگیر'!B:B)),LOOKUP(D505,Personnel!A:A,Personnel!C:C)))","v":" "},{"$f":"IF(D505=0,\" \",IF(ISNA(MATCH(D505,Personnel!A:A,0)),IF(ISNA(MATCH(D505,'اطلاعات افراد غیر حقوق بگیر'!A:A,0)),\"وجود ندارد\",LOOKUP(D505,'اطلاعات افراد غیر حقوق بگیر'!A:A,'اطلاعات افراد غیر حقوق بگیر'!C:C)),LOOKUP(D505,Personnel!A:A,Personnel!B:B)))","v":" "},{"$f":"IF(D505=0,0,IF(ISNA(MATCH(D505,Personnel!A:A,0)),IF(ISNA(MATCH(D505,'اطلاعات افراد غیر حقوق بگیر'!A:A,0)),\"وجود ندارد\",LOOKUP(D505,'اطلاعات افراد غیر حقوق بگیر'!A:A,'اطلاعات افراد غیر حقوق بگیر'!D:D)),LOOKUP(D505,Master!D:D,Master!CD:CD)))","v":0},{"$f":"IF(D505=0,\" \",IF(ISNA(MATCH(D505,Personnel!A:A,0)),IF(ISNA(MATCH(D505,'اطلاعات افراد غیر حقوق بگیر'!A:A,0)),\"وجود ندارد\",LOOKUP(D505,'اطلاعات افراد غیر حقوق بگیر'!A:A,'اطلاعات افراد غیر حقوق بگیر'!E:E)),LOOKUP(D505,Master!D:D,Master!AH:AH)))","v":" "},{"$f":"SUMIFS(Pays!G:G,Pays!E:E,1,Pays!D:D,D505)","v":0},{"$f":"SUMIFS(Pays!G:G,Pays!E:E,2,Pays!D:D,D505)","v":0},{"$f":"SUMIFS(Pays!G:G,Pays!E:E,57,Pays!D:D,D505)","v":0},{"$f":"SUMIF(Pays!D:D,D505,Pays!G:G)","v":0},{"$f":"SUMIF(Pays!D:D,D505,Pays!G:G)/176","v":0},{"$f":"IF(M505=0,IF(ISNA(MATCH(D505,'اطلاعات افراد غیر حقوق بگیر'!A:A,0)),0,LOOKUP(D505,'اطلاعات افراد غیر حقوق بگیر'!A:A,'اطلاعات افراد غیر حقوق بگیر'!F:F)),IF(H505=31,Settings!$D$13,ROUND(M505,0)))","v":0},null,0,{"$f":"IF(ISNA(MATCH(D505,Master!D:D,0)),IF(ISNA(MATCH(D505,'اطلاعات افراد غیر حقوق بگیر'!A:A,0)),0,LOOKUP(D505,'اطلاعات افراد غیر حقوق بگیر'!A:A,'اطلاعات افراد غیر حقوق بگیر'!G:G)),LOOKUP(D505,Master!D:D,Master!J:J))","v":0},{"$error":"#N/A"},0,0,{"$f":"IF(O505>#REF!,\"اخطار ساعت اضافه کار از حداکثر بیشتر است\",\" \")","v":{"$error":"#REF!"}},{"$f":"IF(O505>#REF!,1,0)","v":{"$error":"#REF!"}}]
[503,{"$f":"IF(D506=0,\"\",Settings!$D$6)","v":""},{"$f":"IF(D506=0,\"\",LOOKUP(B506,'Rigion Code'!A:A,'Rigion Code'!B:B))","v":""},null,{"$f":"IF(D506=0,\" \",IF(ISNA(MATCH(D506,Personnel!A:A,0)),IF(ISNA(MATCH(D506,'اطلاعات افراد غیر حقوق بگیر'!A:A,0)),\"وجود ندارد\",LOOKUP(Edit!D506,'اطلاعات افراد غیر حقوق بگیر'!A:A,'اطلاعات افراد غیر حقوق بگیر'!B:B)),LOOKUP(D506,Personnel!A:A,Personnel!C:C)))","v":" "},{"$f":"IF(D506=0,\" \",IF(ISNA(MATCH(D506,Personnel!A:A,0)),IF(ISNA(MATCH(D506,'اطلاعات افراد غیر حقوق بگیر'!A:A,0)),\"وجود ندارد\",LOOKUP(D506,'اطلاعات افراد غیر حقوق بگیر'!A:A,'اطلاعات افراد غیر حقوق بگیر'!C:C)),LOOKUP(D506,Personnel!A:A,Personnel!B:B)))","v":" "},{"$f":"IF(D506=0,0,IF(ISNA(MATCH(D506,Personnel!A:A,0)),IF(ISNA(MATCH(D506,'اطلاعات افراد غیر حقوق بگیر'!A:A,0)),\"وجود ندارد\",LOOKUP(D506,'اطلاعات افراد غیر حقوق بگیر'!A:A,'اطلاعات افراد غیر حقوق بگیر'!D:D)),LOOKUP(D506,Master!D:D,Master!CD:CD)))","v":0},{"$f":"IF(D506=0,\" \",IF(ISNA(MATCH(D506,Personnel!A:A,0)),IF(ISNA(MATCH(D506,'اطلاعات افراد غیر حقوق بگیر'!A:A,0)),\"وجود ندارد\",LOOKUP(D506,'اطلاعات افراد غیر حقوق بگیر'!A:A,'اطلاعات افراد غیر حقوق بگیر'!E:E)),LOOKUP(D506,Master!D:D,Master!AH:AH)))","v":" "},{"$f":"SUMIFS(Pays!G:G,Pays!E:E,1,Pays!D:D,D506)","v":0},{"$f":"SUMIFS(Pays!G:G,Pays!E:E,2,Pays!D:D,D506)","v":0},{"$f":"SUMIFS(Pays!G:G,Pays!E:E,57,Pays!D:D,D506)","v":0},{"$f":"SUMIF(Pays!D:D,D506,Pays!G:G)","v":0},{"$f":"SUMIF(Pays!D:D,D506,Pays!G:G)/176","v":0},{"$f":"IF(M506=0,IF(ISNA(MATCH(D506,'اطلاعات افراد غیر حقوق بگیر'!A:A,0)),0,LOOKUP(D506,'اطلاعات افراد غیر حقوق بگیر'!A:A,'اطلاعات افراد غیر حقوق بگیر'!F:F)),IF(H506=31,Settings!$D$13,ROUND(M506,0)))","v":0},null,0,{"$f":"IF(ISNA(MATCH(D506,Master!D:D,0)),IF(ISNA(MATCH(D506,'اطلاعات افراد غیر حقوق بگیر'!A:A,0)),0,LOOKUP(D506,'اطلاعات افراد غیر حقوق بگیر'!A:A,'اطلاعات افراد غیر حقوق بگیر'!G:G)),LOOKUP(D506,Master!D:D,Master!J:J))","v":0},{"$error":"#N/A"},0,0,{"$f":"IF(O506>#REF!,\"اخطار ساعت اضافه کار از حداکثر بیشتر است\",\" \")","v":{"$error":"#REF!"}},{"$f":"IF(O506>#REF!,1,0)","v":{"$error":"#REF!"}}]
[504,{"$f":"IF(D507=0,\"\",Settings!$D$6)","v":""},{"$f":"IF(D507=0,\"\",LOOKUP(B507,'Rigion Code'!A:A,'Rigion Code'!B:B))","v":""},null,{"$f":"IF(D507=0,\" \",IF(ISNA(MATCH(D507,Personnel!A:A,0)),IF(ISNA(MATCH(D507,'اطلاعات افراد غیر حقوق بگیر'!A:A,0)),\"وجود ندارد\",LOOKUP(Edit!D507,'اطلاعات افراد غیر حقوق بگیر'!A:A,'اطلاعات افراد غیر حقوق بگیر'!B:B)),LOOKUP(D507,Personnel!A:A,Personnel!C:C)))","v":" "},{"$f":"IF(D507=0,\" \",IF(ISNA(MATCH(D507,Personnel!A:A,0)),IF(ISNA(MATCH(D507,'اطلاعات افراد غیر حقوق بگیر'!A:A,0)),\"وجود ندارد\",LOOKUP(D507,'اطلاعات افراد غیر حقوق بگیر'!A:A,'اطلاعات افراد غیر حقوق بگیر'!C:C)),LOOKUP(D507,Personnel!A:A,Personnel!B:B)))","v":" "},{"$f":"IF(D507=0,0,IF(ISNA(MATCH(D507,Personnel!A:A,0)),IF(ISNA(MATCH(D507,'اطلاعات افراد غیر حقوق بگیر'!A:A,0)),\"وجود ندارد\",LOOKUP(D507,'اطلاعات افراد غیر حقوق بگیر'!A:A,'اطلاعات افراد غیر حقوق بگیر'!D:D)),LOOKUP(D507,Master!D:D,Master!CD:CD)))","v":0},{"$f":"IF(D507=0,\" \",IF(ISNA(MATCH(D507,Personnel!A:A,0)),IF(ISNA(MATCH(D507,'اطلاعات افراد غیر حقوق بگیر'!A:A,0)),\"وجود ندارد\",LOOKUP(D507,'اطلاعات افراد غیر حقوق بگیر'!A:A,'اطلاعات افراد غیر حقوق بگیر'!E:E)),LOOKUP(D507,Master!D:D,Master!AH:AH)))","v":" "},{"$f":"SUMIFS(Pays!G:G,Pays!E:E,1,Pays!D:D,D507)","v":0},{"$f":"SUMIFS(Pays!G:G,Pays!E:E,2,Pays!D:D,D507)","v":0},{"$f":"SUMIFS(Pays!G:G,Pays!E:E,57,Pays!D:D,D507)","v":0},{"$f":"SUMIF(Pays!D:D,D507,Pays!G:G)","v":0},{"$f":"SUMIF(Pays!D:D,D507,Pays!G:G)/176","v":0},{"$f":"IF(M507=0,IF(ISNA(MATCH(D507,'اطلاعات افراد غیر حقوق بگیر'!A:A,0)),0,LOOKUP(D507,'اطلاعات افراد غیر حقوق بگیر'!A:A,'اطلاعات افراد غیر حقوق بگیر'!F:F)),IF(H507=31,Settings!$D$13,ROUND(M507,0)))","v":0},null,0,{"$f":"IF(ISNA(MATCH(D507,Master!D:D,0)),IF(ISNA(MATCH(D507,'اطلاعات افراد غیر حقوق بگیر'!A:A,0)),0,LOOKUP(D507,'اطلاعات افراد غیر حقوق بگیر'!A:A,'اطلاعات افراد غیر حقوق بگیر'!G:G)),LOOKUP(D507,Master!D:D,Master!J:J))","v":0},{"$error":"#N/A"},0,0,{"$f":"IF(O507>#REF!,\"اخطار ساعت اضافه کار از حداکثر بیشتر است\",\" \")","v":{"$error":"#REF!"}},{"$f":"IF(O507>#REF!,1,0)","v":{"$error":"#REF!"}}]
[505,{"$f":"IF(D508=0,\"\",Settings!$D$6)","v":""},{"$f":"IF(D508=0,\"\",LOOKUP(B508,'Rigion Code'!A:A,'Rigion Code'!B:B))","v":""},null,{"$f":"IF(D508=0,\" \",IF(ISNA(MATCH(D508,Personnel!A:A,0)),IF(ISNA(MATCH(D508,'اطلاعات افراد غیر حقوق بگیر'!A:A,0)),\"وجود ندارد\",LOOKUP(Edit!D508,'اطلاعات افراد غیر حقوق بگیر'!A:A,'اطلاعات افراد غیر حقوق بگیر'!B:B)),LOOKUP(D508,Personnel!A:A,Personnel!C:C)))","v":" "},{"$f":"IF(D508=0,\" \",IF(ISNA(MATCH(D508,Personnel!A:A,0)),IF(ISNA(MATCH(D508,'اطلاعات افراد غیر حقوق بگیر'!A:A,0)),\"وجود ندارد\",LOOKUP(D508,'اطلاعات افراد غیر حقوق بگیر'!A:A,'اطلاعات افراد غیر حقوق بگیر'!C:C)),LOOKUP(D508,Personnel!A:A,Personnel!B:B)))","v":" "},{"$f":"IF(D508=0,0,IF(ISNA(MATCH(D508,Personnel!A:A,0)),IF(ISNA(MATCH(D508,'اطلاعات افراد غیر حقوق بگیر'!A:A,0)),\"وجود ندارد\",LOOKUP(D508,'اطلاعات افراد غیر حقوق بگیر'!A:A,'اطلاعات افراد غیر حقوق بگیر'!D:D)),LOOKUP(D508,Master!D:D,Master!CD:CD)))","v":0},{"$f":"IF(D508=0,\" \",IF(ISNA(MATCH(D508,Personnel!A:A,0)),IF(ISNA(MATCH(D508,'اطلاعات افراد غیر حقوق بگیر'!A:A,0)),\"وجود ندارد\",LOOKUP(D508,'اطلاعات افراد غیر حقوق بگیر'!A:A,'اطلاعات افراد غیر حقوق بگیر'!E:E)),LOOKUP(D508,Master!D:D,Master!AH:AH)))","v":" "},{"$f":"SUMIFS(Pays!G:G,Pays!E:E,1,Pays!D:D,D508)","v":0},{"$f":"SUMIFS(Pays!G:G,Pays!E:E,2,Pays!D:D,D508)","v":0},{"$f":"SUMIFS(Pays!G:G,Pays!E:E,57,Pays!D:D,D508)","v":0},{"$f":"SUMIF(Pays!D:D,D508,Pays!G:G)","v":0},{"$f":"SUMIF(Pays!D:D,D508,Pays!G:G)/176","v":0},{"$f":"IF(M508=0,IF(ISNA(MATCH(D508,'اطلاعات افراد غیر حقوق بگیر'!A:A,0)),0,LOOKUP(D508,'اطلاعات افراد غیر حقوق بگیر'!A:A,'اطلاعات افراد غیر حقوق بگیر'!F:F)),IF(H508=31,Settings!$D$13,ROUND(M508,0)))","v":0},null,0,{"$f":"IF(ISNA(MATCH(D508,Master!D:D,0)),IF(ISNA(MATCH(D508,'اطلاعات افراد غیر حقوق بگیر'!A:A,0)),0,LOOKUP(D508,'اطلاعات افراد غیر حقوق بگیر'!A:A,'اطلاعات افراد غیر حقوق بگیر'!G:G)),LOOKUP(D508,Master!D:D,Master!J:J))","v":0},{"$error":"#N/A"},0,0,{"$f":"IF(O508>#REF!,\"اخطار ساعت اضافه کار از حداکثر بیشتر است\",\" \")","v":{"$error":"#REF!"}},{"$f":"IF(O508>#REF!,1,0)","v":{"$error":"#REF!"}}]
[506,{"$f":"IF(D509=0,\"\",Settings!$D$6)","v":""},{"$f":"IF(D509=0,\"\",LOOKUP(B509,'Rigion Code'!A:A,'Rigion Code'!B:B))","v":""},null,{"$f":"IF(D509=0,\" \",IF(ISNA(MATCH(D509,Personnel!A:A,0)),IF(ISNA(MATCH(D509,'اطلاعات افراد غیر حقوق بگیر'!A:A,0)),\"وجود ندارد\",LOOKUP(Edit!D509,'اطلاعات افراد غیر حقوق بگیر'!A:A,'اطلاعات افراد غیر حقوق بگیر'!B:B)),LOOKUP(D509,Personnel!A:A,Personnel!C:C)))","v":" "},{"$f":"IF(D509=0,\" \",IF(ISNA(MATCH(D509,Personnel!A:A,0)),IF(ISNA(MATCH(D509,'اطلاعات افراد غیر حقوق بگیر'!A:A,0)),\"وجود ندارد\",LOOKUP(D509,'اطلاعات افراد غیر حقوق بگیر'!A:A,'اطلاعات افراد غیر حقوق بگیر'!C:C)),LOOKUP(D509,Personnel!A:A,Personnel!B:B)))","v":" "},{"$f":"IF(D509=0,0,IF(ISNA(MATCH(D509,Personnel!A:A,0)),IF(ISNA(MATCH(D509,'اطلاعات افراد غیر حقوق بگیر'!A:A,0)),\"وجود ندارد\",LOOKUP(D509,'اطلاعات افراد غیر حقوق بگیر'!A:A,'اطلاعات افراد غیر حقوق بگیر'!D:D)),LOOKUP(D509,Master!D:D,Master!CD:CD)))","v":0},{"$f":"IF(D509=0,\" \",IF(ISNA(MATCH(D509,Personnel!A:A,0)),IF(ISNA(MATCH(D509,'اطلاعات افراد غیر حقوق بگیر'!A:A,0)),\"وجود ندارد\",LOOKUP(D509,'اطلاعات افراد غیر حقوق بگیر'!A:A,'اطلاعات افراد غیر حقوق بگیر'!E:E)),LOOKUP(D509,Master!D:D,Master!AH:AH)))","v":" "},{"$f":"SUMIFS(Pays!G:G,Pays!E:E,1,Pays!D:D,D509)","v":0},{"$f":"SUMIFS(Pays!G:G,Pays!E:E,2,Pays!D:D,D509)","v":0},{"$f":"SUMIFS(Pays!G:G,Pays!E:E,57,Pays!D:D,D509)","v":0},{"$f":"SUMIF(Pays!D:D,D509,Pays!G:G)","v":0},{"$f":"SUMIF(Pays!D:D,D509,Pays!G:G)/176","v":0},{"$f":"IF(M509=0,IF(ISNA(MATCH(D509,'اطلاعات افراد غیر حقوق بگیر'!A:A,0)),0,LOOKUP(D509,'اطلاعات افراد غیر حقوق بگیر'!A:A,'اطلاعات افراد غیر حقوق بگیر'!F:F)),IF(H509=31,Settings!$D$13,ROUND(M509,0)))","v":0},null,0,{"$f":"IF(ISNA(MATCH(D509,Master!D:D,0)),IF(ISNA(MATCH(D509,'اطلاعات افراد غیر حقوق بگیر'!A:A,0)),0,LOOKUP(D509,'اطلاعات افراد غیر حقوق بگیر'!A:A,'اطلاعات افراد غیر حقوق بگیر'!G:G)),LOOKUP(D509,Master!D:D,Master!J:J))","v":0},{"$error":"#N/A"},0,0,{"$f":"IF(O509>#REF!,\"اخطار ساعت اضافه کار از حداکثر بیشتر است\",\" \")","v":{"$error":"#REF!"}},{"$f":"IF(O509>#REF!,1,0)","v":{"$error":"#REF!"}}]
[507,{"$f":"IF(D510=0,\"\",Settings!$D$6)","v":""},{"$f":"IF(D510=0,\"\",LOOKUP(B510,'Rigion Code'!A:A,'Rigion Code'!B:B))","v":""},null,{"$f":"IF(D510=0,\" \",IF(ISNA(MATCH(D510,Personnel!A:A,0)),IF(ISNA(MATCH(D510,'اطلاعات افراد غیر حقوق بگیر'!A:A,0)),\"وجود ندارد\",LOOKUP(Edit!D510,'اطلاعات افراد غیر حقوق بگیر'!A:A,'اطلاعات افراد غیر حقوق بگیر'!B:B)),LOOKUP(D510,Personnel!A:A,Personnel!C:C)))","v":" "},{"$f":"IF(D510=0,\" \",IF(ISNA(MATCH(D510,Personnel!A:A,0)),IF(ISNA(MATCH(D510,'اطلاعات افراد غیر حقوق بگیر'!A:A,0)),\"وجود ندارد\",LOOKUP(D510,'اطلاعات افراد غیر حقوق بگیر'!A:A,'اطلاعات افراد غیر حقوق بگیر'!C:C)),LOOKUP(D510,Personnel!A:A,Personnel!B:B)))","v":" "},{"$f":"IF(D510=0,0,IF(ISNA(MATCH(D510,Personnel!A:A,0)),IF(ISNA(MATCH(D510,'اطلاعات افراد غیر حقوق بگیر'!A:A,0)),\"وجود ندارد\",LOOKUP(D510,'اطلاعات افراد غیر حقوق بگیر'!A:A,'اطلاعات افراد غیر حقوق بگیر'!D:D)),LOOKUP(D510,Master!D:D,Master!CD:CD)))","v":0},{"$f":"IF(D510=0,\" \",IF(ISNA(MATCH(D510,Personnel!A:A,0)),IF(ISNA(MATCH(D510,'اطلاعات افراد غیر حقوق بگیر'!A:A,0)),\"وجود ندارد\",LOOKUP(D510,'اطلاعات افراد غیر حقوق بگیر'!A:A,'اطلاعات افراد غیر حقوق بگیر'!E:E)),LOOKUP(D510,Master!D:D,Master!AH:AH)))","v":" "},{"$f":"SUMIFS(Pays!G:G,Pays!E:E,1,Pays!D:D,D510)","v":0},{"$f":"SUMIFS(Pays!G:G,Pays!E:E,2,Pays!D:D,D510)","v":0},{"$f":"SUMIFS(Pays!G:G,Pays!E:E,57,Pays!D:D,D510)","v":0},{"$f":"SUMIF(Pays!D:D,D510,Pays!G:G)","v":0},{"$f":"SUMIF(Pays!D:D,D510,Pays!G:G)/176","v":0},{"$f":"IF(M510=0,IF(ISNA(MATCH(D510,'اطلاعات افراد غیر حقوق بگیر'!A:A,0)),0,LOOKUP(D510,'اطلاعات افراد غیر حقوق بگیر'!A:A,'اطلاعات افراد غیر حقوق بگیر'!F:F)),IF(H510=31,Settings!$D$13,ROUND(M510,0)))","v":0},null,0,{"$f":"IF(ISNA(MATCH(D510,Master!D:D,0)),IF(ISNA(MATCH(D510,'اطلاعات افراد غیر حقوق بگیر'!A:A,0)),0,LOOKUP(D510,'اطلاعات افراد غیر حقوق بگیر'!A:A,'اطلاعات افراد غیر حقوق بگیر'!G:G)),LOOKUP(D510,Master!D:D,Master!J:J))","v":0},{"$error":"#N/A"},0,0,{"$f":"IF(O510>#REF!,\"اخطار ساعت اضافه کار از حداکثر بیشتر است\",\" \")","v":{"$error":"#REF!"}},{"$f":"IF(O510>#REF!,1,0)","v":{"$error":"#REF!"}}]
[508,{"$f":"IF(D511=0,\"\",Settings!$D$6)","v":""},{"$f":"IF(D511=0,\"\",LOOKUP(B511,'Rigion Code'!A:A,'Rigion Code'!B:B))","v":""},null,{"$f":"IF(D511=0,\" \",IF(ISNA(MATCH(D511,Personnel!A:A,0)),IF(ISNA(MATCH(D511,'اطلاعات افراد غیر حقوق بگیر'!A:A,0)),\"وجود ندارد\",LOOKUP(Edit!D511,'اطلاعات افراد غیر حقوق بگیر'!A:A,'اطلاعات افراد غیر حقوق بگیر'!B:B)),LOOKUP(D511,Personnel!A:A,Personnel!C:C)))","v":" "},{"$f":"IF(D511=0,\" \",IF(ISNA(MATCH(D511,Personnel!A:A,0)),IF(ISNA(MATCH(D511,'اطلاعات افراد غیر حقوق بگیر'!A:A,0)),\"وجود ندارد\",LOOKUP(D511,'اطلاعات افراد غیر حقوق بگیر'!A:A,'اطلاعات افراد غیر حقوق بگیر'!C:C)),LOOKUP(D511,Personnel!A:A,Personnel!B:B)))","v":" "},{"$f":"IF(D511=0,0,IF(ISNA(MATCH(D511,Personnel!A:A,0)),IF(ISNA(MATCH(D511,'اطلاعات افراد غیر حقوق بگیر'!A:A,0)),\"وجود ندارد\",LOOKUP(D511,'اطلاعات افراد غیر حقوق بگیر'!A:A,'اطلاعات افراد غیر حقوق بگیر'!D:D)),LOOKUP(D511,Master!D:D,Master!CD:CD)))","v":0},{"$f":"IF(D511=0,\" \",IF(ISNA(MATCH(D511,Personnel!A:A,0)),IF(ISNA(MATCH(D511,'اطلاعات افراد غیر حقوق بگیر'!A:A,0)),\"وجود ندارد\",LOOKUP(D511,'اطلاعات افراد غیر حقوق بگیر'!A:A,'اطلاعات افراد غیر حقوق بگیر'!E:E)),LOOKUP(D511,Master!D:D,Master!AH:AH)))","v":" "},{"$f":"SUMIFS(Pays!G:G,Pays!E:E,1,Pays!D:D,D511)","v":0},{"$f":"SUMIFS(Pays!G:G,Pays!E:E,2,Pays!D:D,D511)","v":0},{"$f":"SUMIFS(Pays!G:G,Pays!E:E,57,Pays!D:D,D511)","v":0},{"$f":"SUMIF(Pays!D:D,D511,Pays!G:G)","v":0},{"$f":"SUMIF(Pays!D:D,D511,Pays!G:G)/176","v":0},{"$f":"IF(M511=0,IF(ISNA(MATCH(D511,'اطلاعات افراد غیر حقوق بگیر'!A:A,0)),0,LOOKUP(D511,'اطلاعات افراد غیر حقوق بگیر'!A:A,'اطلاعات افراد غیر حقوق بگیر'!F:F)),IF(H511=31,Settings!$D$13,ROUND(M511,0)))","v":0},null,0,{"$f":"IF(ISNA(MATCH(D511,Master!D:D,0)),IF(ISNA(MATCH(D511,'اطلاعات افراد غیر حقوق بگیر'!A:A,0)),0,LOOKUP(D511,'اطلاعات افراد غیر حقوق بگیر'!A:A,'اطلاعات افراد غیر حقوق بگیر'!G:G)),LOOKUP(D511,Master!D:D,Master!J:J))","v":0},{"$error":"#N/A"},0,0,{"$f":"IF(O511>#REF!,\"اخطار ساعت اضافه کار از حداکثر بیشتر است\",\" \")","v":{"$error":"#REF!"}},{"$f":"IF(O511>#REF!,1,0)","v":{"$error":"#REF!"}}]
[509,{"$f":"IF(D512=0,\"\",Settings!$D$6)","v":""},{"$f":"IF(D512=0,\"\",LOOKUP(B512,'Rigion Code'!A:A,'Rigion Code'!B:B))","v":""},null,{"$f":"IF(D512=0,\" \",IF(ISNA(MATCH(D512,Personnel!A:A,0)),IF(ISNA(MATCH(D512,'اطلاعات افراد غیر حقوق بگیر'!A:A,0)),\"وجود ندارد\",LOOKUP(Edit!D512,'اطلاعات افراد غیر حقوق بگیر'!A:A,'اطلاعات افراد غیر حقوق بگیر'!B:B)),LOOKUP(D512,Personnel!A:A,Personnel!C:C)))","v":" "},{"$f":"IF(D512=0,\" \",IF(ISNA(MATCH(D512,Personnel!A:A,0)),IF(ISNA(MATCH(D512,'اطلاعات افراد غیر حقوق بگیر'!A:A,0)),\"وجود ندارد\",LOOKUP(D512,'اطلاعات افراد غیر حقوق بگیر'!A:A,'اطلاعات افراد غیر حقوق بگیر'!C:C)),LOOKUP(D512,Personnel!A:A,Personnel!B:B)))","v":" "},{"$f":"IF(D512=0,0,IF(ISNA(MATCH(D512,Personnel!A:A,0)),IF(ISNA(MATCH(D512,'اطلاعات افراد غیر حقوق بگیر'!A:A,0)),\"وجود ندارد\",LOOKUP(D512,'اطلاعات افراد غیر حقوق بگیر'!A:A,'اطلاعات افراد غیر حقوق بگیر'!D:D)),LOOKUP(D512,Master!D:D,Master!CD:CD)))","v":0},{"$f":"IF(D512=0,\" \",IF(ISNA(MATCH(D512,Personnel!A:A,0)),IF(ISNA(MATCH(D512,'اطلاعات افراد غیر حقوق بگیر'!A:A,0)),\"وجود ندارد\",LOOKUP(D512,'اطلاعات افراد غیر حقوق بگیر'!A:A,'اطلاعات افراد غیر حقوق بگیر'!E:E)),LOOKUP(D512,Master!D:D,Master!AH:AH)))","v":" "},{"$f":"SUMIFS(Pays!G:G,Pays!E:E,1,Pays!D:D,D512)","v":0},{"$f":"SUMIFS(Pays!G:G,Pays!E:E,2,Pays!D:D,D512)","v":0},{"$f":"SUMIFS(Pays!G:G,Pays!E:E,57,Pays!D:D,D512)","v":0},{"$f":"SUMIF(Pays!D:D,D512,Pays!G:G)","v":0},{"$f":"SUMIF(Pays!D:D,D512,Pays!G:G)/176","v":0},{"$f":"IF(M512=0,IF(ISNA(MATCH(D512,'اطلاعات افراد غیر حقوق بگیر'!A:A,0)),0,LOOKUP(D512,'اطلاعات افراد غیر حقوق بگیر'!A:A,'اطلاعات افراد غیر حقوق بگیر'!F:F)),IF(H512=31,Settings!$D$13,ROUND(M512,0)))","v":0},null,0,{"$f":"IF(ISNA(MATCH(D512,Master!D:D,0)),IF(ISNA(MATCH(D512,'اطلاعات افراد غیر حقوق بگیر'!A:A,0)),0,LOOKUP(D512,'اطلاعات افراد غیر حقوق بگیر'!A:A,'اطلاعات افراد غیر حقوق بگیر'!G:G)),LOOKUP(D512,Master!D:D,Master!J:J))","v":0},{"$error":"#N/A"},0,0,{"$f":"IF(O512>#REF!,\"اخطار ساعت اضافه کار از حداکثر بیشتر است\",\" \")","v":{"$error":"#REF!"}},{"$f":"IF(O512>#REF!,1,0)","v":{"$error":"#REF!"}}]
[510,{"$f":"IF(D513=0,\"\",Settings!$D$6)","v":""},{"$f":"IF(D513=0,\"\",LOOKUP(B513,'Rigion Code'!A:A,'Rigion Code'!B:B))","v":""},null,{"$f":"IF(D513=0,\" \",IF(ISNA(MATCH(D513,Personnel!A:A,0)),IF(ISNA(MATCH(D513,'اطلاعات افراد غیر حقوق بگیر'!A:A,0)),\"وجود ندارد\",LOOKUP(Edit!D513,'اطلاعات افراد غیر حقوق بگیر'!A:A,'اطلاعات افراد غیر حقوق بگیر'!B:B)),LOOKUP(D513,Personnel!A:A,Personnel!C:C)))","v":" "},{"$f":"IF(D513=0,\" \",IF(ISNA(MATCH(D513,Personnel!A:A,0)),IF(ISNA(MATCH(D513,'اطلاعات افراد غیر حقوق بگیر'!A:A,0)),\"وجود ندارد\",LOOKUP(D513,'اطلاعات افراد غیر حقوق بگیر'!A:A,'اطلاعات افراد غیر حقوق بگیر'!C:C)),LOOKUP(D513,Personnel!A:A,Personnel!B:B)))","v":" "},{"$f":"IF(D513=0,0,IF(ISNA(MATCH(D513,Personnel!A:A,0)),IF(ISNA(MATCH(D513,'اطلاعات افراد غیر حقوق بگیر'!A:A,0)),\"وجود ندارد\",LOOKUP(D513,'اطلاعات افراد غیر حقوق بگیر'!A:A,'اطلاعات افراد غیر حقوق بگیر'!D:D)),LOOKUP(D513,Master!D:D,Master!CD:CD)))","v":0},{"$f":"IF(D513=0,\" \",IF(ISNA(MATCH(D513,Personnel!A:A,0)),IF(ISNA(MATCH(D513,'اطلاعات افراد غیر حقوق بگیر'!A:A,0)),\"وجود ندارد\",LOOKUP(D513,'اطلاعات افراد غیر حقوق بگیر'!A:A,'اطلاعات افراد غیر حقوق بگیر'!E:E)),LOOKUP(D513,Master!D:D,Master!AH:AH)))","v":" "},{"$f":"SUMIFS(Pays!G:G,Pays!E:E,1,Pays!D:D,D513)","v":0},{"$f":"SUMIFS(Pays!G:G,Pays!E:E,2,Pays!D:D,D513)","v":0},{"$f":"SUMIFS(Pays!G:G,Pays!E:E,57,Pays!D:D,D513)","v":0},{"$f":"SUMIF(Pays!D:D,D513,Pays!G:G)","v":0},{"$f":"SUMIF(Pays!D:D,D513,Pays!G:G)/176","v":0},{"$f":"IF(M513=0,IF(ISNA(MATCH(D513,'اطلاعات افراد غیر حقوق بگیر'!A:A,0)),0,LOOKUP(D513,'اطلاعات افراد غیر حقوق بگیر'!A:A,'اطلاعات افراد غیر حقوق بگیر'!F:F)),IF(H513=31,Settings!$D$13,ROUND(M513,0)))","v":0},null,0,{"$f":"IF(ISNA(MATCH(D513,Master!D:D,0)),IF(ISNA(MATCH(D513,'اطلاعات افراد غیر حقوق بگیر'!A:A,0)),0,LOOKUP(D513,'اطلاعات افراد غیر حقوق بگیر'!A:A,'اطلاعات افراد غیر حقوق بگیر'!G:G)),LOOKUP(D513,Master!D:D,Master!J:J))","v":0},{"$error":"#N/A"},0,0,{"$f":"IF(O513>#REF!,\"اخطار ساعت اضافه کار از حداکثر بیشتر است\",\" \")","v":{"$error":"#REF!"}},{"$f":"IF(O513>#REF!,1,0)","v":{"$error":"#REF!"}}]
[511,{"$f":"IF(D514=0,\"\",Settings!$D$6)","v":""},{"$f":"IF(D514=0,\"\",LOOKUP(B514,'Rigion Code'!A:A,'Rigion Code'!B:B))","v":""},null,{"$f":"IF(D514=0,\" \",IF(ISNA(MATCH(D514,Personnel!A:A,0)),IF(ISNA(MATCH(D514,'اطلاعات افراد غیر حقوق بگیر'!A:A,0)),\"وجود ندارد\",LOOKUP(Edit!D514,'اطلاعات افراد غیر حقوق بگیر'!A:A,'اطلاعات افراد غیر حقوق بگیر'!B:B)),LOOKUP(D514,Personnel!A:A,Personnel!C:C)))","v":" "},{"$f":"IF(D514=0,\" \",IF(ISNA(MATCH(D514,Personnel!A:A,0)),IF(ISNA(MATCH(D514,'اطلاعات افراد غیر حقوق بگیر'!A:A,0)),\"وجود ندارد\",LOOKUP(D514,'اطلاعات افراد غیر حقوق بگیر'!A:A,'اطلاعات افراد غیر حقوق بگیر'!C:C)),LOOKUP(D514,Personnel!A:A,Personnel!B:B)))","v":" "},{"$f":"IF(D514=0,0,IF(ISNA(MATCH(D514,Personnel!A:A,0)),IF(ISNA(MATCH(D514,'اطلاعات افراد غیر حقوق بگیر'!A:A,0)),\"وجود ندارد\",LOOKUP(D514,'اطلاعات افراد غیر حقوق بگیر'!A:A,'اطلاعات افراد غیر حقوق بگیر'!D:D)),LOOKUP(D514,Master!D:D,Master!CD:CD)))","v":0},{"$f":"IF(D514=0,\" \",IF(ISNA(MATCH(D514,Personnel!A:A,0)),IF(ISNA(MATCH(D514,'اطلاعات افراد غیر حقوق بگیر'!A:A,0)),\"وجود ندارد\",LOOKUP(D514,'اطلاعات افراد غیر حقوق بگیر'!A:A,'اطلاعات افراد غیر حقوق بگیر'!E:E)),LOOKUP(D514,Master!D:D,Master!AH:AH)))","v":" "},{"$f":"SUMIFS(Pays!G:G,Pays!E:E,1,Pays!D:D,D514)","v":0},{"$f":"SUMIFS(Pays!G:G,Pays!E:E,2,Pays!D:D,D514)","v":0},{"$f":"SUMIFS(Pays!G:G,Pays!E:E,57,Pays!D:D,D514)","v":0},{"$f":"SUMIF(Pays!D:D,D514,Pays!G:G)","v":0},{"$f":"SUMIF(Pays!D:D,D514,Pays!G:G)/176","v":0},{"$f":"IF(M514=0,IF(ISNA(MATCH(D514,'اطلاعات افراد غیر حقوق بگیر'!A:A,0)),0,LOOKUP(D514,'اطلاعات افراد غیر حقوق بگیر'!A:A,'اطلاعات افراد غیر حقوق بگیر'!F:F)),IF(H514=31,Settings!$D$13,ROUND(M514,0)))","v":0},null,0,{"$f":"IF(ISNA(MATCH(D514,Master!D:D,0)),IF(ISNA(MATCH(D514,'اطلاعات افراد غیر حقوق بگیر'!A:A,0)),0,LOOKUP(D514,'اطلاعات افراد غیر حقوق بگیر'!A:A,'اطلاعات افراد غیر حقوق بگیر'!G:G)),LOOKUP(D514,Master!D:D,Master!J:J))","v":0},{"$error":"#N/A"},0,0,{"$f":"IF(O514>#REF!,\"اخطار ساعت اضافه کار از حداکثر بیشتر است\",\" \")","v":{"$error":"#REF!"}},{"$f":"IF(O514>#REF!,1,0)","v":{"$error":"#REF!"}}]
[512,{"$f":"IF(D515=0,\"\",Settings!$D$6)","v":""},{"$f":"IF(D515=0,\"\",LOOKUP(B515,'Rigion Code'!A:A,'Rigion Code'!B:B))","v":""},null,{"$f":"IF(D515=0,\" \",IF(ISNA(MATCH(D515,Personnel!A:A,0)),IF(ISNA(MATCH(D515,'اطلاعات افراد غیر حقوق بگیر'!A:A,0)),\"وجود ندارد\",LOOKUP(Edit!D515,'اطلاعات افراد غیر حقوق بگیر'!A:A,'اطلاعات افراد غیر حقوق بگیر'!B:B)),LOOKUP(D515,Personnel!A:A,Personnel!C:C)))","v":" "},{"$f":"IF(D515=0,\" \",IF(ISNA(MATCH(D515,Personnel!A:A,0)),IF(ISNA(MATCH(D515,'اطلاعات افراد غیر حقوق بگیر'!A:A,0)),\"وجود ندارد\",LOOKUP(D515,'اطلاعات افراد غیر حقوق بگیر'!A:A,'اطلاعات افراد غیر حقوق بگیر'!C:C)),LOOKUP(D515,Personnel!A:A,Personnel!B:B)))","v":" "},{"$f":"IF(D515=0,0,IF(ISNA(MATCH(D515,Personnel!A:A,0)),IF(ISNA(MATCH(D515,'اطلاعات افراد غیر حقوق بگیر'!A:A,0)),\"وجود ندارد\",LOOKUP(D515,'اطلاعات افراد غیر حقوق بگیر'!A:A,'اطلاعات افراد غیر حقوق بگیر'!D:D)),LOOKUP(D515,Master!D:D,Master!CD:CD)))","v":0},{"$f":"IF(D515=0,\" \",IF(ISNA(MATCH(D515,Personnel!A:A,0)),IF(ISNA(MATCH(D515,'اطلاعات افراد غیر حقوق بگیر'!A:A,0)),\"وجود ندارد\",LOOKUP(D515,'اطلاعات افراد غیر حقوق بگیر'!A:A,'اطلاعات افراد غیر حقوق بگیر'!E:E)),LOOKUP(D515,Master!D:D,Master!AH:AH)))","v":" "},{"$f":"SUMIFS(Pays!G:G,Pays!E:E,1,Pays!D:D,D515)","v":0},{"$f":"SUMIFS(Pays!G:G,Pays!E:E,2,Pays!D:D,D515)","v":0},{"$f":"SUMIFS(Pays!G:G,Pays!E:E,57,Pays!D:D,D515)","v":0},{"$f":"SUMIF(Pays!D:D,D515,Pays!G:G)","v":0},{"$f":"SUMIF(Pays!D:D,D515,Pays!G:G)/176","v":0},{"$f":"IF(M515=0,IF(ISNA(MATCH(D515,'اطلاعات افراد غیر حقوق بگیر'!A:A,0)),0,LOOKUP(D515,'اطلاعات افراد غیر حقوق بگیر'!A:A,'اطلاعات افراد غیر حقوق بگیر'!F:F)),IF(H515=31,Settings!$D$13,ROUND(M515,0)))","v":0},null,0,{"$f":"IF(ISNA(MATCH(D515,Master!D:D,0)),IF(ISNA(MATCH(D515,'اطلاعات افراد غیر حقوق بگیر'!A:A,0)),0,LOOKUP(D515,'اطلاعات افراد غیر حقوق بگیر'!A:A,'اطلاعات افراد غیر حقوق بگیر'!G:G)),LOOKUP(D515,Master!D:D,Master!J:J))","v":0},{"$error":"#N/A"},0,0,{"$f":"IF(O515>#REF!,\"اخطار ساعت اضافه کار از حداکثر بیشتر است\",\" \")","v":{"$error":"#REF!"}},{"$f":"IF(O515>#REF!,1,0)","v":{"$error":"#REF!"}}]
[513,{"$f":"IF(D516=0,\"\",Settings!$D$6)","v":""},{"$f":"IF(D516=0,\"\",LOOKUP(B516,'Rigion Code'!A:A,'Rigion Code'!B:B))","v":""},null,{"$f":"IF(D516=0,\" \",IF(ISNA(MATCH(D516,Personnel!A:A,0)),IF(ISNA(MATCH(D516,'اطلاعات افراد غیر حقوق بگیر'!A:A,0)),\"وجود ندارد\",LOOKUP(Edit!D516,'اطلاعات افراد غیر حقوق بگیر'!A:A,'اطلاعات افراد غیر حقوق بگیر'!B:B)),LOOKUP(D516,Personnel!A:A,Personnel!C:C)))","v":" "},{"$f":"IF(D516=0,\" \",IF(ISNA(MATCH(D516,Personnel!A:A,0)),IF(ISNA(MATCH(D516,'اطلاعات افراد غیر حقوق بگیر'!A:A,0)),\"وجود ندارد\",LOOKUP(D516,'اطلاعات افراد غیر حقوق بگیر'!A:A,'اطلاعات افراد غیر حقوق بگیر'!C:C)),LOOKUP(D516,Personnel!A:A,Personnel!B:B)))","v":" "},{"$f":"IF(D516=0,0,IF(ISNA(MATCH(D516,Personnel!A:A,0)),IF(ISNA(MATCH(D516,'اطلاعات افراد غیر حقوق بگیر'!A:A,0)),\"وجود ندارد\",LOOKUP(D516,'اطلاعات افراد غیر حقوق بگیر'!A:A,'اطلاعات افراد غیر حقوق بگیر'!D:D)),LOOKUP(D516,Master!D:D,Master!CD:CD)))","v":0},{"$f":"IF(D516=0,\" \",IF(ISNA(MATCH(D516,Personnel!A:A,0)),IF(ISNA(MATCH(D516,'اطلاعات افراد غیر حقوق بگیر'!A:A,0)),\"وجود ندارد\",LOOKUP(D516,'اطلاعات افراد غیر حقوق بگیر'!A:A,'اطلاعات افراد غیر حقوق بگیر'!E:E)),LOOKUP(D516,Master!D:D,Master!AH:AH)))","v":" "},{"$f":"SUMIFS(Pays!G:G,Pays!E:E,1,Pays!D:D,D516)","v":0},{"$f":"SUMIFS(Pays!G:G,Pays!E:E,2,Pays!D:D,D516)","v":0},{"$f":"SUMIFS(Pays!G:G,Pays!E:E,57,Pays!D:D,D516)","v":0},{"$f":"SUMIF(Pays!D:D,D516,Pays!G:G)","v":0},{"$f":"SUMIF(Pays!D:D,D516,Pays!G:G)/176","v":0},{"$f":"IF(M516=0,IF(ISNA(MATCH(D516,'اطلاعات افراد غیر حقوق بگیر'!A:A,0)),0,LOOKUP(D516,'اطلاعات افراد غیر حقوق بگیر'!A:A,'اطلاعات افراد غیر حقوق بگیر'!F:F)),IF(H516=31,Settings!$D$13,ROUND(M516,0)))","v":0},null,{"$f":"N516*O516","v":0},{"$f":"IF(ISNA(MATCH(D516,Master!D:D,0)),IF(ISNA(MATCH(D516,'اطلاعات افراد غیر حقوق بگیر'!A:A,0)),0,LOOKUP(D516,'اطلاعات افراد غیر حقوق بگیر'!A:A,'اطلاعات افراد غیر حقوق بگیر'!G:G)),LOOKUP(D516,Master!D:D,Master!J:J))","v":0},{"$error":"#N/A"},0,0,{"$f":"IF(O516>#REF!,\"اخطار ساعت اضافه کار از حداکثر بیشتر است\",\" \")","v":{"$error":"#REF!"}},{"$f":"IF(O516>#REF!,1,0)","v":{"$error":"#REF!"}}]
[514,{"$f":"IF(D517=0,\"\",Settings!$D$6)","v":""},{"$f":"IF(D517=0,\"\",LOOKUP(B517,'Rigion Code'!A:A,'Rigion Code'!B:B))","v":""},null,{"$f":"IF(D517=0,\" \",IF(ISNA(MATCH(D517,Personnel!A:A,0)),IF(ISNA(MATCH(D517,'اطلاعات افراد غیر حقوق بگیر'!A:A,0)),\"وجود ندارد\",LOOKUP(Edit!D517,'اطلاعات افراد غیر حقوق بگیر'!A:A,'اطلاعات افراد غیر حقوق بگیر'!B:B)),LOOKUP(D517,Personnel!A:A,Personnel!C:C)))","v":" "},{"$f":"IF(D517=0,\" \",IF(ISNA(MATCH(D517,Personnel!A:A,0)),IF(ISNA(MATCH(D517,'اطلاعات افراد غیر حقوق بگیر'!A:A,0)),\"وجود ندارد\",LOOKUP(D517,'اطلاعات افراد غیر حقوق بگیر'!A:A,'اطلاعات افراد غیر حقوق بگیر'!C:C)),LOOKUP(D517,Personnel!A:A,Personnel!B:B)))","v":" "},{"$f":"IF(D517=0,0,IF(ISNA(MATCH(D517,Personnel!A:A,0)),IF(ISNA(MATCH(D517,'اطلاعات افراد غیر حقوق بگیر'!A:A,0)),\"وجود ندارد\",LOOKUP(D517,'اطلاعات افراد غیر حقوق بگیر'!A:A,'اطلاعات افراد غیر حقوق بگیر'!D:D)),LOOKUP(D517,Master!D:D,Master!CD:CD)))","v":0},{"$f":"IF(D517=0,\" \",IF(ISNA(MATCH(D517,Personnel!A:A,0)),IF(ISNA(MATCH(D517,'اطلاعات افراد غیر حقوق بگیر'!A:A,0)),\"وجود ندارد\",LOOKUP(D517,'اطلاعات افراد غیر حقوق بگیر'!A:A,'اطلاعات افراد غیر حقوق بگیر'!E:E)),LOOKUP(D517,Master!D:D,Master!AH:AH)))","v":" "},{"$f":"SUMIFS(Pays!G:G,Pays!E:E,1,Pays!D:D,D517)","v":0},{"$f":"SUMIFS(Pays!G:G,Pays!E:E,2,Pays!D:D,D517)","v":0},{"$f":"SUMIFS(Pays!G:G,Pays!E:E,57,Pays!D:D,D517)","v":0},{"$f":"SUMIF(Pays!D:D,D517,Pays!G:G)","v":0},{"$f":"SUMIF(Pays!D:D,D517,Pays!G:G)/176","v":0},{"$f":"IF(M517=0,IF(ISNA(MATCH(D517,'اطلاعات افراد غیر حقوق بگیر'!A:A,0)),0,LOOKUP(D517,'اطلاعات افراد غیر حقوق بگیر'!A:A,'اطلاعات افراد غیر حقوق بگیر'!F:F)),IF(H517=31,Settings!$D$13,ROUND(M517,0)))","v":0},null,0,{"$f":"IF(ISNA(MATCH(D517,Master!D:D,0)),IF(ISNA(MATCH(D517,'اطلاعات افراد غیر حقوق بگیر'!A:A,0)),0,LOOKUP(D517,'اطلاعات افراد غیر حقوق بگیر'!A:A,'اطلاعات افراد غیر حقوق بگیر'!G:G)),LOOKUP(D517,Master!D:D,Master!J:J))","v":0},{"$f":"LOOKUP(Q517,$W$4:$W$12,$X$4:$X$12)","v":{"$error":"#N/A"}},{"$f":"IF(P517=0,0,ROUND(P517*R517/100,0))","v":0},{"$f":"P517-S517","v":0},{"$f":"IF(O517>#REF!,\"اخطار ساعت اضافه کار از حداکثر بیشتر است\",\" \")","v":{"$error":"#REF!"}},{"$f":"IF(O517>#REF!,1,0)","v":{"$error":"#REF!"}}]
[{"$f":"A517+1","v":515},{"$f":"IF(D518=0,\"\",Settings!$D$6)","v":""},{"$f":"IF(D518=0,\"\",LOOKUP(B518,'Rigion Code'!A:A,'Rigion Code'!B:B))","v":""},null,{"$f":"IF(D518=0,\" \",IF(ISNA(MATCH(D518,Personnel!A:A,0)),IF(ISNA(MATCH(D518,'اطلاعات افراد غیر حقوق بگیر'!A:A,0)),\"وجود ندارد\",LOOKUP(Edit!D518,'اطلاعات افراد غیر حقوق بگیر'!A:A,'اطلاعات افراد غیر حقوق بگیر'!B:B)),LOOKUP(D518,Personnel!A:A,Personnel!C:C)))","v":" "},{"$f":"IF(D518=0,\" \",IF(ISNA(MATCH(D518,Personnel!A:A,0)),IF(ISNA(MATCH(D518,'اطلاعات افراد غیر حقوق بگیر'!A:A,0)),\"وجود ندارد\",LOOKUP(D518,'اطلاعات افراد غیر حقوق بگیر'!A:A,'اطلاعات افراد غیر حقوق بگیر'!C:C)),LOOKUP(D518,Personnel!A:A,Personnel!B:B)))","v":" "},{"$f":"IF(D518=0,0,IF(ISNA(MATCH(D518,Personnel!A:A,0)),IF(ISNA(MATCH(D518,'اطلاعات افراد غیر حقوق بگیر'!A:A,0)),\"وجود ندارد\",LOOKUP(D518,'اطلاعات افراد غیر حقوق بگیر'!A:A,'اطلاعات افراد غیر حقوق بگیر'!D:D)),LOOKUP(D518,Master!D:D,Master!CD:CD)))","v":0},{"$f":"IF(D518=0,\" \",IF(ISNA(MATCH(D518,Personnel!A:A,0)),IF(ISNA(MATCH(D518,'اطلاعات افراد غیر حقوق بگیر'!A:A,0)),\"وجود ندارد\",LOOKUP(D518,'اطلاعات افراد غیر حقوق بگیر'!A:A,'اطلاعات افراد غیر حقوق بگیر'!E:E)),LOOKUP(D518,Master!D:D,Master!AH:AH)))","v":" "},{"$f":"SUMIFS(Pays!G:G,Pays!E:E,1,Pays!D:D,D518)","v":0},{"$f":"SUMIFS(Pays!G:G,Pays!E:E,2,Pays!D:D,D518)","v":0},{"$f":"SUMIFS(Pays!G:G,Pays!E:E,57,Pays!D:D,D518)","v":0},{"$f":"SUMIF(Pays!D:D,D518,Pays!G:G)","v":0},{"$f":"SUMIF(Pays!D:D,D518,Pays!G:G)/176","v":0},{"$f":"IF(M518=0,IF(ISNA(MATCH(D518,'اطلاعات افراد غیر حقوق بگیر'!A:A,0)),0,LOOKUP(D518,'اطلاعات افراد غیر حقوق بگیر'!A:A,'اطلاعات افراد غیر حقوق بگیر'!F:F)),IF(H518=31,Settings!$D$13,ROUND(M518,0)))","v":0},null,0,{"$f":"IF(ISNA(MATCH(D518,Master!D:D,0)),IF(ISNA(MATCH(D518,'اطلاعات افراد غیر حقوق بگیر'!A:A,0)),0,LOOKUP(D518,'اطلاعات افراد غیر حقوق بگیر'!A:A,'اطلاعات افراد غیر حقوق بگیر'!G:G)),LOOKUP(D518,Master!D:D,Master!J:J))","v":0},{"$error":"#N/A"},0,0,{"$f":"IF(O518>#REF!,\"اخطار ساعت اضافه کار از حداکثر بیشتر است\",\" \")","v":{"$error":"#REF!"}},{"$f":"IF(O518>#REF!,1,0)","v":{"$error":"#REF!"}}]
[516,{"$f":"IF(D519=0,\"\",Settings!$D$6)","v":""},{"$f":"IF(D519=0,\"\",LOOKUP(B519,'Rigion Code'!A:A,'Rigion Code'!B:B))","v":""},null,{"$f":"IF(D519=0,\" \",IF(ISNA(MATCH(D519,Personnel!A:A,0)),IF(ISNA(MATCH(D519,'اطلاعات افراد غیر حقوق بگیر'!A:A,0)),\"وجود ندارد\",LOOKUP(Edit!D519,'اطلاعات افراد غیر حقوق بگیر'!A:A,'اطلاعات افراد غیر حقوق بگیر'!B:B)),LOOKUP(D519,Personnel!A:A,Personnel!C:C)))","v":" "},{"$f":"IF(D519=0,\" \",IF(ISNA(MATCH(D519,Personnel!A:A,0)),IF(ISNA(MATCH(D519,'اطلاعات افراد غیر حقوق بگیر'!A:A,0)),\"وجود ندارد\",LOOKUP(D519,'اطلاعات افراد غیر حقوق بگیر'!A:A,'اطلاعات افراد غیر حقوق بگیر'!C:C)),LOOKUP(D519,Personnel!A:A,Personnel!B:B)))","v":" "},{"$f":"IF(D519=0,0,IF(ISNA(MATCH(D519,Personnel!A:A,0)),IF(ISNA(MATCH(D519,'اطلاعات افراد غیر حقوق بگیر'!A:A,0)),\"وجود ندارد\",LOOKUP(D519,'اطلاعات افراد غیر حقوق بگیر'!A:A,'اطلاعات افراد غیر حقوق بگیر'!D:D)),LOOKUP(D519,Master!D:D,Master!CD:CD)))","v":0},{"$f":"IF(D519=0,\" \",IF(ISNA(MATCH(D519,Personnel!A:A,0)),IF(ISNA(MATCH(D519,'اطلاعات افراد غیر حقوق بگیر'!A:A,0)),\"وجود ندارد\",LOOKUP(D519,'اطلاعات افراد غیر حقوق بگیر'!A:A,'اطلاعات افراد غیر حقوق بگیر'!E:E)),LOOKUP(D519,Master!D:D,Master!AH:AH)))","v":" "},{"$f":"SUMIFS(Pays!G:G,Pays!E:E,1,Pays!D:D,D519)","v":0},{"$f":"SUMIFS(Pays!G:G,Pays!E:E,2,Pays!D:D,D519)","v":0},{"$f":"SUMIFS(Pays!G:G,Pays!E:E,57,Pays!D:D,D519)","v":0},{"$f":"SUMIF(Pays!D:D,D519,Pays!G:G)","v":0},{"$f":"SUMIF(Pays!D:D,D519,Pays!G:G)/176","v":0},{"$f":"IF(M519=0,IF(ISNA(MATCH(D519,'اطلاعات افراد غیر حقوق بگیر'!A:A,0)),0,LOOKUP(D519,'اطلاعات افراد غیر حقوق بگیر'!A:A,'اطلاعات افراد غیر حقوق بگیر'!F:F)),IF(H519=31,Settings!$D$13,ROUND(M519,0)))","v":0},null,0,{"$f":"IF(ISNA(MATCH(D519,Master!D:D,0)),IF(ISNA(MATCH(D519,'اطلاعات افراد غیر حقوق بگیر'!A:A,0)),0,LOOKUP(D519,'اطلاعات افراد غیر حقوق بگیر'!A:A,'اطلاعات افراد غیر حقوق بگیر'!G:G)),LOOKUP(D519,Master!D:D,Master!J:J))","v":0},{"$error":"#N/A"},0,0,{"$f":"IF(O519>#REF!,\"اخطار ساعت اضافه کار از حداکثر بیشتر است\",\" \")","v":{"$error":"#REF!"}},{"$f":"IF(O519>#REF!,1,0)","v":{"$error":"#REF!"}}]
[517,{"$f":"IF(D520=0,\"\",Settings!$D$6)","v":""},{"$f":"IF(D520=0,\"\",LOOKUP(B520,'Rigion Code'!A:A,'Rigion Code'!B:B))","v":""},null,{"$f":"IF(D520=0,\" \",IF(ISNA(MATCH(D520,Personnel!A:A,0)),IF(ISNA(MATCH(D520,'اطلاعات افراد غیر حقوق بگیر'!A:A,0)),\"وجود ندارد\",LOOKUP(Edit!D520,'اطلاعات افراد غیر حقوق بگیر'!A:A,'اطلاعات افراد غیر حقوق بگیر'!B:B)),LOOKUP(D520,Personnel!A:A,Personnel!C:C)))","v":" "},{"$f":"IF(D520=0,\" \",IF(ISNA(MATCH(D520,Personnel!A:A,0)),IF(ISNA(MATCH(D520,'اطلاعات افراد غیر حقوق بگیر'!A:A,0)),\"وجود ندارد\",LOOKUP(D520,'اطلاعات افراد غیر حقوق بگیر'!A:A,'اطلاعات افراد غیر حقوق بگیر'!C:C)),LOOKUP(D520,Personnel!A:A,Personnel!B:B)))","v":" "},{"$f":"IF(D520=0,0,IF(ISNA(MATCH(D520,Personnel!A:A,0)),IF(ISNA(MATCH(D520,'اطلاعات افراد غیر حقوق بگیر'!A:A,0)),\"وجود ندارد\",LOOKUP(D520,'اطلاعات افراد غیر حقوق بگیر'!A:A,'اطلاعات افراد غیر حقوق بگیر'!D:D)),LOOKUP(D520,Master!D:D,Master!CD:CD)))","v":0},{"$f":"IF(D520=0,\" \",IF(ISNA(MATCH(D520,Personnel!A:A,0)),IF(ISNA(MATCH(D520,'اطلاعات افراد غیر حقوق بگیر'!A:A,0)),\"وجود ندارد\",LOOKUP(D520,'اطلاعات افراد غیر حقوق بگیر'!A:A,'اطلاعات افراد غیر حقوق بگیر'!E:E)),LOOKUP(D520,Master!D:D,Master!AH:AH)))","v":" "},{"$f":"SUMIFS(Pays!G:G,Pays!E:E,1,Pays!D:D,D520)","v":0},{"$f":"SUMIFS(Pays!G:G,Pays!E:E,2,Pays!D:D,D520)","v":0},{"$f":"SUMIFS(Pays!G:G,Pays!E:E,57,Pays!D:D,D520)","v":0},{"$f":"SUMIF(Pays!D:D,D520,Pays!G:G)","v":0},{"$f":"SUMIF(Pays!D:D,D520,Pays!G:G)/176","v":0},{"$f":"IF(M520=0,IF(ISNA(MATCH(D520,'اطلاعات افراد غیر حقوق بگیر'!A:A,0)),0,LOOKUP(D520,'اطلاعات افراد غیر حقوق بگیر'!A:A,'اطلاعات افراد غیر حقوق بگیر'!F:F)),IF(H520=31,Settings!$D$13,ROUND(M520,0)))","v":0},null,0,{"$f":"IF(ISNA(MATCH(D520,Master!D:D,0)),IF(ISNA(MATCH(D520,'اطلاعات افراد غیر حقوق بگیر'!A:A,0)),0,LOOKUP(D520,'اطلاعات افراد غیر حقوق بگیر'!A:A,'اطلاعات افراد غیر حقوق بگیر'!G:G)),LOOKUP(D520,Master!D:D,Master!J:J))","v":0},{"$error":"#N/A"},0,0,{"$f":"IF(O520>#REF!,\"اخطار ساعت اضافه کار از حداکثر بیشتر است\",\" \")","v":{"$error":"#REF!"}},{"$f":"IF(O520>#REF!,1,0)","v":{"$error":"#REF!"}}]
[518,{"$f":"IF(D521=0,\"\",Settings!$D$6)","v":""},{"$f":"IF(D521=0,\"\",LOOKUP(B521,'Rigion Code'!A:A,'Rigion Code'!B:B))","v":""},null,{"$f":"IF(D521=0,\" \",IF(ISNA(MATCH(D521,Personnel!A:A,0)),IF(ISNA(MATCH(D521,'اطلاعات افراد غیر حقوق بگیر'!A:A,0)),\"وجود ندارد\",LOOKUP(Edit!D521,'اطلاعات افراد غیر حقوق بگیر'!A:A,'اطلاعات افراد غیر حقوق بگیر'!B:B)),LOOKUP(D521,Personnel!A:A,Personnel!C:C)))","v":" "},{"$f":"IF(D521=0,\" \",IF(ISNA(MATCH(D521,Personnel!A:A,0)),IF(ISNA(MATCH(D521,'اطلاعات افراد غیر حقوق بگیر'!A:A,0)),\"وجود ندارد\",LOOKUP(D521,'اطلاعات افراد غیر حقوق بگیر'!A:A,'اطلاعات افراد غیر حقوق بگیر'!C:C)),LOOKUP(D521,Personnel!A:A,Personnel!B:B)))","v":" "},{"$f":"IF(D521=0,0,IF(ISNA(MATCH(D521,Personnel!A:A,0)),IF(ISNA(MATCH(D521,'اطلاعات افراد غیر حقوق بگیر'!A:A,0)),\"وجود ندارد\",LOOKUP(D521,'اطلاعات افراد غیر حقوق بگیر'!A:A,'اطلاعات افراد غیر حقوق بگیر'!D:D)),LOOKUP(D521,Master!D:D,Master!CD:CD)))","v":0},{"$f":"IF(D521=0,\" \",IF(ISNA(MATCH(D521,Personnel!A:A,0)),IF(ISNA(MATCH(D521,'اطلاعات افراد غیر حقوق بگیر'!A:A,0)),\"وجود ندارد\",LOOKUP(D521,'اطلاعات افراد غیر حقوق بگیر'!A:A,'اطلاعات افراد غیر حقوق بگیر'!E:E)),LOOKUP(D521,Master!D:D,Master!AH:AH)))","v":" "},{"$f":"SUMIFS(Pays!G:G,Pays!E:E,1,Pays!D:D,D521)","v":0},{"$f":"SUMIFS(Pays!G:G,Pays!E:E,2,Pays!D:D,D521)","v":0},{"$f":"SUMIFS(Pays!G:G,Pays!E:E,57,Pays!D:D,D521)","v":0},{"$f":"SUMIF(Pays!D:D,D521,Pays!G:G)","v":0},{"$f":"SUMIF(Pays!D:D,D521,Pays!G:G)/176","v":0},{"$f":"IF(M521=0,IF(ISNA(MATCH(D521,'اطلاعات افراد غیر حقوق بگیر'!A:A,0)),0,LOOKUP(D521,'اطلاعات افراد غیر حقوق بگیر'!A:A,'اطلاعات افراد غیر حقوق بگیر'!F:F)),IF(H521=31,Settings!$D$13,ROUND(M521,0)))","v":0},null,0,{"$f":"IF(ISNA(MATCH(D521,Master!D:D,0)),IF(ISNA(MATCH(D521,'اطلاعات افراد غیر حقوق بگیر'!A:A,0)),0,LOOKUP(D521,'اطلاعات افراد غیر حقوق بگیر'!A:A,'اطلاعات افراد غیر حقوق بگیر'!G:G)),LOOKUP(D521,Master!D:D,Master!J:J))","v":0},{"$error":"#N/A"},0,0,{"$f":"IF(O521>#REF!,\"اخطار ساعت اضافه کار از حداکثر بیشتر است\",\" \")","v":{"$error":"#REF!"}},{"$f":"IF(O521>#REF!,1,0)","v":{"$error":"#REF!"}}]
[519,{"$f":"IF(D522=0,\"\",Settings!$D$6)","v":""},{"$f":"IF(D522=0,\"\",LOOKUP(B522,'Rigion Code'!A:A,'Rigion Code'!B:B))","v":""},null,{"$f":"IF(D522=0,\" \",IF(ISNA(MATCH(D522,Personnel!A:A,0)),IF(ISNA(MATCH(D522,'اطلاعات افراد غیر حقوق بگیر'!A:A,0)),\"وجود ندارد\",LOOKUP(Edit!D522,'اطلاعات افراد غیر حقوق بگیر'!A:A,'اطلاعات افراد غیر حقوق بگیر'!B:B)),LOOKUP(D522,Personnel!A:A,Personnel!C:C)))","v":" "},{"$f":"IF(D522=0,\" \",IF(ISNA(MATCH(D522,Personnel!A:A,0)),IF(ISNA(MATCH(D522,'اطلاعات افراد غیر حقوق بگیر'!A:A,0)),\"وجود ندارد\",LOOKUP(D522,'اطلاعات افراد غیر حقوق بگیر'!A:A,'اطلاعات افراد غیر حقوق بگیر'!C:C)),LOOKUP(D522,Personnel!A:A,Personnel!B:B)))","v":" "},{"$f":"IF(D522=0,0,IF(ISNA(MATCH(D522,Personnel!A:A,0)),IF(ISNA(MATCH(D522,'اطلاعات افراد غیر حقوق بگیر'!A:A,0)),\"وجود ندارد\",LOOKUP(D522,'اطلاعات افراد غیر حقوق بگیر'!A:A,'اطلاعات افراد غیر حقوق بگیر'!D:D)),LOOKUP(D522,Master!D:D,Master!CD:CD)))","v":0},{"$f":"IF(D522=0,\" \",IF(ISNA(MATCH(D522,Personnel!A:A,0)),IF(ISNA(MATCH(D522,'اطلاعات افراد غیر حقوق بگیر'!A:A,0)),\"وجود ندارد\",LOOKUP(D522,'اطلاعات افراد غیر حقوق بگیر'!A:A,'اطلاعات افراد غیر حقوق بگیر'!E:E)),LOOKUP(D522,Master!D:D,Master!AH:AH)))","v":" "},{"$f":"SUMIFS(Pays!G:G,Pays!E:E,1,Pays!D:D,D522)","v":0},{"$f":"SUMIFS(Pays!G:G,Pays!E:E,2,Pays!D:D,D522)","v":0},{"$f":"SUMIFS(Pays!G:G,Pays!E:E,57,Pays!D:D,D522)","v":0},{"$f":"SUMIF(Pays!D:D,D522,Pays!G:G)","v":0},{"$f":"SUMIF(Pays!D:D,D522,Pays!G:G)/176","v":0},{"$f":"IF(M522=0,IF(ISNA(MATCH(D522,'اطلاعات افراد غیر حقوق بگیر'!A:A,0)),0,LOOKUP(D522,'اطلاعات افراد غیر حقوق بگیر'!A:A,'اطلاعات افراد غیر حقوق بگیر'!F:F)),IF(H522=31,Settings!$D$13,ROUND(M522,0)))","v":0},null,0,{"$f":"IF(ISNA(MATCH(D522,Master!D:D,0)),IF(ISNA(MATCH(D522,'اطلاعات افراد غیر حقوق بگیر'!A:A,0)),0,LOOKUP(D522,'اطلاعات افراد غیر حقوق بگیر'!A:A,'اطلاعات افراد غیر حقوق بگیر'!G:G)),LOOKUP(D522,Master!D:D,Master!J:J))","v":0},{"$error":"#N/A"},0,0,{"$f":"IF(O522>#REF!,\"اخطار ساعت اضافه کار از حداکثر بیشتر است\",\" \")","v":{"$error":"#REF!"}},{"$f":"IF(O522>#REF!,1,0)","v":{"$error":"#REF!"}}]
[520,{"$f":"IF(D523=0,\"\",Settings!$D$6)","v":""},{"$f":"IF(D523=0,\"\",LOOKUP(B523,'Rigion Code'!A:A,'Rigion Code'!B:B))","v":""},null,{"$f":"IF(D523=0,\" \",IF(ISNA(MATCH(D523,Personnel!A:A,0)),IF(ISNA(MATCH(D523,'اطلاعات افراد غیر حقوق بگیر'!A:A,0)),\"وجود ندارد\",LOOKUP(Edit!D523,'اطلاعات افراد غیر حقوق بگیر'!A:A,'اطلاعات افراد غیر حقوق بگیر'!B:B)),LOOKUP(D523,Personnel!A:A,Personnel!C:C)))","v":" "},{"$f":"IF(D523=0,\" \",IF(ISNA(MATCH(D523,Personnel!A:A,0)),IF(ISNA(MATCH(D523,'اطلاعات افراد غیر حقوق بگیر'!A:A,0)),\"وجود ندارد\",LOOKUP(D523,'اطلاعات افراد غیر حقوق بگیر'!A:A,'اطلاعات افراد غیر حقوق بگیر'!C:C)),LOOKUP(D523,Personnel!A:A,Personnel!B:B)))","v":" "},{"$f":"IF(D523=0,0,IF(ISNA(MATCH(D523,Personnel!A:A,0)),IF(ISNA(MATCH(D523,'اطلاعات افراد غیر حقوق بگیر'!A:A,0)),\"وجود ندارد\",LOOKUP(D523,'اطلاعات افراد غیر حقوق بگیر'!A:A,'اطلاعات افراد غیر حقوق بگیر'!D:D)),LOOKUP(D523,Master!D:D,Master!CD:CD)))","v":0},{"$f":"IF(D523=0,\" \",IF(ISNA(MATCH(D523,Personnel!A:A,0)),IF(ISNA(MATCH(D523,'اطلاعات افراد غیر حقوق بگیر'!A:A,0)),\"وجود ندارد\",LOOKUP(D523,'اطلاعات افراد غیر حقوق بگیر'!A:A,'اطلاعات افراد غیر حقوق بگیر'!E:E)),LOOKUP(D523,Master!D:D,Master!AH:AH)))","v":" "},{"$f":"SUMIFS(Pays!G:G,Pays!E:E,1,Pays!D:D,D523)","v":0},{"$f":"SUMIFS(Pays!G:G,Pays!E:E,2,Pays!D:D,D523)","v":0},{"$f":"SUMIFS(Pays!G:G,Pays!E:E,57,Pays!D:D,D523)","v":0},{"$f":"SUMIF(Pays!D:D,D523,Pays!G:G)","v":0},{"$f":"SUMIF(Pays!D:D,D523,Pays!G:G)/176","v":0},{"$f":"IF(M523=0,IF(ISNA(MATCH(D523,'اطلاعات افراد غیر حقوق بگیر'!A:A,0)),0,LOOKUP(D523,'اطلاعات افراد غیر حقوق بگیر'!A:A,'اطلاعات افراد غیر حقوق بگیر'!F:F)),IF(H523=31,Settings!$D$13,ROUND(M523,0)))","v":0},null,0,{"$f":"IF(ISNA(MATCH(D523,Master!D:D,0)),IF(ISNA(MATCH(D523,'اطلاعات افراد غیر حقوق بگیر'!A:A,0)),0,LOOKUP(D523,'اطلاعات افراد غیر حقوق بگیر'!A:A,'اطلاعات افراد غیر حقوق بگیر'!G:G)),LOOKUP(D523,Master!D:D,Master!J:J))","v":0},{"$error":"#N/A"},0,0,{"$f":"IF(O523>#REF!,\"اخطار ساعت اضافه کار از حداکثر بیشتر است\",\" \")","v":{"$error":"#REF!"}},{"$f":"IF(O523>#REF!,1,0)","v":{"$error":"#REF!"}}]
[521,{"$f":"IF(D524=0,\"\",Settings!$D$6)","v":""},{"$f":"IF(D524=0,\"\",LOOKUP(B524,'Rigion Code'!A:A,'Rigion Code'!B:B))","v":""},null,{"$f":"IF(D524=0,\" \",IF(ISNA(MATCH(D524,Personnel!A:A,0)),IF(ISNA(MATCH(D524,'اطلاعات افراد غیر حقوق بگیر'!A:A,0)),\"وجود ندارد\",LOOKUP(Edit!D524,'اطلاعات افراد غیر حقوق بگیر'!A:A,'اطلاعات افراد غیر حقوق بگیر'!B:B)),LOOKUP(D524,Personnel!A:A,Personnel!C:C)))","v":" "},{"$f":"IF(D524=0,\" \",IF(ISNA(MATCH(D524,Personnel!A:A,0)),IF(ISNA(MATCH(D524,'اطلاعات افراد غیر حقوق بگیر'!A:A,0)),\"وجود ندارد\",LOOKUP(D524,'اطلاعات افراد غیر حقوق بگیر'!A:A,'اطلاعات افراد غیر حقوق بگیر'!C:C)),LOOKUP(D524,Personnel!A:A,Personnel!B:B)))","v":" "},{"$f":"IF(D524=0,0,IF(ISNA(MATCH(D524,Personnel!A:A,0)),IF(ISNA(MATCH(D524,'اطلاعات افراد غیر حقوق بگیر'!A:A,0)),\"وجود ندارد\",LOOKUP(D524,'اطلاعات افراد غیر حقوق بگیر'!A:A,'اطلاعات افراد غیر حقوق بگیر'!D:D)),LOOKUP(D524,Master!D:D,Master!CD:CD)))","v":0},{"$f":"IF(D524=0,\" \",IF(ISNA(MATCH(D524,Personnel!A:A,0)),IF(ISNA(MATCH(D524,'اطلاعات افراد غیر حقوق بگیر'!A:A,0)),\"وجود ندارد\",LOOKUP(D524,'اطلاعات افراد غیر حقوق بگیر'!A:A,'اطلاعات افراد غیر حقوق بگیر'!E:E)),LOOKUP(D524,Master!D:D,Master!AH:AH)))","v":" "},{"$f":"SUMIFS(Pays!G:G,Pays!E:E,1,Pays!D:D,D524)","v":0},{"$f":"SUMIFS(Pays!G:G,Pays!E:E,2,Pays!D:D,D524)","v":0},{"$f":"SUMIFS(Pays!G:G,Pays!E:E,57,Pays!D:D,D524)","v":0},{"$f":"SUMIF(Pays!D:D,D524,Pays!G:G)","v":0},{"$f":"SUMIF(Pays!D:D,D524,Pays!G:G)/176","v":0},{"$f":"IF(M524=0,IF(ISNA(MATCH(D524,'اطلاعات افراد غیر حقوق بگیر'!A:A,0)),0,LOOKUP(D524,'اطلاعات افراد غیر حقوق بگیر'!A:A,'اطلاعات افراد غیر حقوق بگیر'!F:F)),IF(H524=31,Settings!$D$13,ROUND(M524,0)))","v":0},null,0,{"$f":"IF(ISNA(MATCH(D524,Master!D:D,0)),IF(ISNA(MATCH(D524,'اطلاعات افراد غیر حقوق بگیر'!A:A,0)),0,LOOKUP(D524,'اطلاعات افراد غیر حقوق بگیر'!A:A,'اطلاعات افراد غیر حقوق بگیر'!G:G)),LOOKUP(D524,Master!D:D,Master!J:J))","v":0},{"$error":"#N/A"},0,0,{"$f":"IF(O524>#REF!,\"اخطار ساعت اضافه کار از حداکثر بیشتر است\",\" \")","v":{"$error":"#REF!"}},{"$f":"IF(O524>#REF!,1,0)","v":{"$error":"#REF!"}}]
[522,{"$f":"IF(D525=0,\"\",Settings!$D$6)","v":""},{"$f":"IF(D525=0,\"\",LOOKUP(B525,'Rigion Code'!A:A,'Rigion Code'!B:B))","v":""},null,{"$f":"IF(D525=0,\" \",IF(ISNA(MATCH(D525,Personnel!A:A,0)),IF(ISNA(MATCH(D525,'اطلاعات افراد غیر حقوق بگیر'!A:A,0)),\"وجود ندارد\",LOOKUP(Edit!D525,'اطلاعات افراد غیر حقوق بگیر'!A:A,'اطلاعات افراد غیر حقوق بگیر'!B:B)),LOOKUP(D525,Personnel!A:A,Personnel!C:C)))","v":" "},{"$f":"IF(D525=0,\" \",IF(ISNA(MATCH(D525,Personnel!A:A,0)),IF(ISNA(MATCH(D525,'اطلاعات افراد غیر حقوق بگیر'!A:A,0)),\"وجود ندارد\",LOOKUP(D525,'اطلاعات افراد غیر حقوق بگیر'!A:A,'اطلاعات افراد غیر حقوق بگیر'!C:C)),LOOKUP(D525,Personnel!A:A,Personnel!B:B)))","v":" "},{"$f":"IF(D525=0,0,IF(ISNA(MATCH(D525,Personnel!A:A,0)),IF(ISNA(MATCH(D525,'اطلاعات افراد غیر حقوق بگیر'!A:A,0)),\"وجود ندارد\",LOOKUP(D525,'اطلاعات افراد غیر حقوق بگیر'!A:A,'اطلاعات افراد غیر حقوق بگیر'!D:D)),LOOKUP(D525,Master!D:D,Master!CD:CD)))","v":0},{"$f":"IF(D525=0,\" \",IF(ISNA(MATCH(D525,Personnel!A:A,0)),IF(ISNA(MATCH(D525,'اطلاعات افراد غیر حقوق بگیر'!A:A,0)),\"وجود ندارد\",LOOKUP(D525,'اطلاعات افراد غیر حقوق بگیر'!A:A,'اطلاعات افراد غیر حقوق بگیر'!E:E)),LOOKUP(D525,Master!D:D,Master!AH:AH)))","v":" "},{"$f":"SUMIFS(Pays!G:G,Pays!E:E,1,Pays!D:D,D525)","v":0},{"$f":"SUMIFS(Pays!G:G,Pays!E:E,2,Pays!D:D,D525)","v":0},{"$f":"SUMIFS(Pays!G:G,Pays!E:E,57,Pays!D:D,D525)","v":0},{"$f":"SUMIF(Pays!D:D,D525,Pays!G:G)","v":0},{"$f":"SUMIF(Pays!D:D,D525,Pays!G:G)/176","v":0},{"$f":"IF(M525=0,IF(ISNA(MATCH(D525,'اطلاعات افراد غیر حقوق بگیر'!A:A,0)),0,LOOKUP(D525,'اطلاعات افراد غیر حقوق بگیر'!A:A,'اطلاعات افراد غیر حقوق بگیر'!F:F)),IF(H525=31,Settings!$D$13,ROUND(M525,0)))","v":0},null,0,{"$f":"IF(ISNA(MATCH(D525,Master!D:D,0)),IF(ISNA(MATCH(D525,'اطلاعات افراد غیر حقوق بگیر'!A:A,0)),0,LOOKUP(D525,'اطلاعات افراد غیر حقوق بگیر'!A:A,'اطلاعات افراد غیر حقوق بگیر'!G:G)),LOOKUP(D525,Master!D:D,Master!J:J))","v":0},{"$error":"#N/A"},0,0,{"$f":"IF(O525>#REF!,\"اخطار ساعت اضافه کار از حداکثر بیشتر است\",\" \")","v":{"$error":"#REF!"}},{"$f":"IF(O525>#REF!,1,0)","v":{"$error":"#REF!"}}]
[523,{"$f":"IF(D526=0,\"\",Settings!$D$6)","v":""},{"$f":"IF(D526=0,\"\",LOOKUP(B526,'Rigion Code'!A:A,'Rigion Code'!B:B))","v":""},null,{"$f":"IF(D526=0,\" \",IF(ISNA(MATCH(D526,Personnel!A:A,0)),IF(ISNA(MATCH(D526,'اطلاعات افراد غیر حقوق بگیر'!A:A,0)),\"وجود ندارد\",LOOKUP(Edit!D526,'اطلاعات افراد غیر حقوق بگیر'!A:A,'اطلاعات افراد غیر حقوق بگیر'!B:B)),LOOKUP(D526,Personnel!A:A,Personnel!C:C)))","v":" "},{"$f":"IF(D526=0,\" \",IF(ISNA(MATCH(D526,Personnel!A:A,0)),IF(ISNA(MATCH(D526,'اطلاعات افراد غیر حقوق بگیر'!A:A,0)),\"وجود ندارد\",LOOKUP(D526,'اطلاعات افراد غیر حقوق بگیر'!A:A,'اطلاعات افراد غیر حقوق بگیر'!C:C)),LOOKUP(D526,Personnel!A:A,Personnel!B:B)))","v":" "},{"$f":"IF(D526=0,0,IF(ISNA(MATCH(D526,Personnel!A:A,0)),IF(ISNA(MATCH(D526,'اطلاعات افراد غیر حقوق بگیر'!A:A,0)),\"وجود ندارد\",LOOKUP(D526,'اطلاعات افراد غیر حقوق بگیر'!A:A,'اطلاعات افراد غیر حقوق بگیر'!D:D)),LOOKUP(D526,Master!D:D,Master!CD:CD)))","v":0},{"$f":"IF(D526=0,\" \",IF(ISNA(MATCH(D526,Personnel!A:A,0)),IF(ISNA(MATCH(D526,'اطلاعات افراد غیر حقوق بگیر'!A:A,0)),\"وجود ندارد\",LOOKUP(D526,'اطلاعات افراد غیر حقوق بگیر'!A:A,'اطلاعات افراد غیر حقوق بگیر'!E:E)),LOOKUP(D526,Master!D:D,Master!AH:AH)))","v":" "},{"$f":"SUMIFS(Pays!G:G,Pays!E:E,1,Pays!D:D,D526)","v":0},{"$f":"SUMIFS(Pays!G:G,Pays!E:E,2,Pays!D:D,D526)","v":0},{"$f":"SUMIFS(Pays!G:G,Pays!E:E,57,Pays!D:D,D526)","v":0},{"$f":"SUMIF(Pays!D:D,D526,Pays!G:G)","v":0},{"$f":"SUMIF(Pays!D:D,D526,Pays!G:G)/176","v":0},{"$f":"IF(M526=0,IF(ISNA(MATCH(D526,'اطلاعات افراد غیر حقوق بگیر'!A:A,0)),0,LOOKUP(D526,'اطلاعات افراد غیر حقوق بگیر'!A:A,'اطلاعات افراد غیر حقوق بگیر'!F:F)),IF(H526=31,Settings!$D$13,ROUND(M526,0)))","v":0},null,0,{"$f":"IF(ISNA(MATCH(D526,Master!D:D,0)),IF(ISNA(MATCH(D526,'اطلاعات افراد غیر حقوق بگیر'!A:A,0)),0,LOOKUP(D526,'اطلاعات افراد غیر حقوق بگیر'!A:A,'اطلاعات افراد غیر حقوق بگیر'!G:G)),LOOKUP(D526,Master!D:D,Master!J:J))","v":0},{"$error":"#N/A"},0,0,{"$f":"IF(O526>#REF!,\"اخطار ساعت اضافه کار از حداکثر بیشتر است\",\" \")","v":{"$error":"#REF!"}},{"$f":"IF(O526>#REF!,1,0)","v":{"$error":"#REF!"}}]
[524,{"$f":"IF(D527=0,\"\",Settings!$D$6)","v":""},{"$f":"IF(D527=0,\"\",LOOKUP(B527,'Rigion Code'!A:A,'Rigion Code'!B:B))","v":""},null,{"$f":"IF(D527=0,\" \",IF(ISNA(MATCH(D527,Personnel!A:A,0)),IF(ISNA(MATCH(D527,'اطلاعات افراد غیر حقوق بگیر'!A:A,0)),\"وجود ندارد\",LOOKUP(Edit!D527,'اطلاعات افراد غیر حقوق بگیر'!A:A,'اطلاعات افراد غیر حقوق بگیر'!B:B)),LOOKUP(D527,Personnel!A:A,Personnel!C:C)))","v":" "},{"$f":"IF(D527=0,\" \",IF(ISNA(MATCH(D527,Personnel!A:A,0)),IF(ISNA(MATCH(D527,'اطلاعات افراد غیر حقوق بگیر'!A:A,0)),\"وجود ندارد\",LOOKUP(D527,'اطلاعات افراد غیر حقوق بگیر'!A:A,'اطلاعات افراد غیر حقوق بگیر'!C:C)),LOOKUP(D527,Personnel!A:A,Personnel!B:B)))","v":" "},{"$f":"IF(D527=0,0,IF(ISNA(MATCH(D527,Personnel!A:A,0)),IF(ISNA(MATCH(D527,'اطلاعات افراد غیر حقوق بگیر'!A:A,0)),\"وجود ندارد\",LOOKUP(D527,'اطلاعات افراد غیر حقوق بگیر'!A:A,'اطلاعات افراد غیر حقوق بگیر'!D:D)),LOOKUP(D527,Master!D:D,Master!CD:CD)))","v":0},{"$f":"IF(D527=0,\" \",IF(ISNA(MATCH(D527,Personnel!A:A,0)),IF(ISNA(MATCH(D527,'اطلاعات افراد غیر حقوق بگیر'!A:A,0)),\"وجود ندارد\",LOOKUP(D527,'اطلاعات افراد غیر حقوق بگیر'!A:A,'اطلاعات افراد غیر حقوق بگیر'!E:E)),LOOKUP(D527,Master!D:D,Master!AH:AH)))","v":" "},{"$f":"SUMIFS(Pays!G:G,Pays!E:E,1,Pays!D:D,D527)","v":0},{"$f":"SUMIFS(Pays!G:G,Pays!E:E,2,Pays!D:D,D527)","v":0},{"$f":"SUMIFS(Pays!G:G,Pays!E:E,57,Pays!D:D,D527)","v":0},{"$f":"SUMIF(Pays!D:D,D527,Pays!G:G)","v":0},{"$f":"SUMIF(Pays!D:D,D527,Pays!G:G)/176","v":0},{"$f":"IF(M527=0,IF(ISNA(MATCH(D527,'اطلاعات افراد غیر حقوق بگیر'!A:A,0)),0,LOOKUP(D527,'اطلاعات افراد غیر حقوق بگیر'!A:A,'اطلاعات افراد غیر حقوق بگیر'!F:F)),IF(H527=31,Settings!$D$13,ROUND(M527,0)))","v":0},null,0,{"$f":"IF(ISNA(MATCH(D527,Master!D:D,0)),IF(ISNA(MATCH(D527,'اطلاعات افراد غیر حقوق بگیر'!A:A,0)),0,LOOKUP(D527,'اطلاعات افراد غیر حقوق بگیر'!A:A,'اطلاعات افراد غیر حقوق بگیر'!G:G)),LOOKUP(D527,Master!D:D,Master!J:J))","v":0},{"$error":"#N/A"},0,0,{"$f":"IF(O527>#REF!,\"اخطار ساعت اضافه کار از حداکثر بیشتر است\",\" \")","v":{"$error":"#REF!"}},{"$f":"IF(O527>#REF!,1,0)","v":{"$error":"#REF!"}}]
[525,{"$f":"IF(D528=0,\"\",Settings!$D$6)","v":""},{"$f":"IF(D528=0,\"\",LOOKUP(B528,'Rigion Code'!A:A,'Rigion Code'!B:B))","v":""},null,{"$f":"IF(D528=0,\" \",IF(ISNA(MATCH(D528,Personnel!A:A,0)),IF(ISNA(MATCH(D528,'اطلاعات افراد غیر حقوق بگیر'!A:A,0)),\"وجود ندارد\",LOOKUP(Edit!D528,'اطلاعات افراد غیر حقوق بگیر'!A:A,'اطلاعات افراد غیر حقوق بگیر'!B:B)),LOOKUP(D528,Personnel!A:A,Personnel!C:C)))","v":" "},{"$f":"IF(D528=0,\" \",IF(ISNA(MATCH(D528,Personnel!A:A,0)),IF(ISNA(MATCH(D528,'اطلاعات افراد غیر حقوق بگیر'!A:A,0)),\"وجود ندارد\",LOOKUP(D528,'اطلاعات افراد غیر حقوق بگیر'!A:A,'اطلاعات افراد غیر حقوق بگیر'!C:C)),LOOKUP(D528,Personnel!A:A,Personnel!B:B)))","v":" "},{"$f":"IF(D528=0,0,IF(ISNA(MATCH(D528,Personnel!A:A,0)),IF(ISNA(MATCH(D528,'اطلاعات افراد غیر حقوق بگیر'!A:A,0)),\"وجود ندارد\",LOOKUP(D528,'اطلاعات افراد غیر حقوق بگیر'!A:A,'اطلاعات افراد غیر حقوق بگیر'!D:D)),LOOKUP(D528,Master!D:D,Master!CD:CD)))","v":0},{"$f":"IF(D528=0,\" \",IF(ISNA(MATCH(D528,Personnel!A:A,0)),IF(ISNA(MATCH(D528,'اطلاعات افراد غیر حقوق بگیر'!A:A,0)),\"وجود ندارد\",LOOKUP(D528,'اطلاعات افراد غیر حقوق بگیر'!A:A,'اطلاعات افراد غیر حقوق بگیر'!E:E)),LOOKUP(D528,Master!D:D,Master!AH:AH)))","v":" "},{"$f":"SUMIFS(Pays!G:G,Pays!E:E,1,Pays!D:D,D528)","v":0},{"$f":"SUMIFS(Pays!G:G,Pays!E:E,2,Pays!D:D,D528)","v":0},{"$f":"SUMIFS(Pays!G:G,Pays!E:E,57,Pays!D:D,D528)","v":0},{"$f":"SUMIF(Pays!D:D,D528,Pays!G:G)","v":0},{"$f":"SUMIF(Pays!D:D,D528,Pays!G:G)/176","v":0},{"$f":"IF(M528=0,IF(ISNA(MATCH(D528,'اطلاعات افراد غیر حقوق بگیر'!A:A,0)),0,LOOKUP(D528,'اطلاعات افراد غیر حقوق بگیر'!A:A,'اطلاعات افراد غیر حقوق بگیر'!F:F)),IF(H528=31,Settings!$D$13,ROUND(M528,0)))","v":0},null,0,{"$f":"IF(ISNA(MATCH(D528,Master!D:D,0)),IF(ISNA(MATCH(D528,'اطلاعات افراد غیر حقوق بگیر'!A:A,0)),0,LOOKUP(D528,'اطلاعات افراد غیر حقوق بگیر'!A:A,'اطلاعات افراد غیر حقوق بگیر'!G:G)),LOOKUP(D528,Master!D:D,Master!J:J))","v":0},{"$error":"#N/A"},0,0,{"$f":"IF(O528>#REF!,\"اخطار ساعت اضافه کار از حداکثر بیشتر است\",\" \")","v":{"$error":"#REF!"}},{"$f":"IF(O528>#REF!,1,0)","v":{"$error":"#REF!"}}]
[526,{"$f":"IF(D529=0,\"\",Settings!$D$6)","v":""},{"$f":"IF(D529=0,\"\",LOOKUP(B529,'Rigion Code'!A:A,'Rigion Code'!B:B))","v":""},null,{"$f":"IF(D529=0,\" \",IF(ISNA(MATCH(D529,Personnel!A:A,0)),IF(ISNA(MATCH(D529,'اطلاعات افراد غیر حقوق بگیر'!A:A,0)),\"وجود ندارد\",LOOKUP(Edit!D529,'اطلاعات افراد غیر حقوق بگیر'!A:A,'اطلاعات افراد غیر حقوق بگیر'!B:B)),LOOKUP(D529,Personnel!A:A,Personnel!C:C)))","v":" "},{"$f":"IF(D529=0,\" \",IF(ISNA(MATCH(D529,Personnel!A:A,0)),IF(ISNA(MATCH(D529,'اطلاعات افراد غیر حقوق بگیر'!A:A,0)),\"وجود ندارد\",LOOKUP(D529,'اطلاعات افراد غیر حقوق بگیر'!A:A,'اطلاعات افراد غیر حقوق بگیر'!C:C)),LOOKUP(D529,Personnel!A:A,Personnel!B:B)))","v":" "},{"$f":"IF(D529=0,0,IF(ISNA(MATCH(D529,Personnel!A:A,0)),IF(ISNA(MATCH(D529,'اطلاعات افراد غیر حقوق بگیر'!A:A,0)),\"وجود ندارد\",LOOKUP(D529,'اطلاعات افراد غیر حقوق بگیر'!A:A,'اطلاعات افراد غیر حقوق بگیر'!D:D)),LOOKUP(D529,Master!D:D,Master!CD:CD)))","v":0},{"$f":"IF(D529=0,\" \",IF(ISNA(MATCH(D529,Personnel!A:A,0)),IF(ISNA(MATCH(D529,'اطلاعات افراد غیر حقوق بگیر'!A:A,0)),\"وجود ندارد\",LOOKUP(D529,'اطلاعات افراد غیر حقوق بگیر'!A:A,'اطلاعات افراد غیر حقوق بگیر'!E:E)),LOOKUP(D529,Master!D:D,Master!AH:AH)))","v":" "},{"$f":"SUMIFS(Pays!G:G,Pays!E:E,1,Pays!D:D,D529)","v":0},{"$f":"SUMIFS(Pays!G:G,Pays!E:E,2,Pays!D:D,D529)","v":0},{"$f":"SUMIFS(Pays!G:G,Pays!E:E,57,Pays!D:D,D529)","v":0},{"$f":"SUMIF(Pays!D:D,D529,Pays!G:G)","v":0},{"$f":"SUMIF(Pays!D:D,D529,Pays!G:G)/176","v":0},{"$f":"IF(M529=0,IF(ISNA(MATCH(D529,'اطلاعات افراد غیر حقوق بگیر'!A:A,0)),0,LOOKUP(D529,'اطلاعات افراد غیر حقوق بگیر'!A:A,'اطلاعات افراد غیر حقوق بگیر'!F:F)),IF(H529=31,Settings!$D$13,ROUND(M529,0)))","v":0},null,0,{"$f":"IF(ISNA(MATCH(D529,Master!D:D,0)),IF(ISNA(MATCH(D529,'اطلاعات افراد غیر حقوق بگیر'!A:A,0)),0,LOOKUP(D529,'اطلاعات افراد غیر حقوق بگیر'!A:A,'اطلاعات افراد غیر حقوق بگیر'!G:G)),LOOKUP(D529,Master!D:D,Master!J:J))","v":0},{"$error":"#N/A"},0,0,{"$f":"IF(O529>#REF!,\"اخطار ساعت اضافه کار از حداکثر بیشتر است\",\" \")","v":{"$error":"#REF!"}},{"$f":"IF(O529>#REF!,1,0)","v":{"$error":"#REF!"}}]
[527,{"$f":"IF(D530=0,\"\",Settings!$D$6)","v":""},{"$f":"IF(D530=0,\"\",LOOKUP(B530,'Rigion Code'!A:A,'Rigion Code'!B:B))","v":""},null,{"$f":"IF(D530=0,\" \",IF(ISNA(MATCH(D530,Personnel!A:A,0)),IF(ISNA(MATCH(D530,'اطلاعات افراد غیر حقوق بگیر'!A:A,0)),\"وجود ندارد\",LOOKUP(Edit!D530,'اطلاعات افراد غیر حقوق بگیر'!A:A,'اطلاعات افراد غیر حقوق بگیر'!B:B)),LOOKUP(D530,Personnel!A:A,Personnel!C:C)))","v":" "},{"$f":"IF(D530=0,\" \",IF(ISNA(MATCH(D530,Personnel!A:A,0)),IF(ISNA(MATCH(D530,'اطلاعات افراد غیر حقوق بگیر'!A:A,0)),\"وجود ندارد\",LOOKUP(D530,'اطلاعات افراد غیر حقوق بگیر'!A:A,'اطلاعات افراد غیر حقوق بگیر'!C:C)),LOOKUP(D530,Personnel!A:A,Personnel!B:B)))","v":" "},{"$f":"IF(D530=0,0,IF(ISNA(MATCH(D530,Personnel!A:A,0)),IF(ISNA(MATCH(D530,'اطلاعات افراد غیر حقوق بگیر'!A:A,0)),\"وجود ندارد\",LOOKUP(D530,'اطلاعات افراد غیر حقوق بگیر'!A:A,'اطلاعات افراد غیر حقوق بگیر'!D:D)),LOOKUP(D530,Master!D:D,Master!CD:CD)))","v":0},{"$f":"IF(D530=0,\" \",IF(ISNA(MATCH(D530,Personnel!A:A,0)),IF(ISNA(MATCH(D530,'اطلاعات افراد غیر حقوق بگیر'!A:A,0)),\"وجود ندارد\",LOOKUP(D530,'اطلاعات افراد غیر حقوق بگیر'!A:A,'اطلاعات افراد غیر حقوق بگیر'!E:E)),LOOKUP(D530,Master!D:D,Master!AH:AH)))","v":" "},{"$f":"SUMIFS(Pays!G:G,Pays!E:E,1,Pays!D:D,D530)","v":0},{"$f":"SUMIFS(Pays!G:G,Pays!E:E,2,Pays!D:D,D530)","v":0},{"$f":"SUMIFS(Pays!G:G,Pays!E:E,57,Pays!D:D,D530)","v":0},{"$f":"SUMIF(Pays!D:D,D530,Pays!G:G)","v":0},{"$f":"SUMIF(Pays!D:D,D530,Pays!G:G)/176","v":0},{"$f":"IF(M530=0,IF(ISNA(MATCH(D530,'اطلاعات افراد غیر حقوق بگیر'!A:A,0)),0,LOOKUP(D530,'اطلاعات افراد غیر حقوق بگیر'!A:A,'اطلاعات افراد غیر حقوق بگیر'!F:F)),IF(H530=31,Settings!$D$13,ROUND(M530,0)))","v":0},null,0,{"$f":"IF(ISNA(MATCH(D530,Master!D:D,0)),IF(ISNA(MATCH(D530,'اطلاعات افراد غیر حقوق بگیر'!A:A,0)),0,LOOKUP(D530,'اطلاعات افراد غیر حقوق بگیر'!A:A,'اطلاعات افراد غیر حقوق بگیر'!G:G)),LOOKUP(D530,Master!D:D,Master!J:J))","v":0},{"$error":"#N/A"},0,0,{"$f":"IF(O530>#REF!,\"اخطار ساعت اضافه کار از حداکثر بیشتر است\",\" \")","v":{"$error":"#REF!"}},{"$f":"IF(O530>#REF!,1,0)","v":{"$error":"#REF!"}}]
[528,{"$f":"IF(D531=0,\"\",Settings!$D$6)","v":""},{"$f":"IF(D531=0,\"\",LOOKUP(B531,'Rigion Code'!A:A,'Rigion Code'!B:B))","v":""},null,{"$f":"IF(D531=0,\" \",IF(ISNA(MATCH(D531,Personnel!A:A,0)),IF(ISNA(MATCH(D531,'اطلاعات افراد غیر حقوق بگیر'!A:A,0)),\"وجود ندارد\",LOOKUP(Edit!D531,'اطلاعات افراد غیر حقوق بگیر'!A:A,'اطلاعات افراد غیر حقوق بگیر'!B:B)),LOOKUP(D531,Personnel!A:A,Personnel!C:C)))","v":" "},{"$f":"IF(D531=0,\" \",IF(ISNA(MATCH(D531,Personnel!A:A,0)),IF(ISNA(MATCH(D531,'اطلاعات افراد غیر حقوق بگیر'!A:A,0)),\"وجود ندارد\",LOOKUP(D531,'اطلاعات افراد غیر حقوق بگیر'!A:A,'اطلاعات افراد غیر حقوق بگیر'!C:C)),LOOKUP(D531,Personnel!A:A,Personnel!B:B)))","v":" "},{"$f":"IF(D531=0,0,IF(ISNA(MATCH(D531,Personnel!A:A,0)),IF(ISNA(MATCH(D531,'اطلاعات افراد غیر حقوق بگیر'!A:A,0)),\"وجود ندارد\",LOOKUP(D531,'اطلاعات افراد غیر حقوق بگیر'!A:A,'اطلاعات افراد غیر حقوق بگیر'!D:D)),LOOKUP(D531,Master!D:D,Master!CD:CD)))","v":0},{"$f":"IF(D531=0,\" \",IF(ISNA(MATCH(D531,Personnel!A:A,0)),IF(ISNA(MATCH(D531,'اطلاعات افراد غیر حقوق بگیر'!A:A,0)),\"وجود ندارد\",LOOKUP(D531,'اطلاعات افراد غیر حقوق بگیر'!A:A,'اطلاعات افراد غیر حقوق بگیر'!E:E)),LOOKUP(D531,Master!D:D,Master!AH:AH)))","v":" "},{"$f":"SUMIFS(Pays!G:G,Pays!E:E,1,Pays!D:D,D531)","v":0},{"$f":"SUMIFS(Pays!G:G,Pays!E:E,2,Pays!D:D,D531)","v":0},{"$f":"SUMIFS(Pays!G:G,Pays!E:E,57,Pays!D:D,D531)","v":0},{"$f":"SUMIF(Pays!D:D,D531,Pays!G:G)","v":0},{"$f":"SUMIF(Pays!D:D,D531,Pays!G:G)/176","v":0},{"$f":"IF(M531=0,IF(ISNA(MATCH(D531,'اطلاعات افراد غیر حقوق بگیر'!A:A,0)),0,LOOKUP(D531,'اطلاعات افراد غیر حقوق بگیر'!A:A,'اطلاعات افراد غیر حقوق بگیر'!F:F)),IF(H531=31,Settings!$D$13,ROUND(M531,0)))","v":0},null,0,{"$f":"IF(ISNA(MATCH(D531,Master!D:D,0)),IF(ISNA(MATCH(D531,'اطلاعات افراد غیر حقوق بگیر'!A:A,0)),0,LOOKUP(D531,'اطلاعات افراد غیر حقوق بگیر'!A:A,'اطلاعات افراد غیر حقوق بگیر'!G:G)),LOOKUP(D531,Master!D:D,Master!J:J))","v":0},{"$error":"#N/A"},0,0,{"$f":"IF(O531>#REF!,\"اخطار ساعت اضافه کار از حداکثر بیشتر است\",\" \")","v":{"$error":"#REF!"}},{"$f":"IF(O531>#REF!,1,0)","v":{"$error":"#REF!"}}]
[529,{"$f":"IF(D532=0,\"\",Settings!$D$6)","v":""},{"$f":"IF(D532=0,\"\",LOOKUP(B532,'Rigion Code'!A:A,'Rigion Code'!B:B))","v":""},null,{"$f":"IF(D532=0,\" \",IF(ISNA(MATCH(D532,Personnel!A:A,0)),IF(ISNA(MATCH(D532,'اطلاعات افراد غیر حقوق بگیر'!A:A,0)),\"وجود ندارد\",LOOKUP(Edit!D532,'اطلاعات افراد غیر حقوق بگیر'!A:A,'اطلاعات افراد غیر حقوق بگیر'!B:B)),LOOKUP(D532,Personnel!A:A,Personnel!C:C)))","v":" "},{"$f":"IF(D532=0,\" \",IF(ISNA(MATCH(D532,Personnel!A:A,0)),IF(ISNA(MATCH(D532,'اطلاعات افراد غیر حقوق بگیر'!A:A,0)),\"وجود ندارد\",LOOKUP(D532,'اطلاعات افراد غیر حقوق بگیر'!A:A,'اطلاعات افراد غیر حقوق بگیر'!C:C)),LOOKUP(D532,Personnel!A:A,Personnel!B:B)))","v":" "},{"$f":"IF(D532=0,0,IF(ISNA(MATCH(D532,Personnel!A:A,0)),IF(ISNA(MATCH(D532,'اطلاعات افراد غیر حقوق بگیر'!A:A,0)),\"وجود ندارد\",LOOKUP(D532,'اطلاعات افراد غیر حقوق بگیر'!A:A,'اطلاعات افراد غیر حقوق بگیر'!D:D)),LOOKUP(D532,Master!D:D,Master!CD:CD)))","v":0},{"$f":"IF(D532=0,\" \",IF(ISNA(MATCH(D532,Personnel!A:A,0)),IF(ISNA(MATCH(D532,'اطلاعات افراد غیر حقوق بگیر'!A:A,0)),\"وجود ندارد\",LOOKUP(D532,'اطلاعات افراد غیر حقوق بگیر'!A:A,'اطلاعات افراد غیر حقوق بگیر'!E:E)),LOOKUP(D532,Master!D:D,Master!AH:AH)))","v":" "},{"$f":"SUMIFS(Pays!G:G,Pays!E:E,1,Pays!D:D,D532)","v":0},{"$f":"SUMIFS(Pays!G:G,Pays!E:E,2,Pays!D:D,D532)","v":0},{"$f":"SUMIFS(Pays!G:G,Pays!E:E,57,Pays!D:D,D532)","v":0},{"$f":"SUMIF(Pays!D:D,D532,Pays!G:G)","v":0},{"$f":"SUMIF(Pays!D:D,D532,Pays!G:G)/176","v":0},{"$f":"IF(M532=0,IF(ISNA(MATCH(D532,'اطلاعات افراد غیر حقوق بگیر'!A:A,0)),0,LOOKUP(D532,'اطلاعات افراد غیر حقوق بگیر'!A:A,'اطلاعات افراد غیر حقوق بگیر'!F:F)),IF(H532=31,Settings!$D$13,ROUND(M532,0)))","v":0},null,0,{"$f":"IF(ISNA(MATCH(D532,Master!D:D,0)),IF(ISNA(MATCH(D532,'اطلاعات افراد غیر حقوق بگیر'!A:A,0)),0,LOOKUP(D532,'اطلاعات افراد غیر حقوق بگیر'!A:A,'اطلاعات افراد غیر حقوق بگیر'!G:G)),LOOKUP(D532,Master!D:D,Master!J:J))","v":0},{"$error":"#N/A"},0,0,{"$f":"IF(O532>#REF!,\"اخطار ساعت اضافه کار از حداکثر بیشتر است\",\" \")","v":{"$error":"#REF!"}},{"$f":"IF(O532>#REF!,1,0)","v":{"$error":"#REF!"}}]
[530,{"$f":"IF(D533=0,\"\",Settings!$D$6)","v":""},{"$f":"IF(D533=0,\"\",LOOKUP(B533,'Rigion Code'!A:A,'Rigion Code'!B:B))","v":""},null,{"$f":"IF(D533=0,\" \",IF(ISNA(MATCH(D533,Personnel!A:A,0)),IF(ISNA(MATCH(D533,'اطلاعات افراد غیر حقوق بگیر'!A:A,0)),\"وجود ندارد\",LOOKUP(Edit!D533,'اطلاعات افراد غیر حقوق بگیر'!A:A,'اطلاعات افراد غیر حقوق بگیر'!B:B)),LOOKUP(D533,Personnel!A:A,Personnel!C:C)))","v":" "},{"$f":"IF(D533=0,\" \",IF(ISNA(MATCH(D533,Personnel!A:A,0)),IF(ISNA(MATCH(D533,'اطلاعات افراد غیر حقوق بگیر'!A:A,0)),\"وجود ندارد\",LOOKUP(D533,'اطلاعات افراد غیر حقوق بگیر'!A:A,'اطلاعات افراد غیر حقوق بگیر'!C:C)),LOOKUP(D533,Personnel!A:A,Personnel!B:B)))","v":" "},{"$f":"IF(D533=0,0,IF(ISNA(MATCH(D533,Personnel!A:A,0)),IF(ISNA(MATCH(D533,'اطلاعات افراد غیر حقوق بگیر'!A:A,0)),\"وجود ندارد\",LOOKUP(D533,'اطلاعات افراد غیر حقوق بگیر'!A:A,'اطلاعات افراد غیر حقوق بگیر'!D:D)),LOOKUP(D533,Master!D:D,Master!CD:CD)))","v":0},{"$f":"IF(D533=0,\" \",IF(ISNA(MATCH(D533,Personnel!A:A,0)),IF(ISNA(MATCH(D533,'اطلاعات افراد غیر حقوق بگیر'!A:A,0)),\"وجود ندارد\",LOOKUP(D533,'اطلاعات افراد غیر حقوق بگیر'!A:A,'اطلاعات افراد غیر حقوق بگیر'!E:E)),LOOKUP(D533,Master!D:D,Master!AH:AH)))","v":" "},{"$f":"SUMIFS(Pays!G:G,Pays!E:E,1,Pays!D:D,D533)","v":0},{"$f":"SUMIFS(Pays!G:G,Pays!E:E,2,Pays!D:D,D533)","v":0},{"$f":"SUMIFS(Pays!G:G,Pays!E:E,57,Pays!D:D,D533)","v":0},{"$f":"SUMIF(Pays!D:D,D533,Pays!G:G)","v":0},{"$f":"SUMIF(Pays!D:D,D533,Pays!G:G)/176","v":0},{"$f":"IF(M533=0,IF(ISNA(MATCH(D533,'اطلاعات افراد غیر حقوق بگیر'!A:A,0)),0,LOOKUP(D533,'اطلاعات افراد غیر حقوق بگیر'!A:A,'اطلاعات افراد غیر حقوق بگیر'!F:F)),IF(H533=31,Settings!$D$13,ROUND(M533,0)))","v":0},null,0,{"$f":"IF(ISNA(MATCH(D533,Master!D:D,0)),IF(ISNA(MATCH(D533,'اطلاعات افراد غیر حقوق بگیر'!A:A,0)),0,LOOKUP(D533,'اطلاعات افراد غیر حقوق بگیر'!A:A,'اطلاعات افراد غیر حقوق بگیر'!G:G)),LOOKUP(D533,Master!D:D,Master!J:J))","v":0},{"$error":"#N/A"},0,0,{"$f":"IF(O533>#REF!,\"اخطار ساعت اضافه کار از حداکثر بیشتر است\",\" \")","v":{"$error":"#REF!"}},{"$f":"IF(O533>#REF!,1,0)","v":{"$error":"#REF!"}}]
[531,{"$f":"IF(D534=0,\"\",Settings!$D$6)","v":""},{"$f":"IF(D534=0,\"\",LOOKUP(B534,'Rigion Code'!A:A,'Rigion Code'!B:B))","v":""},null,{"$f":"IF(D534=0,\" \",IF(ISNA(MATCH(D534,Personnel!A:A,0)),IF(ISNA(MATCH(D534,'اطلاعات افراد غیر حقوق بگیر'!A:A,0)),\"وجود ندارد\",LOOKUP(Edit!D534,'اطلاعات افراد غیر حقوق بگیر'!A:A,'اطلاعات افراد غیر حقوق بگیر'!B:B)),LOOKUP(D534,Personnel!A:A,Personnel!C:C)))","v":" "},{"$f":"IF(D534=0,\" \",IF(ISNA(MATCH(D534,Personnel!A:A,0)),IF(ISNA(MATCH(D534,'اطلاعات افراد غیر حقوق بگیر'!A:A,0)),\"وجود ندارد\",LOOKUP(D534,'اطلاعات افراد غیر حقوق بگیر'!A:A,'اطلاعات افراد غیر حقوق بگیر'!C:C)),LOOKUP(D534,Personnel!A:A,Personnel!B:B)))","v":" "},{"$f":"IF(D534=0,0,IF(ISNA(MATCH(D534,Personnel!A:A,0)),IF(ISNA(MATCH(D534,'اطلاعات افراد غیر حقوق بگیر'!A:A,0)),\"وجود ندارد\",LOOKUP(D534,'اطلاعات افراد غیر حقوق بگیر'!A:A,'اطلاعات افراد غیر حقوق بگیر'!D:D)),LOOKUP(D534,Master!D:D,Master!CD:CD)))","v":0},{"$f":"IF(D534=0,\" \",IF(ISNA(MATCH(D534,Personnel!A:A,0)),IF(ISNA(MATCH(D534,'اطلاعات افراد غیر حقوق بگیر'!A:A,0)),\"وجود ندارد\",LOOKUP(D534,'اطلاعات افراد غیر حقوق بگیر'!A:A,'اطلاعات افراد غیر حقوق بگیر'!E:E)),LOOKUP(D534,Master!D:D,Master!AH:AH)))","v":" "},{"$f":"SUMIFS(Pays!G:G,Pays!E:E,1,Pays!D:D,D534)","v":0},{"$f":"SUMIFS(Pays!G:G,Pays!E:E,2,Pays!D:D,D534)","v":0},{"$f":"SUMIFS(Pays!G:G,Pays!E:E,57,Pays!D:D,D534)","v":0},{"$f":"SUMIF(Pays!D:D,D534,Pays!G:G)","v":0},{"$f":"SUMIF(Pays!D:D,D534,Pays!G:G)/176","v":0},{"$f":"IF(M534=0,IF(ISNA(MATCH(D534,'اطلاعات افراد غیر حقوق بگیر'!A:A,0)),0,LOOKUP(D534,'اطلاعات افراد غیر حقوق بگیر'!A:A,'اطلاعات افراد غیر حقوق بگیر'!F:F)),IF(H534=31,Settings!$D$13,ROUND(M534,0)))","v":0},null,0,{"$f":"IF(ISNA(MATCH(D534,Master!D:D,0)),IF(ISNA(MATCH(D534,'اطلاعات افراد غیر حقوق بگیر'!A:A,0)),0,LOOKUP(D534,'اطلاعات افراد غیر حقوق بگیر'!A:A,'اطلاعات افراد غیر حقوق بگیر'!G:G)),LOOKUP(D534,Master!D:D,Master!J:J))","v":0},{"$error":"#N/A"},0,0,{"$f":"IF(O534>#REF!,\"اخطار ساعت اضافه کار از حداکثر بیشتر است\",\" \")","v":{"$error":"#REF!"}},{"$f":"IF(O534>#REF!,1,0)","v":{"$error":"#REF!"}}]
[532,{"$f":"IF(D535=0,\"\",Settings!$D$6)","v":""},{"$f":"IF(D535=0,\"\",LOOKUP(B535,'Rigion Code'!A:A,'Rigion Code'!B:B))","v":""},null,{"$f":"IF(D535=0,\" \",IF(ISNA(MATCH(D535,Personnel!A:A,0)),IF(ISNA(MATCH(D535,'اطلاعات افراد غیر حقوق بگیر'!A:A,0)),\"وجود ندارد\",LOOKUP(Edit!D535,'اطلاعات افراد غیر حقوق بگیر'!A:A,'اطلاعات افراد غیر حقوق بگیر'!B:B)),LOOKUP(D535,Personnel!A:A,Personnel!C:C)))","v":" "},{"$f":"IF(D535=0,\" \",IF(ISNA(MATCH(D535,Personnel!A:A,0)),IF(ISNA(MATCH(D535,'اطلاعات افراد غیر حقوق بگیر'!A:A,0)),\"وجود ندارد\",LOOKUP(D535,'اطلاعات افراد غیر حقوق بگیر'!A:A,'اطلاعات افراد غیر حقوق بگیر'!C:C)),LOOKUP(D535,Personnel!A:A,Personnel!B:B)))","v":" "},{"$f":"IF(D535=0,0,IF(ISNA(MATCH(D535,Personnel!A:A,0)),IF(ISNA(MATCH(D535,'اطلاعات افراد غیر حقوق بگیر'!A:A,0)),\"وجود ندارد\",LOOKUP(D535,'اطلاعات افراد غیر حقوق بگیر'!A:A,'اطلاعات افراد غیر حقوق بگیر'!D:D)),LOOKUP(D535,Master!D:D,Master!CD:CD)))","v":0},{"$f":"IF(D535=0,\" \",IF(ISNA(MATCH(D535,Personnel!A:A,0)),IF(ISNA(MATCH(D535,'اطلاعات افراد غیر حقوق بگیر'!A:A,0)),\"وجود ندارد\",LOOKUP(D535,'اطلاعات افراد غیر حقوق بگیر'!A:A,'اطلاعات افراد غیر حقوق بگیر'!E:E)),LOOKUP(D535,Master!D:D,Master!AH:AH)))","v":" "},{"$f":"SUMIFS(Pays!G:G,Pays!E:E,1,Pays!D:D,D535)","v":0},{"$f":"SUMIFS(Pays!G:G,Pays!E:E,2,Pays!D:D,D535)","v":0},{"$f":"SUMIFS(Pays!G:G,Pays!E:E,57,Pays!D:D,D535)","v":0},{"$f":"SUMIF(Pays!D:D,D535,Pays!G:G)","v":0},{"$f":"SUMIF(Pays!D:D,D535,Pays!G:G)/176","v":0},{"$f":"IF(M535=0,IF(ISNA(MATCH(D535,'اطلاعات افراد غیر حقوق بگیر'!A:A,0)),0,LOOKUP(D535,'اطلاعات افراد غیر حقوق بگیر'!A:A,'اطلاعات افراد غیر حقوق بگیر'!F:F)),IF(H535=31,Settings!$D$13,ROUND(M535,0)))","v":0},null,0,{"$f":"IF(ISNA(MATCH(D535,Master!D:D,0)),IF(ISNA(MATCH(D535,'اطلاعات افراد غیر حقوق بگیر'!A:A,0)),0,LOOKUP(D535,'اطلاعات افراد غیر حقوق بگیر'!A:A,'اطلاعات افراد غیر حقوق بگیر'!G:G)),LOOKUP(D535,Master!D:D,Master!J:J))","v":0},{"$error":"#N/A"},0,0,{"$f":"IF(O535>#REF!,\"اخطار ساعت اضافه کار از حداکثر بیشتر است\",\" \")","v":{"$error":"#REF!"}},{"$f":"IF(O535>#REF!,1,0)","v":{"$error":"#REF!"}}]
[533,{"$f":"IF(D536=0,\"\",Settings!$D$6)","v":""},{"$f":"IF(D536=0,\"\",LOOKUP(B536,'Rigion Code'!A:A,'Rigion Code'!B:B))","v":""},null,{"$f":"IF(D536=0,\" \",IF(ISNA(MATCH(D536,Personnel!A:A,0)),IF(ISNA(MATCH(D536,'اطلاعات افراد غیر حقوق بگیر'!A:A,0)),\"وجود ندارد\",LOOKUP(Edit!D536,'اطلاعات افراد غیر حقوق بگیر'!A:A,'اطلاعات افراد غیر حقوق بگیر'!B:B)),LOOKUP(D536,Personnel!A:A,Personnel!C:C)))","v":" "},{"$f":"IF(D536=0,\" \",IF(ISNA(MATCH(D536,Personnel!A:A,0)),IF(ISNA(MATCH(D536,'اطلاعات افراد غیر حقوق بگیر'!A:A,0)),\"وجود ندارد\",LOOKUP(D536,'اطلاعات افراد غیر حقوق بگیر'!A:A,'اطلاعات افراد غیر حقوق بگیر'!C:C)),LOOKUP(D536,Personnel!A:A,Personnel!B:B)))","v":" "},{"$f":"IF(D536=0,0,IF(ISNA(MATCH(D536,Personnel!A:A,0)),IF(ISNA(MATCH(D536,'اطلاعات افراد غیر حقوق بگیر'!A:A,0)),\"وجود ندارد\",LOOKUP(D536,'اطلاعات افراد غیر حقوق بگیر'!A:A,'اطلاعات افراد غیر حقوق بگیر'!D:D)),LOOKUP(D536,Master!D:D,Master!CD:CD)))","v":0},{"$f":"IF(D536=0,\" \",IF(ISNA(MATCH(D536,Personnel!A:A,0)),IF(ISNA(MATCH(D536,'اطلاعات افراد غیر حقوق بگیر'!A:A,0)),\"وجود ندارد\",LOOKUP(D536,'اطلاعات افراد غیر حقوق بگیر'!A:A,'اطلاعات افراد غیر حقوق بگیر'!E:E)),LOOKUP(D536,Master!D:D,Master!AH:AH)))","v":" "},{"$f":"SUMIFS(Pays!G:G,Pays!E:E,1,Pays!D:D,D536)","v":0},{"$f":"SUMIFS(Pays!G:G,Pays!E:E,2,Pays!D:D,D536)","v":0},{"$f":"SUMIFS(Pays!G:G,Pays!E:E,57,Pays!D:D,D536)","v":0},{"$f":"SUMIF(Pays!D:D,D536,Pays!G:G)","v":0},{"$f":"SUMIF(Pays!D:D,D536,Pays!G:G)/176","v":0},{"$f":"IF(M536=0,IF(ISNA(MATCH(D536,'اطلاعات افراد غیر حقوق بگیر'!A:A,0)),0,LOOKUP(D536,'اطلاعات افراد غیر حقوق بگیر'!A:A,'اطلاعات افراد غیر حقوق بگیر'!F:F)),IF(H536=31,Settings!$D$13,ROUND(M536,0)))","v":0},null,0,{"$f":"IF(ISNA(MATCH(D536,Master!D:D,0)),IF(ISNA(MATCH(D536,'اطلاعات افراد غیر حقوق بگیر'!A:A,0)),0,LOOKUP(D536,'اطلاعات افراد غیر حقوق بگیر'!A:A,'اطلاعات افراد غیر حقوق بگیر'!G:G)),LOOKUP(D536,Master!D:D,Master!J:J))","v":0},{"$error":"#N/A"},0,0,{"$f":"IF(O536>#REF!,\"اخطار ساعت اضافه کار از حداکثر بیشتر است\",\" \")","v":{"$error":"#REF!"}},{"$f":"IF(O536>#REF!,1,0)","v":{"$error":"#REF!"}}]
[534,{"$f":"IF(D537=0,\"\",Settings!$D$6)","v":""},{"$f":"IF(D537=0,\"\",LOOKUP(B537,'Rigion Code'!A:A,'Rigion Code'!B:B))","v":""},null,{"$f":"IF(D537=0,\" \",IF(ISNA(MATCH(D537,Personnel!A:A,0)),IF(ISNA(MATCH(D537,'اطلاعات افراد غیر حقوق بگیر'!A:A,0)),\"وجود ندارد\",LOOKUP(Edit!D537,'اطلاعات افراد غیر حقوق بگیر'!A:A,'اطلاعات افراد غیر حقوق بگیر'!B:B)),LOOKUP(D537,Personnel!A:A,Personnel!C:C)))","v":" "},{"$f":"IF(D537=0,\" \",IF(ISNA(MATCH(D537,Personnel!A:A,0)),IF(ISNA(MATCH(D537,'اطلاعات افراد غیر حقوق بگیر'!A:A,0)),\"وجود ندارد\",LOOKUP(D537,'اطلاعات افراد غیر حقوق بگیر'!A:A,'اطلاعات افراد غیر حقوق بگیر'!C:C)),LOOKUP(D537,Personnel!A:A,Personnel!B:B)))","v":" "},{"$f":"IF(D537=0,0,IF(ISNA(MATCH(D537,Personnel!A:A,0)),IF(ISNA(MATCH(D537,'اطلاعات افراد غیر حقوق بگیر'!A:A,0)),\"وجود ندارد\",LOOKUP(D537,'اطلاعات افراد غیر حقوق بگیر'!A:A,'اطلاعات افراد غیر حقوق بگیر'!D:D)),LOOKUP(D537,Master!D:D,Master!CD:CD)))","v":0},{"$f":"IF(D537=0,\" \",IF(ISNA(MATCH(D537,Personnel!A:A,0)),IF(ISNA(MATCH(D537,'اطلاعات افراد غیر حقوق بگیر'!A:A,0)),\"وجود ندارد\",LOOKUP(D537,'اطلاعات افراد غیر حقوق بگیر'!A:A,'اطلاعات افراد غیر حقوق بگیر'!E:E)),LOOKUP(D537,Master!D:D,Master!AH:AH)))","v":" "},{"$f":"SUMIFS(Pays!G:G,Pays!E:E,1,Pays!D:D,D537)","v":0},{"$f":"SUMIFS(Pays!G:G,Pays!E:E,2,Pays!D:D,D537)","v":0},{"$f":"SUMIFS(Pays!G:G,Pays!E:E,57,Pays!D:D,D537)","v":0},{"$f":"SUMIF(Pays!D:D,D537,Pays!G:G)","v":0},{"$f":"SUMIF(Pays!D:D,D537,Pays!G:G)/176","v":0},{"$f":"IF(M537=0,IF(ISNA(MATCH(D537,'اطلاعات افراد غیر حقوق بگیر'!A:A,0)),0,LOOKUP(D537,'اطلاعات افراد غیر حقوق بگیر'!A:A,'اطلاعات افراد غیر حقوق بگیر'!F:F)),IF(H537=31,Settings!$D$13,ROUND(M537,0)))","v":0},null,0,{"$f":"IF(ISNA(MATCH(D537,Master!D:D,0)),IF(ISNA(MATCH(D537,'اطلاعات افراد غیر حقوق بگیر'!A:A,0)),0,LOOKUP(D537,'اطلاعات افراد غیر حقوق بگیر'!A:A,'اطلاعات افراد غیر حقوق بگیر'!G:G)),LOOKUP(D537,Master!D:D,Master!J:J))","v":0},{"$error":"#N/A"},0,0,{"$f":"IF(O537>#REF!,\"اخطار ساعت اضافه کار از حداکثر بیشتر است\",\" \")","v":{"$error":"#REF!"}},{"$f":"IF(O537>#REF!,1,0)","v":{"$error":"#REF!"}}]
[535,{"$f":"IF(D538=0,\"\",Settings!$D$6)","v":""},{"$f":"IF(D538=0,\"\",LOOKUP(B538,'Rigion Code'!A:A,'Rigion Code'!B:B))","v":""},null,{"$f":"IF(D538=0,\" \",IF(ISNA(MATCH(D538,Personnel!A:A,0)),IF(ISNA(MATCH(D538,'اطلاعات افراد غیر حقوق بگیر'!A:A,0)),\"وجود ندارد\",LOOKUP(Edit!D538,'اطلاعات افراد غیر حقوق بگیر'!A:A,'اطلاعات افراد غیر حقوق بگیر'!B:B)),LOOKUP(D538,Personnel!A:A,Personnel!C:C)))","v":" "},{"$f":"IF(D538=0,\" \",IF(ISNA(MATCH(D538,Personnel!A:A,0)),IF(ISNA(MATCH(D538,'اطلاعات افراد غیر حقوق بگیر'!A:A,0)),\"وجود ندارد\",LOOKUP(D538,'اطلاعات افراد غیر حقوق بگیر'!A:A,'اطلاعات افراد غیر حقوق بگیر'!C:C)),LOOKUP(D538,Personnel!A:A,Personnel!B:B)))","v":" "},{"$f":"IF(D538=0,0,IF(ISNA(MATCH(D538,Personnel!A:A,0)),IF(ISNA(MATCH(D538,'اطلاعات افراد غیر حقوق بگیر'!A:A,0)),\"وجود ندارد\",LOOKUP(D538,'اطلاعات افراد غیر حقوق بگیر'!A:A,'اطلاعات افراد غیر حقوق بگیر'!D:D)),LOOKUP(D538,Master!D:D,Master!CD:CD)))","v":0},{"$f":"IF(D538=0,\" \",IF(ISNA(MATCH(D538,Personnel!A:A,0)),IF(ISNA(MATCH(D538,'اطلاعات افراد غیر حقوق بگیر'!A:A,0)),\"وجود ندارد\",LOOKUP(D538,'اطلاعات افراد غیر حقوق بگیر'!A:A,'اطلاعات افراد غیر حقوق بگیر'!E:E)),LOOKUP(D538,Master!D:D,Master!AH:AH)))","v":" "},{"$f":"SUMIFS(Pays!G:G,Pays!E:E,1,Pays!D:D,D538)","v":0},{"$f":"SUMIFS(Pays!G:G,Pays!E:E,2,Pays!D:D,D538)","v":0},{"$f":"SUMIFS(Pays!G:G,Pays!E:E,57,Pays!D:D,D538)","v":0},{"$f":"SUMIF(Pays!D:D,D538,Pays!G:G)","v":0},{"$f":"SUMIF(Pays!D:D,D538,Pays!G:G)/176","v":0},{"$f":"IF(M538=0,IF(ISNA(MATCH(D538,'اطلاعات افراد غیر حقوق بگیر'!A:A,0)),0,LOOKUP(D538,'اطلاعات افراد غیر حقوق بگیر'!A:A,'اطلاعات افراد غیر حقوق بگیر'!F:F)),IF(H538=31,Settings!$D$13,ROUND(M538,0)))","v":0},null,0,{"$f":"IF(ISNA(MATCH(D538,Master!D:D,0)),IF(ISNA(MATCH(D538,'اطلاعات افراد غیر حقوق بگیر'!A:A,0)),0,LOOKUP(D538,'اطلاعات افراد غیر حقوق بگیر'!A:A,'اطلاعات افراد غیر حقوق بگیر'!G:G)),LOOKUP(D538,Master!D:D,Master!J:J))","v":0},{"$error":"#N/A"},0,0,{"$f":"IF(O538>#REF!,\"اخطار ساعت اضافه کار از حداکثر بیشتر است\",\" \")","v":{"$error":"#REF!"}},{"$f":"IF(O538>#REF!,1,0)","v":{"$error":"#REF!"}}]
[536,{"$f":"IF(D539=0,\"\",Settings!$D$6)","v":""},{"$f":"IF(D539=0,\"\",LOOKUP(B539,'Rigion Code'!A:A,'Rigion Code'!B:B))","v":""},null,{"$f":"IF(D539=0,\" \",IF(ISNA(MATCH(D539,Personnel!A:A,0)),IF(ISNA(MATCH(D539,'اطلاعات افراد غیر حقوق بگیر'!A:A,0)),\"وجود ندارد\",LOOKUP(Edit!D539,'اطلاعات افراد غیر حقوق بگیر'!A:A,'اطلاعات افراد غیر حقوق بگیر'!B:B)),LOOKUP(D539,Personnel!A:A,Personnel!C:C)))","v":" "},{"$f":"IF(D539=0,\" \",IF(ISNA(MATCH(D539,Personnel!A:A,0)),IF(ISNA(MATCH(D539,'اطلاعات افراد غیر حقوق بگیر'!A:A,0)),\"وجود ندارد\",LOOKUP(D539,'اطلاعات افراد غیر حقوق بگیر'!A:A,'اطلاعات افراد غیر حقوق بگیر'!C:C)),LOOKUP(D539,Personnel!A:A,Personnel!B:B)))","v":" "},{"$f":"IF(D539=0,0,IF(ISNA(MATCH(D539,Personnel!A:A,0)),IF(ISNA(MATCH(D539,'اطلاعات افراد غیر حقوق بگیر'!A:A,0)),\"وجود ندارد\",LOOKUP(D539,'اطلاعات افراد غیر حقوق بگیر'!A:A,'اطلاعات افراد غیر حقوق بگیر'!D:D)),LOOKUP(D539,Master!D:D,Master!CD:CD)))","v":0},{"$f":"IF(D539=0,\" \",IF(ISNA(MATCH(D539,Personnel!A:A,0)),IF(ISNA(MATCH(D539,'اطلاعات افراد غیر حقوق بگیر'!A:A,0)),\"وجود ندارد\",LOOKUP(D539,'اطلاعات افراد غیر حقوق بگیر'!A:A,'اطلاعات افراد غیر حقوق بگیر'!E:E)),LOOKUP(D539,Master!D:D,Master!AH:AH)))","v":" "},{"$f":"SUMIFS(Pays!G:G,Pays!E:E,1,Pays!D:D,D539)","v":0},{"$f":"SUMIFS(Pays!G:G,Pays!E:E,2,Pays!D:D,D539)","v":0},{"$f":"SUMIFS(Pays!G:G,Pays!E:E,57,Pays!D:D,D539)","v":0},{"$f":"SUMIF(Pays!D:D,D539,Pays!G:G)","v":0},{"$f":"SUMIF(Pays!D:D,D539,Pays!G:G)/176","v":0},{"$f":"IF(M539=0,IF(ISNA(MATCH(D539,'اطلاعات افراد غیر حقوق بگیر'!A:A,0)),0,LOOKUP(D539,'اطلاعات افراد غیر حقوق بگیر'!A:A,'اطلاعات افراد غیر حقوق بگیر'!F:F)),IF(H539=31,Settings!$D$13,ROUND(M539,0)))","v":0},null,0,{"$f":"IF(ISNA(MATCH(D539,Master!D:D,0)),IF(ISNA(MATCH(D539,'اطلاعات افراد غیر حقوق بگیر'!A:A,0)),0,LOOKUP(D539,'اطلاعات افراد غیر حقوق بگیر'!A:A,'اطلاعات افراد غیر حقوق بگیر'!G:G)),LOOKUP(D539,Master!D:D,Master!J:J))","v":0},{"$error":"#N/A"},0,0,{"$f":"IF(O539>#REF!,\"اخطار ساعت اضافه کار از حداکثر بیشتر است\",\" \")","v":{"$error":"#REF!"}},{"$f":"IF(O539>#REF!,1,0)","v":{"$error":"#REF!"}}]
[537,{"$f":"IF(D540=0,\"\",Settings!$D$6)","v":""},{"$f":"IF(D540=0,\"\",LOOKUP(B540,'Rigion Code'!A:A,'Rigion Code'!B:B))","v":""},null,{"$f":"IF(D540=0,\" \",IF(ISNA(MATCH(D540,Personnel!A:A,0)),IF(ISNA(MATCH(D540,'اطلاعات افراد غیر حقوق بگیر'!A:A,0)),\"وجود ندارد\",LOOKUP(Edit!D540,'اطلاعات افراد غیر حقوق بگیر'!A:A,'اطلاعات افراد غیر حقوق بگیر'!B:B)),LOOKUP(D540,Personnel!A:A,Personnel!C:C)))","v":" "},{"$f":"IF(D540=0,\" \",IF(ISNA(MATCH(D540,Personnel!A:A,0)),IF(ISNA(MATCH(D540,'اطلاعات افراد غیر حقوق بگیر'!A:A,0)),\"وجود ندارد\",LOOKUP(D540,'اطلاعات افراد غیر حقوق بگیر'!A:A,'اطلاعات افراد غیر حقوق بگیر'!C:C)),LOOKUP(D540,Personnel!A:A,Personnel!B:B)))","v":" "},{"$f":"IF(D540=0,0,IF(ISNA(MATCH(D540,Personnel!A:A,0)),IF(ISNA(MATCH(D540,'اطلاعات افراد غیر حقوق بگیر'!A:A,0)),\"وجود ندارد\",LOOKUP(D540,'اطلاعات افراد غیر حقوق بگیر'!A:A,'اطلاعات افراد غیر حقوق بگیر'!D:D)),LOOKUP(D540,Master!D:D,Master!CD:CD)))","v":0},{"$f":"IF(D540=0,\" \",IF(ISNA(MATCH(D540,Personnel!A:A,0)),IF(ISNA(MATCH(D540,'اطلاعات افراد غیر حقوق بگیر'!A:A,0)),\"وجود ندارد\",LOOKUP(D540,'اطلاعات افراد غیر حقوق بگیر'!A:A,'اطلاعات افراد غیر حقوق بگیر'!E:E)),LOOKUP(D540,Master!D:D,Master!AH:AH)))","v":" "},{"$f":"SUMIFS(Pays!G:G,Pays!E:E,1,Pays!D:D,D540)","v":0},{"$f":"SUMIFS(Pays!G:G,Pays!E:E,2,Pays!D:D,D540)","v":0},{"$f":"SUMIFS(Pays!G:G,Pays!E:E,57,Pays!D:D,D540)","v":0},{"$f":"SUMIF(Pays!D:D,D540,Pays!G:G)","v":0},{"$f":"SUMIF(Pays!D:D,D540,Pays!G:G)/176","v":0},{"$f":"IF(M540=0,IF(ISNA(MATCH(D540,'اطلاعات افراد غیر حقوق بگیر'!A:A,0)),0,LOOKUP(D540,'اطلاعات افراد غیر حقوق بگیر'!A:A,'اطلاعات افراد غیر حقوق بگیر'!F:F)),IF(H540=31,Settings!$D$13,ROUND(M540,0)))","v":0},null,0,{"$f":"IF(ISNA(MATCH(D540,Master!D:D,0)),IF(ISNA(MATCH(D540,'اطلاعات افراد غیر حقوق بگیر'!A:A,0)),0,LOOKUP(D540,'اطلاعات افراد غیر حقوق بگیر'!A:A,'اطلاعات افراد غیر حقوق بگیر'!G:G)),LOOKUP(D540,Master!D:D,Master!J:J))","v":0},{"$error":"#N/A"},0,0,{"$f":"IF(O540>#REF!,\"اخطار ساعت اضافه کار از حداکثر بیشتر است\",\" \")","v":{"$error":"#REF!"}},{"$f":"IF(O540>#REF!,1,0)","v":{"$error":"#REF!"}}]
[538,{"$f":"IF(D541=0,\"\",Settings!$D$6)","v":""},{"$f":"IF(D541=0,\"\",LOOKUP(B541,'Rigion Code'!A:A,'Rigion Code'!B:B))","v":""},null,{"$f":"IF(D541=0,\" \",IF(ISNA(MATCH(D541,Personnel!A:A,0)),IF(ISNA(MATCH(D541,'اطلاعات افراد غیر حقوق بگیر'!A:A,0)),\"وجود ندارد\",LOOKUP(Edit!D541,'اطلاعات افراد غیر حقوق بگیر'!A:A,'اطلاعات افراد غیر حقوق بگیر'!B:B)),LOOKUP(D541,Personnel!A:A,Personnel!C:C)))","v":" "},{"$f":"IF(D541=0,\" \",IF(ISNA(MATCH(D541,Personnel!A:A,0)),IF(ISNA(MATCH(D541,'اطلاعات افراد غیر حقوق بگیر'!A:A,0)),\"وجود ندارد\",LOOKUP(D541,'اطلاعات افراد غیر حقوق بگیر'!A:A,'اطلاعات افراد غیر حقوق بگیر'!C:C)),LOOKUP(D541,Personnel!A:A,Personnel!B:B)))","v":" "},{"$f":"IF(D541=0,0,IF(ISNA(MATCH(D541,Personnel!A:A,0)),IF(ISNA(MATCH(D541,'اطلاعات افراد غیر حقوق بگیر'!A:A,0)),\"وجود ندارد\",LOOKUP(D541,'اطلاعات افراد غیر حقوق بگیر'!A:A,'اطلاعات افراد غیر حقوق بگیر'!D:D)),LOOKUP(D541,Master!D:D,Master!CD:CD)))","v":0},{"$f":"IF(D541=0,\" \",IF(ISNA(MATCH(D541,Personnel!A:A,0)),IF(ISNA(MATCH(D541,'اطلاعات افراد غیر حقوق بگیر'!A:A,0)),\"وجود ندارد\",LOOKUP(D541,'اطلاعات افراد غیر حقوق بگیر'!A:A,'اطلاعات افراد غیر حقوق بگیر'!E:E)),LOOKUP(D541,Master!D:D,Master!AH:AH)))","v":" "},{"$f":"SUMIFS(Pays!G:G,Pays!E:E,1,Pays!D:D,D541)","v":0},{"$f":"SUMIFS(Pays!G:G,Pays!E:E,2,Pays!D:D,D541)","v":0},{"$f":"SUMIFS(Pays!G:G,Pays!E:E,57,Pays!D:D,D541)","v":0},{"$f":"SUMIF(Pays!D:D,D541,Pays!G:G)","v":0},{"$f":"SUMIF(Pays!D:D,D541,Pays!G:G)/176","v":0},{"$f":"IF(M541=0,IF(ISNA(MATCH(D541,'اطلاعات افراد غیر حقوق بگیر'!A:A,0)),0,LOOKUP(D541,'اطلاعات افراد غیر حقوق بگیر'!A:A,'اطلاعات افراد غیر حقوق بگیر'!F:F)),IF(H541=31,Settings!$D$13,ROUND(M541,0)))","v":0},null,0,{"$f":"IF(ISNA(MATCH(D541,Master!D:D,0)),IF(ISNA(MATCH(D541,'اطلاعات افراد غیر حقوق بگیر'!A:A,0)),0,LOOKUP(D541,'اطلاعات افراد غیر حقوق بگیر'!A:A,'اطلاعات افراد غیر حقوق بگیر'!G:G)),LOOKUP(D541,Master!D:D,Master!J:J))","v":0},{"$error":"#N/A"},0,0,{"$f":"IF(O541>#REF!,\"اخطار ساعت اضافه کار از حداکثر بیشتر است\",\" \")","v":{"$error":"#REF!"}},{"$f":"IF(O541>#REF!,1,0)","v":{"$error":"#REF!"}}]
[539,{"$f":"IF(D542=0,\"\",Settings!$D$6)","v":""},{"$f":"IF(D542=0,\"\",LOOKUP(B542,'Rigion Code'!A:A,'Rigion Code'!B:B))","v":""},null,{"$f":"IF(D542=0,\" \",IF(ISNA(MATCH(D542,Personnel!A:A,0)),IF(ISNA(MATCH(D542,'اطلاعات افراد غیر حقوق بگیر'!A:A,0)),\"وجود ندارد\",LOOKUP(Edit!D542,'اطلاعات افراد غیر حقوق بگیر'!A:A,'اطلاعات افراد غیر حقوق بگیر'!B:B)),LOOKUP(D542,Personnel!A:A,Personnel!C:C)))","v":" "},{"$f":"IF(D542=0,\" \",IF(ISNA(MATCH(D542,Personnel!A:A,0)),IF(ISNA(MATCH(D542,'اطلاعات افراد غیر حقوق بگیر'!A:A,0)),\"وجود ندارد\",LOOKUP(D542,'اطلاعات افراد غیر حقوق بگیر'!A:A,'اطلاعات افراد غیر حقوق بگیر'!C:C)),LOOKUP(D542,Personnel!A:A,Personnel!B:B)))","v":" "},{"$f":"IF(D542=0,0,IF(ISNA(MATCH(D542,Personnel!A:A,0)),IF(ISNA(MATCH(D542,'اطلاعات افراد غیر حقوق بگیر'!A:A,0)),\"وجود ندارد\",LOOKUP(D542,'اطلاعات افراد غیر حقوق بگیر'!A:A,'اطلاعات افراد غیر حقوق بگیر'!D:D)),LOOKUP(D542,Master!D:D,Master!CD:CD)))","v":0},{"$f":"IF(D542=0,\" \",IF(ISNA(MATCH(D542,Personnel!A:A,0)),IF(ISNA(MATCH(D542,'اطلاعات افراد غیر حقوق بگیر'!A:A,0)),\"وجود ندارد\",LOOKUP(D542,'اطلاعات افراد غیر حقوق بگیر'!A:A,'اطلاعات افراد غیر حقوق بگیر'!E:E)),LOOKUP(D542,Master!D:D,Master!AH:AH)))","v":" "},{"$f":"SUMIFS(Pays!G:G,Pays!E:E,1,Pays!D:D,D542)","v":0},{"$f":"SUMIFS(Pays!G:G,Pays!E:E,2,Pays!D:D,D542)","v":0},{"$f":"SUMIFS(Pays!G:G,Pays!E:E,57,Pays!D:D,D542)","v":0},{"$f":"SUMIF(Pays!D:D,D542,Pays!G:G)","v":0},{"$f":"SUMIF(Pays!D:D,D542,Pays!G:G)/176","v":0},{"$f":"IF(M542=0,IF(ISNA(MATCH(D542,'اطلاعات افراد غیر حقوق بگیر'!A:A,0)),0,LOOKUP(D542,'اطلاعات افراد غیر حقوق بگیر'!A:A,'اطلاعات افراد غیر حقوق بگیر'!F:F)),IF(H542=31,Settings!$D$13,ROUND(M542,0)))","v":0},null,0,{"$f":"IF(ISNA(MATCH(D542,Master!D:D,0)),IF(ISNA(MATCH(D542,'اطلاعات افراد غیر حقوق بگیر'!A:A,0)),0,LOOKUP(D542,'اطلاعات افراد غیر حقوق بگیر'!A:A,'اطلاعات افراد غیر حقوق بگیر'!G:G)),LOOKUP(D542,Master!D:D,Master!J:J))","v":0},{"$error":"#N/A"},0,0,{"$f":"IF(O542>#REF!,\"اخطار ساعت اضافه کار از حداکثر بیشتر است\",\" \")","v":{"$error":"#REF!"}},{"$f":"IF(O542>#REF!,1,0)","v":{"$error":"#REF!"}}]
[540,{"$f":"IF(D543=0,\"\",Settings!$D$6)","v":""},{"$f":"IF(D543=0,\"\",LOOKUP(B543,'Rigion Code'!A:A,'Rigion Code'!B:B))","v":""},null,{"$f":"IF(D543=0,\" \",IF(ISNA(MATCH(D543,Personnel!A:A,0)),IF(ISNA(MATCH(D543,'اطلاعات افراد غیر حقوق بگیر'!A:A,0)),\"وجود ندارد\",LOOKUP(Edit!D543,'اطلاعات افراد غیر حقوق بگیر'!A:A,'اطلاعات افراد غیر حقوق بگیر'!B:B)),LOOKUP(D543,Personnel!A:A,Personnel!C:C)))","v":" "},{"$f":"IF(D543=0,\" \",IF(ISNA(MATCH(D543,Personnel!A:A,0)),IF(ISNA(MATCH(D543,'اطلاعات افراد غیر حقوق بگیر'!A:A,0)),\"وجود ندارد\",LOOKUP(D543,'اطلاعات افراد غیر حقوق بگیر'!A:A,'اطلاعات افراد غیر حقوق بگیر'!C:C)),LOOKUP(D543,Personnel!A:A,Personnel!B:B)))","v":" "},{"$f":"IF(D543=0,0,IF(ISNA(MATCH(D543,Personnel!A:A,0)),IF(ISNA(MATCH(D543,'اطلاعات افراد غیر حقوق بگیر'!A:A,0)),\"وجود ندارد\",LOOKUP(D543,'اطلاعات افراد غیر حقوق بگیر'!A:A,'اطلاعات افراد غیر حقوق بگیر'!D:D)),LOOKUP(D543,Master!D:D,Master!CD:CD)))","v":0},{"$f":"IF(D543=0,\" \",IF(ISNA(MATCH(D543,Personnel!A:A,0)),IF(ISNA(MATCH(D543,'اطلاعات افراد غیر حقوق بگیر'!A:A,0)),\"وجود ندارد\",LOOKUP(D543,'اطلاعات افراد غیر حقوق بگیر'!A:A,'اطلاعات افراد غیر حقوق بگیر'!E:E)),LOOKUP(D543,Master!D:D,Master!AH:AH)))","v":" "},{"$f":"SUMIFS(Pays!G:G,Pays!E:E,1,Pays!D:D,D543)","v":0},{"$f":"SUMIFS(Pays!G:G,Pays!E:E,2,Pays!D:D,D543)","v":0},{"$f":"SUMIFS(Pays!G:G,Pays!E:E,57,Pays!D:D,D543)","v":0},{"$f":"SUMIF(Pays!D:D,D543,Pays!G:G)","v":0},{"$f":"SUMIF(Pays!D:D,D543,Pays!G:G)/176","v":0},{"$f":"IF(M543=0,IF(ISNA(MATCH(D543,'اطلاعات افراد غیر حقوق بگیر'!A:A,0)),0,LOOKUP(D543,'اطلاعات افراد غیر حقوق بگیر'!A:A,'اطلاعات افراد غیر حقوق بگیر'!F:F)),IF(H543=31,Settings!$D$13,ROUND(M543,0)))","v":0},null,0,{"$f":"IF(ISNA(MATCH(D543,Master!D:D,0)),IF(ISNA(MATCH(D543,'اطلاعات افراد غیر حقوق بگیر'!A:A,0)),0,LOOKUP(D543,'اطلاعات افراد غیر حقوق بگیر'!A:A,'اطلاعات افراد غیر حقوق بگیر'!G:G)),LOOKUP(D543,Master!D:D,Master!J:J))","v":0},{"$error":"#N/A"},0,0,{"$f":"IF(O543>#REF!,\"اخطار ساعت اضافه کار از حداکثر بیشتر است\",\" \")","v":{"$error":"#REF!"}},{"$f":"IF(O543>#REF!,1,0)","v":{"$error":"#REF!"}}]
[541,{"$f":"IF(D544=0,\"\",Settings!$D$6)","v":""},{"$f":"IF(D544=0,\"\",LOOKUP(B544,'Rigion Code'!A:A,'Rigion Code'!B:B))","v":""},null,{"$f":"IF(D544=0,\" \",IF(ISNA(MATCH(D544,Personnel!A:A,0)),IF(ISNA(MATCH(D544,'اطلاعات افراد غیر حقوق بگیر'!A:A,0)),\"وجود ندارد\",LOOKUP(Edit!D544,'اطلاعات افراد غیر حقوق بگیر'!A:A,'اطلاعات افراد غیر حقوق بگیر'!B:B)),LOOKUP(D544,Personnel!A:A,Personnel!C:C)))","v":" "},{"$f":"IF(D544=0,\" \",IF(ISNA(MATCH(D544,Personnel!A:A,0)),IF(ISNA(MATCH(D544,'اطلاعات افراد غیر حقوق بگیر'!A:A,0)),\"وجود ندارد\",LOOKUP(D544,'اطلاعات افراد غیر حقوق بگیر'!A:A,'اطلاعات افراد غیر حقوق بگیر'!C:C)),LOOKUP(D544,Personnel!A:A,Personnel!B:B)))","v":" "},{"$f":"IF(D544=0,0,IF(ISNA(MATCH(D544,Personnel!A:A,0)),IF(ISNA(MATCH(D544,'اطلاعات افراد غیر حقوق بگیر'!A:A,0)),\"وجود ندارد\",LOOKUP(D544,'اطلاعات افراد غیر حقوق بگیر'!A:A,'اطلاعات افراد غیر حقوق بگیر'!D:D)),LOOKUP(D544,Master!D:D,Master!CD:CD)))","v":0},{"$f":"IF(D544=0,\" \",IF(ISNA(MATCH(D544,Personnel!A:A,0)),IF(ISNA(MATCH(D544,'اطلاعات افراد غیر حقوق بگیر'!A:A,0)),\"وجود ندارد\",LOOKUP(D544,'اطلاعات افراد غیر حقوق بگیر'!A:A,'اطلاعات افراد غیر حقوق بگیر'!E:E)),LOOKUP(D544,Master!D:D,Master!AH:AH)))","v":" "},{"$f":"SUMIFS(Pays!G:G,Pays!E:E,1,Pays!D:D,D544)","v":0},{"$f":"SUMIFS(Pays!G:G,Pays!E:E,2,Pays!D:D,D544)","v":0},{"$f":"SUMIFS(Pays!G:G,Pays!E:E,57,Pays!D:D,D544)","v":0},{"$f":"SUMIF(Pays!D:D,D544,Pays!G:G)","v":0},{"$f":"SUMIF(Pays!D:D,D544,Pays!G:G)/176","v":0},{"$f":"IF(M544=0,IF(ISNA(MATCH(D544,'اطلاعات افراد غیر حقوق بگیر'!A:A,0)),0,LOOKUP(D544,'اطلاعات افراد غیر حقوق بگیر'!A:A,'اطلاعات افراد غیر حقوق بگیر'!F:F)),IF(H544=31,Settings!$D$13,ROUND(M544,0)))","v":0},null,0,{"$f":"IF(ISNA(MATCH(D544,Master!D:D,0)),IF(ISNA(MATCH(D544,'اطلاعات افراد غیر حقوق بگیر'!A:A,0)),0,LOOKUP(D544,'اطلاعات افراد غیر حقوق بگیر'!A:A,'اطلاعات افراد غیر حقوق بگیر'!G:G)),LOOKUP(D544,Master!D:D,Master!J:J))","v":0},{"$error":"#N/A"},0,0,{"$f":"IF(O544>#REF!,\"اخطار ساعت اضافه کار از حداکثر بیشتر است\",\" \")","v":{"$error":"#REF!"}},{"$f":"IF(O544>#REF!,1,0)","v":{"$error":"#REF!"}}]
[542,{"$f":"IF(D545=0,\"\",Settings!$D$6)","v":""},{"$f":"IF(D545=0,\"\",LOOKUP(B545,'Rigion Code'!A:A,'Rigion Code'!B:B))","v":""},null,{"$f":"IF(D545=0,\" \",IF(ISNA(MATCH(D545,Personnel!A:A,0)),IF(ISNA(MATCH(D545,'اطلاعات افراد غیر حقوق بگیر'!A:A,0)),\"وجود ندارد\",LOOKUP(Edit!D545,'اطلاعات افراد غیر حقوق بگیر'!A:A,'اطلاعات افراد غیر حقوق بگیر'!B:B)),LOOKUP(D545,Personnel!A:A,Personnel!C:C)))","v":" "},{"$f":"IF(D545=0,\" \",IF(ISNA(MATCH(D545,Personnel!A:A,0)),IF(ISNA(MATCH(D545,'اطلاعات افراد غیر حقوق بگیر'!A:A,0)),\"وجود ندارد\",LOOKUP(D545,'اطلاعات افراد غیر حقوق بگیر'!A:A,'اطلاعات افراد غیر حقوق بگیر'!C:C)),LOOKUP(D545,Personnel!A:A,Personnel!B:B)))","v":" "},{"$f":"IF(D545=0,0,IF(ISNA(MATCH(D545,Personnel!A:A,0)),IF(ISNA(MATCH(D545,'اطلاعات افراد غیر حقوق بگیر'!A:A,0)),\"وجود ندارد\",LOOKUP(D545,'اطلاعات افراد غیر حقوق بگیر'!A:A,'اطلاعات افراد غیر حقوق بگیر'!D:D)),LOOKUP(D545,Master!D:D,Master!CD:CD)))","v":0},{"$f":"IF(D545=0,\" \",IF(ISNA(MATCH(D545,Personnel!A:A,0)),IF(ISNA(MATCH(D545,'اطلاعات افراد غیر حقوق بگیر'!A:A,0)),\"وجود ندارد\",LOOKUP(D545,'اطلاعات افراد غیر حقوق بگیر'!A:A,'اطلاعات افراد غیر حقوق بگیر'!E:E)),LOOKUP(D545,Master!D:D,Master!AH:AH)))","v":" "},{"$f":"SUMIFS(Pays!G:G,Pays!E:E,1,Pays!D:D,D545)","v":0},{"$f":"SUMIFS(Pays!G:G,Pays!E:E,2,Pays!D:D,D545)","v":0},{"$f":"SUMIFS(Pays!G:G,Pays!E:E,57,Pays!D:D,D545)","v":0},{"$f":"SUMIF(Pays!D:D,D545,Pays!G:G)","v":0},{"$f":"SUMIF(Pays!D:D,D545,Pays!G:G)/176","v":0},{"$f":"IF(M545=0,IF(ISNA(MATCH(D545,'اطلاعات افراد غیر حقوق بگیر'!A:A,0)),0,LOOKUP(D545,'اطلاعات افراد غیر حقوق بگیر'!A:A,'اطلاعات افراد غیر حقوق بگیر'!F:F)),IF(H545=31,Settings!$D$13,ROUND(M545,0)))","v":0},null,0,{"$f":"IF(ISNA(MATCH(D545,Master!D:D,0)),IF(ISNA(MATCH(D545,'اطلاعات افراد غیر حقوق بگیر'!A:A,0)),0,LOOKUP(D545,'اطلاعات افراد غیر حقوق بگیر'!A:A,'اطلاعات افراد غیر حقوق بگیر'!G:G)),LOOKUP(D545,Master!D:D,Master!J:J))","v":0},{"$error":"#N/A"},0,0,{"$f":"IF(O545>#REF!,\"اخطار ساعت اضافه کار از حداکثر بیشتر است\",\" \")","v":{"$error":"#REF!"}},{"$f":"IF(O545>#REF!,1,0)","v":{"$error":"#REF!"}}]
[543,{"$f":"IF(D546=0,\"\",Settings!$D$6)","v":""},{"$f":"IF(D546=0,\"\",LOOKUP(B546,'Rigion Code'!A:A,'Rigion Code'!B:B))","v":""},null,{"$f":"IF(D546=0,\" \",IF(ISNA(MATCH(D546,Personnel!A:A,0)),IF(ISNA(MATCH(D546,'اطلاعات افراد غیر حقوق بگیر'!A:A,0)),\"وجود ندارد\",LOOKUP(Edit!D546,'اطلاعات افراد غیر حقوق بگیر'!A:A,'اطلاعات افراد غیر حقوق بگیر'!B:B)),LOOKUP(D546,Personnel!A:A,Personnel!C:C)))","v":" "},{"$f":"IF(D546=0,\" \",IF(ISNA(MATCH(D546,Personnel!A:A,0)),IF(ISNA(MATCH(D546,'اطلاعات افراد غیر حقوق بگیر'!A:A,0)),\"وجود ندارد\",LOOKUP(D546,'اطلاعات افراد غیر حقوق بگیر'!A:A,'اطلاعات افراد غیر حقوق بگیر'!C:C)),LOOKUP(D546,Personnel!A:A,Personnel!B:B)))","v":" "},{"$f":"IF(D546=0,0,IF(ISNA(MATCH(D546,Personnel!A:A,0)),IF(ISNA(MATCH(D546,'اطلاعات افراد غیر حقوق بگیر'!A:A,0)),\"وجود ندارد\",LOOKUP(D546,'اطلاعات افراد غیر حقوق بگیر'!A:A,'اطلاعات افراد غیر حقوق بگیر'!D:D)),LOOKUP(D546,Master!D:D,Master!CD:CD)))","v":0},{"$f":"IF(D546=0,\" \",IF(ISNA(MATCH(D546,Personnel!A:A,0)),IF(ISNA(MATCH(D546,'اطلاعات افراد غیر حقوق بگیر'!A:A,0)),\"وجود ندارد\",LOOKUP(D546,'اطلاعات افراد غیر حقوق بگیر'!A:A,'اطلاعات افراد غیر حقوق بگیر'!E:E)),LOOKUP(D546,Master!D:D,Master!AH:AH)))","v":" "},{"$f":"SUMIFS(Pays!G:G,Pays!E:E,1,Pays!D:D,D546)","v":0},{"$f":"SUMIFS(Pays!G:G,Pays!E:E,2,Pays!D:D,D546)","v":0},{"$f":"SUMIFS(Pays!G:G,Pays!E:E,57,Pays!D:D,D546)","v":0},{"$f":"SUMIF(Pays!D:D,D546,Pays!G:G)","v":0},{"$f":"SUMIF(Pays!D:D,D546,Pays!G:G)/176","v":0},{"$f":"IF(M546=0,IF(ISNA(MATCH(D546,'اطلاعات افراد غیر حقوق بگیر'!A:A,0)),0,LOOKUP(D546,'اطلاعات افراد غیر حقوق بگیر'!A:A,'اطلاعات افراد غیر حقوق بگیر'!F:F)),IF(H546=31,Settings!$D$13,ROUND(M546,0)))","v":0},null,0,{"$f":"IF(ISNA(MATCH(D546,Master!D:D,0)),IF(ISNA(MATCH(D546,'اطلاعات افراد غیر حقوق بگیر'!A:A,0)),0,LOOKUP(D546,'اطلاعات افراد غیر حقوق بگیر'!A:A,'اطلاعات افراد غیر حقوق بگیر'!G:G)),LOOKUP(D546,Master!D:D,Master!J:J))","v":0},{"$error":"#N/A"},0,0,{"$f":"IF(O546>#REF!,\"اخطار ساعت اضافه کار از حداکثر بیشتر است\",\" \")","v":{"$error":"#REF!"}},{"$f":"IF(O546>#REF!,1,0)","v":{"$error":"#REF!"}}]
[544,{"$f":"IF(D547=0,\"\",Settings!$D$6)","v":""},{"$f":"IF(D547=0,\"\",LOOKUP(B547,'Rigion Code'!A:A,'Rigion Code'!B:B))","v":""},null,{"$f":"IF(D547=0,\" \",IF(ISNA(MATCH(D547,Personnel!A:A,0)),IF(ISNA(MATCH(D547,'اطلاعات افراد غیر حقوق بگیر'!A:A,0)),\"وجود ندارد\",LOOKUP(Edit!D547,'اطلاعات افراد غیر حقوق بگیر'!A:A,'اطلاعات افراد غیر حقوق بگیر'!B:B)),LOOKUP(D547,Personnel!A:A,Personnel!C:C)))","v":" "},{"$f":"IF(D547=0,\" \",IF(ISNA(MATCH(D547,Personnel!A:A,0)),IF(ISNA(MATCH(D547,'اطلاعات افراد غیر حقوق بگیر'!A:A,0)),\"وجود ندارد\",LOOKUP(D547,'اطلاعات افراد غیر حقوق بگیر'!A:A,'اطلاعات افراد غیر حقوق بگیر'!C:C)),LOOKUP(D547,Personnel!A:A,Personnel!B:B)))","v":" "},{"$f":"IF(D547=0,0,IF(ISNA(MATCH(D547,Personnel!A:A,0)),IF(ISNA(MATCH(D547,'اطلاعات افراد غیر حقوق بگیر'!A:A,0)),\"وجود ندارد\",LOOKUP(D547,'اطلاعات افراد غیر حقوق بگیر'!A:A,'اطلاعات افراد غیر حقوق بگیر'!D:D)),LOOKUP(D547,Master!D:D,Master!CD:CD)))","v":0},{"$f":"IF(D547=0,\" \",IF(ISNA(MATCH(D547,Personnel!A:A,0)),IF(ISNA(MATCH(D547,'اطلاعات افراد غیر حقوق بگیر'!A:A,0)),\"وجود ندارد\",LOOKUP(D547,'اطلاعات افراد غیر حقوق بگیر'!A:A,'اطلاعات افراد غیر حقوق بگیر'!E:E)),LOOKUP(D547,Master!D:D,Master!AH:AH)))","v":" "},{"$f":"SUMIFS(Pays!G:G,Pays!E:E,1,Pays!D:D,D547)","v":0},{"$f":"SUMIFS(Pays!G:G,Pays!E:E,2,Pays!D:D,D547)","v":0},{"$f":"SUMIFS(Pays!G:G,Pays!E:E,57,Pays!D:D,D547)","v":0},{"$f":"SUMIF(Pays!D:D,D547,Pays!G:G)","v":0},{"$f":"SUMIF(Pays!D:D,D547,Pays!G:G)/176","v":0},{"$f":"IF(M547=0,IF(ISNA(MATCH(D547,'اطلاعات افراد غیر حقوق بگیر'!A:A,0)),0,LOOKUP(D547,'اطلاعات افراد غیر حقوق بگیر'!A:A,'اطلاعات افراد غیر حقوق بگیر'!F:F)),IF(H547=31,Settings!$D$13,ROUND(M547,0)))","v":0},null,0,{"$f":"IF(ISNA(MATCH(D547,Master!D:D,0)),IF(ISNA(MATCH(D547,'اطلاعات افراد غیر حقوق بگیر'!A:A,0)),0,LOOKUP(D547,'اطلاعات افراد غیر حقوق بگیر'!A:A,'اطلاعات افراد غیر حقوق بگیر'!G:G)),LOOKUP(D547,Master!D:D,Master!J:J))","v":0},{"$error":"#N/A"},0,0,{"$f":"IF(O547>#REF!,\"اخطار ساعت اضافه کار از حداکثر بیشتر است\",\" \")","v":{"$error":"#REF!"}},{"$f":"IF(O547>#REF!,1,0)","v":{"$error":"#REF!"}}]
[545,{"$f":"IF(D548=0,\"\",Settings!$D$6)","v":""},{"$f":"IF(D548=0,\"\",LOOKUP(B548,'Rigion Code'!A:A,'Rigion Code'!B:B))","v":""},null,{"$f":"IF(D548=0,\" \",IF(ISNA(MATCH(D548,Personnel!A:A,0)),IF(ISNA(MATCH(D548,'اطلاعات افراد غیر حقوق بگیر'!A:A,0)),\"وجود ندارد\",LOOKUP(Edit!D548,'اطلاعات افراد غیر حقوق بگیر'!A:A,'اطلاعات افراد غیر حقوق بگیر'!B:B)),LOOKUP(D548,Personnel!A:A,Personnel!C:C)))","v":" "},{"$f":"IF(D548=0,\" \",IF(ISNA(MATCH(D548,Personnel!A:A,0)),IF(ISNA(MATCH(D548,'اطلاعات افراد غیر حقوق بگیر'!A:A,0)),\"وجود ندارد\",LOOKUP(D548,'اطلاعات افراد غیر حقوق بگیر'!A:A,'اطلاعات افراد غیر حقوق بگیر'!C:C)),LOOKUP(D548,Personnel!A:A,Personnel!B:B)))","v":" "},{"$f":"IF(D548=0,0,IF(ISNA(MATCH(D548,Personnel!A:A,0)),IF(ISNA(MATCH(D548,'اطلاعات افراد غیر حقوق بگیر'!A:A,0)),\"وجود ندارد\",LOOKUP(D548,'اطلاعات افراد غیر حقوق بگیر'!A:A,'اطلاعات افراد غیر حقوق بگیر'!D:D)),LOOKUP(D548,Master!D:D,Master!CD:CD)))","v":0},{"$f":"IF(D548=0,\" \",IF(ISNA(MATCH(D548,Personnel!A:A,0)),IF(ISNA(MATCH(D548,'اطلاعات افراد غیر حقوق بگیر'!A:A,0)),\"وجود ندارد\",LOOKUP(D548,'اطلاعات افراد غیر حقوق بگیر'!A:A,'اطلاعات افراد غیر حقوق بگیر'!E:E)),LOOKUP(D548,Master!D:D,Master!AH:AH)))","v":" "},{"$f":"SUMIFS(Pays!G:G,Pays!E:E,1,Pays!D:D,D548)","v":0},{"$f":"SUMIFS(Pays!G:G,Pays!E:E,2,Pays!D:D,D548)","v":0},{"$f":"SUMIFS(Pays!G:G,Pays!E:E,57,Pays!D:D,D548)","v":0},{"$f":"SUMIF(Pays!D:D,D548,Pays!G:G)","v":0},{"$f":"SUMIF(Pays!D:D,D548,Pays!G:G)/176","v":0},{"$f":"IF(M548=0,IF(ISNA(MATCH(D548,'اطلاعات افراد غیر حقوق بگیر'!A:A,0)),0,LOOKUP(D548,'اطلاعات افراد غیر حقوق بگیر'!A:A,'اطلاعات افراد غیر حقوق بگیر'!F:F)),IF(H548=31,Settings!$D$13,ROUND(M548,0)))","v":0},null,0,{"$f":"IF(ISNA(MATCH(D548,Master!D:D,0)),IF(ISNA(MATCH(D548,'اطلاعات افراد غیر حقوق بگیر'!A:A,0)),0,LOOKUP(D548,'اطلاعات افراد غیر حقوق بگیر'!A:A,'اطلاعات افراد غیر حقوق بگیر'!G:G)),LOOKUP(D548,Master!D:D,Master!J:J))","v":0},{"$error":"#N/A"},0,0,{"$f":"IF(O548>#REF!,\"اخطار ساعت اضافه کار از حداکثر بیشتر است\",\" \")","v":{"$error":"#REF!"}},{"$f":"IF(O548>#REF!,1,0)","v":{"$error":"#REF!"}}]
[546,{"$f":"IF(D549=0,\"\",Settings!$D$6)","v":""},{"$f":"IF(D549=0,\"\",LOOKUP(B549,'Rigion Code'!A:A,'Rigion Code'!B:B))","v":""},null,{"$f":"IF(D549=0,\" \",IF(ISNA(MATCH(D549,Personnel!A:A,0)),IF(ISNA(MATCH(D549,'اطلاعات افراد غیر حقوق بگیر'!A:A,0)),\"وجود ندارد\",LOOKUP(Edit!D549,'اطلاعات افراد غیر حقوق بگیر'!A:A,'اطلاعات افراد غیر حقوق بگیر'!B:B)),LOOKUP(D549,Personnel!A:A,Personnel!C:C)))","v":" "},{"$f":"IF(D549=0,\" \",IF(ISNA(MATCH(D549,Personnel!A:A,0)),IF(ISNA(MATCH(D549,'اطلاعات افراد غیر حقوق بگیر'!A:A,0)),\"وجود ندارد\",LOOKUP(D549,'اطلاعات افراد غیر حقوق بگیر'!A:A,'اطلاعات افراد غیر حقوق بگیر'!C:C)),LOOKUP(D549,Personnel!A:A,Personnel!B:B)))","v":" "},{"$f":"IF(D549=0,0,IF(ISNA(MATCH(D549,Personnel!A:A,0)),IF(ISNA(MATCH(D549,'اطلاعات افراد غیر حقوق بگیر'!A:A,0)),\"وجود ندارد\",LOOKUP(D549,'اطلاعات افراد غیر حقوق بگیر'!A:A,'اطلاعات افراد غیر حقوق بگیر'!D:D)),LOOKUP(D549,Master!D:D,Master!CD:CD)))","v":0},{"$f":"IF(D549=0,\" \",IF(ISNA(MATCH(D549,Personnel!A:A,0)),IF(ISNA(MATCH(D549,'اطلاعات افراد غیر حقوق بگیر'!A:A,0)),\"وجود ندارد\",LOOKUP(D549,'اطلاعات افراد غیر حقوق بگیر'!A:A,'اطلاعات افراد غیر حقوق بگیر'!E:E)),LOOKUP(D549,Master!D:D,Master!AH:AH)))","v":" "},{"$f":"SUMIFS(Pays!G:G,Pays!E:E,1,Pays!D:D,D549)","v":0},{"$f":"SUMIFS(Pays!G:G,Pays!E:E,2,Pays!D:D,D549)","v":0},{"$f":"SUMIFS(Pays!G:G,Pays!E:E,57,Pays!D:D,D549)","v":0},{"$f":"SUMIF(Pays!D:D,D549,Pays!G:G)","v":0},{"$f":"SUMIF(Pays!D:D,D549,Pays!G:G)/176","v":0},{"$f":"IF(M549=0,IF(ISNA(MATCH(D549,'اطلاعات افراد غیر حقوق بگیر'!A:A,0)),0,LOOKUP(D549,'اطلاعات افراد غیر حقوق بگیر'!A:A,'اطلاعات افراد غیر حقوق بگیر'!F:F)),IF(H549=31,Settings!$D$13,ROUND(M549,0)))","v":0},null,0,{"$f":"IF(ISNA(MATCH(D549,Master!D:D,0)),IF(ISNA(MATCH(D549,'اطلاعات افراد غیر حقوق بگیر'!A:A,0)),0,LOOKUP(D549,'اطلاعات افراد غیر حقوق بگیر'!A:A,'اطلاعات افراد غیر حقوق بگیر'!G:G)),LOOKUP(D549,Master!D:D,Master!J:J))","v":0},{"$error":"#N/A"},0,0,{"$f":"IF(O549>#REF!,\"اخطار ساعت اضافه کار از حداکثر بیشتر است\",\" \")","v":{"$error":"#REF!"}},{"$f":"IF(O549>#REF!,1,0)","v":{"$error":"#REF!"}}]
[547,{"$f":"IF(D550=0,\"\",Settings!$D$6)","v":""},{"$f":"IF(D550=0,\"\",LOOKUP(B550,'Rigion Code'!A:A,'Rigion Code'!B:B))","v":""},null,{"$f":"IF(D550=0,\" \",IF(ISNA(MATCH(D550,Personnel!A:A,0)),IF(ISNA(MATCH(D550,'اطلاعات افراد غیر حقوق بگیر'!A:A,0)),\"وجود ندارد\",LOOKUP(Edit!D550,'اطلاعات افراد غیر حقوق بگیر'!A:A,'اطلاعات افراد غیر حقوق بگیر'!B:B)),LOOKUP(D550,Personnel!A:A,Personnel!C:C)))","v":" "},{"$f":"IF(D550=0,\" \",IF(ISNA(MATCH(D550,Personnel!A:A,0)),IF(ISNA(MATCH(D550,'اطلاعات افراد غیر حقوق بگیر'!A:A,0)),\"وجود ندارد\",LOOKUP(D550,'اطلاعات افراد غیر حقوق بگیر'!A:A,'اطلاعات افراد غیر حقوق بگیر'!C:C)),LOOKUP(D550,Personnel!A:A,Personnel!B:B)))","v":" "},{"$f":"IF(D550=0,0,IF(ISNA(MATCH(D550,Personnel!A:A,0)),IF(ISNA(MATCH(D550,'اطلاعات افراد غیر حقوق بگیر'!A:A,0)),\"وجود ندارد\",LOOKUP(D550,'اطلاعات افراد غیر حقوق بگیر'!A:A,'اطلاعات افراد غیر حقوق بگیر'!D:D)),LOOKUP(D550,Master!D:D,Master!CD:CD)))","v":0},{"$f":"IF(D550=0,\" \",IF(ISNA(MATCH(D550,Personnel!A:A,0)),IF(ISNA(MATCH(D550,'اطلاعات افراد غیر حقوق بگیر'!A:A,0)),\"وجود ندارد\",LOOKUP(D550,'اطلاعات افراد غیر حقوق بگیر'!A:A,'اطلاعات افراد غیر حقوق بگیر'!E:E)),LOOKUP(D550,Master!D:D,Master!AH:AH)))","v":" "},{"$f":"SUMIFS(Pays!G:G,Pays!E:E,1,Pays!D:D,D550)","v":0},{"$f":"SUMIFS(Pays!G:G,Pays!E:E,2,Pays!D:D,D550)","v":0},{"$f":"SUMIFS(Pays!G:G,Pays!E:E,57,Pays!D:D,D550)","v":0},{"$f":"SUMIF(Pays!D:D,D550,Pays!G:G)","v":0},{"$f":"SUMIF(Pays!D:D,D550,Pays!G:G)/176","v":0},{"$f":"IF(M550=0,IF(ISNA(MATCH(D550,'اطلاعات افراد غیر حقوق بگیر'!A:A,0)),0,LOOKUP(D550,'اطلاعات افراد غیر حقوق بگیر'!A:A,'اطلاعات افراد غیر حقوق بگیر'!F:F)),IF(H550=31,Settings!$D$13,ROUND(M550,0)))","v":0},null,0,{"$f":"IF(ISNA(MATCH(D550,Master!D:D,0)),IF(ISNA(MATCH(D550,'اطلاعات افراد غیر حقوق بگیر'!A:A,0)),0,LOOKUP(D550,'اطلاعات افراد غیر حقوق بگیر'!A:A,'اطلاعات افراد غیر حقوق بگیر'!G:G)),LOOKUP(D550,Master!D:D,Master!J:J))","v":0},{"$error":"#N/A"},0,0,{"$f":"IF(O550>#REF!,\"اخطار ساعت اضافه کار از حداکثر بیشتر است\",\" \")","v":{"$error":"#REF!"}},{"$f":"IF(O550>#REF!,1,0)","v":{"$error":"#REF!"}}]
[548,{"$f":"IF(D551=0,\"\",Settings!$D$6)","v":""},{"$f":"IF(D551=0,\"\",LOOKUP(B551,'Rigion Code'!A:A,'Rigion Code'!B:B))","v":""},null,{"$f":"IF(D551=0,\" \",IF(ISNA(MATCH(D551,Personnel!A:A,0)),IF(ISNA(MATCH(D551,'اطلاعات افراد غیر حقوق بگیر'!A:A,0)),\"وجود ندارد\",LOOKUP(Edit!D551,'اطلاعات افراد غیر حقوق بگیر'!A:A,'اطلاعات افراد غیر حقوق بگیر'!B:B)),LOOKUP(D551,Personnel!A:A,Personnel!C:C)))","v":" "},{"$f":"IF(D551=0,\" \",IF(ISNA(MATCH(D551,Personnel!A:A,0)),IF(ISNA(MATCH(D551,'اطلاعات افراد غیر حقوق بگیر'!A:A,0)),\"وجود ندارد\",LOOKUP(D551,'اطلاعات افراد غیر حقوق بگیر'!A:A,'اطلاعات افراد غیر حقوق بگیر'!C:C)),LOOKUP(D551,Personnel!A:A,Personnel!B:B)))","v":" "},{"$f":"IF(D551=0,0,IF(ISNA(MATCH(D551,Personnel!A:A,0)),IF(ISNA(MATCH(D551,'اطلاعات افراد غیر حقوق بگیر'!A:A,0)),\"وجود ندارد\",LOOKUP(D551,'اطلاعات افراد غیر حقوق بگیر'!A:A,'اطلاعات افراد غیر حقوق بگیر'!D:D)),LOOKUP(D551,Master!D:D,Master!CD:CD)))","v":0},{"$f":"IF(D551=0,\" \",IF(ISNA(MATCH(D551,Personnel!A:A,0)),IF(ISNA(MATCH(D551,'اطلاعات افراد غیر حقوق بگیر'!A:A,0)),\"وجود ندارد\",LOOKUP(D551,'اطلاعات افراد غیر حقوق بگیر'!A:A,'اطلاعات افراد غیر حقوق بگیر'!E:E)),LOOKUP(D551,Master!D:D,Master!AH:AH)))","v":" "},{"$f":"SUMIFS(Pays!G:G,Pays!E:E,1,Pays!D:D,D551)","v":0},{"$f":"SUMIFS(Pays!G:G,Pays!E:E,2,Pays!D:D,D551)","v":0},{"$f":"SUMIFS(Pays!G:G,Pays!E:E,57,Pays!D:D,D551)","v":0},{"$f":"SUMIF(Pays!D:D,D551,Pays!G:G)","v":0},{"$f":"SUMIF(Pays!D:D,D551,Pays!G:G)/176","v":0},{"$f":"IF(M551=0,IF(ISNA(MATCH(D551,'اطلاعات افراد غیر حقوق بگیر'!A:A,0)),0,LOOKUP(D551,'اطلاعات افراد غیر حقوق بگیر'!A:A,'اطلاعات افراد غیر حقوق بگیر'!F:F)),IF(H551=31,Settings!$D$13,ROUND(M551,0)))","v":0},null,0,{"$f":"IF(ISNA(MATCH(D551,Master!D:D,0)),IF(ISNA(MATCH(D551,'اطلاعات افراد غیر حقوق بگیر'!A:A,0)),0,LOOKUP(D551,'اطلاعات افراد غیر حقوق بگیر'!A:A,'اطلاعات افراد غیر حقوق بگیر'!G:G)),LOOKUP(D551,Master!D:D,Master!J:J))","v":0},{"$error":"#N/A"},0,0,{"$f":"IF(O551>#REF!,\"اخطار ساعت اضافه کار از حداکثر بیشتر است\",\" \")","v":{"$error":"#REF!"}},{"$f":"IF(O551>#REF!,1,0)","v":{"$error":"#REF!"}}]
[549,{"$f":"IF(D552=0,\"\",Settings!$D$6)","v":""},{"$f":"IF(D552=0,\"\",LOOKUP(B552,'Rigion Code'!A:A,'Rigion Code'!B:B))","v":""},null,{"$f":"IF(D552=0,\" \",IF(ISNA(MATCH(D552,Personnel!A:A,0)),IF(ISNA(MATCH(D552,'اطلاعات افراد غیر حقوق بگیر'!A:A,0)),\"وجود ندارد\",LOOKUP(Edit!D552,'اطلاعات افراد غیر حقوق بگیر'!A:A,'اطلاعات افراد غیر حقوق بگیر'!B:B)),LOOKUP(D552,Personnel!A:A,Personnel!C:C)))","v":" "},{"$f":"IF(D552=0,\" \",IF(ISNA(MATCH(D552,Personnel!A:A,0)),IF(ISNA(MATCH(D552,'اطلاعات افراد غیر حقوق بگیر'!A:A,0)),\"وجود ندارد\",LOOKUP(D552,'اطلاعات افراد غیر حقوق بگیر'!A:A,'اطلاعات افراد غیر حقوق بگیر'!C:C)),LOOKUP(D552,Personnel!A:A,Personnel!B:B)))","v":" "},{"$f":"IF(D552=0,0,IF(ISNA(MATCH(D552,Personnel!A:A,0)),IF(ISNA(MATCH(D552,'اطلاعات افراد غیر حقوق بگیر'!A:A,0)),\"وجود ندارد\",LOOKUP(D552,'اطلاعات افراد غیر حقوق بگیر'!A:A,'اطلاعات افراد غیر حقوق بگیر'!D:D)),LOOKUP(D552,Master!D:D,Master!CD:CD)))","v":0},{"$f":"IF(D552=0,\" \",IF(ISNA(MATCH(D552,Personnel!A:A,0)),IF(ISNA(MATCH(D552,'اطلاعات افراد غیر حقوق بگیر'!A:A,0)),\"وجود ندارد\",LOOKUP(D552,'اطلاعات افراد غیر حقوق بگیر'!A:A,'اطلاعات افراد غیر حقوق بگیر'!E:E)),LOOKUP(D552,Master!D:D,Master!AH:AH)))","v":" "},{"$f":"SUMIFS(Pays!G:G,Pays!E:E,1,Pays!D:D,D552)","v":0},{"$f":"SUMIFS(Pays!G:G,Pays!E:E,2,Pays!D:D,D552)","v":0},{"$f":"SUMIFS(Pays!G:G,Pays!E:E,57,Pays!D:D,D552)","v":0},{"$f":"SUMIF(Pays!D:D,D552,Pays!G:G)","v":0},{"$f":"SUMIF(Pays!D:D,D552,Pays!G:G)/176","v":0},{"$f":"IF(M552=0,IF(ISNA(MATCH(D552,'اطلاعات افراد غیر حقوق بگیر'!A:A,0)),0,LOOKUP(D552,'اطلاعات افراد غیر حقوق بگیر'!A:A,'اطلاعات افراد غیر حقوق بگیر'!F:F)),IF(H552=31,Settings!$D$13,ROUND(M552,0)))","v":0},null,0,{"$f":"IF(ISNA(MATCH(D552,Master!D:D,0)),IF(ISNA(MATCH(D552,'اطلاعات افراد غیر حقوق بگیر'!A:A,0)),0,LOOKUP(D552,'اطلاعات افراد غیر حقوق بگیر'!A:A,'اطلاعات افراد غیر حقوق بگیر'!G:G)),LOOKUP(D552,Master!D:D,Master!J:J))","v":0},{"$error":"#N/A"},0,0,{"$f":"IF(O552>#REF!,\"اخطار ساعت اضافه کار از حداکثر بیشتر است\",\" \")","v":{"$error":"#REF!"}},{"$f":"IF(O552>#REF!,1,0)","v":{"$error":"#REF!"}}]
[550,{"$f":"IF(D553=0,\"\",Settings!$D$6)","v":""},{"$f":"IF(D553=0,\"\",LOOKUP(B553,'Rigion Code'!A:A,'Rigion Code'!B:B))","v":""},null,{"$f":"IF(D553=0,\" \",IF(ISNA(MATCH(D553,Personnel!A:A,0)),IF(ISNA(MATCH(D553,'اطلاعات افراد غیر حقوق بگیر'!A:A,0)),\"وجود ندارد\",LOOKUP(Edit!D553,'اطلاعات افراد غیر حقوق بگیر'!A:A,'اطلاعات افراد غیر حقوق بگیر'!B:B)),LOOKUP(D553,Personnel!A:A,Personnel!C:C)))","v":" "},{"$f":"IF(D553=0,\" \",IF(ISNA(MATCH(D553,Personnel!A:A,0)),IF(ISNA(MATCH(D553,'اطلاعات افراد غیر حقوق بگیر'!A:A,0)),\"وجود ندارد\",LOOKUP(D553,'اطلاعات افراد غیر حقوق بگیر'!A:A,'اطلاعات افراد غیر حقوق بگیر'!C:C)),LOOKUP(D553,Personnel!A:A,Personnel!B:B)))","v":" "},{"$f":"IF(D553=0,0,IF(ISNA(MATCH(D553,Personnel!A:A,0)),IF(ISNA(MATCH(D553,'اطلاعات افراد غیر حقوق بگیر'!A:A,0)),\"وجود ندارد\",LOOKUP(D553,'اطلاعات افراد غیر حقوق بگیر'!A:A,'اطلاعات افراد غیر حقوق بگیر'!D:D)),LOOKUP(D553,Master!D:D,Master!CD:CD)))","v":0},{"$f":"IF(D553=0,\" \",IF(ISNA(MATCH(D553,Personnel!A:A,0)),IF(ISNA(MATCH(D553,'اطلاعات افراد غیر حقوق بگیر'!A:A,0)),\"وجود ندارد\",LOOKUP(D553,'اطلاعات افراد غیر حقوق بگیر'!A:A,'اطلاعات افراد غیر حقوق بگیر'!E:E)),LOOKUP(D553,Master!D:D,Master!AH:AH)))","v":" "},{"$f":"SUMIFS(Pays!G:G,Pays!E:E,1,Pays!D:D,D553)","v":0},{"$f":"SUMIFS(Pays!G:G,Pays!E:E,2,Pays!D:D,D553)","v":0},{"$f":"SUMIFS(Pays!G:G,Pays!E:E,57,Pays!D:D,D553)","v":0},{"$f":"SUMIF(Pays!D:D,D553,Pays!G:G)","v":0},{"$f":"SUMIF(Pays!D:D,D553,Pays!G:G)/176","v":0},{"$f":"IF(M553=0,IF(ISNA(MATCH(D553,'اطلاعات افراد غیر حقوق بگیر'!A:A,0)),0,LOOKUP(D553,'اطلاعات افراد غیر حقوق بگیر'!A:A,'اطلاعات افراد غیر حقوق بگیر'!F:F)),IF(H553=31,Settings!$D$13,ROUND(M553,0)))","v":0},null,0,{"$f":"IF(ISNA(MATCH(D553,Master!D:D,0)),IF(ISNA(MATCH(D553,'اطلاعات افراد غیر حقوق بگیر'!A:A,0)),0,LOOKUP(D553,'اطلاعات افراد غیر حقوق بگیر'!A:A,'اطلاعات افراد غیر حقوق بگیر'!G:G)),LOOKUP(D553,Master!D:D,Master!J:J))","v":0},{"$error":"#N/A"},0,0,{"$f":"IF(O553>#REF!,\"اخطار ساعت اضافه کار از حداکثر بیشتر است\",\" \")","v":{"$error":"#REF!"}},{"$f":"IF(O553>#REF!,1,0)","v":{"$error":"#REF!"}}]
[551,{"$f":"IF(D554=0,\"\",Settings!$D$6)","v":""},{"$f":"IF(D554=0,\"\",LOOKUP(B554,'Rigion Code'!A:A,'Rigion Code'!B:B))","v":""},null,{"$f":"IF(D554=0,\" \",IF(ISNA(MATCH(D554,Personnel!A:A,0)),IF(ISNA(MATCH(D554,'اطلاعات افراد غیر حقوق بگیر'!A:A,0)),\"وجود ندارد\",LOOKUP(Edit!D554,'اطلاعات افراد غیر حقوق بگیر'!A:A,'اطلاعات افراد غیر حقوق بگیر'!B:B)),LOOKUP(D554,Personnel!A:A,Personnel!C:C)))","v":" "},{"$f":"IF(D554=0,\" \",IF(ISNA(MATCH(D554,Personnel!A:A,0)),IF(ISNA(MATCH(D554,'اطلاعات افراد غیر حقوق بگیر'!A:A,0)),\"وجود ندارد\",LOOKUP(D554,'اطلاعات افراد غیر حقوق بگیر'!A:A,'اطلاعات افراد غیر حقوق بگیر'!C:C)),LOOKUP(D554,Personnel!A:A,Personnel!B:B)))","v":" "},{"$f":"IF(D554=0,0,IF(ISNA(MATCH(D554,Personnel!A:A,0)),IF(ISNA(MATCH(D554,'اطلاعات افراد غیر حقوق بگیر'!A:A,0)),\"وجود ندارد\",LOOKUP(D554,'اطلاعات افراد غیر حقوق بگیر'!A:A,'اطلاعات افراد غیر حقوق بگیر'!D:D)),LOOKUP(D554,Master!D:D,Master!CD:CD)))","v":0},{"$f":"IF(D554=0,\" \",IF(ISNA(MATCH(D554,Personnel!A:A,0)),IF(ISNA(MATCH(D554,'اطلاعات افراد غیر حقوق بگیر'!A:A,0)),\"وجود ندارد\",LOOKUP(D554,'اطلاعات افراد غیر حقوق بگیر'!A:A,'اطلاعات افراد غیر حقوق بگیر'!E:E)),LOOKUP(D554,Master!D:D,Master!AH:AH)))","v":" "},{"$f":"SUMIFS(Pays!G:G,Pays!E:E,1,Pays!D:D,D554)","v":0},{"$f":"SUMIFS(Pays!G:G,Pays!E:E,2,Pays!D:D,D554)","v":0},{"$f":"SUMIFS(Pays!G:G,Pays!E:E,57,Pays!D:D,D554)","v":0},{"$f":"SUMIF(Pays!D:D,D554,Pays!G:G)","v":0},{"$f":"SUMIF(Pays!D:D,D554,Pays!G:G)/176","v":0},{"$f":"IF(M554=0,IF(ISNA(MATCH(D554,'اطلاعات افراد غیر حقوق بگیر'!A:A,0)),0,LOOKUP(D554,'اطلاعات افراد غیر حقوق بگیر'!A:A,'اطلاعات افراد غیر حقوق بگیر'!F:F)),IF(H554=31,Settings!$D$13,ROUND(M554,0)))","v":0},null,0,{"$f":"IF(ISNA(MATCH(D554,Master!D:D,0)),IF(ISNA(MATCH(D554,'اطلاعات افراد غیر حقوق بگیر'!A:A,0)),0,LOOKUP(D554,'اطلاعات افراد غیر حقوق بگیر'!A:A,'اطلاعات افراد غیر حقوق بگیر'!G:G)),LOOKUP(D554,Master!D:D,Master!J:J))","v":0},{"$error":"#N/A"},0,0,{"$f":"IF(O554>#REF!,\"اخطار ساعت اضافه کار از حداکثر بیشتر است\",\" \")","v":{"$error":"#REF!"}},{"$f":"IF(O554>#REF!,1,0)","v":{"$error":"#REF!"}}]
[552,{"$f":"IF(D555=0,\"\",Settings!$D$6)","v":""},{"$f":"IF(D555=0,\"\",LOOKUP(B555,'Rigion Code'!A:A,'Rigion Code'!B:B))","v":""},null,{"$f":"IF(D555=0,\" \",IF(ISNA(MATCH(D555,Personnel!A:A,0)),IF(ISNA(MATCH(D555,'اطلاعات افراد غیر حقوق بگیر'!A:A,0)),\"وجود ندارد\",LOOKUP(Edit!D555,'اطلاعات افراد غیر حقوق بگیر'!A:A,'اطلاعات افراد غیر حقوق بگیر'!B:B)),LOOKUP(D555,Personnel!A:A,Personnel!C:C)))","v":" "},{"$f":"IF(D555=0,\" \",IF(ISNA(MATCH(D555,Personnel!A:A,0)),IF(ISNA(MATCH(D555,'اطلاعات افراد غیر حقوق بگیر'!A:A,0)),\"وجود ندارد\",LOOKUP(D555,'اطلاعات افراد غیر حقوق بگیر'!A:A,'اطلاعات افراد غیر حقوق بگیر'!C:C)),LOOKUP(D555,Personnel!A:A,Personnel!B:B)))","v":" "},{"$f":"IF(D555=0,0,IF(ISNA(MATCH(D555,Personnel!A:A,0)),IF(ISNA(MATCH(D555,'اطلاعات افراد غیر حقوق بگیر'!A:A,0)),\"وجود ندارد\",LOOKUP(D555,'اطلاعات افراد غیر حقوق بگیر'!A:A,'اطلاعات افراد غیر حقوق بگیر'!D:D)),LOOKUP(D555,Master!D:D,Master!CD:CD)))","v":0},{"$f":"IF(D555=0,\" \",IF(ISNA(MATCH(D555,Personnel!A:A,0)),IF(ISNA(MATCH(D555,'اطلاعات افراد غیر حقوق بگیر'!A:A,0)),\"وجود ندارد\",LOOKUP(D555,'اطلاعات افراد غیر حقوق بگیر'!A:A,'اطلاعات افراد غیر حقوق بگیر'!E:E)),LOOKUP(D555,Master!D:D,Master!AH:AH)))","v":" "},{"$f":"SUMIFS(Pays!G:G,Pays!E:E,1,Pays!D:D,D555)","v":0},{"$f":"SUMIFS(Pays!G:G,Pays!E:E,2,Pays!D:D,D555)","v":0},{"$f":"SUMIFS(Pays!G:G,Pays!E:E,57,Pays!D:D,D555)","v":0},{"$f":"SUMIF(Pays!D:D,D555,Pays!G:G)","v":0},{"$f":"SUMIF(Pays!D:D,D555,Pays!G:G)/176","v":0},{"$f":"IF(M555=0,IF(ISNA(MATCH(D555,'اطلاعات افراد غیر حقوق بگیر'!A:A,0)),0,LOOKUP(D555,'اطلاعات افراد غیر حقوق بگیر'!A:A,'اطلاعات افراد غیر حقوق بگیر'!F:F)),IF(H555=31,Settings!$D$13,ROUND(M555,0)))","v":0},null,0,{"$f":"IF(ISNA(MATCH(D555,Master!D:D,0)),IF(ISNA(MATCH(D555,'اطلاعات افراد غیر حقوق بگیر'!A:A,0)),0,LOOKUP(D555,'اطلاعات افراد غیر حقوق بگیر'!A:A,'اطلاعات افراد غیر حقوق بگیر'!G:G)),LOOKUP(D555,Master!D:D,Master!J:J))","v":0},{"$error":"#N/A"},0,0,{"$f":"IF(O555>#REF!,\"اخطار ساعت اضافه کار از حداکثر بیشتر است\",\" \")","v":{"$error":"#REF!"}},{"$f":"IF(O555>#REF!,1,0)","v":{"$error":"#REF!"}}]
[553,{"$f":"IF(D556=0,\"\",Settings!$D$6)","v":""},{"$f":"IF(D556=0,\"\",LOOKUP(B556,'Rigion Code'!A:A,'Rigion Code'!B:B))","v":""},null,{"$f":"IF(D556=0,\" \",IF(ISNA(MATCH(D556,Personnel!A:A,0)),IF(ISNA(MATCH(D556,'اطلاعات افراد غیر حقوق بگیر'!A:A,0)),\"وجود ندارد\",LOOKUP(Edit!D556,'اطلاعات افراد غیر حقوق بگیر'!A:A,'اطلاعات افراد غیر حقوق بگیر'!B:B)),LOOKUP(D556,Personnel!A:A,Personnel!C:C)))","v":" "},{"$f":"IF(D556=0,\" \",IF(ISNA(MATCH(D556,Personnel!A:A,0)),IF(ISNA(MATCH(D556,'اطلاعات افراد غیر حقوق بگیر'!A:A,0)),\"وجود ندارد\",LOOKUP(D556,'اطلاعات افراد غیر حقوق بگیر'!A:A,'اطلاعات افراد غیر حقوق بگیر'!C:C)),LOOKUP(D556,Personnel!A:A,Personnel!B:B)))","v":" "},{"$f":"IF(D556=0,0,IF(ISNA(MATCH(D556,Personnel!A:A,0)),IF(ISNA(MATCH(D556,'اطلاعات افراد غیر حقوق بگیر'!A:A,0)),\"وجود ندارد\",LOOKUP(D556,'اطلاعات افراد غیر حقوق بگیر'!A:A,'اطلاعات افراد غیر حقوق بگیر'!D:D)),LOOKUP(D556,Master!D:D,Master!CD:CD)))","v":0},{"$f":"IF(D556=0,\" \",IF(ISNA(MATCH(D556,Personnel!A:A,0)),IF(ISNA(MATCH(D556,'اطلاعات افراد غیر حقوق بگیر'!A:A,0)),\"وجود ندارد\",LOOKUP(D556,'اطلاعات افراد غیر حقوق بگیر'!A:A,'اطلاعات افراد غیر حقوق بگیر'!E:E)),LOOKUP(D556,Master!D:D,Master!AH:AH)))","v":" "},{"$f":"SUMIFS(Pays!G:G,Pays!E:E,1,Pays!D:D,D556)","v":0},{"$f":"SUMIFS(Pays!G:G,Pays!E:E,2,Pays!D:D,D556)","v":0},{"$f":"SUMIFS(Pays!G:G,Pays!E:E,57,Pays!D:D,D556)","v":0},{"$f":"SUMIF(Pays!D:D,D556,Pays!G:G)","v":0},{"$f":"SUMIF(Pays!D:D,D556,Pays!G:G)/176","v":0},{"$f":"IF(M556=0,IF(ISNA(MATCH(D556,'اطلاعات افراد غیر حقوق بگیر'!A:A,0)),0,LOOKUP(D556,'اطلاعات افراد غیر حقوق بگیر'!A:A,'اطلاعات افراد غیر حقوق بگیر'!F:F)),IF(H556=31,Settings!$D$13,ROUND(M556,0)))","v":0},null,0,{"$f":"IF(ISNA(MATCH(D556,Master!D:D,0)),IF(ISNA(MATCH(D556,'اطلاعات افراد غیر حقوق بگیر'!A:A,0)),0,LOOKUP(D556,'اطلاعات افراد غیر حقوق بگیر'!A:A,'اطلاعات افراد غیر حقوق بگیر'!G:G)),LOOKUP(D556,Master!D:D,Master!J:J))","v":0},{"$error":"#N/A"},0,0,{"$f":"IF(O556>#REF!,\"اخطار ساعت اضافه کار از حداکثر بیشتر است\",\" \")","v":{"$error":"#REF!"}},{"$f":"IF(O556>#REF!,1,0)","v":{"$error":"#REF!"}}]
[554,{"$f":"IF(D557=0,\"\",Settings!$D$6)","v":""},{"$f":"IF(D557=0,\"\",LOOKUP(B557,'Rigion Code'!A:A,'Rigion Code'!B:B))","v":""},null,{"$f":"IF(D557=0,\" \",IF(ISNA(MATCH(D557,Personnel!A:A,0)),IF(ISNA(MATCH(D557,'اطلاعات افراد غیر حقوق بگیر'!A:A,0)),\"وجود ندارد\",LOOKUP(Edit!D557,'اطلاعات افراد غیر حقوق بگیر'!A:A,'اطلاعات افراد غیر حقوق بگیر'!B:B)),LOOKUP(D557,Personnel!A:A,Personnel!C:C)))","v":" "},{"$f":"IF(D557=0,\" \",IF(ISNA(MATCH(D557,Personnel!A:A,0)),IF(ISNA(MATCH(D557,'اطلاعات افراد غیر حقوق بگیر'!A:A,0)),\"وجود ندارد\",LOOKUP(D557,'اطلاعات افراد غیر حقوق بگیر'!A:A,'اطلاعات افراد غیر حقوق بگیر'!C:C)),LOOKUP(D557,Personnel!A:A,Personnel!B:B)))","v":" "},{"$f":"IF(D557=0,0,IF(ISNA(MATCH(D557,Personnel!A:A,0)),IF(ISNA(MATCH(D557,'اطلاعات افراد غیر حقوق بگیر'!A:A,0)),\"وجود ندارد\",LOOKUP(D557,'اطلاعات افراد غیر حقوق بگیر'!A:A,'اطلاعات افراد غیر حقوق بگیر'!D:D)),LOOKUP(D557,Master!D:D,Master!CD:CD)))","v":0},{"$f":"IF(D557=0,\" \",IF(ISNA(MATCH(D557,Personnel!A:A,0)),IF(ISNA(MATCH(D557,'اطلاعات افراد غیر حقوق بگیر'!A:A,0)),\"وجود ندارد\",LOOKUP(D557,'اطلاعات افراد غیر حقوق بگیر'!A:A,'اطلاعات افراد غیر حقوق بگیر'!E:E)),LOOKUP(D557,Master!D:D,Master!AH:AH)))","v":" "},{"$f":"SUMIFS(Pays!G:G,Pays!E:E,1,Pays!D:D,D557)","v":0},{"$f":"SUMIFS(Pays!G:G,Pays!E:E,2,Pays!D:D,D557)","v":0},{"$f":"SUMIFS(Pays!G:G,Pays!E:E,57,Pays!D:D,D557)","v":0},{"$f":"SUMIF(Pays!D:D,D557,Pays!G:G)","v":0},{"$f":"SUMIF(Pays!D:D,D557,Pays!G:G)/176","v":0},{"$f":"IF(M557=0,IF(ISNA(MATCH(D557,'اطلاعات افراد غیر حقوق بگیر'!A:A,0)),0,LOOKUP(D557,'اطلاعات افراد غیر حقوق بگیر'!A:A,'اطلاعات افراد غیر حقوق بگیر'!F:F)),IF(H557=31,Settings!$D$13,ROUND(M557,0)))","v":0},null,0,{"$f":"IF(ISNA(MATCH(D557,Master!D:D,0)),IF(ISNA(MATCH(D557,'اطلاعات افراد غیر حقوق بگیر'!A:A,0)),0,LOOKUP(D557,'اطلاعات افراد غیر حقوق بگیر'!A:A,'اطلاعات افراد غیر حقوق بگیر'!G:G)),LOOKUP(D557,Master!D:D,Master!J:J))","v":0},{"$error":"#N/A"},0,0,{"$f":"IF(O557>#REF!,\"اخطار ساعت اضافه کار از حداکثر بیشتر است\",\" \")","v":{"$error":"#REF!"}},{"$f":"IF(O557>#REF!,1,0)","v":{"$error":"#REF!"}}]
[555,{"$f":"IF(D558=0,\"\",Settings!$D$6)","v":""},{"$f":"IF(D558=0,\"\",LOOKUP(B558,'Rigion Code'!A:A,'Rigion Code'!B:B))","v":""},null,{"$f":"IF(D558=0,\" \",IF(ISNA(MATCH(D558,Personnel!A:A,0)),IF(ISNA(MATCH(D558,'اطلاعات افراد غیر حقوق بگیر'!A:A,0)),\"وجود ندارد\",LOOKUP(Edit!D558,'اطلاعات افراد غیر حقوق بگیر'!A:A,'اطلاعات افراد غیر حقوق بگیر'!B:B)),LOOKUP(D558,Personnel!A:A,Personnel!C:C)))","v":" "},{"$f":"IF(D558=0,\" \",IF(ISNA(MATCH(D558,Personnel!A:A,0)),IF(ISNA(MATCH(D558,'اطلاعات افراد غیر حقوق بگیر'!A:A,0)),\"وجود ندارد\",LOOKUP(D558,'اطلاعات افراد غیر حقوق بگیر'!A:A,'اطلاعات افراد غیر حقوق بگیر'!C:C)),LOOKUP(D558,Personnel!A:A,Personnel!B:B)))","v":" "},{"$f":"IF(D558=0,0,IF(ISNA(MATCH(D558,Personnel!A:A,0)),IF(ISNA(MATCH(D558,'اطلاعات افراد غیر حقوق بگیر'!A:A,0)),\"وجود ندارد\",LOOKUP(D558,'اطلاعات افراد غیر حقوق بگیر'!A:A,'اطلاعات افراد غیر حقوق بگیر'!D:D)),LOOKUP(D558,Master!D:D,Master!CD:CD)))","v":0},{"$f":"IF(D558=0,\" \",IF(ISNA(MATCH(D558,Personnel!A:A,0)),IF(ISNA(MATCH(D558,'اطلاعات افراد غیر حقوق بگیر'!A:A,0)),\"وجود ندارد\",LOOKUP(D558,'اطلاعات افراد غیر حقوق بگیر'!A:A,'اطلاعات افراد غیر حقوق بگیر'!E:E)),LOOKUP(D558,Master!D:D,Master!AH:AH)))","v":" "},{"$f":"SUMIFS(Pays!G:G,Pays!E:E,1,Pays!D:D,D558)","v":0},{"$f":"SUMIFS(Pays!G:G,Pays!E:E,2,Pays!D:D,D558)","v":0},{"$f":"SUMIFS(Pays!G:G,Pays!E:E,57,Pays!D:D,D558)","v":0},{"$f":"SUMIF(Pays!D:D,D558,Pays!G:G)","v":0},{"$f":"SUMIF(Pays!D:D,D558,Pays!G:G)/176","v":0},{"$f":"IF(M558=0,IF(ISNA(MATCH(D558,'اطلاعات افراد غیر حقوق بگیر'!A:A,0)),0,LOOKUP(D558,'اطلاعات افراد غیر حقوق بگیر'!A:A,'اطلاعات افراد غیر حقوق بگیر'!F:F)),IF(H558=31,Settings!$D$13,ROUND(M558,0)))","v":0},null,0,{"$f":"IF(ISNA(MATCH(D558,Master!D:D,0)),IF(ISNA(MATCH(D558,'اطلاعات افراد غیر حقوق بگیر'!A:A,0)),0,LOOKUP(D558,'اطلاعات افراد غیر حقوق بگیر'!A:A,'اطلاعات افراد غیر حقوق بگیر'!G:G)),LOOKUP(D558,Master!D:D,Master!J:J))","v":0},{"$error":"#N/A"},0,0,{"$f":"IF(O558>#REF!,\"اخطار ساعت اضافه کار از حداکثر بیشتر است\",\" \")","v":{"$error":"#REF!"}},{"$f":"IF(O558>#REF!,1,0)","v":{"$error":"#REF!"}}]
[556,{"$f":"IF(D559=0,\"\",Settings!$D$6)","v":""},{"$f":"IF(D559=0,\"\",LOOKUP(B559,'Rigion Code'!A:A,'Rigion Code'!B:B))","v":""},null,{"$f":"IF(D559=0,\" \",IF(ISNA(MATCH(D559,Personnel!A:A,0)),IF(ISNA(MATCH(D559,'اطلاعات افراد غیر حقوق بگیر'!A:A,0)),\"وجود ندارد\",LOOKUP(Edit!D559,'اطلاعات افراد غیر حقوق بگیر'!A:A,'اطلاعات افراد غیر حقوق بگیر'!B:B)),LOOKUP(D559,Personnel!A:A,Personnel!C:C)))","v":" "},{"$f":"IF(D559=0,\" \",IF(ISNA(MATCH(D559,Personnel!A:A,0)),IF(ISNA(MATCH(D559,'اطلاعات افراد غیر حقوق بگیر'!A:A,0)),\"وجود ندارد\",LOOKUP(D559,'اطلاعات افراد غیر حقوق بگیر'!A:A,'اطلاعات افراد غیر حقوق بگیر'!C:C)),LOOKUP(D559,Personnel!A:A,Personnel!B:B)))","v":" "},{"$f":"IF(D559=0,0,IF(ISNA(MATCH(D559,Personnel!A:A,0)),IF(ISNA(MATCH(D559,'اطلاعات افراد غیر حقوق بگیر'!A:A,0)),\"وجود ندارد\",LOOKUP(D559,'اطلاعات افراد غیر حقوق بگیر'!A:A,'اطلاعات افراد غیر حقوق بگیر'!D:D)),LOOKUP(D559,Master!D:D,Master!CD:CD)))","v":0},{"$f":"IF(D559=0,\" \",IF(ISNA(MATCH(D559,Personnel!A:A,0)),IF(ISNA(MATCH(D559,'اطلاعات افراد غیر حقوق بگیر'!A:A,0)),\"وجود ندارد\",LOOKUP(D559,'اطلاعات افراد غیر حقوق بگیر'!A:A,'اطلاعات افراد غیر حقوق بگیر'!E:E)),LOOKUP(D559,Master!D:D,Master!AH:AH)))","v":" "},{"$f":"SUMIFS(Pays!G:G,Pays!E:E,1,Pays!D:D,D559)","v":0},{"$f":"SUMIFS(Pays!G:G,Pays!E:E,2,Pays!D:D,D559)","v":0},{"$f":"SUMIFS(Pays!G:G,Pays!E:E,57,Pays!D:D,D559)","v":0},{"$f":"SUMIF(Pays!D:D,D559,Pays!G:G)","v":0},{"$f":"SUMIF(Pays!D:D,D559,Pays!G:G)/176","v":0},{"$f":"IF(M559=0,IF(ISNA(MATCH(D559,'اطلاعات افراد غیر حقوق بگیر'!A:A,0)),0,LOOKUP(D559,'اطلاعات افراد غیر حقوق بگیر'!A:A,'اطلاعات افراد غیر حقوق بگیر'!F:F)),IF(H559=31,Settings!$D$13,ROUND(M559,0)))","v":0},null,0,{"$f":"IF(ISNA(MATCH(D559,Master!D:D,0)),IF(ISNA(MATCH(D559,'اطلاعات افراد غیر حقوق بگیر'!A:A,0)),0,LOOKUP(D559,'اطلاعات افراد غیر حقوق بگیر'!A:A,'اطلاعات افراد غیر حقوق بگیر'!G:G)),LOOKUP(D559,Master!D:D,Master!J:J))","v":0},{"$error":"#N/A"},0,0,{"$f":"IF(O559>#REF!,\"اخطار ساعت اضافه کار از حداکثر بیشتر است\",\" \")","v":{"$error":"#REF!"}},{"$f":"IF(O559>#REF!,1,0)","v":{"$error":"#REF!"}}]
[557,{"$f":"IF(D560=0,\"\",Settings!$D$6)","v":""},{"$f":"IF(D560=0,\"\",LOOKUP(B560,'Rigion Code'!A:A,'Rigion Code'!B:B))","v":""},null,{"$f":"IF(D560=0,\" \",IF(ISNA(MATCH(D560,Personnel!A:A,0)),IF(ISNA(MATCH(D560,'اطلاعات افراد غیر حقوق بگیر'!A:A,0)),\"وجود ندارد\",LOOKUP(Edit!D560,'اطلاعات افراد غیر حقوق بگیر'!A:A,'اطلاعات افراد غیر حقوق بگیر'!B:B)),LOOKUP(D560,Personnel!A:A,Personnel!C:C)))","v":" "},{"$f":"IF(D560=0,\" \",IF(ISNA(MATCH(D560,Personnel!A:A,0)),IF(ISNA(MATCH(D560,'اطلاعات افراد غیر حقوق بگیر'!A:A,0)),\"وجود ندارد\",LOOKUP(D560,'اطلاعات افراد غیر حقوق بگیر'!A:A,'اطلاعات افراد غیر حقوق بگیر'!C:C)),LOOKUP(D560,Personnel!A:A,Personnel!B:B)))","v":" "},{"$f":"IF(D560=0,0,IF(ISNA(MATCH(D560,Personnel!A:A,0)),IF(ISNA(MATCH(D560,'اطلاعات افراد غیر حقوق بگیر'!A:A,0)),\"وجود ندارد\",LOOKUP(D560,'اطلاعات افراد غیر حقوق بگیر'!A:A,'اطلاعات افراد غیر حقوق بگیر'!D:D)),LOOKUP(D560,Master!D:D,Master!CD:CD)))","v":0},{"$f":"IF(D560=0,\" \",IF(ISNA(MATCH(D560,Personnel!A:A,0)),IF(ISNA(MATCH(D560,'اطلاعات افراد غیر حقوق بگیر'!A:A,0)),\"وجود ندارد\",LOOKUP(D560,'اطلاعات افراد غیر حقوق بگیر'!A:A,'اطلاعات افراد غیر حقوق بگیر'!E:E)),LOOKUP(D560,Master!D:D,Master!AH:AH)))","v":" "},{"$f":"SUMIFS(Pays!G:G,Pays!E:E,1,Pays!D:D,D560)","v":0},{"$f":"SUMIFS(Pays!G:G,Pays!E:E,2,Pays!D:D,D560)","v":0},{"$f":"SUMIFS(Pays!G:G,Pays!E:E,57,Pays!D:D,D560)","v":0},{"$f":"SUMIF(Pays!D:D,D560,Pays!G:G)","v":0},{"$f":"SUMIF(Pays!D:D,D560,Pays!G:G)/176","v":0},{"$f":"IF(M560=0,IF(ISNA(MATCH(D560,'اطلاعات افراد غیر حقوق بگیر'!A:A,0)),0,LOOKUP(D560,'اطلاعات افراد غیر حقوق بگیر'!A:A,'اطلاعات افراد غیر حقوق بگیر'!F:F)),IF(H560=31,Settings!$D$13,ROUND(M560,0)))","v":0},null,0,{"$f":"IF(ISNA(MATCH(D560,Master!D:D,0)),IF(ISNA(MATCH(D560,'اطلاعات افراد غیر حقوق بگیر'!A:A,0)),0,LOOKUP(D560,'اطلاعات افراد غیر حقوق بگیر'!A:A,'اطلاعات افراد غیر حقوق بگیر'!G:G)),LOOKUP(D560,Master!D:D,Master!J:J))","v":0},{"$error":"#N/A"},0,0,{"$f":"IF(O560>#REF!,\"اخطار ساعت اضافه کار از حداکثر بیشتر است\",\" \")","v":{"$error":"#REF!"}},{"$f":"IF(O560>#REF!,1,0)","v":{"$error":"#REF!"}}]
[558,{"$f":"IF(D561=0,\"\",Settings!$D$6)","v":""},{"$f":"IF(D561=0,\"\",LOOKUP(B561,'Rigion Code'!A:A,'Rigion Code'!B:B))","v":""},null,{"$f":"IF(D561=0,\" \",IF(ISNA(MATCH(D561,Personnel!A:A,0)),IF(ISNA(MATCH(D561,'اطلاعات افراد غیر حقوق بگیر'!A:A,0)),\"وجود ندارد\",LOOKUP(Edit!D561,'اطلاعات افراد غیر حقوق بگیر'!A:A,'اطلاعات افراد غیر حقوق بگیر'!B:B)),LOOKUP(D561,Personnel!A:A,Personnel!C:C)))","v":" "},{"$f":"IF(D561=0,\" \",IF(ISNA(MATCH(D561,Personnel!A:A,0)),IF(ISNA(MATCH(D561,'اطلاعات افراد غیر حقوق بگیر'!A:A,0)),\"وجود ندارد\",LOOKUP(D561,'اطلاعات افراد غیر حقوق بگیر'!A:A,'اطلاعات افراد غیر حقوق بگیر'!C:C)),LOOKUP(D561,Personnel!A:A,Personnel!B:B)))","v":" "},{"$f":"IF(D561=0,0,IF(ISNA(MATCH(D561,Personnel!A:A,0)),IF(ISNA(MATCH(D561,'اطلاعات افراد غیر حقوق بگیر'!A:A,0)),\"وجود ندارد\",LOOKUP(D561,'اطلاعات افراد غیر حقوق بگیر'!A:A,'اطلاعات افراد غیر حقوق بگیر'!D:D)),LOOKUP(D561,Master!D:D,Master!CD:CD)))","v":0},{"$f":"IF(D561=0,\" \",IF(ISNA(MATCH(D561,Personnel!A:A,0)),IF(ISNA(MATCH(D561,'اطلاعات افراد غیر حقوق بگیر'!A:A,0)),\"وجود ندارد\",LOOKUP(D561,'اطلاعات افراد غیر حقوق بگیر'!A:A,'اطلاعات افراد غیر حقوق بگیر'!E:E)),LOOKUP(D561,Master!D:D,Master!AH:AH)))","v":" "},{"$f":"SUMIFS(Pays!G:G,Pays!E:E,1,Pays!D:D,D561)","v":0},{"$f":"SUMIFS(Pays!G:G,Pays!E:E,2,Pays!D:D,D561)","v":0},{"$f":"SUMIFS(Pays!G:G,Pays!E:E,57,Pays!D:D,D561)","v":0},{"$f":"SUMIF(Pays!D:D,D561,Pays!G:G)","v":0},{"$f":"SUMIF(Pays!D:D,D561,Pays!G:G)/176","v":0},{"$f":"IF(M561=0,IF(ISNA(MATCH(D561,'اطلاعات افراد غیر حقوق بگیر'!A:A,0)),0,LOOKUP(D561,'اطلاعات افراد غیر حقوق بگیر'!A:A,'اطلاعات افراد غیر حقوق بگیر'!F:F)),IF(H561=31,Settings!$D$13,ROUND(M561,0)))","v":0},null,0,{"$f":"IF(ISNA(MATCH(D561,Master!D:D,0)),IF(ISNA(MATCH(D561,'اطلاعات افراد غیر حقوق بگیر'!A:A,0)),0,LOOKUP(D561,'اطلاعات افراد غیر حقوق بگیر'!A:A,'اطلاعات افراد غیر حقوق بگیر'!G:G)),LOOKUP(D561,Master!D:D,Master!J:J))","v":0},{"$error":"#N/A"},0,0,{"$f":"IF(O561>#REF!,\"اخطار ساعت اضافه کار از حداکثر بیشتر است\",\" \")","v":{"$error":"#REF!"}},{"$f":"IF(O561>#REF!,1,0)","v":{"$error":"#REF!"}}]
[559,{"$f":"IF(D562=0,\"\",Settings!$D$6)","v":""},{"$f":"IF(D562=0,\"\",LOOKUP(B562,'Rigion Code'!A:A,'Rigion Code'!B:B))","v":""},null,{"$f":"IF(D562=0,\" \",IF(ISNA(MATCH(D562,Personnel!A:A,0)),IF(ISNA(MATCH(D562,'اطلاعات افراد غیر حقوق بگیر'!A:A,0)),\"وجود ندارد\",LOOKUP(Edit!D562,'اطلاعات افراد غیر حقوق بگیر'!A:A,'اطلاعات افراد غیر حقوق بگیر'!B:B)),LOOKUP(D562,Personnel!A:A,Personnel!C:C)))","v":" "},{"$f":"IF(D562=0,\" \",IF(ISNA(MATCH(D562,Personnel!A:A,0)),IF(ISNA(MATCH(D562,'اطلاعات افراد غیر حقوق بگیر'!A:A,0)),\"وجود ندارد\",LOOKUP(D562,'اطلاعات افراد غیر حقوق بگیر'!A:A,'اطلاعات افراد غیر حقوق بگیر'!C:C)),LOOKUP(D562,Personnel!A:A,Personnel!B:B)))","v":" "},{"$f":"IF(D562=0,0,IF(ISNA(MATCH(D562,Personnel!A:A,0)),IF(ISNA(MATCH(D562,'اطلاعات افراد غیر حقوق بگیر'!A:A,0)),\"وجود ندارد\",LOOKUP(D562,'اطلاعات افراد غیر حقوق بگیر'!A:A,'اطلاعات افراد غیر حقوق بگیر'!D:D)),LOOKUP(D562,Master!D:D,Master!CD:CD)))","v":0},{"$f":"IF(D562=0,\" \",IF(ISNA(MATCH(D562,Personnel!A:A,0)),IF(ISNA(MATCH(D562,'اطلاعات افراد غیر حقوق بگیر'!A:A,0)),\"وجود ندارد\",LOOKUP(D562,'اطلاعات افراد غیر حقوق بگیر'!A:A,'اطلاعات افراد غیر حقوق بگیر'!E:E)),LOOKUP(D562,Master!D:D,Master!AH:AH)))","v":" "},{"$f":"SUMIFS(Pays!G:G,Pays!E:E,1,Pays!D:D,D562)","v":0},{"$f":"SUMIFS(Pays!G:G,Pays!E:E,2,Pays!D:D,D562)","v":0},{"$f":"SUMIFS(Pays!G:G,Pays!E:E,57,Pays!D:D,D562)","v":0},{"$f":"SUMIF(Pays!D:D,D562,Pays!G:G)","v":0},{"$f":"SUMIF(Pays!D:D,D562,Pays!G:G)/176","v":0},{"$f":"IF(M562=0,IF(ISNA(MATCH(D562,'اطلاعات افراد غیر حقوق بگیر'!A:A,0)),0,LOOKUP(D562,'اطلاعات افراد غیر حقوق بگیر'!A:A,'اطلاعات افراد غیر حقوق بگیر'!F:F)),IF(H562=31,Settings!$D$13,ROUND(M562,0)))","v":0},null,0,{"$f":"IF(ISNA(MATCH(D562,Master!D:D,0)),IF(ISNA(MATCH(D562,'اطلاعات افراد غیر حقوق بگیر'!A:A,0)),0,LOOKUP(D562,'اطلاعات افراد غیر حقوق بگیر'!A:A,'اطلاعات افراد غیر حقوق بگیر'!G:G)),LOOKUP(D562,Master!D:D,Master!J:J))","v":0},{"$error":"#N/A"},0,0,{"$f":"IF(O562>#REF!,\"اخطار ساعت اضافه کار از حداکثر بیشتر است\",\" \")","v":{"$error":"#REF!"}},{"$f":"IF(O562>#REF!,1,0)","v":{"$error":"#REF!"}}]
[560,{"$f":"IF(D563=0,\"\",Settings!$D$6)","v":""},{"$f":"IF(D563=0,\"\",LOOKUP(B563,'Rigion Code'!A:A,'Rigion Code'!B:B))","v":""},null,{"$f":"IF(D563=0,\" \",IF(ISNA(MATCH(D563,Personnel!A:A,0)),IF(ISNA(MATCH(D563,'اطلاعات افراد غیر حقوق بگیر'!A:A,0)),\"وجود ندارد\",LOOKUP(Edit!D563,'اطلاعات افراد غیر حقوق بگیر'!A:A,'اطلاعات افراد غیر حقوق بگیر'!B:B)),LOOKUP(D563,Personnel!A:A,Personnel!C:C)))","v":" "},{"$f":"IF(D563=0,\" \",IF(ISNA(MATCH(D563,Personnel!A:A,0)),IF(ISNA(MATCH(D563,'اطلاعات افراد غیر حقوق بگیر'!A:A,0)),\"وجود ندارد\",LOOKUP(D563,'اطلاعات افراد غیر حقوق بگیر'!A:A,'اطلاعات افراد غیر حقوق بگیر'!C:C)),LOOKUP(D563,Personnel!A:A,Personnel!B:B)))","v":" "},{"$f":"IF(D563=0,0,IF(ISNA(MATCH(D563,Personnel!A:A,0)),IF(ISNA(MATCH(D563,'اطلاعات افراد غیر حقوق بگیر'!A:A,0)),\"وجود ندارد\",LOOKUP(D563,'اطلاعات افراد غیر حقوق بگیر'!A:A,'اطلاعات افراد غیر حقوق بگیر'!D:D)),LOOKUP(D563,Master!D:D,Master!CD:CD)))","v":0},{"$f":"IF(D563=0,\" \",IF(ISNA(MATCH(D563,Personnel!A:A,0)),IF(ISNA(MATCH(D563,'اطلاعات افراد غیر حقوق بگیر'!A:A,0)),\"وجود ندارد\",LOOKUP(D563,'اطلاعات افراد غیر حقوق بگیر'!A:A,'اطلاعات افراد غیر حقوق بگیر'!E:E)),LOOKUP(D563,Master!D:D,Master!AH:AH)))","v":" "},{"$f":"SUMIFS(Pays!G:G,Pays!E:E,1,Pays!D:D,D563)","v":0},{"$f":"SUMIFS(Pays!G:G,Pays!E:E,2,Pays!D:D,D563)","v":0},{"$f":"SUMIFS(Pays!G:G,Pays!E:E,57,Pays!D:D,D563)","v":0},{"$f":"SUMIF(Pays!D:D,D563,Pays!G:G)","v":0},{"$f":"SUMIF(Pays!D:D,D563,Pays!G:G)/176","v":0},{"$f":"IF(M563=0,IF(ISNA(MATCH(D563,'اطلاعات افراد غیر حقوق بگیر'!A:A,0)),0,LOOKUP(D563,'اطلاعات افراد غیر حقوق بگیر'!A:A,'اطلاعات افراد غیر حقوق بگیر'!F:F)),IF(H563=31,Settings!$D$13,ROUND(M563,0)))","v":0},null,0,{"$f":"IF(ISNA(MATCH(D563,Master!D:D,0)),IF(ISNA(MATCH(D563,'اطلاعات افراد غیر حقوق بگیر'!A:A,0)),0,LOOKUP(D563,'اطلاعات افراد غیر حقوق بگیر'!A:A,'اطلاعات افراد غیر حقوق بگیر'!G:G)),LOOKUP(D563,Master!D:D,Master!J:J))","v":0},{"$error":"#N/A"},0,0,{"$f":"IF(O563>#REF!,\"اخطار ساعت اضافه کار از حداکثر بیشتر است\",\" \")","v":{"$error":"#REF!"}},{"$f":"IF(O563>#REF!,1,0)","v":{"$error":"#REF!"}}]
[561,{"$f":"IF(D564=0,\"\",Settings!$D$6)","v":""},{"$f":"IF(D564=0,\"\",LOOKUP(B564,'Rigion Code'!A:A,'Rigion Code'!B:B))","v":""},null,{"$f":"IF(D564=0,\" \",IF(ISNA(MATCH(D564,Personnel!A:A,0)),IF(ISNA(MATCH(D564,'اطلاعات افراد غیر حقوق بگیر'!A:A,0)),\"وجود ندارد\",LOOKUP(Edit!D564,'اطلاعات افراد غیر حقوق بگیر'!A:A,'اطلاعات افراد غیر حقوق بگیر'!B:B)),LOOKUP(D564,Personnel!A:A,Personnel!C:C)))","v":" "},{"$f":"IF(D564=0,\" \",IF(ISNA(MATCH(D564,Personnel!A:A,0)),IF(ISNA(MATCH(D564,'اطلاعات افراد غیر حقوق بگیر'!A:A,0)),\"وجود ندارد\",LOOKUP(D564,'اطلاعات افراد غیر حقوق بگیر'!A:A,'اطلاعات افراد غیر حقوق بگیر'!C:C)),LOOKUP(D564,Personnel!A:A,Personnel!B:B)))","v":" "},{"$f":"IF(D564=0,0,IF(ISNA(MATCH(D564,Personnel!A:A,0)),IF(ISNA(MATCH(D564,'اطلاعات افراد غیر حقوق بگیر'!A:A,0)),\"وجود ندارد\",LOOKUP(D564,'اطلاعات افراد غیر حقوق بگیر'!A:A,'اطلاعات افراد غیر حقوق بگیر'!D:D)),LOOKUP(D564,Master!D:D,Master!CD:CD)))","v":0},{"$f":"IF(D564=0,\" \",IF(ISNA(MATCH(D564,Personnel!A:A,0)),IF(ISNA(MATCH(D564,'اطلاعات افراد غیر حقوق بگیر'!A:A,0)),\"وجود ندارد\",LOOKUP(D564,'اطلاعات افراد غیر حقوق بگیر'!A:A,'اطلاعات افراد غیر حقوق بگیر'!E:E)),LOOKUP(D564,Master!D:D,Master!AH:AH)))","v":" "},{"$f":"SUMIFS(Pays!G:G,Pays!E:E,1,Pays!D:D,D564)","v":0},{"$f":"SUMIFS(Pays!G:G,Pays!E:E,2,Pays!D:D,D564)","v":0},{"$f":"SUMIFS(Pays!G:G,Pays!E:E,57,Pays!D:D,D564)","v":0},{"$f":"SUMIF(Pays!D:D,D564,Pays!G:G)","v":0},{"$f":"SUMIF(Pays!D:D,D564,Pays!G:G)/176","v":0},{"$f":"IF(M564=0,IF(ISNA(MATCH(D564,'اطلاعات افراد غیر حقوق بگیر'!A:A,0)),0,LOOKUP(D564,'اطلاعات افراد غیر حقوق بگیر'!A:A,'اطلاعات افراد غیر حقوق بگیر'!F:F)),IF(H564=31,Settings!$D$13,ROUND(M564,0)))","v":0},null,0,{"$f":"IF(ISNA(MATCH(D564,Master!D:D,0)),IF(ISNA(MATCH(D564,'اطلاعات افراد غیر حقوق بگیر'!A:A,0)),0,LOOKUP(D564,'اطلاعات افراد غیر حقوق بگیر'!A:A,'اطلاعات افراد غیر حقوق بگیر'!G:G)),LOOKUP(D564,Master!D:D,Master!J:J))","v":0},{"$error":"#N/A"},0,0,{"$f":"IF(O564>#REF!,\"اخطار ساعت اضافه کار از حداکثر بیشتر است\",\" \")","v":{"$error":"#REF!"}},{"$f":"IF(O564>#REF!,1,0)","v":{"$error":"#REF!"}}]
[562,{"$f":"IF(D565=0,\"\",Settings!$D$6)","v":""},{"$f":"IF(D565=0,\"\",LOOKUP(B565,'Rigion Code'!A:A,'Rigion Code'!B:B))","v":""},null,{"$f":"IF(D565=0,\" \",IF(ISNA(MATCH(D565,Personnel!A:A,0)),IF(ISNA(MATCH(D565,'اطلاعات افراد غیر حقوق بگیر'!A:A,0)),\"وجود ندارد\",LOOKUP(Edit!D565,'اطلاعات افراد غیر حقوق بگیر'!A:A,'اطلاعات افراد غیر حقوق بگیر'!B:B)),LOOKUP(D565,Personnel!A:A,Personnel!C:C)))","v":" "},{"$f":"IF(D565=0,\" \",IF(ISNA(MATCH(D565,Personnel!A:A,0)),IF(ISNA(MATCH(D565,'اطلاعات افراد غیر حقوق بگیر'!A:A,0)),\"وجود ندارد\",LOOKUP(D565,'اطلاعات افراد غیر حقوق بگیر'!A:A,'اطلاعات افراد غیر حقوق بگیر'!C:C)),LOOKUP(D565,Personnel!A:A,Personnel!B:B)))","v":" "},{"$f":"IF(D565=0,0,IF(ISNA(MATCH(D565,Personnel!A:A,0)),IF(ISNA(MATCH(D565,'اطلاعات افراد غیر حقوق بگیر'!A:A,0)),\"وجود ندارد\",LOOKUP(D565,'اطلاعات افراد غیر حقوق بگیر'!A:A,'اطلاعات افراد غیر حقوق بگیر'!D:D)),LOOKUP(D565,Master!D:D,Master!CD:CD)))","v":0},{"$f":"IF(D565=0,\" \",IF(ISNA(MATCH(D565,Personnel!A:A,0)),IF(ISNA(MATCH(D565,'اطلاعات افراد غیر حقوق بگیر'!A:A,0)),\"وجود ندارد\",LOOKUP(D565,'اطلاعات افراد غیر حقوق بگیر'!A:A,'اطلاعات افراد غیر حقوق بگیر'!E:E)),LOOKUP(D565,Master!D:D,Master!AH:AH)))","v":" "},{"$f":"SUMIFS(Pays!G:G,Pays!E:E,1,Pays!D:D,D565)","v":0},{"$f":"SUMIFS(Pays!G:G,Pays!E:E,2,Pays!D:D,D565)","v":0},{"$f":"SUMIFS(Pays!G:G,Pays!E:E,57,Pays!D:D,D565)","v":0},{"$f":"SUMIF(Pays!D:D,D565,Pays!G:G)","v":0},{"$f":"SUMIF(Pays!D:D,D565,Pays!G:G)/176","v":0},{"$f":"IF(M565=0,IF(ISNA(MATCH(D565,'اطلاعات افراد غیر حقوق بگیر'!A:A,0)),0,LOOKUP(D565,'اطلاعات افراد غیر حقوق بگیر'!A:A,'اطلاعات افراد غیر حقوق بگیر'!F:F)),IF(H565=31,Settings!$D$13,ROUND(M565,0)))","v":0},null,0,{"$f":"IF(ISNA(MATCH(D565,Master!D:D,0)),IF(ISNA(MATCH(D565,'اطلاعات افراد غیر حقوق بگیر'!A:A,0)),0,LOOKUP(D565,'اطلاعات افراد غیر حقوق بگیر'!A:A,'اطلاعات افراد غیر حقوق بگیر'!G:G)),LOOKUP(D565,Master!D:D,Master!J:J))","v":0},{"$error":"#N/A"},0,0,{"$f":"IF(O565>#REF!,\"اخطار ساعت اضافه کار از حداکثر بیشتر است\",\" \")","v":{"$error":"#REF!"}},{"$f":"IF(O565>#REF!,1,0)","v":{"$error":"#REF!"}}]
[563,{"$f":"IF(D566=0,\"\",Settings!$D$6)","v":""},{"$f":"IF(D566=0,\"\",LOOKUP(B566,'Rigion Code'!A:A,'Rigion Code'!B:B))","v":""},null,{"$f":"IF(D566=0,\" \",IF(ISNA(MATCH(D566,Personnel!A:A,0)),IF(ISNA(MATCH(D566,'اطلاعات افراد غیر حقوق بگیر'!A:A,0)),\"وجود ندارد\",LOOKUP(Edit!D566,'اطلاعات افراد غیر حقوق بگیر'!A:A,'اطلاعات افراد غیر حقوق بگیر'!B:B)),LOOKUP(D566,Personnel!A:A,Personnel!C:C)))","v":" "},{"$f":"IF(D566=0,\" \",IF(ISNA(MATCH(D566,Personnel!A:A,0)),IF(ISNA(MATCH(D566,'اطلاعات افراد غیر حقوق بگیر'!A:A,0)),\"وجود ندارد\",LOOKUP(D566,'اطلاعات افراد غیر حقوق بگیر'!A:A,'اطلاعات افراد غیر حقوق بگیر'!C:C)),LOOKUP(D566,Personnel!A:A,Personnel!B:B)))","v":" "},{"$f":"IF(D566=0,0,IF(ISNA(MATCH(D566,Personnel!A:A,0)),IF(ISNA(MATCH(D566,'اطلاعات افراد غیر حقوق بگیر'!A:A,0)),\"وجود ندارد\",LOOKUP(D566,'اطلاعات افراد غیر حقوق بگیر'!A:A,'اطلاعات افراد غیر حقوق بگیر'!D:D)),LOOKUP(D566,Master!D:D,Master!CD:CD)))","v":0},{"$f":"IF(D566=0,\" \",IF(ISNA(MATCH(D566,Personnel!A:A,0)),IF(ISNA(MATCH(D566,'اطلاعات افراد غیر حقوق بگیر'!A:A,0)),\"وجود ندارد\",LOOKUP(D566,'اطلاعات افراد غیر حقوق بگیر'!A:A,'اطلاعات افراد غیر حقوق بگیر'!E:E)),LOOKUP(D566,Master!D:D,Master!AH:AH)))","v":" "},{"$f":"SUMIFS(Pays!G:G,Pays!E:E,1,Pays!D:D,D566)","v":0},{"$f":"SUMIFS(Pays!G:G,Pays!E:E,2,Pays!D:D,D566)","v":0},{"$f":"SUMIFS(Pays!G:G,Pays!E:E,57,Pays!D:D,D566)","v":0},{"$f":"SUMIF(Pays!D:D,D566,Pays!G:G)","v":0},{"$f":"SUMIF(Pays!D:D,D566,Pays!G:G)/176","v":0},{"$f":"IF(M566=0,IF(ISNA(MATCH(D566,'اطلاعات افراد غیر حقوق بگیر'!A:A,0)),0,LOOKUP(D566,'اطلاعات افراد غیر حقوق بگیر'!A:A,'اطلاعات افراد غیر حقوق بگیر'!F:F)),IF(H566=31,Settings!$D$13,ROUND(M566,0)))","v":0},null,0,{"$f":"IF(ISNA(MATCH(D566,Master!D:D,0)),IF(ISNA(MATCH(D566,'اطلاعات افراد غیر حقوق بگیر'!A:A,0)),0,LOOKUP(D566,'اطلاعات افراد غیر حقوق بگیر'!A:A,'اطلاعات افراد غیر حقوق بگیر'!G:G)),LOOKUP(D566,Master!D:D,Master!J:J))","v":0},{"$error":"#N/A"},0,0,{"$f":"IF(O566>#REF!,\"اخطار ساعت اضافه کار از حداکثر بیشتر است\",\" \")","v":{"$error":"#REF!"}},{"$f":"IF(O566>#REF!,1,0)","v":{"$error":"#REF!"}}]
[564,{"$f":"IF(D567=0,\"\",Settings!$D$6)","v":""},{"$f":"IF(D567=0,\"\",LOOKUP(B567,'Rigion Code'!A:A,'Rigion Code'!B:B))","v":""},null,{"$f":"IF(D567=0,\" \",IF(ISNA(MATCH(D567,Personnel!A:A,0)),IF(ISNA(MATCH(D567,'اطلاعات افراد غیر حقوق بگیر'!A:A,0)),\"وجود ندارد\",LOOKUP(Edit!D567,'اطلاعات افراد غیر حقوق بگیر'!A:A,'اطلاعات افراد غیر حقوق بگیر'!B:B)),LOOKUP(D567,Personnel!A:A,Personnel!C:C)))","v":" "},{"$f":"IF(D567=0,\" \",IF(ISNA(MATCH(D567,Personnel!A:A,0)),IF(ISNA(MATCH(D567,'اطلاعات افراد غیر حقوق بگیر'!A:A,0)),\"وجود ندارد\",LOOKUP(D567,'اطلاعات افراد غیر حقوق بگیر'!A:A,'اطلاعات افراد غیر حقوق بگیر'!C:C)),LOOKUP(D567,Personnel!A:A,Personnel!B:B)))","v":" "},{"$f":"IF(D567=0,0,IF(ISNA(MATCH(D567,Personnel!A:A,0)),IF(ISNA(MATCH(D567,'اطلاعات افراد غیر حقوق بگیر'!A:A,0)),\"وجود ندارد\",LOOKUP(D567,'اطلاعات افراد غیر حقوق بگیر'!A:A,'اطلاعات افراد غیر حقوق بگیر'!D:D)),LOOKUP(D567,Master!D:D,Master!CD:CD)))","v":0},{"$f":"IF(D567=0,\" \",IF(ISNA(MATCH(D567,Personnel!A:A,0)),IF(ISNA(MATCH(D567,'اطلاعات افراد غیر حقوق بگیر'!A:A,0)),\"وجود ندارد\",LOOKUP(D567,'اطلاعات افراد غیر حقوق بگیر'!A:A,'اطلاعات افراد غیر حقوق بگیر'!E:E)),LOOKUP(D567,Master!D:D,Master!AH:AH)))","v":" "},{"$f":"SUMIFS(Pays!G:G,Pays!E:E,1,Pays!D:D,D567)","v":0},{"$f":"SUMIFS(Pays!G:G,Pays!E:E,2,Pays!D:D,D567)","v":0},{"$f":"SUMIFS(Pays!G:G,Pays!E:E,57,Pays!D:D,D567)","v":0},{"$f":"SUMIF(Pays!D:D,D567,Pays!G:G)","v":0},{"$f":"SUMIF(Pays!D:D,D567,Pays!G:G)/176","v":0},{"$f":"IF(M567=0,IF(ISNA(MATCH(D567,'اطلاعات افراد غیر حقوق بگیر'!A:A,0)),0,LOOKUP(D567,'اطلاعات افراد غیر حقوق بگیر'!A:A,'اطلاعات افراد غیر حقوق بگیر'!F:F)),IF(H567=31,Settings!$D$13,ROUND(M567,0)))","v":0},null,0,{"$f":"IF(ISNA(MATCH(D567,Master!D:D,0)),IF(ISNA(MATCH(D567,'اطلاعات افراد غیر حقوق بگیر'!A:A,0)),0,LOOKUP(D567,'اطلاعات افراد غیر حقوق بگیر'!A:A,'اطلاعات افراد غیر حقوق بگیر'!G:G)),LOOKUP(D567,Master!D:D,Master!J:J))","v":0},{"$error":"#N/A"},0,0,{"$f":"IF(O567>#REF!,\"اخطار ساعت اضافه کار از حداکثر بیشتر است\",\" \")","v":{"$error":"#REF!"}},{"$f":"IF(O567>#REF!,1,0)","v":{"$error":"#REF!"}}]
[565,{"$f":"IF(D568=0,\"\",Settings!$D$6)","v":""},{"$f":"IF(D568=0,\"\",LOOKUP(B568,'Rigion Code'!A:A,'Rigion Code'!B:B))","v":""},null,{"$f":"IF(D568=0,\" \",IF(ISNA(MATCH(D568,Personnel!A:A,0)),IF(ISNA(MATCH(D568,'اطلاعات افراد غیر حقوق بگیر'!A:A,0)),\"وجود ندارد\",LOOKUP(Edit!D568,'اطلاعات افراد غیر حقوق بگیر'!A:A,'اطلاعات افراد غیر حقوق بگیر'!B:B)),LOOKUP(D568,Personnel!A:A,Personnel!C:C)))","v":" "},{"$f":"IF(D568=0,\" \",IF(ISNA(MATCH(D568,Personnel!A:A,0)),IF(ISNA(MATCH(D568,'اطلاعات افراد غیر حقوق بگیر'!A:A,0)),\"وجود ندارد\",LOOKUP(D568,'اطلاعات افراد غیر حقوق بگیر'!A:A,'اطلاعات افراد غیر حقوق بگیر'!C:C)),LOOKUP(D568,Personnel!A:A,Personnel!B:B)))","v":" "},{"$f":"IF(D568=0,0,IF(ISNA(MATCH(D568,Personnel!A:A,0)),IF(ISNA(MATCH(D568,'اطلاعات افراد غیر حقوق بگیر'!A:A,0)),\"وجود ندارد\",LOOKUP(D568,'اطلاعات افراد غیر حقوق بگیر'!A:A,'اطلاعات افراد غیر حقوق بگیر'!D:D)),LOOKUP(D568,Master!D:D,Master!CD:CD)))","v":0},{"$f":"IF(D568=0,\" \",IF(ISNA(MATCH(D568,Personnel!A:A,0)),IF(ISNA(MATCH(D568,'اطلاعات افراد غیر حقوق بگیر'!A:A,0)),\"وجود ندارد\",LOOKUP(D568,'اطلاعات افراد غیر حقوق بگیر'!A:A,'اطلاعات افراد غیر حقوق بگیر'!E:E)),LOOKUP(D568,Master!D:D,Master!AH:AH)))","v":" "},{"$f":"SUMIFS(Pays!G:G,Pays!E:E,1,Pays!D:D,D568)","v":0},{"$f":"SUMIFS(Pays!G:G,Pays!E:E,2,Pays!D:D,D568)","v":0},{"$f":"SUMIFS(Pays!G:G,Pays!E:E,57,Pays!D:D,D568)","v":0},{"$f":"SUMIF(Pays!D:D,D568,Pays!G:G)","v":0},{"$f":"SUMIF(Pays!D:D,D568,Pays!G:G)/176","v":0},{"$f":"IF(M568=0,IF(ISNA(MATCH(D568,'اطلاعات افراد غیر حقوق بگیر'!A:A,0)),0,LOOKUP(D568,'اطلاعات افراد غیر حقوق بگیر'!A:A,'اطلاعات افراد غیر حقوق بگیر'!F:F)),IF(H568=31,Settings!$D$13,ROUND(M568,0)))","v":0},null,0,{"$f":"IF(ISNA(MATCH(D568,Master!D:D,0)),IF(ISNA(MATCH(D568,'اطلاعات افراد غیر حقوق بگیر'!A:A,0)),0,LOOKUP(D568,'اطلاعات افراد غیر حقوق بگیر'!A:A,'اطلاعات افراد غیر حقوق بگیر'!G:G)),LOOKUP(D568,Master!D:D,Master!J:J))","v":0},{"$error":"#N/A"},0,0,{"$f":"IF(O568>#REF!,\"اخطار ساعت اضافه کار از حداکثر بیشتر است\",\" \")","v":{"$error":"#REF!"}},{"$f":"IF(O568>#REF!,1,0)","v":{"$error":"#REF!"}}]
[566,{"$f":"IF(D569=0,\"\",Settings!$D$6)","v":""},{"$f":"IF(D569=0,\"\",LOOKUP(B569,'Rigion Code'!A:A,'Rigion Code'!B:B))","v":""},null,{"$f":"IF(D569=0,\" \",IF(ISNA(MATCH(D569,Personnel!A:A,0)),IF(ISNA(MATCH(D569,'اطلاعات افراد غیر حقوق بگیر'!A:A,0)),\"وجود ندارد\",LOOKUP(Edit!D569,'اطلاعات افراد غیر حقوق بگیر'!A:A,'اطلاعات افراد غیر حقوق بگیر'!B:B)),LOOKUP(D569,Personnel!A:A,Personnel!C:C)))","v":" "},{"$f":"IF(D569=0,\" \",IF(ISNA(MATCH(D569,Personnel!A:A,0)),IF(ISNA(MATCH(D569,'اطلاعات افراد غیر حقوق بگیر'!A:A,0)),\"وجود ندارد\",LOOKUP(D569,'اطلاعات افراد غیر حقوق بگیر'!A:A,'اطلاعات افراد غیر حقوق بگیر'!C:C)),LOOKUP(D569,Personnel!A:A,Personnel!B:B)))","v":" "},{"$f":"IF(D569=0,0,IF(ISNA(MATCH(D569,Personnel!A:A,0)),IF(ISNA(MATCH(D569,'اطلاعات افراد غیر حقوق بگیر'!A:A,0)),\"وجود ندارد\",LOOKUP(D569,'اطلاعات افراد غیر حقوق بگیر'!A:A,'اطلاعات افراد غیر حقوق بگیر'!D:D)),LOOKUP(D569,Master!D:D,Master!CD:CD)))","v":0},{"$f":"IF(D569=0,\" \",IF(ISNA(MATCH(D569,Personnel!A:A,0)),IF(ISNA(MATCH(D569,'اطلاعات افراد غیر حقوق بگیر'!A:A,0)),\"وجود ندارد\",LOOKUP(D569,'اطلاعات افراد غیر حقوق بگیر'!A:A,'اطلاعات افراد غیر حقوق بگیر'!E:E)),LOOKUP(D569,Master!D:D,Master!AH:AH)))","v":" "},{"$f":"SUMIFS(Pays!G:G,Pays!E:E,1,Pays!D:D,D569)","v":0},{"$f":"SUMIFS(Pays!G:G,Pays!E:E,2,Pays!D:D,D569)","v":0},{"$f":"SUMIFS(Pays!G:G,Pays!E:E,57,Pays!D:D,D569)","v":0},{"$f":"SUMIF(Pays!D:D,D569,Pays!G:G)","v":0},{"$f":"SUMIF(Pays!D:D,D569,Pays!G:G)/176","v":0},{"$f":"IF(M569=0,IF(ISNA(MATCH(D569,'اطلاعات افراد غیر حقوق بگیر'!A:A,0)),0,LOOKUP(D569,'اطلاعات افراد غیر حقوق بگیر'!A:A,'اطلاعات افراد غیر حقوق بگیر'!F:F)),IF(H569=31,Settings!$D$13,ROUND(M569,0)))","v":0},null,0,{"$f":"IF(ISNA(MATCH(D569,Master!D:D,0)),IF(ISNA(MATCH(D569,'اطلاعات افراد غیر حقوق بگیر'!A:A,0)),0,LOOKUP(D569,'اطلاعات افراد غیر حقوق بگیر'!A:A,'اطلاعات افراد غیر حقوق بگیر'!G:G)),LOOKUP(D569,Master!D:D,Master!J:J))","v":0},{"$error":"#N/A"},0,0,{"$f":"IF(O569>#REF!,\"اخطار ساعت اضافه کار از حداکثر بیشتر است\",\" \")","v":{"$error":"#REF!"}},{"$f":"IF(O569>#REF!,1,0)","v":{"$error":"#REF!"}}]
[567,{"$f":"IF(D570=0,\"\",Settings!$D$6)","v":""},{"$f":"IF(D570=0,\"\",LOOKUP(B570,'Rigion Code'!A:A,'Rigion Code'!B:B))","v":""},null,{"$f":"IF(D570=0,\" \",IF(ISNA(MATCH(D570,Personnel!A:A,0)),IF(ISNA(MATCH(D570,'اطلاعات افراد غیر حقوق بگیر'!A:A,0)),\"وجود ندارد\",LOOKUP(Edit!D570,'اطلاعات افراد غیر حقوق بگیر'!A:A,'اطلاعات افراد غیر حقوق بگیر'!B:B)),LOOKUP(D570,Personnel!A:A,Personnel!C:C)))","v":" "},{"$f":"IF(D570=0,\" \",IF(ISNA(MATCH(D570,Personnel!A:A,0)),IF(ISNA(MATCH(D570,'اطلاعات افراد غیر حقوق بگیر'!A:A,0)),\"وجود ندارد\",LOOKUP(D570,'اطلاعات افراد غیر حقوق بگیر'!A:A,'اطلاعات افراد غیر حقوق بگیر'!C:C)),LOOKUP(D570,Personnel!A:A,Personnel!B:B)))","v":" "},{"$f":"IF(D570=0,0,IF(ISNA(MATCH(D570,Personnel!A:A,0)),IF(ISNA(MATCH(D570,'اطلاعات افراد غیر حقوق بگیر'!A:A,0)),\"وجود ندارد\",LOOKUP(D570,'اطلاعات افراد غیر حقوق بگیر'!A:A,'اطلاعات افراد غیر حقوق بگیر'!D:D)),LOOKUP(D570,Master!D:D,Master!CD:CD)))","v":0},{"$f":"IF(D570=0,\" \",IF(ISNA(MATCH(D570,Personnel!A:A,0)),IF(ISNA(MATCH(D570,'اطلاعات افراد غیر حقوق بگیر'!A:A,0)),\"وجود ندارد\",LOOKUP(D570,'اطلاعات افراد غیر حقوق بگیر'!A:A,'اطلاعات افراد غیر حقوق بگیر'!E:E)),LOOKUP(D570,Master!D:D,Master!AH:AH)))","v":" "},{"$f":"SUMIFS(Pays!G:G,Pays!E:E,1,Pays!D:D,D570)","v":0},{"$f":"SUMIFS(Pays!G:G,Pays!E:E,2,Pays!D:D,D570)","v":0},{"$f":"SUMIFS(Pays!G:G,Pays!E:E,57,Pays!D:D,D570)","v":0},{"$f":"SUMIF(Pays!D:D,D570,Pays!G:G)","v":0},{"$f":"SUMIF(Pays!D:D,D570,Pays!G:G)/176","v":0},{"$f":"IF(M570=0,IF(ISNA(MATCH(D570,'اطلاعات افراد غیر حقوق بگیر'!A:A,0)),0,LOOKUP(D570,'اطلاعات افراد غیر حقوق بگیر'!A:A,'اطلاعات افراد غیر حقوق بگیر'!F:F)),IF(H570=31,Settings!$D$13,ROUND(M570,0)))","v":0},null,0,{"$f":"IF(ISNA(MATCH(D570,Master!D:D,0)),IF(ISNA(MATCH(D570,'اطلاعات افراد غیر حقوق بگیر'!A:A,0)),0,LOOKUP(D570,'اطلاعات افراد غیر حقوق بگیر'!A:A,'اطلاعات افراد غیر حقوق بگیر'!G:G)),LOOKUP(D570,Master!D:D,Master!J:J))","v":0},{"$error":"#N/A"},0,0,{"$f":"IF(O570>#REF!,\"اخطار ساعت اضافه کار از حداکثر بیشتر است\",\" \")","v":{"$error":"#REF!"}},{"$f":"IF(O570>#REF!,1,0)","v":{"$error":"#REF!"}}]
[568,{"$f":"IF(D571=0,\"\",Settings!$D$6)","v":""},{"$f":"IF(D571=0,\"\",LOOKUP(B571,'Rigion Code'!A:A,'Rigion Code'!B:B))","v":""},null,{"$f":"IF(D571=0,\" \",IF(ISNA(MATCH(D571,Personnel!A:A,0)),IF(ISNA(MATCH(D571,'اطلاعات افراد غیر حقوق بگیر'!A:A,0)),\"وجود ندارد\",LOOKUP(Edit!D571,'اطلاعات افراد غیر حقوق بگیر'!A:A,'اطلاعات افراد غیر حقوق بگیر'!B:B)),LOOKUP(D571,Personnel!A:A,Personnel!C:C)))","v":" "},{"$f":"IF(D571=0,\" \",IF(ISNA(MATCH(D571,Personnel!A:A,0)),IF(ISNA(MATCH(D571,'اطلاعات افراد غیر حقوق بگیر'!A:A,0)),\"وجود ندارد\",LOOKUP(D571,'اطلاعات افراد غیر حقوق بگیر'!A:A,'اطلاعات افراد غیر حقوق بگیر'!C:C)),LOOKUP(D571,Personnel!A:A,Personnel!B:B)))","v":" "},{"$f":"IF(D571=0,0,IF(ISNA(MATCH(D571,Personnel!A:A,0)),IF(ISNA(MATCH(D571,'اطلاعات افراد غیر حقوق بگیر'!A:A,0)),\"وجود ندارد\",LOOKUP(D571,'اطلاعات افراد غیر حقوق بگیر'!A:A,'اطلاعات افراد غیر حقوق بگیر'!D:D)),LOOKUP(D571,Master!D:D,Master!CD:CD)))","v":0},{"$f":"IF(D571=0,\" \",IF(ISNA(MATCH(D571,Personnel!A:A,0)),IF(ISNA(MATCH(D571,'اطلاعات افراد غیر حقوق بگیر'!A:A,0)),\"وجود ندارد\",LOOKUP(D571,'اطلاعات افراد غیر حقوق بگیر'!A:A,'اطلاعات افراد غیر حقوق بگیر'!E:E)),LOOKUP(D571,Master!D:D,Master!AH:AH)))","v":" "},{"$f":"SUMIFS(Pays!G:G,Pays!E:E,1,Pays!D:D,D571)","v":0},{"$f":"SUMIFS(Pays!G:G,Pays!E:E,2,Pays!D:D,D571)","v":0},{"$f":"SUMIFS(Pays!G:G,Pays!E:E,57,Pays!D:D,D571)","v":0},{"$f":"SUMIF(Pays!D:D,D571,Pays!G:G)","v":0},{"$f":"SUMIF(Pays!D:D,D571,Pays!G:G)/176","v":0},{"$f":"IF(M571=0,IF(ISNA(MATCH(D571,'اطلاعات افراد غیر حقوق بگیر'!A:A,0)),0,LOOKUP(D571,'اطلاعات افراد غیر حقوق بگیر'!A:A,'اطلاعات افراد غیر حقوق بگیر'!F:F)),IF(H571=31,Settings!$D$13,ROUND(M571,0)))","v":0},null,0,{"$f":"IF(ISNA(MATCH(D571,Master!D:D,0)),IF(ISNA(MATCH(D571,'اطلاعات افراد غیر حقوق بگیر'!A:A,0)),0,LOOKUP(D571,'اطلاعات افراد غیر حقوق بگیر'!A:A,'اطلاعات افراد غیر حقوق بگیر'!G:G)),LOOKUP(D571,Master!D:D,Master!J:J))","v":0},{"$error":"#N/A"},0,0,{"$f":"IF(O571>#REF!,\"اخطار ساعت اضافه کار از حداکثر بیشتر است\",\" \")","v":{"$error":"#REF!"}},{"$f":"IF(O571>#REF!,1,0)","v":{"$error":"#REF!"}}]
[569,{"$f":"IF(D572=0,\"\",Settings!$D$6)","v":""},{"$f":"IF(D572=0,\"\",LOOKUP(B572,'Rigion Code'!A:A,'Rigion Code'!B:B))","v":""},null,{"$f":"IF(D572=0,\" \",IF(ISNA(MATCH(D572,Personnel!A:A,0)),IF(ISNA(MATCH(D572,'اطلاعات افراد غیر حقوق بگیر'!A:A,0)),\"وجود ندارد\",LOOKUP(Edit!D572,'اطلاعات افراد غیر حقوق بگیر'!A:A,'اطلاعات افراد غیر حقوق بگیر'!B:B)),LOOKUP(D572,Personnel!A:A,Personnel!C:C)))","v":" "},{"$f":"IF(D572=0,\" \",IF(ISNA(MATCH(D572,Personnel!A:A,0)),IF(ISNA(MATCH(D572,'اطلاعات افراد غیر حقوق بگیر'!A:A,0)),\"وجود ندارد\",LOOKUP(D572,'اطلاعات افراد غیر حقوق بگیر'!A:A,'اطلاعات افراد غیر حقوق بگیر'!C:C)),LOOKUP(D572,Personnel!A:A,Personnel!B:B)))","v":" "},{"$f":"IF(D572=0,0,IF(ISNA(MATCH(D572,Personnel!A:A,0)),IF(ISNA(MATCH(D572,'اطلاعات افراد غیر حقوق بگیر'!A:A,0)),\"وجود ندارد\",LOOKUP(D572,'اطلاعات افراد غیر حقوق بگیر'!A:A,'اطلاعات افراد غیر حقوق بگیر'!D:D)),LOOKUP(D572,Master!D:D,Master!CD:CD)))","v":0},{"$f":"IF(D572=0,\" \",IF(ISNA(MATCH(D572,Personnel!A:A,0)),IF(ISNA(MATCH(D572,'اطلاعات افراد غیر حقوق بگیر'!A:A,0)),\"وجود ندارد\",LOOKUP(D572,'اطلاعات افراد غیر حقوق بگیر'!A:A,'اطلاعات افراد غیر حقوق بگیر'!E:E)),LOOKUP(D572,Master!D:D,Master!AH:AH)))","v":" "},{"$f":"SUMIFS(Pays!G:G,Pays!E:E,1,Pays!D:D,D572)","v":0},{"$f":"SUMIFS(Pays!G:G,Pays!E:E,2,Pays!D:D,D572)","v":0},{"$f":"SUMIFS(Pays!G:G,Pays!E:E,57,Pays!D:D,D572)","v":0},{"$f":"SUMIF(Pays!D:D,D572,Pays!G:G)","v":0},{"$f":"SUMIF(Pays!D:D,D572,Pays!G:G)/176","v":0},{"$f":"IF(M572=0,IF(ISNA(MATCH(D572,'اطلاعات افراد غیر حقوق بگیر'!A:A,0)),0,LOOKUP(D572,'اطلاعات افراد غیر حقوق بگیر'!A:A,'اطلاعات افراد غیر حقوق بگیر'!F:F)),IF(H572=31,Settings!$D$13,ROUND(M572,0)))","v":0},null,0,{"$f":"IF(ISNA(MATCH(D572,Master!D:D,0)),IF(ISNA(MATCH(D572,'اطلاعات افراد غیر حقوق بگیر'!A:A,0)),0,LOOKUP(D572,'اطلاعات افراد غیر حقوق بگیر'!A:A,'اطلاعات افراد غیر حقوق بگیر'!G:G)),LOOKUP(D572,Master!D:D,Master!J:J))","v":0},{"$error":"#N/A"},0,0,{"$f":"IF(O572>#REF!,\"اخطار ساعت اضافه کار از حداکثر بیشتر است\",\" \")","v":{"$error":"#REF!"}},{"$f":"IF(O572>#REF!,1,0)","v":{"$error":"#REF!"}}]
[570,{"$f":"IF(D573=0,\"\",Settings!$D$6)","v":""},{"$f":"IF(D573=0,\"\",LOOKUP(B573,'Rigion Code'!A:A,'Rigion Code'!B:B))","v":""},null,{"$f":"IF(D573=0,\" \",IF(ISNA(MATCH(D573,Personnel!A:A,0)),IF(ISNA(MATCH(D573,'اطلاعات افراد غیر حقوق بگیر'!A:A,0)),\"وجود ندارد\",LOOKUP(Edit!D573,'اطلاعات افراد غیر حقوق بگیر'!A:A,'اطلاعات افراد غیر حقوق بگیر'!B:B)),LOOKUP(D573,Personnel!A:A,Personnel!C:C)))","v":" "},{"$f":"IF(D573=0,\" \",IF(ISNA(MATCH(D573,Personnel!A:A,0)),IF(ISNA(MATCH(D573,'اطلاعات افراد غیر حقوق بگیر'!A:A,0)),\"وجود ندارد\",LOOKUP(D573,'اطلاعات افراد غیر حقوق بگیر'!A:A,'اطلاعات افراد غیر حقوق بگیر'!C:C)),LOOKUP(D573,Personnel!A:A,Personnel!B:B)))","v":" "},{"$f":"IF(D573=0,0,IF(ISNA(MATCH(D573,Personnel!A:A,0)),IF(ISNA(MATCH(D573,'اطلاعات افراد غیر حقوق بگیر'!A:A,0)),\"وجود ندارد\",LOOKUP(D573,'اطلاعات افراد غیر حقوق بگیر'!A:A,'اطلاعات افراد غیر حقوق بگیر'!D:D)),LOOKUP(D573,Master!D:D,Master!CD:CD)))","v":0},{"$f":"IF(D573=0,\" \",IF(ISNA(MATCH(D573,Personnel!A:A,0)),IF(ISNA(MATCH(D573,'اطلاعات افراد غیر حقوق بگیر'!A:A,0)),\"وجود ندارد\",LOOKUP(D573,'اطلاعات افراد غیر حقوق بگیر'!A:A,'اطلاعات افراد غیر حقوق بگیر'!E:E)),LOOKUP(D573,Master!D:D,Master!AH:AH)))","v":" "},{"$f":"SUMIFS(Pays!G:G,Pays!E:E,1,Pays!D:D,D573)","v":0},{"$f":"SUMIFS(Pays!G:G,Pays!E:E,2,Pays!D:D,D573)","v":0},{"$f":"SUMIFS(Pays!G:G,Pays!E:E,57,Pays!D:D,D573)","v":0},{"$f":"SUMIF(Pays!D:D,D573,Pays!G:G)","v":0},{"$f":"SUMIF(Pays!D:D,D573,Pays!G:G)/176","v":0},{"$f":"IF(M573=0,IF(ISNA(MATCH(D573,'اطلاعات افراد غیر حقوق بگیر'!A:A,0)),0,LOOKUP(D573,'اطلاعات افراد غیر حقوق بگیر'!A:A,'اطلاعات افراد غیر حقوق بگیر'!F:F)),IF(H573=31,Settings!$D$13,ROUND(M573,0)))","v":0},null,0,{"$f":"IF(ISNA(MATCH(D573,Master!D:D,0)),IF(ISNA(MATCH(D573,'اطلاعات افراد غیر حقوق بگیر'!A:A,0)),0,LOOKUP(D573,'اطلاعات افراد غیر حقوق بگیر'!A:A,'اطلاعات افراد غیر حقوق بگیر'!G:G)),LOOKUP(D573,Master!D:D,Master!J:J))","v":0},{"$error":"#N/A"},0,0,{"$f":"IF(O573>#REF!,\"اخطار ساعت اضافه کار از حداکثر بیشتر است\",\" \")","v":{"$error":"#REF!"}},{"$f":"IF(O573>#REF!,1,0)","v":{"$error":"#REF!"}}]
[571,{"$f":"IF(D574=0,\"\",Settings!$D$6)","v":""},{"$f":"IF(D574=0,\"\",LOOKUP(B574,'Rigion Code'!A:A,'Rigion Code'!B:B))","v":""},null,{"$f":"IF(D574=0,\" \",IF(ISNA(MATCH(D574,Personnel!A:A,0)),IF(ISNA(MATCH(D574,'اطلاعات افراد غیر حقوق بگیر'!A:A,0)),\"وجود ندارد\",LOOKUP(Edit!D574,'اطلاعات افراد غیر حقوق بگیر'!A:A,'اطلاعات افراد غیر حقوق بگیر'!B:B)),LOOKUP(D574,Personnel!A:A,Personnel!C:C)))","v":" "},{"$f":"IF(D574=0,\" \",IF(ISNA(MATCH(D574,Personnel!A:A,0)),IF(ISNA(MATCH(D574,'اطلاعات افراد غیر حقوق بگیر'!A:A,0)),\"وجود ندارد\",LOOKUP(D574,'اطلاعات افراد غیر حقوق بگیر'!A:A,'اطلاعات افراد غیر حقوق بگیر'!C:C)),LOOKUP(D574,Personnel!A:A,Personnel!B:B)))","v":" "},{"$f":"IF(D574=0,0,IF(ISNA(MATCH(D574,Personnel!A:A,0)),IF(ISNA(MATCH(D574,'اطلاعات افراد غیر حقوق بگیر'!A:A,0)),\"وجود ندارد\",LOOKUP(D574,'اطلاعات افراد غیر حقوق بگیر'!A:A,'اطلاعات افراد غیر حقوق بگیر'!D:D)),LOOKUP(D574,Master!D:D,Master!CD:CD)))","v":0},{"$f":"IF(D574=0,\" \",IF(ISNA(MATCH(D574,Personnel!A:A,0)),IF(ISNA(MATCH(D574,'اطلاعات افراد غیر حقوق بگیر'!A:A,0)),\"وجود ندارد\",LOOKUP(D574,'اطلاعات افراد غیر حقوق بگیر'!A:A,'اطلاعات افراد غیر حقوق بگیر'!E:E)),LOOKUP(D574,Master!D:D,Master!AH:AH)))","v":" "},{"$f":"SUMIFS(Pays!G:G,Pays!E:E,1,Pays!D:D,D574)","v":0},{"$f":"SUMIFS(Pays!G:G,Pays!E:E,2,Pays!D:D,D574)","v":0},{"$f":"SUMIFS(Pays!G:G,Pays!E:E,57,Pays!D:D,D574)","v":0},{"$f":"SUMIF(Pays!D:D,D574,Pays!G:G)","v":0},{"$f":"SUMIF(Pays!D:D,D574,Pays!G:G)/176","v":0},{"$f":"IF(M574=0,IF(ISNA(MATCH(D574,'اطلاعات افراد غیر حقوق بگیر'!A:A,0)),0,LOOKUP(D574,'اطلاعات افراد غیر حقوق بگیر'!A:A,'اطلاعات افراد غیر حقوق بگیر'!F:F)),IF(H574=31,Settings!$D$13,ROUND(M574,0)))","v":0},null,0,{"$f":"IF(ISNA(MATCH(D574,Master!D:D,0)),IF(ISNA(MATCH(D574,'اطلاعات افراد غیر حقوق بگیر'!A:A,0)),0,LOOKUP(D574,'اطلاعات افراد غیر حقوق بگیر'!A:A,'اطلاعات افراد غیر حقوق بگیر'!G:G)),LOOKUP(D574,Master!D:D,Master!J:J))","v":0},{"$error":"#N/A"},0,0,{"$f":"IF(O574>#REF!,\"اخطار ساعت اضافه کار از حداکثر بیشتر است\",\" \")","v":{"$error":"#REF!"}},{"$f":"IF(O574>#REF!,1,0)","v":{"$error":"#REF!"}}]
[572,{"$f":"IF(D575=0,\"\",Settings!$D$6)","v":""},{"$f":"IF(D575=0,\"\",LOOKUP(B575,'Rigion Code'!A:A,'Rigion Code'!B:B))","v":""},null,{"$f":"IF(D575=0,\" \",IF(ISNA(MATCH(D575,Personnel!A:A,0)),IF(ISNA(MATCH(D575,'اطلاعات افراد غیر حقوق بگیر'!A:A,0)),\"وجود ندارد\",LOOKUP(Edit!D575,'اطلاعات افراد غیر حقوق بگیر'!A:A,'اطلاعات افراد غیر حقوق بگیر'!B:B)),LOOKUP(D575,Personnel!A:A,Personnel!C:C)))","v":" "},{"$f":"IF(D575=0,\" \",IF(ISNA(MATCH(D575,Personnel!A:A,0)),IF(ISNA(MATCH(D575,'اطلاعات افراد غیر حقوق بگیر'!A:A,0)),\"وجود ندارد\",LOOKUP(D575,'اطلاعات افراد غیر حقوق بگیر'!A:A,'اطلاعات افراد غیر حقوق بگیر'!C:C)),LOOKUP(D575,Personnel!A:A,Personnel!B:B)))","v":" "},{"$f":"IF(D575=0,0,IF(ISNA(MATCH(D575,Personnel!A:A,0)),IF(ISNA(MATCH(D575,'اطلاعات افراد غیر حقوق بگیر'!A:A,0)),\"وجود ندارد\",LOOKUP(D575,'اطلاعات افراد غیر حقوق بگیر'!A:A,'اطلاعات افراد غیر حقوق بگیر'!D:D)),LOOKUP(D575,Master!D:D,Master!CD:CD)))","v":0},{"$f":"IF(D575=0,\" \",IF(ISNA(MATCH(D575,Personnel!A:A,0)),IF(ISNA(MATCH(D575,'اطلاعات افراد غیر حقوق بگیر'!A:A,0)),\"وجود ندارد\",LOOKUP(D575,'اطلاعات افراد غیر حقوق بگیر'!A:A,'اطلاعات افراد غیر حقوق بگیر'!E:E)),LOOKUP(D575,Master!D:D,Master!AH:AH)))","v":" "},{"$f":"SUMIFS(Pays!G:G,Pays!E:E,1,Pays!D:D,D575)","v":0},{"$f":"SUMIFS(Pays!G:G,Pays!E:E,2,Pays!D:D,D575)","v":0},{"$f":"SUMIFS(Pays!G:G,Pays!E:E,57,Pays!D:D,D575)","v":0},{"$f":"SUMIF(Pays!D:D,D575,Pays!G:G)","v":0},{"$f":"SUMIF(Pays!D:D,D575,Pays!G:G)/176","v":0},{"$f":"IF(M575=0,IF(ISNA(MATCH(D575,'اطلاعات افراد غیر حقوق بگیر'!A:A,0)),0,LOOKUP(D575,'اطلاعات افراد غیر حقوق بگیر'!A:A,'اطلاعات افراد غیر حقوق بگیر'!F:F)),IF(H575=31,Settings!$D$13,ROUND(M575,0)))","v":0},null,0,{"$f":"IF(ISNA(MATCH(D575,Master!D:D,0)),IF(ISNA(MATCH(D575,'اطلاعات افراد غیر حقوق بگیر'!A:A,0)),0,LOOKUP(D575,'اطلاعات افراد غیر حقوق بگیر'!A:A,'اطلاعات افراد غیر حقوق بگیر'!G:G)),LOOKUP(D575,Master!D:D,Master!J:J))","v":0},{"$error":"#N/A"},0,0,{"$f":"IF(O575>#REF!,\"اخطار ساعت اضافه کار از حداکثر بیشتر است\",\" \")","v":{"$error":"#REF!"}},{"$f":"IF(O575>#REF!,1,0)","v":{"$error":"#REF!"}}]

{"sheet":"Rigion Code","index":1,"n_rows":34,"n_cols":2,"rows_kept":34,"cut":false,"hidden":false,"merged":[]}
["کد منطقه","نام منطقه"]
[3800,"اداره کل آموزش و پرورش"]
[3801,"ناحیه 1 کرمان"]
[3802,"ناحیه 2 کرمان"]
[3807,"رودبار"]
[3808,"راور"]
[3810,"شهداد"]
[3813,"گلباف"]
[3815,"ماهان"]
[3818,"جیرفت"]
[3820,"کشکوئیه"]
[3821,"رفسنجان"]
[3822,"انار"]
[3823,"بم"]
[3826,"راین"]
[3829,"نرماشیر"]
[3831,"سیرجان"]
[3833,"بردسیر"]
[3836,"شهربابک"]
[3839,"بافت"]
[3841,"ارزوئیه"]
[3844,"رابر"]
[3845,"فاریاب"]
[3846,"کهنوج"]
[3847,"ریگان"]
[3849,"منوجان"]
[3851,"قلعه گنج"]
[3853,"زرند"]
[3856,"کوهبنان"]
[3859,"عنبرآباد"]
[3861,"چترود"]
[3863,"فهرج"]
[3865,"نوق"]
[3877,"عشایری کرمان"]

{"sheet":"Settings","index":2,"n_rows":13,"n_cols":13,"rows_kept":13,"cut":false,"hidden":false,"merged":[[0,0,2,5],[6,3,6,5],[7,0,7,2],[8,0,8,2],[7,3,7,5],[8,3,8,5],[5,0,5,2],[5,3,5,5],[6,0,6,2],[3,0,3,5],[4,0,4,5],[10,3,11,5],[12,0,12,2],[12,3,12,5],[15,1,16,4],[8,6,8,11],[9,0,9,2],[9,3,9,5],[10,0,11,2]]}
["فرم محاسبه سند های متفرقه بر اساس نرخ اضافه کار\nMMR Software Bank\nMMRSB.IR"]
[]
[]
["اطلاعات اولیه"]
["نوع اتصال :"]
["کد منطقه",null,null,3800]
["نام یا آی پی سرور حقوق",null,null,"8.8.8.8"]
["نام کاربری SQL Server",null,null,"a"]
["کلمه عبور SQL Server",null,null,"a",null,null,"تاریخ ماه قبل",null,null,null,null,null,"شماره SQL"]
["سال و ماه محاسبه",null,null,9606,null,null,{"$f":"MID(D10,1,2)","v":"96"},{"$f":"MID(D10,3,2)","v":"06"},{"$f":"IF((VALUE(H10))=1,12,H10-1)","v":5},{"$f":"IF((VALUE(H10))=1,G10-1,G10)","v":"96"},{"$f":"IF(I10<10,\"0\"&I10,I10)","v":"05"},{"$f":"D10","v":9606},2]
["عنوان سند",null,null,"لیست حق الزحمه کنکور 1395"]
[]
["نرخ اضافه کار قراردادی",null,null,59220]

{"sheet":"Personnel","index":3,"n_rows":1,"n_cols":15,"rows_kept":1,"cut":false,"hidden":true,"merged":[]}
["EmpID","LastName","Name","FatherName","Birthplace","IssuePlace","BirthDate","IdNo","NationalCode","Seri","SerialId","Gender","SendDate","HashCode","Column1"]

{"sheet":"Pays","index":4,"n_rows":1,"n_cols":9,"rows_kept":1,"cut":false,"hidden":true,"merged":[]}
["RegionCode","YearMonth","SerialPay","EmpID","CodePayID","BudjetID","DocVal","BackDocVal","HashCode"]

{"sheet":"Master","index":5,"n_rows":1,"n_cols":96,"rows_kept":1,"cut":false,"hidden":true,"merged":[]}
["RegionCode","YearMonth","SerialPay","EmpID","NationalCode","Ldind","Rpind","Tchhor","Tovr","TaxTypeCode","InsTypeCode","Degree","EduCode","EduSubCode","MaghtCode","Tchsub","MilitaryStatusCode","MarriageCode","WifeJobCode","InsNumberMain","InsNumberOne","InsNumberTwo","InsNumberThree","InsNumberFour","ChildNo","IsarCode","SalUnitCode","Insno","Mostkhdm","Maskan","MsknDate","OldMaskn","BankBranchCode","EmptypeCode","Grop","EmpDate","EmpDate2","Rasteh","Rshteh","Tbgh","UnitCode","Sazpost","Rginmov","Salcnd","Wrktim","Chang","Unormal","HokmTypeCode","Incrsmult","Hghtknd","Hghtarf","HokmInd","HltDate","RtnDate","DelDate","CrtDate","ChgDate","EmpYear","LastMogharari","Yrincm","Oyrincm","Myrincm","Yrtax","Oyrtax","Myrtax","NTax","FnTax","Incom","Rincom","Oincom","Mincom","IncludeOver","HghtTax","HghtIncm","MainDat","Yrwrk","BdjCode","OldEmpno","EmpChgDat","Chkeblaq","OrgCode","Accno","OvrPrc","NPost","EfectNerkh","Time","Nerkh","Rtax","Otax","BankCardNo","HomePostCode","JobBranchTaminCode","HashCode","Column1","Column2","Column3"]

{"sheet":"اطلاعات افراد غیر حقوق بگیر","index":6,"n_rows":1,"n_cols":7,"rows_kept":1,"cut":false,"hidden":false,"merged":[]}
["شماره پرسنلی","نام","نام خانوادگی","شماره حساب","کد نوع استخدام","نرخ یک ساعت","کد نوع مالیت \n1- مالیات 10 درصد\n2 - مالیات 5 درصد \n3 - معاف از مالیات "]